{"text_format":"1","workbook":"xlsx","n_sheets":12,"sheets":["charts","swap","cf","calc",">FX",">discounts","curves","YLDS","CAD","USSW","config","guide"],"not_rendered":{"charts":3,"images":0,"macros":1,"external_links":0,"defined_names":15,"comments":0,"pivot_tables":0},"unopened":[],"bounds":{"document_bytes":16777216,"sheet_cells":100000,"rows_first":2000,"rows_last":500,"rows_between":2000,"halvings":0,"cell_chars":16384,"cell_head_chars":4096},"cells_cut":0,"cells_raw":0,"read":"whole","date_system":"1900"}

{"sheet":"charts","index":0,"n_rows":5,"n_cols":7,"rows_kept":5,"cut":false,"hidden":false,"merged":[]}
[]
[null,"TAB: CHARTS"]
[]
[null,null,null,"Canadian","US","Tenor","Description"]
[null,"Selected curves",null,{"$f":"calc!D15","v":"C10110Y"},{"$f":"calc!D17","v":"USGG10YR"},{"$f":"calc!M13","v":10},{"$f":"OFFSET(calc!J22, calc!D14, 0)","v":"Sovereign 10-year curve"}]

{"sheet":"swap","index":1,"n_rows":258,"n_cols":13,"rows_kept":258,"cut":false,"hidden":false,"merged":[]}
[]
[null,"TAB: SWAP CALCULATION RESULTS"]
[]
[null,{"$f":"_xll.AC.finance.irb.get(calc!E15, \"\", )","v":"java.util.ArrayList@Sun, 24 Jun 2018 23:12:40:653..1613056796533532848"},null,{"$f":"_xll.AC.data.size(B4, 1)","v":249},{"$f":"_xll.AC.data.size(B4, 2)","v":2},{"$f":"_xll.AC.finance.irb.get(calc!E17, \"\", )","v":"java.util.ArrayList@Sun, 24 Jun 2018 23:12:40:361..7224949093794615933"},null,{"$f":"_xll.AC.data.size(F4, 1)","v":249},{"$f":"_xll.AC.data.size(F4, 2)","v":2}]
[null,{"$f":"_xll.AC.finance.irb.get(calc!E16, \"\", )","v":"java.util.ArrayList@Sun, 24 Jun 2018 23:12:46:996..3047706345090518360"},null,{"$f":"_xll.AC.data.size(B5, 1)","v":249},{"$f":"_xll.AC.data.size(B5, 2)","v":2}]
[]
[]
[null,{"$f":"calc!D15","v":"C10110Y"},null,{"$f":"B8 & \" (CAD-to-USD)\"","v":"C10110Y (CAD-to-USD)"},null,{"$f":"calc!D17","v":"USGG10YR"}]
[null,"Date","CAD Yield ","Date","Swapped CAD Yield",{"$f":"H9","v":"Date"},{"$f":"I9","v":"USD Yield"},"Date","USD Yield",null,"Date","Swap Premium","Country Premium"]
[null,{"$f":"_xll.AC.data._get(B4, \"\", 0)","v":"2017-12-29"},"",{"$f":"_xll.AC.data._get(B5, \"\", 0)","v":"2017-12-29"},"",{"$f":"B10","v":"2017-12-29"},{"$f":"IF(ISERROR(VLOOKUP(B10, $H$10:$I$1000, 2, FALSE)), \"\", VLOOKUP(B10, $H$10:$I$1000, 2, FALSE))","v":""},{"$f":"_xll.AC.data._get(F4, \"\", 0)","v":"2017-12-28"},2.4304999999999999,null,{"$f":"B10","v":"2017-12-29"},{"$f":"IF(OR(C10=\"\", E10=\"\"), \"\", C10-E10)","v":""},{"$f":"IF(OR(E10=\"\", G10=\"\"), \"\", E10-G10)","v":""}]
[null,"2017-12-28",2.1315305843197812,"2017-12-28",2.1976830333412325,{"$f":"B11","v":"2017-12-28"},{"$f":"IF(ISERROR(VLOOKUP(B11, $H$10:$I$1000, 2, FALSE)), \"\", VLOOKUP(B11, $H$10:$I$1000, 2, FALSE))","v":2.4304999999999999},"2017-12-27",2.4106999999999998,null,{"$f":"B11","v":"2017-12-28"},{"$f":"IF(OR(C11=\"\", E11=\"\"), \"\", C11-E11)","v":-6.6152449021451343E-2},{"$f":"IF(OR(E11=\"\", G11=\"\"), \"\", E11-G11)","v":-0.23281696665876739}]
[null,"2017-12-27",2.1074707895630493,"2017-12-27",2.2026141282543552,"2017-12-27",2.4106999999999998,"2017-12-26",2.4756,null,"2017-12-27",-9.5143338691305868E-2,-0.20808587174564463]
[null,"2017-12-22",2.1730650434000909,"2017-12-22",2.2938043222307058,"2017-12-22",2.4809999999999999,"2017-12-22",2.4809999999999999,null,"2017-12-22",-0.12073927883061497,-0.18719567776929402]
[null,"2017-12-21",2.1804664031837278,"2017-12-21",2.3009977064522262,"2017-12-21",2.4826000000000001,"2017-12-21",2.4826000000000001,null,"2017-12-21",-0.12053130326849848,-0.18160229354777391]
[null,"2017-12-20",2.1878827161540273,"2017-12-20",2.360598964960289,"2017-12-20",2.4969999999999999,"2017-12-20",2.4969999999999999,null,"2017-12-20",-0.17271624880626169,-0.13640103503971091]
[null,"2017-12-19",2.1462122270655266,"2017-12-19",2.334293769836473,"2017-12-19",2.4643999999999999,"2017-12-19",2.4643999999999999,null,"2017-12-19",-0.18808154277094635,-0.13010623016352696]
[null,"2017-12-18",2.0872231375179466,"2017-12-18",2.2950439599180008,"2017-12-18",2.3942000000000001,"2017-12-18",2.3942000000000001,null,"2017-12-18",-0.20782082240005417,-9.9156040081999297E-2]
[null,"2017-12-15",2.0531890400231378,"2017-12-15",2.2497456056244372,"2017-12-15",2.3530000000000002,"2017-12-15",2.3530000000000002,null,"2017-12-15",-0.1965565656012993,-0.10325439437556305]
[null,"2017-12-14",2.0782437946970895,"2017-12-14",2.2581288303815863,"2017-12-14",2.3492999999999999,"2017-12-14",2.3492999999999999,null,"2017-12-14",-0.17988503568449676,-9.117116961841365E-2]
[null,"2017-12-13",2.0524403948165113,"2017-12-13",2.2383297033250429,"2017-12-13",2.3422000000000001,"2017-12-13",2.3422000000000001,null,"2017-12-13",-0.18588930850853158,-0.10387029667495717]
[null,"2017-12-12",2.1121221569485877,"2017-12-12",2.3317795708079765,"2017-12-12",2.4011,"2017-12-12",2.4011,null,"2017-12-12",-0.21965741385938875,-6.9320429192023525E-2]
[null,"2017-12-11",2.0857362730823739,"2017-12-11",2.2788592560106431,"2017-12-11",2.3885999999999998,"2017-12-11",2.3885999999999998,null,"2017-12-11",-0.19312298292826924,-0.10974074398935674]
[null,"2017-12-08",2.0800749018163742,"2017-12-08",2.2708602627607912,"2017-12-08",2.3759999999999999,"2017-12-08",2.3759999999999999,null,"2017-12-08",-0.190785360944417,-0.10513973723920866]
[null,"2017-12-07",2.0652254028824704,"2017-12-07",2.2571739855935293,"2017-12-07",2.3633999999999999,"2017-12-07",2.3633999999999999,null,"2017-12-07",-0.19194858271105897,-0.10622601440647061]
[null,"2017-12-06",2.0331540362465041,"2017-12-06",2.1917180020512399,"2017-12-06",2.3384999999999998,"2017-12-06",2.3384999999999998,null,"2017-12-06",-0.15856396580473575,-0.1467819979487599]
[null,"2017-12-05",2.0606944188650647,"2017-12-05",2.1988729587665308,"2017-12-05",2.3509000000000002,"2017-12-05",2.3509000000000002,null,"2017-12-05",-0.13817853990146611,-0.15202704123346944]
[null,"2017-12-04",2.0753194709660341,"2017-12-04",2.1939700251473924,"2017-12-04",2.3723000000000001,"2017-12-04",2.3723000000000001,null,"2017-12-04",-0.11865055418135828,-0.17832997485260771]
[null,"2017-12-01",2.0388125276282296,"2017-12-01",2.1332194437392711,"2017-12-01",2.3614999999999999,"2017-12-01",2.3614999999999999,null,"2017-12-01",-9.4406916111041461E-2,-0.22828055626072885]
[null,"2017-11-30",2.1062199036788614,"2017-11-30",2.292963977634666,"2017-11-30",2.4097,"2017-11-30",2.4097,null,"2017-11-30",-0.18674407395580461,-0.11673602236533398]
[null,"2017-11-29",2.0809728131262437,"2017-11-29",2.2439063960608006,"2017-11-29",2.3881999999999999,"2017-11-29",2.3881999999999999,null,"2017-11-29",-0.16293358293455684,-0.14429360393919932]
[null,"2017-11-28",2.02936609090048,"2017-11-28",2.1836027372297604,"2017-11-28",2.3277000000000001,"2017-11-28",2.3277000000000001,null,"2017-11-28",-0.15423664632928036,-0.14409726277023971]
[null,"2017-11-27",2.0307934240732703,"2017-11-27",2.1661734875793526,"2017-11-27",2.3277000000000001,"2017-11-27",2.3277000000000001,null,"2017-11-27",-0.13538006350608223,-0.16152651242064753]
[null,"2017-11-24","","2017-11-24","","2017-11-24",2.3418000000000001,"2017-11-24",2.3418000000000001,null,"2017-11-24","",""]
[null,"2017-11-23",2.03862866821235,"2017-11-23",2.157964351935965,"2017-11-23","","2017-11-22",2.3187000000000002,null,"2017-11-23",-0.11933568372361503,""]
[null,"2017-11-22",2.0377844979580906,"2017-11-22",2.14498568569255,"2017-11-22",2.3187000000000002,"2017-11-21",2.3559000000000001,null,"2017-11-22",-0.10720118773445941,-0.17371431430745021]
[null,"2017-11-21",2.0797615586177716,"2017-11-21",2.2049940707514795,"2017-11-21",2.3559000000000001,"2017-11-20",2.3666,null,"2017-11-21",-0.1252325121337079,-0.15090592924852064]
[null,"2017-11-20",2.0719970143396114,"2017-11-20",2.1537344920414783,"2017-11-20",2.3666,"2017-11-17",2.3435000000000001,null,"2017-11-20",-8.1737477701866901E-2,-0.21286550795852177]
[null,"2017-11-17",2.0429691035011817,"2017-11-17",2.1219920545563924,"2017-11-17",2.3435000000000001,"2017-11-16",2.3753000000000002,null,"2017-11-17",-7.9022951055210733E-2,-0.22150794544360775]
[null,"2017-11-16",2.0696221048008043,"2017-11-16",2.1468387996389455,"2017-11-16",2.3753000000000002,"2017-11-15",2.3222,null,"2017-11-16",-7.7216694838141198E-2,-0.22846120036105466]
[null,"2017-11-15",2.0076789591445667,"2017-11-15",2.0848453881517033,"2017-11-15",2.3222,"2017-11-14",2.3717000000000001,null,"2017-11-15",-7.716642900713655E-2,-0.23735461184829676]
[null,"2017-11-14",2.0558321287764816,"2017-11-14",2.1277038249507361,"2017-11-14",2.3717000000000001,"2017-11-13",2.4055,null,"2017-11-14",-7.1871696174254485E-2,-0.24399617504926407]
[null,"2017-11-10",2.0755377226595848,"2017-11-10",2.1532868250524082,"2017-11-10",2.3984000000000001,"2017-11-10",2.3984000000000001,null,"2017-11-10",-7.7749102392823399E-2,-0.24511317494759188]
[null,"2017-11-09",2.0310414069455489,"2017-11-09",2.1002404551365639,"2017-11-09",2.3416000000000001,"2017-11-09",2.3416000000000001,null,"2017-11-09",-6.9199048191014967E-2,-0.24135954486343625]
[null,"2017-11-08",2.0172054256387959,"2017-11-08",2.0953928787857059,"2017-11-08",2.3342999999999998,"2017-11-08",2.3342999999999998,null,"2017-11-08",-7.8187453146910002E-2,-0.23890712121429392]
[null,"2017-11-07",1.9885329239048286,"2017-11-07",2.0596952394760195,"2017-11-07",2.3144999999999998,"2017-11-07",2.3144999999999998,null,"2017-11-07",-7.1162315571190904E-2,-0.25480476052398027]
[null,"2017-11-06",2.0121834750452128,"2017-11-06",2.0679100590554151,"2017-11-06",2.3163,"2017-11-06",2.3163,null,"2017-11-06",-5.5726584010202362E-2,-0.24838994094458489]
[null,"2017-11-03",2.0232247544414221,"2017-11-03",2.0655640858763333,"2017-11-03",2.3325,"2017-11-03",2.3325,null,"2017-11-03",-4.2339331434911198E-2,-0.26693591412366668]
[null,"2017-11-02",2.0483711367359261,"2017-11-02",2.1123353873634358,"2017-11-02",2.3450000000000002,"2017-11-02",2.3450000000000002,null,"2017-11-02",-6.3964250627509767E-2,-0.23266461263656435]
[null,"2017-11-01",2.0604322775681894,"2017-11-01",2.1237753480985306,"2017-11-01",2.3721000000000001,"2017-11-01",2.3721000000000001,null,"2017-11-01",-6.3343070530341272E-2,-0.24832465190146946]
[null,"2017-10-31",2.0511675730415577,"2017-10-31",2.1175316262492112,"2017-10-31",2.3793000000000002,"2017-10-31",2.3793000000000002,null,"2017-10-31",-6.6364053207653484E-2,-0.26176837375078899]
[null,"2017-10-30",2.0494106611445315,"2017-10-30",2.1133521059829881,"2017-10-30",2.3683999999999998,"2017-10-30",2.3683999999999998,null,"2017-10-30",-6.394144483845654E-2,-0.25504789401701178]
[null,"2017-10-27",2.1103473250531506,"2017-10-27",2.2057178199436942,"2017-10-27",2.4064000000000001,"2017-10-27",2.4064000000000001,null,"2017-10-27",-9.5370494890543611E-2,-0.20068218005630589]
[null,"2017-10-26",2.1566745678661978,"2017-10-26",2.2546158530909182,"2017-10-26",2.4609000000000001,"2017-10-26",2.4609000000000001,null,"2017-10-26",-9.7941285224720342E-2,-0.20628414690908192]
[null,"2017-10-25",2.1580326184722707,"2017-10-25",2.2461898832047438,"2017-10-25",2.4317000000000002,"2017-10-25",2.4317000000000002,null,"2017-10-25",-8.8157264732473095E-2,-0.18551011679525642]
[null,"2017-10-24",2.1177818847817487,"2017-10-24",2.1449723119148518,"2017-10-24",2.4188999999999998,"2017-10-24",2.4188999999999998,null,"2017-10-24",-2.7190427133103157E-2,-0.273927688085148]
[null,"2017-10-23",2.0817128002697767,"2017-10-23",2.1062155579943211,"2017-10-23",2.3664000000000001,"2017-10-23",2.3664000000000001,null,"2017-10-23",-2.4502757724544466E-2,-0.26018444200567892]
[null,"2017-10-20",2.0880386550405237,"2017-10-20",2.11480024252204,"2017-10-20",2.3845000000000001,"2017-10-20",2.3845000000000001,null,"2017-10-20",-2.6761587481516358E-2,-0.26969975747796004]
[null,"2017-10-19",2.0291123572560208,"2017-10-19",2.0109002961413136,"2017-10-19",2.3178000000000001,"2017-10-19",2.3178000000000001,null,"2017-10-19",1.821206111470719E-2,-0.30689970385868648]
[null,"2017-10-18",2.0350415034453251,"2017-10-18",2.0128608525925662,"2017-10-18",2.3464999999999998,"2017-10-18",2.3464999999999998,null,"2017-10-18",2.2180650852758887E-2,-0.33363914740743361]
[null,"2017-10-17","","2017-10-17","","2017-10-17",2.2997999999999998,"2017-10-17",2.2997999999999998,null,"2017-10-17","",""]
[null,"2017-10-16",1.9994707038644497,"2017-10-16",1.94579124847882,"2017-10-16",2.3033999999999999,"2017-10-16",2.3033999999999999,null,"2017-10-16",5.3679455385629682E-2,-0.35760875152117988]
[null,"2017-10-13",1.9753212325225713,"2017-10-13",1.8897616313337522,"2017-10-13",2.2730000000000001,"2017-10-13",2.2730000000000001,null,"2017-10-13",8.5559601188819112E-2,-0.38323836866624794]
[null,"2017-10-12",2.0308739590912546,"2017-10-12",1.9484983420013535,"2017-10-12",2.3176999999999999,"2017-10-12",2.3176999999999999,null,"2017-10-12",8.2375617089901043E-2,-0.36920165799864635]
[null,"2017-10-11",2.0557247637885765,"2017-10-11",1.9782663847998878,"2017-10-11",2.3481000000000001,"2017-10-11",2.3481000000000001,null,"2017-10-11",7.7458378988688681E-2,-0.36983361520011226]
[null,"2017-10-10",2.0786861143155972,"2017-10-10",2.0093468535647658,"2017-10-10",2.3607,"2017-10-10",2.3607,null,"2017-10-10",6.9339260750831411E-2,-0.35135314643523419]
[null,"2017-10-06","","2017-10-06","","2017-10-06",2.3589000000000002,"2017-10-06",2.3589000000000002,null,"2017-10-06","",""]
[null,"2017-10-05",2.087172203175593,"2017-10-05",2.0399537593107118,"2017-10-05",2.3479999999999999,"2017-10-05",2.3479999999999999,null,"2017-10-05",4.7218443864881277E-2,-0.3080462406892881]
[null,"2017-10-04",2.08544901974166,"2017-10-04",2.0168395910881567,"2017-10-04",2.3229000000000002,"2017-10-04",2.3229000000000002,null,"2017-10-04",6.8609428653503279E-2,-0.3060604089118435]
[null,"2017-10-03",2.0731729042219871,"2017-10-03",1.9913925154290526,"2017-10-03",2.3229000000000002,"2017-10-03",2.3229000000000002,null,"2017-10-03",8.1780388792934477E-2,-0.33150748457094759]
[null,"2017-10-02",2.0886447373967152,"2017-10-02",2.0162373620037322,"2017-10-02",2.3408000000000002,"2017-10-02",2.3408000000000002,null,"2017-10-02",7.2407375392983031E-2,-0.32456263799626806]
[null,"2017-09-29",2.0785904151258374,"2017-09-29",2.020344052488019,"2017-09-29",2.3336000000000001,"2017-09-29",2.3336000000000001,null,"2017-09-29",5.8246362637818461E-2,-0.31325594751198116]
[null,"2017-09-28",2.0702730376621719,"2017-09-28",1.9766931579607854,"2017-09-28",2.3085,"2017-09-28",2.3085,null,"2017-09-28",9.3579879701386481E-2,-0.33180684203921462]
[null,"2017-09-27","","2017-09-27","","2017-09-27",2.3102999999999998,"2017-09-27",2.3102999999999998,null,"2017-09-27","",""]
[null,"2017-09-26",1.9731640826300565,"2017-09-26",1.8119642831965586,"2017-09-26",2.2357,"2017-09-26",2.2357,null,"2017-09-26",0.16119979943349794,-0.42373571680344146]
[null,"2017-09-25",1.9728606364994958,"2017-09-25",1.8267533204927666,{"$f":"B75","v":"2017-09-25"},{"$f":"IF(ISERROR(VLOOKUP(B75, $H$10:$I$1000, 2, FALSE)), \"\", VLOOKUP(B75, $H$10:$I$1000, 2, FALSE))","v":2.2198000000000002},"2017-09-25",2.2198000000000002,null,{"$f":"B75","v":"2017-09-25"},{"$f":"IF(OR(C75=\"\", E75=\"\"), \"\", C75-E75)","v":0.14610731600672922},{"$f":"IF(OR(E75=\"\", G75=\"\"), \"\", E75-G75)","v":-0.3930466795072336}]
[null,"2017-09-22",2.0079500785203916,"2017-09-22",1.8712834342738138,"2017-09-22",2.2498999999999998,"2017-09-22",2.2498999999999998,null,"2017-09-22",0.13666664424657782,-0.37861656572618596]
[null,"2017-09-21",2.0297749559779317,"2017-09-21",1.9014181675194644,"2017-09-21",2.2765,"2017-09-21",2.2765,null,"2017-09-21",0.12835678845846732,-0.37508183248053562]
[null,"2017-09-20",2.0161754987134768,"2017-09-20",1.8978393546886609,"2017-09-20",2.2675999999999998,"2017-09-20",2.2675999999999998,null,"2017-09-20",0.11833614402481585,-0.3697606453113389]
[null,"2017-09-19",2.00673388993282,"2017-09-19",1.8785404385163866,"2017-09-19",2.2446000000000002,"2017-09-19",2.2446000000000002,null,"2017-09-19",0.12819345141643335,-0.36605956148361352]
[null,"2017-09-18",1.9520860753935334,"2017-09-18",1.8008204960576331,"2017-09-18",2.2286999999999999,"2017-09-18",2.2286999999999999,null,"2017-09-18",0.15126557933590035,-0.42787950394236685]
[null,"2017-09-15",1.9405617349579933,"2017-09-15",1.768300510280908,"2017-09-15",2.2023000000000001,"2017-09-15",2.2023000000000001,null,"2017-09-15",0.17226122467708538,-0.43399948971909219]
[null,"2017-09-14",1.9203107844571061,"2017-09-14",1.7511796733464775,"2017-09-14",2.1846999999999999,"2017-09-14",2.1846999999999999,null,"2017-09-14",0.16913111111062862,-0.43352032665352236]
[null,"2017-09-13",1.909334114733803,"2017-09-13",1.7238529965079359,"2017-09-13",2.1882999999999999,"2017-09-13",2.1882999999999999,null,"2017-09-13",0.1854811182258671,-0.46444700349206403]
[null,"2017-09-12",1.8862409170424628,"2017-09-12",1.7011514706539399,"2017-09-12",2.1671999999999998,"2017-09-12",2.1671999999999998,null,"2017-09-12",0.18508944638852287,-0.46604852934605989]
[null,"2017-09-11",1.8528713293633825,"2017-09-11",1.651747392435307,"2017-09-11",2.1305999999999998,"2017-09-11",2.1305999999999998,null,"2017-09-11",0.20112393692807551,-0.47885260756469283]
[null,"2017-09-08",1.7698027476316673,"2017-09-08",1.5198928801166318,"2017-09-08",2.0507,"2017-09-08",2.0507,null,"2017-09-08",0.24990986751503552,-0.53080711988336815]
[null,"2017-09-07",1.7408188733870971,"2017-09-07",1.516412912978216,"2017-09-07",2.0387,"2017-09-07",2.0387,null,"2017-09-07",0.22440596040888106,-0.52228708702178395]
[null,"2017-09-06","","2017-09-06","","2017-09-06",2.1046,"2017-09-06",2.1046,null,"2017-09-06","",""]
[null,"2017-09-05",1.7291214467464149,"2017-09-05",1.5713895433006151,"2017-09-05",2.0596000000000001,"2017-09-05",2.0596000000000001,null,"2017-09-05",0.15773190344579979,-0.48821045669938501]
[null,"2017-09-01",1.8422560077341943,"2017-09-01",1.735927715805307,"2017-09-01",2.1657000000000002,"2017-09-01",2.1657000000000002,null,"2017-09-01",0.10632829192888726,-0.42977228419469315]
[null,"2017-08-31","","2017-08-31","","2017-08-31",2.117,"2017-08-31",2.117,null,"2017-08-31","",""]
[null,"2017-08-30",1.8294524067294664,"2017-08-30",1.7848662751020254,"2017-08-30",2.1309,"2017-08-30",2.1309,null,"2017-08-30",4.4586131627440961E-2,-0.34603372489797457]
[null,"2017-08-29",1.795375739799242,"2017-08-29",1.721682840460155,"2017-08-29",2.1292,"2017-08-29",2.1292,null,"2017-08-29",7.369289933908707E-2,-0.40751715953984502]
[null,"2017-08-28",1.8577349047220577,"2017-08-28",1.8155224021885672,"2017-08-28",2.1570999999999998,"2017-08-28",2.1570999999999998,null,"2017-08-28",4.2212502533490515E-2,-0.3415775978114326]
[null,"2017-08-25","","2017-08-25","","2017-08-25",2.1659000000000002,"2017-08-25",2.1659000000000002,null,"2017-08-25","",""]
[null,"2017-08-24",1.9150234917867512,"2017-08-24",1.9041143563847736,"2017-08-24",2.1939000000000002,"2017-08-24",2.1939000000000002,null,"2017-08-24",1.0909135401977688E-2,-0.28978564361522663]
[null,"2017-08-23",1.9038881952896201,"2017-08-23",1.8855309633851831,"2017-08-23",2.1659999999999999,"2017-08-23",2.1659999999999999,null,"2017-08-23",1.8357231904436944E-2,-0.28046903661481681]
[null,"2017-08-22",1.9526787583837224,"2017-08-22",1.9465363916956369,"2017-08-22",2.2130999999999998,"2017-08-22",2.2130999999999998,null,"2017-08-22",6.1423666880855432E-3,-0.26656360830436299]
[null,"2017-08-21",1.9174187566267289,"2017-08-21",1.9129210401049559,"2017-08-21",2.1817000000000002,"2017-08-21",2.1817000000000002,null,"2017-08-21",4.4977165217729986E-3,-0.2687789598950443]
[null,"2017-08-18",1.9189449189805181,"2017-08-18",1.931045539932891,"2017-08-18",2.1939000000000002,"2017-08-18",2.1939000000000002,null,"2017-08-18",-1.2100620952372854E-2,-0.26285446006710922]
[null,"2017-08-17",1.8935164277954109,"2017-08-17",1.9043872802682269,"2017-08-17",2.1852999999999998,"2017-08-17",2.1852999999999998,null,"2017-08-17",-1.087085247281605E-2,-0.2809127197317729]
[null,"2017-08-16",1.9322091127715639,"2017-08-16",1.9602753676074545,"2017-08-16",2.222,"2017-08-16",2.222,null,"2017-08-16",-2.8066254835890536E-2,-0.26172463239254551]
[null,"2017-08-15",1.984635104003853,"2017-08-15",2.0320628782596399,"2017-08-15",2.2728000000000002,"2017-08-15",2.2728000000000002,null,"2017-08-15",-4.7427774255786925E-2,-0.24073712174036022]
[null,"2017-08-14",1.9237344333130255,"2017-08-14",1.9352195796729195,"2017-08-14",2.2185000000000001,"2017-08-14",2.2185000000000001,null,"2017-08-14",-1.148514635989395E-2,-0.28328042032708067]
[null,"2017-08-11",1.8932595489693638,"2017-08-11",1.8981390523779018,"2017-08-11",2.1888000000000001,"2017-08-11",2.1888000000000001,null,"2017-08-11",-4.879503408538044E-3,-0.29066094762209826]
[null,"2017-08-10",1.9041147259898927,"2017-08-10",1.9217169695026701,"2017-08-10",2.1974999999999998,"2017-08-10",2.1974999999999998,null,"2017-08-10",-1.7602243512777394E-2,-0.27578303049732966]
[null,"2017-08-09",1.9623598754269829,"2017-08-09",1.9828218105599926,"2017-08-09",2.2475999999999998,"2017-08-09",2.2475999999999998,null,"2017-08-09",-2.0461935133009757E-2,-0.26477818944000719]
[null,"2017-08-08",1.9560580100513103,"2017-08-08",1.9399511168970354,"2017-08-08",2.2618999999999998,"2017-08-08",2.2618999999999998,null,"2017-08-08",1.6106893154274937E-2,-0.32194888310296443]
[null,"2017-08-04",1.9951703670024485,"2017-08-04",2.0277084672995542,"2017-08-04",2.262,"2017-08-07",2.2530000000000001,null,"2017-08-04",-3.2538100297105688E-2,-0.23429153270044578]
[null,"2017-08-03",1.9475763046719043,"2017-08-03",1.9612125130863312,"2017-08-03",2.2212000000000001,"2017-08-04",2.262,null,"2017-08-03",-1.3636208414426809E-2,-0.25998748691366891]
[null,"2017-08-02",1.9903847716174756,"2017-08-02",2.0060387710832495,"2017-08-02",2.2709999999999999,"2017-08-03",2.2212000000000001,null,"2017-08-02",-1.5653999465773838E-2,-0.26496122891675045]
[null,"2017-08-01",1.976696416582262,"2017-08-01",1.9640502834475904,"2017-08-01",2.2532000000000001,"2017-08-02",2.2709999999999999,null,"2017-08-01",1.2646133134671667E-2,-0.28914971655240973]
[null,"2017-07-31",2.0256756127875488,"2017-07-31",1.9588932387823714,"2017-07-31",2.2942,"2017-08-01",2.2532000000000001,null,"2017-07-31",6.6782374005177392E-2,-0.33530676121762859]
[null,"2017-07-28",2.0093153890232966,"2017-07-28",1.9659623091558183,"2017-07-28",2.2888999999999999,"2017-07-31",2.2942,null,"2017-07-28",4.3353079867478383E-2,-0.32293769084418167]
[null,"2017-07-27",2.0263602322205734,"2017-07-27",2.0189956591843852,"2017-07-27",2.3102999999999998,"2017-07-28",2.2888999999999999,null,"2017-07-27",7.3645730361882045E-3,-0.29130434081561463]
[null,"2017-07-26",1.9959562664645829,"2017-07-26",1.9951096878743462,"2017-07-26",2.2871999999999999,"2017-07-27",2.3102999999999998,null,"2017-07-26",8.465785902367351E-4,-0.29209031212565373]
[null,"2017-07-25",2.03693928996086,"2017-07-25",2.017317453905509,"2017-07-25",2.3353999999999999,"2017-07-26",2.2871999999999999,null,"2017-07-25",1.9621836055351061E-2,-0.31808254609449094]
[null,"2017-07-24",1.9413721895392091,"2017-07-24",1.9316094671468624,"2017-07-24",2.2551999999999999,"2017-07-25",2.3353999999999999,null,"2017-07-24",9.7627223923466566E-3,-0.32359053285313744]
[null,"2017-07-21",1.9278311306287648,"2017-07-21",1.9389159092759798,"2017-07-21",2.2374999999999998,"2017-07-24",2.2551999999999999,null,"2017-07-21",-1.1084778647215021E-2,-0.29858409072402003]
[null,"2017-07-20",1.9417304360844259,"2017-07-20",1.961571701409067,"2017-07-20",2.2589000000000001,"2017-07-21",2.2374999999999998,null,"2017-07-20",-1.9841265324641144E-2,-0.29732829859093313]
[null,"2017-07-19",1.9323639557607428,"2017-07-19",1.9375514069377577,"2017-07-19",2.2696000000000001,"2017-07-20",2.2589000000000001,null,"2017-07-19",-5.1874511770149123E-3,-0.33204859306224233]
[null,"2017-07-18",1.9153618298886275,"2017-07-18",1.9394465390643523,"2017-07-18",2.2589999999999999,"2017-07-19",2.2696000000000001,null,"2017-07-18",-2.4084709175724806E-2,-0.31955346093564763]
[null,"2017-07-17",1.9503176312053561,"2017-07-17",1.978894766245785,"2017-07-17",2.3140999999999998,"2017-07-18",2.2589999999999999,null,"2017-07-17",-2.8577135040428914E-2,-0.33520523375421485]
[null,"2017-07-14",1.9831921510034343,"2017-07-14",2.0425860812601067,"2017-07-14",2.3319000000000001,"2017-07-17",2.3140999999999998,null,"2017-07-14",-5.9393930256672389E-2,-0.28931391873989343]
[null,"2017-07-13",1.9982317467416577,"2017-07-13",2.058563303213877,"2017-07-13",2.3443999999999998,"2017-07-14",2.3319000000000001,null,"2017-07-13",-6.0331556472219328E-2,-0.28583669678612278]
[null,"2017-07-12",1.9821538813566848,"2017-07-12",2.0545472099109823,"2017-07-12",2.3176999999999999,"2017-07-13",2.3443999999999998,null,"2017-07-12",-7.2393328554297476E-2,-0.2631527900890176]
[null,"2017-07-11",2.0185686121173667,"2017-07-11",2.1470207145661719,"2017-07-11",2.3605,"2017-07-12",2.3176999999999999,null,"2017-07-11",-0.12845210244880523,-0.2134792854338281]
[null,"2017-07-10",2.0355524594502215,"2017-07-10",2.1551228702062293,"2017-07-10",2.3730000000000002,"2017-07-11",2.3605,null,"2017-07-10",-0.11957041075600783,-0.21787712979377094]
[null,"2017-07-07",2.0532800613685929,"2017-07-07",2.2011364528693989,"2017-07-07",2.3856000000000002,"2017-07-10",2.3730000000000002,null,"2017-07-07",-0.14785639150080598,-0.18446354713060131]
[null,"2017-07-06",2.0359101120369401,"2017-07-06",2.2149436373147227,"2017-07-06",2.3658999999999999,"2017-07-07",2.3856000000000002,null,"2017-07-06",-0.1790335252777826,-0.15095636268527723]
[null,"2017-07-05",2.0060834402578585,"2017-07-05",2.1834088267846652,"2017-07-05",2.3231999999999999,"2017-07-06",2.3658999999999999,null,"2017-07-05",-0.17732538652680674,-0.13979117321533474]
[null,"2017-07-04",1.9994776525202578,"2017-07-04",2.127586785854914,"2017-07-04","","2017-07-05",2.3231999999999999,null,"2017-07-04",-0.12810913333465623,""]
[null,"2017-06-30",1.9828158393020305,"2017-06-30",2.1739453253939236,"2017-06-30",2.3037000000000001,"2017-07-03",2.3498999999999999,null,"2017-06-30",-0.19112948609189306,-0.12975467460607648]
[null,"2017-06-29",1.936665273533833,"2017-06-29",2.1459686133718945,"2017-06-29",2.2665999999999999,"2017-06-30",2.3037000000000001,null,"2017-06-29",-0.20930333983806149,-0.12063138662810546]
[null,"2017-06-28",1.8690290918609915,"2017-06-28",2.0961893853415279,"2017-06-28",2.2279,"2017-06-29",2.2665999999999999,null,"2017-06-28",-0.22716029348053635,-0.13171061465847211]
[null,"2017-06-27",1.8373229995031146,"2017-06-27",2.0841146213722417,"2017-06-27",2.2050999999999998,"2017-06-28",2.2279,null,"2017-06-27",-0.24679162186912706,-0.12098537862775816]
[null,"2017-06-26",1.7553218645524777,"2017-06-26",2.0320449432801735,"2017-06-26",2.137,"2017-06-27",2.2050999999999998,null,"2017-06-26",-0.27672307872769575,-0.10495505671982652]
[null,"2017-06-23",1.7571557355506924,"2017-06-23",2.0171037681490884,"2017-06-23",2.1423000000000001,"2017-06-26",2.137,null,"2017-06-23",-0.25994803259839605,-0.12519623185091167]
[null,"2017-06-22",1.7350229363067573,"2017-06-22",1.959517366921103,{"$f":"B139","v":"2017-06-22"},{"$f":"IF(ISERROR(VLOOKUP(B139, $H$10:$I$1000, 2, FALSE)), \"\", VLOOKUP(B139, $H$10:$I$1000, 2, FALSE))","v":2.1476999999999999},"2017-06-23",2.1423000000000001,null,{"$f":"B139","v":"2017-06-22"},{"$f":"IF(OR(C139=\"\", E139=\"\"), \"\", C139-E139)","v":-0.22449443061434571},{"$f":"IF(OR(E139=\"\", G139=\"\"), \"\", E139-G139)","v":-0.18818263307889693}]
[null,"2017-06-21",1.7758903105013943,"2017-06-21",2.0432172794899217,"2017-06-21",2.1634000000000002,"2017-06-22",2.1476999999999999,null,"2017-06-21",-0.26732696898852737,-0.1201827205100785]
[null,"2017-06-20",1.7852368534753986,"2017-06-20",2.0529602228043626,"2017-06-20",2.1564999999999999,"2017-06-21",2.1634000000000002,null,"2017-06-20",-0.26772336932896401,-0.10353977719563723]
[null,"2017-06-19",1.8413521907275936,"2017-06-19",2.119357598938421,"2017-06-19",2.1879,"2017-06-20",2.1564999999999999,null,"2017-06-19",-0.27800540821082742,-6.8542401061578939E-2]
[null,"2017-06-16",1.7812089667618098,"2017-06-16",2.0285875479316986,"2017-06-16",2.1514000000000002,"2017-06-19",2.1879,null,"2017-06-16",-0.24737858116988876,-0.1228124520683016]
[null,"2017-06-15",1.7926929475173645,"2017-06-15",2.0503250803318913,"2017-06-15",2.1637,"2017-06-16",2.1514000000000002,null,"2017-06-15",-0.25763213281452679,-0.11337491966810864]
[null,"2017-06-14",1.7899793459636022,"2017-06-14",2.0672827500672635,"2017-06-14",2.1255999999999999,"2017-06-15",2.1637,null,"2017-06-14",-0.27730340410366128,-5.8317249932736459E-2]
[null,"2017-06-13",1.8701874155082008,"2017-06-13",2.1620335621262097,"2017-06-13",2.2109000000000001,"2017-06-14",2.1255999999999999,null,"2017-06-13",-0.29184614661800889,-4.8866437873790414E-2]
[null,"2017-06-12",1.8625404240743444,"2017-06-12",2.2191623886809628,"2017-06-12",2.2145000000000001,"2017-06-13",2.2109000000000001,null,"2017-06-12",-0.35662196460661844,4.6623886809626924E-3]
[null,"2017-06-09",1.8769773713359934,"2017-06-09",2.311164886727811,"2017-06-09",2.2004999999999999,"2017-06-12",2.2145000000000001,null,"2017-06-09",-0.43418751539181755,0.11066488672781105]
[null,"2017-06-08",1.8721237256569105,"2017-06-08",2.3077545083900839,"2017-06-08",2.1884999999999999,"2017-06-09",2.2004999999999999,null,"2017-06-08",-0.43563078273317335,0.119254508390084]
[null,"2017-06-07",1.8518128314000246,"2017-06-07",2.2801102901229693,"2017-06-07",2.1728999999999998,"2017-06-08",2.1884999999999999,null,"2017-06-07",-0.42829745872294467,0.10721029012296945]
[null,"2017-06-06",1.8121341992107995,"2017-06-06",2.2123510645194728,"2017-06-06",2.1450999999999998,"2017-06-07",2.1728999999999998,null,"2017-06-06",-0.40021686530867329,6.7251064519473047E-2]
[null,"2017-06-05",1.8291147125553768,"2017-06-05",2.2334061534746743,"2017-06-05",2.1817000000000002,"2017-06-06",2.1450999999999998,null,"2017-06-05",-0.40429144091929747,5.170615347467411E-2]
[null,"2017-06-02",1.7916319244669272,"2017-06-02",2.1738069600102965,"2017-06-02",2.1591,"2017-06-05",2.1817000000000002,null,"2017-06-02",-0.38217503554336929,1.4706960010296477E-2]
[null,"2017-06-01",1.8480662043694587,"2017-06-01",2.2546217111612878,"2017-06-01",2.2113999999999998,"2017-06-02",2.1591,null,"2017-06-01",-0.40655550679182917,4.3221711161288034E-2]
[null,"2017-05-31",1.8190922450904086,"2017-05-31",2.2109523765091952,"2017-05-31",2.2027999999999999,"2017-06-01",2.2113999999999998,null,"2017-05-31",-0.39186013141878662,8.1523765091953138E-3]
[null,"2017-05-30",1.8501350897888391,"2017-05-30",2.26940083507187,"2017-05-30",2.2098,"2017-05-31",2.2027999999999999,null,"2017-05-30",-0.41926574528303084,5.9600835071869973E-2]
[null,"2017-05-29",1.9084237157474806,"2017-05-29",2.3956238128653502,"2017-05-29","","2017-05-30",2.2098,null,"2017-05-29",-0.4872000971178696,""]
[null,"2017-05-26",1.8994148450538142,"2017-05-26",2.341272283726894,"2017-05-26",2.2465000000000002,"2017-05-26",2.2465000000000002,null,"2017-05-26",-0.44185743867307981,9.4772283726893836E-2]
[null,"2017-05-25",1.9106448768417152,"2017-05-25",2.3558630649170893,"2017-05-25",2.2553999999999998,"2017-05-25",2.2553999999999998,null,"2017-05-25",-0.44521818807537406,0.10046306491708945]
[null,"2017-05-24",1.946289739083759,"2017-05-24",2.3914833728552529,"2017-05-24",2.2502,"2017-05-24",2.2502,null,"2017-05-24",-0.4451936337714939,0.14128337285525294]
[null,"2017-05-23",1.9440336498419708,"2017-05-23",2.3706411196822295,"2017-05-23",2.2799,"2017-05-23",2.2799,null,"2017-05-23",-0.42660746984025866,9.0741119682229421E-2]
[null,"2017-05-19",1.9109328866692252,"2017-05-19",2.3325665827053914,"2017-05-19",2.2345999999999999,"2017-05-22",2.2536999999999998,null,"2017-05-19",-0.42163369603616618,9.7966582705391492E-2]
[null,"2017-05-18",1.8973946929694823,"2017-05-18",2.3292332603762542,"2017-05-18",2.2294,"2017-05-19",2.2345999999999999,null,"2017-05-18",-0.43183856740677196,9.9833260376254174E-2]
[null,"2017-05-17",1.893827175351356,"2017-05-17",2.3204708958802804,"2017-05-17",2.2242999999999999,"2017-05-18",2.2294,null,"2017-05-17",-0.42664372052892441,9.6170895880280494E-2]
[null,"2017-05-16",2.0102792202144291,"2017-05-16",2.43444209562095,"2017-05-16",2.3256999999999999,"2017-05-17",2.2242999999999999,null,"2017-05-16",-0.42416287540652098,0.10874209562095016]
[null,"2017-05-15",2.0289237305158689,"2017-05-15",2.4469696075061562,"2017-05-15",2.3433000000000002,"2017-05-16",2.3256999999999999,null,"2017-05-15",-0.41804587699028728,0.10366960750615606]
[null,"2017-05-12",2.0172986065121727,"2017-05-12",2.4485108412696484,"2017-05-12",2.3256999999999999,"2017-05-15",2.3433000000000002,null,"2017-05-12",-0.43121223475747561,0.12281084126964847]
[null,"2017-05-11",2.0728717243255517,"2017-05-11",2.5259609276593915,"2017-05-11",2.3874,"2017-05-12",2.3256999999999999,null,"2017-05-11",-0.45308920333383984,0.13856092765939154]
[null,"2017-05-10",2.0760028676693949,"2017-05-10",2.5008682771724406,"2017-05-10",2.4140999999999999,"2017-05-11",2.3874,null,"2017-05-10",-0.42486540950304574,8.6768277172440733E-2]
[null,"2017-05-09",2.0634045853994727,"2017-05-09",2.4992411373109444,"2017-05-09",2.3976999999999999,"2017-05-10",2.4140999999999999,null,"2017-05-09",-0.43583655191147175,0.1015411373109445]
[null,"2017-05-08",2.0528843359168594,"2017-05-08",2.5094609241962416,"2017-05-08",2.3868,"2017-05-09",2.3976999999999999,null,"2017-05-08",-0.45657658827938219,0.12266092419624153]
[null,"2017-05-05",2.0110516604492803,"2017-05-05",2.4645449442786109,"2017-05-05",2.3487,"2017-05-08",2.3868,null,"2017-05-05",-0.45349328382933063,0.11584494427861092]
[null,"2017-05-04",2.0119500446219232,"2017-05-04",2.4802015533875355,"2017-05-04",2.3540999999999999,"2017-05-05",2.3487,null,"2017-05-04",-0.46825150876561228,0.12610155338753559]
[null,"2017-05-03",1.9803928348514808,"2017-05-03",2.4052230730561517,"2017-05-03",2.3180000000000001,"2017-05-04",2.3540999999999999,null,"2017-05-03",-0.42483023820467092,8.7223073056151623E-2]
[null,"2017-05-02",1.9648760790169482,"2017-05-02",2.4008647934915639,"2017-05-02",2.2803,"2017-05-03",2.3180000000000001,null,"2017-05-02",-0.43598871447461574,0.1205647934915639]
[null,"2017-05-01",2.0027302593194118,"2017-05-01",2.4172423953418005,"2017-05-01",2.3180000000000001,"2017-05-02",2.2803,null,"2017-05-01",-0.41451213602238868,9.924239534180046E-2]
[null,"2017-04-28",1.9633148678272079,"2017-04-28",2.3766952346156067,"2017-04-28",2.2801999999999998,"2017-05-01",2.3180000000000001,null,"2017-04-28",-0.41338036678839885,9.649523461560694E-2]
[null,"2017-04-27",2.0039348858051711,"2017-04-27",2.4146500872138881,"2017-04-27",2.2946,"2017-04-28",2.2801999999999998,null,"2017-04-27",-0.41071520140871698,0.1200500872138881]
[null,"2017-04-26",2.024702005260766,"2017-04-26",2.466113140966991,"2017-04-26",2.3035000000000001,"2017-04-27",2.2946,null,"2017-04-26",-0.44141113570622492,0.16261314096699087]
[null,"2017-04-25",2.0927982052401104,"2017-04-25",2.552770751767413,"2017-04-25",2.3321999999999998,"2017-04-26",2.3035000000000001,null,"2017-04-25",-0.45997254652730257,0.22057075176741314]
[null,"2017-04-24",2.0374431169131704,"2017-04-24",2.4782165613639853,"2017-04-24",2.2730000000000001,"2017-04-25",2.3321999999999998,null,"2017-04-24",-0.4407734444508149,0.20521656136398514]
[null,"2017-04-21",1.9852469286198635,"2017-04-21",2.4012538767610692,"2017-04-21",2.2480000000000002,"2017-04-24",2.2730000000000001,null,"2017-04-21",-0.41600694814120565,0.15325387676106894]
[null,"2017-04-20",1.9913935328274959,"2017-04-20",2.3861992770233966,"2017-04-20",2.2320000000000002,"2017-04-21",2.2480000000000002,null,"2017-04-20",-0.39480574419590075,0.15419927702339642]
[null,"2017-04-19",1.9546665717340925,"2017-04-19",2.3331560357675629,"2017-04-19",2.2143000000000002,"2017-04-20",2.2320000000000002,null,"2017-04-19",-0.37848946403347039,0.11885603576756276]
[null,"2017-04-18",1.9231253032623479,"2017-04-18",2.2978435105183865,"2017-04-18",2.1682000000000001,"2017-04-19",2.2143000000000002,null,"2017-04-18",-0.37471820725603866,0.12964351051838641]
[null,"2017-04-17",2.0091389343762245,"2017-04-17",2.391524572769125,"2017-04-17",2.2498,"2017-04-18",2.1682000000000001,null,"2017-04-17",-0.38238563839290052,0.14172457276912498]
[null,"2017-04-13",1.9770564687288021,"2017-04-13",2.3441711208905138,"2017-04-13",2.2374000000000001,"2017-04-17",2.2498,null,"2017-04-13",-0.36711465216171169,0.10677112089051377]
[null,"2017-04-12",1.9901949603361553,"2017-04-12",2.3458955622707158,"2017-04-12",2.2391999999999999,"2017-04-13",2.2374000000000001,null,"2017-04-12",-0.35570060193456055,0.10669556227071597]
[null,"2017-04-11",2.0411710702791406,"2017-04-11",2.420482776051581,"2017-04-11",2.2961999999999998,"2017-04-12",2.2391999999999999,null,"2017-04-11",-0.37931170577244044,0.12428277605158122]
[null,"2017-04-10",2.093598970863956,"2017-04-10",2.4774540062866541,"2017-04-10",2.3660999999999999,"2017-04-11",2.2961999999999998,null,"2017-04-10",-0.38385503542269817,0.11135400628665426]
[null,"2017-04-07",2.1187726109204923,"2017-04-07",2.5368715937393325,"2017-04-07",2.3822000000000001,"2017-04-10",2.3660999999999999,null,"2017-04-07",-0.41809898281884017,0.15467159373933237]
[null,"2017-04-06",2.0644674077605085,"2017-04-06",2.4652313166700894,"2017-04-06",2.3408000000000002,"2017-04-07",2.3822000000000001,null,"2017-04-06",-0.40076390890958091,0.12443131667008922]
[null,"2017-04-05",2.0597582939795491,"2017-04-05",2.4477726086763378,"2017-04-05",2.3353999999999999,"2017-04-06",2.3408000000000002,null,"2017-04-05",-0.38801431469678871,0.11237260867633792]
[null,"2017-04-04",2.1007257260009875,"2017-04-04",2.5140753479914633,"2017-04-04",2.3605,"2017-04-05",2.3353999999999999,null,"2017-04-04",-0.41334962199047576,0.15357534799146322]
[null,"2017-04-03",2.1034413999703809,"2017-04-03",2.5183406557294501,"2017-04-03",2.3193000000000001,"2017-04-04",2.3605,null,"2017-04-03",-0.41489925575906916,0.19904065572944996]
[null,"2017-03-31",2.1859050534054316,"2017-03-31",2.6281634515163748,"2017-03-31",2.3874,"2017-04-03",2.3193000000000001,null,"2017-03-31",-0.44225839811094314,0.24076345151637479]
[null,"2017-03-30",2.1982016798071986,"2017-03-30",2.6571002049222385,"2017-03-30",2.4197000000000002,"2017-03-31",2.3874,null,"2017-03-30",-0.45889852511503992,0.23740020492223834]
[null,"2017-03-29",2.153956995260589,"2017-03-29",2.6033902732336216,"2017-03-29",2.3765000000000001,"2017-03-30",2.4197000000000002,null,"2017-03-29",-0.44943327797303256,0.22689027323362154]
[null,"2017-03-28",2.1875994227724496,"2017-03-28",2.6392548611356306,"2017-03-28",2.4178000000000002,"2017-03-29",2.3765000000000001,null,"2017-03-28",-0.45165543836318101,0.2214548611356304]
[null,"2017-03-27",2.1550653456188775,"2017-03-27",2.5947429925824084,"2017-03-27",2.3782000000000001,"2017-03-28",2.4178000000000002,null,"2017-03-27",-0.43967764696353084,0.21654299258240828]
[null,"2017-03-24",2.1967196155625821,"2017-03-24",2.6527333133519222,"2017-03-24",2.4123000000000001,"2017-03-27",2.3782000000000001,null,"2017-03-24",-0.45601369778934009,0.24043331335192208]
[null,"2017-03-23",2.2159327651739384,"2017-03-23",2.6379826364932204,"2017-03-23",2.4194,"2017-03-24",2.4123000000000001,null,"2017-03-23",-0.42204987131928196,0.21858263649322041]
[null,"2017-03-22",2.1941894491755756,"2017-03-22",2.5997698409209549,{"$f":"B203","v":"2017-03-22"},{"$f":"IF(ISERROR(VLOOKUP(B203, $H$10:$I$1000, 2, FALSE)), \"\", VLOOKUP(B203, $H$10:$I$1000, 2, FALSE))","v":2.4049999999999998},"2017-03-23",2.4194,null,{"$f":"B203","v":"2017-03-22"},{"$f":"IF(OR(C203=\"\", E203=\"\"), \"\", C203-E203)","v":-0.4055803917453793},{"$f":"IF(OR(E203=\"\", G203=\"\"), \"\", E203-G203)","v":0.19476984092095506}]
[null,"2017-03-21",2.2217995828407475,"2017-03-21",2.6238240778721247,"2017-03-21",2.4175,"2017-03-22",2.4049999999999998,null,"2017-03-21",-0.40202449503137716,0.2063240778721247]
[null,"2017-03-20",2.2617506306859605,"2017-03-20",2.6818442897044057,"2017-03-20",2.4607000000000001,"2017-03-21",2.4175,null,"2017-03-20",-0.4200936590184452,0.22114428970440558]
[null,"2017-03-17",2.3031307343205345,"2017-03-17",2.7354985324887684,"2017-03-17",2.5005000000000002,"2017-03-20",2.4607000000000001,null,"2017-03-17",-0.4323677981682339,0.23499853248876823]
[null,"2017-03-16",2.3309133925322092,"2017-03-16",2.7526451995173997,"2017-03-16",2.5402,"2017-03-17",2.5005000000000002,null,"2017-03-16",-0.42173180698519053,0.21244519951739971]
[null,"2017-03-15",2.2936160469625739,"2017-03-15",2.719439655166795,"2017-03-15",2.4929999999999999,"2017-03-16",2.5402,null,"2017-03-15",-0.42582360820422105,0.2264396551667951]
[null,"2017-03-14",2.4246887908447463,"2017-03-14",2.9101460437405122,"2017-03-14",2.6002000000000001,"2017-03-15",2.4929999999999999,null,"2017-03-14",-0.48545725289576591,0.30994604374051216]
[null,"2017-03-13",2.4522768606932934,"2017-03-13",2.9253017969301509,"2017-03-13",2.6257999999999999,"2017-03-14",2.6002000000000001,null,"2017-03-13",-0.47302493623685749,0.299501796930151]
[null,"2017-03-10",2.4113831221662303,"2017-03-10",2.9004569435822032,"2017-03-10",2.5745,"2017-03-13",2.6257999999999999,null,"2017-03-10",-0.48907382141597289,0.32595694358220317]
[null,"2017-03-09",2.4300782067192133,"2017-03-09",2.9507652771968167,"2017-03-09",2.6053000000000002,"2017-03-10",2.5745,null,"2017-03-09",-0.52068707047760343,0.34546527719681652]
[null,"2017-03-08",2.393967354294785,"2017-03-08",2.8989285265407552,"2017-03-08",2.5596999999999999,"2017-03-09",2.6053000000000002,null,"2017-03-08",-0.50496117224597015,0.3392285265407553]
[null,"2017-03-07",2.3378710931422377,"2017-03-07",2.8286002216544683,"2017-03-07",2.5179,"2017-03-08",2.5596999999999999,null,"2017-03-07",-0.49072912851223061,0.31070022165446831]
[null,"2017-03-06",2.3201037750656903,"2017-03-06",2.8267848339223693,"2017-03-06",2.4996999999999998,"2017-03-07",2.5179,null,"2017-03-06",-0.50668105885667902,0.32708483392236953]
[null,"2017-03-03",2.3086190845346404,"2017-03-03",2.8013960692876698,"2017-03-03",2.4780000000000002,"2017-03-06",2.4996999999999998,null,"2017-03-03",-0.49277698475302945,0.32339606928766962]
[null,"2017-03-02",2.3134546662561344,"2017-03-02",2.8144925026692387,"2017-03-02",2.4779,"2017-03-03",2.4780000000000002,null,"2017-03-02",-0.50103783641310429,0.33659250266923868]
[null,"2017-03-01",2.2714419476687127,"2017-03-01",2.7397341393928056,"2017-03-01",2.4525999999999999,"2017-03-02",2.4779,null,"2017-03-01",-0.46829219172409298,0.28713413939280574]
[null,"2017-02-28",2.2303370144392547,"2017-02-28",2.7251097357398719,"2017-02-28",2.3898999999999999,"2017-03-01",2.4525999999999999,null,"2017-02-28",-0.49477272130061722,0.33520973573987201]
[null,"2017-02-27",2.2216455546217375,"2017-02-27",2.6849846543816982,"2017-02-27",2.3650000000000002,"2017-02-28",2.3898999999999999,null,"2017-02-27",-0.46333909975996068,0.31998465438169799]
[null,"2017-02-24",2.1653749513707266,"2017-02-24",2.6111903594496448,"2017-02-24",2.3117000000000001,"2017-02-27",2.3650000000000002,null,"2017-02-24",-0.44581540807891828,0.29949035944964475]
[null,"2017-02-23",2.2256582716976787,"2017-02-23",2.6654328960907328,"2017-02-23",2.3719999999999999,"2017-02-24",2.3117000000000001,null,"2017-02-23",-0.43977462439305404,0.29343289609073286]
[null,"2017-02-22",2.2638049482646854,"2017-02-22",2.7068825299110704,"2017-02-22",2.4129,"2017-02-23",2.3719999999999999,null,"2017-02-22",-0.443077581646385,0.29398252991107032]
[null,"2017-02-21",2.2800227556156147,"2017-02-21",2.7327067771464626,"2017-02-21",2.4289999999999998,"2017-02-22",2.4129,null,"2017-02-21",-0.45268402153084786,0.30370677714646277]
[null,"2017-02-17",2.2553564833556035,"2017-02-17",2.6967940692151484,"2017-02-17",2.4146000000000001,"2017-02-21",2.4289999999999998,null,"2017-02-17",-0.44143758585954496,0.28219406921514834]
[null,"2017-02-16",2.2643412467402988,"2017-02-16",2.6785302111573905,"2017-02-16",2.4466999999999999,"2017-02-17",2.4146000000000001,null,"2017-02-16",-0.41418896441709174,0.23183021115739066]
[null,"2017-02-15",2.3201879128766407,"2017-02-15",2.7494531969535756,"2017-02-15",2.4931999999999999,"2017-02-16",2.4466999999999999,null,"2017-02-15",-0.42926528407693487,0.25625319695357573]
[null,"2017-02-14",2.2942331616028806,"2017-02-14",2.7097106019187946,"2017-02-14",2.4698000000000002,"2017-02-15",2.4931999999999999,null,"2017-02-14",-0.41547744031591405,0.23991060191879443]
[null,"2017-02-13",2.2820533404751107,"2017-02-13",2.722786819909313,"2017-02-13",2.4358,"2017-02-14",2.4698000000000002,null,"2017-02-13",-0.44073347943420238,0.28698681990931307]
[null,"2017-02-10",2.2181831387584929,"2017-02-10",2.6282636868556066,"2017-02-10",2.4073000000000002,"2017-02-13",2.4358,null,"2017-02-10",-0.4100805480971137,0.22096368685560641]
[null,"2017-02-09",2.1992594087972654,"2017-02-09",2.6058335552447298,"2017-02-09",2.3948,"2017-02-10",2.4073000000000002,null,"2017-02-09",-0.40657414644746437,0.21103355524472978]
[null,"2017-02-08",2.1250942519322931,"2017-02-08",2.5213155768040645,"2017-02-08",2.3363,"2017-02-09",2.3948,null,"2017-02-08",-0.39622132487177142,0.18501557680406444]
[null,"2017-02-07",2.2021806488957512,"2017-02-07",2.6047868022687362,"2017-02-07",2.3931,"2017-02-08",2.3363,null,"2017-02-07",-0.402606153372985,0.21168680226873615]
[null,"2017-02-06",2.2347898197929301,"2017-02-06",2.6488204849521728,"2017-02-06",2.4077000000000002,"2017-02-07",2.3931,null,"2017-02-06",-0.41403066515924269,0.24112048495217264]
[null,"2017-02-03",2.2752500452311599,"2017-02-03",2.6693871064257872,"2017-02-03",2.4647999999999999,"2017-02-06",2.4077000000000002,null,"2017-02-03",-0.39413706119462733,0.20458710642578737]
[null,"2017-02-02",2.2614424271253086,"2017-02-02",2.6531778802120543,"2017-02-02",2.4737,"2017-02-03",2.4647999999999999,null,"2017-02-02",-0.39173545308674562,0.17947788021205424]
[null,"2017-02-01",2.2853295124986026,"2017-02-01",2.6938146520311976,"2017-02-01",2.4699,"2017-02-02",2.4737,null,"2017-02-01",-0.40848513953259502,0.22391465203119765]
[null,"2017-01-31",2.2408255007161344,"2017-01-31",2.6198898916737376,"2017-01-31",2.4531000000000001,"2017-02-01",2.4699,null,"2017-01-31",-0.37906439095760325,0.16678989167373759]
[null,"2017-01-30",2.293752647809673,"2017-01-30",2.6981950783067479,"2017-01-30",2.4881000000000002,"2017-01-31",2.4531000000000001,null,"2017-01-30",-0.40444243049707485,0.21009507830674767]
[null,"2017-01-27",2.3051772610794523,"2017-01-27",2.7273043651233446,"2017-01-27",2.4843000000000002,"2017-01-30",2.4881000000000002,null,"2017-01-27",-0.42212710404389231,0.24300436512334445]
[null,"2017-01-26",2.3163362791797706,"2017-01-26",2.7097435931479255,"2017-01-26",2.5043000000000002,"2017-01-27",2.4843000000000002,null,"2017-01-26",-0.39340731396815487,0.20544359314792526]
[null,"2017-01-25",2.3116600127498792,"2017-01-25",2.6955364062047806,"2017-01-25",2.5116000000000001,"2017-01-26",2.5043000000000002,null,"2017-01-25",-0.38387639345490143,0.18393640620478058]
[null,"2017-01-24",2.2469234958222986,"2017-01-24",2.6400237914585234,"2017-01-24",2.4651999999999998,"2017-01-25",2.5116000000000001,null,"2017-01-24",-0.39310029563622484,0.17482379145852356]
[null,"2017-01-23",2.1982885422652929,"2017-01-23",2.6151751402562158,"2017-01-23",2.3971,"2017-01-24",2.4651999999999998,null,"2017-01-23",-0.41688659799092287,0.21807514025621577]
[null,"2017-01-20",2.25655880230478,"2017-01-20",2.6685830513124724,"2017-01-20",2.4668000000000001,"2017-01-23",2.3971,null,"2017-01-20",-0.41202424900769241,0.20178305131247232]
[null,"2017-01-19",2.2559731695293608,"2017-01-19",2.6582355500420927,"2017-01-19",2.4739,"2017-01-20",2.4668000000000001,null,"2017-01-19",-0.40226238051273189,0.18433555004209268]
[null,"2017-01-18",2.1942060180751533,"2017-01-18",2.5901395455218048,"2017-01-18",2.4296000000000002,"2017-01-19",2.4739,null,"2017-01-18",-0.39593352744665156,0.16053954552180461]
[null,"2017-01-17",2.0980103193846822,"2017-01-17",2.4351302586120602,"2017-01-17",2.3252999999999999,"2017-01-18",2.4296000000000002,null,"2017-01-17",-0.33711993922737804,0.10983025861206031]
[null,"2017-01-16","","2017-01-16","","2017-01-16","","2017-01-17",2.3252999999999999,null,"2017-01-16","",""]
[null,"2017-01-13",2.1673761534004994,"2017-01-13",2.5257519357351614,"2017-01-13",2.3963999999999999,"2017-01-13",2.3963999999999999,null,"2017-01-13",-0.35837578233466205,0.12935193573516157]
[null,"2017-01-12",2.1231788183094582,"2017-01-12",2.4920098497793011,"2017-01-12",2.3631000000000002,"2017-01-12",2.3631000000000002,null,"2017-01-12",-0.36883103146984286,0.12890984977930087]
[null,"2017-01-11",2.1431998926011029,"2017-01-11",2.5091618005536365,"2017-01-11",2.3721000000000001,"2017-01-11",2.3721000000000001,null,"2017-01-11",-0.36596190795253358,0.13706180055363637]
[null,"2017-01-10",2.1449725376813307,"2017-01-10",2.5065200440915345,"2017-01-10",2.3757000000000001,"2017-01-10",2.3757000000000001,null,"2017-01-10",-0.36154750641020383,0.13082004409153436]
[null,"2017-01-09",2.1334723437308138,"2017-01-09",2.4693652193168707,"2017-01-09",2.3647,"2017-01-09",2.3647,null,"2017-01-09",-0.33589287558605685,0.10466521931687067]
[null,"2017-01-06",2.1721248722744844,"2017-01-06",2.5144628556732607,"2017-01-06",2.4192999999999998,"2017-01-06",2.4192999999999998,null,"2017-01-06",-0.3423379833987763,9.5162855673260882E-2]
[null,"2017-01-05",2.1025535302032776,"2017-01-05",2.4361809785593866,"2017-01-05",2.3443000000000001,"2017-01-05",2.3443000000000001,null,"2017-01-05",-0.33362744835610902,9.1880978559386595E-2]
[null,"2017-01-04",2.1706074202188006,"2017-01-04",2.5282549747449443,"2017-01-04",2.4390000000000001,"2017-01-04",2.4390000000000001,null,"2017-01-04",-0.35764755452614372,8.925497474494426E-2]
[null,"2017-01-03",2.1944070404131306,"2017-01-03",2.5436710392449227,"2017-01-03",2.4443999999999999,"2017-01-03",2.4443999999999999,null,"2017-01-03",-0.34926399883179204,9.9271039244922754E-2]

{"sheet":"cf","index":2,"n_rows":35,"n_cols":7,"rows_kept":35,"cut":false,"hidden":false,"merged":[]}
[]
[null,"TAB: FX SWAP CASH FLOWS"]
[]
[null,"Date",{"$f":"curves!B11","v":"2017-12-28"}]
[null,"Tenor",10]
[null,"Yield",{"$f":"swap!C10","v":""}]
[null,"Principal",10000000]
[]
[null,{"$f":"_xll.AC.finance.swap.cf(C4, C5, C6, C7, calc!E7, calc!E10)","v":"java.lang.IllegalArgumentException: argument type mismatch"},null,null,{"$f":"_xll.AC.data.size(B9, 1)","v":-1},{"$f":"_xll.AC.data.size(B9, 2)","v":-1}]
[]
[null,null,null,null,"Leg 1:","Leg 2:","NPV:"]
[null,null,null,null,{"$f":"calc!D7","v":"CAD"},"USD",{"$f":"SUM(G15:G102)","v":0}]
[null,"Tenor","Discount","Fwd FX: S/Ft","Payments (Rcv)","Payments (Pay)","Net Payment"]
[null,{"$f":"_xll.AC.data._get(B9, \"\", 0)","v":"java.lang.IllegalArgumentException: argument type mismatch"},"java.lang.IllegalArgumentException: argument type mismatch","java.lang.IllegalArgumentException: argument type mismatch","java.lang.IllegalArgumentException: argument type mismatch","java.lang.IllegalArgumentException: argument type mismatch","java.lang.IllegalArgumentException: argument type mismatch"]
[null,"java.lang.IllegalArgumentException: argument type mismatch","java.lang.IllegalArgumentException: argument type mismatch","java.lang.IllegalArgumentException: argument type mismatch","java.lang.IllegalArgumentException: argument type mismatch","java.lang.IllegalArgumentException: argument type mismatch","java.lang.IllegalArgumentException: argument type mismatch"]
[null,"java.lang.IllegalArgumentException: argument type mismatch","java.lang.IllegalArgumentException: argument type mismatch","java.lang.IllegalArgumentException: argument type mismatch","java.lang.IllegalArgumentException: argument type mismatch","java.lang.IllegalArgumentException: argument type mismatch","java.lang.IllegalArgumentException: argument type mismatch"]
[null,"java.lang.IllegalArgumentException: argument type mismatch","java.lang.IllegalArgumentException: argument type mismatch","java.lang.IllegalArgumentException: argument type mismatch","java.lang.IllegalArgumentException: argument type mismatch","java.lang.IllegalArgumentException: argument type mismatch","java.lang.IllegalArgumentException: argument type mismatch"]
[null,"java.lang.IllegalArgumentException: argument type mismatch","java.lang.IllegalArgumentException: argument type mismatch","java.lang.IllegalArgumentException: argument type mismatch","java.lang.IllegalArgumentException: argument type mismatch","java.lang.IllegalArgumentException: argument type mismatch","java.lang.IllegalArgumentException: argument type mismatch"]
[null,"java.lang.IllegalArgumentException: argument type mismatch","java.lang.IllegalArgumentException: argument type mismatch","java.lang.IllegalArgumentException: argument type mismatch","java.lang.IllegalArgumentException: argument type mismatch","java.lang.IllegalArgumentException: argument type mismatch","java.lang.IllegalArgumentException: argument type mismatch"]
[null,"java.lang.IllegalArgumentException: argument type mismatch","java.lang.IllegalArgumentException: argument type mismatch","java.lang.IllegalArgumentException: argument type mismatch","java.lang.IllegalArgumentException: argument type mismatch","java.lang.IllegalArgumentException: argument type mismatch","java.lang.IllegalArgumentException: argument type mismatch"]
[null,"java.lang.IllegalArgumentException: argument type mismatch","java.lang.IllegalArgumentException: argument type mismatch","java.lang.IllegalArgumentException: argument type mismatch","java.lang.IllegalArgumentException: argument type mismatch","java.lang.IllegalArgumentException: argument type mismatch","java.lang.IllegalArgumentException: argument type mismatch"]
[null,"java.lang.IllegalArgumentException: argument type mismatch","java.lang.IllegalArgumentException: argument type mismatch","java.lang.IllegalArgumentException: argument type mismatch","java.lang.IllegalArgumentException: argument type mismatch","java.lang.IllegalArgumentException: argument type mismatch","java.lang.IllegalArgumentException: argument type mismatch"]
[null,"java.lang.IllegalArgumentException: argument type mismatch","java.lang.IllegalArgumentException: argument type mismatch","java.lang.IllegalArgumentException: argument type mismatch","java.lang.IllegalArgumentException: argument type mismatch","java.lang.IllegalArgumentException: argument type mismatch","java.lang.IllegalArgumentException: argument type mismatch"]
[null,"java.lang.IllegalArgumentException: argument type mismatch","java.lang.IllegalArgumentException: argument type mismatch","java.lang.IllegalArgumentException: argument type mismatch","java.lang.IllegalArgumentException: argument type mismatch","java.lang.IllegalArgumentException: argument type mismatch","java.lang.IllegalArgumentException: argument type mismatch"]
[null,"java.lang.IllegalArgumentException: argument type mismatch","java.lang.IllegalArgumentException: argument type mismatch","java.lang.IllegalArgumentException: argument type mismatch","java.lang.IllegalArgumentException: argument type mismatch","java.lang.IllegalArgumentException: argument type mismatch","java.lang.IllegalArgumentException: argument type mismatch"]
[null,"java.lang.IllegalArgumentException: argument type mismatch","java.lang.IllegalArgumentException: argument type mismatch","java.lang.IllegalArgumentException: argument type mismatch","java.lang.IllegalArgumentException: argument type mismatch","java.lang.IllegalArgumentException: argument type mismatch","java.lang.IllegalArgumentException: argument type mismatch"]
[null,"java.lang.IllegalArgumentException: argument type mismatch","java.lang.IllegalArgumentException: argument type mismatch","java.lang.IllegalArgumentException: argument type mismatch","java.lang.IllegalArgumentException: argument type mismatch","java.lang.IllegalArgumentException: argument type mismatch","java.lang.IllegalArgumentException: argument type mismatch"]
[null,"java.lang.IllegalArgumentException: argument type mismatch","java.lang.IllegalArgumentException: argument type mismatch","java.lang.IllegalArgumentException: argument type mismatch","java.lang.IllegalArgumentException: argument type mismatch","java.lang.IllegalArgumentException: argument type mismatch","java.lang.IllegalArgumentException: argument type mismatch"]
[null,"java.lang.IllegalArgumentException: argument type mismatch","java.lang.IllegalArgumentException: argument type mismatch","java.lang.IllegalArgumentException: argument type mismatch","java.lang.IllegalArgumentException: argument type mismatch","java.lang.IllegalArgumentException: argument type mismatch","java.lang.IllegalArgumentException: argument type mismatch"]
[null,"java.lang.IllegalArgumentException: argument type mismatch","java.lang.IllegalArgumentException: argument type mismatch","java.lang.IllegalArgumentException: argument type mismatch","java.lang.IllegalArgumentException: argument type mismatch","java.lang.IllegalArgumentException: argument type mismatch","java.lang.IllegalArgumentException: argument type mismatch"]
[null,"java.lang.IllegalArgumentException: argument type mismatch","java.lang.IllegalArgumentException: argument type mismatch","java.lang.IllegalArgumentException: argument type mismatch","java.lang.IllegalArgumentException: argument type mismatch","java.lang.IllegalArgumentException: argument type mismatch","java.lang.IllegalArgumentException: argument type mismatch"]
[null,"java.lang.IllegalArgumentException: argument type mismatch","java.lang.IllegalArgumentException: argument type mismatch","java.lang.IllegalArgumentException: argument type mismatch","java.lang.IllegalArgumentException: argument type mismatch","java.lang.IllegalArgumentException: argument type mismatch","java.lang.IllegalArgumentException: argument type mismatch"]
[null,"java.lang.IllegalArgumentException: argument type mismatch","java.lang.IllegalArgumentException: argument type mismatch","java.lang.IllegalArgumentException: argument type mismatch","java.lang.IllegalArgumentException: argument type mismatch","java.lang.IllegalArgumentException: argument type mismatch","java.lang.IllegalArgumentException: argument type mismatch"]
[null,"java.lang.IllegalArgumentException: argument type mismatch","java.lang.IllegalArgumentException: argument type mismatch","java.lang.IllegalArgumentException: argument type mismatch","java.lang.IllegalArgumentException: argument type mismatch","java.lang.IllegalArgumentException: argument type mismatch","java.lang.IllegalArgumentException: argument type mismatch"]
[null,"java.lang.IllegalArgumentException: argument type mismatch","java.lang.IllegalArgumentException: argument type mismatch","java.lang.IllegalArgumentException: argument type mismatch","java.lang.IllegalArgumentException: argument type mismatch","java.lang.IllegalArgumentException: argument type mismatch","java.lang.IllegalArgumentException: argument type mismatch"]

{"sheet":"calc","index":3,"n_rows":29,"n_cols":14,"rows_kept":29,"cut":false,"hidden":false,"merged":[]}
[]
[null,"TAB:  CALCULATOR"]
[]
[null,"Description",null,null,"Name","Object",null,null,"Size",null,null,"Key","Value"]
[null,"USD to CAD Swap",null,null,null,null,null,null,"# of dates","# of series",null,"Parameters"]
[]
[null,"USD-to-CAD Forward rate",null,{"$f":"curves!C5","v":"CAD"},{"$f":"curves!B6","v":"jeconkr.finance.FSTP.lib.model.fx.data.CurveFX@Sun, 24 Jun 2018 23:12:52:901..1325459906523674912"},null,null,null,{"$f":"_xll.AC.finance.irb.size(E7, 1)","v":260},{"$f":"_xll.AC.finance.irb.size(E7, 2)","v":11}," ",{"$f":"config!E17","v":"CRNCY_FROM"},"CAD"]
[null,"USD Float-to-Fixed swap curve",null,{"$f":"curves!P5","v":"USSW"},{"$f":"curves!O6","v":"jeconkr.finance.FSTP.lib.model.swap.data.CurveSwap@Sun, 24 Jun 2018 23:12:52:905..514408064112231720"},null,null,null,{"$f":"_xll.AC.finance.irb.size(E8, 1)","v":258},{"$f":"_xll.AC.finance.irb.size(E8, 2)","v":10}," ",{"$f":"config!E18","v":"CRNCY_TO"},"USD"]
[null,null,null,null,null,null,null,null,null,null," ",{"$f":"config!E19","v":"CPN_FREQ_FROM"},2]
[null,"Risk-free discount factors based on USSW curve",null,"Discounts",{"$f":"_xll.AC.finance.discount.curve(D10, E8, 10)","v":"jeconkr.finance.FSTP.lib.discount.CurveDiscounts@Sun, 24 Jun 2018 23:12:52:913..4730464393693335641"},null,null,null,{"$f":"_xll.AC.finance.irb.size(E10, 1)","v":258},{"$f":"_xll.AC.finance.irb.size(E10, 2)","v":21}," ",{"$f":"config!E20","v":"CPN_FREQ_TO"},2]
[null,null,null,null,null,null,null,null,null,null,null,{"$f":"config!E21","v":"DAY_CNT_FROM"},{"$f":"config!B27","v":"ACT/365"}]
[null,"FX swap calculator",null,null,{"$f":"_xll.AC.finance.fx.swap(E7, E10)","v":"jeconkr.finance.FSTP.lib.model.swap.calculator.CalculatorSwapFX@Sun, 24 Jun 2018 23:12:52:933..3246472471170037881"},null,null,null," ",null," ",{"$f":"config!E22","v":"DAY_CNT_TO"},{"$f":"config!B24","v":"30/360"}]
[null,null,null,null,null,null,null,null,null,null," ",{"$f":"config!E23","v":"TENOR"},{"$f":"OFFSET(I22, D14, 0)","v":10}]
[null,"Index of selected Canadian series",null,1]
[null,"Canadian series",null,{"$f":"OFFSET(D22, D14, 0)","v":"C10110Y"},{"$f":"OFFSET(C22, D14, 0)","v":"jeconkr.finance.FSTP.lib.data.Series@Sun, 24 Jun 2018 23:12:52:810..6817710059887318416"},null,null,null,{"$f":"_xll.AC.finance.irb.size(E15, 1)","v":249},null," "]
[null,"Swapped Canadian series (CAD-to-USD)",null,null,{"$f":"_xll.AC.finance.swap.run(E12, E15, L16)","v":"jeconkr.finance.FSTP.lib.data.Series@Sun, 24 Jun 2018 23:13:36:644..3565185618953997103"},null,null,null,{"$f":"_xll.AC.finance.irb.size(E16, 1)","v":249},null," ",{"$f":"_xll.AC.data.map(L7:L13, M7:M13)","v":"java.util.LinkedHashMap@Sun, 24 Jun 2018 23:12:31:595..2241333319074216444"},null," "]
[null,"Matched US series",null,{"$f":"OFFSET(G22, D14, 0)","v":"USGG10YR"},{"$f":"OFFSET(F22, D14, 0)","v":"jeconkr.finance.FSTP.lib.data.Series@Sun, 24 Jun 2018 23:12:52:817..4556854160855955323"},null,null,null,{"$f":"_xll.AC.finance.irb.size(E17, 1)","v":249}]
[null,null,null,null,null,null,null,null,null,null,null,null,null," "]
[null,null,null,null,null,null,null,null,null,null," "]
[null,"Interest Rate Series",null,null,null,null,null,null,null,null," "]
[null,null,null,null,null,null,null,null,null,null," "]
[null,"#","Canadian series","Name","Size","Matching US Series",{"$f":"D22","v":"Name"},{"$f":"E22","v":"Size"},"Tenor","Description"," "]
[null,1,{"$f":"_xll.AC.finance.irb.series(D23, YLDS!$E$6:$E$500, YLDS!$F$6:$F$500)","v":"jeconkr.finance.FSTP.lib.data.Series@Sun, 24 Jun 2018 23:12:52:810..6817710059887318416"},{"$f":"YLDS!E4","v":"C10110Y"},{"$f":"_xll.AC.finance.irb.size(C23, 1)","v":249},{"$f":"_xll.AC.finance.irb.series(G23, YLDS!$G$6:$G$500, YLDS!$H$6:$H$500)","v":"jeconkr.finance.FSTP.lib.data.Series@Sun, 24 Jun 2018 23:12:52:817..4556854160855955323"},{"$f":"YLDS!G4","v":"USGG10YR"},{"$f":"_xll.AC.finance.irb.size(F23, 1)","v":249},10,"Sovereign 10-year curve"]
[null,{"$f":"B23+1","v":2},{"$f":"_xll.AC.finance.irb.series(D24, YLDS!$L$6:$L$500, YLDS!$M$6:$M$500)","v":"jeconkr.finance.FSTP.lib.data.Series@Sun, 24 Jun 2018 23:12:52:823..8518553016921959180"},{"$f":"YLDS!L4","v":"CDOR03"},{"$f":"_xll.AC.finance.irb.size(C24, 1)","v":249},{"$f":"_xll.AC.finance.irb.series(G24, YLDS!$N$6:$N$500, YLDS!$O$6:$O$500)","v":"jeconkr.finance.FSTP.lib.data.Series@Sun, 24 Jun 2018 23:12:52:820..1732037304316708224"},{"$f":"YLDS!N4","v":"US0003M"},{"$f":"_xll.AC.finance.irb.size(F24, 1)","v":251},0.25,"Bankers' acceptance rate"]
[null,{"$f":"B24+1","v":3},{"$f":"_xll.AC.finance.irb.series(D25, YLDS!$R$6:$R$500, YLDS!$S$6:$S$500)","v":"jeconkr.finance.FSTP.lib.data.Series@Sun, 24 Jun 2018 23:12:52:829..3834650042939182894"},{"$f":"YLDS!R4","v":"CABROVER"},{"$f":"_xll.AC.finance.irb.size(C25, 1)","v":249},{"$f":"_xll.AC.finance.irb.series(G25, YLDS!$P$6:$P$500, YLDS!$Q$6:$Q$500)","v":"jeconkr.finance.FSTP.lib.data.Series@Sun, 24 Jun 2018 23:12:52:815..6928326777653383451"},{"$f":"YLDS!P4","v":"FEDL01"},{"$f":"_xll.AC.finance.irb.size(F25, 1)","v":251},0.01,"BoC (Feds) overnight policy rate"]
[null,4,{"$f":"_xll.AC.finance.irb.series(D26, YLDS!$V$6:$V$500, YLDS!$W$6:$W$500)","v":"jeconkr.finance.FSTP.lib.data.Series@Sun, 24 Jun 2018 23:12:52:831..4398838867142991542"},{"$f":"YLDS!V4","v":"PRIMCAN"},{"$f":"_xll.AC.finance.irb.size(C26, 1)","v":249},{"$f":"_xll.AC.finance.irb.series(G26, YLDS!$T$6:$T$500, YLDS!$U$6:$U$500)","v":"jeconkr.finance.FSTP.lib.data.Series@Sun, 24 Jun 2018 23:12:52:825..8048989904202195949"},{"$f":"YLDS!T4","v":"PRIME"},{"$f":"_xll.AC.finance.irb.size(F26, 1)","v":250},1,"Prime rate"]
[null,5,{"$f":"_xll.AC.finance.irb.series(D27, YLDS!$Z$6:$Z$500, YLDS!$AA$6:$AA$500)","v":"jeconkr.finance.FSTP.lib.data.Series@Sun, 24 Jun 2018 23:12:52:827..7405999716744352191"},{"$f":"YLDS!Z4","v":"CANMORT5"},{"$f":"_xll.AC.finance.irb.size(C27, 1)","v":52},{"$f":"_xll.AC.finance.irb.series(G27, YLDS!$AB$6:$AB$500, YLDS!$AC$6:$AC$500)","v":"jeconkr.finance.FSTP.lib.data.Series@Sun, 24 Jun 2018 23:12:52:828..7173457924805770237"},{"$f":"YLDS!AB4","v":"MB301ARM"},{"$f":"_xll.AC.finance.irb.size(F27, 1)","v":52},5,"Interest rate on residential real estate loans secured by mortgages"]
[]
[null,null,null,null,null,null,null,null,null,null," "]

{"sheet":">FX","index":4,"n_rows":269,"n_cols":39,"rows_kept":269,"cut":false,"hidden":false,"merged":[]}
[]
[null,"TAB: TEMPLATE TESTING TAB (FX SWAP CALCULATOR OUTPUT)"]
[]
[null,"Ouput data frequency",null,null,{"$f":"config!B17","v":"data-frequency"},null,{"$f":"config!B18","v":"daily-frequency"},null,null,null,null,null,null,null,"Ouput data frequency",null,null,{"$f":"E4","v":"data-frequency"},null,{"$f":"G4","v":"daily-frequency"},null,null,null,null,null,null,null,"Ouput data frequency",null,null,{"$f":"R4","v":"data-frequency"},null,{"$f":"T4","v":"daily-frequency"}]
[null,"FX swap parameter",null,null,{"$f":"config!B13","v":"fxswap-param"},null,{"$f":"config!B14","v":"fxswap-intercept"},null,null,null,null,null,null,null,"FX swap parameter",null,null,{"$f":"E5","v":"fxswap-param"},null,{"$f":"config!B15","v":"fxswap-slope"},null,null,null,null,null,null,null,"FX swap parameter",null,null,{"$f":"R5","v":"fxswap-param"},null,{"$f":"config!B16","v":"fxswap-proxy"}]
[null,{"$f":"_xll.AC.finance.swap.get(calc!$E$12, G6, _xll.AC.data.map(E4:E5, G4:G5))","v":"java.util.ArrayList@Sun, 24 Jun 2018 23:12:40:652..66045345841642510"},null,null,{"$f":"_xll.AC.data.size(B6, 1)","v":261},{"$f":"_xll.AC.data.size(B6, 2)","v":12},{"$f":"config!B8","v":"fxswap-output"},null,null,null,null,null,null,null,{"$f":"_xll.AC.finance.swap.get(calc!$E$12, T6, _xll.AC.data.map(R4:R5, T4:T5))","v":"java.util.ArrayList@Sun, 24 Jun 2018 23:12:40:646..7478501541257397608"},null,null,{"$f":"_xll.AC.data.size(O6, 1)","v":261},{"$f":"_xll.AC.data.size(O6, 2)","v":12},{"$f":"G6","v":"fxswap-output"},null,null,null,null,null,null,null,{"$f":"_xll.AC.finance.swap.get(calc!$E$12, AG6, _xll.AC.data.map(AE4:AE5, AG4:AG5))","v":"java.util.ArrayList@Sun, 24 Jun 2018 23:12:40:649..5223736138620618077"},null,null,{"$f":"_xll.AC.data.size(AB6, 1)","v":261},{"$f":"_xll.AC.data.size(AB6, 2)","v":12},{"$f":"G6","v":"fxswap-output"}]
[]
[null,"FX Swap Intercept Parameter",null,null,null,null,null,null,null,null,null,null,null,null,"FX Swap Slope Parameter",null,null,null,null,null,null,null,null,null,null,null,null,"FX Swap Approximation"]
[null,{"$f":"_xll.AC.data._get(B6, \"\", 0)","v":"Date"},0,1,2,3,4,5,6,7,8,9,10,null,{"$f":"_xll.AC.data._get(O6, \"\", 0)","v":"Date"},0,1,2,3,4,5,6,7,8,9,10,null,{"$f":"_xll.AC.data._get(AB6, \"\", 0)","v":"Date"},0,1,2,3,4,5,6,7,8,9,10]
[null,"2017-12-29",-0.30307851404026848,-0.30307851404026848,-0.22827955165298491,-0.20942658404045347,-0.15699160442758409,-0.11739459446201204,-5.8599207955498556E-2,-8.0099311487154129E-2,-6.3899881878725251E-2,"","",null,"2017-12-29",0.99696921485959733,0.99696921485959733,0.9961859798461673,0.99533597384659978,0.99489338774485958,0.99469436704351188,0.99493994899162186,0.99481113388360964,0.99476673427626183,"","",null,"2017-12-29",-0.30307851404025588,-0.30307851404025588,-0.23095638686598807,-0.21444410166694405,-0.16277469762107089,-0.12328507493507557,-6.2410024646308848E-2,-8.6362734067324531E-2,-6.9874728937180386E-2,"",""]
[null,"2017-12-28",-0.35354017501988944,-0.35354017501988944,-0.26176348458489035,-0.21792235039474564,-0.17531724681522359,-0.14335407951506407,-8.4152311700293567E-2,-0.11020519473568238,-9.3941100465425947E-2,-6.2225014273518293E-2,-5.2137474354001331E-2,null,"2017-12-28",0.99646459824980116,0.99646459824980116,0.9955962520137196,0.99485311376623342,0.9943436241606779,0.99398980449016638,0.99409014094401604,0.99377339407131948,0.99354782996557089,0.99357267351461265,0.99362284075782203,null,"2017-12-28",-0.35354017501988411,-0.35354017501988411,-0.26486947449888554,-0.22325062302794851,-0.18187985102307014,-0.15065212416029983,-8.9699717250413258E-2,-0.1189026684780714,-0.10279549468719118,-6.9129235496523389E-2,-5.878693481189412E-2]
[null,"2017-12-27",-0.37084156459897899,-0.37084156459897899,-0.27569279865438551,-0.23343213097786228,-0.20875557291504723,-0.18056677414714342,-0.12597204766908449,-0.14377844165355413,-0.12382713539483567,-9.6068504197537027E-2,-7.7258454178376845E-2,null,"2017-12-27",0.99629158435401022,0.99629158435401022,0.99536987098318974,0.99454607295067077,0.99377794892124072,0.99316205841664118,0.99297631667509278,0.99247374670764066,0.9921001295140921,0.99193384010623897,0.99188015536470597,null,"2017-12-27",-0.37084156459897821,-0.37084156459897821,-0.27893505305657262,-0.23908029150249144,-0.21642660379599388,-0.18957557547043535,-0.13412468630383811,-0.1549773023521217,-0.13536898921094886,-0.1066038479872522,-8.7025116708949746E-2]
[null,"2017-12-26",-0.39646882635767683,-0.39646882635767683,-0.30228843293792129,-0.2683532669163422,-0.2285139741151257,-0.19492384653713729,-0.14240571307040392,-0.15168651430756885,-0.1312915469812867,"","",null,"2017-12-26",0.99603531173642323,0.99603531173642323,0.99497437684920886,0.9939305400125461,0.99311298293459949,0.9924794327829245,0.99223514628957254,0.99175025959470209,0.9913830811111749,"","",null,"2017-12-26",-0.39646882635767655,-0.39646882635767655,-0.3058986257379992,-0.27492027488289494,-0.23710743540242829,-0.20490515896671724,-0.15187206460179903,-0.16384974442307243,-0.14388082906391375,"",""]
[null,"2017-12-25","","","","","","","","","","","",null,"2017-12-25","","","","","","","","","","","",null,"2017-12-25","","","","","","","","","","",""]
[null,"2017-12-22",-0.39728179747031983,-0.39728179747031983,-0.30323227378817708,-0.27762593950109238,-0.23608472222958224,-0.20244857239518896,-0.18233095813147351,-0.1649340393917984,-0.14229231358168914,-0.12463052750139726,-9.8431158954961476E-2,null,"2017-12-22",0.99602718202529683,0.99602718202529683,0.99496081519580826,0.99382887511030427,0.99296022179046994,0.99228053090079027,0.99167022365875845,0.99112771304445091,0.99072154605588147,0.99040644488789142,0.99027461947845696,null,"2017-12-22",-0.39728179747032799,-0.39728179747032799,-0.30685779888069975,-0.28441250583799427,-0.24498711310575461,-0.21286121978563166,-0.19433210222030706,-0.17827348878356464,-0.15605633491677651,-0.13874642849361907,-0.11132674261336017]
[null,"2017-12-21",-0.38061224489797041,-0.38061224489797041,-0.29328160117911511,-0.24281210810025081,-0.20562686157692814,-0.18148427450203275,-0.12796371574888607,-0.15364042797089886,-0.13738558704010376,-0.11909347845100025,-0.1002018735999216,null,"2017-12-21",0.99619387755102029,0.99619387755102029,0.99514466747845776,0.99430005858612813,0.99362128609182754,0.99302430346467019,0.99283814546671323,0.9922534359622539,0.99176751407992481,0.99140268688792754,0.99116495005120109,null,"2017-12-21",-0.38061224489797096,-0.38061224489797096,-0.29675113821527876,-0.24878693426670928,-0.21339796467494399,-0.19083687569149133,-0.13651951394783035,-0.16599591930066548,-0.1506149741810181,-0.13256894265504249,-0.11329168941834888]
[null,"2017-12-20",-0.38722243864435152,-0.38722243864435152,-0.31741956879069411,-0.27972332130682737,-0.24937413262468064,-0.22279528077709909,-0.16504228851142788,-0.19454976097514343,-0.18176011266157524,-0.16590892041955058,-0.14628969537468084,null,"2017-12-20",0.99612777561355648,0.99612777561355648,0.9948704392900356,0.99374742419806694,0.99276636054487388,0.99192110507091102,0.99153836120171124,0.99071884828983936,0.98996679419675249,0.98931644530107976,0.98880514910671191,null,"2017-12-20",-0.38722243864434125,-0.38722243864434125,-0.32112331419860141,-0.28649720741721341,-0.25869592959285592,-0.23420707548302833,-0.17607515314547184,-0.21018034342968894,-0.19928080037635576,-0.18471168187674802,-0.16546503048412431]
[null,"2017-12-19",-0.41792203758348218,-0.41792203758348218,-0.35065729432004966,-0.309600966086785,-0.28374196112019828,-0.25616783941804,-0.19709879799865576,-0.2246606494023641,-0.20609024137973564,-0.18152776236254478,-0.15867579243279797,null,"2017-12-19",0.99582077962416515,0.99582077962416515,0.99438354610862978,0.99312152770857753,0.99194972354195454,0.99092867016086095,0.99038339097448103,0.98941893099615696,0.98857530105430624,0.98791072074452435,0.98740272080655545,null,"2017-12-19",-0.41792203758347357,-0.41792203758347357,-0.35472138666020614,-0.31704698942774945,-0.29423754098449884,-0.26915739717356946,-0.21011339045099442,-0.24247735583163843,-0.22570334931785174,-0.20187792019074058,-0.17926181823186838]
[null,"2017-12-18",-0.45506142124086851,-0.45506142124086851,-0.36790307569654734,-0.32897151465013164,-0.30134363026878702,-0.27798789968112236,-0.20932916604719351,-0.23338961406623379,-0.21814455144554779,-0.19574352513512422,-0.17692492988897324,null,"2017-12-18",0.99544938578759135,0.99544938578759135,0.99402397795271047,0.99268684454032918,0.99144607402536622,0.99030610893589777,0.98973911857182151,0.98877601464116949,0.98788946962002089,0.98715609458026199,0.9865379953279042,null,"2017-12-18",-0.45506142124087656,-0.45506142124087656,-0.37213543432569329,-0.33674666351771743,-0.31225879461767025,-0.29169835682943956,-0.22282050048920699,-0.25146143907582852,-0.23833381144305887,-0.21705670304045244,-0.19917900639201402]
[null,"2017-12-15",-0.47792631742576547,-0.47792631742576547,-0.3830272944118096,-0.3380439545103861,-0.30974358939641478,-0.28440717758183753,-0.21311197967127793,-0.24712579551804276,-0.2174055175822488,-0.19054411356821901,-0.16602462214267549,null,"2017-12-15",0.9952207368257423,0.9952207368257423,0.99375753406588374,0.992416928613855,0.99115823689444804,0.99001029235358884,0.98945335455189143,0.98839402397573073,0.98756088299601519,0.986914525259596,0.98642871292545564,null,"2017-12-15",-0.47792631742576974,-0.47792631742576974,-0.38742857070804826,-0.34603252398959228,-0.32089070927938668,-0.29829221886344959,-0.2266810108050521,-0.26581762797092123,-0.23717242989790277,-0.21093557147036091,-0.18654181700487049]
[null,"2017-12-14",-0.45143392982732305,-0.45143392982732305,-0.36322202182231789,-0.31595094175545957,-0.29254963940733797,-0.26642550379450036,-0.20316963222889389,-0.21450339049193654,-0.19283141782830429,-0.17256554190106974,-0.15175033915324213,null,"2017-12-14",0.99548566070172673,0.99548566070172673,0.99408927811809877,0.99286095041869316,0.99166646905662148,0.99060023052644697,0.99004968822877626,0.98923443059935945,0.98854808950775352,0.9879804311204412,0.98754070354502299,null,"2017-12-14",-0.45143392982731623,-0.45143392982731623,-0.3673622801081855,-0.32338583035965707,-0.3030076196283038,-0.27943494758777554,-0.21605778346772686,-0.23088794971851678,-0.21047973817233112,-0.19107295758132858,-0.17053778405617948]
[null,"2017-12-13",-0.45307014121870709,-0.45307014121870709,-0.38697362688644221,-0.33362165931780136,-0.30759182542685626,-0.27999341166618441,-0.21649505389033766,-0.23675727956596809,-0.20673688207803378,-0.17969404183202886,-0.15640145736900388,null,"2017-12-13",0.99546929858781297,0.99546929858781297,0.99384447325933778,0.99252058156434497,0.99125924130074361,0.99013672681491072,0.98952682054602448,0.98856021985162046,0.98781308268389723,0.98724779608467172,0.98682595727710554,null,"2017-12-13",-0.45307014121870326,-0.45307014121870326,-0.39126242761325924,-0.34133699122481653,-0.31848006304763254,-0.29351795897154531,-0.2301832583356811,-0.25478419477258374,-0.22569618633262456,-0.19913768190090719,-0.17600715632267727]
[null,"2017-12-12",-0.46463547334057703,-0.46463547334057703,-0.40912427327064538,-0.36171396410718548,-0.32859134602999673,-0.29745773275395765,-0.27878920318830175,-0.25336039278836331,-0.22888880957735433,-0.20498888081323649,-0.18531345142090888,null,"2017-12-12",0.9953536452665942,0.9953536452665942,0.99356428009211073,0.99205041500505231,0.99069157223010595,0.98950088082681797,0.98836979963465954,0.98738866782062606,0.98655250427364483,0.98585939624637331,0.98527135117382492,null,"2017-12-12",-0.46463547334059108,-0.46463547334059108,-0.41376600687877962,-0.37030056523068566,-0.34061398195929238,-0.31237608184686572,-0.29663645640032321,-0.27337842875995166,-0.25056390888171798,-0.22781063116286138,-0.20909152207174708]
[null,"2017-12-11",-0.45115121344119458,-0.45115121344119458,-0.39227288894000184,-0.34840379416678391,-0.3196459860278561,-0.28639020703070517,-0.21542261796793816,-0.2299351076612467,-0.20456835550167349,-0.18795484665849474,-0.16259969882426653,null,"2017-12-11",0.99548848786558808,0.99548848786558808,0.99380071256739833,0.99234273075536306,0.99100270412808433,0.98986324434656503,0.98930410185324336,0.98843185816530021,0.98771761497173471,0.98707683895957943,0.9866058932672146,null,"2017-12-11",-0.45115121344119213,-0.45115121344119213,-0.39671098014949502,-0.35661664370475465,-0.33125494799746136,-0.30065118215080178,-0.22948094605752534,-0.24802645370229914,-0.22391958865457529,-0.20879824887910514,-0.18342954309262804]
[null,"2017-12-08",-0.44575031133250792,-0.44575031133250792,-0.38173246681252992,-0.33385541413306896,-0.30247499443132031,-0.27224717405610055,-0.23005072358990747,-0.22614411028825088,-0.20499484025657327,-0.18145700413531035,-0.1609041276729665,null,"2017-12-08",0.99554249688667495,0.99554249688667495,0.99393343670080747,0.99257749292699038,0.99135220259272505,0.99028718508994606,0.98951736761043541,0.98865497489847554,0.98791155158662458,0.98731637061269251,0.9868414478154095,null,"2017-12-08",-0.44575031133250453,-0.44575031133250453,-0.38601902604508131,-0.34168608939572076,-0.31338634115176678,-0.285718957250225,-0.24478650960686466,-0.24383749160056256,-0.22425777993489993,-0.20149181305824104,-0.18142420709507112]
[null,"2017-12-07",-0.44966547378248051,-0.44966547378248051,-0.38541915693663042,-0.3370862772305796,-0.30260751133160196,-0.27866995658804217,-0.20570720700768477,-0.22907321697550881,-0.20834635441328289,-0.18384826368078502,-0.16227784594590039,null,"2017-12-07",0.99550334526217521,0.99550334526217521,0.99387687641990252,0.99250729033675167,0.99129763901798129,0.99017923287487897,0.98966785627573461,0.98875685521140577,0.98796928521638261,0.98734527552746076,0.98685491816114623,null,"2017-12-07",-0.44966547378249011,-0.44966547378249011,-0.38974347373688101,-0.34497272947560109,-0.31353386557103624,-0.29243195681071255,-0.21902684766937908,-0.24688090378081062,-0.22775840520832258,-0.20401509236602777,-0.18284141112404617]
[null,"2017-12-06",-0.43811087653451897,-0.43811087653451897,-0.38080823961756927,-0.32324099778327936,-0.28655862362957613,-0.25775769399279558,-0.19202514939427248,-0.21355106411403663,-0.19490743157749851,-0.15686824463482485,-0.13216435493361972,null,"2017-12-06",0.99561889123465486,0.99561889123465486,0.99398137706490552,0.99271580982364205,0.99161577169056392,0.99064507263729007,0.99019750837140597,0.98937112387089954,0.98864750250626365,0.98822388009119344,0.98795483230670711,null,"2017-12-06",-0.43811087653452541,-0.43811087653452541,-0.38505598596000334,-0.33080353132417528,-0.29688600713183577,-0.27043996059741282,-0.20434074949935432,-0.23001403979778789,-0.21289400941481018,-0.17401104286232094,-0.14885459181893657]
[null,"2017-12-05",-0.39004018595854478,-0.39004018595854478,-0.32387878260366254,-0.29500834002965676,-0.26269824825593635,-0.23135727621121047,-0.17232500207510121,-0.1909329932753519,-0.1734535194018931,-0.1393029558869365,-0.11456131528173188,null,"2017-12-05",0.9960995981404146,0.9960995981404146,0.99479237654797803,0.99354360957131793,0.99248094267341858,0.99160749510448121,0.99120469197819705,0.99046894024805132,0.98983229666203187,0.98946409149456793,0.98925939558009646,null,"2017-12-05",-0.39004018595854006,-0.39004018595854006,-0.32753979983023429,-0.30191129615996237,-0.2721673414587733,-0.24276436002343971,-0.18338273796153493,-0.20568416718584892,-0.18947572457750361,-0.15451621862723197,-0.1290264638574623]
[null,"2017-12-04",-0.35429653594256738,-0.35429653594256738,-0.29696097231473362,-0.26931864275148659,-0.23791211836554391,-0.20614253868586235,-0.15507757312014275,-0.16863912465052,-0.15002137546594857,-0.12119670202129541,-9.7735669396455227E-2,null,"2017-12-04",0.99645703464057434,0.99645703464057434,0.99524183908281272,0.99410271589278909,0.99315176073710243,0.9924010052595974,0.99204497271277914,0.99141850633956718,0.99090470824546406,0.99060764680565672,0.99046710550045103,null,"2017-12-04",-0.35429653594256649,-0.35429653594256649,-0.30030097835050951,-0.27562154312577025,-0.24651090106881934,-0.21635275352530625,-0.16507120356306082,-0.1818003922720024,-0.16408132102854189,-0.13459401147145611,-0.11024308719543852]
[null,"2017-12-01",-0.35104454079622704,-0.35104454079622704,-0.31005760207407723,-0.27689913881492428,-0.24662780610589652,-0.2205935380644351,-0.16126803982738072,-0.17293130450452895,-0.14635237527873779,-0.11847558016496154,-7.4197306684261027E-2,null,"2017-12-01",0.9964895545920377,0.9964895545920377,0.9951278784479165,0.99395080884889608,0.99295042819653023,0.99209514782937347,0.99172637806081065,0.99110036562731407,0.99066019227129987,0.99041558710473765,0.99052623981743027,null,"2017-12-01",-0.35104454079621927,-0.35104454079621927,-0.31345935636708511,-0.28328763674531077,-0.25541122963946838,-0.23133986411528751,-0.17153937676673836,-0.18629613969703973,-0.15998839745920979,-0.13146483542215703,-8.3720303040313304E-2]
[null,"2017-11-30",-0.45847871598046974,-0.45847871598046974,-0.41422658849872268,-0.37206035191474585,-0.32922100660147974,-0.30106003974312739,-0.2599672505177435,-0.24612305785274963,-0.2190327967750737,-0.18460622158958001,-0.15452282168926906,null,"2017-11-30",0.9954152128401953,0.9954152128401953,0.99354504511642605,0.99193509631861276,0.99059852789895753,0.98939058263030932,0.98846366956138898,0.98754170700506372,0.98678490278681885,0.98626921610809426,0.98594777214957663,null,"2017-11-30",-0.45847871598047041,-0.45847871598047041,-0.4188036320193933,-0.38073492385040097,-0.34116192459496819,-0.31601755774685047,-0.27671271044588108,-0.26562376612467853,-0.23994842447629949,-0.20543109839048501,-0.1747413234077233]
[null,"2017-11-29",-0.43769918383209311,-0.43769918383209311,-0.38327779866523604,-0.33816171390830696,-0.30847742540072964,-0.27197836778902107,-0.21672269836767324,-0.22588838400799766,-0.20101450665097878,-0.16317578002034988,-0.13455284969099665,null,"2017-11-29",0.99562300816167904,0.99562300816167904,0.99395931287279948,0.99255287123370861,0.99127460020771185,0.99022770358299461,0.98959982723451956,0.98872925135459389,0.98801682391426238,0.98759157734713743,0.98735208683687392,null,"2017-11-29",-0.43769918383209649,-0.43769918383209649,-0.38745874420613724,-0.34592906309636184,-0.31944424079597411,-0.28533923704173736,-0.23062998678253788,-0.24351291190509716,-0.21991298562176187,-0.18138561416166654,-0.15198750298347496]
[null,"2017-11-28",-0.43495903238393974,-0.43495903238393974,-0.37762788546153209,-0.33695631833981038,-0.30000501646869554,-0.2671125979973516,-0.22263849137097252,-0.21331390859556809,-0.18442970141166898,-0.14454506337225162,-0.12775428917436049,null,"2017-11-28",0.99565040967616059,0.99565040967616059,0.99402990492392418,0.99261332954417059,0.9914061158332258,0.99038440266639183,0.98967582570323653,0.98892275243608629,0.98835556297799687,0.98808428297821493,0.98787217257818738,null,"2017-11-28",-0.4349590323839414,-0.4349590323839414,-0.38168824229098952,-0.34453330824970596,-0.31045562603997379,-0.27990828161655879,-0.23646963004628763,-0.22954413722876543,-0.20137459174439654,-0.16029915252769866,-0.14380649219304376]
[null,"2017-11-27",-0.42869449447880253,-0.42869449447880253,-0.37756516450362743,-0.31474406114998582,-0.277286987608938,-0.23987833407422576,-0.18765583404340289,-0.1893747620747803,-0.16200596545389276,-0.13435572057020326,-0.11159281713059817,null,"2017-11-27",0.99571305505521202,0.99571305505521202,0.99406220212559948,0.99285648756910416,0.9918165998139411,0.99098786392291838,0.99053200797044894,0.98990316647591814,0.98944607212218516,0.9891668338729962,0.98901877134408755,null,"2017-11-27",-0.42869449447880958,-0.42869449447880958,-0.38161152624364147,-0.32186394380717687,-0.28698367868222885,-0.25131878793608342,-0.19938841495866777,-0.20374044168326444,-0.1769079380148586,-0.14891609117431148,-0.12561171505701685]
[null,"2017-11-24",-0.41692888609190221,-0.41692888609190221,-0.3718684159941763,-0.31766814428236045,-0.27980020476621947,-0.24928103462558129,-0.19589360903549496,-0.19585874328446376,"","","",null,"2017-11-24",0.99583071113908095,0.99583071113908095,0.99417839582456713,0.99290525989889533,0.99182823684097321,0.99090293119141026,0.99037776198249738,0.98970373369998177,"","","",null,"2017-11-24",-0.41692888609188294,-0.41692888609188294,-0.3758636992572284,-0.32489541729581184,-0.28962506991779824,-0.26127360980316983,-0.20823437975029391,-0.21091815298125427,"",-0.15957006689384379,-0.13231430882444384]
[null,"2017-11-23",-0.40879414772282113,-0.40879414772282113,-0.35005857170360305,-0.31795120119154008,-0.26033268498491058,-0.22511449203999942,-0.1858408086132079,-0.18148674361536399,-0.12728371050621945,-0.11721616849876967,-9.7509048435073978E-2,null,"2017-11-23",0.99591205852277176,0.99591205852277176,0.99443736857092924,0.99307745583607521,0.99215319951788294,0.99140668478708982,0.99090313266892105,0.99030253569960647,0.99014418919191849,0.98996505152421754,0.98988554409206986,null,"2017-11-23",-0.40879414772281297,-0.40879414772281297,-0.35380768180596212,-0.32505451561881671,-0.26941450448169091,-0.23590946742573227,-0.19742429791814731,-0.19537453945331906,-0.13911645311529552,-0.12993731259629548,-0.1097991677535215]
[null,"2017-11-22",-0.39784183994959865,-0.39784183994959865,-0.34135126907818408,-0.28973606891048231,-0.25669126489054633,-0.21517218298025154,-0.17200168839481769,-0.1569757783590591,-0.12577895873109987,-0.11083608762980184,-8.6858269309876501E-2,null,"2017-11-22",0.99602158160050402,0.99602158160050402,0.99457967012197379,0.99345463161439285,0.99247544083734485,0.99176623034952993,0.99134396576359007,0.9909285183706682,0.99071364852527322,0.99054068645673277,0.99051605865704662,null,"2017-11-22",-0.39784183994959754,-0.39784183994959754,-0.34499491843280605,-0.29624536658056089,-0.26560817028874473,-0.22549481889181378,-0.18271401224669859,-0.16901780143324663,-0.1374147563842909,-0.12286281254887399,-9.7782642180044288E-2]
[null,"2017-11-21",-0.4116450148693187,-0.4116450148693187,-0.36840810359696824,-0.33200852045128865,-0.29048595302046248,-0.25200257096993617,-0.19099620469140471,-0.1867519818329017,-0.1604020872258452,-0.12700233613597955,-0.10109385738334355,null,"2017-11-21",0.99588354985130678,0.99588354985130678,0.99423928631525293,0.99280276795588607,0.99164318171731747,0.99072482837170561,0.9902752866804525,0.98970420524210445,0.98928405224796778,0.98909189080497917,0.98905273484833556,null,"2017-11-21",-0.41164501486931071,-0.41164501486931071,-0.37242617178602222,-0.33962451671951666,-0.30083437352954601,-0.26436165201324524,-0.20319985914444283,-0.20133271683621112,-0.17544553518745731,-0.14108681624470654,-0.11405994546161979]
[null,"2017-11-20",-0.3892355694227756,-0.3892355694227756,-0.33703426615939014,-0.29515411609672559,-0.25097508306398286,-0.21430577314557422,-0.17284701064633062,-0.15903215195471476,-0.12888050142974053,-8.8178546358835874E-2,-6.2226703351814822E-2,null,"2017-11-20",0.99610764430577226,0.99610764430577226,0.99466597250213173,0.99345812874046902,0.99253395037483227,0.99182081420682977,0.99138003482674808,0.99093761125994884,0.99068898088460267,0.99074106392565175,0.99094095654680336,null,"2017-11-20",-0.38923556942278559,-0.38923556942278559,-0.34067389726554209,-0.30187239092868134,-0.25988419774559679,-0.22479937735534472,-0.18382504272003164,-0.17148364921443227,-0.14105124421152082,-9.8069735327044327E-2,-7.0299980645782689E-2]
[null,"2017-11-17",-0.37851602287863573,-0.37851602287863573,-0.31614982936842273,-0.27299875682795327,-0.2299583117578555,-0.19435852922978905,-0.13930646377357728,-0.13932584836349149,-0.1189056322315937,-8.6748555442584294E-2,-6.1465275772090378E-2,null,"2017-11-17",0.99621483977121361,0.99621483977121361,0.99492896449813473,0.99385694103495015,0.99304654761276667,0.99243490976827131,0.99223215409987564,0.99187357024787026,0.99161809526753941,0.99159273391093428,0.99172585248591283,null,"2017-11-17",-0.37851602287863884,-0.37851602287863884,-0.31951853066011227,-0.27910888395318301,-0.23799865962671474,-0.20375901001382646,-0.14810929022142094,-0.15010170173477277,-0.12996755978691432,-9.630721088055294E-2,-6.9321858694504357E-2]
[null,"2017-11-16",-0.35815630634162288,-0.35815630634162288,-0.30023094714435689,-0.25395789131751306,-0.21300199028337019,-0.17906023230361026,-0.12317822621693572,-0.12556859433560782,-0.107973772001979,-8.5812268041964304E-2,-6.068543868026665E-2,null,"2017-11-16",0.99641843693658372,0.99641843693658372,0.99519071374910217,0.99422289323196,0.99349260030661146,0.99294798850332255,0.99282434849010359,0.99252311926790893,0.99230090158087259,0.99221537563060991,0.99229972173008296,null,"2017-11-16",-0.3581563063416171,-0.3581563063416171,-0.30343127060732389,-0.25969502221833141,-0.22050959212098764,-0.18773815943863292,-0.1310759993685684,-0.13541037190805127,-0.11816806500961619,-9.5378446082050594E-2,-6.8557912208844218E-2]
[null,"2017-11-15",-0.35341585709807821,-0.35341585709807821,-0.30403073711951806,-0.25488812125372717,-0.21237262916984387,-0.17866613703336454,-0.12952317022710697,-0.12631688431051771,-0.10190508703453457,-7.6906300269854205E-2,-6.1294451394386502E-2,null,"2017-11-15",0.99646584142901917,0.99646584142901917,0.99517710833004125,0.99420518762784793,0.99348648265601069,0.99294806002136771,0.99276316214184246,0.99246429220132071,0.99231112646400021,0.99231522925057303,0.99238697617437177,null,"2017-11-15",-0.35341585709808276,-0.35341585709808276,-0.30719387108353313,-0.26052353422261199,-0.21969819246583366,-0.18716120046173845,-0.13757667242944027,-0.13597898020714094,-0.11129120204820264,-8.5268838699781302E-2,-6.9008955301697039E-2]
[null,"2017-11-14",-0.34875500746209198,-0.34875500746209198,-0.29775866184166155,-0.25149511280901926,-0.20420091514657523,-0.17427726975722987,-0.13093831248681748,-0.12505676331482179,-0.1026425685305918,-7.9396938414991514E-2,-5.589823684088413E-2,null,"2017-11-14",0.99651244992537913,0.99651244992537913,0.99526303122667092,0.99429649787896301,0.9936363424972704,0.99311179233016711,0.99288566151670854,0.99258135299862371,0.99240604773699359,0.99237418968597513,0.99249263024954137,null,"2017-11-14",-0.3487550074620982,-0.3487550074620982,-0.30090043137108724,-0.25712115422394932,-0.21137539981950226,-0.18274192218949992,-0.13925276852969626,-0.13486221668056464,-0.11227351795789486,-8.8215051236961717E-2,-6.3104037518035838E-2]
[null,"2017-11-13",-0.35341239299460248,-0.35341239299460248,-0.30412429410783065,-0.26130997151480378,-0.22560957403889265,-0.19698140552125393,-0.14692028750582733,-0.15306204753013419,-0.13266707066690711,-0.10085916093205924,-7.62862415060057E-2,null,"2017-11-13",0.99646587607005399,0.99646587607005399,0.99517582868046051,0.99413947470445529,0.99330349310224242,0.99261581180355241,0.99230743807501076,0.99180088415294676,0.99141449551643213,0.99126655847500267,0.99127842228094443,null,"2017-11-13",-0.35341239299458982,-0.35341239299458982,-0.30735208777961098,-0.2672125122926694,-0.23357843850079218,-0.20661659486765904,-0.15637328187343424,-0.16506779310048181,-0.14534177362767187,-0.11229484304678961,-8.6331636478265139E-2]
[null,"2017-11-10",-0.33709194133418696,-0.33709194133418696,-0.28418697723289049,-0.23920109651640681,-0.20272898428700198,-0.17920236391171973,-0.13265820069224477,-0.13786721173759403,-0.12035739871009661,-9.2477344736514727E-2,-6.0816740678397312E-2,null,"2017-11-10",0.99662908058665811,0.99662908058665811,0.99545763474897875,0.99455048201792728,0.99384371617709744,0.99323038199260871,0.9929681935422825,0.99252518621049357,0.99217913574375849,0.99203872107028035,0.99213650428850131,null,"2017-11-10",-0.33709194133417775,-0.33709194133417775,-0.2871572894477481,-0.24451263748849206,-0.20981411373581782,-0.1878992458037243,-0.14111615891134743,-0.14867782310687971,-0.13174649474088085,-0.10287725752239352,-6.8797998744918321E-2]
[null,"2017-11-09",-0.33115193566190265,-0.33115193566190265,-0.27547753639699735,-0.22795731841249797,-0.1930588611902411,-0.16586727477602772,-0.11538132186937776,-0.12137777526782507,-0.10326489312217735,-2.1286386394452475E-2,-5.5309310068990342E-2,null,"2017-11-09",0.996688480643381,0.996688480643381,0.99557484804943563,0.99474206019031874,0.99408616565869845,0.99356054406221639,0.99341999744948561,0.9930828516116873,0.99284489118964625,0.99334747258813749,0.99338659624041892,null,"2017-11-09",-0.33115193566191081,-0.33115193566191081,-0.2783183945026968,-0.23295308868073183,-0.19968269175189013,-0.1737478732808051,-0.12258590250545653,-0.13066279066680231,-0.11279944782380813,-2.3676119653148753E-2,-6.230480586744136E-2]
[null,"2017-11-08",-0.34480320527927172,-0.34480320527927172,-0.2988465217522247,-0.2551341971653498,-0.211937501293675,-0.1816629071870012,-0.14532050403188254,-0.1286671985018597,-0.10957340507462322,-3.7770747441626402E-2,-6.2589345692659143E-2,null,"2017-11-08",0.99655196794720724,0.99655196794720724,0.99527247651987472,0.99426726952927713,0.99353805071367296,0.99296043726909278,0.99261640389869821,0.99231369358271726,0.99210140013880299,0.99251484249874955,0.99255599863291977,null,"2017-11-08",-0.34480320527928709,-0.34480320527928709,-0.30193275937085984,-0.26071527176680931,-0.21921692051283248,-0.19021079729415469,-0.15431130971856888,-0.1385044382071321,-0.11966687090683159,-4.1969464083591035E-2,-7.0456290290632495E-2]
[null,"2017-11-07",-0.34436878766533757,-0.34436878766533757,-0.30065187340533017,-0.26332834693575025,-0.22579953973595607,-0.19183385524207458,-0.13314460087681698,-0.13783829885981599,-0.11226902607223563,-2.7819813078398439E-2,-5.5839802717693926E-2,null,"2017-11-07",0.99655631212334661,0.99655631212334661,0.99525672015443323,0.99417511238766509,0.99333049276376106,0.99269129115964194,0.99251109440152918,0.99213226886411765,0.99191462721575496,0.99244599981456949,0.99256078639216794,null,"2017-11-07",-0.34436878766532786,-0.34436878766532786,-0.30374062187306095,-0.26904387731392365,-0.23346088380987728,-0.20085217237043596,-0.14137688507768198,-0.14818788406268935,-0.12252066682758578,-3.0909633015607785E-2,-6.2836849961345198E-2]
[null,"2017-11-06",-0.3137594458438242,-0.3137594458438242,-0.26723401092325438,-0.23039906557801051,-0.18897794281679195,-0.15553357543065288,-0.1128148693323163,-0.11294023631375372,-8.7471675393045692E-2,-1.8923667852931394E-2,-4.2994447406886946E-2,null,"2017-11-06",0.9968624055415618,0.9968624055415618,0.99574509429005198,0.99483261931151423,0.99419594315926618,0.99375294760387944,0.99360867540712905,0.99333152455572715,0.99322312401147739,0.99371272213380235,0.99384299305109469,null,"2017-11-06",-0.31375944584383086,-0.31375944584383086,-0.26996453018236499,-0.23538781244530904,-0.19539245653926729,-0.1628405611834749,-0.11974285762035297,-0.12143828478110574,-9.5465568043584526E-2,-2.1008409543410433E-2,-4.8357613954941314E-2]
[null,"2017-11-03",-0.28995612660607556,-0.28995612660607556,-0.23875512520016051,-0.19847703556712964,-0.16082527863570539,-0.130472369338859,-8.3797557596471853E-2,-8.9059150073021856E-2,-7.1590190701835948E-2,-1.3334137635217808E-2,-3.187099109072114E-2,null,"2017-11-03",0.99710043873393928,0.99710043873393928,0.99614968865001219,0.99542352837917936,0.99492442096451805,0.99459126188109737,0.99460404265192159,0.99443170172094464,0.99435501890657052,0.99478682957003006,0.99493197019847068,null,"2017-11-03",-0.2899561266060724,-0.2899561266060724,-0.24120283386609431,-0.20280315774400259,-0.16631069968230383,-0.13669409758030326,-8.8989134361927569E-2,-9.5856536772875867E-2,-7.8167139112339523E-2,-1.4807332664190653E-2,-3.58773602640583E-2]
[null,"2017-11-02",-0.31126551643375155,-0.31126551643375155,-0.25611631940770302,-0.21157672016755358,-0.18511013073833235,-0.15327779110163131,-0.10560694386741191,-0.11164846605661882,-8.7325527558852631E-2,-2.7341247100205739E-2,-5.098218054445415E-2,null,"2017-11-02",0.99688734483566244,0.99688734483566244,0.99586868279789731,0.99510348565326379,0.99443950152471949,0.99397180873876323,0.99386393126850681,0.99356450655310025,0.99342955265784505,0.99381358672100906,0.99385416247783487,null,"2017-11-02",-0.31126551643375633,-0.31126551643375633,-0.25874680356628987,-0.21620081997308915,-0.19143039427294006,-0.16055847257845368,-0.11221482017066409,-0.12021452820051293,-9.5466318161685493E-2,-3.0397531342885031E-2,-5.7451762904514592E-2]
[null,"2017-11-01",-0.31270890011659758,-0.31270890011659758,-0.26829898004856162,-0.22897280947511223,-0.18762289002428856,-0.15954986908448318,-0.10629612387989752,-0.11724329720043639,-0.10040378128321041,-3.4962770542993973E-2,-4.9569946510842372E-2,null,"2017-11-01",0.99687291099883402,0.99687291099883402,0.99573962227047386,0.99484278481025779,0.9942163875837513,0.99372830449724447,0.99365115260359371,0.99332355323150179,0.99308540623097563,0.99342692450699144,0.99351479240408835,null,"2017-11-01",-0.31270890011658725,-0.31270890011658725,-0.2710630618872778,-0.23399704785064257,-0.19411285303406745,-0.16721197424462986,-0.11302780130034717,-0.12634541314070491,-0.10982660325742355,-3.8925691332658552E-2,-5.597443816248715E-2]
[null,"2017-10-31",-0.31269397889509359,-0.31269397889509359,-0.27496820335015143,-0.24257371559116589,-0.20466143499506345,-0.18135171718497428,-0.1293711659806342,-0.13247234656895548,-0.11256328318793137,-7.7413602287929872E-2,-5.0522458207070575E-2,null,"2017-10-31",0.99687306021104904,0.99687306021104904,0.99567319896006656,0.99466240270629902,0.99390980079607216,0.99326303646535641,0.99302902094240852,0.9926322957346948,0.99235226760753392,0.99234498508880598,0.99251883900849069,null,"2017-10-31",-0.31269397889509554,-0.31269397889509554,-0.27777561645305759,-0.24787233089194061,-0.2117204726965527,-0.19004436738813135,-0.13755055649290471,-0.14276885425781316,-0.12312393982061298,-8.6077557397234994E-2,-5.7098692164481157E-2]
[null,"2017-10-30",-0.28987765915999786,-0.28987765915999786,-0.25858525535044041,-0.22194613175796468,-0.17619428772220183,-0.15972577013627909,-0.11030004610525976,-0.11615241842895961,-9.9420141438618978E-2,-7.4682299613475098E-2,-4.9703455235954777E-2,null,"2017-10-30",0.99710122340840002,0.99710122340840002,0.9959521701826084,0.99505637928769364,0.99449251006441775,0.99395030255196026,0.99379877194848532,0.99346255590930777,0.99321843136146581,0.99315203565671795,0.99326284079108573,null,"2017-10-30",-0.2898776591599872,-0.2898776591599872,-0.26119203759553677,-0.22675342511255803,-0.18225561927612821,-0.16731653858462758,-0.11722918338048505,-0.1251474407406139,-0.10872736052464083,-8.2978330388527866E-2,-5.6137863238081565E-2]
[null,"2017-10-27",-0.286617738913163,-0.286617738913163,-0.2553673732567413,-0.21897811083629448,-0.17950231152901369,-0.15741978124300016,-0.12153009277006822,-0.13562877200451476,-0.11136749391327488,-0.1036254553800869,-7.8645106194446007E-2,null,"2017-10-27",0.99713382261086836,0.99713382261086836,0.9960005331619759,0.99511811699884478,0.99450578822504909,0.99398259692704827,0.99371340038840517,0.99319394497513891,0.9928606656885971,0.99254117158706645,0.99241725820734195,null,"2017-10-27",-0.28661773891317521,-0.28661773891317521,-0.25798424719160051,-0.2237984224904066,-0.18575271054850351,-0.16512908711961982,-0.1292426062876606,-0.14619598664514788,-0.12192754924663651,-0.11521481934815281,-8.8893161619774119E-2]
[null,"2017-10-26",-0.27741885265041971,-0.27741885265041971,-0.2501099760785912,-0.1908122097626927,-0.2002693875405481,-0.17156208892129141,-0.12340112481376503,-0.13740773567745174,-0.12656865616959326,-0.10596746605411238,-8.0291393175638284E-2,null,"2017-10-26",0.99722581147349576,0.99722581147349576,0.9960992559760008,0.99546489773389435,0.9945609031939896,0.99388591474215371,0.99361159347120742,0.99308607204095123,0.99261209232241621,0.99229211258108418,0.99217166329027384,null,"2017-10-26",-0.27741885265041288,-0.27741885265041288,-0.25271287389870833,-0.19516021269057049,-0.20730678525756607,-0.1799882306425693,-0.1314605840593952,-0.14844267500593311,-0.13883733513896379,-0.11815459330875022,-9.1054839437088031E-2]
[null,"2017-10-25",-0.25296967802439674,-0.25296967802439674,-0.22675736487864773,-0.19176606265077234,-0.15057475717867477,-0.14118689171758989,-0.10063105907002047,-0.11427979735381835,-9.959560303231009E-2,-1.3613169962940931E-2,-7.478961856623649E-2,null,"2017-10-25",0.99747030321975605,0.99747030321975605,0.99645616807867499,0.99569642906862599,0.9952323806246931,0.99473197330676155,0.99455291959899483,0.99413391971389853,0.99380965113568454,0.99428970365921432,0.99404874616069216,null,"2017-10-25",-0.25296967802439507,-0.25296967802439507,-0.22908390389597688,-0.19601803194266854,-0.15588145596715508,-0.14814067043952273,-0.10709051002616432,-0.12331733355106511,-0.10914138861490841,-1.520496524356485E-2,-8.456616657971372E-2]
[null,"2017-10-24",-0.20773175542407588,-0.20773175542407588,-0.18584546169578511,-0.15604767359182059,-0.13082208728244524,-0.1027480730237998,-6.8082729644827228E-2,-7.9058707154787244E-2,-6.968376798743478E-2,2.7493456235656226E-3,-1.8627842323904801E-2,null,"2017-10-24",0.99792268244575921,0.99792268244575921,0.99709331531701373,0.99648232562073646,0.99602562328393518,0.99575763738629619,0.9957424357027127,0.99551693123775009,0.99533299945688702,0.99582516556611012,0.99600806744141401,null,"2017-10-24",-0.20773175542406763,-0.20773175542406763,-0.18775021521361124,-0.15949158427134291,-0.13538316221709534,-0.10776653912716316,-7.2451946962315272E-2,-8.5312428906292315E-2,-7.6337772127321735E-2,3.0677804362833072E-3,-2.1085083646577019E-2]
[null,"2017-10-23",-0.21206610263302456,-0.21206610263302456,-0.18499382027720657,-0.14531056753684801,-0.11583712699101473,-8.8164335285517495E-2,-6.711860741762038E-2,-6.1193524932274534E-2,-4.9781348262214316E-2,-1.6616862865302277E-2,-1.6770167257801692E-2,null,"2017-10-23",0.99787933897366976,0.99787933897366976,0.99708012806014701,0.99658097322593375,0.99625051061184855,0.99608597437165169,0.99603005067714812,0.99594556630923292,0.99591228594133052,0.99615518744218146,0.99632868039674605,null,"2017-10-23",-0.21206610263302395,-0.21206610263302395,-0.18685917097953642,-0.14847684815540996,-0.11980871952064209,-9.236625060760062E-2,-7.1290057790152073E-2,-6.5927899683981828E-2,-5.4414820458437152E-2,-1.8463328122242384E-2,-1.891385221977071E-2]
[null,"2017-10-20",-0.21461946622317604,-0.21461946622317604,-0.18753671996269214,-0.15821615920883403,-0.1332863787272269,-0.10229536008768872,-8.7651257328141302E-2,-8.2123794549650381E-2,-6.6447250823076356E-2,-4.9683082498890169E-2,-1.7047008471415336E-2,null,"2017-10-20",0.99785380533776824,0.99785380533776824,0.99704166933290894,0.99642600643642465,0.9959586184128677,0.99570845325923019,0.99550662329941275,0.99528276086440715,0.99515861634144431,0.99514696662254998,0.99540638457724229,null,"2017-10-20",-0.21461946622317596,-0.21461946622317596,-0.18945641489206411,-0.16168786143350156,-0.13788689390681341,-0.107222639089255,-9.3139176841805504E-2,-8.8480794473499991E-2,-7.2697971350021984E-2,-5.5206536606733358E-2,-1.9261162207218074E-2]
[null,"2017-10-19",-0.16900280336403431,-0.16900280336403431,-0.13442972184106336,-0.10271130651039104,-7.1371511473432056E-2,-3.778020476243301E-2,-7.5487923280364803E-3,-2.4499522419363852E-2,-6.056291418563029E-3,5.1406688642353926E-3,2.0908236392138142E-2,null,"2017-10-19",0.99830997196635962,0.99830997196635962,0.9978028846448932,0.99749359892491885,0.99738678248656865,0.99750862281467867,0.99782447490631543,0.99786880232677211,0.99805239974581794,0.99829911802869997,0.99865921981184014,null,"2017-10-19",-0.16900280336402673,-0.16900280336402673,-0.13577499362773526,-0.10490242427391161,-7.3770016202334698E-2,-3.955069608814199E-2,-8.011215851955189E-3,-2.6338096767097863E-2,-6.6094582861775386E-3,5.694426525315599E-3,2.3523341641062956E-2]
[null,"2017-10-18",-0.16764257640169578,-0.16764257640169578,-0.13706014605114034,-8.9817856039632632E-2,-7.9993478227255208E-2,-5.1286081694128606E-2,-2.2674920744267992E-2,-2.1892816334603948E-2,-7.5291115826976477E-3,5.6786889955374675E-2,2.4191120231057552E-2,null,"2017-10-18",0.99832357423598306,0.99832357423598306,0.99778327916749165,0.99760877220212818,0.99738765308322175,0.99737413209441428,0.99755977286953357,0.99766494693543861,0.99785694944102032,0.99863850829782086,0.99900118809717564,null,"2017-10-18",-0.16764257640169422,-0.16764257640169422,-0.13846114178961422,-9.1793011628538146E-2,-8.2720695926508103E-2,-5.3719351178171948E-2,-2.4078016833284366E-2,-2.3564532765874002E-2,-8.2240721503645808E-3,6.3118572381015703E-2,2.7238586485345273E-2]
[null,"2017-10-17",-0.16291327264015162,-0.16291327264015162,-0.12854552361559421,-9.7032699147631102E-2,-4.9080626383316894E-2,-2.8640104282398982E-2,"","","","","",null,"2017-10-17",0.99837086727359847,0.99837086727359847,0.99789228240106043,0.99761038779706657,0.99769778076050397,0.99785172535839028,"","","","","",null,"2017-10-17",-0.16291327264015276,-0.16291327264015276,-0.12985591477351344,-9.9123937827627628E-2,-5.0749368488811619E-2,-2.9965245703289511E-2,"",1.4830380389518893E-3,3.9924144460190547E-3,2.2429244608268561E-2,3.9460282540115799E-2]
[null,"2017-10-16",-0.13979868988656055,-0.13979868988656055,-0.1088022806240309,-7.4349567870470118E-2,-3.0151359808332091E-2,-1.9339542072675183E-2,1.7568241355990617E-2,6.0014539569293885E-3,1.2734450492151645E-2,0.1117529849548929,5.1872810845056773E-2,null,"2017-10-16",0.99860201310113439,0.99860201310113439,0.99820636844431976,0.99804860856972211,0.99821922502430405,0.99836636046120886,0.99879866342794998,0.99901841575927042,0.99925833162952615,1.0004497075704535,1.0009284883678993,null,"2017-10-16",-0.13979868988656108,-0.13979868988656108,-0.10990222025810681,-7.5948384335078334E-2,-3.116970683459952E-2,-2.0235060799245197E-2,1.8631145172909314E-2,6.4466110439198587E-3,1.3873274541031932E-2,0.12409157197184051,5.8243021329085209E-2]
[null,"2017-10-13",-0.10266281681103606,-0.10266281681103606,-6.2368006315727309E-2,-2.226566660884224E-2,4.1747805309972335E-3,3.0368020072861296E-2,6.0481070505311506E-2,4.4374703082189555E-2,5.5562552651335299E-2,8.1154663154934026E-2,8.0718858158908058E-2,null,"2017-10-13",0.99897337183188961,0.99897337183188961,0.99885816978200714,0.99900843262347272,0.99929023733946187,0.99972964297112588,1.0003769266520375,1.0007705439061563,1.0012378654953518,1.0019254005137825,1.0025615627651909,null,"2017-10-13",-0.10266281681102774,-0.10266281681102774,-6.2981013662799512E-2,-2.2730008404225899E-2,4.3107575053324965E-3,3.1741152538766748E-2,6.4061575693985517E-2,4.7596861456988826E-2,6.0476982938784118E-2,8.968578297490204E-2,9.0503156022014863E-2]
[null,"2017-10-12",-0.10020040080159676,-0.10020040080159676,-7.2653890995767731E-2,-3.0622558642253588E-2,-5.2373242011473572E-3,1.3636069182453449E-2,2.3184226116811094E-2,3.3959142233860352E-2,4.3862046698043389E-2,6.641890753396619E-2,7.8817518565478861E-2,null,"2017-10-12",0.99899799599198402,0.99899799599198402,0.99876772682926518,0.99886385045992843,0.99908640697325835,0.99939738707634451,0.99972395197375163,1.0001002032921655,1.0005273532276675,1.0011387703029837,1.0018260721334602,null,"2017-10-12",-0.10020040080159776,-0.10020040080159776,-7.3373611821325735E-2,-3.1272303600393681E-2,-5.4112608536049933E-3,1.4264466993241243E-2,2.4567404452424668E-2,3.6490232847952164E-2,4.7815693093622436E-2,7.353085207093546E-2,8.8623682270161375E-2]
[null,"2017-10-11",-0.10756140632524956,-0.10756140632524956,-6.8171516195873652E-2,-2.9348181034217487E-2,-1.4957408262313156E-2,6.5974445253711373E-3,1.4503712318764822E-2,2.7697602778513547E-2,3.791534316960387E-2,6.0732770243108788E-2,7.4473876620113691E-2,null,"2017-10-11",0.99892438593674748,0.99892438593674748,0.99877532285468651,0.99888163213019976,0.99900270218918497,0.99925930190970236,0.99952071703252865,0.99986130068188905,1.0002563171964156,1.0008380264233316,1.0015086453429662,null,"2017-10-11",-0.10756140632526279,-0.10756140632526279,-6.8854978117594001E-2,-2.997634189900733E-2,-1.5455501164540753E-2,6.9022418496933469E-3,1.5379112883695534E-2,2.9787829644267738E-2,4.1379257706908312E-2,6.7334101312810368E-2,8.3885557034135694E-2]
[null,"2017-10-10",-0.11186576108670226,-0.11186576108670226,-7.9146110556636035E-2,-4.3049118228322837E-2,-1.6431784546900668E-2,-1.603200989205928E-3,6.2514642931076059E-3,2.1160193537416029E-2,3.1353232381059207E-2,5.1661163817020989E-2,6.7176743097131522E-2,null,"2017-10-10",0.99888134238913295,0.99888134238913295,0.99864390405746306,0.99865620673154876,0.99881699798267576,0.99902702143854727,0.99924239350576971,0.99955451108094318,0.99991897682048625,1.000443685009375,1.0010762291487223,null,"2017-10-10",-0.11186576108670465,-0.11186576108670465,-7.9936063933505608E-2,-4.3966591062361005E-2,-1.6983950779536627E-2,-1.6780427319007529E-3,6.6309422180887978E-3,2.276852958502662E-2,3.4237809289905385E-2,5.7310624348838601E-2,7.5730213614844111E-2]
[null,"2017-10-09",-0.10676440124293669,-0.10676440124293669,-7.2997280987879457E-2,-4.5163218542560307E-2,-1.8294152391564667E-2,1.4159532654261632E-3,6.3464086704808076E-3,1.9301576529440163E-2,3.0223701218669723E-2,"","",null,"2017-10-09",0.99893235598757069,0.99893235598757069,0.99873112023998256,0.99869380620848136,0.99882689738694597,0.99906522837043565,0.99927555259376055,0.99956468026759437,0.99991668616909246,"","",null,"2017-10-09",-0.10676440124294251,-0.10676440124294251,-7.372648480095112E-2,-4.6126497285481349E-2,-1.8908238411063927E-2,1.4819097074125764E-3,6.7313983776351449E-3,2.0770826333871284E-2,3.3007019284592154E-2,"",""]
[null,"2017-10-06",-0.10216298188202488,-0.10216298188202488,-7.5899775092959115E-2,-3.2961326459841365E-2,-7.9156265851695277E-3,"","","","","","",null,"2017-10-06",0.99897837018117974,0.99897837018117974,0.99872537093086988,0.99881187363565183,0.99902011321401174,"","","","","","",null,"2017-10-06",-0.10216298188202577,-0.10216298188202577,-7.665161376098073E-2,-3.3666586264369247E-2,-8.1820241615293554E-3,"",4.9213089699406964E-3,1.8347309005850576E-2,3.0845042067517703E-2,4.6295460848400083E-2,5.7874423065129577E-2]
[null,"2017-10-05",-0.13052128929565676,-0.13052128929565676,-8.3565496109111223E-2,-4.1710463535829585E-2,-2.870723488912864E-2,-1.4989387795434839E-2,-8.1342116589257565E-3,4.3340355870062275E-3,1.4212375426726166E-2,3.2819601797820501E-2,4.6814372841286235E-2,null,"2017-10-05",0.9986947871070434,0.9986947871070434,0.99850558221019259,0.99857646035983783,0.99863400537198355,0.99874530306010134,0.99886125020357808,0.99905584196583608,0.99930604669631806,0.99970368490825068,1.0001980785210207,null,"2017-10-05",-0.13052128929564866,-0.13052128929564866,-8.4396935343600266E-2,-4.2596733565847256E-2,-2.9659033889140041E-2,-1.5683390549203757E-2,-8.6236921222559992E-3,4.6608228689848374E-3,1.5510876474045254E-2,3.6388604497505916E-2,5.2719956216340513E-2]
[null,"2017-10-04",-0.10981083680667068,-0.10981083680667068,-5.8951500639931625E-2,-1.5441686770529444E-2,8.3409380325729296E-3,3.0167853685764454E-2,3.400593420815784E-2,4.7549090249185945E-2,5.2440425390555753E-2,5.8602308174569406E-2,6.4448384225363725E-2,null,"2017-10-04",0.99890189163193333,0.99890189163193333,0.99885623895467002,0.99907529008549634,0.99938248258310802,0.99980213959119058,1.0001732892548578,1.0006257826011269,1.0010786105908323,1.001556665934302,1.0020631509052709,null,"2017-10-04",-0.10981083680667858,-0.10981083680667858,-5.9531987681182841E-2,-1.5766085008006581E-2,8.6154303154728495E-3,3.1560706965994001E-2,3.6036771139924539E-2,5.1105567398868068E-2,5.7195408185983787E-2,6.4880703790470839E-2,7.2462837204434472E-2]
[null,"2017-10-03",-0.10130535757187178,-0.10130535757187178,-5.3545446135805599E-2,-2.1526634505483297E-2,2.5199886863618752E-3,1.3471919088582356E-2,1.9264664369331073E-2,2.9143832242994026E-2,3.7401607331915485E-2,6.4625414382440891E-2,7.8208001863041582E-2,null,"2017-10-03",0.99898694642428132,0.99898694642428132,0.99895323262486246,0.99907985485792128,0.99932778011423551,0.99959100319113225,0.99984795532418236,1.0001595877894698,1.0005153359943966,1.0011100643572926,1.0017939140085215,null,"2017-10-03",-0.10130535757186809,-0.10130535757186809,-5.4070836744135597E-2,-2.1974343326180978E-2,2.6026052100114327E-3,1.4090686936052421E-2,2.0410820213245806E-2,3.1317447637824181E-2,4.0784211347721921E-2,7.1611440749053124E-2,8.8030374627234842E-2]
[null,"2017-10-02",-0.10313399424368998,-0.10313399424368998,-4.9489531142701666E-2,-1.4226518632253505E-2,1.2571261267665459E-2,2.8723883477197582E-2,3.2769295106596742E-2,4.3346122119768189E-2,4.7528020527565176E-2,5.6033024316350349E-2,6.828934574262506E-2,null,"2017-10-02",0.99896866005756313,0.99896866005756313,0.99898449670752876,0.99917379855424349,0.99949937735012462,0.99988228792525646,1.0002284665583798,1.0006316272739848,1.0010346978474338,1.0014915492894323,1.0020424329634807,null,"2017-10-02",-0.10313399424368708,-0.10313399424368708,-4.9980510724156879E-2,-1.4526147936611E-2,1.2989154330278474E-2,3.0042704407229337E-2,3.4747543462265718E-2,4.662485131947669E-2,5.1872467169244985E-2,6.2099015872907337E-2,7.689201502261156E-2]
[null,"2017-09-29",-8.8999358563203429E-2,-8.8999358563203429E-2,-5.360928816187336E-2,-2.8540870522346818E-2,-9.9950039403808744E-3,1.9938125892786352E-3,7.3101784885278888E-3,1.9912254078505373E-2,2.6624701933599663E-2,5.0136482608920875E-2,5.6053424514338354E-2,null,"2017-09-29",0.99911000641436798,0.99911000641436798,0.99901470101319145,0.99905106179325331,0.99918080581985724,0.9993574421220357,0.99953155017891482,0.99979288526904952,1.0000828478737016,1.0005759239064131,1.0010854280590376,null,"2017-09-29",-8.8999358563190967E-2,-8.8999358563190967E-2,-5.4135885028938624E-2,-2.914041298418546E-2,-1.0324722685728371E-2,2.0845827485294066E-3,7.7491934847628841E-3,2.1405657075690421E-2,2.9035581421044121E-2,5.5556657514044261E-2,6.3082332524344586E-2]
[null,"2017-09-28",-6.1956871580295621E-2,-6.1956871580295621E-2,-1.7934690324350504E-2,3.6776009551858016E-2,5.7614817679629511E-2,6.7410076581911088E-2,6.5985964950500936E-2,7.2530535317764419E-2,7.6378176629799566E-2,7.243890784599856E-2,8.6248433295473742E-2,null,"2017-09-28",0.99938043128419707,0.99938043128419707,0.99950796685983689,1.000036358992618,1.0006037117699789,1.0011624708989413,1.0016397037930991,1.0021474256684773,1.0026656174916819,1.0031231274053642,1.0037089451017658,null,"2017-09-28",-6.1956871580293171E-2,-6.1956871580293171E-2,-1.8105919778232948E-2,3.7535528217969016E-2,5.9489860782857562E-2,7.046708062976581E-2,6.9881020801121352E-2,7.7901752784015343E-2,8.3237946122194373E-2,8.0134603453307918E-2,9.6936849396556113E-2]
[null,"2017-09-27",-6.4117977077827307E-2,-6.4117977077827307E-2,"","","","","","","","","",null,"2017-09-27",0.99935882022922173,0.99935882022922173,"","","","","","","","","",null,"2017-09-27",-6.4117977077837729E-2,-6.4117977077837729E-2,"",4.6463941059537994E-2,6.105650568428711E-2,6.7553135618880766E-2,7.000640060097485E-2,8.1949411549664397E-2,8.5302313743373936E-2,0.10392782394148536,0.11858455503384047]
[null,"2017-09-26",-1.4009231516748556E-2,-1.4009231516748556E-2,5.0113125863016715E-2,8.6951160108471912E-2,0.11651091726800426,0.11811245590448322,0.12202318671603125,0.12782843210750294,0.13001005004914171,0.14224096043004669,0.14842928030398961,null,"2017-09-26",0.99985990768483246,0.99985990768483246,1.0004303955096572,1.0011594385912412,1.0020441792770394,1.0028345331891957,1.0036093785117457,1.0044084705376242,1.0052037369815039,1.0061050212175333,1.0070478867866972,null,"2017-09-26",-1.4009231516742826E-2,-1.4009231516742826E-2,5.0598584453553919E-2,8.8727362424001477E-2,0.12023806580896412,0.1232684817094043,0.1290133556540507,0.1369830677075301,0.14121439763019605,0.15683011106031319,0.16611847107648181]
[null,"2017-09-25",-1.7945194406290291E-2,-1.7945194406290291E-2,5.6028519830725126E-2,9.7351672185330612E-2,0.1260910907759982,0.12991719079452757,0.13034682201958583,0.13491224205832275,0.13451951267236101,0.12944368336082132,0.13320381303585355,null,"2017-09-25",0.99982054805593712,0.99982054805593712,1.0004696784785474,1.0012899021321486,1.0022388621315459,1.0031101729595531,1.0039248285320572,1.0047526189784945,1.005553490114665,1.0062907170976769,1.0070636263945014,null,"2017-09-25",-1.7945194406288056E-2,-1.7945194406288056E-2,5.6567946663133029E-2,9.932738515618933E-2,0.13009108647714651,0.1355949210013474,0.13775124015380502,0.14446975013000518,0.14606620989738861,0.1425306892022693,0.14886541342244985]
[null,"2017-09-22",-6.4835075775980808E-3,-6.4835075775980808E-3,5.9180158430942278E-2,9.5078885442138203E-2,0.1087862035068259,0.11187628608166214,0.11460436429544725,0.12197568961477509,0.1267275755047515,0.11826245009941658,0.12457252967199865,null,"2017-09-22",0.99993516492422407,0.99993516492422407,1.0005590642215807,1.0013274102246015,1.0020942272228317,1.002812857466876,1.0035169376777608,1.0042699225009331,1.0050487679888556,1.0057253920724685,1.0064630052043786,null,"2017-09-22",-6.4835075776037421E-3,-6.4835075776037421E-3,5.9751983983047374E-2,9.7023374792470918E-2,0.11225916124968371,0.11683502798918166,0.12119794954272844,0.13077683128415174,0.13781706018853868,0.13042839345234203,0.13948909980578961]
[null,"2017-09-21",-1.6224547740732786E-2,-1.6224547740732786E-2,4.0564682881311181E-2,6.7517052800784294E-2,8.1428248772746348E-2,7.9388652210855143E-2,8.3116839210902668E-2,9.2319166579608036E-2,9.60500382077948E-2,0.10723765812397734,0.11845755925183771,null,"2017-09-21",0.99983775452259271,0.99983775452259271,1.0003237274561212,1.0008932380765048,1.0014914718819896,1.0020002822217811,1.0025171175290652,1.0031062536871609,1.0037114080049081,1.004412385697633,1.0052062346808981,null,"2017-09-21",-1.6224547740728568E-2,-1.6224547740728568E-2,4.0958595012829946E-2,6.8906835472359873E-2,8.4058793785435348E-2,8.2932015923309343E-2,8.7959726226727319E-2,9.9080360562475711E-2,0.10456902789464095,0.11850684216967444,0.13297288761029424]
[null,"2017-09-20",-1.7284752089601771E-2,-1.7284752089601771E-2,4.5399926145020857E-2,7.1523210025475653E-2,8.0796401420422298E-2,8.3068962024744897E-2,7.9555318740980693E-2,9.0398509633612151E-2,9.1594699081674988E-2,9.587828444233705E-2,0.10890024787417714,null,"2017-09-20",0.99982715247910403,0.99982715247910403,1.0003667285924913,1.0009622468273753,1.0015373882521985,1.002074191589974,1.0025436092734312,1.0031098670777132,1.003669812672936,1.0042608335669305,1.004971915102997,null,"2017-09-20",-1.7284752089585798E-2,-1.7284752089585798E-2,4.583871908554471E-2,7.2980888700624469E-2,8.3377770864689893E-2,8.6759978325989806E-2,8.4150179378950085E-2,9.6980345642760923E-2,9.9667857041452201E-2,0.10585595463024067,0.12210541686232812]
[null,"2017-09-19",-1.3423364790110474E-2,-1.3423364790110474E-2,5.0963731075055717E-2,9.534932030037023E-2,0.11108144220575297,0.10803285153154485,0.10706832510561343,0.11209964363360772,0.11418962827387208,0.1072836837599862,0.11687095011422172,null,"2017-09-19",0.99986576635209889,0.99986576635209889,1.0004418780946867,1.0012511105505049,1.0020591989899847,1.0027457921103939,1.0033847319136624,1.0040561939258763,1.0047337059916495,1.0053318291388231,1.0060272864347566,null,"2017-09-19",-1.3423364790110526E-2,-1.3423364790110526E-2,5.1442999784256926E-2,9.7258668960775729E-2,0.11457271490877829,0.11274580628031217,0.11316779052898962,0.12014393875787732,0.12413392098866716,0.11830543774455915,0.13089727365815929]
[null,"2017-09-18",1.0576844845821755E-2,1.0576844845821755E-2,7.4051031611862939E-2,0.10492272304929121,0.11528291268899819,0.11512100475777751,-3.8619817036686182E-3,-3.2651027791082716E-3,-9.3848862360194885E-4,0.14143158325193617,0.14354701271364539,null,"2017-09-18",1.0001057684484582,1.0001057684484582,1.000793903170945,1.0015839350473079,1.0023534431601784,1.0030546518914614,1.0025327085863649,1.0021612539375848,1.0019025691947738,1.0031270828038652,1.0042861388123649,null,"2017-09-18",1.0576844845822109E-2,1.0576844845822109E-2,7.4742225024460041E-2,0.10700990216996331,0.11887905345391303,0.12012436640045365,-4.0684310292249393E-3,-3.4872367305927021E-3,-1.017040514361689E-3,0.15653890219060607,0.16122056265170936]
[null,"2017-09-15",5.3287424167904732E-2,5.3287424167904732E-2,0.13311422011043494,0.15026593319456821,0.15975848540484724,0.15819745936492094,0.15002278045514356,0.15120650752462286,0.14962731125432074,0.15036751897986173,0.15709907059457381,null,"2017-09-15",1.000532874241679,1.000532874241679,1.0016002230187839,1.0025805103211873,1.0035537962040291,1.0044564509096157,1.0052560595930298,1.0060696833458775,1.0068707505287346,1.0076855919501204,1.0085744215954011,null,"2017-09-15",5.3287424167902664E-2,5.3287424167902664E-2,0.13435800983419011,0.1532056152460548,0.16468129338056414,0.16497371227925939,0.15841376624226022,0.1617687287681413,0.16236947513559308,0.16554795858765292,0.17560208684035405]
[null,"2017-09-14",5.8446362515425523E-2,5.8446362515425523E-2,0.1322834527115988,0.15353984873169652,0.16691204419704195,0.15956695579110816,0.15516898270764851,0.15332424707165301,0.14885066902262134,0.14883808759384079,0.15403393101979965,null,"2017-09-14",1.0005844636251542,1.0005844636251542,1.001617902660338,1.0026249902343374,1.0036588301825871,1.0045547684682901,1.0053899815723149,1.006206664039567,1.006983627137398,1.0077712785928354,1.0086211485438148,null,"2017-09-14",5.8446362515418571E-2,5.8446362515418571E-2,0.13349084343148299,0.15648878401490762,0.17197673077662401,0.16631801970417026,0.1637343942481051,0.16394978871481225,0.16138510154848351,0.1637405520439561,0.17202836779135477]
[null,"2017-09-13",6.243838317449537E-2,6.243838317449537E-2,0.14563672503584058,0.16634702481725444,0.18727149710308877,0.18874315813496118,0.17742362550315396,0.16942217649483882,0.16340169851054609,0.16608144923376636,0.16889357529982868,null,"2017-09-13",1.000624383831745,1.000624383831745,1.001771578146273,1.0028564921221828,1.0040379879554349,1.0051536391942135,1.0061175513787148,1.0069989087339759,1.0078308336491824,1.0087064115303801,1.0096223651086493,null,"2017-09-13",6.2438383174479029E-2,6.2438383174479029E-2,0.14695085076670278,0.16950111720892558,0.1929178542618093,0.19672691090075745,0.1871900517120606,0.18116348813310701,0.1771247085802452,0.18268821314328942,0.18862256824139223]
[null,"2017-09-12",6.7700640078780086E-2,6.7700640078780086E-2,0.13818853317813701,0.16887462311278306,0.18299363836026988,0.18367323315109915,0.17460034541194583,0.17016906037654997,0.16561810392442392,0.16446142014934576,0.16882477052157599,null,"2017-09-12",1.0006770064007877,1.0006770064007877,1.0017235813211811,1.0028493166612957,1.0039893655811294,1.0050629213593454,1.0060121588702848,1.006914151294019,1.0077772494270132,1.0086409721194989,1.0095609803991732,null,"2017-09-12",6.7700640078793839E-2,6.7700640078793839E-2,0.13940717744762576,0.17203277953445895,0.18841316984485879,0.19129039211605026,0.18406258982843759,0.18176822173672225,0.17935383129878968,0.18068254168401854,0.18828666705332786]
[null,"2017-09-11",8.2906688687031646E-2,8.2906688687031646E-2,0.16603625514189402,0.18507800698068169,0.20020483424165583,0.19750077023143381,0.18896092273621329,0.18541216015650988,0.18053995506465301,0.18160856343530152,0.18383863281184867,null,"2017-09-11",1.0008290668868702,1.0008290668868702,1.0020788373196625,1.0032504210348048,1.0044651983927699,1.0055854987501387,1.0065954527481151,1.0075717413810736,1.0085079158129089,1.0094692144868289,1.0104648593334491,null,"2017-09-11",8.2906688687045538E-2,8.2906688687045538E-2,0.16748979364857863,0.18846923314301822,0.20600992276156305,0.20551194059792444,0.19898001834912638,0.19783109025475198,0.19524397218968481,0.19924870729761679,0.20466946573733935]
[null,"2017-09-08",0.10050168599391687,0.10050168599391687,0.18332931434531358,0.2124865206102956,0.23574985711679394,0.23386949152909803,0.23330238459560443,0.22874633209312586,0.22684553860701889,0.22144665318060849,0.23052494449103286,null,"2017-09-08",1.0010050168599391,1.0010050168599391,1.0023404690653257,1.0037003891579759,1.0051612604416156,1.0065112952681883,1.0078184515458111,1.0090644556875703,1.0102916067515495,1.0114705400206776,1.012754137661672,null,"2017-09-08",0.10050168599391451,0.10050168599391451,0.18487721458688711,0.21624394913171141,0.24235301436663637,0.24299743664344398,0.24529024190440563,0.24353441643205631,0.24472713189038764,0.24217833483441975,0.25585466559396863]
[null,"2017-09-07",5.9430458109784555E-2,5.9430458109784555E-2,0.12925050278294287,0.15927017069430985,0.19512114102532202,0.19920890457735388,0.19971048637272731,0.20304736292393682,0.19925650966237696,0.20233402658585831,0.20768013910401348,null,"2017-09-07",1.0005943045810979,1.0005943045810979,1.0015923147924597,1.0026642599003959,1.0039695200977579,1.0052006796093169,1.0063775103185342,1.007557677305964,1.0086808510659273,1.0098299444857453,1.0110298594543212,null,"2017-09-07",5.9430458109788198E-2,5.9430458109788198E-2,0.13033190660041161,0.16207038576101507,0.20059249561723558,0.20698290497402905,0.20992831832145065,0.21615122606573056,0.21489551014737263,0.22126264245336813,0.23040689780542412]
[null,"2017-09-06",-1.2268935056461243E-3,-1.2268935056461243E-3,7.3769751519623755E-2,0.14780365515116553,0.13649820755236569,0.1435846526122764,0.17135556059619378,0.14376286876327909,0.18592811182411143,0.15395434946740713,"",null,"2017-09-06",0.99998773106494354,0.99998773106494354,1.0007315085047155,1.0019705087803128,1.0028575201545469,1.0037454388412999,1.0048690193744421,1.005657330402917,1.0068680991285681,1.0077163350689773,"",null,"2017-09-06",-1.226893505634763E-3,-1.226893505634763E-3,7.440385967072416E-2,0.15054482850931361,0.14038788050807494,0.14931622756431118,0.18049120633130133,0.15329753862767248,0.20131988642402288,0.16880318942407158,""]
[null,"2017-09-05",-0.10829157911750739,-0.10829157911750739,-2.7251438506458808E-2,4.5492306783656823E-2,7.1644804808540435E-2,9.358357510326841E-2,0.10721441670549881,0.11844511227150772,0.12246766141832799,0.13339567809634442,0.14830099202823291,null,"2017-09-05",0.99891708420882497,0.99891708420882497,0.99918158346491703,0.99990435799349064,1.0006440361175308,1.001456190963393,1.0022983486302526,1.0031758702521922,1.0040348355504425,1.0049616986045982,1.0060016381410797,null,"2017-09-05",-0.1082915791175143,-0.1082915791175143,-2.7480743792185347E-2,4.6312258903880021E-2,7.366190168132114E-2,9.727299631983044E-2,0.11282175796911709,0.12622676280764633,0.13232555907798371,0.14604690275623611,0.16484579900992724]
[null,"2017-09-04",-0.11452963917526771,-0.11452963917526771,-5.2722800565128167E-2,-5.2735308229900852E-3,2.8837740144759719E-2,5.3576004220039372E-2,7.3102809884880299E-2,8.5122737410191121E-2,8.9642846951032071E-2,0.10365309278404075,0.11982564371343668,null,"2017-09-04",0.99885470360824735,0.99885470360824735,0.99889544395413854,0.99920431908065821,0.99968584432017427,1.0002818280667103,1.0009684464969513,1.0016904395884672,1.0023929022118223,1.0031892177127317,1.00410318564108,null,"2017-09-04",-0.11452963917526482,-0.11452963917526482,-5.317135245845872E-2,-5.3697041396238987E-3,2.9686359370173498E-2,5.5833236730151725E-2,7.7170551996674774E-2,9.0878514098857721E-2,9.7324084707040015E-2,0.11420342825949614,0.13361704720831202]
[null,"2017-09-01",-0.14071324834597301,-0.14071324834597301,-6.0406510355334272E-2,-1.9675164925547325E-2,1.373109148659481E-2,3.9682206817036041E-2,4.9224596858929784E-2,6.1362051859986874E-2,6.6241377661041531E-2,8.13675091361592E-2,0.10117413253439028,null,"2017-09-01",0.99859286751654031,0.99859286751654031,0.99868647760543527,0.99891966915381425,0.99931925411170597,0.99984665547324847,1.0003630943327577,1.0009283115273695,1.0014839979952499,1.0021484343712055,1.0029691094551745,null,"2017-09-01",-0.14071324834596943,-0.14071324834596943,-6.093513799031447E-2,-2.0040592823566961E-2,1.4136908341133569E-2,4.1340663659639176E-2,5.1933494306721784E-2,6.5628271132367466E-2,7.1839842369492146E-2,8.9578486888131081E-2,0.1131864783036951]
[null,"2017-08-31",-0.17785611280241612,-0.17785611280241612,-0.12918251475830059,-7.2174589651018514E-2,-2.287446231727143E-2,6.1558505627395876E-3,-3.8038831862635121E-3,-3.2188712767216177E-3,-9.2618663016541102E-4,5.8387584277497552E-2,"",null,"2017-08-31",0.99822143887197579,0.99822143887197579,0.99781202967135718,0.99780704951029731,0.99811118073020055,0.9985355687942189,0.99872930094922141,0.99886729251828332,0.99898897912992879,0.99967476725057736,"",null,"2017-08-31",-0.17785611280242142,-0.17785611280242142,-0.13027232434918989,-7.3493084719866708E-2,-2.3542201023596387E-2,6.4084078837067793E-3,-4.0061695197879388E-3,-3.4338694146929249E-3,-1.0014771793631638E-3,6.419426085677582E-2,""]
[null,"2017-08-30",-0.2384914032168643,-0.2384914032168643,-0.17416872097133557,-0.11554413146651914,-6.6454382526076522E-2,-3.8911936575673815E-2,-2.017464766134186E-2,-8.473138318462009E-4,1.1510974191629452E-2,2.3520293807232473E-2,4.6128894164378959E-2,null,"2017-08-30",0.99761508596783133,0.99761508596783133,0.99705680248300221,0.99686585855794385,0.99696324792052748,0.99715783574785388,0.99740558236374499,0.99774391631242099,0.99811915609404112,0.99854426645186689,0.99913564250809228,null,"2017-08-30",-0.23849140321685613,-0.23849140321685613,-0.1756554230170293,-0.11766738791728626,-6.8408647617934637E-2,-4.052090099427863E-2,-2.1272170950425995E-2,-9.0554487797156469E-4,1.2473754163311312E-2,2.5856030434101562E-2,5.1500796341885646E-2]
[null,"2017-08-29",-0.24136828644500943,-0.24136828644500943,-0.10388081173047382,-9.2473933145330062E-2,-5.9291001831396961E-2,-1.7663251152307033E-2,-4.5497074685192998E-3,1.7944550227013335E-2,3.3064846481821612E-2,5.0373163579084973E-2,7.2960217386216428E-2,null,"2017-08-29",0.9975863171355499,0.9975863171355499,0.99774445694432701,0.99755902063524249,0.99755982803895205,0.99785213843523557,0.99814627757786589,0.99857346228220023,0.99906850326846763,0.99966616986979961,1.0004255615120581,null,"2017-08-29",-0.24136828644500952,-0.24136828644500952,-0.10479435941670445,-9.4131631841942731E-2,-6.0997283500996424E-2,-1.8389114888528457E-2,-4.7959714162160161E-3,1.9170556846881404E-2,3.5820627757798817E-2,5.5379439429481536E-2,8.1462235008311623E-2]
[null,"2017-08-28",-0.23345059162134307,-0.23345059162134307,-0.16151205259277043,-0.10346141134267664,-6.9581868071165329E-2,-4.8412955015355849E-2,-3.364319318026706E-2,-1.1575457102597445E-2,3.5018881129814973E-3,2.1293450778475213E-2,4.4251446668728565E-2,null,"2017-08-28",0.99766549408378657,0.99766549408378657,0.9972085641118148,0.99708847763268571,0.99710047606899388,0.99717374477809273,0.9972844232989575,0.99753171304231703,0.99785124497285416,0.99828095832641328,0.99887693804671318,null,"2017-08-28",-0.23345059162134252,-0.23345059162134252,-0.16290851940143902,-0.10537696716442779,-7.1631133851157713E-2,-5.0418579667466101E-2,-3.547543029366329E-2,-1.237381894684253E-2,3.7970648975926835E-3,2.3429687586884462E-2,4.9458056531248573E-2]
[null,"2017-08-25",-0.25158240525598113,-0.25158240525598113,-0.18723572161269464,-0.10915153098978887,-9.7905938735172074E-2,-5.2142922257489309E-2,-3.7925396758619182E-3,-3.209312160346534E-3,-9.2337351127547423E-4,"","",null,"2017-08-25",0.99748417594744021,0.99748417594744021,0.99686005687539792,0.99679681275023646,0.99659669457141598,0.99672900115824115,0.99720718145689446,0.99754798011494672,0.99782133247146632,"","",null,"2017-08-25",-0.25158240525597897,-0.25158240525597897,-0.18886515417430028,-0.1112258747761774,-0.10080531581447838,-5.4349567001843457E-2,-4.006490533392526E-3,-3.4341445707908314E-3,-1.0015574223198875E-3,"",""]
[null,"2017-08-24",-0.25958466453672774,-0.25958466453672774,-0.20072021824886141,-0.14785088562350859,-0.11096111328139187,-8.3819850006588953E-2,-6.478282861667356E-2,-4.3384683349201009E-2,-2.9222647765741148E-2,-8.981606229903398E-3,1.6603986201633648E-2,null,"2017-08-24",0.99740415335463273,0.99740415335463273,0.996684889393879,0.99629250059586816,0.99608412848884331,0.99599856947396648,0.9959833892052713,0.99608625271152784,0.9962450224958731,0.99653390251553775,0.99700918656457782,null,"2017-08-24",-0.25958466453673834,-0.25958466453673834,-0.20248135131563094,-0.15065283387879491,-0.11431327567905658,-8.7372994745038568E-2,-6.8407618227994682E-2,-4.6447601480081868E-2,-3.1734506549330188E-2,-9.8991975244544506E-3,1.8594656667936249E-2]
[null,"2017-08-23",-0.26445754341245897,-0.26445754341245897,-0.19286934055326613,-0.1376828884881556,-9.95546188440916E-2,-7.1096936345396586E-2,-5.5321271093252661E-2,-3.5896643274271951E-2,-1.9109135430204611E-2,1.285862993799642E-3,2.302320667776947E-2,null,"2017-08-23",0.99735542456587545,0.99735542456587545,0.99673887503459846,0.99643062622016898,0.99630298554727892,0.99630271480989185,0.99633441702692493,0.99646562329134092,0.99668216806181364,0.99702976947510591,0.99752537886465908,null,"2017-08-23",-0.2644575434124552,-0.2644575434124552,-0.19454961098651635,-0.14025823229582013,-0.10251534747968138,-7.4078126373411379E-2,-5.8366657424957502E-2,-3.839281163203756E-2,-2.072555848507962E-2,1.4160244424799018E-3,2.5738846863454512E-2]
[null,"2017-08-22",-0.27059291683247322,-0.27059291683247322,-0.21405854594735577,-0.1495799521238439,-0.11742063794737548,-8.7004867073492351E-2,-8.0160759779513438E-2,-5.7523042937708907E-2,-3.8126972916571071E-2,-1.40712535698718E-2,1.2836972064035897E-2,null,"2017-08-22",0.99729407083167532,0.99729407083167532,0.99649604035508499,0.99614795683012813,0.99591003829067193,0.99582565333686957,0.99568409051509521,0.99568546641819922,0.9958010581841269,0.99608336284049637,0.99656076022800744,null,"2017-08-22",-0.27059291683245723,-0.27059291683245723,-0.21595144014437961,-0.15245408444304331,-0.12099139236516621,-9.0749518313482103E-2,-8.4673000415413924E-2,-6.1622529207616683E-2,-4.1444867936279994E-2,-1.5528942069220619E-2,1.4395764221575291E-2]
[null,"2017-08-21",-0.28029941073418535,-0.28029941073418535,-0.21396550625961894,-0.16468391394344745,-0.11936729039529706,-9.6619003681615523E-2,-7.9045791489088718E-2,-6.4674650751408463E-2,-4.2475566858890694E-2,-1.5664227215281178E-2,1.15039011521131E-2,null,"2017-08-21",0.99719700589265814,0.99719700589265814,0.99644822540445499,0.99596547931434165,0.99575279663539573,0.99560329564475258,0.9955083627613982,0.9954626108313801,0.99556115904316356,0.99585229649679397,0.99633744180577588,null,"2017-08-21",-0.28029941073418607,-0.28029941073418607,-0.21583253619191778,-0.16777082841581414,-0.12295712130941938,-0.10069629998179508,-8.3454167655849787E-2,-6.9194502626879206E-2,-4.6110739566784797E-2,-1.726519680148586E-2,1.2884707010663021E-2]
[null,"2017-08-18",-0.2812872467222905,-0.2812872467222905,-0.23446885404002121,-0.17054827456189234,-0.14243499982852234,-0.11559249460917782,-9.6564069802503885E-2,-8.0302737986877093E-2,-6.1401486414799436E-2,-3.2380780968091952E-2,-3.2115693293993091E-3,null,"2017-08-18",0.99718712753277705,0.99718712753277705,0.99623836859766068,0.99576552366783222,0.99537109051413419,0.99510529387557034,0.99491417593555398,0.99479146416679731,0.99477817050177308,0.9949810851805575,0.99539676748209549,null,"2017-08-18",-0.28128724672228378,-0.28128724672228378,-0.23651330415741523,-0.17378880589854484,-0.14672706645183498,-0.12051260300047772,-0.10196796651785744,-8.5981156474601583E-2,-6.6702994714451513E-2,-3.571955782939451E-2,-3.600106420442728E-3]
[null,"2017-08-17",-0.29017505125373133,-0.29017505125373133,-0.2315669167304869,-0.19674428389660362,-0.15655014103605294,-0.12254498442273846,-0.1083523387692366,-8.827215871185945E-2,-6.7969279559943516E-2,-3.8193433295736136E-2,-1.3365805615398938E-3,null,"2017-08-17",0.99709824948746273,0.99709824948746273,0.99622253681486561,0.99549362091111204,0.9950245441139135,0.99475607856109249,0.99450271648590616,0.99435568292324417,0.99432730533199865,0.9945178039428666,0.99499352258331974,null,"2017-08-17",-0.29017505125373821,-0.29017505125373821,-0.23359565439328156,-0.20042245040384765,-0.16124750110970698,-0.12775068444965676,-0.11439911896227173,-9.4495500232694152E-2,-7.3818415894100209E-2,-4.2125267053838567E-2,-1.4982874208313568E-3]
[null,"2017-08-16",-0.30591218893644445,-0.30591218893644445,-0.23790243502261071,-0.19349080879140151,-0.16054691479559585,-0.1357785088077636,-0.1193626588180888,-9.9712834590080249E-2,-7.745724691245863E-2,-4.8558598031544727E-2,-1.7090735668274383E-2,null,"2017-08-16",0.99694087811063559,0.99694087811063559,0.99607971061857026,0.99542953504804044,0.99493556180978471,0.99455158873717575,0.99421993173220546,0.9939956350902126,0.99391309084255242,0.99404091352298396,0.99440103194225615,null,"2017-08-16",-0.30591218893644134,-0.30591218893644134,-0.2400249436847357,-0.19719740422294851,-0.16545216705244892,-0.14162741757890451,-0.12614342401776613,-0.10687923178791525,-8.4255017701795332E-2,-5.3654042150863557E-2,-1.9195523285808758E-2]
[null,"2017-08-15",-0.28768519244336921,-0.28768519244336921,-0.24823665770447109,-0.19646249385330264,-0.16518071209609328,-0.14215573417849103,-0.12570804311442116,-0.10927205256151377,-8.8040201159806791E-2,-6.2598128495128316E-2,-3.4888194571567166E-2,null,"2017-08-15",0.99712314807556635,0.99712314807556635,0.99606827841763057,0.99539175332847107,0.99485996293818113,0.99442583758936187,0.9940498855356984,0.99375164411255379,0.99359026963563679,0.99360927096197726,0.99382913795710925,null,"2017-08-15",-0.28768519244336543,-0.28768519244336543,-0.25045080762288174,-0.20029115396043018,-0.17034146705536823,-0.14843719640960096,-0.13298293956783835,-0.11732273592810483,-9.5955412424708619E-2,-6.931295350378619E-2,-3.9271334810642156E-2]
[null,"2017-08-14",-0.2790441754441168,-0.2790441754441168,-0.22818457393764927,-0.17437300173381057,-0.13893728085841472,-0.10973333887111124,-9.4318404870610661E-2,-7.3497124106805228E-2,-5.3706040757995094E-2,-3.0951902364751212E-2,-2.9401197516328377E-3,null,"2017-08-14",0.99720955824555879,0.99720955824555879,0.99631242231383832,0.99577702671069823,0.99541438829482076,0.99519821667004105,0.99501415644683111,0.9949451731137785,0.99499003378904749,0.99518506077699165,0.99558446664243372,null,"2017-08-14",-0.27904417544410975,-0.27904417544410975,-0.23018159760671564,-0.17769859191427706,-0.14316992849509047,-0.11447338522413419,-9.9682134530387767E-2,-7.8789984566818294E-2,-5.8433705231819566E-2,-3.4195804926939743E-2,-3.3018582683452813E-3]
[null,"2017-08-11",-0.27214640687857949,-0.27214640687857949,-0.22903489530184964,-0.16985389438379009,-0.13293326025088467,-0.10439644616047265,-8.8204683604794235E-2,-6.6634988900837161E-2,-4.7622589514762628E-2,-2.5044044725136376E-2,2.882823429653395E-3,null,"2017-08-11",0.99727853593121418,0.99727853593121418,0.99633890559151417,0.99584024593833975,0.99552245684191853,0.9953391651070278,0.9951942624520308,0.9951702478651715,0.99525046800645223,0.99547872513123226,0.99591055943532314,null,"2017-08-11",-0.27214640687859282,-0.27214640687859282,-0.23099962736237156,-0.17305310713487954,-0.13694588193888801,-0.10885865999996636,-9.3167221660173105E-2,-7.1372735246022501E-2,-5.1762054641379951E-2,-2.7639593957118347E-2,3.2337330690301869E-3]
[null,"2017-08-10",-0.29347143753924559,-0.29347143753924559,-0.2388765848399052,-0.19802206794328212,-0.15359028760248764,-0.12726966255753963,-0.10243957639222015,-8.3710263986000233E-2,-6.0392409285613569E-2,-3.7142389235990232E-2,-8.0475575584534002E-3,null,"2017-08-10",0.9970652856246075,0.9970652856246075,0.99613275193154882,0.99541998074032867,0.99499770791168907,0.99468630755300191,0.99450173892567528,0.99439966946014213,0.99444050875322798,0.99462958413419178,0.99502804725880278,null,"2017-08-10",-0.29347143753923888,-0.29347143753923888,-0.24099189205151195,-0.20180896154010641,-0.15829290453209799,-0.13280677299719601,-0.10831758556636428,-8.9694855170019405E-2,-6.5721047611233541E-2,-4.1001476426894001E-2,-9.0275208060597301E-3]
[null,"2017-08-09",-0.29015748031495242,-0.29015748031495242,-0.24781101849968568,-0.19942501021661976,-0.15286963727510375,-0.11593149540917161,-9.8526461552587458E-2,-8.3419332049568265E-2,-6.3692349318966085E-2,-4.01042159918302E-2,-1.0572048874741224E-2,null,"2017-08-09",0.99709842519685044,0.99709842519685044,0.99605998646569449,0.99535666300512227,0.99495622452665711,0.9947651106026546,0.99460638783413613,0.99449185828662234,0.99448826761128006,0.99464147126949032,0.99501221632443337,null,"2017-08-09",-0.29015748031495647,-0.29015748031495647,-0.25003700196056799,-0.20330016860680145,-0.15765590362076809,-0.12108025533664746,-0.10427407410373846,-8.9554074953368534E-2,-6.9410515791679117E-2,-4.4391955081268808E-2,-1.1896130065702781E-2]
[null,"2017-08-08",-0.28972921765216986,-0.28972921765216986,-0.25147715637239337,-0.19653462486833853,-0.14457154396646282,-0.1013869095625656,-9.31341014410101E-2,-7.1560595739272009E-2,-4.7320668423016639E-2,-1.2671371153576369E-2,2.3923983946369944E-2,null,"2017-08-08",0.99710270782347832,0.99710270782347832,0.9960255081661199,0.99536207161333956,0.99504279933387618,0.99497984496609759,0.9948408017183924,0.99481293059888798,0.99493478343120301,0.99531620040084745,0.99597047022267327,null,"2017-08-08",-0.28972921765215709,-0.28972921765215709,-0.25373629436740153,-0.20039605451321885,-0.14914520612012705,-0.10593193842585169,-9.8595381915611569E-2,-7.6866739131631334E-2,-5.1654433029546531E-2,-1.4042603589248248E-2,2.6966542201445343E-2]
[null,"2017-08-07",-0.30165615141954527,-0.30165615141954527,-0.2602427690081055,-0.19374368934788214,-0.14809652977651691,-0.10660963247635338,-9.3667848478363014E-2,-7.3875340404161063E-2,-5.3778223652490416E-2,-2.7567438060504747E-2,1.0511174759567663E-3,null,"2017-08-07",0.99698343848580451,0.99698343848580451,0.99587789589565734,0.99529067892370005,0.99495375819283827,0.99485594587698956,0.99473117913622877,0.99469498966866643,0.99476673200277987,0.99501672302290434,0.99547002060226542,null,"2017-08-07",-0.30165615141956037,-0.30165615141956037,-0.26256868633863784,-0.19755088983179903,-0.15275501790454893,-0.11136765279951,-9.9154508819843112E-2,-7.9334581524770353E-2,-5.8627653216603015E-2,-3.0531476906348054E-2,1.1829023310871989E-3]
[null,"2017-08-04",-0.30288651640966019,-0.30288651640966019,-0.2538782224927853,-0.19089552704528259,-0.15198329054532642,-0.11872785802591986,-0.1009537473406452,-8.1170950040429984E-2,-6.4552032527950109E-2,-4.3782521060293157E-2,-2.2085301310120334E-2,null,"2017-08-04",0.99697113483590338,0.99697113483590338,0.99593521751383085,0.99535758822886633,0.99496554197750375,0.99474430392985802,0.99456408809865948,0.99447698329909107,0.99446597671130754,0.99458419527494035,0.99484501882023213,null,"2017-08-04",-0.30288651640965059,-0.30288651640965059,-0.25616043564425928,-0.19465836185431629,-0.15677397999288578,-0.12405593308689733,-0.10691512548528515,-8.7218787550735755E-2,-7.0408534404653444E-2,-4.851017344180697E-2,-2.4859741262039936E-2]
[null,"2017-08-03",-0.28603209915778954,-0.28603209915778954,-0.22651068949577552,-0.17374216432227571,-0.13592825826198707,-9.63347735712487E-2,-9.1499276736406593E-2,-7.48916677243983E-2,-5.5628060505905436E-2,-3.4022009410961972E-2,-5.0206192532157145E-3,null,"2017-08-03",0.99713967900842215,0.99713967900842215,0.99629371322412352,0.99577046495439847,0.9954390032803917,0.99535122065399684,0.99517060104216737,0.99506646147619104,0.99507782949189139,0.99523295096891251,0.99560700887653786,null,"2017-08-03",-0.28603209915779582,-0.28603209915779582,-0.22853063706047561,-0.17709717690665983,-0.14013219554559475,-0.1005675588153121,-9.6769640706939608E-2,-8.0327706948979394E-2,-6.0562430522570487E-2,-3.7620345341726757E-2,-5.6426211695215223E-3]
[null,"2017-08-02",-0.27883850437548297,-0.27883850437548297,-0.22693923181101544,-0.17325671929852893,-0.13719039932500271,-0.10335302988705984,-9.0501212111400164E-2,-7.2583796484692861E-2,-5.6798418806434103E-2,-3.2550044427371215E-2,-6.7825447280730486E-3,null,"2017-08-02",0.99721161495624522,0.99721161495624522,0.99632556525986982,0.99579635442627978,0.99544545278134444,0.99528567159986658,0.99512449042212359,0.99504851502070168,0.99504933904274662,0.99522103619854185,0.99557762548482054,null,"2017-08-02",-0.27883850437548929,-0.27883850437548929,-0.22898133489189787,-0.17665769250330143,-0.14150931835856806,-0.10798155644958785,-9.5827263116188277E-2,-7.797509762632604E-2,-6.1938003037032008E-2,-3.606364770670778E-2,-7.6398575025726778E-3]
[null,"2017-08-01",-0.27715744137821557,-0.27715744137821557,-0.21446223454538935,-0.16091637562519739,-0.12643370086435707,-9.1070026901103218E-2,-7.4263294841811545E-2,-5.4119576934629661E-2,-3.5363532381622341E-2,-1.0009905325779151E-2,1.9254460179321215E-2,null,"2017-08-01",0.99722842558621783,0.99722842558621783,0.99645881479988807,0.99600948664686373,0.99571463078595046,0.99562631519429479,0.99557391879073642,0.99562276682531192,0.99577193267433706,0.99609634576311901,0.99663535750568988,null,"2017-08-01",-0.27715744137821741,-0.27715744137821741,-0.21637702058163732,-0.16403774617451683,-0.13035916359277477,-9.5092147571718133E-2,-7.8582463231724464E-2,-5.8096280745700835E-2,-3.8534944576751329E-2,-1.1082347173152485E-2,2.1672900708868958E-2]
[null,"2017-07-31",-0.25232371794872177,-0.25232371794872177,-0.19276008753531729,-0.12888899191786107,-8.7086360734049878E-2,-4.6030354876386084E-2,-2.8564565871478199E-2,-8.4644328450596672E-3,1.0910840633094433E-2,3.684473800257175E-2,6.8483270954432435E-2,null,"2017-07-31",0.99747676282051279,0.99747676282051279,0.99680071146196114,0.99655885437493652,0.99652280484762923,0.99672833645051173,0.99695761420863094,0.99727722879381964,0.99769789382152307,0.99829646290318386,0.99913170513043759,null,"2017-07-31",-0.25232371794872144,-0.25232371794872144,-0.19450004878077687,-0.13144942320003628,-8.9864652023541325E-2,-4.8123217674700403E-2,-3.0271296977135709E-2,-9.1027601554549697E-3,1.1914101225563023E-2,4.0887480674123289E-2,7.7294696505147975E-2]
[null,"2017-07-28",-0.23686962116947183,-0.23686962116947183,-0.16801555962829082,-0.12347831648472202,-8.2743140909524657E-2,-5.6097360228026395E-2,-4.1045434310727089E-2,-2.3642345812314159E-2,-8.4784776194540574E-3,1.5059212501976725E-2,4.645798634760416E-2,null,"2017-07-28",0.99763130378830533,0.99763130378830533,0.9971259008584642,0.99683191385240566,0.99677315090459528,0.99683047215515852,0.99691923594339316,0.9970925754129305,0.99734092117244122,0.99775774992346489,0.99842066835886645,null,"2017-07-28",-0.23686962116946653,-0.23686962116946653,-0.16953162410503486,-0.1258990757317946,-8.5366226090766162E-2,-5.8622540392827549E-2,-4.3480035252674298E-2,-2.5412616509468133E-2,-9.2525735363446771E-3,1.6700636657440704E-2,5.2397793736669307E-2]
[null,"2017-07-27",-0.27003345547235036,-0.27003345547235036,-0.21138689365158875,-0.15579359415762573,-0.11480985355167994,-8.8540515488655019E-2,-7.3531439838584733E-2,-5.5790736117059612E-2,-3.5813882118615865E-2,-1.3236528254971307E-2,1.4164927310574536E-2,null,"2017-07-27",0.99729966544527648,0.99729966544527648,0.99652523869470244,0.99610471732504935,0.99590179726212091,0.99580178979075895,0.99572781077491901,0.99573822783818244,0.99586827363494801,0.99614950754164522,0.99663181332587225,null,"2017-07-27",-0.27003345547236268,-0.27003345547236268,-0.21330699594739322,-0.15890033350768329,-0.11849945702713249,-9.2572061565432406E-2,-7.794899257118626E-2,-6.002057213915224E-2,-3.9134730864398559E-2,-1.4700727235850142E-2,1.5999309279246532E-2]
[null,"2017-07-26",-0.26436319807151493,-0.26436319807151493,-0.22125897277596721,-0.15454566317983714,-0.12231904814878655,-8.1827725841870036E-2,-7.0114439929378353E-2,-5.0702114762457326E-2,-3.0675347503632846E-2,-1.5632382870761179E-2,7.5514450952963458E-3,null,"2017-07-26",0.99735636801928484,0.99735636801928484,0.99645538553554847,0.99607034263148575,0.99580121313941672,0.99578787149965342,0.99575075504565602,0.99580939250622102,0.99598305467841464,0.99622955386361234,0.99663934943235977,null,"2017-07-26",-0.26436319807151554,-0.26436319807151554,-0.22323027569435272,-0.15760731663450045,-0.12619286717497902,-8.5513744514986723E-2,-7.4263896792625683E-2,-5.4499862406398591E-2,-3.3486388100045783E-2,-1.7332667323444184E-2,8.514214024768485E-3]
[null,"2017-07-25",-0.2805979694619728,-0.2805979694619728,-0.22243054880603633,-0.16940168252026069,-0.13177357923491009,-8.4155808585233138E-2,-7.1197241418775828E-2,-4.788807968279369E-2,-2.963102930642984E-2,2.7949603762573148E-3,2.5906190844685852E-2,null,"2017-07-25",0.99719402030538029,0.99719402030538029,0.99636139258257683,0.9958581672952499,0.99554517227674855,0.99555627227473975,0.99554352457364104,0.99565656646804956,0.99585714302131345,0.9962989304131874,0.99688479630354243,null,"2017-07-25",-0.28059796946198201,-0.28059796946198201,-0.22449052823159121,-0.17284100412459091,-0.13607973591519551,-8.8091752061048023E-2,-7.5554939795385856E-2,-5.1585536412412925E-2,-3.24134370370599E-2,3.1084861872532343E-3,2.930021319642595E-2]
[null,"2017-07-24",-0.29256594724220941,-0.29256594724220941,-0.24690250889038332,-0.18915747382878215,-0.13683585923640909,-9.4809147385739714E-2,-7.5316972349020003E-2,-4.9608314952243417E-2,-3.2200530283704794E-2,-9.1452828138486424E-3,1.6670244167444791E-2,null,"2017-07-24",0.99707434052757793,0.99707434052757793,0.99605698320178859,0.99545684060483575,0.99519161047555826,0.99516559663824045,0.99517477820015021,0.99532129864413521,0.99553624914624728,0.99589276695165396,0.9964239553115769,null,"2017-07-24",-0.29256594724220708,-0.29256594724220708,-0.2491112412852825,-0.19288446149114957,-0.14118601118050522,-9.9077026008653757E-2,-7.9761864107408265E-2,-5.3299721340838158E-2,-3.5115069533642185E-2,-1.0129336315112258E-2,1.8769111505800851E-2]
[null,"2017-07-21",-0.30863705239653738,-0.30863705239653738,-0.25334372061063881,-0.2007356156798521,-0.16017169861138678,-0.11325124648595875,-0.10542537803513406,-7.7974927291134283E-2,-5.7671453259246649E-2,-3.2629602237508215E-2,-1.7008297398656523E-3,null,"2017-07-21",0.99691362947603468,0.99691362947603468,0.99591165149948657,0.99524367720212248,0.99479774546401423,0.99466354380251121,0.99445211143415757,0.99441237905706537,0.99447805647250032,0.99470686173637035,0.99516020841210517,null,"2017-07-21",-0.30863705239652095,-0.30863705239652095,-0.2556101982992276,-0.20466133946952514,-0.16519475708922648,-0.11831136151483346,-0.11156358937279842,-8.3720856937297139E-2,-6.2842409699048751E-2,-3.6117388866707678E-2,-1.9141931095867371E-3]
[null,"2017-07-20",-0.31535467471599909,-0.31535467471599909,-0.2621096609949724,-0.21236131129947997,-0.17062080248182365,-0.14200184950669464,-0.11914908414631532,-9.3169407015112365E-2,-7.2161761358765925E-2,-4.324407542444729E-2,-8.884327965173475E-3,null,"2017-07-20",0.99684645325284005,0.99684645325284005,0.99579013161153684,0.99504577484834655,0.99454334561794666,0.99417108757141992,0.99389993157946432,0.99378174850500156,0.99377473377995229,0.99396757583898387,0.9944142050216177,null,"2017-07-20",-0.31535467471600631,-0.31535467471600631,-0.26446918913803907,-0.21653015579617962,-0.17601425359807799,-0.14834638340385231,-0.12616846912230084,-0.10010380558772569,-7.8707623235885205E-2,-4.7928961804422077E-2,-1.0013248513951467E-2]
[null,"2017-07-19",-0.29890528319847381,-0.29890528319847381,-0.24204606903219331,-0.19879307918490913,-0.15124566039672582,-0.11489841918743403,-9.5102316404680073E-2,-7.3515209204588053E-2,-5.254728270047284E-2,-2.6986008610842337E-2,3.5882606901782295E-3,null,"2017-07-19",0.9970109471680153,0.9970109471680153,0.99607346141771491,0.99537178539358984,0.99498342648443294,0.99479683336518376,0.99466658221617521,0.99464209192258746,0.99473172091403017,0.99499053127369042,0.99547072050023022,null,"2017-07-19",-0.29890528319848064,-0.29890528319848064,-0.24422970194550864,-0.2026952022250339,-0.15604470442605045,-0.12007223052610261,-0.10073459832009579,-7.9004347457267698E-2,-5.7329720928722683E-2,-2.9915724391538223E-2,4.0449561727662342E-3]
[null,"2017-07-18",-0.29379157427935981,-0.29379157427935981,-0.24406039842765243,-0.19328791203978846,-0.15675019581388375,-0.12201972056060839,-0.10487416789962702,-8.0398231845396059E-2,-6.5853514289072781E-2,-4.214763528481185E-2,-1.4189725335784276E-2,null,"2017-07-18",0.99706208425720644,0.99706208425720644,0.99607931971612185,0.9954309711053384,0.99497385899179502,0.99471872158950614,0.99450412019711865,0.99443335675996702,0.99441509967771946,0.99455553433381827,0.99489803733145743,null,"2017-07-18",-0.29379157427936731,-0.29379157427936731,-0.24622489465940811,-0.1970409368586834,-0.16164030382428418,-0.12742282927469262,-0.11097419889245508,-8.6313045337482741E-2,-7.1747061491023167E-2,-4.6632484289865772E-2,-1.5960143261462001E-2]
[null,"2017-07-17",-0.29928329526659109,-0.29928329526659109,-0.25205462310351934,-0.20767656330584797,-0.17045929806784524,-0.14008879341963909,-0.11703075424025126,-9.2327212550143312E-2,-7.1721982863325665E-2,-4.2573050065883709E-2,-1.7531895411781007E-2,null,"2017-07-17",0.99700716704733405,0.99700716704733405,0.99597159378962186,0.99521437856177353,0.99467225745123566,0.99429364515353547,0.99402347540209346,0.99389635691233946,0.99387961686852599,0.99406768473592788,0.9944184805493208,null,"2017-07-17",-0.2992832952666058,-0.2992832952666058,-0.25432040150014101,-0.21178422005443398,-0.17589870347031189,-0.14644705166163563,-0.12403523922459581,-9.9306378498031922E-2,-7.8333274404063236E-2,-4.725697786032157E-2,-1.9786056910153782E-2]
[null,"2017-07-14",-0.29658335969628807,-0.29658335969628807,-0.26825950896331374,-0.20980789266152339,-0.18521206187658487,-0.15785817916821404,-0.13480498847096564,-0.1132152977641528,-9.6058606397713422E-2,-6.9342898403296577E-2,-4.5576546782359111E-2,null,"2017-07-14",0.9970341664030371,0.9970341664030371,0.99582336818043027,0.99509316762569622,0.99443305163561779,0.99392287365873511,0.99353348231265692,0.99326282609861138,0.99307565551190435,0.99307685680785973,0.99323534826704141,null,"2017-07-14",-0.29658335969628968,-0.29658335969628968,-0.27065256586026321,-0.21399764222277406,-0.19115162520804141,-0.16504882733866522,-0.14293571314104581,-0.12184594487654188,-0.10497998393654839,-7.7041092502627695E-2,-5.1487366961477932E-2]
[null,"2017-07-13",-0.28926269454487352,-0.28926269454487352,-0.24579467374855241,-0.20980002310147494,-0.17769047707984709,-0.14315645294884738,-0.13272556129420604,-0.11393645964978442,-9.6468812155000389E-2,-7.1621205279111602E-2,-4.6689713169531209E-2,null,"2017-07-13",0.99710737305455122,0.99710737305455122,0.99608449596547854,0.99526879971372728,0.99464068639950776,0.99423655102562991,0.99381795862047939,0.99350182477749616,0.99328281743925528,0.99324029404583281,0.99337312421658841,null,"2017-07-13",-0.28926269454487841,-0.28926269454487841,-0.24802807382763303,-0.21399847467555855,-0.18345501287830857,-0.14979569009058169,-0.14080283409455552,-0.12267979716867883,-0.10547224683393752,-7.9599336140112609E-2,-5.2750414672264601E-2]
[null,"2017-07-12",-0.2889969414163604,-0.2889969414163604,-0.25039679597229031,-0.2248209468588534,-0.19645707574207374,-0.1629141338858025,-0.15266658993599913,-0.13240851816448612,-0.11158721583410711,-8.2568088552996591E-2,-5.7083634182142295E-2,null,"2017-07-12",0.99711003058583636,0.99711003058583636,0.99603995880817697,0.99508914568040208,0.99431776685117035,0.99377854295357004,0.9932341162969478,0.99281233119108203,0.99252254662754646,0.99244805420190962,0.99254838521193278,null,"2017-07-12",-0.2889969414163529,-0.2889969414163529,-0.25265231630582363,-0.22926545431659617,-0.20275683041499626,-0.17044909821749554,-0.1618170384695139,-0.1424448882773488,-0.12188169504574464,-9.1657137077816309E-2,-6.4416663851107892E-2]
[null,"2017-07-11",-0.36012388695316705,-0.36012388695316705,-0.34975249381142676,-0.32365546598448414,-0.28881282157118021,-0.25718441081184595,-0.23485803827969384,-0.20462768069753368,-0.176773153167954,-0.14296903859679688,-0.10365621035567064,null,"2017-07-11",0.99639876113046832,0.99639876113046832,0.9946888173447902,0.99319350177775678,0.99196041646291189,0.99093303571482072,0.99001684281037594,0.98930237586443659,0.98876439993518928,0.98846343202263642,0.98845102335300716,null,"2017-07-11",-0.36012388695316755,-0.36012388695316755,-0.35292630792937985,-0.33016359966155928,-0.29827339444079559,-0.26919611214873962,-0.2493227962567901,-0.22057935155250785,-0.19352409469429732,-0.15913716350428597,-0.11738154575804405]
[null,"2017-07-10",-0.34752928399657484,-0.34752928399657484,-0.33107235402698382,-0.30885936412986831,-0.28187120805928867,-0.25200595804842912,-0.22564489648413447,-0.1957136702865887,-0.16887649849182396,-0.13110629604163479,-9.5815813084566534E-2,null,"2017-07-10",0.99652470716003427,0.99652470716003427,0.9949386396035329,0.99350863337832906,0.99226764979750581,0.99123218720004336,0.99035955330954983,0.98968727218193653,0.9891826144647885,0.98895655855325626,0.98897761329535316,null,"2017-07-10",-0.34752928399657268,-0.34752928399657268,-0.33412424890454373,-0.3151649244089394,-0.29120045766695135,-0.26389789819898368,-0.2397118985864477,-0.21111328016624187,-0.18504320670658103,-0.14608556855578714,-0.10858897357115538]
[null,"2017-07-07",-0.34179869524697853,-0.34179869524697853,-0.33532245217877021,-0.30918049766656042,-0.2882405193696515,-0.26561153412502136,-0.2431412054159231,-0.21491499391493077,-0.18909154919664309,-0.15521759566658166,-0.12141218461426356,null,"2017-07-07",0.99658201304753025,0.99658201304753025,0.99492505762003991,0.99349608282119528,0.99219435604976958,0.99103714090357342,0.99002075148862734,0.98920212576791988,0.98855130680455794,0.98814835984924254,0.98798611196862896,null,"2017-07-07",-0.34179869524697537,-0.34179869524697537,-0.33841044598761361,-0.31553324171134101,-0.29782913569016412,-0.27818211398857873,-0.25834186976164686,-0.23188021030043915,-0.20730720689406956,-0.17300210978151709,-0.13764661657198474]
[null,"2017-07-06",-0.37370935429188923,-0.37370935429188923,-0.35948826371644155,-0.33017258578742986,-0.31174148914928479,-0.28723604020029225,-0.26855975022372763,-0.24360940910834397,-0.21892284214276325,-0.18516843464407648,-0.14905185715132432,null,"2017-07-06",0.99626290645708115,0.99626290645708115,0.99452283028696431,0.99301609958641568,0.99159672146906241,0.99033906807278882,0.9891801949969703,0.9881886741409478,0.98735862394659224,0.98677854664738041,0.98646391374418607,null,"2017-07-06",-0.37370935429188457,-0.37370935429188457,-0.36280948664311197,-0.33695886651450291,-0.32209529828325367,-0.30077131756325315,-0.28526237668314858,-0.26272254962211861,-0.23980946292327943,-0.206227194380737,-0.16886879689506085]
[null,"2017-07-05",-0.38280466157289472,-0.38280466157289472,-0.36929028894636684,-0.34539031498227973,-0.32172038115280899,-0.29083156136783628,-0.27831634539088462,-0.24618165389348945,-0.2201717387328174,-0.18860954923042725,-0.1472576836299635,null,"2017-07-05",0.996171953384271,0.996171953384271,0.99437913330930316,0.99276806005124807,0.99131021227775473,0.99007259903810496,0.98886028447503493,0.98788770489207067,0.98708208989679391,0.98649834459626673,0.98622900918600676,null,"2017-07-05",-0.38280466157289972,-0.38280466157289972,-0.37269419610561627,-0.35240194683420212,-0.33226513278497016,-0.30438655979735385,-0.29532092917210484,-0.26516807543207621,-0.24079010095566789,-0.20961603336878687,-0.16648055605518186]
[null,"2017-07-04",-0.39035325036716528,-0.39035325036716528,-0.37064997478499484,-0.31362030750681819,-0.29103740475479944,-0.26309675141306749,-0.24609398195218579,-0.20287684742530621,-0.18883779267554315,-0.16195134070051392,-0.10267489411463124,null,"2017-07-04",0.9960964674963283,0.9960964674963283,0.99432743009467872,0.99304970178126695,0.99182982654705598,0.99076819751020762,0.98976552880573376,0.989103413855553,0.98846775594194936,0.98800820164651293,0.98804549859534652,null,"2017-07-04",-0.39035325036715918,-0.39035325036715918,-0.37408611316935847,-0.32010839602268915,-0.3004937317539369,-0.27545630345926497,-0.26135752229374809,-0.21846746305022036,-0.20681277209684268,-0.18019452720279272,-0.11632161444077305]
[null,"2017-07-03",-0.41170139155839031,-0.41170139155839031,-0.42116846829537058,-0.3869486148052903,-0.3658002697999691,-0.3079396157220099,-0.31084331868744375,-0.28496222662639775,-0.2655161229497941,-0.23510631542527824,-0.19801146219725196,null,"2017-07-03",0.99588298608441606,0.99588298608441606,0.99371567880150014,0.99190740112144615,0.9902194314249827,0.98901982421414636,0.98764962037157777,0.98645258754803966,0.98536116004140983,0.98448849781872938,0.98389410703122993,null,"2017-07-03",-0.41170139155839447,-0.41170139155839447,-0.42498239206063548,-0.39480645866247777,-0.37779869499356966,-0.32251647741680101,-0.32996973523258255,-0.30704566924966148,-0.29047350592126264,-0.2613803233018519,-0.2238922131521659]
[null,"2017-06-30",-0.39725393397099884,-0.39725393397099884,-0.37333906492659963,-0.33768500068548435,-0.33265617694789185,-0.28935002876218108,-0.28012563859245238,-0.25383260404452151,-0.23256024621878668,-0.19970711191908402,-0.16026392016474136,null,"2017-06-30",0.99602746066029002,0.99602746066029002,0.99426626837431453,0.9927696306638869,0.99120373310128429,0.99000233403617399,0.9887844623698705,0.98774763394142662,0.98683789171679548,0.98616986653431749,0.98580205050853387,null,"2017-06-30",-0.39725393397099795,-0.39725393397099795,-0.37671233784813962,-0.34444330334550965,-0.34328631863135284,-0.30265959632683748,-0.2969870226275706,-0.2730871056880857,-0.25380520747382285,-0.2217099219276264,-0.18096363251014491]
[null,"2017-06-29",-0.42217779144879131,-0.42217779144879131,-0.38470956270151374,-0.34945207019572699,-0.32327884836396104,-0.2918552905968318,-0.28217207246537562,-0.25728250869822683,-0.23288086904384581,-0.20489476122119887,-0.17815431498608938,null,"2017-06-29",0.99577822208551203,0.99577822208551203,0.99402745946021542,0.99249256799970564,0.99108832120794443,0.98988576888689284,0.98866788619265178,0.98761435074375348,0.98671771034026123,0.98601285753527335,0.98548486466303509,null,"2017-06-29",-0.42217779144878564,-0.42217779144878564,-0.38813404609456814,-0.35628686424644673,-0.33348546076380492,-0.30499223599115277,-0.29879855470219541,-0.27642826185292346,-0.25399601682265516,-0.2270242287728319,-0.20058590018164901]
[null,"2017-06-28",-0.43101464836259534,-0.43101464836259534,-0.38971421395956662,-0.35622273513481512,-0.34866575181531861,-0.3135813939491382,-0.29942914501995571,-0.27365599531527174,-0.25386673914176616,-0.2291485572835591,-0.19457507694037263,null,"2017-06-28",0.99568985351637407,0.99568985351637407,0.99393324488191193,0.99236245165411296,0.99073857445132918,0.98938898710401768,0.98808013574187226,0.98694494875102901,0.98591992122851047,0.98505790957139938,0.98445502263868467,null,"2017-06-28",-0.43101464836260428,-0.43101464836260428,-0.39313414970456595,-0.36305177774579311,-0.35932141342387425,-0.32731399844069253,-0.31668227849148689,-0.29356799842782388,-0.27635646432234706,-0.25333819504036459,-0.21864305372127912]
[null,"2017-06-27",-0.48890067429351608,-0.48890067429351608,-0.43881914904463776,-0.40435446400116659,-0.36396367908901661,-0.32156648260545917,-0.32998093006008472,-0.30213621836726751,-0.27765181597287025,-0.2474700950262029,-0.21158829220101985,null,"2017-06-27",0.99511099325706487,0.99511099325706487,0.99315136091652001,0.99135715150690551,0.9898251222827037,0.98857191330180283,0.98709000385116685,0.98580619554220794,0.98467837496611088,0.983762251069627,0.98310873629161133,null,"2017-06-27",-0.48890067429351314,-0.48890067429351314,-0.44267995651714465,-0.41208039510227668,-0.37524113837666961,-0.33569578360075347,-0.34875999765127119,-0.32382423117350845,-0.30196374778393986,-0.27327486969838111,-0.23746354127330838]
[null,"2017-06-26",-0.50672002416187523,-0.50672002416187523,-0.46788000782344791,-0.43806762696023038,-0.41231902828080197,-0.38297398614965722,-0.36795391438310798,-0.33458650208462104,-0.30806514400216822,-0.27245316742756637,-0.23852929665406974,null,"2017-06-26",0.99493279975838123,0.99493279975838123,0.99277199705986052,0.99076725244140651,0.98889989016185564,0.98721740240014388,0.98557654497654978,0.98417750090350764,0.98294104400618376,0.98195781419229322,0.98120426312423359,null,"2017-06-26",-0.50672002416187745,-0.50672002416187745,-0.47189263406967052,-0.44621442799158695,-0.42458560539408996,-0.39912622830313715,-0.38826299260577013,-0.35794347899958945,-0.33427020123508733,-0.30014880262654309,-0.26692557301537523]
[null,"2017-06-23",-0.50953493630813396,-0.50953493630813396,-0.46315179241651255,-0.42983600271570405,-0.40045103157675649,-0.3761968457714176,-0.35027953673127438,-0.31949359573462865,-0.29199793170052585,-0.25810739405723176,-0.22353748560717995,null,"2017-06-23",0.99490465063691869,0.99490465063691869,0.99280499921504661,0.99087150707785354,0.98909677651579497,0.98744403391649849,0.9859425956385256,0.98464407669542886,0.98351266841571017,0.9826133861807409,0.98194909574502121,null,"2017-06-23",-0.50953493630814251,-0.50953493630814251,-0.46713464060682552,-0.43783287404872695,-0.41239555630731006,-0.39199614766964874,-0.36965904588553977,-0.34181117591550736,-0.31686342670145251,-0.28436181068063338,-0.25017852924119621]
[null,"2017-06-22",-0.46973475402402309,-0.46973475402402309,-0.41862529350484934,-0.37861500027323258,-0.35590917753405765,-0.31976090105395183,-0.31115714270370615,-0.28452222951508965,-0.25761114928041179,-0.22733960149390861,-0.19332036049408674,null,"2017-06-22",0.9953026524597598,0.9953026524597598,0.99345018860491396,0.99181590388777341,0.99025499848493548,0.98894026438153659,0.98759035373242365,0.98641860364422695,0.98542345681485011,0.98463631238747973,0.98409094471602399,null,"2017-06-22",-0.46973475402403153,-0.46973475402403153,-0.42218645374026975,-0.38562581967070964,-0.36643908257474322,-0.33320381423407319,-0.3282570068738222,-0.30417257494208538,-0.27934446549678915,-0.25022925625284298,-0.21609982519315007]
[null,"2017-06-21",-0.50472476376180109,-0.50472476376180109,-0.4558770113215993,-0.42218736665939738,-0.39598509755464761,-0.372772326435586,-0.35246621788312654,-0.32005846392962534,-0.29266903261483551,-0.26143766749390673,-0.23035971411973113,null,"2017-06-21",0.99495275236238201,0.99495275236238201,0.9929017902319961,0.99101260722792328,0.98924766932502117,0.9875991118410623,0.98605076375400436,0.98473137966432256,0.98358228511208956,0.98264234717182153,0.98190733054194568,null,"2017-06-21",-0.50472476376181019,-0.50472476376181019,-0.45980918482914079,-0.43007558704510895,-0.40784299390196344,-0.38856364592991799,-0.37204998067080775,-0.34253653142622964,-0.31774560035926491,-0.28811732979604487,-0.25788446430081713]
[null,"2017-06-20",-0.48658426288816398,-0.48658426288816398,-0.45481579159975588,-0.42978717953302931,-0.40483197570471297,-0.37158561345727831,-0.35889859935860013,-0.32554567854979372,-0.29550411489943146,-0.2638578951657039,-0.2302525176038544,null,"2017-06-20",0.99513415737111832,0.99513415737111832,0.99300369459762228,0.99100529519149161,0.9891540356329156,0.98753515012406656,0.98593297425604631,0.98457449742256498,0.98341489987103436,0.98246712529679792,0.98174789199085211,null,"2017-06-20",-0.4865842628881567,-0.4865842628881567,-0.45873230930800757,-0.437799729569055,-0.41694316298607204,-0.38737303321021432,-0.37884639575351819,-0.34849071224388739,-0.32093380055556731,-0.29093871668712801,-0.25794804508002533]
[null,"2017-06-19",-0.48415159996975604,-0.48415159996975604,-0.43779316652169786,-0.41153127534714684,-0.39267754013344564,-0.37108832275213938,-0.34963993396514903,-0.32138525619050362,-0.29780131150187789,-0.26872947263746139,-0.23948250701583185,null,"2017-06-19",0.99515848400030249,0.99515848400030249,0.99318559634001158,0.99130884478739556,0.98950358769054969,0.98782103909124497,0.98626332826996665,0.98489978522566579,0.98367761444097046,0.98265266432047083,0.98182331230260922,null,"2017-06-19",-0.48415159996975099,-0.48415159996975099,-0.44162878457679744,-0.41933672998667459,-0.40461643432517791,-0.38705301264609915,-0.36947259107786845,-0.34438913548821004,-0.32378132709922625,-0.29667711989420642,-0.26859899476073812]
[null,"2017-06-16",-0.49254522061604344,-0.49254522061604344,-0.44845886335101554,-0.41538267998228867,-0.38777535430503357,-0.36203010505470379,-0.33664918628608176,-0.30453938106169814,-0.27650853120877045,-0.24232739571837972,-0.21236630734352002,null,"2017-06-16",0.99507454779383953,0.99507454779383953,0.99303739755252085,0.99117182852554842,0.98945006583842166,0.98786960512419186,0.98643535189290477,0.9852182113235165,0.98417304230749081,0.98336210976856009,0.98274056554174039,null,"2017-06-16",-0.49254522061605854,-0.49254522061605854,-0.45228292181334062,-0.42308977792804292,-0.3993433057806306,-0.37731630775598157,-0.35538400249850444,-0.32595836890191299,-0.3001910784397821,-0.26713879576337751,-0.23775046451444126]
[null,"2017-06-15",-0.50712186298892159,-0.50712186298892159,-0.46978875202978426,-0.43839307741948585,-0.41788880934730332,-0.38466542248025298,-0.36382607617057133,-0.32607482950749139,-0.29805949682185628,-0.26165877654836472,-0.21991606700798785,null,"2017-06-15",0.99492878137011076,0.99492878137011076,0.9927507890370656,0.99074928390059003,0.98883008355606816,0.98714299960598495,0.98555320619048614,0.98423970878969802,0.98309292337678034,0.9821987689990872,0.98160483614606442,null,"2017-06-15",-0.50712186298892403,-0.50712186298892403,-0.47384099254760281,-0.44663729292468979,-0.43046006786966462,-0.40112510843172133,-0.38425884234519758,-0.34923377660620591,-0.32384826113266429,-0.28868822070009514,-0.24659520193197615]
[null,"2017-06-14",-0.54049973578923205,-0.54049973578923205,-0.499025664755614,-0.46541377200566342,-0.43323817551614807,-0.39826698907699087,-0.36553206135469085,-0.3362303331257917,-0.30923073694944048,-0.27774577452103766,-0.23761282190949254,null,"2017-06-14",0.99459500264210765,0.99459500264210765,0.9922912300243637,0.99017187411120522,0.98824173500292078,0.98653473487649157,0.98502632075275876,0.98368502998432861,0.98249406855782173,0.98150427507458426,0.9808006030172326,null,"2017-06-14",-0.54049973578923494,-0.54049973578923494,-0.50326684049646353,-0.47404860681005134,-0.44609534521038441,-0.41499503568113161,-0.385801067312741,-0.35973480484720044,-0.33559434914413044,-0.30592376269427124,-0.26593651356126013]
[null,"2017-06-13",-0.56789004682072386,-0.56789004682072386,-0.51127833923219845,-0.48774072227838522,-0.44828228736048759,-0.41349823250991313,-0.3880571553419972,-0.35374015525229219,-0.32592991533064447,-0.28508393512298075,-0.24844391760911619,null,"2017-06-13",0.99432109953179271,0.99432109953179271,0.99202999022652938,0.98977220663730781,0.98778686451173292,0.98601240304072413,0.98435851689603904,0.98292743299769259,0.98165263649789669,0.98066821568506457,0.9799252750886025,null,"2017-06-13",-0.5678900468207182,-0.5678900468207182,-0.5158297218540997,-0.4971053143825177,-0.46215023425825175,-0.43159034545163788,-0.41047224308590202,-0.37956178436662213,-0.35487116761449,-0.3153311976562212,-0.27927284481472636]
[null,"2017-06-12",-0.62826478534976127,-0.62826478534976127,-0.57999069102283018,-0.55434972915399483,-0.53671705764354349,-0.50670553256285111,-0.470867857447547,-0.43396830328560559,-0.39348568599687017,-0.34436611588562505,-0.30322135029737229,null,"2017-06-12",0.99371735214650236,0.99371735214650236,0.99104070163675806,0.98844485572567142,0.98590517382693865,0.98356982590437037,0.98148439044489255,0.97964700589096265,0.97808578364955046,0.97687854924270623,0.97593659004783928,null,"2017-06-12",-0.6282647853497525,-0.6282647853497525,-0.5850573023244765,-0.56482744405663698,-0.55292154974539987,-0.52844670565820318,-0.49768284035129895,-0.46517331795193906,-0.42810840638274339,-0.38067444418530272,-0.34058250041034688]
[null,"2017-06-09",-0.70155902004453474,-0.70155902004453474,-0.70239781448717575,-0.6738263437066363,-0.65518305199334115,-0.61282356990289244,-0.58572747511749179,-0.5329244103470564,-0.48275446558371282,-0.41880706062710599,-0.36653186522747661,null,"2017-06-09",0.9929844097995546,0.9929844097995546,0.98945118071958094,0.98618826153780315,0.9830228166947047,0.98019204272598703,0.97750796214484437,0.97522741346196284,0.97329766992437083,0.97184149422697907,0.97072660174405423,null,"2017-06-09",-0.70155902004453985,-0.70155902004453985,-0.70833646816527152,-0.68646347839785848,-0.67485949529419997,-0.63915012694385487,-0.61887539000424763,-0.57137270623858205,-0.52543041885185771,-0.46333280943094968,-0.41224101425856308]
[null,"2017-06-08",-0.70568636161706366,-0.70568636161706366,-0.70185018124823506,-0.68174809159473337,-0.65170236043960972,-0.61572422971391383,-0.57485741231521803,-0.5230410732673807,-0.4756814719732253,-0.42410144781608783,-0.36831513512872716,null,"2017-06-08",0.99294313638382936,0.99294313638382936,0.98943609602934024,0.98609997338280442,0.98299093123230907,0.98013852375301913,0.97757074547232536,0.9753794558079969,0.97350223356410059,0.97197418595380958,0.97083067225750697,null,"2017-06-08",-0.70568636161705278,-0.70568636161705278,-0.70774664115607067,-0.69438055093453688,-0.67124788475708685,-0.64198247053739443,-0.60740169065177652,-0.56079507757588187,-0.51766798561951877,-0.46894907040473388,-0.41408020983961791]
[null,"2017-06-07",-0.69583240802429691,-0.69583240802429691,-0.69379413655109967,-0.67061140761847038,-0.64183019031278843,-0.59668378258569088,-0.56698143085596864,-0.51523140671919632,-0.46826866922066335,-0.41794783507609051,-0.3628982727160181,null,"2017-06-07",0.99304167591975701,0.99304167591975701,0.98956625904778495,0.98629856912262592,0.98323994023307992,0.98052843152016067,0.9779780399241903,0.97581099397414617,0.97395905035867925,0.97244772723750883,0.97131753394113252,null,"2017-06-07",-0.69583240802428836,-0.69583240802428836,-0.69957486566212257,-0.68296704425635513,-0.66090160655670749,-0.62209731125862922,-0.59874483363402398,-0.55202981064489398,-0.50915744372413974,-0.46167134627294049,-0.40753377159085113]
[null,"2017-06-06",-0.67863247863248066,-0.67863247863248066,-0.66486589222341652,-0.64909044367254398,-0.60779518066960159,-0.56468435120471461,-0.53346393552052385,-0.48599984617737657,-0.44366826728089437,-0.39835093342003824,-0.34005878599367068,null,"2017-06-06",0.99321367521367521,0.99321367521367521,0.98994148484644229,0.98676552991866828,0.98393188156490941,0.9814059235602266,0.97904972131767021,0.97703020704581023,0.97528266886537873,0.97383418140845401,0.97280807721713503,null,"2017-06-06",-0.67863247863247933,-0.67863247863247933,-0.67040028565070742,-0.66086718550605328,-0.62569182110786548,-0.58834656150394959,-0.56292292260223808,-0.52012314819103178,-0.48175390060614109,-0.43919928406325193,-0.38120378536639077]
[null,"2017-06-05",-0.68440584873449539,-0.68440584873449539,-0.67760870444157273,-0.64753620944908097,-0.61083900804323565,-0.57062112838043932,-0.53660989652845703,-0.48869018452064455,-0.44775250357842866,-0.40023258089222097,-0.34310084724238166,null,"2017-06-05",0.99315594151265507,0.99315594151265507,0.98978525552756769,0.98667530276508419,0.98383206217844033,0.98126470841377555,0.9788973117556794,0.97686872490725252,0.9750965318639937,0.97364478168753077,0.97260212004801849,null,"2017-06-05",-0.68440584873450394,-0.68440584873450394,-0.68325155376484092,-0.65947697371817604,-0.62910251691814523,-0.59487796936076309,-0.56674133733406462,-0.52357491033686587,-0.48676226118704591,-0.44193393454541319,-0.38521863651714838]
[null,"2017-06-02",-0.68287981018757948,-0.68287981018757948,-0.69465857706156642,-0.65728063100397449,-0.61873569492901059,-0.57021889789109292,-0.526204037157742,-0.47660100958571994,-0.42897226642749337,-0.37863045789109262,-0.32391234416042564,null,"2017-06-02",0.99317120189812425,0.99317120189812425,0.98962318478341127,0.98646999962894832,0.98359951524229805,0.98108239245969164,0.97884824182527097,0.97694760081723342,0.97535278185179242,0.97408929171907821,0.97319785406213444,null,"2017-06-02",-0.68287981018758659,-0.68287981018758659,-0.70034669602809796,-0.6693074755796391,-0.63703945671927942,-0.59425303696547527,-0.55559527069460879,-0.51034791429959148,-0.46621953321112075,-0.41793205535332056,-0.36337711885656709]
[null,"2017-06-01",-0.6947835738068765,-0.6947835738068765,-0.68288965863502693,-0.65716591689585091,-0.62570043636836181,-0.5795233753275284,-0.53872116782980206,-0.4883257210786332,-0.44243292218984359,-0.39629975589825861,-0.34450335461880827,null,"2017-06-01",0.99305216426193121,0.99305216426193121,0.98968005144624571,0.98650815592346763,0.98355719733182834,0.98095285256779785,0.97861151804494484,0.97662202954018706,0.97492687112773269,0.97352717682548828,0.97247779888491381,null,"2017-06-01",-0.69478357380687861,-0.69478357380687861,-0.68864567412637578,-0.66941130584632358,-0.64457010228577971,-0.60452731472925292,-0.56952248745212319,-0.52377634589739763,-0.48177896462858749,-0.43832179928051662,-0.38737138848288222]
[null,"2017-05-31",-0.65874074074075362,-0.65874074074075362,-0.6580234257537626,-0.63351719199634782,-0.60639875361561713,-0.56232841919034637,-0.52097023015513477,-0.47548084777348043,-0.43507632717282263,-0.38655286099597214,-0.33279824606964598,null,"2017-05-31",0.99341259259259251,0.99341259259259251,0.99010976092549341,0.98703228561904144,0.98414575030710139,0.98159906337383718,0.9793312931603565,0.97737311732135879,0.97566554584857879,0.97428852328967908,0.97328667682910852,null,"2017-05-31",-0.65874074074074862,-0.65874074074074862,-0.66349744056448667,-0.64526583549419092,-0.62452994754715885,-0.58639246928582356,-0.55061029839408304,-0.50973973238472858,-0.47332297697070258,-0.42722865643953778,-0.37408678264834183]
[null,"2017-05-30",-0.65680956980461269,-0.65680956980461269,-0.65465107707124481,-0.63663806429368719,-0.60530859538524773,-0.56666833362741398,-0.5324023546647173,-0.49142949710647682,-0.45339689052143706,-0.40896676271820265,-0.35685263497806385,null,"2017-05-30",0.99343190430195383,0.99343190430195383,0.99015310415874569,0.98703060057450298,0.98415477310111332,0.98156310767414601,0.97918800056352384,0.97709159050096162,0.97523565361466236,0.97368151402217384,0.97249797861161436,null,"2017-05-30",-0.65680956980460614,-0.65680956980460614,-0.66010274384310508,-0.64837341173441532,-0.62351673335887536,-0.59093886362561188,-0.56262586110840118,-0.52675744396627477,-0.49323712491413652,-0.4519000189783462,-0.40094582702665527]
[null,"2017-05-29",-0.66086827237584078,-0.66086827237584078,-0.67589287564647749,-0.64994855585426792,-0.64563798392775618,-0.61863620930929453,-0.5858416513738679,-0.54713608434004113,-0.51202838350222901,-0.46547470463234936,-0.41454278180062959,null,"2017-05-29",0.99339131727624164,0.99339131727624164,0.98992031610636888,0.98674014371616037,0.98353329750121932,0.98054418593217407,0.97779962500356254,0.97533463796452269,0.9731016794873163,0.97120439154099925,0.96967081604088079,null,"2017-05-29",-0.66086827237584744,-0.66086827237584744,-0.68158984708920345,-0.66227108426337722,-0.66524703316810374,-0.64550867292058056,-0.61958871078258149,-0.58743616063565707,-0.55751727746489177,-0.51499203486893297,-0.46671337188928241]
[null,"2017-05-26",-0.66339431801280491,-0.66339431801280491,-0.67303892317971659,-0.65068008975598179,-0.63179875200689994,-0.59713247201829567,-0.56489993115718051,-0.5230832950135379,-0.47707400762223084,-0.42677587730872818,-0.37433819229991783,null,"2017-05-26",0.993366056819872,0.993366056819872,0.98993611134550374,0.98674379979667282,0.98367303319686905,0.98086889673698008,0.97827944177297699,0.97598845094831976,0.97402178468760969,0.97240918896969286,0.97116130112569243,null,"2017-05-26",-0.66339431801279991,-0.66339431801279991,-0.67871259500104086,-0.6629454208262664,-0.65113348875490695,-0.62337131565328718,-0.59756929220569077,-0.56147211114480067,-0.52002067860176249,-0.47279816159433441,-0.42179431453014393]
[null,"2017-05-25",-0.67741935483871563,-0.67741935483871563,-0.67695988232171223,-0.66562237194850737,-0.65284404905016935,-0.6106631327746469,-0.57493688366751838,-0.53203348589700561,-0.48773278539011,-0.433693248261252,-0.37604102528990457,null,"2017-05-25",0.99322580645161285,0.99322580645161285,0.98982625042131611,0.98652117307883824,0.98329578694213537,0.98043033671302093,0.97781058971451096,0.97549341073116758,0.97347848236394863,0.97185179292240487,0.97063616989644352,null,"2017-05-25",-0.67741935483871529,-0.67741935483871529,-0.68271612014835226,-0.67817677764485662,-0.67277682684482309,-0.63751702173584501,-0.60836218150038812,-0.57127429611818492,-0.53176124543197201,-0.48069244031860858,-0.42394053541231491]
[null,"2017-05-24",-0.65793988215110755,-0.65793988215110755,-0.67173904107112026,-0.66231044176606757,-0.64122436338252986,-0.61250997572473187,-0.57726248789394619,-0.5311338874380731,-0.4848043701304236,-0.42870462213388694,-0.37533953980203399,null,"2017-05-24",0.99342060117848896,0.99342060117848896,0.98997691799500886,0.98665625958138947,0.98351410533804473,0.9805894989285463,0.97792261769550237,0.97560008295074774,0.97360239694684281,0.97201314579922049,0.97079047474787183,null,"2017-05-24",-0.6579398821511151,-0.6579398821511151,-0.6773142848754854,-0.67458844779998417,-0.66065406859925346,-0.63913137901137063,-0.61054645917669736,-0.57013426212338958,-0.52842956980442279,-0.47501786085069053,-0.42304500816007229]
[null,"2017-05-23",-0.69394701790734414,-0.69394701790734414,-0.71894726556613187,-0.69222345614659597,-0.65275320026275863,-0.61292122001328708,-0.58141392412882764,-0.52906355190708099,-0.47978702815342744,-0.42092127249492883,-0.35729093720071442,null,"2017-05-23",0.99306052982092652,0.99306052982092652,0.98932421335296272,0.98591848810391258,0.9828390431496109,0.98003741724136573,0.9774138914993773,0.97517648654262168,0.97327343166795921,0.97179022831157158,0.97076042760583026,null,"2017-05-23",-0.69394701790734814,-0.69394701790734814,-0.72502731668593334,-0.70547333771407983,-0.67320614717026883,-0.64033713022240146,-0.61568407563524774,-0.56871436006218357,-0.52378378263375769,-0.4671723260589955,-0.40358089467074088]
[null,"2017-05-22",-0.69695623194844969,-0.69695623194844969,-0.72265815602097005,-0.71582110548101419,-0.68507161056413513,-0.6453456057771032,-0.59783026791651317,-0.54613275113243154,-0.49495403515109504,-0.43407026195745213,-0.37233806982360246,null,"2017-05-22",0.99303043768051547,0.99303043768051547,0.98927248258346345,0.98565013896355369,0.98231721018013229,0.9792975063026822,0.97663115217694074,0.97433303951577965,0.97238090696315593,0.97086193050184377,0.9697714922395283,null,"2017-05-22",-0.69695623194846457,-0.69695623194846457,-0.72867870986367267,-0.72921786583354242,-0.7060842267212819,-0.6736831462629489,-0.63274982044495554,-0.58660259442316898,-0.53988179649623325,-0.48123643266928529,-0.41990270857161782]
[null,"2017-05-19",-0.69136259344238982,-0.69136259344238982,-0.71834586474423057,-0.69282159183359626,-0.66652086492599338,-0.62042734314586101,-0.57756518158549197,-0.5280502416751659,-0.47654580414236791,-0.4162136300773947,-0.35358302281128545,null,"2017-05-19",0.99308637406557609,0.99308637406557609,0.98934397630150595,0.98592739476181146,0.98271200030172479,0.97986387044738255,0.97730945577873141,0.97510078236725506,0.97324329386329378,0.97181490265208503,0.97082583891519481,null,"2017-05-19",-0.69136259344237949,-0.69136259344237949,-0.72425696472039336,-0.70575621366887331,-0.6867663125917467,-0.64751426066430584,-0.61098892751147993,-0.56676405897012616,-0.51939179665355661,-0.46104703706055794,-0.39837713663051222]
[null,"2017-05-18",-0.68293758729691811,-0.68293758729691811,-0.6984545164375342,-0.67719909204688067,-0.66261098894732262,-0.62274662487004895,-0.58426347916405641,-0.53310182989145993,-0.47867044787374918,-0.41938895763976058,-0.36364055291212233,null,"2017-05-18",0.99317062412703083,0.99317062412703083,0.98958505353452797,0.98624568709072102,0.98299303195043175,0.98006954019192694,0.97741856437766095,0.97514754230184364,0.97326584010994344,0.97180571987840692,0.97072083090397177,null,"2017-05-18",-0.68293758729691678,-0.68293758729691678,-0.70416267756202577,-0.68964308166505894,-0.68235489089768508,-0.64949072473678982,-0.61753216396011057,-0.57172143694563804,-0.52129421959160593,-0.46422769808092124,-0.40927937608887799]
[null,"2017-05-17",-0.66313777385678463,-0.66313777385678463,-0.68448846109073502,-0.66525165864781632,-0.6446103150878647,-0.61147775459110409,-0.57450160227979441,-0.52485303477401357,-0.47549729688680625,-0.41966317424355237,-0.35965531018290936,null,"2017-05-17",0.99336862226143219,0.99336862226143219,0.9898245053164102,0.98652628886343252,0.98338472719087389,0.98049879421938158,0.97787715702224332,0.97562665446149111,0.97372153838184072,0.97221363673073458,0.97113154469424934,null,"2017-05-17",-0.66313777385679229,-0.66313777385679229,-0.68996295280645548,-0.677271807475055,-0.66364977397732616,-0.63739298833119795,-0.6069647065215289,-0.56269000104063327,-0.5176161452552841,-0.46426247118547259,-0.40473398630078705]
[null,"2017-05-16",-0.69168014111421217,-0.69168014111421217,-0.72238759972133348,-0.69359402462417963,-0.66395847382362438,-0.62388035273365849,-0.58051916011764837,-0.52769086744203331,-0.47302756210421193,-0.41372257155695302,-0.3530880755000228,null,"2017-05-16",0.99308319858885785,0.99308319858885785,0.98930154522505076,0.98588957527020926,0.9827054262313305,0.97981948938253427,0.97723671049439209,0.97503304363412313,0.97320877499365133,0.97179819426221015,0.97080448122617224,null,"2017-05-16",-0.69168014111421483,-0.69168014111421483,-0.72843583674884194,-0.70688125956560599,-0.68482875261739462,-0.65206152787443683,-0.61530924832402523,-0.56795314618274251,-0.51727063628488335,-0.46005560524595701,-0.39958287263167636]
[null,"2017-05-15",-0.70490721044523419,-0.70490721044523419,-0.73101253846592884,-0.70187512221957582,-0.6634604396313325,-0.61793154528921546,-0.5770688287679695,-0.52321221173488885,-0.46712482953836326,-0.40576492360922006,-0.34709068849711744,null,"2017-05-15",0.99295092789554762,0.99295092789554762,0.98914893259561132,0.98570437115158038,0.98256965405818997,0.97976786084330292,0.97722609774540004,0.97506680554416703,0.97329569206933697,0.97195303473026262,0.97100283212528993,null,"2017-05-15",-0.70490721044523807,-0.70490721044523807,-0.7371480962651944,-0.71539196749521583,-0.68448795614463043,-0.64608541777123607,-0.61192847744199197,-0.56339392231131713,-0.51104690493594118,-0.45151958735875075,-0.39307576526406152]
[null,"2017-05-12",-0.7010211524434824,-0.7010211524434824,-0.74726103999167104,-0.71189964486726642,-0.68936483413033667,-0.64178523837966295,-0.59762176235776054,-0.54176398281623561,-0.48489602340422677,-0.42204520934699485,-0.35788602503957734,null,"2017-05-12",0.99298978847556518,0.99298978847556518,0.98900642932928506,0.98550872327082295,0.9821650966219666,0.97920531159131385,0.97654999997622882,0.97429892409261676,0.97244171331942975,0.9710256730403487,0.97005273226404176,null,"2017-05-12",-0.70102115244347063,-0.70102115244347063,-0.75349523045381561,-0.72565170276316371,-0.71104906970499426,-0.67094158934731807,-0.63364646127855861,-0.5832548130125792,-0.5304406422045882,-0.46953799970147481,-0.4052315016384922]
[null,"2017-05-11",-0.72234795940714469,-0.72234795940714469,-0.77057696721375624,-0.74347222780669764,-0.72094445132476515,-0.66757340085703232,-0.62592365734470079,-0.56885268563062319,-0.51139527417203368,-0.4463290986484218,-0.3738271149845549,null,"2017-05-11",0.99277652040592856,0.99277652040592856,0.9886653233474697,0.98496301355088856,0.981434909688502,0.97835567139701085,0.97555005124253658,0.9731597171708164,0.97116669631866648,0.96963388985493826,0.9686210156770988,null,"2017-05-11",-0.72234795940715468,-0.72234795940715468,-0.77727794159168084,-0.75833406145060511,-0.74447379134064962,-0.69890329144848273,-0.66474243824166113,-0.61360655532955999,-0.56063379105618649,-0.49773684231391169,-0.42453372788803234]
[null,"2017-05-10",-0.72210017574691521,-0.72210017574691521,-0.76531436893544813,-0.72900112297088426,-0.69661325139261043,-0.64334567633491346,-0.60024952500243733,-0.54357746164050946,-0.48377707315313007,-0.41683927701876505,-0.34974176965390907,null,"2017-05-10",0.9927789982425308,0.9927789982425308,0.98871869672983548,0.98514196287055089,0.98181028066894704,0.97889678643002798,0.9762571061137254,0.97401911302294886,0.97219656729044057,0.97084732431452758,0.96996097693954764,null,"2017-05-10",-0.72210017574692031,-0.72210017574692031,-0.772056218108641,-0.74377746284038926,-0.71969021414088896,-0.67393186886864909,-0.63789366871093156,-0.58679437980398985,-0.53082011356047065,-0.46534781968513572,-0.39752397603218803]
[null,"2017-05-09",-0.71209912536444409,-0.71209912536444409,-0.75617999804933078,-0.73949906627620554,-0.70886144653719696,-0.65722880851117027,-0.61195110935225761,-0.55616400859901316,-0.4953405140066548,-0.42485300542950843,-0.35938633450334406,null,"2017-05-09",0.9928790087463556,0.9928790087463556,0.98885987615866067,0.98513220818811542,0.98168127635200741,0.97865483381408813,0.97593756967451684,0.97361820512680264,0.97172805940152329,0.97034705445171932,0.96941062778344611,null,"2017-05-09",-0.71209912536444042,-0.71209912536444042,-0.76289547023303816,-0.75446305839802497,-0.73231260577433233,-0.68849715013100665,-0.65036403745665217,-0.60035539910195945,-0.54348075998440493,-0.47431977852608886,-0.40844650579463515]
[null,"2017-05-08",-0.71798992038564158,-0.71798992038564158,-0.76732138090616264,-0.75029176605670689,-0.7218328469275539,-0.6701834641913833,-0.61838059047524041,-0.56503191732918012,-0.50649387771602439,-0.44195163402788357,-0.37802273829407274,null,"2017-05-08",0.99282010079614358,0.99282010079614358,0.98871911960574521,0.98493030330301001,0.98140013699639816,0.97829992110778996,0.97557564375843042,0.97321759161067145,0.97126432475139302,0.9697631143734714,0.96869692242350036,null,"2017-05-08",-0.71798992038565324,-0.71798992038565324,-0.77412335257388554,-0.76546756539165317,-0.74564409896795691,-0.70199351160277201,-0.65717370865676639,-0.6098749544656612,-0.55561468364037081,-0.49314593188094502,-0.4293538248519857]
[null,"2017-05-05",-0.70612364488718504,-0.70612364488718504,-0.75920312198171347,-0.7466494009562431,-0.717970841992563,-0.67159952704329406,-0.61872414390666886,-0.5620348188209181,-0.50455772109407115,-0.44213126119030322,-0.3766395185190764,null,"2017-05-05",0.9929387635511282,0.9929387635511282,0.98886027918484143,0.98506260727881534,0.98154046590569144,0.97840230597910594,0.97566172762859749,0.97332567620743948,0.9713835305344849,0.96987353297841261,0.96881624516985632,null,"2017-05-05",-0.70612364488719104,-0.70612364488719104,-0.76582431840634957,-0.76147272142410571,-0.74124376070996423,-0.70282199876628981,-0.65687435290801011,-0.60589671129808176,-0.55266385915415661,-0.49246619745402231,-0.42694991241389868]
[null,"2017-05-04",-0.69605062186341493,-0.69605062186341493,-0.74765319220169224,-0.74380308607983692,-0.72001481932100819,-0.67251795593123065,-0.62677523415565817,-0.57317005393471299,-0.51670811401012118,-0.45267847307107234,-0.38985215783055055,null,"2017-05-04",0.9930394937813658,0.9930394937813658,0.98902619566833738,0.98520246895116115,0.98162556879580909,0.9784614508157079,0.97563058675830483,0.97318786598151918,0.97114058330133679,0.9695494435878742,0.9683899274927954,null,"2017-05-04",-0.69605062186340882,-0.69605062186340882,-0.75417124056368356,-0.75852101453218745,-0.743392862365444,-0.70385279127046507,-0.66563252104964166,-0.61803519084351333,-0.56617923629551647,-0.5045229817835617,-0.4421060403167032]
[null,"2017-05-03",-0.67662053896577912,-0.67662053896577912,-0.7145341461549235,-0.70216447638216439,-0.67949951045461887,-0.63609953672694142,-0.59024913933770284,-0.53426514300292993,-0.47839510000482821,-0.41638195309920362,-0.35384835153685568,null,"2017-05-03",0.99323379461034222,0.99323379461034222,0.98945459017606452,0.98590512181444445,0.9825606269621876,0.97957902635246219,0.97693525377184853,0.97470472471655334,0.97286354016765708,0.97146016697747373,0.97048843932067241,null,"2017-05-03",-0.67662053896576646,-0.67662053896576646,-0.72073274824618894,-0.71596598789163135,-0.701260495880629,-0.66531268868254001,-0.62619395236119813,-0.57549501989457852,-0.52351291596534066,-0.46329652026820822,-0.40058965209188724]
[null,"2017-05-02",-0.66583995915092231,-0.66583995915092231,-0.71869444417523376,-0.70326007573067884,-0.67855919135267517,-0.63308394741541574,-0.5966434359725471,-0.54276072718798063,-0.48789471839299481,-0.42627774071139135,-0.36433186349740215,null,"2017-05-02",0.99334160040849073,0.99334160040849073,0.98946790994978473,0.9859043833264225,0.98257120354664329,0.97961980141046001,0.97690949534184612,0.97460172963948921,0.9726820641916637,0.97120268297086843,0.97015373328332932,null,"2017-05-02",-0.66583995915092675,-0.66583995915092675,-0.72477985915039289,-0.71682400013814984,-0.69992488746587478,-0.66170088553547668,-0.63231296248763558,-0.58399967109611373,-0.53327221520395041,-0.47373951205080811,-0.41195955008953566]
[null,"2017-05-01",-0.65280315766391517,-0.65280315766391517,-0.69266313819819658,-0.6828160900787672,-0.66196649430284604,-0.61912630426134097,-0.58025650323646083,-0.53030255343746169,-0.47283765760341651,-0.40650307527312868,-0.34463939207785593,null,"2017-05-01",0.99347196842336083,0.99347196842336083,0.98979267273022309,0.98632496431026229,0.98305249113929494,0.9801438698644126,0.97750906357496858,0.97524012693779749,0.97339041579340291,0.97202881407505526,0.97109402678060652,null,"2017-05-01",-0.65280315766391706,-0.65280315766391706,-0.69866167716966521,-0.69618356657376035,-0.6830874751232896,-0.64761470354474104,-0.61558987542320587,-0.57126907885379774,-0.51765150678513283,-0.45268535421912892,-0.39061193646119374]
[null,"2017-04-28",-0.64527942576722308,-0.64527942576722308,-0.6789940014627196,-0.66784827807751024,-0.6451575604245795,-0.60455217982298193,-0.56810110938055014,-0.52011964219305273,-0.46549971500049697,-0.40687075546574203,-0.34573563191338458,null,"2017-04-28",0.9935472057423278,0.9935472057423278,0.98996714829525079,0.98659182029346149,0.98342227204272892,0.9805890648462755,0.97800656650040951,0.97577484676746284,0.97393941150171881,0.97252308094469631,0.97153832183033151,null,"2017-04-28",-0.64527942576723119,-0.64527942576723119,-0.68483234209810728,-0.68078817670813585,-0.66553575378323071,-0.63191612969494271,-0.60214618285474586,-0.55963234756111202,-0.50890882168908025,-0.45228056326485078,-0.39101002347291525]
[null,"2017-04-27",-0.63683708648133119,-0.63683708648133119,-0.65844265202396757,-0.63959923816235109,-0.62575988196612264,-0.58799436246449399,-0.55867046868901749,-0.51487827260631203,-0.46055949621278264,-0.40216182335508111,-0.34322087692726472,null,"2017-04-27",0.99363162913518666,0.99363162913518666,0.99021464449486285,0.98703906871608305,0.9839528309608353,0.98118049103022409,0.97859653174655836,0.97633638821161106,0.97448353555279488,0.97305719435625071,0.97204798954562821,null,"2017-04-27",-0.63683708648132331,-0.63683708648132331,-0.66412860845049826,-0.6520579037179064,-0.64557399775183599,-0.6147744150376222,-0.59227244483761599,-0.55412823848767223,-0.50368341410667039,-0.44725275191324076,-0.38836488510464173]
[null,"2017-04-26",-0.63780568407137395,-0.63780568407137395,-0.67172213943504411,-0.66782888446082866,-0.64495769585144369,-0.61887594605006901,-0.580999458386944,-0.53435418645908905,-0.48425135565519056,-0.42452394328452669,-0.36928931173123747,null,"2017-04-26",0.99362194315928631,0.99362194315928631,0.99007704736634594,0.9866652781184766,0.98347874696740323,0.98049137774075501,0.97779499769040967,0.9754487710944536,0.97346401655634707,0.97191944064849289,0.97075486003585887,null,"2017-04-26",-0.63780568407136862,-0.63780568407136862,-0.67755426651232575,-0.68086326257724705,-0.66553359300018933,-0.64708062664693422,-0.61612988998264173,-0.57535852540449017,-0.52974891677936009,-0.47229792312184493,-0.41792176031880679]
[null,"2017-04-25",-0.63962569997052976,-0.63962569997052976,-0.66022215498582471,-0.67496074106815918,-0.66757346177206645,-0.62662061180916417,-0.60239082238640973,-0.55554295456223846,-0.50441625593750061,-0.44508932603059637,-0.38297227139048645,null,"2017-04-25",0.99360374300029475,0.99360374300029475,0.99018209222037656,0.98666416299009241,0.9832522527300358,0.98022930947677667,0.9773605488462761,0.97486038312533096,0.97274167091487895,0.97106424598894303,0.96983658830958286,null,"2017-04-25",-0.63962569997052521,-0.63962569997052521,-0.66608513156892757,-0.68824096962361025,-0.68900696203647582,-0.65569852260525252,-0.63924299684977592,-0.59872808714073189,-0.55239518502648854,-0.49576826938231289,-0.43426567245222758]
[null,"2017-04-24",-0.61810236278793573,-0.61810236278793573,-0.647633303093613,-0.63750813026900421,-0.63704290382333706,-0.60139538101257628,-0.57768122295262092,-0.53133602608726249,-0.48278784593435681,-0.42516540322379215,-0.36919810584418389,null,"2017-04-24",0.99381897637212069,0.99381897637212069,0.99041687537435641,0.98719597867816555,0.98396029926070849,0.98105528248465512,0.97830499721897146,0.97592363716430608,0.97390263745686667,0.97231225518201925,0.9711182066480758,null,"2017-04-24",-0.61810236278794228,-0.61810236278794228,-0.65319621067903011,-0.64984502576783676,-0.6569528692408122,-0.62839475312544968,-0.61195767044758265,-0.57135208813370308,-0.52727558334629832,-0.47207454235441704,-0.41696632590370042]
[null,"2017-04-21",-0.59364350274114663,-0.59364350274114663,-0.62980680769350328,-0.64296900395077228,-0.63533903240455403,-0.60766147533364379,-0.57001387680933457,-0.51846453765831291,-0.46926628609726989,-0.41162969001771293,-0.3481263692408188,null,"2017-04-21",0.99406356497258852,0.99406356497258852,0.99071847638661203,0.98734580518731041,0.98409209847029966,0.98110157695460931,0.97842190684002628,0.97615417381254932,0.97424264133057015,0.97275467240352975,0.97173119445747758,null,"2017-04-21",-0.59364350274114797,-0.59364350274114797,-0.63507333988317427,-0.65499449708048552,-0.65483346623524952,-0.63446313106210184,-0.60343961788466016,-0.55713795248085729,-0.5120275391494733,-0.45646064199038605,-0.3927792031903965]
[null,"2017-04-20",-0.58764570495210378,-0.58764570495210378,-0.61598179023156485,-0.61974168269999352,-0.61051935398781398,-0.58856691235756686,-0.54897532531976478,-0.4999910765805875,-0.4498849874531175,-0.38725901868080725,-0.33006131887182072,null,"2017-04-20",0.994123542950479,0.994123542950479,0.99088668420264947,0.98769011895576275,0.98459937450368751,0.9817012751292733,0.9791357382565119,0.97695613786897939,0.97514411314800531,0.97380569223559477,0.97286713396173519,null,"2017-04-20",-0.5876457049521,-0.5876457049521,-0.62112864761051378,-0.63134411090259857,-0.6291965489992557,-0.6143019175548603,-0.58092097670289222,-0.53698265721460192,-0.49065503607672589,-0.42933897259990195,-0.37219813167314042]
[null,"2017-04-19",-0.57063403781981059,-0.57063403781981059,-0.59556773131784346,-0.59962252840311658,-0.59300165538414928,-0.57132780913978409,-0.52832681190022346,-0.48473058229697918,-0.4330349791382242,-0.37523326533839563,-0.31732090252625234,null,"2017-04-19",0.99429365962180194,0.99429365962180194,0.99117656619991545,0.98808647084640122,0.98507520590840847,0.9822586634144207,0.97981197345753701,0.97769621163830089,0.97596862867983014,0.97466937719489277,0.97378291011424156,null,"2017-04-19",-0.57063403781979494,-0.57063403781979494,-0.60043069037188923,-0.61056745305678728,-0.61068815657464581,-0.59578524761532137,-0.55847492190437276,-0.51982216645446444,-0.47155861372718544,-0.41526886394805951,-0.35718858913352802]
[null,"2017-04-18",-0.55979073243646105,-0.55979073243646105,-0.58933766727169978,-0.55462060940206392,-0.57875976216055758,-0.53996775383198092,-0.52517110482510132,-0.48029738116665666,-0.42562538027656421,-0.36648005968640479,-0.31589269047545948,null,"2017-04-18",0.9944020926756354,0.9944020926756354,0.99129366182491518,0.98861358123609744,0.98561719012254778,0.98300943263607321,0.98047853148655761,0.97832111555180545,0.97659864063852564,0.97532593177567606,0.97439968539576116,null,"2017-04-18",-0.55979073243647148,-0.55979073243647148,-0.59406651833987523,-0.56476807957626107,-0.59554566531758724,-0.56263342409270667,-0.55420913375000547,-0.51416266358607077,-0.46262553649164539,-0.40485034889679028,-0.35471183592484801]
[null,"2017-04-17",-0.57820830517385213,-0.57820830517385213,-0.5911863613654772,-0.57471244460763404,-0.55029842546045471,-0.52701596985934107,-0.50762418726199354,-0.46897488090755945,-0.42605099550940995,-0.37572992749428741,-0.32142759023671447,null,"2017-04-17",0.99421791694826145,0.99421791694826145,0.99118132808354187,0.98833589005173528,0.98568551311935682,0.98318796913401141,0.98079594679139559,0.97870052661414741,0.97692198978950173,0.975517441670957,0.97451079999332668,null,"2017-04-17",-0.57820830517384403,-0.57820830517384403,-0.59620547938200597,-0.58563621374821961,-0.56734278466894494,-0.55019774823108492,-0.53705849471348266,-0.50346991006426922,-0.46451081703252628,-0.41636922070358295,-0.36231210574981798]
[null,"2017-04-14",-0.56923076923075178,-0.56923076923075178,"","","","","","","","","",null,"2017-04-14",0.99430769230769245,0.99430769230769245,"","","","","","","","","",null,"2017-04-14",-0.56923076923076632,-0.56923076923076632,-0.60845521633113853,-0.58097984594214225,-0.57577928180719828,-0.55310156474173144,-0.52427209032365196,-0.49012863337374313,-0.45105308308525105,-0.40267290118348731,-0.34814304488554049]
[null,"2017-04-13",-0.5758121389451426,-0.5758121389451426,-0.60086999952289744,-0.56029087376885323,-0.55696858208306954,-0.52496638351677793,-0.49044882110825594,-0.45655381112323812,-0.41383845320036983,-0.36330494711025441,-0.30863605699578778,null,"2017-04-13",0.99424187861054858,0.99424187861054858,0.99109704078158567,0.9884227468345439,0.98568540928676851,0.98320942609242179,0.98098339593587625,0.97898493306173429,0.97729418825994618,0.97597544532496994,0.9750536150519129,null,"2017-04-13",-0.57581213894515315,-0.57581213894515315,-0.6058943589874688,-0.57101388430557121,-0.57407832123272939,-0.54782556837091878,-0.51910688729597254,-0.49031050963080913,-0.4512059447290051,-0.40246399389300969,-0.34795949508424906]
[null,"2017-04-12",-0.56299984910215484,-0.56299984910215484,-0.58347657265800046,-0.5493422086239238,-0.55516135053095561,-0.50893249167050869,-0.47784896010792605,-0.43938946748880064,-0.39874984221066362,-0.34593990853077478,-0.29894518368000966,null,"2017-04-12",0.99437000150897847,0.99437000150897847,0.99133517287897333,0.98869191781881005,0.98590738432905511,0.98354669499304692,0.98139236878641678,0.97950924024900232,0.97790681590201012,0.97669651058437557,0.9758065025709779,null,"2017-04-12",-0.56299984910215262,-0.56299984910215262,-0.58834611716825913,-0.55981537382072677,-0.57207766120709325,-0.53131387337668201,-0.50569638634303526,-0.47182272021356608,-0.43477870133885599,-0.38340768951428128,-0.33688588822164967]
[null,"2017-04-11",-0.58183864915573846,-0.58183864915573846,-0.61692431888368537,-0.58469178878441264,-0.58513610274165251,-0.54231683576696921,-0.51908427100734678,-0.47751071694685082,-0.42955882460919415,-0.37555422317669734,-0.31651615173482178,null,"2017-04-11",0.99418161350844259,0.99418161350844259,0.99090590585760052,0.98804979640939972,0.9851211142804569,0.98257682459697648,0.98016404973461246,0.9780640757877741,0.97631945072471937,0.9749720293236902,0.97405659951026213,null,"2017-04-11",-0.58183864915573036,-0.58183864915573036,-0.62219831789908087,-0.59616748149349252,-0.60356625650976881,-0.56696294970423056,-0.55009908335229563,-0.51366424540908451,-0.46936473394360023,-0.4172358561075451,-0.35782725372232038]
[null,"2017-04-10",-0.58794837160439373,-0.58794837160439373,-0.62061108392975683,-0.61316040737713595,-0.59709701126122472,-0.54533910896886773,-0.51890369241854173,-0.47946282606606516,-0.43044963178365997,-0.3756357814623203,-0.31895179037057175,null,"2017-04-10",0.99412051628395603,0.99412051628395603,0.99083745193855077,0.98771860265514011,0.98474800196085577,0.98224050195053814,0.97987652463998764,0.97778874598333565,0.97605918031992223,0.97472875566149197,0.97380244198785071,null,"2017-04-10",-0.5879483716043854,-0.5879483716043854,-0.62611589122836264,-0.62549617273462976,-0.61670502051762721,-0.57117319190757021,-0.5512143561691385,-0.51716357791854461,-0.47184963910626987,-0.41884221035257685,-0.36198583905130421]
[null,"2017-04-07",-0.59299895506792533,-0.59299895506792533,-0.63379159331356461,-0.61835619612476556,-0.62032426679341124,-0.5774198911831494,-0.55235331409841082,-0.51093622023269347,-0.46424925605591816,-0.4084523680024949,-0.34755441366367557,null,"2017-04-07",0.99407001044932075,0.99407001044932075,0.99068026442770507,0.98756028822007103,0.98439652063320404,0.9816372764113972,0.97903615284159673,0.97674787394821916,0.97480266770247559,0.97327310067935502,0.97219229805353202,null,"2017-04-07",-0.59299895506792488,-0.59299895506792488,-0.63945306958406167,-0.63100721172690832,-0.64083674148552872,-0.60494635253235396,-0.58699139480440365,-0.55144439358385533,-0.50924597587563847,-0.45580166643475195,-0.3948356431997091]
[null,"2017-04-06",-0.58607321255497913,-0.58607321255497913,-0.62578684038508348,-0.60957040183240907,-0.60387610380571033,-0.560916261651348,-0.5353794447662793,-0.49444998720122468,-0.44696466608325025,-0.39197258938599372,-0.3343510604682734,null,"2017-04-06",0.99413926787445017,0.99413926787445017,0.99079585551199234,0.98772741042553813,0.98468911423875316,0.98204058999977017,0.97954701560696211,0.97735673649004851,0.97551534671919993,0.97407977286227554,0.9730601960180294,null,"2017-04-06",-0.58607321255497169,-0.58607321255497169,-0.63119504794603154,-0.62164009878591386,-0.62330134035618601,-0.58700473882546955,-0.56829027168044943,-0.5329915132403884,-0.48965263867943865,-0.4368237662615515,-0.37933189636397691]
[null,"2017-04-05",-0.57841458876070162,-0.57841458876070162,-0.62770191589223479,-0.62575212850931028,-0.58614982946030192,-0.54072504794156473,-0.5301148364224616,-0.48803892901158596,-0.43827405424322852,-0.37888007070138002,-0.32331462286894103,null,"2017-04-05",0.99421585411239299,0.99421585411239299,0.99081544731910043,0.98758001406874896,0.98475315531364238,0.98229203881976457,0.97981105466190155,0.97764883657480872,0.97585936473933832,0.97451792430238837,0.9735679320871089,null,"2017-04-05",-0.57841458876070062,-0.57841458876070062,-0.63307949718813816,-0.63797788985529014,-0.60521156783173158,-0.56604445337222753,-0.56262442001003832,-0.52606719444402428,-0.48017367221835361,-0.42231450944627547,-0.36684557173239929]
[null,"2017-04-04",-0.58797194448591361,-0.58797194448591361,-0.64914755450018335,-0.63106881087442024,-0.61915198071419031,-0.58230999445025722,-0.54553620409749182,-0.48869380749893943,-0.44576040841358877,-0.39523847819943736,-0.34447541421135519,null,"2017-04-04",0.9941202805551409,0.9941202805551409,0.990552826234251,0.98734880119978641,0.98424850825631094,0.98147025396815779,0.97896322906081035,0.97690370311172492,0.97512270714130067,0.97369136070062523,0.97260455704553739,null,"2017-04-04",-0.58797194448590995,-0.58797194448590995,-0.65480764679666237,-0.64381674934571587,-0.63959769417104573,-0.60987086237578314,-0.57977080064031128,-0.52771341860824439,-0.4890962323775172,-0.44105313767023313,-0.39115955049723317]
[null,"2017-04-03",-0.59038935804499493,-0.59038935804499493,-0.64711517340746783,-0.61765035497022158,-0.61477733367909415,-0.56749683612478097,-0.54557003525222436,-0.4968544555529148,-0.44950456712837278,-0.39949305692008419,-0.34595974912573924,null,"2017-04-03",0.99409610641955004,0.99409610641955004,0.99056115011934998,0.98748853436863449,0.9843994092905316,0.98174106434649044,0.97919446937192656,0.97702798471411711,0.97520010535994206,0.97372433352391763,0.97262502732643163,null,"2017-04-03",-0.59038935804499593,-0.59038935804499593,-0.65271684914230965,-0.63004800802339833,-0.63470720318210549,-0.59398107622189444,-0.57902709187797052,-0.53555476788229583,-0.49234280431303956,-0.44481218357425023,-0.39197796477866698]
[null,"2017-03-31",-0.59415828202432608,-0.59415828202432608,-0.6572700444502021,-0.65338981697285947,-0.65219034177768043,-0.60432289631560998,-0.57055532648013285,-0.52223589326012065,-0.47497970951243912,-0.4201088176610584,-0.36647040949889514,null,"2017-03-31",0.99405841717975674,0.99405841717975674,0.99043997851414389,0.98704899585821526,0.98369138923173871,0.9807987752730013,0.97814687412979395,0.97586211662732725,0.97390936907168868,0.97235136112239307,0.97116313729714177,null,"2017-03-31",-0.5941582820243374,-0.5941582820243374,-0.66314640550385606,-0.66692485954882308,-0.67411582932552783,-0.63361307647349374,-0.60707694970932868,-0.56446457624184099,-0.52180135280930351,-0.46950123712502512,-0.41687970047603606]
[null,"2017-03-30",-0.60715088823926067,-0.60715088823926067,-0.69329497106354554,-0.67853231802447,-0.68854032025987,-0.63217985898852191,-0.59185187197403355,-0.54389192954862875,-0.49530380308064842,-0.43834209600455387,-0.37901245338370187,null,"2017-03-30",0.99392849111760739,0.99392849111760739,0.99001472918418409,0.98651176723419365,0.98292246485407264,0.97989927427164925,0.97717610961548795,0.97480407122757273,0.97276936568540295,0.97114291534231356,0.96993486674557838,null,"2017-03-30",-0.60715088823926067,-0.60715088823926067,-0.69954599094566028,-0.69284360510660781,-0.71197506676059508,-0.66332544804013072,-0.63036923444597104,-0.58852859293472282,-0.54481269127890641,-0.49057384867865483,-0.43187887424210869]
[null,"2017-03-29",-0.60490769923458587,-0.60490769923458587,-0.69029347272075736,-0.69995522103462726,-0.68430728511356054,-0.64635743993659811,-0.59173452484373701,-0.54287954650155612,-0.49099421129826448,-0.43237792009845116,-0.37137047076135465,null,"2017-03-29",0.99395092300765409,0.99395092300765409,0.99005661530591405,0.98632859564026554,0.98282789852039676,0.97968641560247782,0.97700180175646878,0.97466784372808846,0.97269643572167142,0.97114187915328787,0.9700149424332305,null,"2017-03-29",-0.60490769923459142,-0.60490769923459142,-0.69636881693913022,-0.71422911446564763,-0.70722710985213766,-0.67732598955605461,-0.62954111891139197,-0.58653745757859532,-0.53915290764571244,-0.48290056317662478,-0.42223594115478047]
[null,"2017-03-28",-0.61503399835613659,-0.61503399835613659,-0.68363589802299141,-0.67167679908704891,-0.67672374866135443,-0.63242460348595908,-0.59637850297990647,-0.53834611887625528,-0.48758859139629113,-0.4330260390540206,-0.37302502335465626,null,"2017-03-28",0.9938496600164386,0.9938496600164386,0.99007145705611488,0.98661847311821649,0.98312092550370356,0.98005787821162305,0.97726660115068875,0.97493886762793724,0.97296637924672291,0.97137477632574476,0.97020734292606692,null,"2017-03-28",-0.61503399835612926,-0.61503399835612926,-0.68981853671777893,-0.68578014079230254,-0.69969908502580669,-0.66339508657830004,-0.63478662183319434,-0.58222593936723133,-0.53603684633559689,-0.48421245829818327,-0.42467235744401144]
[null,"2017-03-27",-0.59068480861242656,-0.59068480861242656,-0.66702494929220846,-0.65267379289757266,-0.65571355088894356,-0.60663422757653873,-0.56495184855482428,-0.51505107980023446,-0.46845428870989764,-0.4172565129730143,-0.36524657055929699,null,"2017-03-27",0.99409315191387571,0.99409315191387571,0.990360563582803,0.98700358222062634,0.98362340599012876,0.98072250541211681,0.97814049782508183,0.97593018961245614,0.97403762200448174,0.97249915657034447,0.97131466329535909,null,"2017-03-27",-0.59068480861244055,-0.59068480861244055,-0.67286782251854138,-0.66603401956436548,-0.677457252797109,-0.63572304169584593,-0.60067994898889143,-0.55623143373427775,-0.51397354253610583,-0.46552961735127907,-0.41464972194594774]
[null,"2017-03-24",-0.60098669457317755,-0.60098669457317755,-0.67883409057680388,-0.66843074245056711,-0.65659434201634648,-0.61138307509046208,-0.58360669269448351,-0.5264217102180726,-0.48220048806960442,-0.42972497763547413,-0.3780973362919941,null,"2017-03-24",0.9939901330542682,0.9939901330542682,0.99019041666292218,0.98673110586284229,0.9834058935075114,0.98049674188954739,0.97776255924037336,0.97548587554920652,0.97350398613691724,0.97189082260109672,0.97062789496962554,null,"2017-03-24",-0.6009866945731801,-0.6009866945731801,-0.68488382530912384,-0.6823753760709983,-0.6789761213439216,-0.64133247654030168,-0.6211421475474932,-0.56940242751731818,-0.52998454795535332,-0.48046892130116925,-0.43031120210044183]
[null,"2017-03-23",-0.60674157303370502,-0.60674157303370502,-0.6614138372132754,-0.63129848297517954,-0.61894775466981633,-0.57371936066865936,-0.53857284226563717,-0.49346955491707056,-0.4493763265821733,-0.39868987899363284,-0.34943825269250622,null,"2017-03-23",0.99393258426966291,0.99393258426966291,0.99033502927671246,0.98719742165331514,0.98413219387254214,0.98145615492511462,0.97901497755154543,0.97689644660471686,0.97507479122224761,0.97360859678523637,0.97247456536586563,null,"2017-03-23",-0.6067415730337089,-0.6067415730337089,-0.6673956239199863,-0.64464613231557388,-0.64020411922423026,-0.60199087688366237,-0.57345197277772764,-0.5337796342571699,-0.49413618953633165,-0.44590690818919754,-0.39775606377625561]
[null,"2017-03-22",-0.60514667266861588,-0.60514667266861588,-0.63390237090639523,-0.61446807385833913,-0.60521056293003683,-0.56917890014798167,-0.53014765900345706,-0.48276489702439751,-0.437985909466788,-0.38716761868080152,-0.33576946249820416,null,"2017-03-22",0.99394853327331389,0.99394853327331389,0.99061772073312138,0.98755613923405128,0.98454179356984484,0.98183470897861724,0.9794197196584985,0.97735562324885528,0.97559713889735,0.97419569339522449,0.97314726552007191,null,"2017-03-22",-0.60514667266861055,-0.60514667266861055,-0.63964041760259382,-0.62722850391504492,-0.62564215391772704,-0.59664905911445132,-0.56394709328676518,-0.5216896709857366,-0.48095361689231009,-0.43237439844658887,-0.3816864606279613]
[null,"2017-03-21",-0.60305572198921442,-0.60305572198921442,-0.65705877547938996,-0.61230809582452794,-0.60598854763884935,-0.56302993009216062,-0.52728622844262396,-0.47624649238403965,-0.43156801453801036,-0.38256555589800806,-0.33202805653913453,null,"2017-03-21",0.9939694427801079,0.9939694427801079,0.99039723261679025,0.98742884854523072,0.98443729448183792,0.98180999360713717,0.97942600048341544,0.97742417780962232,0.9757196693391057,0.97434945429808206,0.97332273947687509,null,"2017-03-21",-0.60305572198920965,-0.60305572198920965,-0.66296001248513647,-0.62518057008493777,-0.62655758668196393,-0.59050076891767889,-0.56116428628258941,-0.5149267135604263,-0.47420581316747201,-0.42756830457977291,-0.37768498040383625]
[null,"2017-03-20",-0.62494382022472683,-0.62494382022472683,-0.66881962429214536,-0.65726443195398088,-0.63646975865763611,-0.58966232145702913,-0.55240740521295217,-0.50106642572470905,-0.45213746017035333,-0.4001460491669403,-0.34512710620045067,null,"2017-03-20",0.99375056179775278,0.99375056179775278,0.99016924869818834,0.98682730596368151,0.98367704506900988,0.98092832284401721,0.97843086233766174,0.97631218182540702,0.97452727615738666,0.97309761704400766,0.97204664226562632,null,"2017-03-20",-0.6249438202247215,-0.6249438202247215,-0.67493687495583377,-0.67116116207313059,-0.65853646752770389,-0.61913996440828845,-0.58874768361159013,-0.54262208831671321,-0.49782025977215261,-0.448322388165312,-0.39371941682146971]
[null,"2017-03-17",-0.63370786516854083,-0.63370786516854083,-0.67581043373705407,-0.66317696219673072,-0.63941345189862875,-0.6061363493834071,-0.55980598706084783,-0.51126440287628816,-0.46489951112721145,-0.41140517874959676,-0.35431383533016281,null,"2017-03-17",0.99366292134831458,0.99366292134831458,0.99005487556158622,0.98669020384215589,0.98354173928793109,0.98065356934593406,0.97812262459851596,0.97593957436354783,0.97406646603631242,0.97256659592907346,0.97146627500945604,null,"2017-03-17",-0.63370786516853128,-0.63370786516853128,-0.68210159382032787,-0.67748840393588861,-0.66207043041308644,-0.63682343905420158,-0.59736473483436026,-0.5545668885389321,-0.51280875483165067,-0.4619182065722538,-0.40521220555014281]
[null,"2017-03-16",-0.62992717170960044,-0.62992717170960044,-0.66566434305426447,-0.66708266327071974,-0.616621451456143,-0.58385865665525627,-0.55875677954281311,-0.50612964491305878,-0.45665112900000798,-0.40112000412401139,-0.34459296834158337,null,"2017-03-16",0.99370072828290401,0.99370072828290401,0.99017464754194939,0.98673106743485317,0.98379660970400173,0.98107771271904975,0.97848825446152876,0.97630478504654672,0.97446777241317095,0.97302543053543278,0.97197646879549482,null,"2017-03-16",-0.62992717170959889,-0.62992717170959889,-0.6719777192207621,-0.68161316024836216,-0.63902973148115549,-0.61399565064143014,-0.59658419476992242,-0.54944818254272221,-0.50434623936383982,-0.45102819930212812,-0.39473011312252115]
[null,"2017-03-15",-0.62387251954299405,-0.62387251954299405,-0.65962634911521301,-0.66817988883877177,-0.64097528506345991,-0.59731284081517944,-0.55340929861321608,-0.50343272897572666,-0.45852365120415561,-0.40422865624360654,-0.34913965369055178,null,"2017-03-15",0.9937612748045701,0.9937612748045701,0.99026605843755078,0.98678313330806877,0.98359727335931679,0.98078636543200537,0.97829838540057268,0.97616990041235752,0.97433368699917811,0.97287816557536677,0.9718015605281134,null,"2017-03-15",-0.6238725195429895,-0.6238725195429895,-0.66573828627676246,-0.68238695804417882,-0.66351999783401672,-0.62748884525283266,-0.5904267028869814,-0.54597184118475584,-0.50570386999269079,-0.45379775587101046,-0.39923433657053087]
[null,"2017-03-14",-0.6451517174864706,-0.6451517174864706,-0.71348577747690001,-0.70748017923702999,-0.68974115444680983,-0.64707252298732476,-0.60291288194462866,-0.55006283934850575,-0.50055471635994764,-0.44895181038066651,-0.39572657041277465,null,"2017-03-14",0.9935484828251353,0.9935484828251353,0.9896200706942625,0.98595323264221468,0.98247807192058345,0.97937983568358056,0.97661342339363011,0.97423731117355994,0.97219620964025266,0.97050251163337609,0.96916626137166051,null,"2017-03-14",-0.6451517174864585,-0.6451517174864585,-0.72037794022344892,-0.72349970925725815,-0.71540822268079118,-0.68160792590492569,-0.64538584712416913,-0.59881423259365851,-0.55440170508957998,-0.50621011644258473,-0.45454515085497915]
[null,"2017-03-13",-0.63223263424067566,-0.63223263424067566,-0.69387594341045689,-0.70195975201030281,-0.67243863643468849,-0.61724084311320238,-0.58508113875104395,-0.53818227027856413,-0.49420927896459305,-0.44149020230901698,-0.38491135532933307,null,"2017-03-13",0.9936776736575933,0.9936776736575933,0.98988066623144189,0.98618321987986202,0.98282293573704105,0.97995243065628423,0.97727048099083769,0.97492222273332352,0.97286251842057037,0.97117227795858529,0.96987880669270032,null,"2017-03-13",-0.63223263424067033,-0.63223263424067033,-0.70061734578629187,-0.71786847303936252,-0.69771516384634635,-0.65060937379052275,-0.62664763325186446,-0.58627214124831184,-0.54786510949729195,-0.49840129624518781,-0.44290513719891234]
[null,"2017-03-10",-0.63068814490386704,-0.63068814490386704,-0.69582239252937939,-0.7082759339636846,-0.69399207316099853,-0.63528089853637604,-0.60252397031807214,-0.55655415715585332,-0.50386195855704319,-0.45151136071262282,-0.39957828616997859,null,"2017-03-10",0.99369311855096132,0.99369311855096132,0.98986941585945842,0.98611394665824226,0.9825590971199204,0.97956384790001294,0.97677513659476634,0.97431674566226933,0.97223706211356009,0.97051699579551032,0.96914433243216402,null,"2017-03-10",-0.63068814490386815,-0.63068814490386815,-0.70248972915948338,-0.72405804726993761,-0.71944080761811025,-0.66888400974206563,-0.64436969732651894,-0.60516924861513388,-0.5574390455598488,-0.50853578195290128,-0.45845640284456479]
[null,"2017-03-09",-0.6298571534305305,-0.6298571534305305,-0.7192504535301617,-0.73548910159788972,-0.723607697247314,-0.66631206797976938,-0.63370532135056656,-0.58995479627622704,-0.53323917852819258,-0.48043699199372325,-0.42486351179130161,null,"2017-03-09",0.99370142846569465,0.99370142846569465,0.9896397788457596,0.98568824385424103,0.98194147424652245,0.97875502521367042,0.97578336176592007,0.97312525627612234,0.97088981957603482,0.96901710031458876,0.96752586204439384,null,"2017-03-09",-0.62985715343053528,-0.62985715343053528,-0.72612082539503797,-0.75194552803712345,-0.75039216126034924,-0.7019780711624124,-0.67813389710520422,-0.64187438581173595,-0.59047776939677998,-0.54165020322026747,-0.48796551594876281]
[null,"2017-03-08",-0.60114150174190417,-0.60114150174190417,-0.70156811141331676,-0.72477130552225,-0.70465646879390698,-0.54548052682354942,-0.6256545517815435,-0.57935721168721921,-0.52507383758322801,-0.38403424735388142,-0.41658689627425372,null,"2017-03-08",0.99398858498258091,0.99398858498258091,0.98996151474330962,0.98601313618967845,0.9823785911689592,0.98030493778742867,0.97717614807552999,0.97444512866043576,0.97214748751387059,0.97109832560455933,0.96951484827493417,null,"2017-03-08",-0.60114150174190861,-0.60114150174190861,-0.70808844500671597,-0.74052822395298534,-0.73010505207792287,-0.57514964025988657,-0.66765598232000345,-0.62854189263058524,-0.57959343062511381,-0.43323041186491551,-0.47631767965410354]
[null,"2017-03-07",-0.57928874972040345,-0.57928874972040345,-0.67666908996628261,-0.71459899370294444,-0.71665127608209023,-0.54891527749556646,-0.62174212253725725,-0.56828217226519362,-0.51592687712593499,-0.37747083555183658,-0.40566268412710527,null,"2017-03-07",0.99420711250279592,0.99420711250279592,0.99032041657960013,0.98635720526788651,0.98252336326808676,0.98039190310798185,0.97729212333917059,0.97465930707981796,0.97243249346603411,0.9714257520992623,0.96992631064160439,null,"2017-03-07",-0.579288749720408,-0.579288749720408,-0.68286533581666253,-0.72973374133606939,-0.74163998547057686,-0.57806034522710492,-0.66261073952956773,-0.61568016653461566,-0.56847833817241789,-0.42486167510487061,-0.46281237031386979]
[null,"2017-03-06",-0.57933194154490397,-0.57933194154490397,-0.68510946165533115,-0.72220804789743498,-0.70932939279261031,-0.54903354107809466,-0.63700102938877867,-0.5844658242211217,-0.52715880804229698,-0.47053609485940223,-0.41810134141959276,null,"2017-03-06",0.99420668058455097,0.99420668058455097,0.99023631572451165,0.98622556051454313,0.98249666929900914,0.98037015549023077,0.97712433946442689,0.97435547882909612,0.97205331879781121,0.97017616113729888,0.96866414579061699,null,"2017-03-06",-0.57933194154489165,-0.57933194154489165,-0.69128739308865761,-0.73735516680666358,-0.73407237939296932,-0.57801237844588016,-0.67846874039574345,-0.63286882901695263,-0.58074820832954011,-0.52761783249739569,-0.47731654350372521]
[null,"2017-03-03",-0.57959641255606131,-0.57959641255606131,-0.69710302942324798,-0.71596385769104909,-0.71552138684612121,-0.65043260193180252,-0.62548449030236142,-0.57567414819937024,-0.52577925216278487,-0.46545448797859984,-0.40433161926988342,null,"2017-03-03",0.9942040358744394,0.9942040358744394,0.99011514771017295,0.98620565142148575,0.98242024173964582,0.97930867114212461,0.97634281709768711,0.97376396063284065,0.97154383443472214,0.96976855468310863,0.96842811109332505,null,"2017-03-03",-0.57959641255607153,-0.57959641255607153,-0.70340814528860873,-0.73116761016021048,-0.74043271704867797,-0.68332591223732031,-0.66684841339188505,-0.62376633076655086,-0.57924663285211508,-0.521890885734555,-0.46171825313809922]
[null,"2017-03-02",-0.57949368979165694,-0.57949368979165694,-0.68091427077090416,-0.71782747776121103,-0.70446380086658666,-0.64125980702372942,-0.62689762083463585,-0.58257665522612345,-0.53229849097981785,-0.47336866921599186,-0.41181690322882081,null,"2017-03-02",0.99420506310208345,0.99420506310208345,0.99027699713438655,0.98629617916842183,0.98259845761010378,0.97954366278447769,0.97652708381284736,0.97385636352613691,0.97156201632968531,0.96970750168108621,0.9682994596362694,null,"2017-03-02",-0.57949368979165472,-0.57949368979165472,-0.68714916048675523,-0.73296232853425902,-0.72903366705137085,-0.67367107888521849,-0.66822184219236247,-0.63099916146861501,-0.58624869650096834,-0.53062742557707931,-0.47013155635071691]
[null,"2017-03-01",-0.5617260787992423,-0.5617260787992423,-0.68316771749402905,-0.68502934854764563,-0.68442890589878025,-0.62860618823600056,-0.60386365274835652,-0.56149401947009381,-0.50790683390955005,-0.44798326326529869,-0.38492142274017244,null,"2017-03-01",0.99438273921200759,0.99438273921200759,0.990344719360845,0.98666915145545386,0.98308169446102311,0.98006243747244304,0.97719430018183828,0.97464549015010626,0.97250369905457423,0.97080771625200157,0.96956975942111034,null,"2017-03-01",-0.56172607879925174,-0.56172607879925174,-0.68920428099741304,-0.69933837761767537,-0.7078557254069362,-0.65973982311321455,-0.64314830261711364,-0.60758625121616339,-0.55883924559039233,-0.50158730199981738,-0.43888622837203739]
[null,"2017-02-28",-0.55710096985190694,-0.55710096985190694,-0.65410394764251256,-0.68447943376076092,-0.68769334631289369,-0.63382270945662511,-0.62137073132956788,-0.57975473616197593,-0.52731478489957795,-0.46897289855992269,-0.40975591816047918,null,"2017-02-28",0.99442899030148091,0.99442899030148091,0.99065824703677929,0.98688716996310855,0.98321727331753062,0.98012399765033154,0.97707851058212514,0.97437108364193392,0.97207674847297465,0.97022474995961339,0.96880242948563111,null,"2017-02-28",-0.55710096985189805,-0.55710096985189805,-0.65987206587373448,-0.69829640012538663,-0.71049082150113074,-0.66438969190857344,-0.66051184051169054,-0.62598060477281336,-0.57869605254143863,-0.52357575199333262,-0.46569495304746855]
[null,"2017-02-27",-0.50075872534144583,-0.50075872534144583,-0.60562297686167199,-0.62680779204223969,-0.63278682545598397,-0.58995286216774212,-0.57410678496904777,-0.53474463206938749,-0.48792325490685029,-0.43633875686060408,-0.38572539700418357,null,"2017-02-27",0.99499241274658556,0.99499241274658556,0.99142659521926924,0.98797921414541734,0.98459137290114984,0.98167206897043746,0.97885186165952642,0.97635433290188844,0.97422187112356229,0.97247725403037122,0.97109342780446906,null,"2017-02-27",-0.50075872534144361,-0.50075872534144361,-0.61074211615692597,-0.63912927050125967,-0.6531852963257978,-0.61762783103542773,-0.60962040473236945,-0.57676041772084519,-0.53494739516796175,-0.48660277359899862,-0.43773352197020721]
[null,"2017-02-24",-0.485066075930004,-0.485066075930004,-0.59123872304933656,-0.59391335206857188,-0.60162978587931737,-0.56456483283925185,-0.54239027769492298,-0.50853314570423325,-0.47013040121741928,-0.42185980334469653,-0.3735359825505577,null,"2017-02-24",0.99514933924069993,0.99514933924069993,0.99164978355992583,0.98845821710647985,0.98526585021803081,0.982472897495132,0.97984436722855939,0.97747853775464677,0.97539841043025155,0.97368444727504833,0.97231935800207425,null,"2017-02-24",-0.48506607593001849,-0.48506607593001849,-0.59607797321304945,-0.60531686562599329,-0.6204865151788308,-0.59011837569437064,-0.57500426861574194,-0.54733451613677708,-0.51408237853268757,-0.4691167510767591,-0.42266137698955264]
[null,"2017-02-23",-0.48988935520794402,-0.48988935520794402,-0.60822580871810628,-0.59988937341741133,-0.59925158750654406,-0.48936304522911789,-0.53548994214300205,-0.50098659463167483,-0.46231453614567874,-0.41579007997954226,-0.36755072443632192,null,"2017-02-23",0.9951011064479206,0.9951011064479206,0.99145569914204901,0.98826720875705665,0.98514241348465326,0.98311194683872249,0.98044625842494382,0.97806872194970262,0.97599104675899018,0.9742697837228329,0.97290350094250755,null,"2017-02-23",-0.48988935520793975,-0.48988935520793975,-0.61325008454999885,-0.61166967187017418,-0.61865129504649063,-0.51312140812764806,-0.56849169019385082,-0.54031997308705559,-0.50680066194859208,-0.46372124571705253,-0.41728758529417931]
[null,"2017-02-22",-0.50212701306595109,-0.50212701306595109,-0.61658394959067631,-0.63600277360551682,-0.62499453904247604,-0.57555806022840372,-0.56319128931812068,-0.51272304464716245,-0.47107247051153534,-0.41598577876629766,-0.3668788417384547,null,"2017-02-22",0.99497872986934044,0.99497872986934044,0.99131020649279311,0.98780887856888222,0.98453789294022287,0.98176834237182864,0.9790370040993307,0.97672716613987931,0.9747124894607293,0.97311224975223509,0.97185000122246401,null,"2017-02-22",-0.50212701306593388,-0.50212701306593388,-0.62180559017591674,-0.64863245998265651,-0.64565957467281887,-0.60330067536644716,-0.59888831046981394,-0.55411969570539066,-0.51757879055854827,-0.46519553488453269,-0.41766914410019673]
[null,"2017-02-21",-0.50117951449662435,-0.50117951449662435,-0.62031204162621234,-0.62817798384797607,-0.6442347222174214,-0.50775891542203544,-0.5777331478245239,-0.52993253234479143,-0.48318465511052827,-0.43320544794746174,-0.37504472600107347,null,"2017-02-21",0.99498820485503381,0.99498820485503381,0.99127738257575937,0.98786372542936263,0.98438743903669823,0.98231458559294749,0.97935267689173633,0.97683019059708109,0.97468296794263187,0.97291539041896691,0.97158886706064873,null,"2017-02-21",-0.50117951449660803,-0.50117951449660803,-0.62565404162451266,-0.64090987791678433,-0.66562252249702247,-0.53331986124899311,-0.61420425162309611,-0.5726501143668683,-0.53103511732768283,-0.4844710437791333,-0.42718931403162852]
[null,"2017-02-20",-0.48893636502365401,-0.48893636502365401,-0.60829735259209372,-0.62166743405364477,-0.61991586232500751,-0.57831132575667354,-0.56938571390105441,-0.52721813023711206,-0.48576224733624296,-0.43929394421488449,-0.39029188522562797,null,"2017-02-20",0.99511063634976349,0.99511063634976349,0.99145933433688682,0.98805193332278174,0.98477227753042762,0.98193195395742006,0.97911478616522019,0.97665294559814719,0.97450470495965924,0.97269876350424878,0.9712445618465283,null,"2017-02-20",-0.48893636502365112,-0.48893636502365112,-0.6134334640077399,-0.63400244884399548,-0.64037650014753256,-0.60580004521231245,-0.60511811268547655,-0.56935502400430327,-0.53307418207855228,-0.49055123012768931,-0.44390747452330848]
[null,"2017-02-17",-0.4815210751374534,-0.4815210751374534,-0.60232203218348956,-0.60147325457791223,-0.60938665878649345,-0.56544332490199001,-0.55495008066184981,-0.51297727220733613,-0.46902632572519143,-0.41968780472269485,-0.36641088795940085,null,"2017-02-17",0.99518478924862541,0.99518478924862541,0.99155642563230706,0.98831822886746601,0.98507882333027841,0.98230643912852944,0.97957257632405204,0.97719015932115583,0.97514391291321545,0.97346620891320745,0.97217930031936806,null,"2017-02-17",-0.48152107513745879,-0.48152107513745879,-0.6073729149088658,-0.61345832390929944,-0.62938989788505761,-0.59247071320006617,-0.58985071997081917,-0.55400033358016243,-0.51497105586528757,-0.46880209011957996,-0.41670767803575481]
[null,"2017-02-16",-0.48435467829545575,-0.48435467829545575,-0.59345224192056079,-0.62021264586516511,-0.62285300695159918,-0.57278152831253837,-0.54954719025387055,-0.50828364547516902,-0.45768295926410391,-0.40136889354352201,-0.34080409124030203,null,"2017-02-16",0.99515645321704549,0.99515645321704549,0.99163035781296738,0.98818080786740559,0.98484014474411863,0.98203945309868301,0.97939888199365654,0.97708387574520028,0.97515925789599966,0.97365755443923385,0.97260255909337667,null,"2017-02-16",-0.48435467829545109,-0.48435467829545109,-0.59853208000402169,-0.6326115956622802,-0.64347291453820121,-0.60046616224037619,-0.58469225935650071,-0.5494285561068013,-0.50308937433771739,-0.44898997697884191,-0.38824491900225633]
[null,"2017-02-15",-0.49273700305811058,-0.49273700305811058,-0.61673722474883952,-0.6474155130147895,-0.64437841390082906,-0.57865348568291186,-0.56739101830858285,-0.51814734083578606,-0.46976552198291655,-0.40791961998794168,-0.35190946684878721,null,"2017-02-15",0.99507262996941892,0.99507262996941892,0.99135540344929673,0.98772412709630175,0.98427851224860063,0.98152386776382772,0.97878489218282294,0.9764500348158287,0.97447492971587679,0.97297267343602922,0.9718650176282837,null,"2017-02-15",-0.49273700305810797,-0.49273700305810797,-0.62208017868239374,-0.66057209148888685,-0.66622307779159451,-0.60744205922504957,-0.60436920909866521,-0.56101443712380794,-0.51719802033743933,-0.45722005962280932,-0.40159947511340111]
[null,"2017-02-14",-0.47568063628021745,-0.47568063628021745,-0.60169964972889511,-0.62907810626917049,-0.6254424726520933,-0.58200187453146501,-0.55984962935947202,-0.50922956789602059,-0.45750645078496377,-0.39830642305848252,-0.34083877079768227,null,"2017-02-14",0.99524319363719782,0.99524319363719782,0.99159176936752647,0.98806646756963357,0.9847270917824712,0.98185559534081102,0.97914089877385813,0.97684888942064485,0.97495063486819689,0.97349789406433618,0.97245511403860663,null,"2017-02-14",-0.47568063628021795,-0.47568063628021795,-0.6068043491169961,-0.64166331950623601,-0.64634344711265168,-0.6103416833647346,-0.59588748899926935,-0.55090886617048529,-0.50338871844709532,-0.44599670312760464,-0.38856904063699904]
[null,"2017-02-13",-0.45841940172902357,-0.45841940172902357,-0.57032176334906404,-0.60531060729049313,-0.602123691464718,-0.55811910644994212,-0.56600563023336359,-0.52239673898759742,-0.47741088124645858,-0.42032701107175663,-0.364868581338888,null,"2017-02-13",0.99541580598270973,0.99541580598270973,0.99199235352999826,0.9885736182915259,0.985344362857836,0.98259356929822494,0.97970530147878987,0.97721245805477863,0.9750809747155309,0.97340320684268322,0.97213704079196295,null,"2017-02-13",-0.45841940172901552,-0.45841940172901552,-0.57506024981891501,-0.6171175185539779,-0.6218346167479738,-0.58478129641738041,-0.60137469813899003,-0.56400763718607028,-0.52410735385791662,-0.46953931309010599,-0.41497807223489502]
[null,"2017-02-10",-0.46166781319268269,-0.46166781319268269,-0.57137556662180167,-0.5955876589805521,-0.60974263777671689,-0.55753721760557806,-0.55180242828913617,-0.50807884237597978,-0.45891012448833263,-0.3983596259865686,-0.33895569684969146,null,"2017-02-10",0.99538332186807321,0.99538332186807321,0.9919657128568089,0.98865324101614782,0.98533067913310468,0.98259009294465149,0.97984476099947693,0.97747713203057718,0.97550057954063574,0.97399967013205602,0.97293846443066978,null,"2017-02-10",-0.461667813192701,-0.461667813192701,-0.57606881549748801,-0.60708193516918474,-0.62924229547954846,-0.58380039804645234,-0.58598461369916421,-0.54812619046499256,-0.50331252361873746,-0.44460957349852226,-0.38511239880041348]
[null,"2017-02-09",-0.45796880943322799,-0.45796880943322799,-0.59423863590141046,-0.60234971652645819,-0.60353064749618779,-0.56326757592887489,-0.55401013416156475,-0.50793519837671075,-0.45817775423756646,-0.39701827279398588,-0.33597798773471438,null,"2017-02-09",0.99542031190566771,0.99542031190566771,0.99175647114418619,0.98844583059393731,0.98523617045937939,0.98245853132350203,0.97971372758250552,0.97736627454332969,0.97541103250335159,0.97393356600176662,0.97290841597666056,null,"2017-02-09",-0.45796880943324014,-0.45796880943324014,-0.59897912147652832,-0.61387867454946177,-0.62275792211835546,-0.58945684304896329,-0.58801096336763559,-0.54774418271507086,-0.50227533560646132,-0.44291275371041161,-0.38161057568643075]
[null,"2017-02-08",-0.44735240413878347,-0.44735240413878347,-0.56466667583136365,-0.58686173275720155,-0.5859577084912545,-0.55002341823086265,-0.53584363544453417,-0.49192829949474676,-0.44503324098265418,-0.38810792087382495,-0.32986966792527384,null,"2017-02-08",0.99552647595861221,0.99552647595861221,0.99210561871554193,0.98883657332887187,0.98570951788565075,0.98297632851260097,0.98033424716463802,0.97806793518508961,0.97616813924074741,0.97470980306057942,0.97368371593110814,null,"2017-02-08",-0.44735240413877886,-0.44735240413877886,-0.56906439357476968,-0.59762510420177106,-0.60391570133940808,-0.5746898543303014,-0.56769389057437225,-0.52926279842284707,-0.48656095375433361,-0.43156558472389195,-0.37329638645821062]
[null,"2017-02-07",-0.47174819871067436,-0.47174819871067436,-0.5833022284641225,-0.59916097054921191,-0.60601195014102138,-0.56194360460563297,-0.54765879778194593,-0.50200412704033981,-0.4522693971600083,-0.39389617056838228,-0.33256715631852052,null,"2017-02-07",0.99528251801289325,0.99528251801289325,0.99179628735894221,0.98850459501242371,0.98525639535155485,0.98248817704324931,0.97980114993063872,0.97750013778123512,0.97558675046894616,0.97412127148538719,0.97311142816238871,null,"2017-02-07",-0.4717481987106642,-0.4717481987106642,-0.58800100501453789,-0.61057160939969046,-0.62519780559936455,-0.58803557895019676,-0.58138460292768146,-0.54146483173906912,-0.49601185558316718,-0.43962436136382177,-0.37799982170475532]
[null,"2017-02-06",-0.47386120452461694,-0.47386120452461694,-0.5790453657300233,-0.60885078973273765,-0.60420255599124306,-0.58498355945369618,-0.54820126371641575,-0.50099288051111313,-0.45160214902895679,-0.39735949711686253,-0.34211574682097101,null,"2017-02-06",0.99526138795475383,0.99526138795475383,0.99182817741467366,0.98842968619435134,0.98521772869080093,0.98222935982191351,0.97957733951993187,0.97731459627917661,0.9754268623027873,0.97394074810153519,0.97285021059493582,null,"2017-02-06",-0.47386120452460601,-0.47386120452460601,-0.58371215949911681,-0.62036972148501457,-0.62335249158698147,-0.61184370882573225,-0.5821352928174206,-0.54075029319063939,-0.49575356190431075,-0.44395897318157962,-0.38927712156711092]
[null,"2017-02-03",-0.46149120786302555,-0.46149120786302555,-0.5690178091300232,-0.60506856850111457,-0.60466080632888908,-0.57989449016202388,-0.54104920813210033,-0.49200267591621821,-0.44219137501011518,-0.38380599331272874,-0.32311124821243103,null,"2017-02-03",0.9953850879213697,0.9953850879213697,0.99199007562394315,0.98857474133426582,0.98532044155359966,0.98235931888365569,0.97975337820342778,0.97755129004360886,0.97572446711741379,0.97433666017965836,0.9733924642060261,null,"2017-02-03",-0.46149120786301845,-0.46149120786301845,-0.57371052726132854,-0.61681477603051649,-0.62434385761627187,-0.60726944021290974,-0.57541597219903373,-0.53199483428308936,-0.4863429309238998,-0.42981641279491445,-0.36864499395501404]
[null,"2017-02-02",-0.47209641513776718,-0.47209641513776718,-0.58990830192700239,-0.60982735251931741,-0.60369983040701791,-0.57576072200520101,-0.53977105592159869,-0.49546827204100358,-0.43781821526280329,-0.37397514046421204,-0.32134471777781171,null,"2017-02-02",0.99527903584862232,0.99527903584862232,0.99172813150692574,0.98835091598341651,0.98515992667092556,0.98226994805567291,0.97969028880145581,0.97746263590722404,0.97568886885053141,0.97440125699886238,0.97346927402270222,null,"2017-02-02",-0.47209641513777933,-0.47209641513777933,-0.59476789987350509,-0.6218057501670482,-0.62356369797449407,-0.60314817717389557,-0.57418327225204902,-0.53567902859643635,-0.48162465748854411,-0.41891634397362987,-0.36654614288155196]
[null,"2017-02-01",-0.48126293202543113,-0.48126293202543113,-0.59081234819490713,-0.62218091709391876,-0.62166905907493686,-0.60444514521576753,-0.55443846742766456,-0.50391448260961702,-0.44706643069673008,-0.38969714967645253,-0.33491773487462123,null,"2017-02-01",0.99518737067974572,0.99518737067974572,0.9916729901311282,0.98819102496036926,0.98486063414863534,0.98174398226420778,0.97910181403726537,0.97686883003206693,0.97507187133339013,0.97369204589618896,0.97269025001311715,null,"2017-02-01",-0.48126293202542803,-0.48126293202542803,-0.5956894722842665,-0.63433175914281437,-0.6420290786707139,-0.63307034968969056,-0.58990208358510321,-0.54493943841897874,-0.49185047639569435,-0.4363500807383236,-0.381849471034168]
[null,"2017-01-31",-0.49654643131234416,-0.49654643131234416,-0.60126986208325273,-0.62252111417511746,-0.61314864749698983,-0.58419424240909079,-0.5418174239923762,-0.48731554169391184,-0.43379955227669703,-0.37134281720303297,-0.30968096245670096,null,"2017-01-31",0.99503453568687661,0.99503453568687661,0.99149181548361764,0.98806634934376669,0.98485140725323272,0.98193764817709239,0.97939085549706928,0.97728434549487309,0.97557234753882183,0.97432492319888342,0.97351666239050372,null,"2017-01-31",-0.49654643131235021,-0.49654643131235021,-0.60621198519263952,-0.63461490169760548,-0.63319514107093022,-0.61189386810015511,-0.57628724769944739,-0.52683749097327537,-0.47694806544718027,-0.41555583635612958,-0.3529834364605855]
[null,"2017-01-30",-0.50316383319357871,-0.50316383319357871,-0.592397074272485,-0.63082389862723698,-0.62627528095326923,-0.59946562585143681,-0.5526752420712332,-0.49201283403867768,-0.44263270170013258,-0.38693866412320393,-0.33112525276583443,null,"2017-01-30",0.99496836166806424,0.99496836166806424,0.99154667616706638,0.98801963687955974,0.98468421661752692,0.98164891468125393,0.97903768084615284,0.9769283814509192,0.97516674750426269,0.97380313698100063,0.97282732508086467,null,"2017-01-30",-0.50316383319357616,-0.50316383319357616,-0.59738547533749742,-0.64324853228822088,-0.6470240770098501,-0.62833923528500257,-0.58836881435563315,-0.53261878467381063,-0.48728399779698339,-0.43352190892902431,-0.37778457080787087]
[null,"2017-01-27",-0.50178666463924548,-0.50178666463924548,-0.60409548502368082,-0.61466264805825954,-0.62296348718379158,-0.59389631674448329,-0.56273444388017424,-0.50114642368133233,-0.45420472899306807,-0.40059629149692222,-0.34685909290330741,null,"2017-01-27",0.99498213335360752,0.99498213335360752,0.99143697205652026,0.98810671393929694,0.98478348133863391,0.98178458874646257,0.97905294938497489,0.97685186856104489,0.97498520375432918,0.97350567437599966,0.9724020493997263,null,"2017-01-27",-0.5017866646392366,-0.5017866646392366,-0.6091311101842356,-0.62687187635040997,-0.6434916987900996,-0.62245029106064997,-0.59887446316937432,-0.54235506662242416,-0.49989724247813117,-0.44867940062015554,-0.39554739834354313]
[null,"2017-01-26",-0.50695187165774414,-0.50695187165774414,-0.60073896396500714,-0.61073533618298248,-0.61627884943133415,-0.56708336728629605,-0.54353844068660262,-0.48296727924058319,-0.43790261731205132,-0.38096104588986734,-0.32128405030724949,null,"2017-01-26",0.99493048128342254,0.99493048128342254,0.99144443992336995,0.98815064656288176,0.98488232596460978,0.9821281241610319,0.97953043077114532,0.97744306503413514,0.97566695034281792,0.97430996378642387,0.97338373127137112,null,"2017-01-26",-0.50695187165774591,-0.50695187165774591,-0.60576908189603484,-0.62291985345059864,-0.6367862348205966,-0.59490485402994286,-0.5788496064200066,-0.52314521580721918,-0.48242785804679666,-0.42718297964351448,-0.36696344429808514]
[null,"2017-01-25",-0.50420811017596712,-0.50420811017596712,-0.60739476611100696,-0.6141741759295809,-0.61496144707205014,-0.55764825943902407,-0.54031322185812625,-0.48445594879712162,-0.43175871315635345,-0.3711895731134417,-0.31284031789945554,null,"2017-01-25",0.99495791889824037,0.99495791889824037,0.99139179124131016,0.98808086879927037,0.98484224085712835,0.98218888793674597,0.97961354758019503,0.97750091908938463,0.97577920717905731,0.97450721821956143,0.97364677568741798,null,"2017-01-25",-0.50420811017596323,-0.50420811017596323,-0.61247239873007953,-0.62646161537053269,-0.63552783327351925,-0.58513987976499537,-0.57541661721904891,-0.5246353287822525,-0.47561207660415938,-0.41628415472639846,-0.35733660080305985]
[null,"2017-01-24",-0.50311597507219652,-0.50311597507219652,-0.60752496972541792,-0.61376523288969353,-0.6144291263886581,-0.56031377053901288,-0.54610124164924756,-0.48828966637387372,-0.4388560134294166,-0.38204502186045358,-0.32273911536199534,null,"2017-01-24",0.99496884024927801,0.99496884024927801,0.99139627586601398,0.98808900412510803,0.98485572656704268,0.98217650863441774,0.97955021250852758,0.97741314980920257,0.9756373106415237,0.97427906352369908,0.97334827795799628,null,"2017-01-24",-0.50311597507219918,-0.50311597507219918,-0.61253108641823317,-0.62581125225881218,-0.6345288678308969,-0.58728012397323281,-0.58063899379873218,-0.52779399868999599,-0.48229959690483382,-0.42725277505389903,-0.36747049971574963]
[null,"2017-01-23",-0.52047137029763613,-0.52047137029763613,-0.62416170557265582,-0.63055712946109699,-0.62286763855577287,-0.56133338981666137,-0.55179179995393568,-0.49755742258184671,-0.45122428550594329,-0.39814719913186158,-0.34538535011062954,null,"2017-01-23",0.99479528629702363,0.99479528629702363,0.99114353624002982,0.98775366974796863,0.98452091037927314,0.98189972187751828,0.97926546038450024,0.97708047605849635,0.97522710589510953,0.97375852487240167,0.9726590977485019,null,"2017-01-23",-0.52047137029763713,-0.52047137029763713,-0.62915093269478861,-0.64255983287518914,-0.64268910271578772,-0.58764874904452258,-0.58576362812309268,-0.53669774718295704,-0.49467546574214483,-0.44391972682925607,-0.3917881435159587]
[null,"2017-01-20",-0.54504504504504592,-0.54504504504504592,-0.63786069102685239,-0.6428527184978382,-0.63733668367359519,-0.58610663396669893,-0.55611421907498815,-0.49377287985525253,-0.45193156137835322,-0.39660908704433573,-0.33841295424765577,null,"2017-01-20",0.99454954954954955,0.99454954954954955,0.99088222403088222,0.98745341543625642,0.98414646660199223,0.98134766588827105,0.97875209725128853,0.97666638110388815,0.97484696069984533,0.9734242578484843,0.9724155878439561,null,"2017-01-20",-0.54504504504504503,-0.54504504504504503,-0.64320973495685108,-0.65561524637285373,-0.65840718860042946,-0.61436450135398113,-0.59164018403103924,-0.5340046202129578,-0.49677479252819845,-0.44360115678694356,-0.38521297690999878]
[null,"2017-01-19",-0.541372578465254,-0.541372578465254,-0.63835176804247828,-0.65580928130629679,-0.55870417040904441,-0.57146939399734942,-0.55336534154705252,-0.49946138832099063,-0.44742523381658172,-0.39087731780262769,-0.3303041533700114,null,"2017-01-19",0.99458627421534751,0.99458627421534751,0.99089538875137761,0.98733263622141887,0.98483239985147608,0.98204589547025978,0.97936697164247943,0.97714335170975797,0.97531347190969886,0.97390102275947033,0.97293007869766057,null,"2017-01-19",-0.541372578465249,-0.541372578465249,-0.64379786274734174,-0.66892881390997472,-0.57818559702719208,-0.59916286169432453,-0.58863669043209832,-0.53995790050429537,-0.49179782693071772,-0.4370572683319307,-0.37594687580617681]
[null,"2017-01-18",-0.5139799532745476,-0.5139799532745476,-0.62500578149391139,-0.65478204282826236,-0.55272426072829617,-0.57027554601714547,-0.54337602301966181,-0.48557625394337411,-0.43656926415313391,-0.38240571146330554,-0.32706409243109297,null,"2017-01-18",0.99486020046725454,0.99486020046725454,0.99116669482036457,0.98752593618151474,0.98504011675217329,0.98222890974510735,0.97962426331279129,0.97750870406226953,0.97575034430080998,0.97438475235231314,0.97341091713200179,null,"2017-01-18",-0.51397995327455703,-0.51397995327455703,-0.63025500428220971,-0.66764755204431481,-0.57161703376346074,-0.59717196855885168,-0.57713306006100806,-0.52397515888661372,-0.47868357817122398,-0.42630304020403464,-0.37088928840854907]
[null,"2017-01-17",-0.47995093153415397,-0.47995093153415397,-0.55793737407905719,-0.55683636696597227,-0.49850445570349383,-0.49004387657930099,-0.4714740029669624,-0.42317206133093926,-0.38204394438487321,-0.3341358658869924,-0.28070843882549901,null,"2017-01-17",0.99520049068465843,0.99520049068465843,0.99200846346590121,0.98906972399309356,0.98675392205822532,0.98441588127815538,0.98218516228706731,0.98035402289087292,0.97881686945430246,0.97762947541395273,0.97683429861611104,null,"2017-01-17",-0.47995093153415658,-0.47995093153415658,-0.56241880526101129,-0.5672950564399204,-0.51428496270327084,-0.51186051441864944,-0.49917277393664028,-0.45478401047495121,-0.41693420702487716,-0.37056252566483039,-0.31659400466812482]
[null,"2017-01-16","","","","","","","","","","","",null,"2017-01-16","","","","","","","","","","","",null,"2017-01-16","","","","","","","","","","",""]
[null,"2017-01-13",-0.48269025468964122,-0.48269025468964122,-0.56766703070630675,-0.58438649352974525,-0.51707892871587946,-0.5122234388851914,-0.49523228352281762,-0.44643297147091016,-0.40088766843369555,-0.34997201888204366,-0.29706275365427903,null,"2017-01-13",0.99517309745310356,0.99517309745310356,0.99189678272678261,0.98871816140929336,0.98629923700260158,0.9838238091569419,0.98144638548565544,0.97947797820037397,0.97784918561098599,0.9765961371314974,0.97572484145695138,null,"2017-01-13",-0.48269025468964388,-0.48269025468964388,-0.57240229084679628,-0.59578493483519734,-0.53423383300464922,-0.53600352077409763,-0.52538233054063577,-0.48096897253269155,-0.4387553240289721,-0.38940062548608045,-0.33621425400058857]
[null,"2017-01-12",-0.47546595663750879,-0.47546595663750879,-0.5565560953317843,-0.57520684772118491,-0.51834560778587158,-0.5346982438271406,-0.50974889334655937,-0.4607227621566406,-0.41399077479112084,-0.3609636826733017,-0.30699402916537882,null,"2017-01-12",0.99524534043362489,0.99524534043362489,0.99204448076910634,0.98891001145766322,0.98643394820891772,0.98371247078974444,0.98121193651712824,0.97913718793801086,0.97742191487646513,0.97610751157453224,0.97518589169704106,null,"2017-01-12",-0.47546595663751079,-0.47546595663751079,-0.56110251794926347,-0.58616020109715228,-0.53508970868835215,-0.55876958282589095,-0.54007867439835877,-0.49559790836537498,-0.4523718419650602,-0.40090014463105561,-0.34678452957412897]
[null,"2017-01-11",-0.4658927080962173,-0.4658927080962173,-0.55990039384861945,-0.5906284929160196,-0.52720299979770202,-0.52668860795173134,-0.51017372054145171,-0.46188727167339072,-0.40933807397806765,-0.35639484329541404,-0.30382958690563955,null,"2017-01-11",0.99534107291903784,0.99534107291903784,0.99205910639932271,0.98876584473723539,0.98623595436317879,0.98363062932086975,0.98113758527783224,0.97906009201907573,0.97739865572741691,0.97613073581420562,0.9752378180501613,null,"2017-01-11",-0.46589270809621608,-0.46589270809621608,-0.56449638426133708,-0.60191608683288766,-0.54439832052263215,-0.55077925947480955,-0.5408102325671349,-0.49709207552408596,-0.44751539227095849,-0.39601926965109335,-0.34329277627698218]
[null,"2017-01-10",-0.46931680773880408,-0.46931680773880408,-0.55946222301121529,-0.5796232748693565,-0.51804632484692403,-0.53559325644676081,-0.50804698930642589,-0.45747855393407183,-0.40333312785550046,-0.34965856530561551,-0.30001952843995316,null,"2017-01-10",0.99530683192261193,0.99530683192261193,0.99204627781806221,0.98886679481971596,0.9864036458697949,0.98367926654469762,0.98119992912486731,0.97915748728990459,0.97754334888573513,0.97632626710603432,0.97545282826870383,null,"2017-01-10",-0.46931680773880657,-0.46931680773880657,-0.56405299170466661,-0.590746138349596,-0.53490304627350493,-0.55967597063594221,-0.53848510463446742,-0.49240181000799188,-0.44111427410299386,-0.38873217422518147,-0.33909082522426415]
[null,"2017-01-09",-0.47177663438258582,-0.47177663438258582,-0.56898369913130198,-0.57752957724342247,-0.50933569656709321,-0.46391779542201061,-0.48516244193707364,-0.43566790066511729,-0.3835865343082967,-0.32845688627664443,-0.27839910074429797,null,"2017-01-09",0.99528223365617419,0.99528223365617419,0.99193901219871716,0.98881572265554807,0.98645158907792518,0.98442697067209317,0.98205677799110502,0.98011678319441309,0.97858908278657863,0.97747809566502974,0.97671718448449518,null,"2017-01-09",-0.47177663438258133,-0.47177663438258133,-0.57360333638307726,-0.58860709954504653,-0.52594543350531486,-0.48548712976023145,-0.51402617247280347,-0.46863968688148905,-0.41913843284930863,-0.36477426241453559,-0.31433663277948831]
[null,"2017-01-06",-0.47971594772230092,-0.47971594772230092,-0.56067088460719483,-0.58768264768222167,-0.5686995484560684,-0.50972920346763329,-0.50328510633433232,-0.45369259674425677,-0.39536745154955644,-0.33852381383911573,-0.28127841609751159,null,"2017-01-06",0.99520284052277697,0.99520284052277697,0.99198156559111428,0.98874211790532984,0.98580489333457377,0.98344749422252309,0.98104801735420089,0.97905903585844989,0.97753027770884737,0.97641944025193683,0.97571665568115318,null,"2017-01-06",-0.47971594772230342,-0.47971594772230342,-0.56535882384536329,-0.59916081845352576,-0.58723294933340497,-0.53384040097490537,-0.53433403023006587,-0.48921183594078377,-0.43330126900364974,-0.37724418932573167,-0.31888335252470146]
[null,"2017-01-05",-0.49527410207940409,-0.49527410207940409,-0.57691480174956444,-0.57258658718606448,-0.56511188233428478,-0.51872542410131328,-0.4891979080143799,-0.44171063245866166,-0.38860845645360537,-0.32771719924064452,-0.27540110090107994,null,"2017-01-05",0.99504725897920598,0.99504725897920598,0.99174211197335604,0.98873375108066197,0.98583830204107215,0.98339109979441985,0.98114576218922023,0.97926877005737611,0.9777899376623933,0.97676709217784607,0.97609933417612482,null,"2017-01-05",-0.49527410207940159,-0.49527410207940159,-0.58150168513223521,-0.58338415002892052,-0.58267209206378512,-0.54204100127971389,-0.51832756295075999,-0.47509508778850185,-0.42459295692683918,-0.36400332945110137,-0.31100865517068588]
[null,"2017-01-04",-0.48789655690875294,-0.48789655690875294,-0.55624419304562545,-0.57476424292496298,-0.5154059261077788,-0.52360978016087845,-0.51440304445898677,-0.46928462130567022,-0.41228760617017124,-0.35845324003103762,-0.29515554736125155,null,"2017-01-04",0.99512103443091249,0.99512103443091249,0.991984847499358,0.98887358264411818,0.98643370002121011,0.98381948564153099,0.98125205781215141,0.97908255366195307,0.97738471722785747,0.97609255190766075,0.97528255346508463,null,"2017-01-04",-0.48789655690874012,-0.48789655690874012,-0.56084956163506838,-0.58589482508708546,-0.53244747347320764,-0.54782788259679638,-0.54578322917272493,-0.50570695133900223,-0.45160299345063937,-0.39924003489003601,-0.33448941947630262]
[null,"2017-01-03",-0.48484397110300997,-0.48484397110300997,-0.55737619588321463,-0.58295729999200163,-0.52114844920933667,-0.52692086231148605,-0.51441118996567181,-0.46407179561571449,-0.40435946236936293,-0.34581692294468469,-0.28694412794222368,null,"2017-01-03",0.99515156028896989,0.99515156028896989,0.9919887744332605,0.98879394126418418,0.98631512623754747,0.98368896255621652,0.98114011257986566,0.97903483569424665,0.97741825364814916,0.97624497126903498,0.97550002735099428,null,"2017-01-03",-0.48484397110299948,-0.48484397110299948,-0.56201724047978407,-0.59437510200415211,-0.538613917281483,-0.55170081467819099,-0.54624513706491573,-0.50059836466758156,-0.44344196806275216,-0.38564457837587662,-0.32557483248835117]
[null,"2017-01-02",-0.40325820129435114,-0.40325820129435114,-0.5950765891893578,-0.61665065020860421,-0.58997553865611463,-0.58431864638987219,-0.54689682216143454,-0.50112703199746134,-0.44590664519583206,-0.39035002391285339,-0.33443360451416615,null,"2017-01-02",0.99596741798705646,0.99596741798705646,0.99202343914959246,0.98848189396304631,0.98539682269712003,0.9823782580733087,0.97971348645912304,0.97743002363347986,0.97558529011198059,0.97415363221973084,0.9731226520623093,null,"2017-01-02",-0.40325820129436529,-0.40325820129436529,-0.59969297345749961,-0.62855509912320695,-0.60910956464085286,-0.61161649078804725,-0.58116755895428751,-0.54111194133211749,-0.48950325999251865,-0.43591727906630018,-0.38008724323330689]

{"sheet":">discounts","index":5,"n_rows":19,"n_cols":23,"rows_kept":19,"cut":false,"hidden":false,"merged":[]}
[]
[null,"TAB: TEMPLATE TESTING TAB (DISCOUNT FACTORS)"]
[]
[null,"Output data frequency",null,null,{"$f":"config!B17","v":"data-frequency"},null,{"$f":"config!B20","v":"monthly-frequency"}]
[null,{"$f":"_xll.AC.finance.irb.get(calc!E10, config!B7, _xll.AC.data.map(E4:E4, G4:G4))","v":"java.util.ArrayList@Sun, 24 Jun 2018 23:12:40:608..7671817516124633526"},null,null,{"$f":"_xll.AC.data.size($B$5, 1)","v":13},{"$f":"_xll.AC.data.size($B$5, 2)","v":22}]
[]
[null,{"$f":"_xll.AC.data._get(B5, \"\", 0)","v":"Date"},0,0.5,1,1.5,2,2.5,3,3.5,4,4.5,5,5.5,6,6.5,7,7.5,8,8.5,9,9.5,10]
[null,"2017-12-15",1,0.99081094325450092,0.98170637038914066,0.97138484241291612,0.96030964594905799,0.94949769102040382,0.93835079621621209,0.92752015629281603,0.91654488870088202,0.90571350742048296,0.89480589044111958,0.88394840549337095,0.87304267794041623,0.86216374649041472,0.85125317615653562,0.84041908871505977,0.82957138450679024,0.81878861506594913,0.80800493748117241,0.79730875601924667,0.78662359312908869]
[null,"2017-11-15",1,0.99151664645227944,0.98310529985457229,0.97351250474298889,0.96318251025699009,0.95295343300411151,0.94233653559558694,0.93189977554795922,0.92124550598117194,0.91065610269357966,0.89991952230766181,0.889127854015624,0.87821488866063657,0.8673203530321284,0.85633334247977155,0.8454041235771208,0.83440840443802466,0.82350861094513805,0.81256593213297768,0.80172172514996665,0.79085335593469752]
[null,"2017-10-16",1,0.99200950913838992,0.9840828765153663,0.97491514334209617,0.96496759933730525,0.95503465585697356,0.94465577706585646,0.93436992535887697,0.92380309198374888,0.91323205429751686,0.90245214877462121,0.89161873240666512,0.88061544365030753,0.86958002385712407,0.85840592510582425,0.84731976543711807,0.8361319789239231,0.82504966493115284,0.81389569734206557,0.80291848801825516,0.79189889142902559]
[null,"2017-09-15",1,0.99257872599229335,0.98521259793136851,0.97696056849897972,0.96815361399280842,0.95921898497175728,0.94991342913381538,0.94051227732566933,0.93083038938042351,0.92101704239779447,0.9109678374859892,0.9007489122444442,0.89031874753137052,0.87989098034930446,0.86929414844239772,0.85862046103853507,0.84780039715548006,0.83716995259461435,0.82643719742546196,0.81585749197373558,0.8052064382351215]
[null,"2017-08-15",1,0.99277159023854056,0.98559543368765135,0.97759583305326114,0.9690801612974842,0.96033057629550644,0.95119176831087349,0.9418559683771861,0.93219951237684617,0.92233922772853172,0.91219832325764538,0.90189268252594035,0.89134122461487986,0.88072810259416434,0.86990931833298735,0.85912479568017375,0.84817600247123515,0.83743176235840733,0.82657145615284011,0.8158069945221359,0.8049547465143031]
[null,"2017-07-17",1,0.99276862926657317,0.98558955444604346,0.97731523926933828,0.96834911922384337,0.95905583558031182,0.94923622763445081,0.93926181055371638,0.92888415688436743,0.91834748581629133,0.9074783920937699,0.89657503153265206,0.8854071305621668,0.87427934112814243,0.86294504823100837,0.85167486206662046,0.84024391940114673,0.82900871844628321,0.81766029184424183,0.80649225881966713,0.79524649354260679]
[null,"2017-06-15",1,0.99302895196740448,0.98610651444392583,0.97819715509883842,0.96966410597550545,0.9608192966457747,0.95149271867874985,0.94202220162218675,0.93218117583827176,0.92224779938146317,0.91201895966306656,0.90172073684305398,0.89118040118963293,0.88064895898191398,0.86992416519974458,0.85929074621024659,0.84850953945505259,0.83778806720417331,0.82695064109316907,0.8162696891556831,0.8055059752424395]
[null,"2017-05-15",1,0.99318722543224613,0.98642087935709033,0.97839277569300376,0.96956206193766126,0.96033485941872865,0.95048989521992444,0.94053089698713055,0.93011605009785325,0.91966342824054059,0.90886305576735393,0.89811991919777356,0.8871145365966977,0.87613636339151935,0.86495157437549186,0.85395073869818772,0.84280195562924753,0.83178034521878497,0.82064953370317528,0.80964426110616428,0.79855994806674213]
[null,"2017-04-17",1,0.9931836673222405,0.98641380786596466,0.97832451830464773,0.96940054736466497,0.96005864801634122,0.95007084120342544,0.93996181469291784,0.92937586349175993,0.91880407894623606,0.90787944688117284,0.89698417548158316,0.88581841733402011,0.87473541687221401,0.86344664940285087,0.85234046964246102,0.84108705895140334,0.83000222582706895,0.81881286364835315,0.80775806815481577,0.79662908412823386]
[null,"2017-03-15",1,0.99311585739867814,0.98627911310593863,0.97758158807195339,0.96769527652662835,0.95731724501294313,0.9460637182225744,0.93487684840004237,0.92310697362633343,0.91153689020416517,0.89957367846786651,0.8878091729997154,0.87577118772468998,0.86392344073367977,0.85188297105626842,0.84006734030994568,0.82812113695745138,0.81640011566367388,0.80459499099181098,0.79298651066851911,0.78132735324751412]
[null,"2017-02-15",1,0.99363258316324043,0.98730573911677033,0.97918989884415486,0.96992698893034246,0.9601950880772796,0.94961809271246356,0.93895124497651528,0.92767926315506322,0.91653091810023235,0.90495653918746866,0.89344367748033071,0.88160886758971801,0.86994708728081904,0.85805045842399907,0.84638993274311269,0.83456466397002615,0.82296611298877598,0.81125440497703993,0.79976720302708582,0.78820639079405486]
[null,"2017-01-16",1,0.99387944538828255,0.98779636709333352,0.97986619106570094,0.97074925623470121,0.96111037749434114,0.95058260142527407,0.94002826235346149,0.92885502225869687,0.91781966039455332,0.90635056642310208,0.89503088863342894,0.88339688113905079,0.87195307842518333,0.86028252017237483,0.84885656946538934,0.83727319837880487,0.82595202498239573,0.81452685719590534,0.80334973389934305,0.792108384131892]

{"sheet":"curves","index":6,"n_rows":800,"n_cols":38,"rows_kept":800,"cut":false,"hidden":false,"merged":[]}
[]
[null,"TAB: BLOOMBERG SWAP CURVES AND FORWARD RATES"]
[null,null,null,null,null,null,null,{"$f":"config!B11","v":"curve-fx"},null,null,null,null,null,null,null,null,null,null,null,null,{"$f":"config!B12","v":"curve-swap"}]
[null,"FX Forward rates",null,null,null,null,null,"CRNCY_FROM",null,"USD",null,null,null,null,"USD Float-to-Fixed swap rate",null,null,null,null,null,"CRNCY",null,"USD"]
[null,"Currency","CAD",null,{"$f":"_xll.AC.finance.irb.size(B6, 1)","v":260},{"$f":"_xll.AC.finance.irb.size(B6, 2)","v":11},null,"CRNCY_TO",null,"CAD",null,null,null,null,"Curve name","USSW",null,{"$f":"_xll.AC.finance.irb.size(O6, 1)","v":258},{"$f":"_xll.AC.finance.irb.size(O6, 2)","v":10},null,"CPN_FREQ",null,2]
[null,{"$f":"_xll.AC.finance.irb.curve(C5, H3, B10:B800,C9:M9, C10:M800, H6)","v":"jeconkr.finance.FSTP.lib.model.fx.data.CurveFX@Sun, 24 Jun 2018 23:12:52:901..1325459906523674912"},null,null,null,null,null,{"$f":"_xll.AC.data.map(H4:H5, J4:J5)","v":"java.util.LinkedHashMap@Sun, 24 Jun 2018 23:12:40:396..5123630796006960860"},null,null,null,null," ",null,{"$f":"_xll.AC.finance.irb.curve(P5, U3, O10:O800,P9:Y9, P10:Y800, U6)","v":"jeconkr.finance.FSTP.lib.model.swap.data.CurveSwap@Sun, 24 Jun 2018 23:12:52:905..514408064112231720"},null,null,null,null,null,{"$f":"_xll.AC.data.map(U4:U5, W4:W5)","v":"java.util.LinkedHashMap@Sun, 24 Jun 2018 23:12:40:397..8145265143495689158"},null,null,null,null," ",null,null,null,null,null,null,null,null,null,null,null," "]
[]
[null,null,{"$f":"CAD!B4","v":"CAD"},{"$f":"CAD!D4","v":"CAD12M"},{"$f":"CAD!F4","v":"CAD2Y"},{"$f":"CAD!H4","v":"CAD3Y"},{"$f":"CAD!J4","v":"CAD4Y"},{"$f":"CAD!L4","v":"CAD5Y"},{"$f":"CAD!N4","v":"CAD6Y"},{"$f":"CAD!P4","v":"CAD7Y"},{"$f":"CAD!R4","v":"CAD8Y"},{"$f":"CAD!T4","v":"CAD9Y"},{"$f":"CAD!V4","v":"CAD10Y"},null,null,{"$f":"USSW!B4","v":"USSW1"},{"$f":"USSW!D4","v":"USSW2"},{"$f":"USSW!F4","v":"USSW3"},{"$f":"USSW!H4","v":"USSW4"},{"$f":"USSW!J4","v":"USSW5"},{"$f":"USSW!L4","v":"USSW6"},{"$f":"USSW!N4","v":"USSW7"},{"$f":"USSW!P4","v":"USSW8"},{"$f":"USSW!R4","v":"USSW9"},{"$f":"USSW!T4","v":"USSW10"}]
[null,"Date",0,1,2,3,4,5,6,7,8,9,10,null,"Date",1,2,3,4,5,6,7,8,9,10]
[null,{"$f":"IF(CAD!B7=\"\", \"\", CAD!B7)","v":"2017-12-29"},{"$f":"IF($B10=\"\", \"\", CAD!C7)","v":1.2571000000000001},{"$f":"IF($B10=\"\", \"\",VLOOKUP($B10, CAD!$D$7:$E$2000, 2, FALSE))","v":1.25329},{"$f":"IF($B10=\"\", \"\",VLOOKUP($B10, CAD!$F$7:$G$2000, 2, FALSE))","v":1.2513000000000001},{"$f":"IF($B10=\"\", \"\",VLOOKUP($B10, CAD!$H$7:$I$2000, 2, FALSE))","v":1.2490300000000001},{"$f":"IF($B10=\"\", \"\",VLOOKUP($B10, CAD!$J$7:$K$2000, 2, FALSE))","v":1.2489349999999999},{"$f":"IF($B10=\"\", \"\", VLOOKUP($B10, CAD!$L$7:$M$2000, 2, FALSE))","v":1.2493700000000001},{"$f":"IF($B10=\"\", \"\", VLOOKUP($B10, CAD!$N$7:$O$2000, 2, FALSE))","v":1.2524},{"$f":"IF($B10=\"\", \"\", VLOOKUP($B10, CAD!$P$7:$Q$2000, 2, FALSE))","v":1.24952},{"$f":"IF($B10=\"\", \"\", VLOOKUP($B10, CAD!$R$7:$S$2000, 2, FALSE))","v":1.2500899999999999},{"$f":"IF($B10=\"\", \"\", VLOOKUP($B10, CAD!$T$7:$U$2000, 2, FALSE))","v":{"$error":"#N/A"}},{"$f":"IF($B10=\"\", \"\", VLOOKUP($B10, CAD!$V$7:$W$2000, 2, FALSE))","v":{"$error":"#N/A"}},null,{"$f":"IF(USSW!B7=\"\", \"\", USSW!B7)","v":"2017-12-29"},{"$f":"IF($O10=\"\", \"\", USSW!C7)","v":1.8992},{"$f":"IF($O10=\"\", \"\", VLOOKUP($O10, USSW!$D$7:$E$2000, 2, FALSE))","v":2.0779999999999998},{"$f":"IF($O10=\"\", \"\", VLOOKUP($O10, USSW!$F$7:$G$2000, 2, FALSE))","v":2.169},{"$f":"IF($O10=\"\", \"\", VLOOKUP($O10, USSW!$H$7:$I$2000, 2, FALSE))","v":2.2105000000000001},{"$f":"IF($O10=\"\", \"\", VLOOKUP($O10, USSW!$J$7:$K$2000, 2, FALSE))","v":2.2437},{"$f":"IF($O10=\"\", \"\", VLOOKUP($O10, USSW!$L$7:$M$2000, 2, FALSE))","v":2.2765},{"$f":"IF($O10=\"\", \"\", VLOOKUP($O10, USSW!$N$7:$O$2000, 2, FALSE))","v":2.3106},{"$f":"IF($O10=\"\", \"\", VLOOKUP($O10, USSW!$P$7:$Q$2000, 2, FALSE))","v":2.3412000000000002},{"$f":"IF($O10=\"\", \"\", VLOOKUP($O10, USSW!$R$7:$S$2000, 2, FALSE))","v":2.37},{"$f":"IF($O10=\"\", \"\", VLOOKUP($O10, USSW!$T$7:$U$2000, 2, FALSE))","v":2.3980000000000001}]
[null,{"$f":"IF(CAD!B8=\"\", \"\", CAD!B8)","v":"2017-12-28"},{"$f":"IF($B11=\"\", \"\", CAD!C8)","v":1.2569999999999999},{"$f":"IF($B11=\"\", \"\",VLOOKUP($B11, CAD!$D$7:$E$2000, 2, FALSE))","v":1.252556},{"$f":"IF($B11=\"\", \"\",VLOOKUP($B11, CAD!$F$7:$G$2000, 2, FALSE))","v":1.2503500000000001},{"$f":"IF($B11=\"\", \"\",VLOOKUP($B11, CAD!$H$7:$I$2000, 2, FALSE))","v":1.2485999999999999},{"$f":"IF($B11=\"\", \"\",VLOOKUP($B11, CAD!$J$7:$K$2000, 2, FALSE))","v":1.2478800000000001},{"$f":"IF($B11=\"\", \"\", VLOOKUP($B11, CAD!$L$7:$M$2000, 2, FALSE))","v":1.24756},{"$f":"IF($B11=\"\", \"\", VLOOKUP($B11, CAD!$N$7:$O$2000, 2, FALSE))","v":1.2502500000000001},{"$f":"IF($B11=\"\", \"\", VLOOKUP($B11, CAD!$P$7:$Q$2000, 2, FALSE))","v":1.246575},{"$f":"IF($B11=\"\", \"\", VLOOKUP($B11, CAD!$R$7:$S$2000, 2, FALSE))","v":1.2466999999999999},{"$f":"IF($B11=\"\", \"\", VLOOKUP($B11, CAD!$T$7:$U$2000, 2, FALSE))","v":1.249201},{"$f":"IF($B11=\"\", \"\", VLOOKUP($B11, CAD!$V$7:$W$2000, 2, FALSE))","v":1.24963},null,{"$f":"IF(USSW!B8=\"\", \"\", USSW!B8)","v":"2017-12-28"},{"$f":"IF($O11=\"\", \"\", USSW!C8)","v":1.9055},{"$f":"IF($O11=\"\", \"\", VLOOKUP($O11, USSW!$D$7:$E$2000, 2, FALSE))","v":2.0867},{"$f":"IF($O11=\"\", \"\", VLOOKUP($O11, USSW!$F$7:$G$2000, 2, FALSE))","v":2.1814},{"$f":"IF($O11=\"\", \"\", VLOOKUP($O11, USSW!$H$7:$I$2000, 2, FALSE))","v":2.2317999999999998},{"$f":"IF($O11=\"\", \"\", VLOOKUP($O11, USSW!$J$7:$K$2000, 2, FALSE))","v":2.2706},{"$f":"IF($O11=\"\", \"\", VLOOKUP($O11, USSW!$L$7:$M$2000, 2, FALSE))","v":2.3039000000000001},{"$f":"IF($O11=\"\", \"\", VLOOKUP($O11, USSW!$N$7:$O$2000, 2, FALSE))","v":2.3361999999999998},{"$f":"IF($O11=\"\", \"\", VLOOKUP($O11, USSW!$P$7:$Q$2000, 2, FALSE))","v":2.3654000000000002},{"$f":"IF($O11=\"\", \"\", VLOOKUP($O11, USSW!$R$7:$S$2000, 2, FALSE))","v":2.3914},{"$f":"IF($O11=\"\", \"\", VLOOKUP($O11, USSW!$T$7:$U$2000, 2, FALSE))","v":2.4188999999999998}]
[null,{"$f":"IF(CAD!B9=\"\", \"\", CAD!B9)","v":"2017-12-27"},{"$f":"IF($B12=\"\", \"\", CAD!C9)","v":1.2655000000000001},{"$f":"IF($B12=\"\", \"\",VLOOKUP($B12, CAD!$D$7:$E$2000, 2, FALSE))","v":1.260807},{"$f":"IF($B12=\"\", \"\",VLOOKUP($B12, CAD!$F$7:$G$2000, 2, FALSE))","v":1.2584500000000001},{"$f":"IF($B12=\"\", \"\",VLOOKUP($B12, CAD!$H$7:$I$2000, 2, FALSE))","v":1.256445},{"$f":"IF($B12=\"\", \"\",VLOOKUP($B12, CAD!$J$7:$K$2000, 2, FALSE))","v":1.25458},{"$f":"IF($B12=\"\", \"\", VLOOKUP($B12, CAD!$L$7:$M$2000, 2, FALSE))","v":1.2535499999999999},{"$f":"IF($B12=\"\", \"\", VLOOKUP($B12, CAD!$N$7:$O$2000, 2, FALSE))","v":1.25535},{"$f":"IF($B12=\"\", \"\", VLOOKUP($B12, CAD!$P$7:$Q$2000, 2, FALSE))","v":1.251835},{"$f":"IF($B12=\"\", \"\", VLOOKUP($B12, CAD!$R$7:$S$2000, 2, FALSE))","v":1.25186},{"$f":"IF($B12=\"\", \"\", VLOOKUP($B12, CAD!$T$7:$U$2000, 2, FALSE))","v":1.2534099999999999},{"$f":"IF($B12=\"\", \"\", VLOOKUP($B12, CAD!$V$7:$W$2000, 2, FALSE))","v":1.2545299999999999},null,{"$f":"IF(USSW!B9=\"\", \"\", USSW!B9)","v":"2017-12-27"},{"$f":"IF($O12=\"\", \"\", USSW!C9)","v":1.8996},{"$f":"IF($O12=\"\", \"\", VLOOKUP($O12, USSW!$D$7:$E$2000, 2, FALSE))","v":2.0718999999999999},{"$f":"IF($O12=\"\", \"\", VLOOKUP($O12, USSW!$F$7:$G$2000, 2, FALSE))","v":2.1637},{"$f":"IF($O12=\"\", \"\", VLOOKUP($O12, USSW!$H$7:$I$2000, 2, FALSE))","v":2.2124999999999999},{"$f":"IF($O12=\"\", \"\", VLOOKUP($O12, USSW!$J$7:$K$2000, 2, FALSE))","v":2.2469999999999999},{"$f":"IF($O12=\"\", \"\", VLOOKUP($O12, USSW!$L$7:$M$2000, 2, FALSE))","v":2.2810000000000001},{"$f":"IF($O12=\"\", \"\", VLOOKUP($O12, USSW!$N$7:$O$2000, 2, FALSE))","v":2.3130000000000002},{"$f":"IF($O12=\"\", \"\", VLOOKUP($O12, USSW!$P$7:$Q$2000, 2, FALSE))","v":2.3420000000000001},{"$f":"IF($O12=\"\", \"\", VLOOKUP($O12, USSW!$R$7:$S$2000, 2, FALSE))","v":2.3694000000000002},{"$f":"IF($O12=\"\", \"\", VLOOKUP($O12, USSW!$T$7:$U$2000, 2, FALSE))","v":2.3955000000000002}]
[null,{"$f":"IF(CAD!B10=\"\", \"\", CAD!B10)","v":"2017-12-26"},{"$f":"IF($B13=\"\", \"\", CAD!C10)","v":1.2686999999999999},{"$f":"IF($B13=\"\", \"\",VLOOKUP($B13, CAD!$D$7:$E$2000, 2, FALSE))","v":1.2636700000000001},{"$f":"IF($B13=\"\", \"\",VLOOKUP($B13, CAD!$F$7:$G$2000, 2, FALSE))","v":1.26095},{"$f":"IF($B13=\"\", \"\",VLOOKUP($B13, CAD!$H$7:$I$2000, 2, FALSE))","v":1.258265},{"$f":"IF($B13=\"\", \"\",VLOOKUP($B13, CAD!$J$7:$K$2000, 2, FALSE))","v":1.25671},{"$f":"IF($B13=\"\", \"\", VLOOKUP($B13, CAD!$L$7:$M$2000, 2, FALSE))","v":1.255755},{"$f":"IF($B13=\"\", \"\", VLOOKUP($B13, CAD!$N$7:$O$2000, 2, FALSE))","v":1.2571829999999999},{"$f":"IF($B13=\"\", \"\", VLOOKUP($B13, CAD!$P$7:$Q$2000, 2, FALSE))","v":1.2542199999999999},{"$f":"IF($B13=\"\", \"\", VLOOKUP($B13, CAD!$R$7:$S$2000, 2, FALSE))","v":1.25417},{"$f":"IF($B13=\"\", \"\", VLOOKUP($B13, CAD!$T$7:$U$2000, 2, FALSE))","v":{"$error":"#N/A"}},{"$f":"IF($B13=\"\", \"\", VLOOKUP($B13, CAD!$V$7:$W$2000, 2, FALSE))","v":{"$error":"#N/A"}},null,{"$f":"IF(USSW!B10=\"\", \"\", USSW!B10)","v":"2017-12-26"},{"$f":"IF($O13=\"\", \"\", USSW!C10)","v":1.913},{"$f":"IF($O13=\"\", \"\", VLOOKUP($O13, USSW!$D$7:$E$2000, 2, FALSE))","v":2.0973000000000002},{"$f":"IF($O13=\"\", \"\", VLOOKUP($O13, USSW!$F$7:$G$2000, 2, FALSE))","v":2.1926000000000001},{"$f":"IF($O13=\"\", \"\", VLOOKUP($O13, USSW!$H$7:$I$2000, 2, FALSE))","v":2.2471999999999999},{"$f":"IF($O13=\"\", \"\", VLOOKUP($O13, USSW!$J$7:$K$2000, 2, FALSE))","v":2.2864},{"$f":"IF($O13=\"\", \"\", VLOOKUP($O13, USSW!$L$7:$M$2000, 2, FALSE))","v":2.3266},{"$f":"IF($O13=\"\", \"\", VLOOKUP($O13, USSW!$N$7:$O$2000, 2, FALSE))","v":2.3592},{"$f":"IF($O13=\"\", \"\", VLOOKUP($O13, USSW!$P$7:$Q$2000, 2, FALSE))","v":2.3900999999999999},{"$f":"IF($O13=\"\", \"\", VLOOKUP($O13, USSW!$R$7:$S$2000, 2, FALSE))","v":2.4188000000000001},{"$f":"IF($O13=\"\", \"\", VLOOKUP($O13, USSW!$T$7:$U$2000, 2, FALSE))","v":2.4483000000000001}]
[null,{"$f":"IF(CAD!B11=\"\", \"\", CAD!B11)","v":"2017-12-25"},{"$f":"IF($B14=\"\", \"\", CAD!C11)","v":1.2726999999999999},{"$f":"IF($B14=\"\", \"\",VLOOKUP($B14, CAD!$D$7:$E$2000, 2, FALSE))","v":1.2676499999999999},{"$f":"IF($B14=\"\", \"\",VLOOKUP($B14, CAD!$F$7:$G$2000, 2, FALSE))","v":1.26495},{"$f":"IF($B14=\"\", \"\",VLOOKUP($B14, CAD!$H$7:$I$2000, 2, FALSE))","v":1.2620800000000001},{"$f":"IF($B14=\"\", \"\",VLOOKUP($B14, CAD!$J$7:$K$2000, 2, FALSE))","v":1.2601279999999999},{"$f":"IF($B14=\"\", \"\", VLOOKUP($B14, CAD!$L$7:$M$2000, 2, FALSE))","v":1.2592449999999999},{"$f":"IF($B14=\"\", \"\", VLOOKUP($B14, CAD!$N$7:$O$2000, 2, FALSE))","v":1.2603},{"$f":"IF($B14=\"\", \"\", VLOOKUP($B14, CAD!$P$7:$Q$2000, 2, FALSE))","v":1.2567200000000001},{"$f":"IF($B14=\"\", \"\", VLOOKUP($B14, CAD!$R$7:$S$2000, 2, FALSE))","v":1.2569699999999999},{"$f":"IF($B14=\"\", \"\", VLOOKUP($B14, CAD!$T$7:$U$2000, 2, FALSE))","v":{"$error":"#N/A"}},{"$f":"IF($B14=\"\", \"\", VLOOKUP($B14, CAD!$V$7:$W$2000, 2, FALSE))","v":{"$error":"#N/A"}},null,{"$f":"IF(USSW!B11=\"\", \"\", USSW!B11)","v":"2017-12-22"},{"$f":"IF($O14=\"\", \"\", USSW!C11)","v":1.9156},{"$f":"IF($O14=\"\", \"\", VLOOKUP($O14, USSW!$D$7:$E$2000, 2, FALSE))","v":2.1},{"$f":"IF($O14=\"\", \"\", VLOOKUP($O14, USSW!$F$7:$G$2000, 2, FALSE))","v":2.1970000000000001},{"$f":"IF($O14=\"\", \"\", VLOOKUP($O14, USSW!$H$7:$I$2000, 2, FALSE))","v":2.2536},{"$f":"IF($O14=\"\", \"\", VLOOKUP($O14, USSW!$J$7:$K$2000, 2, FALSE))","v":2.2949000000000002},{"$f":"IF($O14=\"\", \"\", VLOOKUP($O14, USSW!$L$7:$M$2000, 2, FALSE))","v":2.3355000000000001},{"$f":"IF($O14=\"\", \"\", VLOOKUP($O14, USSW!$N$7:$O$2000, 2, FALSE))","v":2.3719000000000001},{"$f":"IF($O14=\"\", \"\", VLOOKUP($O14, USSW!$P$7:$Q$2000, 2, FALSE))","v":2.403},{"$f":"IF($O14=\"\", \"\", VLOOKUP($O14, USSW!$R$7:$S$2000, 2, FALSE))","v":2.4335},{"$f":"IF($O14=\"\", \"\", VLOOKUP($O14, USSW!$T$7:$U$2000, 2, FALSE))","v":2.4615}]
[null,{"$f":"IF(CAD!B12=\"\", \"\", CAD!B12)","v":"2017-12-22"},{"$f":"IF($B15=\"\", \"\", CAD!C12)","v":1.2728999999999999},{"$f":"IF($B15=\"\", \"\",VLOOKUP($B15, CAD!$D$7:$E$2000, 2, FALSE))","v":1.2678430000000001},{"$f":"IF($B15=\"\", \"\",VLOOKUP($B15, CAD!$F$7:$G$2000, 2, FALSE))","v":1.2650999999999999},{"$f":"IF($B15=\"\", \"\",VLOOKUP($B15, CAD!$H$7:$I$2000, 2, FALSE))","v":1.26207},{"$f":"IF($B15=\"\", \"\",VLOOKUP($B15, CAD!$J$7:$K$2000, 2, FALSE))","v":1.260472},{"$f":"IF($B15=\"\", \"\", VLOOKUP($B15, CAD!$L$7:$M$2000, 2, FALSE))","v":1.2594099999999999},{"$f":"IF($B15=\"\", \"\", VLOOKUP($B15, CAD!$N$7:$O$2000, 2, FALSE))","v":1.25813},{"$f":"IF($B15=\"\", \"\", VLOOKUP($B15, CAD!$P$7:$Q$2000, 2, FALSE))","v":1.2571000000000001},{"$f":"IF($B15=\"\", \"\", VLOOKUP($B15, CAD!$R$7:$S$2000, 2, FALSE))","v":1.2570950000000001},{"$f":"IF($B15=\"\", \"\", VLOOKUP($B15, CAD!$T$7:$U$2000, 2, FALSE))","v":1.257093},{"$f":"IF($B15=\"\", \"\", VLOOKUP($B15, CAD!$V$7:$W$2000, 2, FALSE))","v":1.2587999999999999},null,{"$f":"IF(USSW!B12=\"\", \"\", USSW!B12)","v":"2017-12-21"},{"$f":"IF($O15=\"\", \"\", USSW!C12)","v":1.9043000000000001},{"$f":"IF($O15=\"\", \"\", VLOOKUP($O15, USSW!$D$7:$E$2000, 2, FALSE))","v":2.0851999999999999},{"$f":"IF($O15=\"\", \"\", VLOOKUP($O15, USSW!$F$7:$G$2000, 2, FALSE))","v":2.1859999999999999},{"$f":"IF($O15=\"\", \"\", VLOOKUP($O15, USSW!$H$7:$I$2000, 2, FALSE))","v":2.2458},{"$f":"IF($O15=\"\", \"\", VLOOKUP($O15, USSW!$J$7:$K$2000, 2, FALSE))","v":2.2938000000000001},{"$f":"IF($O15=\"\", \"\", VLOOKUP($O15, USSW!$L$7:$M$2000, 2, FALSE))","v":2.3340000000000001},{"$f":"IF($O15=\"\", \"\", VLOOKUP($O15, USSW!$N$7:$O$2000, 2, FALSE))","v":2.3723000000000001},{"$f":"IF($O15=\"\", \"\", VLOOKUP($O15, USSW!$P$7:$Q$2000, 2, FALSE))","v":2.4062000000000001},{"$f":"IF($O15=\"\", \"\", VLOOKUP($O15, USSW!$R$7:$S$2000, 2, FALSE))","v":2.4388999999999998},{"$f":"IF($O15=\"\", \"\", VLOOKUP($O15, USSW!$T$7:$U$2000, 2, FALSE))","v":2.4676999999999998}]
[null,{"$f":"IF(CAD!B13=\"\", \"\", CAD!B13)","v":"2017-12-21"},{"$f":"IF($B16=\"\", \"\", CAD!C13)","v":1.274},{"$f":"IF($B16=\"\", \"\",VLOOKUP($B16, CAD!$D$7:$E$2000, 2, FALSE))","v":1.2691509999999999},{"$f":"IF($B16=\"\", \"\",VLOOKUP($B16, CAD!$F$7:$G$2000, 2, FALSE))","v":1.2664500000000001},{"$f":"IF($B16=\"\", \"\",VLOOKUP($B16, CAD!$H$7:$I$2000, 2, FALSE))","v":1.2645150000000001},{"$f":"IF($B16=\"\", \"\",VLOOKUP($B16, CAD!$J$7:$K$2000, 2, FALSE))","v":1.2631600000000001},{"$f":"IF($B16=\"\", \"\", VLOOKUP($B16, CAD!$L$7:$M$2000, 2, FALSE))","v":1.26189},{"$f":"IF($B16=\"\", \"\", VLOOKUP($B16, CAD!$N$7:$O$2000, 2, FALSE))","v":1.2636000000000001},{"$f":"IF($B16=\"\", \"\", VLOOKUP($B16, CAD!$P$7:$Q$2000, 2, FALSE))","v":1.2592699999999999},{"$f":"IF($B16=\"\", \"\", VLOOKUP($B16, CAD!$R$7:$S$2000, 2, FALSE))","v":1.2587299999999999},{"$f":"IF($B16=\"\", \"\", VLOOKUP($B16, CAD!$T$7:$U$2000, 2, FALSE))","v":1.25888},{"$f":"IF($B16=\"\", \"\", VLOOKUP($B16, CAD!$V$7:$W$2000, 2, FALSE))","v":1.2596400000000001},null,{"$f":"IF(USSW!B13=\"\", \"\", USSW!B13)","v":"2017-12-20"},{"$f":"IF($O16=\"\", \"\", USSW!C13)","v":1.8895999999999999},{"$f":"IF($O16=\"\", \"\", VLOOKUP($O16, USSW!$D$7:$E$2000, 2, FALSE))","v":2.0710000000000002},{"$f":"IF($O16=\"\", \"\", VLOOKUP($O16, USSW!$F$7:$G$2000, 2, FALSE))","v":2.1699000000000002},{"$f":"IF($O16=\"\", \"\", VLOOKUP($O16, USSW!$H$7:$I$2000, 2, FALSE))","v":2.2341000000000002},{"$f":"IF($O16=\"\", \"\", VLOOKUP($O16, USSW!$J$7:$K$2000, 2, FALSE))","v":2.2841999999999998},{"$f":"IF($O16=\"\", \"\", VLOOKUP($O16, USSW!$L$7:$M$2000, 2, FALSE))","v":2.3288000000000002},{"$f":"IF($O16=\"\", \"\", VLOOKUP($O16, USSW!$N$7:$O$2000, 2, FALSE))","v":2.3693},{"$f":"IF($O16=\"\", \"\", VLOOKUP($O16, USSW!$P$7:$Q$2000, 2, FALSE))","v":2.4079000000000002},{"$f":"IF($O16=\"\", \"\", VLOOKUP($O16, USSW!$R$7:$S$2000, 2, FALSE))","v":2.4432},{"$f":"IF($O16=\"\", \"\", VLOOKUP($O16, USSW!$T$7:$U$2000, 2, FALSE))","v":2.4742999999999999}]
[null,{"$f":"IF(CAD!B14=\"\", \"\", CAD!B14)","v":"2017-12-20"},{"$f":"IF($B17=\"\", \"\", CAD!C14)","v":1.2835000000000001},{"$f":"IF($B17=\"\", \"\",VLOOKUP($B17, CAD!$D$7:$E$2000, 2, FALSE))","v":1.2785299999999999},{"$f":"IF($B17=\"\", \"\",VLOOKUP($B17, CAD!$F$7:$G$2000, 2, FALSE))","v":1.2752699999999999},{"$f":"IF($B17=\"\", \"\",VLOOKUP($B17, CAD!$H$7:$I$2000, 2, FALSE))","v":1.2725},{"$f":"IF($B17=\"\", \"\",VLOOKUP($B17, CAD!$J$7:$K$2000, 2, FALSE))","v":1.27027},{"$f":"IF($B17=\"\", \"\", VLOOKUP($B17, CAD!$L$7:$M$2000, 2, FALSE))","v":1.26854},{"$f":"IF($B17=\"\", \"\", VLOOKUP($B17, CAD!$N$7:$O$2000, 2, FALSE))","v":1.27},{"$f":"IF($B17=\"\", \"\", VLOOKUP($B17, CAD!$P$7:$Q$2000, 2, FALSE))","v":1.2647349999999999},{"$f":"IF($B17=\"\", \"\", VLOOKUP($B17, CAD!$R$7:$S$2000, 2, FALSE))","v":1.26318},{"$f":"IF($B17=\"\", \"\", VLOOKUP($B17, CAD!$T$7:$U$2000, 2, FALSE))","v":1.2623200000000001},{"$f":"IF($B17=\"\", \"\", VLOOKUP($B17, CAD!$V$7:$W$2000, 2, FALSE))","v":1.2624200000000001},null,{"$f":"IF(USSW!B14=\"\", \"\", USSW!B14)","v":"2017-12-19"},{"$f":"IF($O17=\"\", \"\", USSW!C14)","v":1.8845000000000001},{"$f":"IF($O17=\"\", \"\", VLOOKUP($O17, USSW!$D$7:$E$2000, 2, FALSE))","v":2.0623999999999998},{"$f":"IF($O17=\"\", \"\", VLOOKUP($O17, USSW!$F$7:$G$2000, 2, FALSE))","v":2.1574},{"$f":"IF($O17=\"\", \"\", VLOOKUP($O17, USSW!$H$7:$I$2000, 2, FALSE))","v":2.2191000000000001},{"$f":"IF($O17=\"\", \"\", VLOOKUP($O17, USSW!$J$7:$K$2000, 2, FALSE))","v":2.2675999999999998},{"$f":"IF($O17=\"\", \"\", VLOOKUP($O17, USSW!$L$7:$M$2000, 2, FALSE))","v":2.3079000000000001},{"$f":"IF($O17=\"\", \"\", VLOOKUP($O17, USSW!$N$7:$O$2000, 2, FALSE))","v":2.3460000000000001},{"$f":"IF($O17=\"\", \"\", VLOOKUP($O17, USSW!$P$7:$Q$2000, 2, FALSE))","v":2.3812000000000002},{"$f":"IF($O17=\"\", \"\", VLOOKUP($O17, USSW!$R$7:$S$2000, 2, FALSE))","v":2.4140000000000001},{"$f":"IF($O17=\"\", \"\", VLOOKUP($O17, USSW!$T$7:$U$2000, 2, FALSE))","v":2.4445000000000001}]
[null,{"$f":"IF(CAD!B15=\"\", \"\", CAD!B15)","v":"2017-12-19"},{"$f":"IF($B18=\"\", \"\", CAD!C15)","v":1.2878000000000001},{"$f":"IF($B18=\"\", \"\",VLOOKUP($B18, CAD!$D$7:$E$2000, 2, FALSE))","v":1.2824180000000001},{"$f":"IF($B18=\"\", \"\",VLOOKUP($B18, CAD!$F$7:$G$2000, 2, FALSE))","v":1.27868},{"$f":"IF($B18=\"\", \"\",VLOOKUP($B18, CAD!$H$7:$I$2000, 2, FALSE))","v":1.27559},{"$f":"IF($B18=\"\", \"\",VLOOKUP($B18, CAD!$J$7:$K$2000, 2, FALSE))","v":1.27271},{"$f":"IF($B18=\"\", \"\", VLOOKUP($B18, CAD!$L$7:$M$2000, 2, FALSE))","v":1.270562},{"$f":"IF($B18=\"\", \"\", VLOOKUP($B18, CAD!$N$7:$O$2000, 2, FALSE))","v":1.2716499999999999},{"$f":"IF($B18=\"\", \"\", VLOOKUP($B18, CAD!$P$7:$Q$2000, 2, FALSE))","v":1.2661},{"$f":"IF($B18=\"\", \"\", VLOOKUP($B18, CAD!$R$7:$S$2000, 2, FALSE))","v":1.2647299999999999},{"$f":"IF($B18=\"\", \"\", VLOOKUP($B18, CAD!$T$7:$U$2000, 2, FALSE))","v":1.2645900000000001},{"$f":"IF($B18=\"\", \"\", VLOOKUP($B18, CAD!$V$7:$W$2000, 2, FALSE))","v":1.2648999999999999},null,{"$f":"IF(USSW!B15=\"\", \"\", USSW!B15)","v":"2017-12-18"},{"$f":"IF($O18=\"\", \"\", USSW!C15)","v":1.8641000000000001},{"$f":"IF($O18=\"\", \"\", VLOOKUP($O18, USSW!$D$7:$E$2000, 2, FALSE))","v":2.0339},{"$f":"IF($O18=\"\", \"\", VLOOKUP($O18, USSW!$F$7:$G$2000, 2, FALSE))","v":2.1223999999999998},{"$f":"IF($O18=\"\", \"\", VLOOKUP($O18, USSW!$H$7:$I$2000, 2, FALSE))","v":2.1779000000000002},{"$f":"IF($O18=\"\", \"\", VLOOKUP($O18, USSW!$J$7:$K$2000, 2, FALSE))","v":2.2193999999999998},{"$f":"IF($O18=\"\", \"\", VLOOKUP($O18, USSW!$L$7:$M$2000, 2, FALSE))","v":2.2557},{"$f":"IF($O18=\"\", \"\", VLOOKUP($O18, USSW!$N$7:$O$2000, 2, FALSE))","v":2.2921},{"$f":"IF($O18=\"\", \"\", VLOOKUP($O18, USSW!$P$7:$Q$2000, 2, FALSE))","v":2.3241000000000001},{"$f":"IF($O18=\"\", \"\", VLOOKUP($O18, USSW!$R$7:$S$2000, 2, FALSE))","v":2.3555000000000001},{"$f":"IF($O18=\"\", \"\", VLOOKUP($O18, USSW!$T$7:$U$2000, 2, FALSE))","v":2.3849999999999998}]
[null,{"$f":"IF(CAD!B16=\"\", \"\", CAD!B16)","v":"2017-12-18"},{"$f":"IF($B19=\"\", \"\", CAD!C16)","v":1.2862},{"$f":"IF($B19=\"\", \"\",VLOOKUP($B19, CAD!$D$7:$E$2000, 2, FALSE))","v":1.2803469999999999},{"$f":"IF($B19=\"\", \"\",VLOOKUP($B19, CAD!$F$7:$G$2000, 2, FALSE))","v":1.276645},{"$f":"IF($B19=\"\", \"\",VLOOKUP($B19, CAD!$H$7:$I$2000, 2, FALSE))","v":1.27325},{"$f":"IF($B19=\"\", \"\",VLOOKUP($B19, CAD!$J$7:$K$2000, 2, FALSE))","v":1.2702100000000001},{"$f":"IF($B19=\"\", \"\", VLOOKUP($B19, CAD!$L$7:$M$2000, 2, FALSE))","v":1.26755},{"$f":"IF($B19=\"\", \"\", VLOOKUP($B19, CAD!$N$7:$O$2000, 2, FALSE))","v":1.2690999999999999},{"$f":"IF($B19=\"\", \"\", VLOOKUP($B19, CAD!$P$7:$Q$2000, 2, FALSE))","v":1.26373},{"$f":"IF($B19=\"\", \"\", VLOOKUP($B19, CAD!$R$7:$S$2000, 2, FALSE))","v":1.2618799999999999},{"$f":"IF($B19=\"\", \"\", VLOOKUP($B19, CAD!$T$7:$U$2000, 2, FALSE))","v":1.2612909999999999},{"$f":"IF($B19=\"\", \"\", VLOOKUP($B19, CAD!$V$7:$W$2000, 2, FALSE))","v":1.26081},null,{"$f":"IF(USSW!B16=\"\", \"\", USSW!B16)","v":"2017-12-15"},{"$f":"IF($O19=\"\", \"\", USSW!C16)","v":1.8568},{"$f":"IF($O19=\"\", \"\", VLOOKUP($O19, USSW!$D$7:$E$2000, 2, FALSE))","v":2.0251999999999999},{"$f":"IF($O19=\"\", \"\", VLOOKUP($O19, USSW!$F$7:$G$2000, 2, FALSE))","v":2.1139000000000001},{"$f":"IF($O19=\"\", \"\", VLOOKUP($O19, USSW!$H$7:$I$2000, 2, FALSE))","v":2.1640000000000001},{"$f":"IF($O19=\"\", \"\", VLOOKUP($O19, USSW!$J$7:$K$2000, 2, FALSE))","v":2.2002000000000002},{"$f":"IF($O19=\"\", \"\", VLOOKUP($O19, USSW!$L$7:$M$2000, 2, FALSE))","v":2.2320000000000002},{"$f":"IF($O19=\"\", \"\", VLOOKUP($O19, USSW!$N$7:$O$2000, 2, FALSE))","v":2.2606000000000002},{"$f":"IF($O19=\"\", \"\", VLOOKUP($O19, USSW!$P$7:$Q$2000, 2, FALSE))","v":2.2888000000000002},{"$f":"IF($O19=\"\", \"\", VLOOKUP($O19, USSW!$R$7:$S$2000, 2, FALSE))","v":2.3176000000000001},{"$f":"IF($O19=\"\", \"\", VLOOKUP($O19, USSW!$T$7:$U$2000, 2, FALSE))","v":2.3433000000000002}]
[null,{"$f":"IF(CAD!B17=\"\", \"\", CAD!B17)","v":"2017-12-15"},{"$f":"IF($B20=\"\", \"\", CAD!C17)","v":1.2866},{"$f":"IF($B20=\"\", \"\",VLOOKUP($B20, CAD!$D$7:$E$2000, 2, FALSE))","v":1.280451},{"$f":"IF($B20=\"\", \"\",VLOOKUP($B20, CAD!$F$7:$G$2000, 2, FALSE))","v":1.2766500000000001},{"$f":"IF($B20=\"\", \"\",VLOOKUP($B20, CAD!$H$7:$I$2000, 2, FALSE))","v":1.27329},{"$f":"IF($B20=\"\", \"\",VLOOKUP($B20, CAD!$J$7:$K$2000, 2, FALSE))","v":1.270165},{"$f":"IF($B20=\"\", \"\", VLOOKUP($B20, CAD!$L$7:$M$2000, 2, FALSE))","v":1.267525},{"$f":"IF($B20=\"\", \"\", VLOOKUP($B20, CAD!$N$7:$O$2000, 2, FALSE))","v":1.2692000000000001},{"$f":"IF($B20=\"\", \"\", VLOOKUP($B20, CAD!$P$7:$Q$2000, 2, FALSE))","v":1.26285},{"$f":"IF($B20=\"\", \"\", VLOOKUP($B20, CAD!$R$7:$S$2000, 2, FALSE))","v":1.2623899999999999},{"$f":"IF($B20=\"\", \"\", VLOOKUP($B20, CAD!$T$7:$U$2000, 2, FALSE))","v":1.2623800000000001},{"$f":"IF($B20=\"\", \"\", VLOOKUP($B20, CAD!$V$7:$W$2000, 2, FALSE))","v":1.2627999999999999},null,{"$f":"IF(USSW!B17=\"\", \"\", USSW!B17)","v":"2017-12-14"},{"$f":"IF($O20=\"\", \"\", USSW!C17)","v":1.8443000000000001},{"$f":"IF($O20=\"\", \"\", VLOOKUP($O20, USSW!$D$7:$E$2000, 2, FALSE))","v":2.0129999999999999},{"$f":"IF($O20=\"\", \"\", VLOOKUP($O20, USSW!$F$7:$G$2000, 2, FALSE))","v":2.1025},{"$f":"IF($O20=\"\", \"\", VLOOKUP($O20, USSW!$H$7:$I$2000, 2, FALSE))","v":2.1524999999999999},{"$f":"IF($O20=\"\", \"\", VLOOKUP($O20, USSW!$J$7:$K$2000, 2, FALSE))","v":2.1949999999999998},{"$f":"IF($O20=\"\", \"\", VLOOKUP($O20, USSW!$L$7:$M$2000, 2, FALSE))","v":2.2271999999999998},{"$f":"IF($O20=\"\", \"\", VLOOKUP($O20, USSW!$N$7:$O$2000, 2, FALSE))","v":2.2585000000000002},{"$f":"IF($O20=\"\", \"\", VLOOKUP($O20, USSW!$P$7:$Q$2000, 2, FALSE))","v":2.2898000000000001},{"$f":"IF($O20=\"\", \"\", VLOOKUP($O20, USSW!$R$7:$S$2000, 2, FALSE))","v":2.3182999999999998},{"$f":"IF($O20=\"\", \"\", VLOOKUP($O20, USSW!$T$7:$U$2000, 2, FALSE))","v":2.3456999999999999}]
[null,{"$f":"IF(CAD!B18=\"\", \"\", CAD!B18)","v":"2017-12-14"},{"$f":"IF($B21=\"\", \"\", CAD!C18)","v":1.2797000000000001},{"$f":"IF($B21=\"\", \"\",VLOOKUP($B21, CAD!$D$7:$E$2000, 2, FALSE))","v":1.2739229999999999},{"$f":"IF($B21=\"\", \"\",VLOOKUP($B21, CAD!$F$7:$G$2000, 2, FALSE))","v":1.2703150000000001},{"$f":"IF($B21=\"\", \"\",VLOOKUP($B21, CAD!$H$7:$I$2000, 2, FALSE))","v":1.267325},{"$f":"IF($B21=\"\", \"\",VLOOKUP($B21, CAD!$J$7:$K$2000, 2, FALSE))","v":1.2642599999999999},{"$f":"IF($B21=\"\", \"\", VLOOKUP($B21, CAD!$L$7:$M$2000, 2, FALSE))","v":1.2619199999999999},{"$f":"IF($B21=\"\", \"\", VLOOKUP($B21, CAD!$N$7:$O$2000, 2, FALSE))","v":1.2632000000000001},{"$f":"IF($B21=\"\", \"\", VLOOKUP($B21, CAD!$P$7:$Q$2000, 2, FALSE))","v":1.2591600000000001},{"$f":"IF($B21=\"\", \"\", VLOOKUP($B21, CAD!$R$7:$S$2000, 2, FALSE))","v":1.25831},{"$f":"IF($B21=\"\", \"\", VLOOKUP($B21, CAD!$T$7:$U$2000, 2, FALSE))","v":1.2578609999999999},{"$f":"IF($B21=\"\", \"\", VLOOKUP($B21, CAD!$V$7:$W$2000, 2, FALSE))","v":1.258043},null,{"$f":"IF(USSW!B18=\"\", \"\", USSW!B18)","v":"2017-12-13"},{"$f":"IF($O21=\"\", \"\", USSW!C18)","v":1.8245},{"$f":"IF($O21=\"\", \"\", VLOOKUP($O21, USSW!$D$7:$E$2000, 2, FALSE))","v":1.9834000000000001},{"$f":"IF($O21=\"\", \"\", VLOOKUP($O21, USSW!$F$7:$G$2000, 2, FALSE))","v":2.0706000000000002},{"$f":"IF($O21=\"\", \"\", VLOOKUP($O21, USSW!$H$7:$I$2000, 2, FALSE))","v":2.1259999999999999},{"$f":"IF($O21=\"\", \"\", VLOOKUP($O21, USSW!$J$7:$K$2000, 2, FALSE))","v":2.1675},{"$f":"IF($O21=\"\", \"\", VLOOKUP($O21, USSW!$L$7:$M$2000, 2, FALSE))","v":2.2084000000000001},{"$f":"IF($O21=\"\", \"\", VLOOKUP($O21, USSW!$N$7:$O$2000, 2, FALSE))","v":2.2461000000000002},{"$f":"IF($O21=\"\", \"\", VLOOKUP($O21, USSW!$P$7:$Q$2000, 2, FALSE))","v":2.2797000000000001},{"$f":"IF($O21=\"\", \"\", VLOOKUP($O21, USSW!$R$7:$S$2000, 2, FALSE))","v":2.3140000000000001},{"$f":"IF($O21=\"\", \"\", VLOOKUP($O21, USSW!$T$7:$U$2000, 2, FALSE))","v":2.3464999999999998}]
[null,{"$f":"IF(CAD!B19=\"\", \"\", CAD!B19)","v":"2017-12-13"},{"$f":"IF($B22=\"\", \"\", CAD!C19)","v":1.2817000000000001},{"$f":"IF($B22=\"\", \"\",VLOOKUP($B22, CAD!$D$7:$E$2000, 2, FALSE))","v":1.2758929999999999},{"$f":"IF($B22=\"\", \"\",VLOOKUP($B22, CAD!$F$7:$G$2000, 2, FALSE))","v":1.27169},{"$f":"IF($B22=\"\", \"\",VLOOKUP($B22, CAD!$H$7:$I$2000, 2, FALSE))","v":1.2686200000000001},{"$f":"IF($B22=\"\", \"\",VLOOKUP($B22, CAD!$J$7:$K$2000, 2, FALSE))","v":1.26545},{"$f":"IF($B22=\"\", \"\", VLOOKUP($B22, CAD!$L$7:$M$2000, 2, FALSE))","v":1.2629999999999999},{"$f":"IF($B22=\"\", \"\", VLOOKUP($B22, CAD!$N$7:$O$2000, 2, FALSE))","v":1.2641},{"$f":"IF($B22=\"\", \"\", VLOOKUP($B22, CAD!$P$7:$Q$2000, 2, FALSE))","v":1.259015},{"$f":"IF($B22=\"\", \"\", VLOOKUP($B22, CAD!$R$7:$S$2000, 2, FALSE))","v":1.25874},{"$f":"IF($B22=\"\", \"\", VLOOKUP($B22, CAD!$T$7:$U$2000, 2, FALSE))","v":1.2589109999999999},{"$f":"IF($B22=\"\", \"\", VLOOKUP($B22, CAD!$V$7:$W$2000, 2, FALSE))","v":1.2593190000000001},null,{"$f":"IF(USSW!B19=\"\", \"\", USSW!B19)","v":"2017-12-12"},{"$f":"IF($O22=\"\", \"\", USSW!C19)","v":1.8467},{"$f":"IF($O22=\"\", \"\", VLOOKUP($O22, USSW!$D$7:$E$2000, 2, FALSE))","v":2.0259},{"$f":"IF($O22=\"\", \"\", VLOOKUP($O22, USSW!$F$7:$G$2000, 2, FALSE))","v":2.1233},{"$f":"IF($O22=\"\", \"\", VLOOKUP($O22, USSW!$H$7:$I$2000, 2, FALSE))","v":2.1850999999999998},{"$f":"IF($O22=\"\", \"\", VLOOKUP($O22, USSW!$J$7:$K$2000, 2, FALSE))","v":2.2336999999999998},{"$f":"IF($O22=\"\", \"\", VLOOKUP($O22, USSW!$L$7:$M$2000, 2, FALSE))","v":2.2732999999999999},{"$f":"IF($O22=\"\", \"\", VLOOKUP($O22, USSW!$N$7:$O$2000, 2, FALSE))","v":2.3111000000000002},{"$f":"IF($O22=\"\", \"\", VLOOKUP($O22, USSW!$P$7:$Q$2000, 2, FALSE))","v":2.3452000000000002},{"$f":"IF($O22=\"\", \"\", VLOOKUP($O22, USSW!$R$7:$S$2000, 2, FALSE))","v":2.3788},{"$f":"IF($O22=\"\", \"\", VLOOKUP($O22, USSW!$T$7:$U$2000, 2, FALSE))","v":2.4081999999999999}]
[null,{"$f":"IF(CAD!B20=\"\", \"\", CAD!B20)","v":"2017-12-12"},{"$f":"IF($B23=\"\", \"\", CAD!C20)","v":1.2866},{"$f":"IF($B23=\"\", \"\",VLOOKUP($B23, CAD!$D$7:$E$2000, 2, FALSE))","v":1.2806219999999999},{"$f":"IF($B23=\"\", \"\",VLOOKUP($B23, CAD!$F$7:$G$2000, 2, FALSE))","v":1.2759750000000001},{"$f":"IF($B23=\"\", \"\",VLOOKUP($B23, CAD!$H$7:$I$2000, 2, FALSE))","v":1.2723599999999999},{"$f":"IF($B23=\"\", \"\",VLOOKUP($B23, CAD!$J$7:$K$2000, 2, FALSE))","v":1.2691600000000001},{"$f":"IF($B23=\"\", \"\", VLOOKUP($B23, CAD!$L$7:$M$2000, 2, FALSE))","v":1.2666299999999999},{"$f":"IF($B23=\"\", \"\", VLOOKUP($B23, CAD!$N$7:$O$2000, 2, FALSE))","v":1.26387},{"$f":"IF($B23=\"\", \"\", VLOOKUP($B23, CAD!$P$7:$Q$2000, 2, FALSE))","v":1.2621800000000001},{"$f":"IF($B23=\"\", \"\", VLOOKUP($B23, CAD!$R$7:$S$2000, 2, FALSE))","v":1.2610349999999999},{"$f":"IF($B23=\"\", \"\", VLOOKUP($B23, CAD!$T$7:$U$2000, 2, FALSE))","v":1.2604599999999999},{"$f":"IF($B23=\"\", \"\", VLOOKUP($B23, CAD!$V$7:$W$2000, 2, FALSE))","v":1.2599499999999999},null,{"$f":"IF(USSW!B20=\"\", \"\", USSW!B20)","v":"2017-12-11"},{"$f":"IF($O23=\"\", \"\", USSW!C20)","v":1.8348},{"$f":"IF($O23=\"\", \"\", VLOOKUP($O23, USSW!$D$7:$E$2000, 2, FALSE))","v":2.0148999999999999},{"$f":"IF($O23=\"\", \"\", VLOOKUP($O23, USSW!$F$7:$G$2000, 2, FALSE))","v":2.1105999999999998},{"$f":"IF($O23=\"\", \"\", VLOOKUP($O23, USSW!$H$7:$I$2000, 2, FALSE))","v":2.1730999999999998},{"$f":"IF($O23=\"\", \"\", VLOOKUP($O23, USSW!$J$7:$K$2000, 2, FALSE))","v":2.2197},{"$f":"IF($O23=\"\", \"\", VLOOKUP($O23, USSW!$L$7:$M$2000, 2, FALSE))","v":2.262},{"$f":"IF($O23=\"\", \"\", VLOOKUP($O23, USSW!$N$7:$O$2000, 2, FALSE))","v":2.3005},{"$f":"IF($O23=\"\", \"\", VLOOKUP($O23, USSW!$P$7:$Q$2000, 2, FALSE))","v":2.3374000000000001},{"$f":"IF($O23=\"\", \"\", VLOOKUP($O23, USSW!$R$7:$S$2000, 2, FALSE))","v":2.3717000000000001},{"$f":"IF($O23=\"\", \"\", VLOOKUP($O23, USSW!$T$7:$U$2000, 2, FALSE))","v":2.4003000000000001}]
[null,{"$f":"IF(CAD!B21=\"\", \"\", CAD!B21)","v":"2017-12-11"},{"$f":"IF($B24=\"\", \"\", CAD!C21)","v":1.2856000000000001},{"$f":"IF($B24=\"\", \"\",VLOOKUP($B24, CAD!$D$7:$E$2000, 2, FALSE))","v":1.2798},{"$f":"IF($B24=\"\", \"\",VLOOKUP($B24, CAD!$F$7:$G$2000, 2, FALSE))","v":1.27542},{"$f":"IF($B24=\"\", \"\",VLOOKUP($B24, CAD!$H$7:$I$2000, 2, FALSE))","v":1.271895},{"$f":"IF($B24=\"\", \"\",VLOOKUP($B24, CAD!$J$7:$K$2000, 2, FALSE))","v":1.2686500000000001},{"$f":"IF($B24=\"\", \"\", VLOOKUP($B24, CAD!$L$7:$M$2000, 2, FALSE))","v":1.2663899999999999},{"$f":"IF($B24=\"\", \"\", VLOOKUP($B24, CAD!$N$7:$O$2000, 2, FALSE))","v":1.268},{"$f":"IF($B24=\"\", \"\", VLOOKUP($B24, CAD!$P$7:$Q$2000, 2, FALSE))","v":1.2634449999999999},{"$f":"IF($B24=\"\", \"\", VLOOKUP($B24, CAD!$R$7:$S$2000, 2, FALSE))","v":1.26275},{"$f":"IF($B24=\"\", \"\", VLOOKUP($B24, CAD!$T$7:$U$2000, 2, FALSE))","v":1.2616419999999999},{"$f":"IF($B24=\"\", \"\", VLOOKUP($B24, CAD!$V$7:$W$2000, 2, FALSE))","v":1.2622119999999999},null,{"$f":"IF(USSW!B21=\"\", \"\", USSW!B21)","v":"2017-12-08"},{"$f":"IF($O24=\"\", \"\", USSW!C21)","v":1.8210999999999999},{"$f":"IF($O24=\"\", \"\", VLOOKUP($O24, USSW!$D$7:$E$2000, 2, FALSE))","v":1.9970000000000001},{"$f":"IF($O24=\"\", \"\", VLOOKUP($O24, USSW!$F$7:$G$2000, 2, FALSE))","v":2.0935000000000001},{"$f":"IF($O24=\"\", \"\", VLOOKUP($O24, USSW!$H$7:$I$2000, 2, FALSE))","v":2.1537999999999999},{"$f":"IF($O24=\"\", \"\", VLOOKUP($O24, USSW!$J$7:$K$2000, 2, FALSE))","v":2.2029000000000001},{"$f":"IF($O24=\"\", \"\", VLOOKUP($O24, USSW!$L$7:$M$2000, 2, FALSE))","v":2.2458},{"$f":"IF($O24=\"\", \"\", VLOOKUP($O24, USSW!$N$7:$O$2000, 2, FALSE))","v":2.2860999999999998},{"$f":"IF($O24=\"\", \"\", VLOOKUP($O24, USSW!$P$7:$Q$2000, 2, FALSE))","v":2.3239999999999998},{"$f":"IF($O24=\"\", \"\", VLOOKUP($O24, USSW!$R$7:$S$2000, 2, FALSE))","v":2.3570000000000002},{"$f":"IF($O24=\"\", \"\", VLOOKUP($O24, USSW!$T$7:$U$2000, 2, FALSE))","v":2.3881999999999999}]
[null,{"$f":"IF(CAD!B22=\"\", \"\", CAD!B22)","v":"2017-12-08"},{"$f":"IF($B25=\"\", \"\", CAD!C22)","v":1.2847999999999999},{"$f":"IF($B25=\"\", \"\",VLOOKUP($B25, CAD!$D$7:$E$2000, 2, FALSE))","v":1.2790729999999999},{"$f":"IF($B25=\"\", \"\",VLOOKUP($B25, CAD!$F$7:$G$2000, 2, FALSE))","v":1.2748999999999999},{"$f":"IF($B25=\"\", \"\",VLOOKUP($B25, CAD!$H$7:$I$2000, 2, FALSE))","v":1.2716750000000001},{"$f":"IF($B25=\"\", \"\",VLOOKUP($B25, CAD!$J$7:$K$2000, 2, FALSE))","v":1.26877},{"$f":"IF($B25=\"\", \"\", VLOOKUP($B25, CAD!$L$7:$M$2000, 2, FALSE))","v":1.2665500000000001},{"$f":"IF($B25=\"\", \"\", VLOOKUP($B25, CAD!$N$7:$O$2000, 2, FALSE))","v":1.2660450000000001},{"$f":"IF($B25=\"\", \"\", VLOOKUP($B25, CAD!$P$7:$Q$2000, 2, FALSE))","v":1.2630300000000001},{"$f":"IF($B25=\"\", \"\", VLOOKUP($B25, CAD!$R$7:$S$2000, 2, FALSE))","v":1.26193},{"$f":"IF($B25=\"\", \"\", VLOOKUP($B25, CAD!$T$7:$U$2000, 2, FALSE))","v":1.2616879999999999},{"$f":"IF($B25=\"\", \"\", VLOOKUP($B25, CAD!$V$7:$W$2000, 2, FALSE))","v":1.2616799999999999},null,{"$f":"IF(USSW!B22=\"\", \"\", USSW!B22)","v":"2017-12-07"},{"$f":"IF($O25=\"\", \"\", USSW!C22)","v":1.8120000000000001},{"$f":"IF($O25=\"\", \"\", VLOOKUP($O25, USSW!$D$7:$E$2000, 2, FALSE))","v":1.9914000000000001},{"$f":"IF($O25=\"\", \"\", VLOOKUP($O25, USSW!$F$7:$G$2000, 2, FALSE))","v":2.0870000000000002},{"$f":"IF($O25=\"\", \"\", VLOOKUP($O25, USSW!$H$7:$I$2000, 2, FALSE))","v":2.1497999999999999},{"$f":"IF($O25=\"\", \"\", VLOOKUP($O25, USSW!$J$7:$K$2000, 2, FALSE))","v":2.2000000000000002},{"$f":"IF($O25=\"\", \"\", VLOOKUP($O25, USSW!$L$7:$M$2000, 2, FALSE))","v":2.2414999999999998},{"$f":"IF($O25=\"\", \"\", VLOOKUP($O25, USSW!$N$7:$O$2000, 2, FALSE))","v":2.2799999999999998},{"$f":"IF($O25=\"\", \"\", VLOOKUP($O25, USSW!$P$7:$Q$2000, 2, FALSE))","v":2.3147000000000002},{"$f":"IF($O25=\"\", \"\", VLOOKUP($O25, USSW!$R$7:$S$2000, 2, FALSE))","v":2.3483000000000001},{"$f":"IF($O25=\"\", \"\", VLOOKUP($O25, USSW!$T$7:$U$2000, 2, FALSE))","v":2.3784999999999998}]
[null,{"$f":"IF(CAD!B23=\"\", \"\", CAD!B23)","v":"2017-12-07"},{"$f":"IF($B26=\"\", \"\", CAD!C23)","v":1.2854000000000001},{"$f":"IF($B26=\"\", \"\",VLOOKUP($B26, CAD!$D$7:$E$2000, 2, FALSE))","v":1.27962},{"$f":"IF($B26=\"\", \"\",VLOOKUP($B26, CAD!$F$7:$G$2000, 2, FALSE))","v":1.2754000000000001},{"$f":"IF($B26=\"\", \"\",VLOOKUP($B26, CAD!$H$7:$I$2000, 2, FALSE))","v":1.272143},{"$f":"IF($B26=\"\", \"\",VLOOKUP($B26, CAD!$J$7:$K$2000, 2, FALSE))","v":1.269355},{"$f":"IF($B26=\"\", \"\", VLOOKUP($B26, CAD!$L$7:$M$2000, 2, FALSE))","v":1.266715},{"$f":"IF($B26=\"\", \"\", VLOOKUP($B26, CAD!$N$7:$O$2000, 2, FALSE))","v":1.2685999999999999},{"$f":"IF($B26=\"\", \"\", VLOOKUP($B26, CAD!$P$7:$Q$2000, 2, FALSE))","v":1.26335},{"$f":"IF($B26=\"\", \"\", VLOOKUP($B26, CAD!$R$7:$S$2000, 2, FALSE))","v":1.262165},{"$f":"IF($B26=\"\", \"\", VLOOKUP($B26, CAD!$T$7:$U$2000, 2, FALSE))","v":1.2619899999999999},{"$f":"IF($B26=\"\", \"\", VLOOKUP($B26, CAD!$V$7:$W$2000, 2, FALSE))","v":1.2620899999999999},null,{"$f":"IF(USSW!B23=\"\", \"\", USSW!B23)","v":"2017-12-06"},{"$f":"IF($O26=\"\", \"\", USSW!C23)","v":1.8048},{"$f":"IF($O26=\"\", \"\", VLOOKUP($O26, USSW!$D$7:$E$2000, 2, FALSE))","v":1.9847999999999999},{"$f":"IF($O26=\"\", \"\", VLOOKUP($O26, USSW!$F$7:$G$2000, 2, FALSE))","v":2.0798999999999999},{"$f":"IF($O26=\"\", \"\", VLOOKUP($O26, USSW!$H$7:$I$2000, 2, FALSE))","v":2.141},{"$f":"IF($O26=\"\", \"\", VLOOKUP($O26, USSW!$J$7:$K$2000, 2, FALSE))","v":2.1873},{"$f":"IF($O26=\"\", \"\", VLOOKUP($O26, USSW!$L$7:$M$2000, 2, FALSE))","v":2.2261000000000002},{"$f":"IF($O26=\"\", \"\", VLOOKUP($O26, USSW!$N$7:$O$2000, 2, FALSE))","v":2.2639999999999998},{"$f":"IF($O26=\"\", \"\", VLOOKUP($O26, USSW!$P$7:$Q$2000, 2, FALSE))","v":2.2976999999999999},{"$f":"IF($O26=\"\", \"\", VLOOKUP($O26, USSW!$R$7:$S$2000, 2, FALSE))","v":2.33},{"$f":"IF($O26=\"\", \"\", VLOOKUP($O26, USSW!$T$7:$U$2000, 2, FALSE))","v":2.3593999999999999}]
[null,{"$f":"IF(CAD!B24=\"\", \"\", CAD!B24)","v":"2017-12-06"},{"$f":"IF($B27=\"\", \"\", CAD!C24)","v":1.2788999999999999},{"$f":"IF($B27=\"\", \"\",VLOOKUP($B27, CAD!$D$7:$E$2000, 2, FALSE))","v":1.2732969999999999},{"$f":"IF($B27=\"\", \"\",VLOOKUP($B27, CAD!$F$7:$G$2000, 2, FALSE))","v":1.2690699999999999},{"$f":"IF($B27=\"\", \"\",VLOOKUP($B27, CAD!$H$7:$I$2000, 2, FALSE))","v":1.2662500000000001},{"$f":"IF($B27=\"\", \"\",VLOOKUP($B27, CAD!$J$7:$K$2000, 2, FALSE))","v":1.2637799999999999},{"$f":"IF($B27=\"\", \"\", VLOOKUP($B27, CAD!$L$7:$M$2000, 2, FALSE))","v":1.2617},{"$f":"IF($B27=\"\", \"\", VLOOKUP($B27, CAD!$N$7:$O$2000, 2, FALSE))","v":1.2633000000000001},{"$f":"IF($B27=\"\", \"\", VLOOKUP($B27, CAD!$P$7:$Q$2000, 2, FALSE))","v":1.2584500000000001},{"$f":"IF($B27=\"\", \"\", VLOOKUP($B27, CAD!$R$7:$S$2000, 2, FALSE))","v":1.25728},{"$f":"IF($B27=\"\", \"\", VLOOKUP($B27, CAD!$T$7:$U$2000, 2, FALSE))","v":1.25901},{"$f":"IF($B27=\"\", \"\", VLOOKUP($B27, CAD!$V$7:$W$2000, 2, FALSE))","v":1.2599899999999999},null,{"$f":"IF(USSW!B24=\"\", \"\", USSW!B24)","v":"2017-12-05"},{"$f":"IF($O27=\"\", \"\", USSW!C24)","v":1.8061},{"$f":"IF($O27=\"\", \"\", VLOOKUP($O27, USSW!$D$7:$E$2000, 2, FALSE))","v":1.9950000000000001},{"$f":"IF($O27=\"\", \"\", VLOOKUP($O27, USSW!$F$7:$G$2000, 2, FALSE))","v":2.0960999999999999},{"$f":"IF($O27=\"\", \"\", VLOOKUP($O27, USSW!$H$7:$I$2000, 2, FALSE))","v":2.1553},{"$f":"IF($O27=\"\", \"\", VLOOKUP($O27, USSW!$J$7:$K$2000, 2, FALSE))","v":2.1995},{"$f":"IF($O27=\"\", \"\", VLOOKUP($O27, USSW!$L$7:$M$2000, 2, FALSE))","v":2.2385000000000002},{"$f":"IF($O27=\"\", \"\", VLOOKUP($O27, USSW!$N$7:$O$2000, 2, FALSE))","v":2.2749999999999999},{"$f":"IF($O27=\"\", \"\", VLOOKUP($O27, USSW!$P$7:$Q$2000, 2, FALSE))","v":2.3069999999999999},{"$f":"IF($O27=\"\", \"\", VLOOKUP($O27, USSW!$R$7:$S$2000, 2, FALSE))","v":2.3384999999999998},{"$f":"IF($O27=\"\", \"\", VLOOKUP($O27, USSW!$T$7:$U$2000, 2, FALSE))","v":2.3673000000000002}]
[null,{"$f":"IF(CAD!B25=\"\", \"\", CAD!B25)","v":"2017-12-05"},{"$f":"IF($B28=\"\", \"\", CAD!C25)","v":1.2690999999999999},{"$f":"IF($B28=\"\", \"\",VLOOKUP($B28, CAD!$D$7:$E$2000, 2, FALSE))","v":1.2641500000000001},{"$f":"IF($B28=\"\", \"\",VLOOKUP($B28, CAD!$F$7:$G$2000, 2, FALSE))","v":1.2607999999999999},{"$f":"IF($B28=\"\", \"\",VLOOKUP($B28, CAD!$H$7:$I$2000, 2, FALSE))","v":1.2576400000000001},{"$f":"IF($B28=\"\", \"\",VLOOKUP($B28, CAD!$J$7:$K$2000, 2, FALSE))","v":1.2553399999999999},{"$f":"IF($B28=\"\", \"\", VLOOKUP($B28, CAD!$L$7:$M$2000, 2, FALSE))","v":1.2537700000000001},{"$f":"IF($B28=\"\", \"\", VLOOKUP($B28, CAD!$N$7:$O$2000, 2, FALSE))","v":1.2552000000000001},{"$f":"IF($B28=\"\", \"\", VLOOKUP($B28, CAD!$P$7:$Q$2000, 2, FALSE))","v":1.2509399999999999},{"$f":"IF($B28=\"\", \"\", VLOOKUP($B28, CAD!$R$7:$S$2000, 2, FALSE))","v":1.2499899999999999},{"$f":"IF($B28=\"\", \"\", VLOOKUP($B28, CAD!$T$7:$U$2000, 2, FALSE))","v":1.25156},{"$f":"IF($B28=\"\", \"\", VLOOKUP($B28, CAD!$V$7:$W$2000, 2, FALSE))","v":1.25282},null,{"$f":"IF(USSW!B25=\"\", \"\", USSW!B25)","v":"2017-12-04"},{"$f":"IF($O28=\"\", \"\", USSW!C25)","v":1.7958000000000001},{"$f":"IF($O28=\"\", \"\", VLOOKUP($O28, USSW!$D$7:$E$2000, 2, FALSE))","v":1.9883999999999999},{"$f":"IF($O28=\"\", \"\", VLOOKUP($O28, USSW!$F$7:$G$2000, 2, FALSE))","v":2.0939999999999999},{"$f":"IF($O28=\"\", \"\", VLOOKUP($O28, USSW!$H$7:$I$2000, 2, FALSE))","v":2.1568000000000001},{"$f":"IF($O28=\"\", \"\", VLOOKUP($O28, USSW!$J$7:$K$2000, 2, FALSE))","v":2.2035},{"$f":"IF($O28=\"\", \"\", VLOOKUP($O28, USSW!$L$7:$M$2000, 2, FALSE))","v":2.2471000000000001},{"$f":"IF($O28=\"\", \"\", VLOOKUP($O28, USSW!$N$7:$O$2000, 2, FALSE))","v":2.2875000000000001},{"$f":"IF($O28=\"\", \"\", VLOOKUP($O28, USSW!$P$7:$Q$2000, 2, FALSE))","v":2.3249},{"$f":"IF($O28=\"\", \"\", VLOOKUP($O28, USSW!$R$7:$S$2000, 2, FALSE))","v":2.3580000000000001},{"$f":"IF($O28=\"\", \"\", VLOOKUP($O28, USSW!$T$7:$U$2000, 2, FALSE))","v":2.3896000000000002}]
[null,{"$f":"IF(CAD!B26=\"\", \"\", CAD!B26)","v":"2017-12-04"},{"$f":"IF($B29=\"\", \"\", CAD!C26)","v":1.2673000000000001},{"$f":"IF($B29=\"\", \"\",VLOOKUP($B29, CAD!$D$7:$E$2000, 2, FALSE))","v":1.26281},{"$f":"IF($B29=\"\", \"\",VLOOKUP($B29, CAD!$F$7:$G$2000, 2, FALSE))","v":1.2597},{"$f":"IF($B29=\"\", \"\",VLOOKUP($B29, CAD!$H$7:$I$2000, 2, FALSE))","v":1.25685},{"$f":"IF($B29=\"\", \"\",VLOOKUP($B29, CAD!$J$7:$K$2000, 2, FALSE))","v":1.25485},{"$f":"IF($B29=\"\", \"\", VLOOKUP($B29, CAD!$L$7:$M$2000, 2, FALSE))","v":1.2536499999999999},{"$f":"IF($B29=\"\", \"\", VLOOKUP($B29, CAD!$N$7:$O$2000, 2, FALSE))","v":1.2547999999999999},{"$f":"IF($B29=\"\", \"\", VLOOKUP($B29, CAD!$P$7:$Q$2000, 2, FALSE))","v":1.25126},{"$f":"IF($B29=\"\", \"\", VLOOKUP($B29, CAD!$R$7:$S$2000, 2, FALSE))","v":1.2507600000000001},{"$f":"IF($B29=\"\", \"\", VLOOKUP($B29, CAD!$T$7:$U$2000, 2, FALSE))","v":1.2520309999999999},{"$f":"IF($B29=\"\", \"\", VLOOKUP($B29, CAD!$V$7:$W$2000, 2, FALSE))","v":1.253398},null,{"$f":"IF(USSW!B26=\"\", \"\", USSW!B26)","v":"2017-12-01"},{"$f":"IF($O29=\"\", \"\", USSW!C26)","v":1.7749999999999999},{"$f":"IF($O29=\"\", \"\", VLOOKUP($O29, USSW!$D$7:$E$2000, 2, FALSE))","v":1.9592000000000001},{"$f":"IF($O29=\"\", \"\", VLOOKUP($O29, USSW!$F$7:$G$2000, 2, FALSE))","v":2.0648},{"$f":"IF($O29=\"\", \"\", VLOOKUP($O29, USSW!$H$7:$I$2000, 2, FALSE))","v":2.1267999999999998},{"$f":"IF($O29=\"\", \"\", VLOOKUP($O29, USSW!$J$7:$K$2000, 2, FALSE))","v":2.1736},{"$f":"IF($O29=\"\", \"\", VLOOKUP($O29, USSW!$L$7:$M$2000, 2, FALSE))","v":2.2168999999999999},{"$f":"IF($O29=\"\", \"\", VLOOKUP($O29, USSW!$N$7:$O$2000, 2, FALSE))","v":2.2589999999999999},{"$f":"IF($O29=\"\", \"\", VLOOKUP($O29, USSW!$P$7:$Q$2000, 2, FALSE))","v":2.2972999999999999},{"$f":"IF($O29=\"\", \"\", VLOOKUP($O29, USSW!$R$7:$S$2000, 2, FALSE))","v":2.3294999999999999},{"$f":"IF($O29=\"\", \"\", VLOOKUP($O29, USSW!$T$7:$U$2000, 2, FALSE))","v":2.3635999999999999}]
[null,{"$f":"IF(CAD!B27=\"\", \"\", CAD!B27)","v":"2017-12-01"},{"$f":"IF($B30=\"\", \"\", CAD!C27)","v":1.2685},{"$f":"IF($B30=\"\", \"\",VLOOKUP($B30, CAD!$D$7:$E$2000, 2, FALSE))","v":1.2640469999999999},{"$f":"IF($B30=\"\", \"\",VLOOKUP($B30, CAD!$F$7:$G$2000, 2, FALSE))","v":1.2605599999999999},{"$f":"IF($B30=\"\", \"\",VLOOKUP($B30, CAD!$H$7:$I$2000, 2, FALSE))","v":1.2577499999999999},{"$f":"IF($B30=\"\", \"\",VLOOKUP($B30, CAD!$J$7:$K$2000, 2, FALSE))","v":1.25559},{"$f":"IF($B30=\"\", \"\", VLOOKUP($B30, CAD!$L$7:$M$2000, 2, FALSE))","v":1.253895},{"$f":"IF($B30=\"\", \"\", VLOOKUP($B30, CAD!$N$7:$O$2000, 2, FALSE))","v":1.2555000000000001},{"$f":"IF($B30=\"\", \"\", VLOOKUP($B30, CAD!$P$7:$Q$2000, 2, FALSE))","v":1.2520500000000001},{"$f":"IF($B30=\"\", \"\", VLOOKUP($B30, CAD!$R$7:$S$2000, 2, FALSE))","v":1.2523550000000001},{"$f":"IF($B30=\"\", \"\", VLOOKUP($B30, CAD!$T$7:$U$2000, 2, FALSE))","v":1.2535700000000001},{"$f":"IF($B30=\"\", \"\", VLOOKUP($B30, CAD!$V$7:$W$2000, 2, FALSE))","v":1.2579199999999999},null,{"$f":"IF(USSW!B27=\"\", \"\", USSW!B27)","v":"2017-11-30"},{"$f":"IF($O30=\"\", \"\", USSW!C27)","v":1.7831999999999999},{"$f":"IF($O30=\"\", \"\", VLOOKUP($O30, USSW!$D$7:$E$2000, 2, FALSE))","v":1.9704999999999999},{"$f":"IF($O30=\"\", \"\", VLOOKUP($O30, USSW!$F$7:$G$2000, 2, FALSE))","v":2.0781000000000001},{"$f":"IF($O30=\"\", \"\", VLOOKUP($O30, USSW!$H$7:$I$2000, 2, FALSE))","v":2.1461999999999999},{"$f":"IF($O30=\"\", \"\", VLOOKUP($O30, USSW!$J$7:$K$2000, 2, FALSE))","v":2.1989999999999998},{"$f":"IF($O30=\"\", \"\", VLOOKUP($O30, USSW!$L$7:$M$2000, 2, FALSE))","v":2.2467999999999999},{"$f":"IF($O30=\"\", \"\", VLOOKUP($O30, USSW!$N$7:$O$2000, 2, FALSE))","v":2.2919999999999998},{"$f":"IF($O30=\"\", \"\", VLOOKUP($O30, USSW!$P$7:$Q$2000, 2, FALSE))","v":2.3340000000000001},{"$f":"IF($O30=\"\", \"\", VLOOKUP($O30, USSW!$R$7:$S$2000, 2, FALSE))","v":2.3708},{"$f":"IF($O30=\"\", \"\", VLOOKUP($O30, USSW!$T$7:$U$2000, 2, FALSE))","v":2.4055}]
[null,{"$f":"IF(CAD!B28=\"\", \"\", CAD!B28)","v":"2017-11-30"},{"$f":"IF($B31=\"\", \"\", CAD!C28)","v":1.2897000000000001},{"$f":"IF($B31=\"\", \"\",VLOOKUP($B31, CAD!$D$7:$E$2000, 2, FALSE))","v":1.283787},{"$f":"IF($B31=\"\", \"\",VLOOKUP($B31, CAD!$F$7:$G$2000, 2, FALSE))","v":1.2789200000000001},{"$f":"IF($B31=\"\", \"\",VLOOKUP($B31, CAD!$H$7:$I$2000, 2, FALSE))","v":1.2750250000000001},{"$f":"IF($B31=\"\", \"\",VLOOKUP($B31, CAD!$J$7:$K$2000, 2, FALSE))","v":1.2721899999999999},{"$f":"IF($B31=\"\", \"\", VLOOKUP($B31, CAD!$L$7:$M$2000, 2, FALSE))","v":1.26945},{"$f":"IF($B31=\"\", \"\", VLOOKUP($B31, CAD!$N$7:$O$2000, 2, FALSE))","v":1.268435},{"$f":"IF($B31=\"\", \"\", VLOOKUP($B31, CAD!$P$7:$Q$2000, 2, FALSE))","v":1.2659100000000001},{"$f":"IF($B31=\"\", \"\", VLOOKUP($B31, CAD!$R$7:$S$2000, 2, FALSE))","v":1.26515},{"$f":"IF($B31=\"\", \"\", VLOOKUP($B31, CAD!$T$7:$U$2000, 2, FALSE))","v":1.2660499999999999},{"$f":"IF($B31=\"\", \"\", VLOOKUP($B31, CAD!$V$7:$W$2000, 2, FALSE))","v":1.2673399999999999},null,{"$f":"IF(USSW!B28=\"\", \"\", USSW!B28)","v":"2017-11-29"},{"$f":"IF($O31=\"\", \"\", USSW!C28)","v":1.7685},{"$f":"IF($O31=\"\", \"\", VLOOKUP($O31, USSW!$D$7:$E$2000, 2, FALSE))","v":1.9438},{"$f":"IF($O31=\"\", \"\", VLOOKUP($O31, USSW!$F$7:$G$2000, 2, FALSE))","v":2.0463},{"$f":"IF($O31=\"\", \"\", VLOOKUP($O31, USSW!$H$7:$I$2000, 2, FALSE))","v":2.1143000000000001},{"$f":"IF($O31=\"\", \"\", VLOOKUP($O31, USSW!$J$7:$K$2000, 2, FALSE))","v":2.1694},{"$f":"IF($O31=\"\", \"\", VLOOKUP($O31, USSW!$L$7:$M$2000, 2, FALSE))","v":2.2183999999999999},{"$f":"IF($O31=\"\", \"\", VLOOKUP($O31, USSW!$N$7:$O$2000, 2, FALSE))","v":2.2643},{"$f":"IF($O31=\"\", \"\", VLOOKUP($O31, USSW!$P$7:$Q$2000, 2, FALSE))","v":2.3056999999999999},{"$f":"IF($O31=\"\", \"\", VLOOKUP($O31, USSW!$R$7:$S$2000, 2, FALSE))","v":2.3448000000000002},{"$f":"IF($O31=\"\", \"\", VLOOKUP($O31, USSW!$T$7:$U$2000, 2, FALSE))","v":2.3809999999999998}]
[null,{"$f":"IF(CAD!B29=\"\", \"\", CAD!B29)","v":"2017-11-29"},{"$f":"IF($B32=\"\", \"\", CAD!C29)","v":1.2865},{"$f":"IF($B32=\"\", \"\",VLOOKUP($B32, CAD!$D$7:$E$2000, 2, FALSE))","v":1.280869},{"$f":"IF($B32=\"\", \"\",VLOOKUP($B32, CAD!$F$7:$G$2000, 2, FALSE))","v":1.2765500000000001},{"$f":"IF($B32=\"\", \"\",VLOOKUP($B32, CAD!$H$7:$I$2000, 2, FALSE))","v":1.2731950000000001},{"$f":"IF($B32=\"\", \"\",VLOOKUP($B32, CAD!$J$7:$K$2000, 2, FALSE))","v":1.27014},{"$f":"IF($B32=\"\", \"\", VLOOKUP($B32, CAD!$L$7:$M$2000, 2, FALSE))","v":1.2682500000000001},{"$f":"IF($B32=\"\", \"\", VLOOKUP($B32, CAD!$N$7:$O$2000, 2, FALSE))","v":1.2687999999999999},{"$f":"IF($B32=\"\", \"\", VLOOKUP($B32, CAD!$P$7:$Q$2000, 2, FALSE))","v":1.2647299999999999},{"$f":"IF($B32=\"\", \"\", VLOOKUP($B32, CAD!$R$7:$S$2000, 2, FALSE))","v":1.2640400000000001},{"$f":"IF($B32=\"\", \"\", VLOOKUP($B32, CAD!$T$7:$U$2000, 2, FALSE))","v":1.2656499999999999},{"$f":"IF($B32=\"\", \"\", VLOOKUP($B32, CAD!$V$7:$W$2000, 2, FALSE))","v":1.26708},null,{"$f":"IF(USSW!B29=\"\", \"\", USSW!B29)","v":"2017-11-28"},{"$f":"IF($O32=\"\", \"\", USSW!C29)","v":1.7543},{"$f":"IF($O32=\"\", \"\", VLOOKUP($O32, USSW!$D$7:$E$2000, 2, FALSE))","v":1.9198},{"$f":"IF($O32=\"\", \"\", VLOOKUP($O32, USSW!$F$7:$G$2000, 2, FALSE))","v":2.0143},{"$f":"IF($O32=\"\", \"\", VLOOKUP($O32, USSW!$H$7:$I$2000, 2, FALSE))","v":2.0754999999999999},{"$f":"IF($O32=\"\", \"\", VLOOKUP($O32, USSW!$J$7:$K$2000, 2, FALSE))","v":2.1253000000000002},{"$f":"IF($O32=\"\", \"\", VLOOKUP($O32, USSW!$L$7:$M$2000, 2, FALSE))","v":2.1688999999999998},{"$f":"IF($O32=\"\", \"\", VLOOKUP($O32, USSW!$N$7:$O$2000, 2, FALSE))","v":2.21},{"$f":"IF($O32=\"\", \"\", VLOOKUP($O32, USSW!$P$7:$Q$2000, 2, FALSE))","v":2.2507000000000001},{"$f":"IF($O32=\"\", \"\", VLOOKUP($O32, USSW!$R$7:$S$2000, 2, FALSE))","v":2.2875000000000001},{"$f":"IF($O32=\"\", \"\", VLOOKUP($O32, USSW!$T$7:$U$2000, 2, FALSE))","v":2.3214000000000001}]
[null,{"$f":"IF(CAD!B30=\"\", \"\", CAD!B30)","v":"2017-11-28"},{"$f":"IF($B33=\"\", \"\", CAD!C30)","v":1.2815000000000001},{"$f":"IF($B33=\"\", \"\",VLOOKUP($B33, CAD!$D$7:$E$2000, 2, FALSE))","v":1.2759259999999999},{"$f":"IF($B33=\"\", \"\",VLOOKUP($B33, CAD!$F$7:$G$2000, 2, FALSE))","v":1.271736},{"$f":"IF($B33=\"\", \"\",VLOOKUP($B33, CAD!$H$7:$I$2000, 2, FALSE))","v":1.2683},{"$f":"IF($B33=\"\", \"\",VLOOKUP($B33, CAD!$J$7:$K$2000, 2, FALSE))","v":1.26566},{"$f":"IF($B33=\"\", \"\", VLOOKUP($B33, CAD!$L$7:$M$2000, 2, FALSE))","v":1.263665},{"$f":"IF($B33=\"\", \"\", VLOOKUP($B33, CAD!$N$7:$O$2000, 2, FALSE))","v":1.263425},{"$f":"IF($B33=\"\", \"\", VLOOKUP($B33, CAD!$P$7:$Q$2000, 2, FALSE))","v":1.26105},{"$f":"IF($B33=\"\", \"\", VLOOKUP($B33, CAD!$R$7:$S$2000, 2, FALSE))","v":1.2609999999999999},{"$f":"IF($B33=\"\", \"\", VLOOKUP($B33, CAD!$T$7:$U$2000, 2, FALSE))","v":1.2631300000000001},{"$f":"IF($B33=\"\", \"\", VLOOKUP($B33, CAD!$V$7:$W$2000, 2, FALSE))","v":1.26319},null,{"$f":"IF(USSW!B30=\"\", \"\", USSW!B30)","v":"2017-11-27"},{"$f":"IF($O33=\"\", \"\", USSW!C30)","v":1.7547999999999999},{"$f":"IF($O33=\"\", \"\", VLOOKUP($O33, USSW!$D$7:$E$2000, 2, FALSE))","v":1.9197},{"$f":"IF($O33=\"\", \"\", VLOOKUP($O33, USSW!$F$7:$G$2000, 2, FALSE))","v":2.0105},{"$f":"IF($O33=\"\", \"\", VLOOKUP($O33, USSW!$H$7:$I$2000, 2, FALSE))","v":2.0731000000000002},{"$f":"IF($O33=\"\", \"\", VLOOKUP($O33, USSW!$J$7:$K$2000, 2, FALSE))","v":2.1133999999999999},{"$f":"IF($O33=\"\", \"\", VLOOKUP($O33, USSW!$L$7:$M$2000, 2, FALSE))","v":2.1648999999999998},{"$f":"IF($O33=\"\", \"\", VLOOKUP($O33, USSW!$N$7:$O$2000, 2, FALSE))","v":2.2033999999999998},{"$f":"IF($O33=\"\", \"\", VLOOKUP($O33, USSW!$P$7:$Q$2000, 2, FALSE))","v":2.2490999999999999},{"$f":"IF($O33=\"\", \"\", VLOOKUP($O33, USSW!$R$7:$S$2000, 2, FALSE))","v":2.2847},{"$f":"IF($O33=\"\", \"\", VLOOKUP($O33, USSW!$T$7:$U$2000, 2, FALSE))","v":2.3205}]
[null,{"$f":"IF(CAD!B31=\"\", \"\", CAD!B31)","v":"2017-11-27"},{"$f":"IF($B34=\"\", \"\", CAD!C31)","v":1.2768999999999999},{"$f":"IF($B34=\"\", \"\",VLOOKUP($B34, CAD!$D$7:$E$2000, 2, FALSE))","v":1.2714259999999999},{"$f":"IF($B34=\"\", \"\",VLOOKUP($B34, CAD!$F$7:$G$2000, 2, FALSE))","v":1.2671730000000001},{"$f":"IF($B34=\"\", \"\",VLOOKUP($B34, CAD!$H$7:$I$2000, 2, FALSE))","v":1.26461},{"$f":"IF($B34=\"\", \"\",VLOOKUP($B34, CAD!$J$7:$K$2000, 2, FALSE))","v":1.262305},{"$f":"IF($B34=\"\", \"\", VLOOKUP($B34, CAD!$L$7:$M$2000, 2, FALSE))","v":1.2609349999999999},{"$f":"IF($B34=\"\", \"\", VLOOKUP($B34, CAD!$N$7:$O$2000, 2, FALSE))","v":1.2617},{"$f":"IF($B34=\"\", \"\", VLOOKUP($B34, CAD!$P$7:$Q$2000, 2, FALSE))","v":1.2587999999999999},{"$f":"IF($B34=\"\", \"\", VLOOKUP($B34, CAD!$R$7:$S$2000, 2, FALSE))","v":1.2589399999999999},{"$f":"IF($B34=\"\", \"\", VLOOKUP($B34, CAD!$T$7:$U$2000, 2, FALSE))","v":1.2598879999999999},{"$f":"IF($B34=\"\", \"\", VLOOKUP($B34, CAD!$V$7:$W$2000, 2, FALSE))","v":1.2609509999999999},null,{"$f":"IF(USSW!B31=\"\", \"\", USSW!B31)","v":"2017-11-24"},{"$f":"IF($O34=\"\", \"\", USSW!C31)","v":1.7527999999999999},{"$f":"IF($O34=\"\", \"\", VLOOKUP($O34, USSW!$D$7:$E$2000, 2, FALSE))","v":1.9242999999999999},{"$f":"IF($O34=\"\", \"\", VLOOKUP($O34, USSW!$F$7:$G$2000, 2, FALSE))","v":2.0232999999999999},{"$f":"IF($O34=\"\", \"\", VLOOKUP($O34, USSW!$H$7:$I$2000, 2, FALSE))","v":2.0840000000000001},{"$f":"IF($O34=\"\", \"\", VLOOKUP($O34, USSW!$J$7:$K$2000, 2, FALSE))","v":2.1326000000000001},{"$f":"IF($O34=\"\", \"\", VLOOKUP($O34, USSW!$L$7:$M$2000, 2, FALSE))","v":2.1827000000000001},{"$f":"IF($O34=\"\", \"\", VLOOKUP($O34, USSW!$N$7:$O$2000, 2, FALSE))","v":2.2269000000000001},{"$f":"IF($O34=\"\", \"\", VLOOKUP($O34, USSW!$P$7:$Q$2000, 2, FALSE))","v":2.2686999999999999},{"$f":"IF($O34=\"\", \"\", VLOOKUP($O34, USSW!$R$7:$S$2000, 2, FALSE))","v":2.3071999999999999},{"$f":"IF($O34=\"\", \"\", VLOOKUP($O34, USSW!$T$7:$U$2000, 2, FALSE))","v":2.3405}]
[null,{"$f":"IF(CAD!B32=\"\", \"\", CAD!B32)","v":"2017-11-24"},{"$f":"IF($B35=\"\", \"\", CAD!C32)","v":1.2712000000000001},{"$f":"IF($B35=\"\", \"\",VLOOKUP($B35, CAD!$D$7:$E$2000, 2, FALSE))","v":1.2659},{"$f":"IF($B35=\"\", \"\",VLOOKUP($B35, CAD!$F$7:$G$2000, 2, FALSE))","v":1.2616620000000001},{"$f":"IF($B35=\"\", \"\",VLOOKUP($B35, CAD!$H$7:$I$2000, 2, FALSE))","v":1.25885},{"$f":"IF($B35=\"\", \"\",VLOOKUP($B35, CAD!$J$7:$K$2000, 2, FALSE))","v":1.256537},{"$f":"IF($B35=\"\", \"\", VLOOKUP($B35, CAD!$L$7:$M$2000, 2, FALSE))","v":1.25468},{"$f":"IF($B35=\"\", \"\", VLOOKUP($B35, CAD!$N$7:$O$2000, 2, FALSE))","v":1.2554000000000001},{"$f":"IF($B35=\"\", \"\", VLOOKUP($B35, CAD!$P$7:$Q$2000, 2, FALSE))","v":1.2525500000000001},{"$f":"IF($B35=\"\", \"\", VLOOKUP($B35, CAD!$R$7:$S$2000, 2, FALSE))","v":{"$error":"#N/A"}},{"$f":"IF($B35=\"\", \"\", VLOOKUP($B35, CAD!$T$7:$U$2000, 2, FALSE))","v":1.2530600000000001},{"$f":"IF($B35=\"\", \"\", VLOOKUP($B35, CAD!$V$7:$W$2000, 2, FALSE))","v":1.25448},null,{"$f":"IF(USSW!B32=\"\", \"\", USSW!B32)","v":"2017-11-23"},{"$f":"IF($O35=\"\", \"\", USSW!C32)","v":1.7431000000000001},{"$f":"IF($O35=\"\", \"\", VLOOKUP($O35, USSW!$D$7:$E$2000, 2, FALSE))","v":1.909},{"$f":"IF($O35=\"\", \"\", VLOOKUP($O35, USSW!$F$7:$G$2000, 2, FALSE))","v":2.0055000000000001},{"$f":"IF($O35=\"\", \"\", VLOOKUP($O35, USSW!$H$7:$I$2000, 2, FALSE))","v":2.0630999999999999},{"$f":"IF($O35=\"\", \"\", VLOOKUP($O35, USSW!$J$7:$K$2000, 2, FALSE))","v":2.1137999999999999},{"$f":"IF($O35=\"\", \"\", VLOOKUP($O35, USSW!$L$7:$M$2000, 2, FALSE))","v":2.1642999999999999},{"$f":"IF($O35=\"\", \"\", VLOOKUP($O35, USSW!$N$7:$O$2000, 2, FALSE))","v":2.2118000000000002},{"$f":"IF($O35=\"\", \"\", VLOOKUP($O35, USSW!$P$7:$Q$2000, 2, FALSE))","v":2.2471999999999999},{"$f":"IF($O35=\"\", \"\", VLOOKUP($O35, USSW!$R$7:$S$2000, 2, FALSE))","v":2.2839999999999998},{"$f":"IF($O35=\"\", \"\", VLOOKUP($O35, USSW!$T$7:$U$2000, 2, FALSE))","v":2.3235999999999999}]
[null,{"$f":"IF(CAD!B33=\"\", \"\", CAD!B33)","v":"2017-11-23"},{"$f":"IF($B36=\"\", \"\", CAD!C33)","v":1.2713000000000001},{"$f":"IF($B36=\"\", \"\",VLOOKUP($B36, CAD!$D$7:$E$2000, 2, FALSE))","v":1.266103},{"$f":"IF($B36=\"\", \"\",VLOOKUP($B36, CAD!$F$7:$G$2000, 2, FALSE))","v":1.2623200000000001},{"$f":"IF($B36=\"\", \"\",VLOOKUP($B36, CAD!$H$7:$I$2000, 2, FALSE))","v":1.2589429999999999},{"$f":"IF($B36=\"\", \"\",VLOOKUP($B36, CAD!$J$7:$K$2000, 2, FALSE))","v":1.257655},{"$f":"IF($B36=\"\", \"\", VLOOKUP($B36, CAD!$L$7:$M$2000, 2, FALSE))","v":1.256375},{"$f":"IF($B36=\"\", \"\", VLOOKUP($B36, CAD!$N$7:$O$2000, 2, FALSE))","v":1.2563150000000001},{"$f":"IF($B36=\"\", \"\", VLOOKUP($B36, CAD!$P$7:$Q$2000, 2, FALSE))","v":1.2540150000000001},{"$f":"IF($B36=\"\", \"\", VLOOKUP($B36, CAD!$R$7:$S$2000, 2, FALSE))","v":1.25722},{"$f":"IF($B36=\"\", \"\", VLOOKUP($B36, CAD!$T$7:$U$2000, 2, FALSE))","v":1.25651},{"$f":"IF($B36=\"\", \"\", VLOOKUP($B36, CAD!$V$7:$W$2000, 2, FALSE))","v":1.2574099999999999},null,{"$f":"IF(USSW!B33=\"\", \"\", USSW!B33)","v":"2017-11-22"},{"$f":"IF($O36=\"\", \"\", USSW!C33)","v":1.7377},{"$f":"IF($O36=\"\", \"\", VLOOKUP($O36, USSW!$D$7:$E$2000, 2, FALSE))","v":1.9037999999999999},{"$f":"IF($O36=\"\", \"\", VLOOKUP($O36, USSW!$F$7:$G$2000, 2, FALSE))","v":1.9991000000000001},{"$f":"IF($O36=\"\", \"\", VLOOKUP($O36, USSW!$H$7:$I$2000, 2, FALSE))","v":2.0629},{"$f":"IF($O36=\"\", \"\", VLOOKUP($O36, USSW!$J$7:$K$2000, 2, FALSE))","v":2.1135999999999999},{"$f":"IF($O36=\"\", \"\", VLOOKUP($O36, USSW!$L$7:$M$2000, 2, FALSE))","v":2.1608000000000001},{"$f":"IF($O36=\"\", \"\", VLOOKUP($O36, USSW!$N$7:$O$2000, 2, FALSE))","v":2.2065000000000001},{"$f":"IF($O36=\"\", \"\", VLOOKUP($O36, USSW!$P$7:$Q$2000, 2, FALSE))","v":2.2465000000000002},{"$f":"IF($O36=\"\", \"\", VLOOKUP($O36, USSW!$R$7:$S$2000, 2, FALSE))","v":2.2848999999999999},{"$f":"IF($O36=\"\", \"\", VLOOKUP($O36, USSW!$T$7:$U$2000, 2, FALSE))","v":2.3199000000000001}]
[null,{"$f":"IF(CAD!B34=\"\", \"\", CAD!B34)","v":"2017-11-22"},{"$f":"IF($B37=\"\", \"\", CAD!C34)","v":1.2696000000000001},{"$f":"IF($B37=\"\", \"\",VLOOKUP($B37, CAD!$D$7:$E$2000, 2, FALSE))","v":1.2645489999999999},{"$f":"IF($B37=\"\", \"\",VLOOKUP($B37, CAD!$F$7:$G$2000, 2, FALSE))","v":1.2608550000000001},{"$f":"IF($B37=\"\", \"\",VLOOKUP($B37, CAD!$H$7:$I$2000, 2, FALSE))","v":1.2583500000000001},{"$f":"IF($B37=\"\", \"\",VLOOKUP($B37, CAD!$J$7:$K$2000, 2, FALSE))","v":1.256165},{"$f":"IF($B37=\"\", \"\", VLOOKUP($B37, CAD!$L$7:$M$2000, 2, FALSE))","v":1.25535},{"$f":"IF($B37=\"\", \"\", VLOOKUP($B37, CAD!$N$7:$O$2000, 2, FALSE))","v":1.2557449999999999},{"$f":"IF($B37=\"\", \"\", VLOOKUP($B37, CAD!$P$7:$Q$2000, 2, FALSE))","v":1.2546550000000001},{"$f":"IF($B37=\"\", \"\", VLOOKUP($B37, CAD!$R$7:$S$2000, 2, FALSE))","v":1.2557100000000001},{"$f":"IF($B37=\"\", \"\", VLOOKUP($B37, CAD!$T$7:$U$2000, 2, FALSE))","v":1.25563},{"$f":"IF($B37=\"\", \"\", VLOOKUP($B37, CAD!$V$7:$W$2000, 2, FALSE))","v":1.2572399999999999},null,{"$f":"IF(USSW!B34=\"\", \"\", USSW!B34)","v":"2017-11-21"},{"$f":"IF($O37=\"\", \"\", USSW!C34)","v":1.7563},{"$f":"IF($O37=\"\", \"\", VLOOKUP($O37, USSW!$D$7:$E$2000, 2, FALSE))","v":1.9429000000000001},{"$f":"IF($O37=\"\", \"\", VLOOKUP($O37, USSW!$F$7:$G$2000, 2, FALSE))","v":2.0486},{"$f":"IF($O37=\"\", \"\", VLOOKUP($O37, USSW!$H$7:$I$2000, 2, FALSE))","v":2.1128999999999998},{"$f":"IF($O37=\"\", \"\", VLOOKUP($O37, USSW!$J$7:$K$2000, 2, FALSE))","v":2.1638000000000002},{"$f":"IF($O37=\"\", \"\", VLOOKUP($O37, USSW!$L$7:$M$2000, 2, FALSE))","v":2.2067999999999999},{"$f":"IF($O37=\"\", \"\", VLOOKUP($O37, USSW!$N$7:$O$2000, 2, FALSE))","v":2.2513000000000001},{"$f":"IF($O37=\"\", \"\", VLOOKUP($O37, USSW!$P$7:$Q$2000, 2, FALSE))","v":2.2896000000000001},{"$f":"IF($O37=\"\", \"\", VLOOKUP($O37, USSW!$R$7:$S$2000, 2, FALSE))","v":2.3271000000000002},{"$f":"IF($O37=\"\", \"\", VLOOKUP($O37, USSW!$T$7:$U$2000, 2, FALSE))","v":2.3599000000000001}]
[null,{"$f":"IF(CAD!B35=\"\", \"\", CAD!B35)","v":"2017-11-21"},{"$f":"IF($B38=\"\", \"\", CAD!C35)","v":1.2778},{"$f":"IF($B38=\"\", \"\",VLOOKUP($B38, CAD!$D$7:$E$2000, 2, FALSE))","v":1.27254},{"$f":"IF($B38=\"\", \"\",VLOOKUP($B38, CAD!$F$7:$G$2000, 2, FALSE))","v":1.2683},{"$f":"IF($B38=\"\", \"\",VLOOKUP($B38, CAD!$H$7:$I$2000, 2, FALSE))","v":1.2648250000000001},{"$f":"IF($B38=\"\", \"\",VLOOKUP($B38, CAD!$J$7:$K$2000, 2, FALSE))","v":1.2624930000000001},{"$f":"IF($B38=\"\", \"\", VLOOKUP($B38, CAD!$L$7:$M$2000, 2, FALSE))","v":1.260999},{"$f":"IF($B38=\"\", \"\", VLOOKUP($B38, CAD!$N$7:$O$2000, 2, FALSE))","v":1.2623},{"$f":"IF($B38=\"\", \"\", VLOOKUP($B38, CAD!$P$7:$Q$2000, 2, FALSE))","v":1.2599},{"$f":"IF($B38=\"\", \"\", VLOOKUP($B38, CAD!$R$7:$S$2000, 2, FALSE))","v":1.2599750000000001},{"$f":"IF($B38=\"\", \"\", VLOOKUP($B38, CAD!$T$7:$U$2000, 2, FALSE))","v":1.261666},{"$f":"IF($B38=\"\", \"\", VLOOKUP($B38, CAD!$V$7:$W$2000, 2, FALSE))","v":1.2633000000000001},null,{"$f":"IF(USSW!B35=\"\", \"\", USSW!B35)","v":"2017-11-20"},{"$f":"IF($O38=\"\", \"\", USSW!C35)","v":1.7403999999999999},{"$f":"IF($O38=\"\", \"\", VLOOKUP($O38, USSW!$D$7:$E$2000, 2, FALSE))","v":1.9195},{"$f":"IF($O38=\"\", \"\", VLOOKUP($O38, USSW!$F$7:$G$2000, 2, FALSE))","v":2.0247000000000002},{"$f":"IF($O38=\"\", \"\", VLOOKUP($O38, USSW!$H$7:$I$2000, 2, FALSE))","v":2.0933000000000002},{"$f":"IF($O38=\"\", \"\", VLOOKUP($O38, USSW!$J$7:$K$2000, 2, FALSE))","v":2.149},{"$f":"IF($O38=\"\", \"\", VLOOKUP($O38, USSW!$L$7:$M$2000, 2, FALSE))","v":2.1983000000000001},{"$f":"IF($O38=\"\", \"\", VLOOKUP($O38, USSW!$N$7:$O$2000, 2, FALSE))","v":2.2467999999999999},{"$f":"IF($O38=\"\", \"\", VLOOKUP($O38, USSW!$P$7:$Q$2000, 2, FALSE))","v":2.2887},{"$f":"IF($O38=\"\", \"\", VLOOKUP($O38, USSW!$R$7:$S$2000, 2, FALSE))","v":2.3290000000000002},{"$f":"IF($O38=\"\", \"\", VLOOKUP($O38, USSW!$T$7:$U$2000, 2, FALSE))","v":2.3637000000000001}]
[null,{"$f":"IF(CAD!B36=\"\", \"\", CAD!B36)","v":"2017-11-20"},{"$f":"IF($B39=\"\", \"\", CAD!C36)","v":1.282},{"$f":"IF($B39=\"\", \"\",VLOOKUP($B39, CAD!$D$7:$E$2000, 2, FALSE))","v":1.27701},{"$f":"IF($B39=\"\", \"\",VLOOKUP($B39, CAD!$F$7:$G$2000, 2, FALSE))","v":1.27328},{"$f":"IF($B39=\"\", \"\",VLOOKUP($B39, CAD!$H$7:$I$2000, 2, FALSE))","v":1.2704249999999999},{"$f":"IF($B39=\"\", \"\",VLOOKUP($B39, CAD!$J$7:$K$2000, 2, FALSE))","v":1.2687250000000001},{"$f":"IF($B39=\"\", \"\", VLOOKUP($B39, CAD!$L$7:$M$2000, 2, FALSE))","v":1.267655},{"$f":"IF($B39=\"\", \"\", VLOOKUP($B39, CAD!$N$7:$O$2000, 2, FALSE))","v":1.267925},{"$f":"IF($B39=\"\", \"\", VLOOKUP($B39, CAD!$P$7:$Q$2000, 2, FALSE))","v":1.2666900000000001},{"$f":"IF($B39=\"\", \"\", VLOOKUP($B39, CAD!$R$7:$S$2000, 2, FALSE))","v":1.2676050000000001},{"$f":"IF($B39=\"\", \"\", VLOOKUP($B39, CAD!$T$7:$U$2000, 2, FALSE))","v":1.270729},{"$f":"IF($B39=\"\", \"\", VLOOKUP($B39, CAD!$V$7:$W$2000, 2, FALSE))","v":1.2730159999999999},null,{"$f":"IF(USSW!B36=\"\", \"\", USSW!B36)","v":"2017-11-17"},{"$f":"IF($O39=\"\", \"\", USSW!C36)","v":1.718},{"$f":"IF($O39=\"\", \"\", VLOOKUP($O39, USSW!$D$7:$E$2000, 2, FALSE))","v":1.8888},{"$f":"IF($O39=\"\", \"\", VLOOKUP($O39, USSW!$F$7:$G$2000, 2, FALSE))","v":1.9896},{"$f":"IF($O39=\"\", \"\", VLOOKUP($O39, USSW!$H$7:$I$2000, 2, FALSE))","v":2.0594999999999999},{"$f":"IF($O39=\"\", \"\", VLOOKUP($O39, USSW!$J$7:$K$2000, 2, FALSE))","v":2.1183000000000001},{"$f":"IF($O39=\"\", \"\", VLOOKUP($O39, USSW!$L$7:$M$2000, 2, FALSE))","v":2.1686000000000001},{"$f":"IF($O39=\"\", \"\", VLOOKUP($O39, USSW!$N$7:$O$2000, 2, FALSE))","v":2.2181000000000002},{"$f":"IF($O39=\"\", \"\", VLOOKUP($O39, USSW!$P$7:$Q$2000, 2, FALSE))","v":2.2614999999999998},{"$f":"IF($O39=\"\", \"\", VLOOKUP($O39, USSW!$R$7:$S$2000, 2, FALSE))","v":2.3016999999999999},{"$f":"IF($O39=\"\", \"\", VLOOKUP($O39, USSW!$T$7:$U$2000, 2, FALSE))","v":2.3384999999999998}]
[null,{"$f":"IF(CAD!B37=\"\", \"\", CAD!B37)","v":"2017-11-17"},{"$f":"IF($B40=\"\", \"\", CAD!C37)","v":1.2763},{"$f":"IF($B40=\"\", \"\",VLOOKUP($B40, CAD!$D$7:$E$2000, 2, FALSE))","v":1.271469},{"$f":"IF($B40=\"\", \"\",VLOOKUP($B40, CAD!$F$7:$G$2000, 2, FALSE))","v":1.268157},{"$f":"IF($B40=\"\", \"\",VLOOKUP($B40, CAD!$H$7:$I$2000, 2, FALSE))","v":1.2656430000000001},{"$f":"IF($B40=\"\", \"\",VLOOKUP($B40, CAD!$J$7:$K$2000, 2, FALSE))","v":1.2641929999999999},{"$f":"IF($B40=\"\", \"\", VLOOKUP($B40, CAD!$L$7:$M$2000, 2, FALSE))","v":1.26335},{"$f":"IF($B40=\"\", \"\", VLOOKUP($B40, CAD!$N$7:$O$2000, 2, FALSE))","v":1.2649999999999999},{"$f":"IF($B40=\"\", \"\", VLOOKUP($B40, CAD!$P$7:$Q$2000, 2, FALSE))","v":1.26295},{"$f":"IF($B40=\"\", \"\", VLOOKUP($B40, CAD!$R$7:$S$2000, 2, FALSE))","v":1.26309},{"$f":"IF($B40=\"\", \"\", VLOOKUP($B40, CAD!$T$7:$U$2000, 2, FALSE))","v":1.26528},{"$f":"IF($B40=\"\", \"\", VLOOKUP($B40, CAD!$V$7:$W$2000, 2, FALSE))","v":1.2674799999999999},null,{"$f":"IF(USSW!B37=\"\", \"\", USSW!B37)","v":"2017-11-16"},{"$f":"IF($O40=\"\", \"\", USSW!C37)","v":1.7151000000000001},{"$f":"IF($O40=\"\", \"\", VLOOKUP($O40, USSW!$D$7:$E$2000, 2, FALSE))","v":1.8897999999999999},{"$f":"IF($O40=\"\", \"\", VLOOKUP($O40, USSW!$F$7:$G$2000, 2, FALSE))","v":1.9984},{"$f":"IF($O40=\"\", \"\", VLOOKUP($O40, USSW!$H$7:$I$2000, 2, FALSE))","v":2.0708000000000002},{"$f":"IF($O40=\"\", \"\", VLOOKUP($O40, USSW!$J$7:$K$2000, 2, FALSE))","v":2.125},{"$f":"IF($O40=\"\", \"\", VLOOKUP($O40, USSW!$L$7:$M$2000, 2, FALSE))","v":2.1886000000000001},{"$f":"IF($O40=\"\", \"\", VLOOKUP($O40, USSW!$N$7:$O$2000, 2, FALSE))","v":2.2395999999999998},{"$f":"IF($O40=\"\", \"\", VLOOKUP($O40, USSW!$P$7:$Q$2000, 2, FALSE))","v":2.2871999999999999},{"$f":"IF($O40=\"\", \"\", VLOOKUP($O40, USSW!$R$7:$S$2000, 2, FALSE))","v":2.33},{"$f":"IF($O40=\"\", \"\", VLOOKUP($O40, USSW!$T$7:$U$2000, 2, FALSE))","v":2.3704999999999998}]
[null,{"$f":"IF(CAD!B38=\"\", \"\", CAD!B38)","v":"2017-11-16"},{"$f":"IF($B41=\"\", \"\", CAD!C38)","v":1.2757000000000001},{"$f":"IF($B41=\"\", \"\",VLOOKUP($B41, CAD!$D$7:$E$2000, 2, FALSE))","v":1.271131},{"$f":"IF($B41=\"\", \"\",VLOOKUP($B41, CAD!$F$7:$G$2000, 2, FALSE))","v":1.26797},{"$f":"IF($B41=\"\", \"\",VLOOKUP($B41, CAD!$H$7:$I$2000, 2, FALSE))","v":1.265787},{"$f":"IF($B41=\"\", \"\",VLOOKUP($B41, CAD!$J$7:$K$2000, 2, FALSE))","v":1.2644850000000001},{"$f":"IF($B41=\"\", \"\", VLOOKUP($B41, CAD!$L$7:$M$2000, 2, FALSE))","v":1.2637700000000001},{"$f":"IF($B41=\"\", \"\", VLOOKUP($B41, CAD!$N$7:$O$2000, 2, FALSE))","v":1.2657},{"$f":"IF($B41=\"\", \"\", VLOOKUP($B41, CAD!$P$7:$Q$2000, 2, FALSE))","v":1.263657},{"$f":"IF($B41=\"\", \"\", VLOOKUP($B41, CAD!$R$7:$S$2000, 2, FALSE))","v":1.26369},{"$f":"IF($B41=\"\", \"\", VLOOKUP($B41, CAD!$T$7:$U$2000, 2, FALSE))","v":1.264791},{"$f":"IF($B41=\"\", \"\", VLOOKUP($B41, CAD!$V$7:$W$2000, 2, FALSE))","v":1.2669809999999999},null,{"$f":"IF(USSW!B38=\"\", \"\", USSW!B38)","v":"2017-11-15"},{"$f":"IF($O41=\"\", \"\", USSW!C38)","v":1.6928000000000001},{"$f":"IF($O41=\"\", \"\", VLOOKUP($O41, USSW!$D$7:$E$2000, 2, FALSE))","v":1.8577999999999999},{"$f":"IF($O41=\"\", \"\", VLOOKUP($O41, USSW!$F$7:$G$2000, 2, FALSE))","v":1.9607000000000001},{"$f":"IF($O41=\"\", \"\", VLOOKUP($O41, USSW!$H$7:$I$2000, 2, FALSE))","v":2.0295000000000001},{"$f":"IF($O41=\"\", \"\", VLOOKUP($O41, USSW!$J$7:$K$2000, 2, FALSE))","v":2.0849000000000002},{"$f":"IF($O41=\"\", \"\", VLOOKUP($O41, USSW!$L$7:$M$2000, 2, FALSE))","v":2.1377999999999999},{"$f":"IF($O41=\"\", \"\", VLOOKUP($O41, USSW!$N$7:$O$2000, 2, FALSE))","v":2.1901999999999999},{"$f":"IF($O41=\"\", \"\", VLOOKUP($O41, USSW!$P$7:$Q$2000, 2, FALSE))","v":2.2326999999999999},{"$f":"IF($O41=\"\", \"\", VLOOKUP($O41, USSW!$R$7:$S$2000, 2, FALSE))","v":2.2730999999999999},{"$f":"IF($O41=\"\", \"\", VLOOKUP($O41, USSW!$T$7:$U$2000, 2, FALSE))","v":2.3119000000000001}]
[null,{"$f":"IF(CAD!B39=\"\", \"\", CAD!B39)","v":"2017-11-15"},{"$f":"IF($B42=\"\", \"\", CAD!C39)","v":1.2764},{"$f":"IF($B42=\"\", \"\",VLOOKUP($B42, CAD!$D$7:$E$2000, 2, FALSE))","v":1.271889},{"$f":"IF($B42=\"\", \"\",VLOOKUP($B42, CAD!$F$7:$G$2000, 2, FALSE))","v":1.26857},{"$f":"IF($B42=\"\", \"\",VLOOKUP($B42, CAD!$H$7:$I$2000, 2, FALSE))","v":1.2664500000000001},{"$f":"IF($B42=\"\", \"\",VLOOKUP($B42, CAD!$J$7:$K$2000, 2, FALSE))","v":1.26522},{"$f":"IF($B42=\"\", \"\", VLOOKUP($B42, CAD!$L$7:$M$2000, 2, FALSE))","v":1.2645},{"$f":"IF($B42=\"\", \"\", VLOOKUP($B42, CAD!$N$7:$O$2000, 2, FALSE))","v":1.2659},{"$f":"IF($B42=\"\", \"\", VLOOKUP($B42, CAD!$P$7:$Q$2000, 2, FALSE))","v":1.2643},{"$f":"IF($B42=\"\", \"\", VLOOKUP($B42, CAD!$R$7:$S$2000, 2, FALSE))","v":1.26508},{"$f":"IF($B42=\"\", \"\", VLOOKUP($B42, CAD!$T$7:$U$2000, 2, FALSE))","v":1.2666379999999999},{"$f":"IF($B42=\"\", \"\", VLOOKUP($B42, CAD!$V$7:$W$2000, 2, FALSE))","v":1.2676190000000001},null,{"$f":"IF(USSW!B39=\"\", \"\", USSW!B39)","v":"2017-11-14"},{"$f":"IF($O42=\"\", \"\", USSW!C39)","v":1.6968000000000001},{"$f":"IF($O42=\"\", \"\", VLOOKUP($O42, USSW!$D$7:$E$2000, 2, FALSE))","v":1.8734},{"$f":"IF($O42=\"\", \"\", VLOOKUP($O42, USSW!$F$7:$G$2000, 2, FALSE))","v":1.9802999999999999},{"$f":"IF($O42=\"\", \"\", VLOOKUP($O42, USSW!$H$7:$I$2000, 2, FALSE))","v":2.0556000000000001},{"$f":"IF($O42=\"\", \"\", VLOOKUP($O42, USSW!$J$7:$K$2000, 2, FALSE))","v":2.1192000000000002},{"$f":"IF($O42=\"\", \"\", VLOOKUP($O42, USSW!$L$7:$M$2000, 2, FALSE))","v":2.1775000000000002},{"$f":"IF($O42=\"\", \"\", VLOOKUP($O42, USSW!$N$7:$O$2000, 2, FALSE))","v":2.2341000000000002},{"$f":"IF($O42=\"\", \"\", VLOOKUP($O42, USSW!$P$7:$Q$2000, 2, FALSE))","v":2.2725},{"$f":"IF($O42=\"\", \"\", VLOOKUP($O42, USSW!$R$7:$S$2000, 2, FALSE))","v":2.3174000000000001},{"$f":"IF($O42=\"\", \"\", VLOOKUP($O42, USSW!$T$7:$U$2000, 2, FALSE))","v":2.3559999999999999}]
[null,{"$f":"IF(CAD!B40=\"\", \"\", CAD!B40)","v":"2017-11-14"},{"$f":"IF($B43=\"\", \"\", CAD!C40)","v":1.2730999999999999},{"$f":"IF($B43=\"\", \"\",VLOOKUP($B43, CAD!$D$7:$E$2000, 2, FALSE))","v":1.2686599999999999},{"$f":"IF($B43=\"\", \"\",VLOOKUP($B43, CAD!$F$7:$G$2000, 2, FALSE))","v":1.26545},{"$f":"IF($B43=\"\", \"\",VLOOKUP($B43, CAD!$H$7:$I$2000, 2, FALSE))","v":1.2633049999999999},{"$f":"IF($B43=\"\", \"\",VLOOKUP($B43, CAD!$J$7:$K$2000, 2, FALSE))","v":1.26237},{"$f":"IF($B43=\"\", \"\", VLOOKUP($B43, CAD!$L$7:$M$2000, 2, FALSE))","v":1.2615099999999999},{"$f":"IF($B43=\"\", \"\", VLOOKUP($B43, CAD!$N$7:$O$2000, 2, FALSE))","v":1.2625},{"$f":"IF($B43=\"\", \"\", VLOOKUP($B43, CAD!$P$7:$Q$2000, 2, FALSE))","v":1.2611300000000001},{"$f":"IF($B43=\"\", \"\", VLOOKUP($B43, CAD!$R$7:$S$2000, 2, FALSE))","v":1.2617100000000001},{"$f":"IF($B43=\"\", \"\", VLOOKUP($B43, CAD!$T$7:$U$2000, 2, FALSE))","v":1.263028},{"$f":"IF($B43=\"\", \"\", VLOOKUP($B43, CAD!$V$7:$W$2000, 2, FALSE))","v":1.2650889999999999},null,{"$f":"IF(USSW!B40=\"\", \"\", USSW!B40)","v":"2017-11-13"},{"$f":"IF($O43=\"\", \"\", USSW!C40)","v":1.6972},{"$f":"IF($O43=\"\", \"\", VLOOKUP($O43, USSW!$D$7:$E$2000, 2, FALSE))","v":1.8806},{"$f":"IF($O43=\"\", \"\", VLOOKUP($O43, USSW!$F$7:$G$2000, 2, FALSE))","v":1.9954000000000001},{"$f":"IF($O43=\"\", \"\", VLOOKUP($O43, USSW!$H$7:$I$2000, 2, FALSE))","v":2.0737000000000001},{"$f":"IF($O43=\"\", \"\", VLOOKUP($O43, USSW!$J$7:$K$2000, 2, FALSE))","v":2.1391},{"$f":"IF($O43=\"\", \"\", VLOOKUP($O43, USSW!$L$7:$M$2000, 2, FALSE))","v":2.2008000000000001},{"$f":"IF($O43=\"\", \"\", VLOOKUP($O43, USSW!$N$7:$O$2000, 2, FALSE))","v":2.2504},{"$f":"IF($O43=\"\", \"\", VLOOKUP($O43, USSW!$P$7:$Q$2000, 2, FALSE))","v":2.3085},{"$f":"IF($O43=\"\", \"\", VLOOKUP($O43, USSW!$R$7:$S$2000, 2, FALSE))","v":2.3534000000000002},{"$f":"IF($O43=\"\", \"\", VLOOKUP($O43, USSW!$T$7:$U$2000, 2, FALSE))","v":2.3938999999999999}]
[null,{"$f":"IF(CAD!B41=\"\", \"\", CAD!B41)","v":"2017-11-13"},{"$f":"IF($B44=\"\", \"\", CAD!C41)","v":1.2733000000000001},{"$f":"IF($B44=\"\", \"\",VLOOKUP($B44, CAD!$D$7:$E$2000, 2, FALSE))","v":1.2687999999999999},{"$f":"IF($B44=\"\", \"\",VLOOKUP($B44, CAD!$F$7:$G$2000, 2, FALSE))","v":1.265485},{"$f":"IF($B44=\"\", \"\",VLOOKUP($B44, CAD!$H$7:$I$2000, 2, FALSE))","v":1.26312},{"$f":"IF($B44=\"\", \"\",VLOOKUP($B44, CAD!$J$7:$K$2000, 2, FALSE))","v":1.2614449999999999},{"$f":"IF($B44=\"\", \"\", VLOOKUP($B44, CAD!$L$7:$M$2000, 2, FALSE))","v":1.2602},{"$f":"IF($B44=\"\", \"\", VLOOKUP($B44, CAD!$N$7:$O$2000, 2, FALSE))","v":1.2614000000000001},{"$f":"IF($B44=\"\", \"\", VLOOKUP($B44, CAD!$P$7:$Q$2000, 2, FALSE))","v":1.2586599999999999},{"$f":"IF($B44=\"\", \"\", VLOOKUP($B44, CAD!$R$7:$S$2000, 2, FALSE))","v":1.25857},{"$f":"IF($B44=\"\", \"\", VLOOKUP($B44, CAD!$T$7:$U$2000, 2, FALSE))","v":1.260489},{"$f":"IF($B44=\"\", \"\", VLOOKUP($B44, CAD!$V$7:$W$2000, 2, FALSE))","v":1.2623500000000001},null,{"$f":"IF(USSW!B41=\"\", \"\", USSW!B41)","v":"2017-11-10"},{"$f":"IF($O44=\"\", \"\", USSW!C41)","v":1.6852},{"$f":"IF($O44=\"\", \"\", VLOOKUP($O44, USSW!$D$7:$E$2000, 2, FALSE))","v":1.8567},{"$f":"IF($O44=\"\", \"\", VLOOKUP($O44, USSW!$F$7:$G$2000, 2, FALSE))","v":1.9649000000000001},{"$f":"IF($O44=\"\", \"\", VLOOKUP($O44, USSW!$H$7:$I$2000, 2, FALSE))","v":2.0474999999999999},{"$f":"IF($O44=\"\", \"\", VLOOKUP($O44, USSW!$J$7:$K$2000, 2, FALSE))","v":2.1185},{"$f":"IF($O44=\"\", \"\", VLOOKUP($O44, USSW!$L$7:$M$2000, 2, FALSE))","v":2.1804999999999999},{"$f":"IF($O44=\"\", \"\", VLOOKUP($O44, USSW!$N$7:$O$2000, 2, FALSE))","v":2.2391999999999999},{"$f":"IF($O44=\"\", \"\", VLOOKUP($O44, USSW!$P$7:$Q$2000, 2, FALSE))","v":2.2892000000000001},{"$f":"IF($O44=\"\", \"\", VLOOKUP($O44, USSW!$R$7:$S$2000, 2, FALSE))","v":2.3370000000000002},{"$f":"IF($O44=\"\", \"\", VLOOKUP($O44, USSW!$T$7:$U$2000, 2, FALSE))","v":2.3788}]
[null,{"$f":"IF(CAD!B42=\"\", \"\", CAD!B42)","v":"2017-11-10"},{"$f":"IF($B45=\"\", \"\", CAD!C42)","v":1.2682},{"$f":"IF($B45=\"\", \"\",VLOOKUP($B45, CAD!$D$7:$E$2000, 2, FALSE))","v":1.263925},{"$f":"IF($B45=\"\", \"\",VLOOKUP($B45, CAD!$F$7:$G$2000, 2, FALSE))","v":1.2609269999999999},{"$f":"IF($B45=\"\", \"\",VLOOKUP($B45, CAD!$H$7:$I$2000, 2, FALSE))","v":1.25892},{"$f":"IF($B45=\"\", \"\",VLOOKUP($B45, CAD!$J$7:$K$2000, 2, FALSE))","v":1.25759},{"$f":"IF($B45=\"\", \"\", VLOOKUP($B45, CAD!$L$7:$M$2000, 2, FALSE))","v":1.2563299999999999},{"$f":"IF($B45=\"\", \"\", VLOOKUP($B45, CAD!$N$7:$O$2000, 2, FALSE))","v":1.2575000000000001},{"$f":"IF($B45=\"\", \"\", VLOOKUP($B45, CAD!$P$7:$Q$2000, 2, FALSE))","v":1.2550600000000001},{"$f":"IF($B45=\"\", \"\", VLOOKUP($B45, CAD!$R$7:$S$2000, 2, FALSE))","v":1.2548950000000001},{"$f":"IF($B45=\"\", \"\", VLOOKUP($B45, CAD!$T$7:$U$2000, 2, FALSE))","v":1.2565059999999999},{"$f":"IF($B45=\"\", \"\", VLOOKUP($B45, CAD!$V$7:$W$2000, 2, FALSE))","v":1.2595019999999999},null,{"$f":"IF(USSW!B42=\"\", \"\", USSW!B42)","v":"2017-11-09"},{"$f":"IF($O45=\"\", \"\", USSW!C42)","v":1.675},{"$f":"IF($O45=\"\", \"\", VLOOKUP($O45, USSW!$D$7:$E$2000, 2, FALSE))","v":1.8364},{"$f":"IF($O45=\"\", \"\", VLOOKUP($O45, USSW!$F$7:$G$2000, 2, FALSE))","v":1.9404999999999999},{"$f":"IF($O45=\"\", \"\", VLOOKUP($O45, USSW!$H$7:$I$2000, 2, FALSE))","v":2.0167000000000002},{"$f":"IF($O45=\"\", \"\", VLOOKUP($O45, USSW!$J$7:$K$2000, 2, FALSE))","v":2.0802999999999998},{"$f":"IF($O45=\"\", \"\", VLOOKUP($O45, USSW!$L$7:$M$2000, 2, FALSE))","v":2.1383000000000001},{"$f":"IF($O45=\"\", \"\", VLOOKUP($O45, USSW!$N$7:$O$2000, 2, FALSE))","v":2.1919},{"$f":"IF($O45=\"\", \"\", VLOOKUP($O45, USSW!$P$7:$Q$2000, 2, FALSE))","v":2.2400000000000002},{"$f":"IF($O45=\"\", \"\", VLOOKUP($O45, USSW!$R$7:$S$2000, 2, FALSE))","v":2.2841999999999998},{"$f":"IF($O45=\"\", \"\", VLOOKUP($O45, USSW!$T$7:$U$2000, 2, FALSE))","v":2.3235000000000001}]
[null,{"$f":"IF(CAD!B43=\"\", \"\", CAD!B43)","v":"2017-11-09"},{"$f":"IF($B46=\"\", \"\", CAD!C43)","v":1.2683},{"$f":"IF($B46=\"\", \"\",VLOOKUP($B46, CAD!$D$7:$E$2000, 2, FALSE))","v":1.2641},{"$f":"IF($B46=\"\", \"\",VLOOKUP($B46, CAD!$F$7:$G$2000, 2, FALSE))","v":1.26125},{"$f":"IF($B46=\"\", \"\",VLOOKUP($B46, CAD!$H$7:$I$2000, 2, FALSE))","v":1.259457},{"$f":"IF($B46=\"\", \"\",VLOOKUP($B46, CAD!$J$7:$K$2000, 2, FALSE))","v":1.2582},{"$f":"IF($B46=\"\", \"\", VLOOKUP($B46, CAD!$L$7:$M$2000, 2, FALSE))","v":1.25732},{"$f":"IF($B46=\"\", \"\", VLOOKUP($B46, CAD!$N$7:$O$2000, 2, FALSE))","v":1.2589999999999999},{"$f":"IF($B46=\"\", \"\", VLOOKUP($B46, CAD!$P$7:$Q$2000, 2, FALSE))","v":1.256745},{"$f":"IF($B46=\"\", \"\", VLOOKUP($B46, CAD!$R$7:$S$2000, 2, FALSE))","v":1.2568999999999999},{"$f":"IF($B46=\"\", \"\", VLOOKUP($B46, CAD!$T$7:$U$2000, 2, FALSE))","v":1.2656000000000001},{"$f":"IF($B46=\"\", \"\", VLOOKUP($B46, CAD!$V$7:$W$2000, 2, FALSE))","v":1.2604200000000001},null,{"$f":"IF(USSW!B43=\"\", \"\", USSW!B43)","v":"2017-11-08"},{"$f":"IF($O46=\"\", \"\", USSW!C43)","v":1.6771},{"$f":"IF($O46=\"\", \"\", VLOOKUP($O46, USSW!$D$7:$E$2000, 2, FALSE))","v":1.8440000000000001},{"$f":"IF($O46=\"\", \"\", VLOOKUP($O46, USSW!$F$7:$G$2000, 2, FALSE))","v":1.9454},{"$f":"IF($O46=\"\", \"\", VLOOKUP($O46, USSW!$H$7:$I$2000, 2, FALSE))","v":2.0186000000000002},{"$f":"IF($O46=\"\", \"\", VLOOKUP($O46, USSW!$J$7:$K$2000, 2, FALSE))","v":2.0693000000000001},{"$f":"IF($O46=\"\", \"\", VLOOKUP($O46, USSW!$L$7:$M$2000, 2, FALSE))","v":2.1333000000000002},{"$f":"IF($O46=\"\", \"\", VLOOKUP($O46, USSW!$N$7:$O$2000, 2, FALSE))","v":2.1829999999999998},{"$f":"IF($O46=\"\", \"\", VLOOKUP($O46, USSW!$P$7:$Q$2000, 2, FALSE))","v":2.2296},{"$f":"IF($O46=\"\", \"\", VLOOKUP($O46, USSW!$R$7:$S$2000, 2, FALSE))","v":2.2709999999999999},{"$f":"IF($O46=\"\", \"\", VLOOKUP($O46, USSW!$T$7:$U$2000, 2, FALSE))","v":2.3090000000000002}]
[null,{"$f":"IF(CAD!B44=\"\", \"\", CAD!B44)","v":"2017-11-08"},{"$f":"IF($B47=\"\", \"\", CAD!C44)","v":1.2728999999999999},{"$f":"IF($B47=\"\", \"\",VLOOKUP($B47, CAD!$D$7:$E$2000, 2, FALSE))","v":1.2685109999999999},{"$f":"IF($B47=\"\", \"\",VLOOKUP($B47, CAD!$F$7:$G$2000, 2, FALSE))","v":1.265225},{"$f":"IF($B47=\"\", \"\",VLOOKUP($B47, CAD!$H$7:$I$2000, 2, FALSE))","v":1.2629699999999999},{"$f":"IF($B47=\"\", \"\",VLOOKUP($B47, CAD!$J$7:$K$2000, 2, FALSE))","v":1.2617750000000001},{"$f":"IF($B47=\"\", \"\", VLOOKUP($B47, CAD!$L$7:$M$2000, 2, FALSE))","v":1.26084},{"$f":"IF($B47=\"\", \"\", VLOOKUP($B47, CAD!$N$7:$O$2000, 2, FALSE))","v":1.2611600000000001},{"$f":"IF($B47=\"\", \"\", VLOOKUP($B47, CAD!$P$7:$Q$2000, 2, FALSE))","v":1.26061},{"$f":"IF($B47=\"\", \"\", VLOOKUP($B47, CAD!$R$7:$S$2000, 2, FALSE))","v":1.2607649999999999},{"$f":"IF($B47=\"\", \"\", VLOOKUP($B47, CAD!$T$7:$U$2000, 2, FALSE))","v":1.2681},{"$f":"IF($B47=\"\", \"\", VLOOKUP($B47, CAD!$V$7:$W$2000, 2, FALSE))","v":1.26396},null,{"$f":"IF(USSW!B44=\"\", \"\", USSW!B44)","v":"2017-11-07"},{"$f":"IF($O47=\"\", \"\", USSW!C44)","v":1.6718},{"$f":"IF($O47=\"\", \"\", VLOOKUP($O47, USSW!$D$7:$E$2000, 2, FALSE))","v":1.8371999999999999},{"$f":"IF($O47=\"\", \"\", VLOOKUP($O47, USSW!$F$7:$G$2000, 2, FALSE))","v":1.9377},{"$f":"IF($O47=\"\", \"\", VLOOKUP($O47, USSW!$H$7:$I$2000, 2, FALSE))","v":2.0068000000000001},{"$f":"IF($O47=\"\", \"\", VLOOKUP($O47, USSW!$J$7:$K$2000, 2, FALSE))","v":2.0649000000000002},{"$f":"IF($O47=\"\", \"\", VLOOKUP($O47, USSW!$L$7:$M$2000, 2, FALSE))","v":2.1181999999999999},{"$f":"IF($O47=\"\", \"\", VLOOKUP($O47, USSW!$N$7:$O$2000, 2, FALSE))","v":2.1614},{"$f":"IF($O47=\"\", \"\", VLOOKUP($O47, USSW!$P$7:$Q$2000, 2, FALSE))","v":2.2124999999999999},{"$f":"IF($O47=\"\", \"\", VLOOKUP($O47, USSW!$R$7:$S$2000, 2, FALSE))","v":2.2557},{"$f":"IF($O47=\"\", \"\", VLOOKUP($O47, USSW!$T$7:$U$2000, 2, FALSE))","v":2.294}]
[null,{"$f":"IF(CAD!B45=\"\", \"\", CAD!B45)","v":"2017-11-07"},{"$f":"IF($B48=\"\", \"\", CAD!C45)","v":1.2777000000000001},{"$f":"IF($B48=\"\", \"\",VLOOKUP($B48, CAD!$D$7:$E$2000, 2, FALSE))","v":1.2733000000000001},{"$f":"IF($B48=\"\", \"\",VLOOKUP($B48, CAD!$F$7:$G$2000, 2, FALSE))","v":1.2699499999999999},{"$f":"IF($B48=\"\", \"\",VLOOKUP($B48, CAD!$H$7:$I$2000, 2, FALSE))","v":1.267415},{"$f":"IF($B48=\"\", \"\",VLOOKUP($B48, CAD!$J$7:$K$2000, 2, FALSE))","v":1.2658100000000001},{"$f":"IF($B48=\"\", \"\", VLOOKUP($B48, CAD!$L$7:$M$2000, 2, FALSE))","v":1.26492},{"$f":"IF($B48=\"\", \"\", VLOOKUP($B48, CAD!$N$7:$O$2000, 2, FALSE))","v":1.2668999999999999},{"$f":"IF($B48=\"\", \"\", VLOOKUP($B48, CAD!$P$7:$Q$2000, 2, FALSE))","v":1.264505},{"$f":"IF($B48=\"\", \"\", VLOOKUP($B48, CAD!$R$7:$S$2000, 2, FALSE))","v":1.2652300000000001},{"$f":"IF($B48=\"\", \"\", VLOOKUP($B48, CAD!$T$7:$U$2000, 2, FALSE))","v":1.2741499999999999},{"$f":"IF($B48=\"\", \"\", VLOOKUP($B48, CAD!$V$7:$W$2000, 2, FALSE))","v":1.2696940000000001},null,{"$f":"IF(USSW!B45=\"\", \"\", USSW!B45)","v":"2017-11-06"},{"$f":"IF($O48=\"\", \"\", USSW!C45)","v":1.6642999999999999},{"$f":"IF($O48=\"\", \"\", VLOOKUP($O48, USSW!$D$7:$E$2000, 2, FALSE))","v":1.8262},{"$f":"IF($O48=\"\", \"\", VLOOKUP($O48, USSW!$F$7:$G$2000, 2, FALSE))","v":1.9295},{"$f":"IF($O48=\"\", \"\", VLOOKUP($O48, USSW!$H$7:$I$2000, 2, FALSE))","v":1.9999},{"$f":"IF($O48=\"\", \"\", VLOOKUP($O48, USSW!$J$7:$K$2000, 2, FALSE))","v":2.0581999999999998},{"$f":"IF($O48=\"\", \"\", VLOOKUP($O48, USSW!$L$7:$M$2000, 2, FALSE))","v":2.1133000000000002},{"$f":"IF($O48=\"\", \"\", VLOOKUP($O48, USSW!$N$7:$O$2000, 2, FALSE))","v":2.1621999999999999},{"$f":"IF($O48=\"\", \"\", VLOOKUP($O48, USSW!$P$7:$Q$2000, 2, FALSE))","v":2.2121},{"$f":"IF($O48=\"\", \"\", VLOOKUP($O48, USSW!$R$7:$S$2000, 2, FALSE))","v":2.2532999999999999},{"$f":"IF($O48=\"\", \"\", VLOOKUP($O48, USSW!$T$7:$U$2000, 2, FALSE))","v":2.2919999999999998}]
[null,{"$f":"IF(CAD!B46=\"\", \"\", CAD!B46)","v":"2017-11-06"},{"$f":"IF($B49=\"\", \"\", CAD!C46)","v":1.2704},{"$f":"IF($B49=\"\", \"\",VLOOKUP($B49, CAD!$D$7:$E$2000, 2, FALSE))","v":1.2664139999999999},{"$f":"IF($B49=\"\", \"\",VLOOKUP($B49, CAD!$F$7:$G$2000, 2, FALSE))","v":1.26355},{"$f":"IF($B49=\"\", \"\",VLOOKUP($B49, CAD!$H$7:$I$2000, 2, FALSE))","v":1.26145},{"$f":"IF($B49=\"\", \"\",VLOOKUP($B49, CAD!$J$7:$K$2000, 2, FALSE))","v":1.2605},{"$f":"IF($B49=\"\", \"\", VLOOKUP($B49, CAD!$L$7:$M$2000, 2, FALSE))","v":1.2600899999999999},{"$f":"IF($B49=\"\", \"\", VLOOKUP($B49, CAD!$N$7:$O$2000, 2, FALSE))","v":1.2613000000000001},{"$f":"IF($B49=\"\", \"\", VLOOKUP($B49, CAD!$P$7:$Q$2000, 2, FALSE))","v":1.2596400000000001},{"$f":"IF($B49=\"\", \"\", VLOOKUP($B49, CAD!$R$7:$S$2000, 2, FALSE))","v":1.2607299999999999},{"$f":"IF($B49=\"\", \"\", VLOOKUP($B49, CAD!$T$7:$U$2000, 2, FALSE))","v":1.268},{"$f":"IF($B49=\"\", \"\", VLOOKUP($B49, CAD!$V$7:$W$2000, 2, FALSE))","v":1.26427},null,{"$f":"IF(USSW!B46=\"\", \"\", USSW!B46)","v":"2017-11-03"},{"$f":"IF($O49=\"\", \"\", USSW!C46)","v":1.6575},{"$f":"IF($O49=\"\", \"\", VLOOKUP($O49, USSW!$D$7:$E$2000, 2, FALSE))","v":1.8234999999999999},{"$f":"IF($O49=\"\", \"\", VLOOKUP($O49, USSW!$F$7:$G$2000, 2, FALSE))","v":1.9314},{"$f":"IF($O49=\"\", \"\", VLOOKUP($O49, USSW!$H$7:$I$2000, 2, FALSE))","v":2.0045999999999999},{"$f":"IF($O49=\"\", \"\", VLOOKUP($O49, USSW!$J$7:$K$2000, 2, FALSE))","v":2.0762999999999998},{"$f":"IF($O49=\"\", \"\", VLOOKUP($O49, USSW!$L$7:$M$2000, 2, FALSE))","v":2.1251000000000002},{"$f":"IF($O49=\"\", \"\", VLOOKUP($O49, USSW!$N$7:$O$2000, 2, FALSE))","v":2.1833999999999998},{"$f":"IF($O49=\"\", \"\", VLOOKUP($O49, USSW!$P$7:$Q$2000, 2, FALSE))","v":2.2286999999999999},{"$f":"IF($O49=\"\", \"\", VLOOKUP($O49, USSW!$R$7:$S$2000, 2, FALSE))","v":2.2719999999999998},{"$f":"IF($O49=\"\", \"\", VLOOKUP($O49, USSW!$T$7:$U$2000, 2, FALSE))","v":2.3119999999999998}]
[null,{"$f":"IF(CAD!B47=\"\", \"\", CAD!B47)","v":"2017-11-03"},{"$f":"IF($B50=\"\", \"\", CAD!C47)","v":1.2764},{"$f":"IF($B50=\"\", \"\",VLOOKUP($B50, CAD!$D$7:$E$2000, 2, FALSE))","v":1.272699},{"$f":"IF($B50=\"\", \"\",VLOOKUP($B50, CAD!$F$7:$G$2000, 2, FALSE))","v":1.2702500000000001},{"$f":"IF($B50=\"\", \"\",VLOOKUP($B50, CAD!$H$7:$I$2000, 2, FALSE))","v":1.2686500000000001},{"$f":"IF($B50=\"\", \"\",VLOOKUP($B50, CAD!$J$7:$K$2000, 2, FALSE))","v":1.26793},{"$f":"IF($B50=\"\", \"\", VLOOKUP($B50, CAD!$L$7:$M$2000, 2, FALSE))","v":1.2677},{"$f":"IF($B50=\"\", \"\", VLOOKUP($B50, CAD!$N$7:$O$2000, 2, FALSE))","v":1.2696000000000001},{"$f":"IF($B50=\"\", \"\", VLOOKUP($B50, CAD!$P$7:$Q$2000, 2, FALSE))","v":1.26786},{"$f":"IF($B50=\"\", \"\", VLOOKUP($B50, CAD!$R$7:$S$2000, 2, FALSE))","v":1.26844},{"$f":"IF($B50=\"\", \"\", VLOOKUP($B50, CAD!$T$7:$U$2000, 2, FALSE))","v":1.2746999999999999},{"$f":"IF($B50=\"\", \"\", VLOOKUP($B50, CAD!$V$7:$W$2000, 2, FALSE))","v":1.271828},null,{"$f":"IF(USSW!B47=\"\", \"\", USSW!B47)","v":"2017-11-02"},{"$f":"IF($O50=\"\", \"\", USSW!C47)","v":1.6515},{"$f":"IF($O50=\"\", \"\", VLOOKUP($O50, USSW!$D$7:$E$2000, 2, FALSE))","v":1.8205},{"$f":"IF($O50=\"\", \"\", VLOOKUP($O50, USSW!$F$7:$G$2000, 2, FALSE))","v":1.9296},{"$f":"IF($O50=\"\", \"\", VLOOKUP($O50, USSW!$H$7:$I$2000, 2, FALSE))","v":2.0087999999999999},{"$f":"IF($O50=\"\", \"\", VLOOKUP($O50, USSW!$J$7:$K$2000, 2, FALSE))","v":2.0743},{"$f":"IF($O50=\"\", \"\", VLOOKUP($O50, USSW!$L$7:$M$2000, 2, FALSE))","v":2.137},{"$f":"IF($O50=\"\", \"\", VLOOKUP($O50, USSW!$N$7:$O$2000, 2, FALSE))","v":2.1922999999999999},{"$f":"IF($O50=\"\", \"\", VLOOKUP($O50, USSW!$P$7:$Q$2000, 2, FALSE))","v":2.2452999999999999},{"$f":"IF($O50=\"\", \"\", VLOOKUP($O50, USSW!$R$7:$S$2000, 2, FALSE))","v":2.2867999999999999},{"$f":"IF($O50=\"\", \"\", VLOOKUP($O50, USSW!$T$7:$U$2000, 2, FALSE))","v":2.3281999999999998}]
[null,{"$f":"IF(CAD!B48=\"\", \"\", CAD!B48)","v":"2017-11-02"},{"$f":"IF($B51=\"\", \"\", CAD!C48)","v":1.2808999999999999},{"$f":"IF($B51=\"\", \"\",VLOOKUP($B51, CAD!$D$7:$E$2000, 2, FALSE))","v":1.276913},{"$f":"IF($B51=\"\", \"\",VLOOKUP($B51, CAD!$F$7:$G$2000, 2, FALSE))","v":1.2742800000000001},{"$f":"IF($B51=\"\", \"\",VLOOKUP($B51, CAD!$H$7:$I$2000, 2, FALSE))","v":1.27261},{"$f":"IF($B51=\"\", \"\",VLOOKUP($B51, CAD!$J$7:$K$2000, 2, FALSE))","v":1.27112},{"$f":"IF($B51=\"\", \"\", VLOOKUP($B51, CAD!$L$7:$M$2000, 2, FALSE))","v":1.2706500000000001},{"$f":"IF($B51=\"\", \"\", VLOOKUP($B51, CAD!$N$7:$O$2000, 2, FALSE))","v":1.2723},{"$f":"IF($B51=\"\", \"\", VLOOKUP($B51, CAD!$P$7:$Q$2000, 2, FALSE))","v":1.27016},{"$f":"IF($B51=\"\", \"\", VLOOKUP($B51, CAD!$R$7:$S$2000, 2, FALSE))","v":1.27115},{"$f":"IF($B51=\"\", \"\", VLOOKUP($B51, CAD!$T$7:$U$2000, 2, FALSE))","v":1.2774000000000001},{"$f":"IF($B51=\"\", \"\", VLOOKUP($B51, CAD!$V$7:$W$2000, 2, FALSE))","v":1.27356},null,{"$f":"IF(USSW!B48=\"\", \"\", USSW!B48)","v":"2017-11-01"},{"$f":"IF($O51=\"\", \"\", USSW!C48)","v":1.6529},{"$f":"IF($O51=\"\", \"\", VLOOKUP($O51, USSW!$D$7:$E$2000, 2, FALSE))","v":1.8298000000000001},{"$f":"IF($O51=\"\", \"\", VLOOKUP($O51, USSW!$F$7:$G$2000, 2, FALSE))","v":1.9418},{"$f":"IF($O51=\"\", \"\", VLOOKUP($O51, USSW!$H$7:$I$2000, 2, FALSE))","v":2.0225},{"$f":"IF($O51=\"\", \"\", VLOOKUP($O51, USSW!$J$7:$K$2000, 2, FALSE))","v":2.0909},{"$f":"IF($O51=\"\", \"\", VLOOKUP($O51, USSW!$L$7:$M$2000, 2, FALSE))","v":2.1537000000000002},{"$f":"IF($O51=\"\", \"\", VLOOKUP($O51, USSW!$N$7:$O$2000, 2, FALSE))","v":2.2128000000000001},{"$f":"IF($O51=\"\", \"\", VLOOKUP($O51, USSW!$P$7:$Q$2000, 2, FALSE))","v":2.2650000000000001},{"$f":"IF($O51=\"\", \"\", VLOOKUP($O51, USSW!$R$7:$S$2000, 2, FALSE))","v":2.3119000000000001},{"$f":"IF($O51=\"\", \"\", VLOOKUP($O51, USSW!$T$7:$U$2000, 2, FALSE))","v":2.3540000000000001}]
[null,{"$f":"IF(CAD!B49=\"\", \"\", CAD!B49)","v":"2017-11-01"},{"$f":"IF($B52=\"\", \"\", CAD!C49)","v":1.2865},{"$f":"IF($B52=\"\", \"\",VLOOKUP($B52, CAD!$D$7:$E$2000, 2, FALSE))","v":1.2824770000000001},{"$f":"IF($B52=\"\", \"\",VLOOKUP($B52, CAD!$F$7:$G$2000, 2, FALSE))","v":1.2795350000000001},{"$f":"IF($B52=\"\", \"\",VLOOKUP($B52, CAD!$H$7:$I$2000, 2, FALSE))","v":1.27749},{"$f":"IF($B52=\"\", \"\",VLOOKUP($B52, CAD!$J$7:$K$2000, 2, FALSE))","v":1.27654},{"$f":"IF($B52=\"\", \"\", VLOOKUP($B52, CAD!$L$7:$M$2000, 2, FALSE))","v":1.2757799999999999},{"$f":"IF($B52=\"\", \"\", VLOOKUP($B52, CAD!$N$7:$O$2000, 2, FALSE))","v":1.2778},{"$f":"IF($B52=\"\", \"\", VLOOKUP($B52, CAD!$P$7:$Q$2000, 2, FALSE))","v":1.2751650000000001},{"$f":"IF($B52=\"\", \"\", VLOOKUP($B52, CAD!$R$7:$S$2000, 2, FALSE))","v":1.2752399999999999},{"$f":"IF($B52=\"\", \"\", VLOOKUP($B52, CAD!$T$7:$U$2000, 2, FALSE))","v":1.282},{"$f":"IF($B52=\"\", \"\", VLOOKUP($B52, CAD!$V$7:$W$2000, 2, FALSE))","v":1.279317},null,{"$f":"IF(USSW!B49=\"\", \"\", USSW!B49)","v":"2017-10-31"},{"$f":"IF($O52=\"\", \"\", USSW!C49)","v":1.6403000000000001},{"$f":"IF($O52=\"\", \"\", VLOOKUP($O52, USSW!$D$7:$E$2000, 2, FALSE))","v":1.8178000000000001},{"$f":"IF($O52=\"\", \"\", VLOOKUP($O52, USSW!$F$7:$G$2000, 2, FALSE))","v":1.9356},{"$f":"IF($O52=\"\", \"\", VLOOKUP($O52, USSW!$H$7:$I$2000, 2, FALSE))","v":2.0190000000000001},{"$f":"IF($O52=\"\", \"\", VLOOKUP($O52, USSW!$J$7:$K$2000, 2, FALSE))","v":2.0905},{"$f":"IF($O52=\"\", \"\", VLOOKUP($O52, USSW!$L$7:$M$2000, 2, FALSE))","v":2.1537999999999999},{"$f":"IF($O52=\"\", \"\", VLOOKUP($O52, USSW!$N$7:$O$2000, 2, FALSE))","v":2.2118000000000002},{"$f":"IF($O52=\"\", \"\", VLOOKUP($O52, USSW!$P$7:$Q$2000, 2, FALSE))","v":2.2614000000000001},{"$f":"IF($O52=\"\", \"\", VLOOKUP($O52, USSW!$R$7:$S$2000, 2, FALSE))","v":2.3102},{"$f":"IF($O52=\"\", \"\", VLOOKUP($O52, USSW!$T$7:$U$2000, 2, FALSE))","v":2.3517000000000001}]
[null,{"$f":"IF(CAD!B50=\"\", \"\", CAD!B50)","v":"2017-10-31"},{"$f":"IF($B53=\"\", \"\", CAD!C50)","v":1.2887999999999999},{"$f":"IF($B53=\"\", \"\",VLOOKUP($B53, CAD!$D$7:$E$2000, 2, FALSE))","v":1.28477},{"$f":"IF($B53=\"\", \"\",VLOOKUP($B53, CAD!$F$7:$G$2000, 2, FALSE))","v":1.28165},{"$f":"IF($B53=\"\", \"\",VLOOKUP($B53, CAD!$H$7:$I$2000, 2, FALSE))","v":1.2792399999999999},{"$f":"IF($B53=\"\", \"\",VLOOKUP($B53, CAD!$J$7:$K$2000, 2, FALSE))","v":1.2779199999999999},{"$f":"IF($B53=\"\", \"\", VLOOKUP($B53, CAD!$L$7:$M$2000, 2, FALSE))","v":1.2766},{"$f":"IF($B53=\"\", \"\", VLOOKUP($B53, CAD!$N$7:$O$2000, 2, FALSE))","v":1.2782},{"$f":"IF($B53=\"\", \"\", VLOOKUP($B53, CAD!$P$7:$Q$2000, 2, FALSE))","v":1.2759750000000001},{"$f":"IF($B53=\"\", \"\", VLOOKUP($B53, CAD!$R$7:$S$2000, 2, FALSE))","v":1.27616},{"$f":"IF($B53=\"\", \"\", VLOOKUP($B53, CAD!$T$7:$U$2000, 2, FALSE))","v":1.27885},{"$f":"IF($B53=\"\", \"\", VLOOKUP($B53, CAD!$V$7:$W$2000, 2, FALSE))","v":1.28146},null,{"$f":"IF(USSW!B50=\"\", \"\", USSW!B50)","v":"2017-10-30"},{"$f":"IF($O53=\"\", \"\", USSW!C50)","v":1.6294},{"$f":"IF($O53=\"\", \"\", VLOOKUP($O53, USSW!$D$7:$E$2000, 2, FALSE))","v":1.8027},{"$f":"IF($O53=\"\", \"\", VLOOKUP($O53, USSW!$F$7:$G$2000, 2, FALSE))","v":1.9185000000000001},{"$f":"IF($O53=\"\", \"\", VLOOKUP($O53, USSW!$H$7:$I$2000, 2, FALSE))","v":2.0034000000000001},{"$f":"IF($O53=\"\", \"\", VLOOKUP($O53, USSW!$J$7:$K$2000, 2, FALSE))","v":2.0733999999999999},{"$f":"IF($O53=\"\", \"\", VLOOKUP($O53, USSW!$L$7:$M$2000, 2, FALSE))","v":2.1395},{"$f":"IF($O53=\"\", \"\", VLOOKUP($O53, USSW!$N$7:$O$2000, 2, FALSE))","v":2.2016},{"$f":"IF($O53=\"\", \"\", VLOOKUP($O53, USSW!$P$7:$Q$2000, 2, FALSE))","v":2.2544},{"$f":"IF($O53=\"\", \"\", VLOOKUP($O53, USSW!$R$7:$S$2000, 2, FALSE))","v":2.3025000000000002},{"$f":"IF($O53=\"\", \"\", VLOOKUP($O53, USSW!$T$7:$U$2000, 2, FALSE))","v":2.3462000000000001}]
[null,{"$f":"IF(CAD!B51=\"\", \"\", CAD!B51)","v":"2017-10-30"},{"$f":"IF($B54=\"\", \"\", CAD!C51)","v":1.2833000000000001},{"$f":"IF($B54=\"\", \"\",VLOOKUP($B54, CAD!$D$7:$E$2000, 2, FALSE))","v":1.2795799999999999},{"$f":"IF($B54=\"\", \"\",VLOOKUP($B54, CAD!$F$7:$G$2000, 2, FALSE))","v":1.276605},{"$f":"IF($B54=\"\", \"\",VLOOKUP($B54, CAD!$H$7:$I$2000, 2, FALSE))","v":1.2745899999999999},{"$f":"IF($B54=\"\", \"\",VLOOKUP($B54, CAD!$J$7:$K$2000, 2, FALSE))","v":1.27397},{"$f":"IF($B54=\"\", \"\", VLOOKUP($B54, CAD!$L$7:$M$2000, 2, FALSE))","v":1.2726},{"$f":"IF($B54=\"\", \"\", VLOOKUP($B54, CAD!$N$7:$O$2000, 2, FALSE))","v":1.2743},{"$f":"IF($B54=\"\", \"\", VLOOKUP($B54, CAD!$P$7:$Q$2000, 2, FALSE))","v":1.2721},{"$f":"IF($B54=\"\", \"\", VLOOKUP($B54, CAD!$R$7:$S$2000, 2, FALSE))","v":1.2721800000000001},{"$f":"IF($B54=\"\", \"\", VLOOKUP($B54, CAD!$T$7:$U$2000, 2, FALSE))","v":1.2737480000000001},{"$f":"IF($B54=\"\", \"\", VLOOKUP($B54, CAD!$V$7:$W$2000, 2, FALSE))","v":1.276114},null,{"$f":"IF(USSW!B51=\"\", \"\", USSW!B51)","v":"2017-10-27"},{"$f":"IF($O54=\"\", \"\", USSW!C51)","v":1.6356999999999999},{"$f":"IF($O54=\"\", \"\", VLOOKUP($O54, USSW!$D$7:$E$2000, 2, FALSE))","v":1.8222},{"$f":"IF($O54=\"\", \"\", VLOOKUP($O54, USSW!$F$7:$G$2000, 2, FALSE))","v":1.9432},{"$f":"IF($O54=\"\", \"\", VLOOKUP($O54, USSW!$H$7:$I$2000, 2, FALSE))","v":2.0299},{"$f":"IF($O54=\"\", \"\", VLOOKUP($O54, USSW!$J$7:$K$2000, 2, FALSE))","v":2.1172},{"$f":"IF($O54=\"\", \"\", VLOOKUP($O54, USSW!$L$7:$M$2000, 2, FALSE))","v":2.1726000000000001},{"$f":"IF($O54=\"\", \"\", VLOOKUP($O54, USSW!$N$7:$O$2000, 2, FALSE))","v":2.2332999999999998},{"$f":"IF($O54=\"\", \"\", VLOOKUP($O54, USSW!$P$7:$Q$2000, 2, FALSE))","v":2.2881999999999998},{"$f":"IF($O54=\"\", \"\", VLOOKUP($O54, USSW!$R$7:$S$2000, 2, FALSE))","v":2.3382000000000001},{"$f":"IF($O54=\"\", \"\", VLOOKUP($O54, USSW!$T$7:$U$2000, 2, FALSE))","v":2.3803999999999998}]
[null,{"$f":"IF(CAD!B52=\"\", \"\", CAD!B52)","v":"2017-10-27"},{"$f":"IF($B55=\"\", \"\", CAD!C52)","v":1.2807999999999999},{"$f":"IF($B55=\"\", \"\",VLOOKUP($B55, CAD!$D$7:$E$2000, 2, FALSE))","v":1.277129},{"$f":"IF($B55=\"\", \"\",VLOOKUP($B55, CAD!$F$7:$G$2000, 2, FALSE))","v":1.2742},{"$f":"IF($B55=\"\", \"\",VLOOKUP($B55, CAD!$H$7:$I$2000, 2, FALSE))","v":1.2722199999999999},{"$f":"IF($B55=\"\", \"\",VLOOKUP($B55, CAD!$J$7:$K$2000, 2, FALSE))","v":1.2713099999999999},{"$f":"IF($B55=\"\", \"\", VLOOKUP($B55, CAD!$L$7:$M$2000, 2, FALSE))","v":1.2702599999999999},{"$f":"IF($B55=\"\", \"\", VLOOKUP($B55, CAD!$N$7:$O$2000, 2, FALSE))","v":1.2708999999999999},{"$f":"IF($B55=\"\", \"\", VLOOKUP($B55, CAD!$P$7:$Q$2000, 2, FALSE))","v":1.2677499999999999},{"$f":"IF($B55=\"\", \"\", VLOOKUP($B55, CAD!$R$7:$S$2000, 2, FALSE))","v":1.2683599999999999},{"$f":"IF($B55=\"\", \"\", VLOOKUP($B55, CAD!$T$7:$U$2000, 2, FALSE))","v":1.2675799999999999},{"$f":"IF($B55=\"\", \"\", VLOOKUP($B55, CAD!$V$7:$W$2000, 2, FALSE))","v":1.26946},null,{"$f":"IF(USSW!B52=\"\", \"\", USSW!B52)","v":"2017-10-26"},{"$f":"IF($O55=\"\", \"\", USSW!C52)","v":1.6451},{"$f":"IF($O55=\"\", \"\", VLOOKUP($O55, USSW!$D$7:$E$2000, 2, FALSE))","v":1.8445},{"$f":"IF($O55=\"\", \"\", VLOOKUP($O55, USSW!$F$7:$G$2000, 2, FALSE))","v":1.9782999999999999},{"$f":"IF($O55=\"\", \"\", VLOOKUP($O55, USSW!$H$7:$I$2000, 2, FALSE))","v":2.0726},{"$f":"IF($O55=\"\", \"\", VLOOKUP($O55, USSW!$J$7:$K$2000, 2, FALSE))","v":2.1457999999999999},{"$f":"IF($O55=\"\", \"\", VLOOKUP($O55, USSW!$L$7:$M$2000, 2, FALSE))","v":2.2212000000000001},{"$f":"IF($O55=\"\", \"\", VLOOKUP($O55, USSW!$N$7:$O$2000, 2, FALSE))","v":2.2864},{"$f":"IF($O55=\"\", \"\", VLOOKUP($O55, USSW!$P$7:$Q$2000, 2, FALSE))","v":2.3414999999999999},{"$f":"IF($O55=\"\", \"\", VLOOKUP($O55, USSW!$R$7:$S$2000, 2, FALSE))","v":2.3921999999999999},{"$f":"IF($O55=\"\", \"\", VLOOKUP($O55, USSW!$T$7:$U$2000, 2, FALSE))","v":2.4361999999999999}]
[null,{"$f":"IF(CAD!B53=\"\", \"\", CAD!B53)","v":"2017-10-26"},{"$f":"IF($B56=\"\", \"\", CAD!C53)","v":1.2847},{"$f":"IF($B56=\"\", \"\",VLOOKUP($B56, CAD!$D$7:$E$2000, 2, FALSE))","v":1.2811360000000001},{"$f":"IF($B56=\"\", \"\",VLOOKUP($B56, CAD!$F$7:$G$2000, 2, FALSE))","v":1.2782150000000001},{"$f":"IF($B56=\"\", \"\",VLOOKUP($B56, CAD!$H$7:$I$2000, 2, FALSE))","v":1.277193},{"$f":"IF($B56=\"\", \"\",VLOOKUP($B56, CAD!$J$7:$K$2000, 2, FALSE))","v":1.2740800000000001},{"$f":"IF($B56=\"\", \"\", VLOOKUP($B56, CAD!$L$7:$M$2000, 2, FALSE))","v":1.27318},{"$f":"IF($B56=\"\", \"\", VLOOKUP($B56, CAD!$N$7:$O$2000, 2, FALSE))","v":1.2746},{"$f":"IF($B56=\"\", \"\", VLOOKUP($B56, CAD!$P$7:$Q$2000, 2, FALSE))","v":1.2714099999999999},{"$f":"IF($B56=\"\", \"\", VLOOKUP($B56, CAD!$R$7:$S$2000, 2, FALSE))","v":1.2705},{"$f":"IF($B56=\"\", \"\", VLOOKUP($B56, CAD!$T$7:$U$2000, 2, FALSE))","v":1.2711030000000001},{"$f":"IF($B56=\"\", \"\", VLOOKUP($B56, CAD!$V$7:$W$2000, 2, FALSE))","v":1.27305},null,{"$f":"IF(USSW!B53=\"\", \"\", USSW!B53)","v":"2017-10-25"},{"$f":"IF($O56=\"\", \"\", USSW!C53)","v":1.6334},{"$f":"IF($O56=\"\", \"\", VLOOKUP($O56, USSW!$D$7:$E$2000, 2, FALSE))","v":1.8245},{"$f":"IF($O56=\"\", \"\", VLOOKUP($O56, USSW!$F$7:$G$2000, 2, FALSE))","v":1.9523999999999999},{"$f":"IF($O56=\"\", \"\", VLOOKUP($O56, USSW!$H$7:$I$2000, 2, FALSE))","v":2.0449999999999999},{"$f":"IF($O56=\"\", \"\", VLOOKUP($O56, USSW!$J$7:$K$2000, 2, FALSE))","v":2.1339999999999999},{"$f":"IF($O56=\"\", \"\", VLOOKUP($O56, USSW!$L$7:$M$2000, 2, FALSE))","v":2.1928000000000001},{"$f":"IF($O56=\"\", \"\", VLOOKUP($O56, USSW!$N$7:$O$2000, 2, FALSE))","v":2.2578999999999998},{"$f":"IF($O56=\"\", \"\", VLOOKUP($O56, USSW!$P$7:$Q$2000, 2, FALSE))","v":2.3142},{"$f":"IF($O56=\"\", \"\", VLOOKUP($O56, USSW!$R$7:$S$2000, 2, FALSE))","v":2.3631000000000002},{"$f":"IF($O56=\"\", \"\", VLOOKUP($O56, USSW!$T$7:$U$2000, 2, FALSE))","v":2.4085999999999999}]
[null,{"$f":"IF(CAD!B54=\"\", \"\", CAD!B54)","v":"2017-10-25"},{"$f":"IF($B57=\"\", \"\", CAD!C54)","v":1.2796000000000001},{"$f":"IF($B57=\"\", \"\",VLOOKUP($B57, CAD!$D$7:$E$2000, 2, FALSE))","v":1.2763629999999999},{"$f":"IF($B57=\"\", \"\",VLOOKUP($B57, CAD!$F$7:$G$2000, 2, FALSE))","v":1.273744},{"$f":"IF($B57=\"\", \"\",VLOOKUP($B57, CAD!$H$7:$I$2000, 2, FALSE))","v":1.2720899999999999},{"$f":"IF($B57=\"\", \"\",VLOOKUP($B57, CAD!$J$7:$K$2000, 2, FALSE))","v":1.2716400000000001},{"$f":"IF($B57=\"\", \"\", VLOOKUP($B57, CAD!$L$7:$M$2000, 2, FALSE))","v":1.2701499999999999},{"$f":"IF($B57=\"\", \"\", VLOOKUP($B57, CAD!$N$7:$O$2000, 2, FALSE))","v":1.2714000000000001},{"$f":"IF($B57=\"\", \"\", VLOOKUP($B57, CAD!$P$7:$Q$2000, 2, FALSE))","v":1.2685949999999999},{"$f":"IF($B57=\"\", \"\", VLOOKUP($B57, CAD!$R$7:$S$2000, 2, FALSE))","v":1.26847},{"$f":"IF($B57=\"\", \"\", VLOOKUP($B57, CAD!$T$7:$U$2000, 2, FALSE))","v":1.2778499999999999},{"$f":"IF($B57=\"\", \"\", VLOOKUP($B57, CAD!$V$7:$W$2000, 2, FALSE))","v":1.2688200000000001},null,{"$f":"IF(USSW!B54=\"\", \"\", USSW!B54)","v":"2017-10-24"},{"$f":"IF($O57=\"\", \"\", USSW!C54)","v":1.6273},{"$f":"IF($O57=\"\", \"\", VLOOKUP($O57, USSW!$D$7:$E$2000, 2, FALSE))","v":1.8221000000000001},{"$f":"IF($O57=\"\", \"\", VLOOKUP($O57, USSW!$F$7:$G$2000, 2, FALSE))","v":1.9483999999999999},{"$f":"IF($O57=\"\", \"\", VLOOKUP($O57, USSW!$H$7:$I$2000, 2, FALSE))","v":2.0404},{"$f":"IF($O57=\"\", \"\", VLOOKUP($O57, USSW!$J$7:$K$2000, 2, FALSE))","v":2.1181999999999999},{"$f":"IF($O57=\"\", \"\", VLOOKUP($O57, USSW!$L$7:$M$2000, 2, FALSE))","v":2.1880000000000002},{"$f":"IF($O57=\"\", \"\", VLOOKUP($O57, USSW!$N$7:$O$2000, 2, FALSE))","v":2.2524000000000002},{"$f":"IF($O57=\"\", \"\", VLOOKUP($O57, USSW!$P$7:$Q$2000, 2, FALSE))","v":2.3071000000000002},{"$f":"IF($O57=\"\", \"\", VLOOKUP($O57, USSW!$R$7:$S$2000, 2, FALSE))","v":2.3553999999999999},{"$f":"IF($O57=\"\", \"\", VLOOKUP($O57, USSW!$T$7:$U$2000, 2, FALSE))","v":2.4001999999999999}]
[null,{"$f":"IF(CAD!B55=\"\", \"\", CAD!B55)","v":"2017-10-24"},{"$f":"IF($B58=\"\", \"\", CAD!C55)","v":1.2675000000000001},{"$f":"IF($B58=\"\", \"\",VLOOKUP($B58, CAD!$D$7:$E$2000, 2, FALSE))","v":1.264867},{"$f":"IF($B58=\"\", \"\",VLOOKUP($B58, CAD!$F$7:$G$2000, 2, FALSE))","v":1.262745},{"$f":"IF($B58=\"\", \"\",VLOOKUP($B58, CAD!$H$7:$I$2000, 2, FALSE))","v":1.2614449999999999},{"$f":"IF($B58=\"\", \"\",VLOOKUP($B58, CAD!$J$7:$K$2000, 2, FALSE))","v":1.26065},{"$f":"IF($B58=\"\", \"\", VLOOKUP($B58, CAD!$L$7:$M$2000, 2, FALSE))","v":1.2606850000000001},{"$f":"IF($B58=\"\", \"\", VLOOKUP($B58, CAD!$N$7:$O$2000, 2, FALSE))","v":1.262},{"$f":"IF($B58=\"\", \"\", VLOOKUP($B58, CAD!$P$7:$Q$2000, 2, FALSE))","v":1.2599499999999999},{"$f":"IF($B58=\"\", \"\", VLOOKUP($B58, CAD!$R$7:$S$2000, 2, FALSE))","v":1.2597799999999999},{"$f":"IF($B58=\"\", \"\", VLOOKUP($B58, CAD!$T$7:$U$2000, 2, FALSE))","v":1.2678499999999999},{"$f":"IF($B58=\"\", \"\", VLOOKUP($B58, CAD!$V$7:$W$2000, 2, FALSE))","v":1.2648299999999999},null,{"$f":"IF(USSW!B55=\"\", \"\", USSW!B55)","v":"2017-10-23"},{"$f":"IF($O58=\"\", \"\", USSW!C55)","v":1.6165},{"$f":"IF($O58=\"\", \"\", VLOOKUP($O58, USSW!$D$7:$E$2000, 2, FALSE))","v":1.7978000000000001},{"$f":"IF($O58=\"\", \"\", VLOOKUP($O58, USSW!$F$7:$G$2000, 2, FALSE))","v":1.919},{"$f":"IF($O58=\"\", \"\", VLOOKUP($O58, USSW!$H$7:$I$2000, 2, FALSE))","v":2.0045000000000002},{"$f":"IF($O58=\"\", \"\", VLOOKUP($O58, USSW!$J$7:$K$2000, 2, FALSE))","v":2.0731000000000002},{"$f":"IF($O58=\"\", \"\", VLOOKUP($O58, USSW!$L$7:$M$2000, 2, FALSE))","v":2.1389},{"$f":"IF($O58=\"\", \"\", VLOOKUP($O58, USSW!$N$7:$O$2000, 2, FALSE))","v":2.2019000000000002},{"$f":"IF($O58=\"\", \"\", VLOOKUP($O58, USSW!$P$7:$Q$2000, 2, FALSE))","v":2.2509999999999999},{"$f":"IF($O58=\"\", \"\", VLOOKUP($O58, USSW!$R$7:$S$2000, 2, FALSE))","v":2.2997999999999998},{"$f":"IF($O58=\"\", \"\", VLOOKUP($O58, USSW!$T$7:$U$2000, 2, FALSE))","v":2.3412999999999999}]
[null,{"$f":"IF(CAD!B56=\"\", \"\", CAD!B56)","v":"2017-10-23"},{"$f":"IF($B59=\"\", \"\", CAD!C56)","v":1.2646999999999999},{"$f":"IF($B59=\"\", \"\",VLOOKUP($B59, CAD!$D$7:$E$2000, 2, FALSE))","v":1.2620180000000001},{"$f":"IF($B59=\"\", \"\",VLOOKUP($B59, CAD!$F$7:$G$2000, 2, FALSE))","v":1.259978},{"$f":"IF($B59=\"\", \"\",VLOOKUP($B59, CAD!$H$7:$I$2000, 2, FALSE))","v":1.2590749999999999},{"$f":"IF($B59=\"\", \"\",VLOOKUP($B59, CAD!$J$7:$K$2000, 2, FALSE))","v":1.25865},{"$f":"IF($B59=\"\", \"\", VLOOKUP($B59, CAD!$L$7:$M$2000, 2, FALSE))","v":1.2588699999999999},{"$f":"IF($B59=\"\", \"\", VLOOKUP($B59, CAD!$N$7:$O$2000, 2, FALSE))","v":1.2593000000000001},{"$f":"IF($B59=\"\", \"\", VLOOKUP($B59, CAD!$P$7:$Q$2000, 2, FALSE))","v":1.258875},{"$f":"IF($B59=\"\", \"\", VLOOKUP($B59, CAD!$R$7:$S$2000, 2, FALSE))","v":1.2592049999999999},{"$f":"IF($B59=\"\", \"\", VLOOKUP($B59, CAD!$T$7:$U$2000, 2, FALSE))","v":1.2625999999999999},{"$f":"IF($B59=\"\", \"\", VLOOKUP($B59, CAD!$V$7:$W$2000, 2, FALSE))","v":1.26231},null,{"$f":"IF(USSW!B56=\"\", \"\", USSW!B56)","v":"2017-10-20"},{"$f":"IF($O59=\"\", \"\", USSW!C56)","v":1.6234},{"$f":"IF($O59=\"\", \"\", VLOOKUP($O59, USSW!$D$7:$E$2000, 2, FALSE))","v":1.8163},{"$f":"IF($O59=\"\", \"\", VLOOKUP($O59, USSW!$F$7:$G$2000, 2, FALSE))","v":1.9391},{"$f":"IF($O59=\"\", \"\", VLOOKUP($O59, USSW!$H$7:$I$2000, 2, FALSE))","v":2.0257000000000001},{"$f":"IF($O59=\"\", \"\", VLOOKUP($O59, USSW!$J$7:$K$2000, 2, FALSE))","v":2.0960000000000001},{"$f":"IF($O59=\"\", \"\", VLOOKUP($O59, USSW!$L$7:$M$2000, 2, FALSE))","v":2.1621000000000001},{"$f":"IF($O59=\"\", \"\", VLOOKUP($O59, USSW!$N$7:$O$2000, 2, FALSE))","v":2.2172000000000001},{"$f":"IF($O59=\"\", \"\", VLOOKUP($O59, USSW!$P$7:$Q$2000, 2, FALSE))","v":2.2740999999999998},{"$f":"IF($O59=\"\", \"\", VLOOKUP($O59, USSW!$R$7:$S$2000, 2, FALSE))","v":2.3205},{"$f":"IF($O59=\"\", \"\", VLOOKUP($O59, USSW!$T$7:$U$2000, 2, FALSE))","v":2.3613}]
[null,{"$f":"IF(CAD!B57=\"\", \"\", CAD!B57)","v":"2017-10-20"},{"$f":"IF($B60=\"\", \"\", CAD!C57)","v":1.2626999999999999},{"$f":"IF($B60=\"\", \"\",VLOOKUP($B60, CAD!$D$7:$E$2000, 2, FALSE))","v":1.2599899999999999},{"$f":"IF($B60=\"\", \"\",VLOOKUP($B60, CAD!$F$7:$G$2000, 2, FALSE))","v":1.2579199999999999},{"$f":"IF($B60=\"\", \"\",VLOOKUP($B60, CAD!$H$7:$I$2000, 2, FALSE))","v":1.2565850000000001},{"$f":"IF($B60=\"\", \"\",VLOOKUP($B60, CAD!$J$7:$K$2000, 2, FALSE))","v":1.2557499999999999},{"$f":"IF($B60=\"\", \"\", VLOOKUP($B60, CAD!$L$7:$M$2000, 2, FALSE))","v":1.2559450000000001},{"$f":"IF($B60=\"\", \"\", VLOOKUP($B60, CAD!$N$7:$O$2000, 2, FALSE))","v":1.25566},{"$f":"IF($B60=\"\", \"\", VLOOKUP($B60, CAD!$P$7:$Q$2000, 2, FALSE))","v":1.2548999999999999},{"$f":"IF($B60=\"\", \"\", VLOOKUP($B60, CAD!$R$7:$S$2000, 2, FALSE))","v":1.2553749999999999},{"$f":"IF($B60=\"\", \"\", VLOOKUP($B60, CAD!$T$7:$U$2000, 2, FALSE))","v":1.25644},{"$f":"IF($B60=\"\", \"\", VLOOKUP($B60, CAD!$V$7:$W$2000, 2, FALSE))","v":1.26027},null,{"$f":"IF(USSW!B57=\"\", \"\", USSW!B57)","v":"2017-10-19"},{"$f":"IF($O60=\"\", \"\", USSW!C57)","v":1.6064000000000001},{"$f":"IF($O60=\"\", \"\", VLOOKUP($O60, USSW!$D$7:$E$2000, 2, FALSE))","v":1.7809999999999999},{"$f":"IF($O60=\"\", \"\", VLOOKUP($O60, USSW!$F$7:$G$2000, 2, FALSE))","v":1.8917999999999999},{"$f":"IF($O60=\"\", \"\", VLOOKUP($O60, USSW!$H$7:$I$2000, 2, FALSE))","v":1.9722},{"$f":"IF($O60=\"\", \"\", VLOOKUP($O60, USSW!$J$7:$K$2000, 2, FALSE))","v":2.0379999999999998},{"$f":"IF($O60=\"\", \"\", VLOOKUP($O60, USSW!$L$7:$M$2000, 2, FALSE))","v":2.1002999999999998},{"$f":"IF($O60=\"\", \"\", VLOOKUP($O60, USSW!$N$7:$O$2000, 2, FALSE))","v":2.1573000000000002},{"$f":"IF($O60=\"\", \"\", VLOOKUP($O60, USSW!$P$7:$Q$2000, 2, FALSE))","v":2.2117},{"$f":"IF($O60=\"\", \"\", VLOOKUP($O60, USSW!$R$7:$S$2000, 2, FALSE))","v":2.2568000000000001},{"$f":"IF($O60=\"\", \"\", VLOOKUP($O60, USSW!$T$7:$U$2000, 2, FALSE))","v":2.2972000000000001}]
[null,{"$f":"IF(CAD!B58=\"\", \"\", CAD!B58)","v":"2017-10-19"},{"$f":"IF($B61=\"\", \"\", CAD!C58)","v":1.2484999999999999},{"$f":"IF($B61=\"\", \"\",VLOOKUP($B61, CAD!$D$7:$E$2000, 2, FALSE))","v":1.2463900000000001},{"$f":"IF($B61=\"\", \"\",VLOOKUP($B61, CAD!$F$7:$G$2000, 2, FALSE))","v":1.245112},{"$f":"IF($B61=\"\", \"\",VLOOKUP($B61, CAD!$H$7:$I$2000, 2, FALSE))","v":1.244575},{"$f":"IF($B61=\"\", \"\",VLOOKUP($B61, CAD!$J$7:$K$2000, 2, FALSE))","v":1.24482},{"$f":"IF($B61=\"\", \"\", VLOOKUP($B61, CAD!$L$7:$M$2000, 2, FALSE))","v":1.2460329999999999},{"$f":"IF($B61=\"\", \"\", VLOOKUP($B61, CAD!$N$7:$O$2000, 2, FALSE))","v":1.2479},{"$f":"IF($B61=\"\", \"\", VLOOKUP($B61, CAD!$P$7:$Q$2000, 2, FALSE))","v":1.2462},{"$f":"IF($B61=\"\", \"\", VLOOKUP($B61, CAD!$R$7:$S$2000, 2, FALSE))","v":1.2478400000000001},{"$f":"IF($B61=\"\", \"\", VLOOKUP($B61, CAD!$T$7:$U$2000, 2, FALSE))","v":1.2491399999999999},{"$f":"IF($B61=\"\", \"\", VLOOKUP($B61, CAD!$V$7:$W$2000, 2, FALSE))","v":1.2514400000000001},null,{"$f":"IF(USSW!B58=\"\", \"\", USSW!B58)","v":"2017-10-18"},{"$f":"IF($O61=\"\", \"\", USSW!C58)","v":1.6208},{"$f":"IF($O61=\"\", \"\", VLOOKUP($O61, USSW!$D$7:$E$2000, 2, FALSE))","v":1.8112999999999999},{"$f":"IF($O61=\"\", \"\", VLOOKUP($O61, USSW!$F$7:$G$2000, 2, FALSE))","v":1.9288000000000001},{"$f":"IF($O61=\"\", \"\", VLOOKUP($O61, USSW!$H$7:$I$2000, 2, FALSE))","v":2.0105},{"$f":"IF($O61=\"\", \"\", VLOOKUP($O61, USSW!$J$7:$K$2000, 2, FALSE))","v":2.0756999999999999},{"$f":"IF($O61=\"\", \"\", VLOOKUP($O61, USSW!$L$7:$M$2000, 2, FALSE))","v":2.1352000000000002},{"$f":"IF($O61=\"\", \"\", VLOOKUP($O61, USSW!$N$7:$O$2000, 2, FALSE))","v":2.1897000000000002},{"$f":"IF($O61=\"\", \"\", VLOOKUP($O61, USSW!$P$7:$Q$2000, 2, FALSE))","v":2.2397999999999998},{"$f":"IF($O61=\"\", \"\", VLOOKUP($O61, USSW!$R$7:$S$2000, 2, FALSE))","v":2.2841999999999998},{"$f":"IF($O61=\"\", \"\", VLOOKUP($O61, USSW!$T$7:$U$2000, 2, FALSE))","v":2.3235000000000001}]
[null,{"$f":"IF(CAD!B59=\"\", \"\", CAD!B59)","v":"2017-10-18"},{"$f":"IF($B62=\"\", \"\", CAD!C59)","v":1.2466999999999999},{"$f":"IF($B62=\"\", \"\",VLOOKUP($B62, CAD!$D$7:$E$2000, 2, FALSE))","v":1.24461},{"$f":"IF($B62=\"\", \"\",VLOOKUP($B62, CAD!$F$7:$G$2000, 2, FALSE))","v":1.24325},{"$f":"IF($B62=\"\", \"\",VLOOKUP($B62, CAD!$H$7:$I$2000, 2, FALSE))","v":1.2432700000000001},{"$f":"IF($B62=\"\", \"\",VLOOKUP($B62, CAD!$J$7:$K$2000, 2, FALSE))","v":1.24258},{"$f":"IF($B62=\"\", \"\", VLOOKUP($B62, CAD!$L$7:$M$2000, 2, FALSE))","v":1.243355},{"$f":"IF($B62=\"\", \"\", VLOOKUP($B62, CAD!$N$7:$O$2000, 2, FALSE))","v":1.2448999999999999},{"$f":"IF($B62=\"\", \"\", VLOOKUP($B62, CAD!$P$7:$Q$2000, 2, FALSE))","v":1.244645},{"$f":"IF($B62=\"\", \"\", VLOOKUP($B62, CAD!$R$7:$S$2000, 2, FALSE))","v":1.2458800000000001},{"$f":"IF($B62=\"\", \"\", VLOOKUP($B62, CAD!$T$7:$U$2000, 2, FALSE))","v":1.2538},{"$f":"IF($B62=\"\", \"\", VLOOKUP($B62, CAD!$V$7:$W$2000, 2, FALSE))","v":1.2501},null,{"$f":"IF(USSW!B59=\"\", \"\", USSW!B59)","v":"2017-10-17"},{"$f":"IF($O62=\"\", \"\", USSW!C59)","v":1.62},{"$f":"IF($O62=\"\", \"\", VLOOKUP($O62, USSW!$D$7:$E$2000, 2, FALSE))","v":1.8062},{"$f":"IF($O62=\"\", \"\", VLOOKUP($O62, USSW!$F$7:$G$2000, 2, FALSE))","v":1.9132},{"$f":"IF($O62=\"\", \"\", VLOOKUP($O62, USSW!$H$7:$I$2000, 2, FALSE))","v":1.9869000000000001},{"$f":"IF($O62=\"\", \"\", VLOOKUP($O62, USSW!$J$7:$K$2000, 2, FALSE))","v":2.0354000000000001},{"$f":"IF($O62=\"\", \"\", VLOOKUP($O62, USSW!$L$7:$M$2000, 2, FALSE))","v":2.0977999999999999},{"$f":"IF($O62=\"\", \"\", VLOOKUP($O62, USSW!$N$7:$O$2000, 2, FALSE))","v":2.1511},{"$f":"IF($O62=\"\", \"\", VLOOKUP($O62, USSW!$P$7:$Q$2000, 2, FALSE))","v":2.1962000000000002},{"$f":"IF($O62=\"\", \"\", VLOOKUP($O62, USSW!$R$7:$S$2000, 2, FALSE))","v":2.2423999999999999},{"$f":"IF($O62=\"\", \"\", VLOOKUP($O62, USSW!$T$7:$U$2000, 2, FALSE))","v":2.2822}]
[null,{"$f":"IF(CAD!B60=\"\", \"\", CAD!B60)","v":"2017-10-17"},{"$f":"IF($B63=\"\", \"\", CAD!C60)","v":1.2522},{"$f":"IF($B63=\"\", \"\",VLOOKUP($B63, CAD!$D$7:$E$2000, 2, FALSE))","v":1.2501599999999999},{"$f":"IF($B63=\"\", \"\",VLOOKUP($B63, CAD!$F$7:$G$2000, 2, FALSE))","v":1.24895},{"$f":"IF($B63=\"\", \"\",VLOOKUP($B63, CAD!$H$7:$I$2000, 2, FALSE))","v":1.24848},{"$f":"IF($B63=\"\", \"\",VLOOKUP($B63, CAD!$J$7:$K$2000, 2, FALSE))","v":1.24966},{"$f":"IF($B63=\"\", \"\", VLOOKUP($B63, CAD!$L$7:$M$2000, 2, FALSE))","v":1.2503249999999999},{"$f":"IF($B63=\"\", \"\", VLOOKUP($B63, CAD!$N$7:$O$2000, 2, FALSE))","v":{"$error":"#N/A"}},{"$f":"IF($B63=\"\", \"\", VLOOKUP($B63, CAD!$P$7:$Q$2000, 2, FALSE))","v":1.2523299999999999},{"$f":"IF($B63=\"\", \"\", VLOOKUP($B63, CAD!$R$7:$S$2000, 2, FALSE))","v":1.2525999999999999},{"$f":"IF($B63=\"\", \"\", VLOOKUP($B63, CAD!$T$7:$U$2000, 2, FALSE))","v":1.2547299999999999},{"$f":"IF($B63=\"\", \"\", VLOOKUP($B63, CAD!$V$7:$W$2000, 2, FALSE))","v":1.25715},null,{"$f":"IF(USSW!B60=\"\", \"\", USSW!B60)","v":"2017-10-16"},{"$f":"IF($O63=\"\", \"\", USSW!C60)","v":1.6162000000000001},{"$f":"IF($O63=\"\", \"\", VLOOKUP($O63, USSW!$D$7:$E$2000, 2, FALSE))","v":1.7975000000000001},{"$f":"IF($O63=\"\", \"\", VLOOKUP($O63, USSW!$F$7:$G$2000, 2, FALSE))","v":1.9060999999999999},{"$f":"IF($O63=\"\", \"\", VLOOKUP($O63, USSW!$H$7:$I$2000, 2, FALSE))","v":1.9773000000000001},{"$f":"IF($O63=\"\", \"\", VLOOKUP($O63, USSW!$J$7:$K$2000, 2, FALSE))","v":2.0373999999999999},{"$f":"IF($O63=\"\", \"\", VLOOKUP($O63, USSW!$L$7:$M$2000, 2, FALSE))","v":2.0912000000000002},{"$f":"IF($O63=\"\", \"\", VLOOKUP($O63, USSW!$N$7:$O$2000, 2, FALSE))","v":2.1434000000000002},{"$f":"IF($O63=\"\", \"\", VLOOKUP($O63, USSW!$P$7:$Q$2000, 2, FALSE))","v":2.1915},{"$f":"IF($O63=\"\", \"\", VLOOKUP($O63, USSW!$R$7:$S$2000, 2, FALSE))","v":2.2385000000000002},{"$f":"IF($O63=\"\", \"\", VLOOKUP($O63, USSW!$T$7:$U$2000, 2, FALSE))","v":2.2761999999999998}]
[null,{"$f":"IF(CAD!B61=\"\", \"\", CAD!B61)","v":"2017-10-16"},{"$f":"IF($B64=\"\", \"\", CAD!C61)","v":1.2518},{"$f":"IF($B64=\"\", \"\",VLOOKUP($B64, CAD!$D$7:$E$2000, 2, FALSE))","v":1.2500500000000001},{"$f":"IF($B64=\"\", \"\",VLOOKUP($B64, CAD!$F$7:$G$2000, 2, FALSE))","v":1.24905},{"$f":"IF($B64=\"\", \"\",VLOOKUP($B64, CAD!$H$7:$I$2000, 2, FALSE))","v":1.24895},{"$f":"IF($B64=\"\", \"\",VLOOKUP($B64, CAD!$J$7:$K$2000, 2, FALSE))","v":1.25024},{"$f":"IF($B64=\"\", \"\", VLOOKUP($B64, CAD!$L$7:$M$2000, 2, FALSE))","v":1.250534},{"$f":"IF($B64=\"\", \"\", VLOOKUP($B64, CAD!$N$7:$O$2000, 2, FALSE))","v":1.2532000000000001},{"$f":"IF($B64=\"\", \"\", VLOOKUP($B64, CAD!$P$7:$Q$2000, 2, FALSE))","v":1.252365},{"$f":"IF($B64=\"\", \"\", VLOOKUP($B64, CAD!$R$7:$S$2000, 2, FALSE))","v":1.25319},{"$f":"IF($B64=\"\", \"\", VLOOKUP($B64, CAD!$T$7:$U$2000, 2, FALSE))","v":1.2658499999999999},{"$f":"IF($B64=\"\", \"\", VLOOKUP($B64, CAD!$V$7:$W$2000, 2, FALSE))","v":1.25911},null,{"$f":"IF(USSW!B61=\"\", \"\", USSW!B61)","v":"2017-10-13"},{"$f":"IF($O64=\"\", \"\", USSW!C61)","v":1.5915999999999999},{"$f":"IF($O64=\"\", \"\", VLOOKUP($O64, USSW!$D$7:$E$2000, 2, FALSE))","v":1.7524999999999999},{"$f":"IF($O64=\"\", \"\", VLOOKUP($O64, USSW!$F$7:$G$2000, 2, FALSE))","v":1.8505},{"$f":"IF($O64=\"\", \"\", VLOOKUP($O64, USSW!$H$7:$I$2000, 2, FALSE))","v":1.9217},{"$f":"IF($O64=\"\", \"\", VLOOKUP($O64, USSW!$J$7:$K$2000, 2, FALSE))","v":1.9819},{"$f":"IF($O64=\"\", \"\", VLOOKUP($O64, USSW!$L$7:$M$2000, 2, FALSE))","v":2.0407999999999999},{"$f":"IF($O64=\"\", \"\", VLOOKUP($O64, USSW!$N$7:$O$2000, 2, FALSE))","v":2.0954999999999999},{"$f":"IF($O64=\"\", \"\", VLOOKUP($O64, USSW!$P$7:$Q$2000, 2, FALSE))","v":2.1515},{"$f":"IF($O64=\"\", \"\", VLOOKUP($O64, USSW!$R$7:$S$2000, 2, FALSE))","v":2.1949999999999998},{"$f":"IF($O64=\"\", \"\", VLOOKUP($O64, USSW!$T$7:$U$2000, 2, FALSE))","v":2.2355}]
[null,{"$f":"IF(CAD!B62=\"\", \"\", CAD!B62)","v":"2017-10-13"},{"$f":"IF($B65=\"\", \"\", CAD!C62)","v":1.2467999999999999},{"$f":"IF($B65=\"\", \"\",VLOOKUP($B65, CAD!$D$7:$E$2000, 2, FALSE))","v":1.24552},{"$f":"IF($B65=\"\", \"\",VLOOKUP($B65, CAD!$F$7:$G$2000, 2, FALSE))","v":1.2452300000000001},{"$f":"IF($B65=\"\", \"\",VLOOKUP($B65, CAD!$H$7:$I$2000, 2, FALSE))","v":1.2459499999999999},{"$f":"IF($B65=\"\", \"\",VLOOKUP($B65, CAD!$J$7:$K$2000, 2, FALSE))","v":1.247015},{"$f":"IF($B65=\"\", \"\", VLOOKUP($B65, CAD!$L$7:$M$2000, 2, FALSE))","v":1.24878},{"$f":"IF($B65=\"\", \"\", VLOOKUP($B65, CAD!$N$7:$O$2000, 2, FALSE))","v":1.2516},{"$f":"IF($B65=\"\", \"\", VLOOKUP($B65, CAD!$P$7:$Q$2000, 2, FALSE))","v":1.2509600000000001},{"$f":"IF($B65=\"\", \"\", VLOOKUP($B65, CAD!$R$7:$S$2000, 2, FALSE))","v":1.252845},{"$f":"IF($B65=\"\", \"\", VLOOKUP($B65, CAD!$T$7:$U$2000, 2, FALSE))","v":1.2568999999999999},{"$f":"IF($B65=\"\", \"\", VLOOKUP($B65, CAD!$V$7:$W$2000, 2, FALSE))","v":1.25813},null,{"$f":"IF(USSW!B62=\"\", \"\", USSW!B62)","v":"2017-10-12"},{"$f":"IF($O65=\"\", \"\", USSW!C62)","v":1.605},{"$f":"IF($O65=\"\", \"\", VLOOKUP($O65, USSW!$D$7:$E$2000, 2, FALSE))","v":1.7733000000000001},{"$f":"IF($O65=\"\", \"\", VLOOKUP($O65, USSW!$F$7:$G$2000, 2, FALSE))","v":1.8785000000000001},{"$f":"IF($O65=\"\", \"\", VLOOKUP($O65, USSW!$H$7:$I$2000, 2, FALSE))","v":1.9548000000000001},{"$f":"IF($O65=\"\", \"\", VLOOKUP($O65, USSW!$J$7:$K$2000, 2, FALSE))","v":2.0203000000000002},{"$f":"IF($O65=\"\", \"\", VLOOKUP($O65, USSW!$L$7:$M$2000, 2, FALSE))","v":2.0788000000000002},{"$f":"IF($O65=\"\", \"\", VLOOKUP($O65, USSW!$N$7:$O$2000, 2, FALSE))","v":2.137},{"$f":"IF($O65=\"\", \"\", VLOOKUP($O65, USSW!$P$7:$Q$2000, 2, FALSE))","v":2.1884999999999999},{"$f":"IF($O65=\"\", \"\", VLOOKUP($O65, USSW!$R$7:$S$2000, 2, FALSE))","v":2.2341000000000002},{"$f":"IF($O65=\"\", \"\", VLOOKUP($O65, USSW!$T$7:$U$2000, 2, FALSE))","v":2.2768999999999999}]
[null,{"$f":"IF(CAD!B63=\"\", \"\", CAD!B63)","v":"2017-10-12"},{"$f":"IF($B66=\"\", \"\", CAD!C63)","v":1.2475000000000001},{"$f":"IF($B66=\"\", \"\",VLOOKUP($B66, CAD!$D$7:$E$2000, 2, FALSE))","v":1.2462500000000001},{"$f":"IF($B66=\"\", \"\",VLOOKUP($B66, CAD!$F$7:$G$2000, 2, FALSE))","v":1.2456700000000001},{"$f":"IF($B66=\"\", \"\",VLOOKUP($B66, CAD!$H$7:$I$2000, 2, FALSE))","v":1.2463299999999999},{"$f":"IF($B66=\"\", \"\",VLOOKUP($B66, CAD!$J$7:$K$2000, 2, FALSE))","v":1.2472300000000001},{"$f":"IF($B66=\"\", \"\", VLOOKUP($B66, CAD!$L$7:$M$2000, 2, FALSE))","v":1.2483900000000001},{"$f":"IF($B66=\"\", \"\", VLOOKUP($B66, CAD!$N$7:$O$2000, 2, FALSE))","v":1.2493399999999999},{"$f":"IF($B66=\"\", \"\", VLOOKUP($B66, CAD!$P$7:$Q$2000, 2, FALSE))","v":1.2506900000000001},{"$f":"IF($B66=\"\", \"\", VLOOKUP($B66, CAD!$R$7:$S$2000, 2, FALSE))","v":1.2522800000000001},{"$f":"IF($B66=\"\", \"\", VLOOKUP($B66, CAD!$T$7:$U$2000, 2, FALSE))","v":1.2557799999999999},{"$f":"IF($B66=\"\", \"\", VLOOKUP($B66, CAD!$V$7:$W$2000, 2, FALSE))","v":1.2585999999999999},null,{"$f":"IF(USSW!B63=\"\", \"\", USSW!B63)","v":"2017-10-11"},{"$f":"IF($O66=\"\", \"\", USSW!C63)","v":1.6074999999999999},{"$f":"IF($O66=\"\", \"\", VLOOKUP($O66, USSW!$D$7:$E$2000, 2, FALSE))","v":1.7803},{"$f":"IF($O66=\"\", \"\", VLOOKUP($O66, USSW!$F$7:$G$2000, 2, FALSE))","v":1.8897999999999999},{"$f":"IF($O66=\"\", \"\", VLOOKUP($O66, USSW!$H$7:$I$2000, 2, FALSE))","v":1.9673},{"$f":"IF($O66=\"\", \"\", VLOOKUP($O66, USSW!$J$7:$K$2000, 2, FALSE))","v":2.0301},{"$f":"IF($O66=\"\", \"\", VLOOKUP($O66, USSW!$L$7:$M$2000, 2, FALSE))","v":2.0985999999999998},{"$f":"IF($O66=\"\", \"\", VLOOKUP($O66, USSW!$N$7:$O$2000, 2, FALSE))","v":2.1576},{"$f":"IF($O66=\"\", \"\", VLOOKUP($O66, USSW!$P$7:$Q$2000, 2, FALSE))","v":2.2111999999999998},{"$f":"IF($O66=\"\", \"\", VLOOKUP($O66, USSW!$R$7:$S$2000, 2, FALSE))","v":2.2595000000000001},{"$f":"IF($O66=\"\", \"\", VLOOKUP($O66, USSW!$T$7:$U$2000, 2, FALSE))","v":2.3033999999999999}]
[null,{"$f":"IF(CAD!B64=\"\", \"\", CAD!B64)","v":"2017-10-11"},{"$f":"IF($B67=\"\", \"\", CAD!C64)","v":1.2458},{"$f":"IF($B67=\"\", \"\",VLOOKUP($B67, CAD!$D$7:$E$2000, 2, FALSE))","v":1.2444599999999999},{"$f":"IF($B67=\"\", \"\",VLOOKUP($B67, CAD!$F$7:$G$2000, 2, FALSE))","v":1.2440850000000001},{"$f":"IF($B67=\"\", \"\",VLOOKUP($B67, CAD!$H$7:$I$2000, 2, FALSE))","v":1.24468},{"$f":"IF($B67=\"\", \"\",VLOOKUP($B67, CAD!$J$7:$K$2000, 2, FALSE))","v":1.2450300000000001},{"$f":"IF($B67=\"\", \"\", VLOOKUP($B67, CAD!$L$7:$M$2000, 2, FALSE))","v":1.2462299999999999},{"$f":"IF($B67=\"\", \"\", VLOOKUP($B67, CAD!$N$7:$O$2000, 2, FALSE))","v":1.24695},{"$f":"IF($B67=\"\", \"\", VLOOKUP($B67, CAD!$P$7:$Q$2000, 2, FALSE))","v":1.2484},{"$f":"IF($B67=\"\", \"\", VLOOKUP($B67, CAD!$R$7:$S$2000, 2, FALSE))","v":1.24993},{"$f":"IF($B67=\"\", \"\", VLOOKUP($B67, CAD!$T$7:$U$2000, 2, FALSE))","v":1.2533700000000001},{"$f":"IF($B67=\"\", \"\", VLOOKUP($B67, CAD!$V$7:$W$2000, 2, FALSE))","v":1.2562899999999999},null,{"$f":"IF(USSW!B64=\"\", \"\", USSW!B64)","v":"2017-10-10"},{"$f":"IF($O67=\"\", \"\", USSW!C64)","v":1.6044},{"$f":"IF($O67=\"\", \"\", VLOOKUP($O67, USSW!$D$7:$E$2000, 2, FALSE))","v":1.7778},{"$f":"IF($O67=\"\", \"\", VLOOKUP($O67, USSW!$F$7:$G$2000, 2, FALSE))","v":1.8867},{"$f":"IF($O67=\"\", \"\", VLOOKUP($O67, USSW!$H$7:$I$2000, 2, FALSE))","v":1.9704999999999999},{"$f":"IF($O67=\"\", \"\", VLOOKUP($O67, USSW!$J$7:$K$2000, 2, FALSE))","v":2.0415000000000001},{"$f":"IF($O67=\"\", \"\", VLOOKUP($O67, USSW!$L$7:$M$2000, 2, FALSE))","v":2.1071},{"$f":"IF($O67=\"\", \"\", VLOOKUP($O67, USSW!$N$7:$O$2000, 2, FALSE))","v":2.1676000000000002},{"$f":"IF($O67=\"\", \"\", VLOOKUP($O67, USSW!$P$7:$Q$2000, 2, FALSE))","v":2.222},{"$f":"IF($O67=\"\", \"\", VLOOKUP($O67, USSW!$R$7:$S$2000, 2, FALSE))","v":2.2713000000000001},{"$f":"IF($O67=\"\", \"\", VLOOKUP($O67, USSW!$T$7:$U$2000, 2, FALSE))","v":2.3163}]
[null,{"$f":"IF(CAD!B65=\"\", \"\", CAD!B65)","v":"2017-10-10"},{"$f":"IF($B68=\"\", \"\", CAD!C65)","v":1.2515000000000001},{"$f":"IF($B68=\"\", \"\",VLOOKUP($B68, CAD!$D$7:$E$2000, 2, FALSE))","v":1.2501},{"$f":"IF($B68=\"\", \"\",VLOOKUP($B68, CAD!$F$7:$G$2000, 2, FALSE))","v":1.2495000000000001},{"$f":"IF($B68=\"\", \"\",VLOOKUP($B68, CAD!$H$7:$I$2000, 2, FALSE))","v":1.2498499999999999},{"$f":"IF($B68=\"\", \"\",VLOOKUP($B68, CAD!$J$7:$K$2000, 2, FALSE))","v":1.25065},{"$f":"IF($B68=\"\", \"\", VLOOKUP($B68, CAD!$L$7:$M$2000, 2, FALSE))","v":1.251395},{"$f":"IF($B68=\"\", \"\", VLOOKUP($B68, CAD!$N$7:$O$2000, 2, FALSE))","v":1.2519979999999999},{"$f":"IF($B68=\"\", \"\", VLOOKUP($B68, CAD!$P$7:$Q$2000, 2, FALSE))","v":1.2534959999999999},{"$f":"IF($B68=\"\", \"\", VLOOKUP($B68, CAD!$R$7:$S$2000, 2, FALSE))","v":1.2549319999999999},{"$f":"IF($B68=\"\", \"\", VLOOKUP($B68, CAD!$T$7:$U$2000, 2, FALSE))","v":1.25797},{"$f":"IF($B68=\"\", \"\", VLOOKUP($B68, CAD!$V$7:$W$2000, 2, FALSE))","v":1.26101},null,{"$f":"IF(USSW!B65=\"\", \"\", USSW!B65)","v":"2017-10-09"},{"$f":"IF($O68=\"\", \"\", USSW!C65)","v":1.6043000000000001},{"$f":"IF($O68=\"\", \"\", VLOOKUP($O68, USSW!$D$7:$E$2000, 2, FALSE))","v":1.778},{"$f":"IF($O68=\"\", \"\", VLOOKUP($O68, USSW!$F$7:$G$2000, 2, FALSE))","v":1.8915},{"$f":"IF($O68=\"\", \"\", VLOOKUP($O68, USSW!$H$7:$I$2000, 2, FALSE))","v":1.9724999999999999},{"$f":"IF($O68=\"\", \"\", VLOOKUP($O68, USSW!$J$7:$K$2000, 2, FALSE))","v":2.0390000000000001},{"$f":"IF($O68=\"\", \"\", VLOOKUP($O68, USSW!$L$7:$M$2000, 2, FALSE))","v":2.1073},{"$f":"IF($O68=\"\", \"\", VLOOKUP($O68, USSW!$N$7:$O$2000, 2, FALSE))","v":2.1709000000000001},{"$f":"IF($O68=\"\", \"\", VLOOKUP($O68, USSW!$P$7:$Q$2000, 2, FALSE))","v":2.2244000000000002},{"$f":"IF($O68=\"\", \"\", VLOOKUP($O68, USSW!$R$7:$S$2000, 2, FALSE))","v":2.2747999999999999},{"$f":"IF($O68=\"\", \"\", VLOOKUP($O68, USSW!$T$7:$U$2000, 2, FALSE))","v":2.3172999999999999}]
[null,{"$f":"IF(CAD!B66=\"\", \"\", CAD!B66)","v":"2017-10-09"},{"$f":"IF($B69=\"\", \"\", CAD!C66)","v":1.2551000000000001},{"$f":"IF($B69=\"\", \"\",VLOOKUP($B69, CAD!$D$7:$E$2000, 2, FALSE))","v":1.25376},{"$f":"IF($B69=\"\", \"\",VLOOKUP($B69, CAD!$F$7:$G$2000, 2, FALSE))","v":1.25325},{"$f":"IF($B69=\"\", \"\",VLOOKUP($B69, CAD!$H$7:$I$2000, 2, FALSE))","v":1.2533639999999999},{"$f":"IF($B69=\"\", \"\",VLOOKUP($B69, CAD!$J$7:$K$2000, 2, FALSE))","v":1.254151},{"$f":"IF($B69=\"\", \"\", VLOOKUP($B69, CAD!$L$7:$M$2000, 2, FALSE))","v":1.255193},{"$f":"IF($B69=\"\", \"\", VLOOKUP($B69, CAD!$N$7:$O$2000, 2, FALSE))","v":1.2556069999999999},{"$f":"IF($B69=\"\", \"\", VLOOKUP($B69, CAD!$P$7:$Q$2000, 2, FALSE))","v":1.256926},{"$f":"IF($B69=\"\", \"\", VLOOKUP($B69, CAD!$R$7:$S$2000, 2, FALSE))","v":1.258418},{"$f":"IF($B69=\"\", \"\", VLOOKUP($B69, CAD!$T$7:$U$2000, 2, FALSE))","v":{"$error":"#N/A"}},{"$f":"IF($B69=\"\", \"\", VLOOKUP($B69, CAD!$V$7:$W$2000, 2, FALSE))","v":{"$error":"#N/A"}},null,{"$f":"IF(USSW!B66=\"\", \"\", USSW!B66)","v":"2017-10-06"},{"$f":"IF($O69=\"\", \"\", USSW!C66)","v":1.5998000000000001},{"$f":"IF($O69=\"\", \"\", VLOOKUP($O69, USSW!$D$7:$E$2000, 2, FALSE))","v":1.7713000000000001},{"$f":"IF($O69=\"\", \"\", VLOOKUP($O69, USSW!$F$7:$G$2000, 2, FALSE))","v":1.8853},{"$f":"IF($O69=\"\", \"\", VLOOKUP($O69, USSW!$H$7:$I$2000, 2, FALSE))","v":1.9697},{"$f":"IF($O69=\"\", \"\", VLOOKUP($O69, USSW!$J$7:$K$2000, 2, FALSE))","v":2.0411000000000001},{"$f":"IF($O69=\"\", \"\", VLOOKUP($O69, USSW!$L$7:$M$2000, 2, FALSE))","v":2.1074999999999999},{"$f":"IF($O69=\"\", \"\", VLOOKUP($O69, USSW!$N$7:$O$2000, 2, FALSE))","v":2.1688999999999998},{"$f":"IF($O69=\"\", \"\", VLOOKUP($O69, USSW!$P$7:$Q$2000, 2, FALSE))","v":2.2235},{"$f":"IF($O69=\"\", \"\", VLOOKUP($O69, USSW!$R$7:$S$2000, 2, FALSE))","v":2.2715000000000001},{"$f":"IF($O69=\"\", \"\", VLOOKUP($O69, USSW!$T$7:$U$2000, 2, FALSE))","v":2.3144999999999998}]
[null,{"$f":"IF(CAD!B67=\"\", \"\", CAD!B67)","v":"2017-10-06"},{"$f":"IF($B70=\"\", \"\", CAD!C67)","v":1.2528999999999999},{"$f":"IF($B70=\"\", \"\",VLOOKUP($B70, CAD!$D$7:$E$2000, 2, FALSE))","v":1.25162},{"$f":"IF($B70=\"\", \"\",VLOOKUP($B70, CAD!$F$7:$G$2000, 2, FALSE))","v":1.25098},{"$f":"IF($B70=\"\", \"\",VLOOKUP($B70, CAD!$H$7:$I$2000, 2, FALSE))","v":1.2516350000000001},{"$f":"IF($B70=\"\", \"\",VLOOKUP($B70, CAD!$J$7:$K$2000, 2, FALSE))","v":1.2524900000000001},{"$f":"IF($B70=\"\", \"\", VLOOKUP($B70, CAD!$L$7:$M$2000, 2, FALSE))","v":{"$error":"#N/A"}},{"$f":"IF($B70=\"\", \"\", VLOOKUP($B70, CAD!$N$7:$O$2000, 2, FALSE))","v":1.2532700000000001},{"$f":"IF($B70=\"\", \"\", VLOOKUP($B70, CAD!$P$7:$Q$2000, 2, FALSE))","v":1.25451},{"$f":"IF($B70=\"\", \"\", VLOOKUP($B70, CAD!$R$7:$S$2000, 2, FALSE))","v":1.255995},{"$f":"IF($B70=\"\", \"\", VLOOKUP($B70, CAD!$T$7:$U$2000, 2, FALSE))","v":1.25813},{"$f":"IF($B70=\"\", \"\", VLOOKUP($B70, CAD!$V$7:$W$2000, 2, FALSE))","v":1.26017},null,{"$f":"IF(USSW!B67=\"\", \"\", USSW!B67)","v":"2017-10-05"},{"$f":"IF($O70=\"\", \"\", USSW!C67)","v":1.5928},{"$f":"IF($O70=\"\", \"\", VLOOKUP($O70, USSW!$D$7:$E$2000, 2, FALSE))","v":1.7618},{"$f":"IF($O70=\"\", \"\", VLOOKUP($O70, USSW!$F$7:$G$2000, 2, FALSE))","v":1.871},{"$f":"IF($O70=\"\", \"\", VLOOKUP($O70, USSW!$H$7:$I$2000, 2, FALSE))","v":1.9531000000000001},{"$f":"IF($O70=\"\", \"\", VLOOKUP($O70, USSW!$J$7:$K$2000, 2, FALSE))","v":2.0278},{"$f":"IF($O70=\"\", \"\", VLOOKUP($O70, USSW!$L$7:$M$2000, 2, FALSE))","v":2.0926999999999998},{"$f":"IF($O70=\"\", \"\", VLOOKUP($O70, USSW!$N$7:$O$2000, 2, FALSE))","v":2.1545000000000001},{"$f":"IF($O70=\"\", \"\", VLOOKUP($O70, USSW!$P$7:$Q$2000, 2, FALSE))","v":2.2097000000000002},{"$f":"IF($O70=\"\", \"\", VLOOKUP($O70, USSW!$R$7:$S$2000, 2, FALSE))","v":2.2610999999999999},{"$f":"IF($O70=\"\", \"\", VLOOKUP($O70, USSW!$T$7:$U$2000, 2, FALSE))","v":2.3027000000000002}]
[null,{"$f":"IF(CAD!B68=\"\", \"\", CAD!B68)","v":"2017-10-05"},{"$f":"IF($B71=\"\", \"\", CAD!C68)","v":1.2565},{"$f":"IF($B71=\"\", \"\",VLOOKUP($B71, CAD!$D$7:$E$2000, 2, FALSE))","v":1.2548600000000001},{"$f":"IF($B71=\"\", \"\",VLOOKUP($B71, CAD!$F$7:$G$2000, 2, FALSE))","v":1.2543800000000001},{"$f":"IF($B71=\"\", \"\",VLOOKUP($B71, CAD!$H$7:$I$2000, 2, FALSE))","v":1.2548950000000001},{"$f":"IF($B71=\"\", \"\",VLOOKUP($B71, CAD!$J$7:$K$2000, 2, FALSE))","v":1.25501},{"$f":"IF($B71=\"\", \"\", VLOOKUP($B71, CAD!$L$7:$M$2000, 2, FALSE))","v":1.2555149999999999},{"$f":"IF($B71=\"\", \"\", VLOOKUP($B71, CAD!$N$7:$O$2000, 2, FALSE))","v":1.2558499999999999},{"$f":"IF($B71=\"\", \"\", VLOOKUP($B71, CAD!$P$7:$Q$2000, 2, FALSE))","v":1.25691},{"$f":"IF($B71=\"\", \"\", VLOOKUP($B71, CAD!$R$7:$S$2000, 2, FALSE))","v":1.25806},{"$f":"IF($B71=\"\", \"\", VLOOKUP($B71, CAD!$T$7:$U$2000, 2, FALSE))","v":1.260621},{"$f":"IF($B71=\"\", \"\", VLOOKUP($B71, CAD!$V$7:$W$2000, 2, FALSE))","v":1.2631399999999999},null,{"$f":"IF(USSW!B68=\"\", \"\", USSW!B68)","v":"2017-10-04"},{"$f":"IF($O71=\"\", \"\", USSW!C68)","v":1.581},{"$f":"IF($O71=\"\", \"\", VLOOKUP($O71, USSW!$D$7:$E$2000, 2, FALSE))","v":1.7436},{"$f":"IF($O71=\"\", \"\", VLOOKUP($O71, USSW!$F$7:$G$2000, 2, FALSE))","v":1.8494999999999999},{"$f":"IF($O71=\"\", \"\", VLOOKUP($O71, USSW!$H$7:$I$2000, 2, FALSE))","v":1.9291},{"$f":"IF($O71=\"\", \"\", VLOOKUP($O71, USSW!$J$7:$K$2000, 2, FALSE))","v":2.0055000000000001},{"$f":"IF($O71=\"\", \"\", VLOOKUP($O71, USSW!$L$7:$M$2000, 2, FALSE))","v":2.0688},{"$f":"IF($O71=\"\", \"\", VLOOKUP($O71, USSW!$N$7:$O$2000, 2, FALSE))","v":2.1297999999999999},{"$f":"IF($O71=\"\", \"\", VLOOKUP($O71, USSW!$P$7:$Q$2000, 2, FALSE))","v":2.1880999999999999},{"$f":"IF($O71=\"\", \"\", VLOOKUP($O71, USSW!$R$7:$S$2000, 2, FALSE))","v":2.2376},{"$f":"IF($O71=\"\", \"\", VLOOKUP($O71, USSW!$T$7:$U$2000, 2, FALSE))","v":2.2825000000000002}]
[null,{"$f":"IF(CAD!B69=\"\", \"\", CAD!B69)","v":"2017-10-04"},{"$f":"IF($B72=\"\", \"\", CAD!C69)","v":1.2476},{"$f":"IF($B72=\"\", \"\",VLOOKUP($B72, CAD!$D$7:$E$2000, 2, FALSE))","v":1.2462299999999999},{"$f":"IF($B72=\"\", \"\",VLOOKUP($B72, CAD!$F$7:$G$2000, 2, FALSE))","v":1.2461150000000001},{"$f":"IF($B72=\"\", \"\",VLOOKUP($B72, CAD!$H$7:$I$2000, 2, FALSE))","v":1.24701},{"$f":"IF($B72=\"\", \"\",VLOOKUP($B72, CAD!$J$7:$K$2000, 2, FALSE))","v":1.24803},{"$f":"IF($B72=\"\", \"\", VLOOKUP($B72, CAD!$L$7:$M$2000, 2, FALSE))","v":1.2495700000000001},{"$f":"IF($B72=\"\", \"\", VLOOKUP($B72, CAD!$N$7:$O$2000, 2, FALSE))","v":1.2503},{"$f":"IF($B72=\"\", \"\", VLOOKUP($B72, CAD!$P$7:$Q$2000, 2, FALSE))","v":1.25207},{"$f":"IF($B72=\"\", \"\", VLOOKUP($B72, CAD!$R$7:$S$2000, 2, FALSE))","v":1.25332},{"$f":"IF($B72=\"\", \"\", VLOOKUP($B72, CAD!$T$7:$U$2000, 2, FALSE))","v":1.254904},{"$f":"IF($B72=\"\", \"\", VLOOKUP($B72, CAD!$V$7:$W$2000, 2, FALSE))","v":1.25667},null,{"$f":"IF(USSW!B69=\"\", \"\", USSW!B69)","v":"2017-10-03"},{"$f":"IF($O72=\"\", \"\", USSW!C69)","v":1.5730999999999999},{"$f":"IF($O72=\"\", \"\", VLOOKUP($O72, USSW!$D$7:$E$2000, 2, FALSE))","v":1.7377},{"$f":"IF($O72=\"\", \"\", VLOOKUP($O72, USSW!$F$7:$G$2000, 2, FALSE))","v":1.8424},{"$f":"IF($O72=\"\", \"\", VLOOKUP($O72, USSW!$H$7:$I$2000, 2, FALSE))","v":1.9248000000000001},{"$f":"IF($O72=\"\", \"\", VLOOKUP($O72, USSW!$J$7:$K$2000, 2, FALSE))","v":2.0045000000000002},{"$f":"IF($O72=\"\", \"\", VLOOKUP($O72, USSW!$L$7:$M$2000, 2, FALSE))","v":2.0668000000000002},{"$f":"IF($O72=\"\", \"\", VLOOKUP($O72, USSW!$N$7:$O$2000, 2, FALSE))","v":2.1299000000000001},{"$f":"IF($O72=\"\", \"\", VLOOKUP($O72, USSW!$P$7:$Q$2000, 2, FALSE))","v":2.1861999999999999},{"$f":"IF($O72=\"\", \"\", VLOOKUP($O72, USSW!$R$7:$S$2000, 2, FALSE))","v":2.2372999999999998},{"$f":"IF($O72=\"\", \"\", VLOOKUP($O72, USSW!$T$7:$U$2000, 2, FALSE))","v":2.2812000000000001}]
[null,{"$f":"IF(CAD!B70=\"\", \"\", CAD!B70)","v":"2017-10-03"},{"$f":"IF($B73=\"\", \"\", CAD!C70)","v":1.2486999999999999},{"$f":"IF($B73=\"\", \"\",VLOOKUP($B73, CAD!$D$7:$E$2000, 2, FALSE))","v":1.2474350000000001},{"$f":"IF($B73=\"\", \"\",VLOOKUP($B73, CAD!$F$7:$G$2000, 2, FALSE))","v":1.24735},{"$f":"IF($B73=\"\", \"\",VLOOKUP($B73, CAD!$H$7:$I$2000, 2, FALSE))","v":1.2478769999999999},{"$f":"IF($B73=\"\", \"\",VLOOKUP($B73, CAD!$J$7:$K$2000, 2, FALSE))","v":1.2488300000000001},{"$f":"IF($B73=\"\", \"\", VLOOKUP($B73, CAD!$L$7:$M$2000, 2, FALSE))","v":1.2495799999999999},{"$f":"IF($B73=\"\", \"\", VLOOKUP($B73, CAD!$N$7:$O$2000, 2, FALSE))","v":1.25023},{"$f":"IF($B73=\"\", \"\", VLOOKUP($B73, CAD!$P$7:$Q$2000, 2, FALSE))","v":1.2514400000000001},{"$f":"IF($B73=\"\", \"\", VLOOKUP($B73, CAD!$R$7:$S$2000, 2, FALSE))","v":1.25278},{"$f":"IF($B73=\"\", \"\", VLOOKUP($B73, CAD!$T$7:$U$2000, 2, FALSE))","v":1.2567710000000001},{"$f":"IF($B73=\"\", \"\", VLOOKUP($B73, CAD!$V$7:$W$2000, 2, FALSE))","v":1.259736},null,{"$f":"IF(USSW!B70=\"\", \"\", USSW!B70)","v":"2017-10-02"},{"$f":"IF($O73=\"\", \"\", USSW!C70)","v":1.5673999999999999},{"$f":"IF($O73=\"\", \"\", VLOOKUP($O73, USSW!$D$7:$E$2000, 2, FALSE))","v":1.7424999999999999},{"$f":"IF($O73=\"\", \"\", VLOOKUP($O73, USSW!$F$7:$G$2000, 2, FALSE))","v":1.853},{"$f":"IF($O73=\"\", \"\", VLOOKUP($O73, USSW!$H$7:$I$2000, 2, FALSE))","v":1.9393},{"$f":"IF($O73=\"\", \"\", VLOOKUP($O73, USSW!$J$7:$K$2000, 2, FALSE))","v":2.0045000000000002},{"$f":"IF($O73=\"\", \"\", VLOOKUP($O73, USSW!$L$7:$M$2000, 2, FALSE))","v":2.0832999999999999},{"$f":"IF($O73=\"\", \"\", VLOOKUP($O73, USSW!$N$7:$O$2000, 2, FALSE))","v":2.1478000000000002},{"$f":"IF($O73=\"\", \"\", VLOOKUP($O73, USSW!$P$7:$Q$2000, 2, FALSE))","v":2.2040999999999999},{"$f":"IF($O73=\"\", \"\", VLOOKUP($O73, USSW!$R$7:$S$2000, 2, FALSE))","v":2.2553999999999998},{"$f":"IF($O73=\"\", \"\", VLOOKUP($O73, USSW!$T$7:$U$2000, 2, FALSE))","v":2.3005}]
[null,{"$f":"IF(CAD!B71=\"\", \"\", CAD!B71)","v":"2017-10-02"},{"$f":"IF($B74=\"\", \"\", CAD!C71)","v":1.2507999999999999},{"$f":"IF($B74=\"\", \"\",VLOOKUP($B74, CAD!$D$7:$E$2000, 2, FALSE))","v":1.2495099999999999},{"$f":"IF($B74=\"\", \"\",VLOOKUP($B74, CAD!$F$7:$G$2000, 2, FALSE))","v":1.2495499999999999},{"$f":"IF($B74=\"\", \"\",VLOOKUP($B74, CAD!$H$7:$I$2000, 2, FALSE))","v":1.2502549999999999},{"$f":"IF($B74=\"\", \"\",VLOOKUP($B74, CAD!$J$7:$K$2000, 2, FALSE))","v":1.25145},{"$f":"IF($B74=\"\", \"\", VLOOKUP($B74, CAD!$L$7:$M$2000, 2, FALSE))","v":1.25268},{"$f":"IF($B74=\"\", \"\", VLOOKUP($B74, CAD!$N$7:$O$2000, 2, FALSE))","v":1.2534099999999999},{"$f":"IF($B74=\"\", \"\", VLOOKUP($B74, CAD!$P$7:$Q$2000, 2, FALSE))","v":1.254888},{"$f":"IF($B74=\"\", \"\", VLOOKUP($B74, CAD!$R$7:$S$2000, 2, FALSE))","v":1.256},{"$f":"IF($B74=\"\", \"\", VLOOKUP($B74, CAD!$T$7:$U$2000, 2, FALSE))","v":1.257808},{"$f":"IF($B74=\"\", \"\", VLOOKUP($B74, CAD!$V$7:$W$2000, 2, FALSE))","v":1.260451},null,{"$f":"IF(USSW!B71=\"\", \"\", USSW!B71)","v":"2017-09-29"},{"$f":"IF($O74=\"\", \"\", USSW!C71)","v":1.5652999999999999},{"$f":"IF($O74=\"\", \"\", VLOOKUP($O74, USSW!$D$7:$E$2000, 2, FALSE))","v":1.7410000000000001},{"$f":"IF($O74=\"\", \"\", VLOOKUP($O74, USSW!$F$7:$G$2000, 2, FALSE))","v":1.8577999999999999},{"$f":"IF($O74=\"\", \"\", VLOOKUP($O74, USSW!$H$7:$I$2000, 2, FALSE))","v":1.9407000000000001},{"$f":"IF($O74=\"\", \"\", VLOOKUP($O74, USSW!$J$7:$K$2000, 2, FALSE))","v":2.0038999999999998},{"$f":"IF($O74=\"\", \"\", VLOOKUP($O74, USSW!$L$7:$M$2000, 2, FALSE))","v":2.0828000000000002},{"$f":"IF($O74=\"\", \"\", VLOOKUP($O74, USSW!$N$7:$O$2000, 2, FALSE))","v":2.1414},{"$f":"IF($O74=\"\", \"\", VLOOKUP($O74, USSW!$P$7:$Q$2000, 2, FALSE))","v":2.1941000000000002},{"$f":"IF($O74=\"\", \"\", VLOOKUP($O74, USSW!$R$7:$S$2000, 2, FALSE))","v":2.2454999999999998},{"$f":"IF($O74=\"\", \"\", VLOOKUP($O74, USSW!$T$7:$U$2000, 2, FALSE))","v":2.2909999999999999}]
[null,{"$f":"IF(CAD!B72=\"\", \"\", CAD!B72)","v":"2017-09-29"},{"$f":"IF($B75=\"\", \"\", CAD!C72)","v":1.2472000000000001},{"$f":"IF($B75=\"\", \"\",VLOOKUP($B75, CAD!$D$7:$E$2000, 2, FALSE))","v":1.2460899999999999},{"$f":"IF($B75=\"\", \"\",VLOOKUP($B75, CAD!$F$7:$G$2000, 2, FALSE))","v":1.2458499999999999},{"$f":"IF($B75=\"\", \"\",VLOOKUP($B75, CAD!$H$7:$I$2000, 2, FALSE))","v":1.2461100000000001},{"$f":"IF($B75=\"\", \"\",VLOOKUP($B75, CAD!$J$7:$K$2000, 2, FALSE))","v":1.246685},{"$f":"IF($B75=\"\", \"\", VLOOKUP($B75, CAD!$L$7:$M$2000, 2, FALSE))","v":1.24733},{"$f":"IF($B75=\"\", \"\", VLOOKUP($B75, CAD!$N$7:$O$2000, 2, FALSE))","v":1.2477799999999999},{"$f":"IF($B75=\"\", \"\", VLOOKUP($B75, CAD!$P$7:$Q$2000, 2, FALSE))","v":1.2490699999999999},{"$f":"IF($B75=\"\", \"\", VLOOKUP($B75, CAD!$R$7:$S$2000, 2, FALSE))","v":1.2501},{"$f":"IF($B75=\"\", \"\", VLOOKUP($B75, CAD!$T$7:$U$2000, 2, FALSE))","v":1.25345},{"$f":"IF($B75=\"\", \"\", VLOOKUP($B75, CAD!$V$7:$W$2000, 2, FALSE))","v":1.25509},null,{"$f":"IF(USSW!B72=\"\", \"\", USSW!B72)","v":"2017-09-28"},{"$f":"IF($O75=\"\", \"\", USSW!C72)","v":1.5497000000000001},{"$f":"IF($O75=\"\", \"\", VLOOKUP($O75, USSW!$D$7:$E$2000, 2, FALSE))","v":1.7015},{"$f":"IF($O75=\"\", \"\", VLOOKUP($O75, USSW!$F$7:$G$2000, 2, FALSE))","v":1.8078000000000001},{"$f":"IF($O75=\"\", \"\", VLOOKUP($O75, USSW!$H$7:$I$2000, 2, FALSE))","v":1.8956},{"$f":"IF($O75=\"\", \"\", VLOOKUP($O75, USSW!$J$7:$K$2000, 2, FALSE))","v":1.9721},{"$f":"IF($O75=\"\", \"\", VLOOKUP($O75, USSW!$L$7:$M$2000, 2, FALSE))","v":2.0430999999999999},{"$f":"IF($O75=\"\", \"\", VLOOKUP($O75, USSW!$N$7:$O$2000, 2, FALSE))","v":2.1088},{"$f":"IF($O75=\"\", \"\", VLOOKUP($O75, USSW!$P$7:$Q$2000, 2, FALSE))","v":2.1674000000000002},{"$f":"IF($O75=\"\", \"\", VLOOKUP($O75, USSW!$R$7:$S$2000, 2, FALSE))","v":2.2227000000000001},{"$f":"IF($O75=\"\", \"\", VLOOKUP($O75, USSW!$T$7:$U$2000, 2, FALSE))","v":2.2682000000000002}]
[null,{"$f":"IF(CAD!B73=\"\", \"\", CAD!B73)","v":"2017-09-28"},{"$f":"IF($B76=\"\", \"\", CAD!C73)","v":1.2427999999999999},{"$f":"IF($B76=\"\", \"\",VLOOKUP($B76, CAD!$D$7:$E$2000, 2, FALSE))","v":1.24203},{"$f":"IF($B76=\"\", \"\",VLOOKUP($B76, CAD!$F$7:$G$2000, 2, FALSE))","v":1.2423500000000001},{"$f":"IF($B76=\"\", \"\",VLOOKUP($B76, CAD!$H$7:$I$2000, 2, FALSE))","v":1.2442},{"$f":"IF($B76=\"\", \"\",VLOOKUP($B76, CAD!$J$7:$K$2000, 2, FALSE))","v":1.24576},{"$f":"IF($B76=\"\", \"\", VLOOKUP($B76, CAD!$L$7:$M$2000, 2, FALSE))","v":1.247185},{"$f":"IF($B76=\"\", \"\", VLOOKUP($B76, CAD!$N$7:$O$2000, 2, FALSE))","v":1.2480199999999999},{"$f":"IF($B76=\"\", \"\", VLOOKUP($B76, CAD!$P$7:$Q$2000, 2, FALSE))","v":1.249593},{"$f":"IF($B76=\"\", \"\", VLOOKUP($B76, CAD!$R$7:$S$2000, 2, FALSE))","v":1.2511000000000001},{"$f":"IF($B76=\"\", \"\", VLOOKUP($B76, CAD!$T$7:$U$2000, 2, FALSE))","v":1.251792},{"$f":"IF($B76=\"\", \"\", VLOOKUP($B76, CAD!$V$7:$W$2000, 2, FALSE))","v":1.2548999999999999},null,{"$f":"IF(USSW!B73=\"\", \"\", USSW!B73)","v":"2017-09-27"},{"$f":"IF($O76=\"\", \"\", USSW!C73)","v":1.5660000000000001},{"$f":"IF($O76=\"\", \"\", VLOOKUP($O76, USSW!$D$7:$E$2000, 2, FALSE))","v":1.7283999999999999},{"$f":"IF($O76=\"\", \"\", VLOOKUP($O76, USSW!$F$7:$G$2000, 2, FALSE))","v":1.8342000000000001},{"$f":"IF($O76=\"\", \"\", VLOOKUP($O76, USSW!$H$7:$I$2000, 2, FALSE))","v":1.9141999999999999},{"$f":"IF($O76=\"\", \"\", VLOOKUP($O76, USSW!$J$7:$K$2000, 2, FALSE))","v":1.9885999999999999},{"$f":"IF($O76=\"\", \"\", VLOOKUP($O76, USSW!$L$7:$M$2000, 2, FALSE))","v":2.0548999999999999},{"$f":"IF($O76=\"\", \"\", VLOOKUP($O76, USSW!$N$7:$O$2000, 2, FALSE))","v":2.1160999999999999},{"$f":"IF($O76=\"\", \"\", VLOOKUP($O76, USSW!$P$7:$Q$2000, 2, FALSE))","v":2.1739999999999999},{"$f":"IF($O76=\"\", \"\", VLOOKUP($O76, USSW!$R$7:$S$2000, 2, FALSE))","v":2.2206999999999999},{"$f":"IF($O76=\"\", \"\", VLOOKUP($O76, USSW!$T$7:$U$2000, 2, FALSE))","v":2.27}]
[null,{"$f":"IF(CAD!B74=\"\", \"\", CAD!B74)","v":"2017-09-27"},{"$f":"IF($B77=\"\", \"\", CAD!C74)","v":1.2477},{"$f":"IF($B77=\"\", \"\",VLOOKUP($B77, CAD!$D$7:$E$2000, 2, FALSE))","v":1.2468999999999999},{"$f":"IF($B77=\"\", \"\",VLOOKUP($B77, CAD!$F$7:$G$2000, 2, FALSE))","v":{"$error":"#N/A"}},{"$f":"IF($B77=\"\", \"\",VLOOKUP($B77, CAD!$H$7:$I$2000, 2, FALSE))","v":1.2494400000000001},{"$f":"IF($B77=\"\", \"\",VLOOKUP($B77, CAD!$J$7:$K$2000, 2, FALSE))","v":1.25075},{"$f":"IF($B77=\"\", \"\", VLOOKUP($B77, CAD!$L$7:$M$2000, 2, FALSE))","v":1.2519199999999999},{"$f":"IF($B77=\"\", \"\", VLOOKUP($B77, CAD!$N$7:$O$2000, 2, FALSE))","v":1.25295},{"$f":"IF($B77=\"\", \"\", VLOOKUP($B77, CAD!$P$7:$Q$2000, 2, FALSE))","v":1.254875},{"$f":"IF($B77=\"\", \"\", VLOOKUP($B77, CAD!$R$7:$S$2000, 2, FALSE))","v":1.25624},{"$f":"IF($B77=\"\", \"\", VLOOKUP($B77, CAD!$T$7:$U$2000, 2, FALSE))","v":1.2594190000000001},{"$f":"IF($B77=\"\", \"\", VLOOKUP($B77, CAD!$V$7:$W$2000, 2, FALSE))","v":1.262575},null,{"$f":"IF(USSW!B74=\"\", \"\", USSW!B74)","v":"2017-09-26"},{"$f":"IF($O77=\"\", \"\", USSW!C74)","v":1.5544},{"$f":"IF($O77=\"\", \"\", VLOOKUP($O77, USSW!$D$7:$E$2000, 2, FALSE))","v":1.7069000000000001},{"$f":"IF($O77=\"\", \"\", VLOOKUP($O77, USSW!$F$7:$G$2000, 2, FALSE))","v":1.8045},{"$f":"IF($O77=\"\", \"\", VLOOKUP($O77, USSW!$H$7:$I$2000, 2, FALSE))","v":1.8762000000000001},{"$f":"IF($O77=\"\", \"\", VLOOKUP($O77, USSW!$J$7:$K$2000, 2, FALSE))","v":1.9316},{"$f":"IF($O77=\"\", \"\", VLOOKUP($O77, USSW!$L$7:$M$2000, 2, FALSE))","v":2.0005000000000002},{"$f":"IF($O77=\"\", \"\", VLOOKUP($O77, USSW!$N$7:$O$2000, 2, FALSE))","v":2.0586000000000002},{"$f":"IF($O77=\"\", \"\", VLOOKUP($O77, USSW!$P$7:$Q$2000, 2, FALSE))","v":2.1059000000000001},{"$f":"IF($O77=\"\", \"\", VLOOKUP($O77, USSW!$R$7:$S$2000, 2, FALSE))","v":2.1549999999999998},{"$f":"IF($O77=\"\", \"\", VLOOKUP($O77, USSW!$T$7:$U$2000, 2, FALSE))","v":2.1978}]
[null,{"$f":"IF(CAD!B75=\"\", \"\", CAD!B75)","v":"2017-09-26"},{"$f":"IF($B78=\"\", \"\", CAD!C75)","v":1.2349000000000001},{"$f":"IF($B78=\"\", \"\",VLOOKUP($B78, CAD!$D$7:$E$2000, 2, FALSE))","v":1.2347269999999999},{"$f":"IF($B78=\"\", \"\",VLOOKUP($B78, CAD!$F$7:$G$2000, 2, FALSE))","v":1.2361500000000001},{"$f":"IF($B78=\"\", \"\",VLOOKUP($B78, CAD!$H$7:$I$2000, 2, FALSE))","v":1.2381899999999999},{"$f":"IF($B78=\"\", \"\",VLOOKUP($B78, CAD!$J$7:$K$2000, 2, FALSE))","v":1.24085},{"$f":"IF($B78=\"\", \"\", VLOOKUP($B78, CAD!$L$7:$M$2000, 2, FALSE))","v":1.2425299999999999},{"$f":"IF($B78=\"\", \"\", VLOOKUP($B78, CAD!$N$7:$O$2000, 2, FALSE))","v":1.2444900000000001},{"$f":"IF($B78=\"\", \"\", VLOOKUP($B78, CAD!$P$7:$Q$2000, 2, FALSE))","v":1.2467900000000001},{"$f":"IF($B78=\"\", \"\", VLOOKUP($B78, CAD!$R$7:$S$2000, 2, FALSE))","v":1.24892},{"$f":"IF($B78=\"\", \"\", VLOOKUP($B78, CAD!$T$7:$U$2000, 2, FALSE))","v":1.25244},{"$f":"IF($B78=\"\", \"\", VLOOKUP($B78, CAD!$V$7:$W$2000, 2, FALSE))","v":1.255568},null,{"$f":"IF(USSW!B75=\"\", \"\", USSW!B75)","v":"2017-09-25"},{"$f":"IF($O78=\"\", \"\", USSW!C75)","v":1.5432999999999999},{"$f":"IF($O78=\"\", \"\", VLOOKUP($O78, USSW!$D$7:$E$2000, 2, FALSE))","v":1.6904999999999999},{"$f":"IF($O78=\"\", \"\", VLOOKUP($O78, USSW!$F$7:$G$2000, 2, FALSE))","v":1.7867},{"$f":"IF($O78=\"\", \"\", VLOOKUP($O78, USSW!$H$7:$I$2000, 2, FALSE))","v":1.8579000000000001},{"$f":"IF($O78=\"\", \"\", VLOOKUP($O78, USSW!$J$7:$K$2000, 2, FALSE))","v":1.9217},{"$f":"IF($O78=\"\", \"\", VLOOKUP($O78, USSW!$L$7:$M$2000, 2, FALSE))","v":1.9844999999999999},{"$f":"IF($O78=\"\", \"\", VLOOKUP($O78, USSW!$N$7:$O$2000, 2, FALSE))","v":2.0402},{"$f":"IF($O78=\"\", \"\", VLOOKUP($O78, USSW!$P$7:$Q$2000, 2, FALSE))","v":2.0951},{"$f":"IF($O78=\"\", \"\", VLOOKUP($O78, USSW!$R$7:$S$2000, 2, FALSE))","v":2.1423000000000001},{"$f":"IF($O78=\"\", \"\", VLOOKUP($O78, USSW!$T$7:$U$2000, 2, FALSE))","v":2.1855000000000002}]
[null,{"$f":"IF(CAD!B76=\"\", \"\", CAD!B76)","v":"2017-09-25"},{"$f":"IF($B79=\"\", \"\", CAD!C76)","v":1.2371000000000001},{"$f":"IF($B79=\"\", \"\",VLOOKUP($B79, CAD!$D$7:$E$2000, 2, FALSE))","v":1.2368779999999999},{"$f":"IF($B79=\"\", \"\",VLOOKUP($B79, CAD!$F$7:$G$2000, 2, FALSE))","v":1.2384999999999999},{"$f":"IF($B79=\"\", \"\",VLOOKUP($B79, CAD!$H$7:$I$2000, 2, FALSE))","v":1.2407900000000001},{"$f":"IF($B79=\"\", \"\",VLOOKUP($B79, CAD!$J$7:$K$2000, 2, FALSE))","v":1.2435499999999999},{"$f":"IF($B79=\"\", \"\", VLOOKUP($B79, CAD!$L$7:$M$2000, 2, FALSE))","v":1.2455099999999999},{"$f":"IF($B79=\"\", \"\", VLOOKUP($B79, CAD!$N$7:$O$2000, 2, FALSE))","v":1.24736},{"$f":"IF($B79=\"\", \"\", VLOOKUP($B79, CAD!$P$7:$Q$2000, 2, FALSE))","v":1.249665},{"$f":"IF($B79=\"\", \"\", VLOOKUP($B79, CAD!$R$7:$S$2000, 2, FALSE))","v":1.25163},{"$f":"IF($B79=\"\", \"\", VLOOKUP($B79, CAD!$T$7:$U$2000, 2, FALSE))","v":1.2530600000000001},{"$f":"IF($B79=\"\", \"\", VLOOKUP($B79, CAD!$V$7:$W$2000, 2, FALSE))","v":1.2556400000000001},null,{"$f":"IF(USSW!B76=\"\", \"\", USSW!B76)","v":"2017-09-22"},{"$f":"IF($O79=\"\", \"\", USSW!C76)","v":1.5502},{"$f":"IF($O79=\"\", \"\", VLOOKUP($O79, USSW!$D$7:$E$2000, 2, FALSE))","v":1.7015},{"$f":"IF($O79=\"\", \"\", VLOOKUP($O79, USSW!$F$7:$G$2000, 2, FALSE))","v":1.8031999999999999},{"$f":"IF($O79=\"\", \"\", VLOOKUP($O79, USSW!$H$7:$I$2000, 2, FALSE))","v":1.8806},{"$f":"IF($O79=\"\", \"\", VLOOKUP($O79, USSW!$J$7:$K$2000, 2, FALSE))","v":1.9510000000000001},{"$f":"IF($O79=\"\", \"\", VLOOKUP($O79, USSW!$L$7:$M$2000, 2, FALSE))","v":2.0116999999999998},{"$f":"IF($O79=\"\", \"\", VLOOKUP($O79, USSW!$N$7:$O$2000, 2, FALSE))","v":2.0722},{"$f":"IF($O79=\"\", \"\", VLOOKUP($O79, USSW!$P$7:$Q$2000, 2, FALSE))","v":2.1267999999999998},{"$f":"IF($O79=\"\", \"\", VLOOKUP($O79, USSW!$R$7:$S$2000, 2, FALSE))","v":2.1751},{"$f":"IF($O79=\"\", \"\", VLOOKUP($O79, USSW!$T$7:$U$2000, 2, FALSE))","v":2.2187999999999999}]
[null,{"$f":"IF(CAD!B77=\"\", \"\", CAD!B77)","v":"2017-09-22"},{"$f":"IF($B80=\"\", \"\", CAD!C77)","v":1.2339},{"$f":"IF($B80=\"\", \"\",VLOOKUP($B80, CAD!$D$7:$E$2000, 2, FALSE))","v":1.2338199999999999},{"$f":"IF($B80=\"\", \"\",VLOOKUP($B80, CAD!$F$7:$G$2000, 2, FALSE))","v":1.2353749999999999},{"$f":"IF($B80=\"\", \"\",VLOOKUP($B80, CAD!$H$7:$I$2000, 2, FALSE))","v":1.237495},{"$f":"IF($B80=\"\", \"\",VLOOKUP($B80, CAD!$J$7:$K$2000, 2, FALSE))","v":1.2394499999999999},{"$f":"IF($B80=\"\", \"\", VLOOKUP($B80, CAD!$L$7:$M$2000, 2, FALSE))","v":1.241125},{"$f":"IF($B80=\"\", \"\", VLOOKUP($B80, CAD!$N$7:$O$2000, 2, FALSE))","v":1.2428999999999999},{"$f":"IF($B80=\"\", \"\", VLOOKUP($B80, CAD!$P$7:$Q$2000, 2, FALSE))","v":1.2452399999999999},{"$f":"IF($B80=\"\", \"\", VLOOKUP($B80, CAD!$R$7:$S$2000, 2, FALSE))","v":1.2475700000000001},{"$f":"IF($B80=\"\", \"\", VLOOKUP($B80, CAD!$T$7:$U$2000, 2, FALSE))","v":1.2484599999999999},{"$f":"IF($B80=\"\", \"\", VLOOKUP($B80, CAD!$V$7:$W$2000, 2, FALSE))","v":1.25122},null,{"$f":"IF(USSW!B77=\"\", \"\", USSW!B77)","v":"2017-09-21"},{"$f":"IF($O80=\"\", \"\", USSW!C77)","v":1.5555000000000001},{"$f":"IF($O80=\"\", \"\", VLOOKUP($O80, USSW!$D$7:$E$2000, 2, FALSE))","v":1.7135},{"$f":"IF($O80=\"\", \"\", VLOOKUP($O80, USSW!$F$7:$G$2000, 2, FALSE))","v":1.8208},{"$f":"IF($O80=\"\", \"\", VLOOKUP($O80, USSW!$H$7:$I$2000, 2, FALSE))","v":1.9028},{"$f":"IF($O80=\"\", \"\", VLOOKUP($O80, USSW!$J$7:$K$2000, 2, FALSE))","v":1.9718},{"$f":"IF($O80=\"\", \"\", VLOOKUP($O80, USSW!$L$7:$M$2000, 2, FALSE))","v":2.0373999999999999},{"$f":"IF($O80=\"\", \"\", VLOOKUP($O80, USSW!$N$7:$O$2000, 2, FALSE))","v":2.1002000000000001},{"$f":"IF($O80=\"\", \"\", VLOOKUP($O80, USSW!$P$7:$Q$2000, 2, FALSE))","v":2.1549999999999998},{"$f":"IF($O80=\"\", \"\", VLOOKUP($O80, USSW!$R$7:$S$2000, 2, FALSE))","v":2.2023000000000001},{"$f":"IF($O80=\"\", \"\", VLOOKUP($O80, USSW!$T$7:$U$2000, 2, FALSE))","v":2.2477}]
[null,{"$f":"IF(CAD!B78=\"\", \"\", CAD!B78)","v":"2017-09-21"},{"$f":"IF($B81=\"\", \"\", CAD!C78)","v":1.2326999999999999},{"$f":"IF($B81=\"\", \"\",VLOOKUP($B81, CAD!$D$7:$E$2000, 2, FALSE))","v":1.2324999999999999},{"$f":"IF($B81=\"\", \"\",VLOOKUP($B81, CAD!$F$7:$G$2000, 2, FALSE))","v":1.2337100000000001},{"$f":"IF($B81=\"\", \"\",VLOOKUP($B81, CAD!$H$7:$I$2000, 2, FALSE))","v":1.23525},{"$f":"IF($B81=\"\", \"\",VLOOKUP($B81, CAD!$J$7:$K$2000, 2, FALSE))","v":1.23685},{"$f":"IF($B81=\"\", \"\", VLOOKUP($B81, CAD!$L$7:$M$2000, 2, FALSE))","v":1.2378199999999999},{"$f":"IF($B81=\"\", \"\", VLOOKUP($B81, CAD!$N$7:$O$2000, 2, FALSE))","v":1.23922},{"$f":"IF($B81=\"\", \"\", VLOOKUP($B81, CAD!$P$7:$Q$2000, 2, FALSE))","v":1.2412749999999999},{"$f":"IF($B81=\"\", \"\", VLOOKUP($B81, CAD!$R$7:$S$2000, 2, FALSE))","v":1.24305},{"$f":"IF($B81=\"\", \"\", VLOOKUP($B81, CAD!$T$7:$U$2000, 2, FALSE))","v":1.2459100000000001},{"$f":"IF($B81=\"\", \"\", VLOOKUP($B81, CAD!$V$7:$W$2000, 2, FALSE))","v":1.24919},null,{"$f":"IF(USSW!B78=\"\", \"\", USSW!B78)","v":"2017-09-20"},{"$f":"IF($O81=\"\", \"\", USSW!C78)","v":1.5461},{"$f":"IF($O81=\"\", \"\", VLOOKUP($O81, USSW!$D$7:$E$2000, 2, FALSE))","v":1.7013},{"$f":"IF($O81=\"\", \"\", VLOOKUP($O81, USSW!$F$7:$G$2000, 2, FALSE))","v":1.8047},{"$f":"IF($O81=\"\", \"\", VLOOKUP($O81, USSW!$H$7:$I$2000, 2, FALSE))","v":1.8867},{"$f":"IF($O81=\"\", \"\", VLOOKUP($O81, USSW!$J$7:$K$2000, 2, FALSE))","v":1.9587000000000001},{"$f":"IF($O81=\"\", \"\", VLOOKUP($O81, USSW!$L$7:$M$2000, 2, FALSE))","v":2.024},{"$f":"IF($O81=\"\", \"\", VLOOKUP($O81, USSW!$N$7:$O$2000, 2, FALSE))","v":2.0880999999999998},{"$f":"IF($O81=\"\", \"\", VLOOKUP($O81, USSW!$P$7:$Q$2000, 2, FALSE))","v":2.1436000000000002},{"$f":"IF($O81=\"\", \"\", VLOOKUP($O81, USSW!$R$7:$S$2000, 2, FALSE))","v":2.1903999999999999},{"$f":"IF($O81=\"\", \"\", VLOOKUP($O81, USSW!$T$7:$U$2000, 2, FALSE))","v":2.2332000000000001}]
[null,{"$f":"IF(CAD!B79=\"\", \"\", CAD!B79)","v":"2017-09-20"},{"$f":"IF($B82=\"\", \"\", CAD!C79)","v":1.2323},{"$f":"IF($B82=\"\", \"\",VLOOKUP($B82, CAD!$D$7:$E$2000, 2, FALSE))","v":1.2320869999999999},{"$f":"IF($B82=\"\", \"\",VLOOKUP($B82, CAD!$F$7:$G$2000, 2, FALSE))","v":1.23343},{"$f":"IF($B82=\"\", \"\",VLOOKUP($B82, CAD!$H$7:$I$2000, 2, FALSE))","v":1.2350000000000001},{"$f":"IF($B82=\"\", \"\",VLOOKUP($B82, CAD!$J$7:$K$2000, 2, FALSE))","v":1.236415},{"$f":"IF($B82=\"\", \"\", VLOOKUP($B82, CAD!$L$7:$M$2000, 2, FALSE))","v":1.2376549999999999},{"$f":"IF($B82=\"\", \"\", VLOOKUP($B82, CAD!$N$7:$O$2000, 2, FALSE))","v":1.2385349999999999},{"$f":"IF($B82=\"\", \"\", VLOOKUP($B82, CAD!$P$7:$Q$2000, 2, FALSE))","v":1.2406900000000001},{"$f":"IF($B82=\"\", \"\", VLOOKUP($B82, CAD!$R$7:$S$2000, 2, FALSE))","v":1.2421599999999999},{"$f":"IF($B82=\"\", \"\", VLOOKUP($B82, CAD!$T$7:$U$2000, 2, FALSE))","v":1.2440899999999999},{"$f":"IF($B82=\"\", \"\", VLOOKUP($B82, CAD!$V$7:$W$2000, 2, FALSE))","v":1.24743},null,{"$f":"IF(USSW!B79=\"\", \"\", USSW!B79)","v":"2017-09-19"},{"$f":"IF($O82=\"\", \"\", USSW!C79)","v":1.5236000000000001},{"$f":"IF($O82=\"\", \"\", VLOOKUP($O82, USSW!$D$7:$E$2000, 2, FALSE))","v":1.6635},{"$f":"IF($O82=\"\", \"\", VLOOKUP($O82, USSW!$F$7:$G$2000, 2, FALSE))","v":1.7614000000000001},{"$f":"IF($O82=\"\", \"\", VLOOKUP($O82, USSW!$H$7:$I$2000, 2, FALSE))","v":1.8427},{"$f":"IF($O82=\"\", \"\", VLOOKUP($O82, USSW!$J$7:$K$2000, 2, FALSE))","v":1.9168000000000001},{"$f":"IF($O82=\"\", \"\", VLOOKUP($O82, USSW!$L$7:$M$2000, 2, FALSE))","v":1.9854000000000001},{"$f":"IF($O82=\"\", \"\", VLOOKUP($O82, USSW!$N$7:$O$2000, 2, FALSE))","v":2.0522},{"$f":"IF($O82=\"\", \"\", VLOOKUP($O82, USSW!$P$7:$Q$2000, 2, FALSE))","v":2.1097999999999999},{"$f":"IF($O82=\"\", \"\", VLOOKUP($O82, USSW!$R$7:$S$2000, 2, FALSE))","v":2.1617000000000002},{"$f":"IF($O82=\"\", \"\", VLOOKUP($O82, USSW!$T$7:$U$2000, 2, FALSE))","v":2.2086000000000001}]
[null,{"$f":"IF(CAD!B80=\"\", \"\", CAD!B80)","v":"2017-09-19"},{"$f":"IF($B83=\"\", \"\", CAD!C80)","v":1.2292000000000001},{"$f":"IF($B83=\"\", \"\",VLOOKUP($B83, CAD!$D$7:$E$2000, 2, FALSE))","v":1.2290350000000001},{"$f":"IF($B83=\"\", \"\",VLOOKUP($B83, CAD!$F$7:$G$2000, 2, FALSE))","v":1.2304649999999999},{"$f":"IF($B83=\"\", \"\",VLOOKUP($B83, CAD!$H$7:$I$2000, 2, FALSE))","v":1.2327900000000001},{"$f":"IF($B83=\"\", \"\",VLOOKUP($B83, CAD!$J$7:$K$2000, 2, FALSE))","v":1.2348429999999999},{"$f":"IF($B83=\"\", \"\", VLOOKUP($B83, CAD!$L$7:$M$2000, 2, FALSE))","v":1.236145},{"$f":"IF($B83=\"\", \"\", VLOOKUP($B83, CAD!$N$7:$O$2000, 2, FALSE))","v":1.2375700000000001},{"$f":"IF($B83=\"\", \"\", VLOOKUP($B83, CAD!$P$7:$Q$2000, 2, FALSE))","v":1.2395750000000001},{"$f":"IF($B83=\"\", \"\", VLOOKUP($B83, CAD!$R$7:$S$2000, 2, FALSE))","v":1.24146},{"$f":"IF($B83=\"\", \"\", VLOOKUP($B83, CAD!$T$7:$U$2000, 2, FALSE))","v":1.2423500000000001},{"$f":"IF($B83=\"\", \"\", VLOOKUP($B83, CAD!$V$7:$W$2000, 2, FALSE))","v":1.245385},null,{"$f":"IF(USSW!B80=\"\", \"\", USSW!B80)","v":"2017-09-18"},{"$f":"IF($O83=\"\", \"\", USSW!C80)","v":1.5161},{"$f":"IF($O83=\"\", \"\", VLOOKUP($O83, USSW!$D$7:$E$2000, 2, FALSE))","v":1.6531},{"$f":"IF($O83=\"\", \"\", VLOOKUP($O83, USSW!$F$7:$G$2000, 2, FALSE))","v":1.7569999999999999},{"$f":"IF($O83=\"\", \"\", VLOOKUP($O83, USSW!$H$7:$I$2000, 2, FALSE))","v":1.8378000000000001},{"$f":"IF($O83=\"\", \"\", VLOOKUP($O83, USSW!$J$7:$K$2000, 2, FALSE))","v":1.9119999999999999},{"$f":"IF($O83=\"\", \"\", VLOOKUP($O83, USSW!$L$7:$M$2000, 2, FALSE))","v":1.9810000000000001},{"$f":"IF($O83=\"\", \"\", VLOOKUP($O83, USSW!$N$7:$O$2000, 2, FALSE))","v":2.0427},{"$f":"IF($O83=\"\", \"\", VLOOKUP($O83, USSW!$P$7:$Q$2000, 2, FALSE))","v":2.1023000000000001},{"$f":"IF($O83=\"\", \"\", VLOOKUP($O83, USSW!$R$7:$S$2000, 2, FALSE))","v":2.1536},{"$f":"IF($O83=\"\", \"\", VLOOKUP($O83, USSW!$T$7:$U$2000, 2, FALSE))","v":2.1987000000000001}]
[null,{"$f":"IF(CAD!B81=\"\", \"\", CAD!B81)","v":"2017-09-18"},{"$f":"IF($B84=\"\", \"\", CAD!C81)","v":1.2291000000000001},{"$f":"IF($B84=\"\", \"\",VLOOKUP($B84, CAD!$D$7:$E$2000, 2, FALSE))","v":1.22923},{"$f":"IF($B84=\"\", \"\",VLOOKUP($B84, CAD!$F$7:$G$2000, 2, FALSE))","v":1.2309380000000001},{"$f":"IF($B84=\"\", \"\",VLOOKUP($B84, CAD!$H$7:$I$2000, 2, FALSE))","v":1.23305},{"$f":"IF($B84=\"\", \"\",VLOOKUP($B84, CAD!$J$7:$K$2000, 2, FALSE))","v":1.234955},{"$f":"IF($B84=\"\", \"\", VLOOKUP($B84, CAD!$L$7:$M$2000, 2, FALSE))","v":1.2364999999999999},{"$f":"IF($B84=\"\", \"\", VLOOKUP($B84, CAD!$N$7:$O$2000, 2, FALSE))","v":1.2287999999999999},{"$f":"IF($B84=\"\", \"\", VLOOKUP($B84, CAD!$P$7:$Q$2000, 2, FALSE))","v":1.2287999999999999},{"$f":"IF($B84=\"\", \"\", VLOOKUP($B84, CAD!$R$7:$S$2000, 2, FALSE))","v":1.2290000000000001},{"$f":"IF($B84=\"\", \"\", VLOOKUP($B84, CAD!$T$7:$U$2000, 2, FALSE))","v":1.2465250000000001},{"$f":"IF($B84=\"\", \"\", VLOOKUP($B84, CAD!$V$7:$W$2000, 2, FALSE))","v":1.2490600000000001},null,{"$f":"IF(USSW!B81=\"\", \"\", USSW!B81)","v":"2017-09-15"},{"$f":"IF($O84=\"\", \"\", USSW!C81)","v":1.5004999999999999},{"$f":"IF($O84=\"\", \"\", VLOOKUP($O84, USSW!$D$7:$E$2000, 2, FALSE))","v":1.6375},{"$f":"IF($O84=\"\", \"\", VLOOKUP($O84, USSW!$F$7:$G$2000, 2, FALSE))","v":1.7367999999999999},{"$f":"IF($O84=\"\", \"\", VLOOKUP($O84, USSW!$H$7:$I$2000, 2, FALSE))","v":1.8185},{"$f":"IF($O84=\"\", \"\", VLOOKUP($O84, USSW!$J$7:$K$2000, 2, FALSE))","v":1.8894},{"$f":"IF($O84=\"\", \"\", VLOOKUP($O84, USSW!$L$7:$M$2000, 2, FALSE))","v":1.9590000000000001},{"$f":"IF($O84=\"\", \"\", VLOOKUP($O84, USSW!$N$7:$O$2000, 2, FALSE))","v":2.0164},{"$f":"IF($O84=\"\", \"\", VLOOKUP($O84, USSW!$P$7:$Q$2000, 2, FALSE))","v":2.077},{"$f":"IF($O84=\"\", \"\", VLOOKUP($O84, USSW!$R$7:$S$2000, 2, FALSE))","v":2.1276999999999999},{"$f":"IF($O84=\"\", \"\", VLOOKUP($O84, USSW!$T$7:$U$2000, 2, FALSE))","v":2.1734}]
[null,{"$f":"IF(CAD!B82=\"\", \"\", CAD!B82)","v":"2017-09-15"},{"$f":"IF($B85=\"\", \"\", CAD!C82)","v":1.2198},{"$f":"IF($B85=\"\", \"\",VLOOKUP($B85, CAD!$D$7:$E$2000, 2, FALSE))","v":1.22045},{"$f":"IF($B85=\"\", \"\",VLOOKUP($B85, CAD!$F$7:$G$2000, 2, FALSE))","v":1.2230799999999999},{"$f":"IF($B85=\"\", \"\",VLOOKUP($B85, CAD!$H$7:$I$2000, 2, FALSE))","v":1.2254149999999999},{"$f":"IF($B85=\"\", \"\",VLOOKUP($B85, CAD!$J$7:$K$2000, 2, FALSE))","v":1.2278549999999999},{"$f":"IF($B85=\"\", \"\", VLOOKUP($B85, CAD!$L$7:$M$2000, 2, FALSE))","v":1.229895},{"$f":"IF($B85=\"\", \"\", VLOOKUP($B85, CAD!$N$7:$O$2000, 2, FALSE))","v":1.2314400000000001},{"$f":"IF($B85=\"\", \"\", VLOOKUP($B85, CAD!$P$7:$Q$2000, 2, FALSE))","v":1.2336800000000001},{"$f":"IF($B85=\"\", \"\", VLOOKUP($B85, CAD!$R$7:$S$2000, 2, FALSE))","v":1.235735},{"$f":"IF($B85=\"\", \"\", VLOOKUP($B85, CAD!$T$7:$U$2000, 2, FALSE))","v":1.2380949999999999},{"$f":"IF($B85=\"\", \"\", VLOOKUP($B85, CAD!$V$7:$W$2000, 2, FALSE))","v":1.24139},null,{"$f":"IF(USSW!B82=\"\", \"\", USSW!B82)","v":"2017-09-14"},{"$f":"IF($O85=\"\", \"\", USSW!C82)","v":1.488},{"$f":"IF($O85=\"\", \"\", VLOOKUP($O85, USSW!$D$7:$E$2000, 2, FALSE))","v":1.613},{"$f":"IF($O85=\"\", \"\", VLOOKUP($O85, USSW!$F$7:$G$2000, 2, FALSE))","v":1.7081999999999999},{"$f":"IF($O85=\"\", \"\", VLOOKUP($O85, USSW!$H$7:$I$2000, 2, FALSE))","v":1.7887},{"$f":"IF($O85=\"\", \"\", VLOOKUP($O85, USSW!$J$7:$K$2000, 2, FALSE))","v":1.865},{"$f":"IF($O85=\"\", \"\", VLOOKUP($O85, USSW!$L$7:$M$2000, 2, FALSE))","v":1.9315},{"$f":"IF($O85=\"\", \"\", VLOOKUP($O85, USSW!$N$7:$O$2000, 2, FALSE))","v":1.9954000000000001},{"$f":"IF($O85=\"\", \"\", VLOOKUP($O85, USSW!$P$7:$Q$2000, 2, FALSE))","v":2.0543999999999998},{"$f":"IF($O85=\"\", \"\", VLOOKUP($O85, USSW!$R$7:$S$2000, 2, FALSE))","v":2.1082000000000001},{"$f":"IF($O85=\"\", \"\", VLOOKUP($O85, USSW!$T$7:$U$2000, 2, FALSE))","v":2.1547999999999998}]
[null,{"$f":"IF(CAD!B83=\"\", \"\", CAD!B83)","v":"2017-09-14"},{"$f":"IF($B86=\"\", \"\", CAD!C83)","v":1.2164999999999999},{"$f":"IF($B86=\"\", \"\",VLOOKUP($B86, CAD!$D$7:$E$2000, 2, FALSE))","v":1.217211},{"$f":"IF($B86=\"\", \"\",VLOOKUP($B86, CAD!$F$7:$G$2000, 2, FALSE))","v":1.2197499999999999},{"$f":"IF($B86=\"\", \"\",VLOOKUP($B86, CAD!$H$7:$I$2000, 2, FALSE))","v":1.2222200000000001},{"$f":"IF($B86=\"\", \"\",VLOOKUP($B86, CAD!$J$7:$K$2000, 2, FALSE))","v":1.22489},{"$f":"IF($B86=\"\", \"\", VLOOKUP($B86, CAD!$L$7:$M$2000, 2, FALSE))","v":1.22665},{"$f":"IF($B86=\"\", \"\", VLOOKUP($B86, CAD!$N$7:$O$2000, 2, FALSE))","v":1.2284999999999999},{"$f":"IF($B86=\"\", \"\", VLOOKUP($B86, CAD!$P$7:$Q$2000, 2, FALSE))","v":1.2305299999999999},{"$f":"IF($B86=\"\", \"\", VLOOKUP($B86, CAD!$R$7:$S$2000, 2, FALSE))","v":1.2322949999999999},{"$f":"IF($B86=\"\", \"\", VLOOKUP($B86, CAD!$T$7:$U$2000, 2, FALSE))","v":1.234545},{"$f":"IF($B86=\"\", \"\", VLOOKUP($B86, CAD!$V$7:$W$2000, 2, FALSE))","v":1.23759},null,{"$f":"IF(USSW!B83=\"\", \"\", USSW!B83)","v":"2017-09-13"},{"$f":"IF($O86=\"\", \"\", USSW!C83)","v":1.4691000000000001},{"$f":"IF($O86=\"\", \"\", VLOOKUP($O86, USSW!$D$7:$E$2000, 2, FALSE))","v":1.5885},{"$f":"IF($O86=\"\", \"\", VLOOKUP($O86, USSW!$F$7:$G$2000, 2, FALSE))","v":1.6835},{"$f":"IF($O86=\"\", \"\", VLOOKUP($O86, USSW!$H$7:$I$2000, 2, FALSE))","v":1.7659},{"$f":"IF($O86=\"\", \"\", VLOOKUP($O86, USSW!$J$7:$K$2000, 2, FALSE))","v":1.8452999999999999},{"$f":"IF($O86=\"\", \"\", VLOOKUP($O86, USSW!$L$7:$M$2000, 2, FALSE))","v":1.9155},{"$f":"IF($O86=\"\", \"\", VLOOKUP($O86, USSW!$N$7:$O$2000, 2, FALSE))","v":1.9863999999999999},{"$f":"IF($O86=\"\", \"\", VLOOKUP($O86, USSW!$P$7:$Q$2000, 2, FALSE))","v":2.0442999999999998},{"$f":"IF($O86=\"\", \"\", VLOOKUP($O86, USSW!$R$7:$S$2000, 2, FALSE))","v":2.0983000000000001},{"$f":"IF($O86=\"\", \"\", VLOOKUP($O86, USSW!$T$7:$U$2000, 2, FALSE))","v":2.1478000000000002}]
[null,{"$f":"IF(CAD!B84=\"\", \"\", CAD!B84)","v":"2017-09-13"},{"$f":"IF($B87=\"\", \"\", CAD!C84)","v":1.2172000000000001},{"$f":"IF($B87=\"\", \"\",VLOOKUP($B87, CAD!$D$7:$E$2000, 2, FALSE))","v":1.2179599999999999},{"$f":"IF($B87=\"\", \"\",VLOOKUP($B87, CAD!$F$7:$G$2000, 2, FALSE))","v":1.22078},{"$f":"IF($B87=\"\", \"\",VLOOKUP($B87, CAD!$H$7:$I$2000, 2, FALSE))","v":1.2234},{"$f":"IF($B87=\"\", \"\",VLOOKUP($B87, CAD!$J$7:$K$2000, 2, FALSE))","v":1.22662},{"$f":"IF($B87=\"\", \"\", VLOOKUP($B87, CAD!$L$7:$M$2000, 2, FALSE))","v":1.22922},{"$f":"IF($B87=\"\", \"\", VLOOKUP($B87, CAD!$N$7:$O$2000, 2, FALSE))","v":1.2309349999999999},{"$f":"IF($B87=\"\", \"\", VLOOKUP($B87, CAD!$P$7:$Q$2000, 2, FALSE))","v":1.23272},{"$f":"IF($B87=\"\", \"\", VLOOKUP($B87, CAD!$R$7:$S$2000, 2, FALSE))","v":1.2345550000000001},{"$f":"IF($B87=\"\", \"\", VLOOKUP($B87, CAD!$T$7:$U$2000, 2, FALSE))","v":1.23736},{"$f":"IF($B87=\"\", \"\", VLOOKUP($B87, CAD!$V$7:$W$2000, 2, FALSE))","v":1.2403550000000001},null,{"$f":"IF(USSW!B84=\"\", \"\", USSW!B84)","v":"2017-09-12"},{"$f":"IF($O87=\"\", \"\", USSW!C84)","v":1.4544999999999999},{"$f":"IF($O87=\"\", \"\", VLOOKUP($O87, USSW!$D$7:$E$2000, 2, FALSE))","v":1.5674999999999999},{"$f":"IF($O87=\"\", \"\", VLOOKUP($O87, USSW!$F$7:$G$2000, 2, FALSE))","v":1.6586000000000001},{"$f":"IF($O87=\"\", \"\", VLOOKUP($O87, USSW!$H$7:$I$2000, 2, FALSE))","v":1.74},{"$f":"IF($O87=\"\", \"\", VLOOKUP($O87, USSW!$J$7:$K$2000, 2, FALSE))","v":1.8159000000000001},{"$f":"IF($O87=\"\", \"\", VLOOKUP($O87, USSW!$L$7:$M$2000, 2, FALSE))","v":1.8871},{"$f":"IF($O87=\"\", \"\", VLOOKUP($O87, USSW!$N$7:$O$2000, 2, FALSE))","v":1.9543999999999999},{"$f":"IF($O87=\"\", \"\", VLOOKUP($O87, USSW!$P$7:$Q$2000, 2, FALSE))","v":2.0150000000000001},{"$f":"IF($O87=\"\", \"\", VLOOKUP($O87, USSW!$R$7:$S$2000, 2, FALSE))","v":2.0697999999999999},{"$f":"IF($O87=\"\", \"\", VLOOKUP($O87, USSW!$T$7:$U$2000, 2, FALSE))","v":2.1187}]
[null,{"$f":"IF(CAD!B85=\"\", \"\", CAD!B85)","v":"2017-09-12"},{"$f":"IF($B88=\"\", \"\", CAD!C85)","v":1.2185999999999999},{"$f":"IF($B88=\"\", \"\",VLOOKUP($B88, CAD!$D$7:$E$2000, 2, FALSE))","v":1.219425},{"$f":"IF($B88=\"\", \"\",VLOOKUP($B88, CAD!$F$7:$G$2000, 2, FALSE))","v":1.222},{"$f":"IF($B88=\"\", \"\",VLOOKUP($B88, CAD!$H$7:$I$2000, 2, FALSE))","v":1.2249000000000001},{"$f":"IF($B88=\"\", \"\",VLOOKUP($B88, CAD!$J$7:$K$2000, 2, FALSE))","v":1.2278100000000001},{"$f":"IF($B88=\"\", \"\", VLOOKUP($B88, CAD!$L$7:$M$2000, 2, FALSE))","v":1.2302999999999999},{"$f":"IF($B88=\"\", \"\", VLOOKUP($B88, CAD!$N$7:$O$2000, 2, FALSE))","v":1.2321200000000001},{"$f":"IF($B88=\"\", \"\", VLOOKUP($B88, CAD!$P$7:$Q$2000, 2, FALSE))","v":1.2341899999999999},{"$f":"IF($B88=\"\", \"\", VLOOKUP($B88, CAD!$R$7:$S$2000, 2, FALSE))","v":1.2361949999999999},{"$f":"IF($B88=\"\", \"\", VLOOKUP($B88, CAD!$T$7:$U$2000, 2, FALSE))","v":1.2385600000000001},{"$f":"IF($B88=\"\", \"\", VLOOKUP($B88, CAD!$V$7:$W$2000, 2, FALSE))","v":1.2417400000000001},null,{"$f":"IF(USSW!B85=\"\", \"\", USSW!B85)","v":"2017-09-11"},{"$f":"IF($O88=\"\", \"\", USSW!C85)","v":1.4413},{"$f":"IF($O88=\"\", \"\", VLOOKUP($O88, USSW!$D$7:$E$2000, 2, FALSE))","v":1.548},{"$f":"IF($O88=\"\", \"\", VLOOKUP($O88, USSW!$F$7:$G$2000, 2, FALSE))","v":1.6351},{"$f":"IF($O88=\"\", \"\", VLOOKUP($O88, USSW!$H$7:$I$2000, 2, FALSE))","v":1.7112000000000001},{"$f":"IF($O88=\"\", \"\", VLOOKUP($O88, USSW!$J$7:$K$2000, 2, FALSE))","v":1.7849999999999999},{"$f":"IF($O88=\"\", \"\", VLOOKUP($O88, USSW!$L$7:$M$2000, 2, FALSE))","v":1.8535999999999999},{"$f":"IF($O88=\"\", \"\", VLOOKUP($O88, USSW!$N$7:$O$2000, 2, FALSE))","v":1.9226000000000001},{"$f":"IF($O88=\"\", \"\", VLOOKUP($O88, USSW!$P$7:$Q$2000, 2, FALSE))","v":1.9817},{"$f":"IF($O88=\"\", \"\", VLOOKUP($O88, USSW!$R$7:$S$2000, 2, FALSE))","v":2.0371999999999999},{"$f":"IF($O88=\"\", \"\", VLOOKUP($O88, USSW!$T$7:$U$2000, 2, FALSE))","v":2.0848}]
[null,{"$f":"IF(CAD!B86=\"\", \"\", CAD!B86)","v":"2017-09-11"},{"$f":"IF($B89=\"\", \"\", CAD!C86)","v":1.2110000000000001},{"$f":"IF($B89=\"\", \"\",VLOOKUP($B89, CAD!$D$7:$E$2000, 2, FALSE))","v":1.2120040000000001},{"$f":"IF($B89=\"\", \"\",VLOOKUP($B89, CAD!$F$7:$G$2000, 2, FALSE))","v":1.21506},{"$f":"IF($B89=\"\", \"\",VLOOKUP($B89, CAD!$H$7:$I$2000, 2, FALSE))","v":1.2178599999999999},{"$f":"IF($B89=\"\", \"\",VLOOKUP($B89, CAD!$J$7:$K$2000, 2, FALSE))","v":1.2210099999999999},{"$f":"IF($B89=\"\", \"\", VLOOKUP($B89, CAD!$L$7:$M$2000, 2, FALSE))","v":1.223495},{"$f":"IF($B89=\"\", \"\", VLOOKUP($B89, CAD!$N$7:$O$2000, 2, FALSE))","v":1.22553},{"$f":"IF($B89=\"\", \"\", VLOOKUP($B89, CAD!$P$7:$Q$2000, 2, FALSE))","v":1.22787},{"$f":"IF($B89=\"\", \"\", VLOOKUP($B89, CAD!$R$7:$S$2000, 2, FALSE))","v":1.2300450000000001},{"$f":"IF($B89=\"\", \"\", VLOOKUP($B89, CAD!$T$7:$U$2000, 2, FALSE))","v":1.23289},{"$f":"IF($B89=\"\", \"\", VLOOKUP($B89, CAD!$V$7:$W$2000, 2, FALSE))","v":1.2360150000000001},null,{"$f":"IF(USSW!B86=\"\", \"\", USSW!B86)","v":"2017-09-08"},{"$f":"IF($O89=\"\", \"\", USSW!C86)","v":1.4105000000000001},{"$f":"IF($O89=\"\", \"\", VLOOKUP($O89, USSW!$D$7:$E$2000, 2, FALSE))","v":1.502},{"$f":"IF($O89=\"\", \"\", VLOOKUP($O89, USSW!$F$7:$G$2000, 2, FALSE))","v":1.5783},{"$f":"IF($O89=\"\", \"\", VLOOKUP($O89, USSW!$H$7:$I$2000, 2, FALSE))","v":1.6483000000000001},{"$f":"IF($O89=\"\", \"\", VLOOKUP($O89, USSW!$J$7:$K$2000, 2, FALSE))","v":1.7168000000000001},{"$f":"IF($O89=\"\", \"\", VLOOKUP($O89, USSW!$L$7:$M$2000, 2, FALSE))","v":1.7859},{"$f":"IF($O89=\"\", \"\", VLOOKUP($O89, USSW!$N$7:$O$2000, 2, FALSE))","v":1.8511},{"$f":"IF($O89=\"\", \"\", VLOOKUP($O89, USSW!$P$7:$Q$2000, 2, FALSE))","v":1.9101999999999999},{"$f":"IF($O89=\"\", \"\", VLOOKUP($O89, USSW!$R$7:$S$2000, 2, FALSE))","v":1.9641999999999999},{"$f":"IF($O89=\"\", \"\", VLOOKUP($O89, USSW!$T$7:$U$2000, 2, FALSE))","v":2.0129000000000001}]
[null,{"$f":"IF(CAD!B87=\"\", \"\", CAD!B87)","v":"2017-09-08"},{"$f":"IF($B90=\"\", \"\", CAD!C87)","v":1.2159},{"$f":"IF($B90=\"\", \"\",VLOOKUP($B90, CAD!$D$7:$E$2000, 2, FALSE))","v":1.217122},{"$f":"IF($B90=\"\", \"\",VLOOKUP($B90, CAD!$F$7:$G$2000, 2, FALSE))","v":1.2203999999999999},{"$f":"IF($B90=\"\", \"\",VLOOKUP($B90, CAD!$H$7:$I$2000, 2, FALSE))","v":1.223805},{"$f":"IF($B90=\"\", \"\",VLOOKUP($B90, CAD!$J$7:$K$2000, 2, FALSE))","v":1.22773},{"$f":"IF($B90=\"\", \"\", VLOOKUP($B90, CAD!$L$7:$M$2000, 2, FALSE))","v":1.230745},{"$f":"IF($B90=\"\", \"\", VLOOKUP($B90, CAD!$N$7:$O$2000, 2, FALSE))","v":1.233905},{"$f":"IF($B90=\"\", \"\", VLOOKUP($B90, CAD!$P$7:$Q$2000, 2, FALSE))","v":1.23678},{"$f":"IF($B90=\"\", \"\", VLOOKUP($B90, CAD!$R$7:$S$2000, 2, FALSE))","v":1.2399100000000001},{"$f":"IF($B90=\"\", \"\", VLOOKUP($B90, CAD!$T$7:$U$2000, 2, FALSE))","v":1.2426600000000001},{"$f":"IF($B90=\"\", \"\", VLOOKUP($B90, CAD!$V$7:$W$2000, 2, FALSE))","v":1.2473700000000001},null,{"$f":"IF(USSW!B87=\"\", \"\", USSW!B87)","v":"2017-09-07"},{"$f":"IF($O90=\"\", \"\", USSW!C87)","v":1.4192},{"$f":"IF($O90=\"\", \"\", VLOOKUP($O90, USSW!$D$7:$E$2000, 2, FALSE))","v":1.5058},{"$f":"IF($O90=\"\", \"\", VLOOKUP($O90, USSW!$F$7:$G$2000, 2, FALSE))","v":1.5785},{"$f":"IF($O90=\"\", \"\", VLOOKUP($O90, USSW!$H$7:$I$2000, 2, FALSE))","v":1.6459999999999999},{"$f":"IF($O90=\"\", \"\", VLOOKUP($O90, USSW!$J$7:$K$2000, 2, FALSE))","v":1.7116},{"$f":"IF($O90=\"\", \"\", VLOOKUP($O90, USSW!$L$7:$M$2000, 2, FALSE))","v":1.7775000000000001},{"$f":"IF($O90=\"\", \"\", VLOOKUP($O90, USSW!$N$7:$O$2000, 2, FALSE))","v":1.8413999999999999},{"$f":"IF($O90=\"\", \"\", VLOOKUP($O90, USSW!$P$7:$Q$2000, 2, FALSE))","v":1.9},{"$f":"IF($O90=\"\", \"\", VLOOKUP($O90, USSW!$R$7:$S$2000, 2, FALSE))","v":1.9536},{"$f":"IF($O90=\"\", \"\", VLOOKUP($O90, USSW!$T$7:$U$2000, 2, FALSE))","v":2.0019999999999998}]
[null,{"$f":"IF(CAD!B88=\"\", \"\", CAD!B88)","v":"2017-09-07"},{"$f":"IF($B91=\"\", \"\", CAD!C88)","v":1.2115},{"$f":"IF($B91=\"\", \"\",VLOOKUP($B91, CAD!$D$7:$E$2000, 2, FALSE))","v":1.2122200000000001},{"$f":"IF($B91=\"\", \"\",VLOOKUP($B91, CAD!$F$7:$G$2000, 2, FALSE))","v":1.2146600000000001},{"$f":"IF($B91=\"\", \"\",VLOOKUP($B91, CAD!$H$7:$I$2000, 2, FALSE))","v":1.2174},{"$f":"IF($B91=\"\", \"\",VLOOKUP($B91, CAD!$J$7:$K$2000, 2, FALSE))","v":1.2212499999999999},{"$f":"IF($B91=\"\", \"\", VLOOKUP($B91, CAD!$L$7:$M$2000, 2, FALSE))","v":1.2240899999999999},{"$f":"IF($B91=\"\", \"\", VLOOKUP($B91, CAD!$N$7:$O$2000, 2, FALSE))","v":1.2268399999999999},{"$f":"IF($B91=\"\", \"\", VLOOKUP($B91, CAD!$P$7:$Q$2000, 2, FALSE))","v":1.2299500000000001},{"$f":"IF($B91=\"\", \"\", VLOOKUP($B91, CAD!$R$7:$S$2000, 2, FALSE))","v":1.2324850000000001},{"$f":"IF($B91=\"\", \"\", VLOOKUP($B91, CAD!$T$7:$U$2000, 2, FALSE))","v":1.23584},{"$f":"IF($B91=\"\", \"\", VLOOKUP($B91, CAD!$V$7:$W$2000, 2, FALSE))","v":1.2397050000000001},null,{"$f":"IF(USSW!B88=\"\", \"\", USSW!B88)","v":"2017-09-06"},{"$f":"IF($O91=\"\", \"\", USSW!C88)","v":1.4359999999999999},{"$f":"IF($O91=\"\", \"\", VLOOKUP($O91, USSW!$D$7:$E$2000, 2, FALSE))","v":1.5346},{"$f":"IF($O91=\"\", \"\", VLOOKUP($O91, USSW!$F$7:$G$2000, 2, FALSE))","v":1.6149},{"$f":"IF($O91=\"\", \"\", VLOOKUP($O91, USSW!$H$7:$I$2000, 2, FALSE))","v":1.6887000000000001},{"$f":"IF($O91=\"\", \"\", VLOOKUP($O91, USSW!$J$7:$K$2000, 2, FALSE))","v":1.7571000000000001},{"$f":"IF($O91=\"\", \"\", VLOOKUP($O91, USSW!$L$7:$M$2000, 2, FALSE))","v":1.8273999999999999},{"$f":"IF($O91=\"\", \"\", VLOOKUP($O91, USSW!$N$7:$O$2000, 2, FALSE))","v":1.8991},{"$f":"IF($O91=\"\", \"\", VLOOKUP($O91, USSW!$P$7:$Q$2000, 2, FALSE))","v":1.9609000000000001},{"$f":"IF($O91=\"\", \"\", VLOOKUP($O91, USSW!$R$7:$S$2000, 2, FALSE))","v":2.0156999999999998},{"$f":"IF($O91=\"\", \"\", VLOOKUP($O91, USSW!$T$7:$U$2000, 2, FALSE))","v":2.0657999999999999}]
[null,{"$f":"IF(CAD!B89=\"\", \"\", CAD!B89)","v":"2017-09-06"},{"$f":"IF($B92=\"\", \"\", CAD!C89)","v":1.2225999999999999},{"$f":"IF($B92=\"\", \"\",VLOOKUP($B92, CAD!$D$7:$E$2000, 2, FALSE))","v":1.222585},{"$f":"IF($B92=\"\", \"\",VLOOKUP($B92, CAD!$F$7:$G$2000, 2, FALSE))","v":1.2244200000000001},{"$f":"IF($B92=\"\", \"\",VLOOKUP($B92, CAD!$H$7:$I$2000, 2, FALSE))","v":1.2281299999999999},{"$f":"IF($B92=\"\", \"\",VLOOKUP($B92, CAD!$J$7:$K$2000, 2, FALSE))","v":1.2294799999999999},{"$f":"IF($B92=\"\", \"\", VLOOKUP($B92, CAD!$L$7:$M$2000, 2, FALSE))","v":1.2317549999999999},{"$f":"IF($B92=\"\", \"\", VLOOKUP($B92, CAD!$N$7:$O$2000, 2, FALSE))","v":1.2359},{"$f":"IF($B92=\"\", \"\", VLOOKUP($B92, CAD!$P$7:$Q$2000, 2, FALSE))","v":1.2357800000000001},{"$f":"IF($B92=\"\", \"\", VLOOKUP($B92, CAD!$R$7:$S$2000, 2, FALSE))","v":1.2424299999999999},{"$f":"IF($B92=\"\", \"\", VLOOKUP($B92, CAD!$T$7:$U$2000, 2, FALSE))","v":1.2413000000000001},{"$f":"IF($B92=\"\", \"\", VLOOKUP($B92, CAD!$V$7:$W$2000, 2, FALSE))","v":{"$error":"#N/A"}},null,{"$f":"IF(USSW!B89=\"\", \"\", USSW!B89)","v":"2017-09-05"},{"$f":"IF($O92=\"\", \"\", USSW!C89)","v":1.4253},{"$f":"IF($O92=\"\", \"\", VLOOKUP($O92, USSW!$D$7:$E$2000, 2, FALSE))","v":1.5092000000000001},{"$f":"IF($O92=\"\", \"\", VLOOKUP($O92, USSW!$F$7:$G$2000, 2, FALSE))","v":1.5802},{"$f":"IF($O92=\"\", \"\", VLOOKUP($O92, USSW!$H$7:$I$2000, 2, FALSE))","v":1.6462000000000001},{"$f":"IF($O92=\"\", \"\", VLOOKUP($O92, USSW!$J$7:$K$2000, 2, FALSE))","v":1.7110000000000001},{"$f":"IF($O92=\"\", \"\", VLOOKUP($O92, USSW!$L$7:$M$2000, 2, FALSE))","v":1.7858000000000001},{"$f":"IF($O92=\"\", \"\", VLOOKUP($O92, USSW!$N$7:$O$2000, 2, FALSE))","v":1.8480000000000001},{"$f":"IF($O92=\"\", \"\", VLOOKUP($O92, USSW!$P$7:$Q$2000, 2, FALSE))","v":1.9146000000000001},{"$f":"IF($O92=\"\", \"\", VLOOKUP($O92, USSW!$R$7:$S$2000, 2, FALSE))","v":1.958},{"$f":"IF($O92=\"\", \"\", VLOOKUP($O92, USSW!$T$7:$U$2000, 2, FALSE))","v":2.0104000000000002}]
[null,{"$f":"IF(CAD!B90=\"\", \"\", CAD!B90)","v":"2017-09-05"},{"$f":"IF($B93=\"\", \"\", CAD!C90)","v":1.2374000000000001},{"$f":"IF($B93=\"\", \"\",VLOOKUP($B93, CAD!$D$7:$E$2000, 2, FALSE))","v":1.2360599999999999},{"$f":"IF($B93=\"\", \"\",VLOOKUP($B93, CAD!$F$7:$G$2000, 2, FALSE))","v":1.23672},{"$f":"IF($B93=\"\", \"\",VLOOKUP($B93, CAD!$H$7:$I$2000, 2, FALSE))","v":1.23912},{"$f":"IF($B93=\"\", \"\",VLOOKUP($B93, CAD!$J$7:$K$2000, 2, FALSE))","v":1.24105},{"$f":"IF($B93=\"\", \"\", VLOOKUP($B93, CAD!$L$7:$M$2000, 2, FALSE))","v":1.24343},{"$f":"IF($B93=\"\", \"\", VLOOKUP($B93, CAD!$N$7:$O$2000, 2, FALSE))","v":1.2458},{"$f":"IF($B93=\"\", \"\", VLOOKUP($B93, CAD!$P$7:$Q$2000, 2, FALSE))","v":1.248375},{"$f":"IF($B93=\"\", \"\", VLOOKUP($B93, CAD!$R$7:$S$2000, 2, FALSE))","v":1.2505599999999999},{"$f":"IF($B93=\"\", \"\", VLOOKUP($B93, CAD!$T$7:$U$2000, 2, FALSE))","v":1.25376},{"$f":"IF($B93=\"\", \"\", VLOOKUP($B93, CAD!$V$7:$W$2000, 2, FALSE))","v":1.2579499999999999},null,{"$f":"IF(USSW!B90=\"\", \"\", USSW!B90)","v":"2017-09-04"},{"$f":"IF($O93=\"\", \"\", USSW!C90)","v":1.4408000000000001},{"$f":"IF($O93=\"\", \"\", VLOOKUP($O93, USSW!$D$7:$E$2000, 2, FALSE))","v":1.536},{"$f":"IF($O93=\"\", \"\", VLOOKUP($O93, USSW!$F$7:$G$2000, 2, FALSE))","v":1.6185},{"$f":"IF($O93=\"\", \"\", VLOOKUP($O93, USSW!$H$7:$I$2000, 2, FALSE))","v":1.7064999999999999},{"$f":"IF($O93=\"\", \"\", VLOOKUP($O93, USSW!$J$7:$K$2000, 2, FALSE))","v":1.7969999999999999},{"$f":"IF($O93=\"\", \"\", VLOOKUP($O93, USSW!$L$7:$M$2000, 2, FALSE))","v":1.8740000000000001},{"$f":"IF($O93=\"\", \"\", VLOOKUP($O93, USSW!$N$7:$O$2000, 2, FALSE))","v":1.9094},{"$f":"IF($O93=\"\", \"\", VLOOKUP($O93, USSW!$P$7:$Q$2000, 2, FALSE))","v":2.0110000000000001},{"$f":"IF($O93=\"\", \"\", VLOOKUP($O93, USSW!$R$7:$S$2000, 2, FALSE))","v":2.0659999999999998},{"$f":"IF($O93=\"\", \"\", VLOOKUP($O93, USSW!$T$7:$U$2000, 2, FALSE))","v":2.0825}]
[null,{"$f":"IF(CAD!B91=\"\", \"\", CAD!B91)","v":"2017-09-04"},{"$f":"IF($B94=\"\", \"\", CAD!C91)","v":1.2416},{"$f":"IF($B94=\"\", \"\",VLOOKUP($B94, CAD!$D$7:$E$2000, 2, FALSE))","v":1.240178},{"$f":"IF($B94=\"\", \"\",VLOOKUP($B94, CAD!$F$7:$G$2000, 2, FALSE))","v":1.24028},{"$f":"IF($B94=\"\", \"\",VLOOKUP($B94, CAD!$H$7:$I$2000, 2, FALSE))","v":1.2414000000000001},{"$f":"IF($B94=\"\", \"\",VLOOKUP($B94, CAD!$J$7:$K$2000, 2, FALSE))","v":1.2430749999999999},{"$f":"IF($B94=\"\", \"\", VLOOKUP($B94, CAD!$L$7:$M$2000, 2, FALSE))","v":1.2450699999999999},{"$f":"IF($B94=\"\", \"\", VLOOKUP($B94, CAD!$N$7:$O$2000, 2, FALSE))","v":1.24736},{"$f":"IF($B94=\"\", \"\", VLOOKUP($B94, CAD!$P$7:$Q$2000, 2, FALSE))","v":1.24952},{"$f":"IF($B94=\"\", \"\", VLOOKUP($B94, CAD!$R$7:$S$2000, 2, FALSE))","v":1.2513000000000001},{"$f":"IF($B94=\"\", \"\", VLOOKUP($B94, CAD!$T$7:$U$2000, 2, FALSE))","v":1.2544200000000001},{"$f":"IF($B94=\"\", \"\", VLOOKUP($B94, CAD!$V$7:$W$2000, 2, FALSE))","v":1.2582899999999999},null,{"$f":"IF(USSW!B91=\"\", \"\", USSW!B91)","v":"2017-09-01"},{"$f":"IF($O94=\"\", \"\", USSW!C91)","v":1.4473},{"$f":"IF($O94=\"\", \"\", VLOOKUP($O94, USSW!$D$7:$E$2000, 2, FALSE))","v":1.554},{"$f":"IF($O94=\"\", \"\", VLOOKUP($O94, USSW!$F$7:$G$2000, 2, FALSE))","v":1.6423000000000001},{"$f":"IF($O94=\"\", \"\", VLOOKUP($O94, USSW!$H$7:$I$2000, 2, FALSE))","v":1.7209000000000001},{"$f":"IF($O94=\"\", \"\", VLOOKUP($O94, USSW!$J$7:$K$2000, 2, FALSE))","v":1.798},{"$f":"IF($O94=\"\", \"\", VLOOKUP($O94, USSW!$L$7:$M$2000, 2, FALSE))","v":1.8743000000000001},{"$f":"IF($O94=\"\", \"\", VLOOKUP($O94, USSW!$N$7:$O$2000, 2, FALSE))","v":1.9455},{"$f":"IF($O94=\"\", \"\", VLOOKUP($O94, USSW!$P$7:$Q$2000, 2, FALSE))","v":2.008},{"$f":"IF($O94=\"\", \"\", VLOOKUP($O94, USSW!$R$7:$S$2000, 2, FALSE))","v":2.0651000000000002},{"$f":"IF($O94=\"\", \"\", VLOOKUP($O94, USSW!$T$7:$U$2000, 2, FALSE))","v":2.1194999999999999}]
[null,{"$f":"IF(CAD!B92=\"\", \"\", CAD!B92)","v":"2017-09-01"},{"$f":"IF($B95=\"\", \"\", CAD!C92)","v":1.2394000000000001},{"$f":"IF($B95=\"\", \"\",VLOOKUP($B95, CAD!$D$7:$E$2000, 2, FALSE))","v":1.2376560000000001},{"$f":"IF($B95=\"\", \"\",VLOOKUP($B95, CAD!$F$7:$G$2000, 2, FALSE))","v":1.2378899999999999},{"$f":"IF($B95=\"\", \"\",VLOOKUP($B95, CAD!$H$7:$I$2000, 2, FALSE))","v":1.2386550000000001},{"$f":"IF($B95=\"\", \"\",VLOOKUP($B95, CAD!$J$7:$K$2000, 2, FALSE))","v":1.2401009999999999},{"$f":"IF($B95=\"\", \"\", VLOOKUP($B95, CAD!$L$7:$M$2000, 2, FALSE))","v":1.2419640000000001},{"$f":"IF($B95=\"\", \"\", VLOOKUP($B95, CAD!$N$7:$O$2000, 2, FALSE))","v":1.2432669999999999},{"$f":"IF($B95=\"\", \"\", VLOOKUP($B95, CAD!$P$7:$Q$2000, 2, FALSE))","v":1.2451049999999999},{"$f":"IF($B95=\"\", \"\", VLOOKUP($B95, CAD!$R$7:$S$2000, 2, FALSE))","v":1.2465409999999999},{"$f":"IF($B95=\"\", \"\", VLOOKUP($B95, CAD!$T$7:$U$2000, 2, FALSE))","v":1.249428},{"$f":"IF($B95=\"\", \"\", VLOOKUP($B95, CAD!$V$7:$W$2000, 2, FALSE))","v":1.2535000000000001},null,{"$f":"IF(USSW!B92=\"\", \"\", USSW!B92)","v":"2017-08-31"},{"$f":"IF($O95=\"\", \"\", USSW!C92)","v":1.4384999999999999},{"$f":"IF($O95=\"\", \"\", VLOOKUP($O95, USSW!$D$7:$E$2000, 2, FALSE))","v":1.5349999999999999},{"$f":"IF($O95=\"\", \"\", VLOOKUP($O95, USSW!$F$7:$G$2000, 2, FALSE))","v":1.6174999999999999},{"$f":"IF($O95=\"\", \"\", VLOOKUP($O95, USSW!$H$7:$I$2000, 2, FALSE))","v":1.6904999999999999},{"$f":"IF($O95=\"\", \"\", VLOOKUP($O95, USSW!$J$7:$K$2000, 2, FALSE))","v":1.7615000000000001},{"$f":"IF($O95=\"\", \"\", VLOOKUP($O95, USSW!$L$7:$M$2000, 2, FALSE))","v":1.8324},{"$f":"IF($O95=\"\", \"\", VLOOKUP($O95, USSW!$N$7:$O$2000, 2, FALSE))","v":1.8996999999999999},{"$f":"IF($O95=\"\", \"\", VLOOKUP($O95, USSW!$P$7:$Q$2000, 2, FALSE))","v":1.9602999999999999},{"$f":"IF($O95=\"\", \"\", VLOOKUP($O95, USSW!$R$7:$S$2000, 2, FALSE))","v":2.016},{"$f":"IF($O95=\"\", \"\", VLOOKUP($O95, USSW!$T$7:$U$2000, 2, FALSE))","v":2.0669}]
[null,{"$f":"IF(CAD!B93=\"\", \"\", CAD!B93)","v":"2017-08-31"},{"$f":"IF($B96=\"\", \"\", CAD!C93)","v":1.2482},{"$f":"IF($B96=\"\", \"\",VLOOKUP($B96, CAD!$D$7:$E$2000, 2, FALSE))","v":1.2459800000000001},{"$f":"IF($B96=\"\", \"\",VLOOKUP($B96, CAD!$F$7:$G$2000, 2, FALSE))","v":1.24495},{"$f":"IF($B96=\"\", \"\",VLOOKUP($B96, CAD!$H$7:$I$2000, 2, FALSE))","v":1.2454499999999999},{"$f":"IF($B96=\"\", \"\",VLOOKUP($B96, CAD!$J$7:$K$2000, 2, FALSE))","v":1.2470250000000001},{"$f":"IF($B96=\"\", \"\", VLOOKUP($B96, CAD!$L$7:$M$2000, 2, FALSE))","v":1.2485999999999999},{"$f":"IF($B96=\"\", \"\", VLOOKUP($B96, CAD!$N$7:$O$2000, 2, FALSE))","v":1.2479},{"$f":"IF($B96=\"\", \"\", VLOOKUP($B96, CAD!$P$7:$Q$2000, 2, FALSE))","v":1.2479},{"$f":"IF($B96=\"\", \"\", VLOOKUP($B96, CAD!$R$7:$S$2000, 2, FALSE))","v":1.2481},{"$f":"IF($B96=\"\", \"\", VLOOKUP($B96, CAD!$T$7:$U$2000, 2, FALSE))","v":1.25543},{"$f":"IF($B96=\"\", \"\", VLOOKUP($B96, CAD!$V$7:$W$2000, 2, FALSE))","v":{"$error":"#N/A"}},null,{"$f":"IF(USSW!B93=\"\", \"\", USSW!B93)","v":"2017-08-30"},{"$f":"IF($O96=\"\", \"\", USSW!C93)","v":1.4381999999999999},{"$f":"IF($O96=\"\", \"\", VLOOKUP($O96, USSW!$D$7:$E$2000, 2, FALSE))","v":1.5371999999999999},{"$f":"IF($O96=\"\", \"\", VLOOKUP($O96, USSW!$F$7:$G$2000, 2, FALSE))","v":1.6205000000000001},{"$f":"IF($O96=\"\", \"\", VLOOKUP($O96, USSW!$H$7:$I$2000, 2, FALSE))","v":1.6975},{"$f":"IF($O96=\"\", \"\", VLOOKUP($O96, USSW!$J$7:$K$2000, 2, FALSE))","v":1.7717000000000001},{"$f":"IF($O96=\"\", \"\", VLOOKUP($O96, USSW!$L$7:$M$2000, 2, FALSE))","v":1.8439000000000001},{"$f":"IF($O96=\"\", \"\", VLOOKUP($O96, USSW!$N$7:$O$2000, 2, FALSE))","v":1.9128000000000001},{"$f":"IF($O96=\"\", \"\", VLOOKUP($O96, USSW!$P$7:$Q$2000, 2, FALSE))","v":1.9742},{"$f":"IF($O96=\"\", \"\", VLOOKUP($O96, USSW!$R$7:$S$2000, 2, FALSE))","v":2.0287999999999999},{"$f":"IF($O96=\"\", \"\", VLOOKUP($O96, USSW!$T$7:$U$2000, 2, FALSE))","v":2.0789}]
[null,{"$f":"IF(CAD!B94=\"\", \"\", CAD!B94)","v":"2017-08-30"},{"$f":"IF($B97=\"\", \"\", CAD!C94)","v":1.2621},{"$f":"IF($B97=\"\", \"\",VLOOKUP($B97, CAD!$D$7:$E$2000, 2, FALSE))","v":1.25909},{"$f":"IF($B97=\"\", \"\",VLOOKUP($B97, CAD!$F$7:$G$2000, 2, FALSE))","v":1.2576700000000001},{"$f":"IF($B97=\"\", \"\",VLOOKUP($B97, CAD!$H$7:$I$2000, 2, FALSE))","v":1.2576499999999999},{"$f":"IF($B97=\"\", \"\",VLOOKUP($B97, CAD!$J$7:$K$2000, 2, FALSE))","v":1.25865},{"$f":"IF($B97=\"\", \"\", VLOOKUP($B97, CAD!$L$7:$M$2000, 2, FALSE))","v":1.2595449999999999},{"$f":"IF($B97=\"\", \"\", VLOOKUP($B97, CAD!$N$7:$O$2000, 2, FALSE))","v":1.2604900000000001},{"$f":"IF($B97=\"\", \"\", VLOOKUP($B97, CAD!$P$7:$Q$2000, 2, FALSE))","v":1.2620199999999999},{"$f":"IF($B97=\"\", \"\", VLOOKUP($B97, CAD!$R$7:$S$2000, 2, FALSE))","v":1.26336},{"$f":"IF($B97=\"\", \"\", VLOOKUP($B97, CAD!$T$7:$U$2000, 2, FALSE))","v":1.2650399999999999},{"$f":"IF($B97=\"\", \"\", VLOOKUP($B97, CAD!$V$7:$W$2000, 2, FALSE))","v":1.268615},null,{"$f":"IF(USSW!B94=\"\", \"\", USSW!B94)","v":"2017-08-29"},{"$f":"IF($O97=\"\", \"\", USSW!C94)","v":1.4285000000000001},{"$f":"IF($O97=\"\", \"\", VLOOKUP($O97, USSW!$D$7:$E$2000, 2, FALSE))","v":1.5205},{"$f":"IF($O97=\"\", \"\", VLOOKUP($O97, USSW!$F$7:$G$2000, 2, FALSE))","v":1.6025},{"$f":"IF($O97=\"\", \"\", VLOOKUP($O97, USSW!$H$7:$I$2000, 2, FALSE))","v":1.6828000000000001},{"$f":"IF($O97=\"\", \"\", VLOOKUP($O97, USSW!$J$7:$K$2000, 2, FALSE))","v":1.7585999999999999},{"$f":"IF($O97=\"\", \"\", VLOOKUP($O97, USSW!$L$7:$M$2000, 2, FALSE))","v":1.8345},{"$f":"IF($O97=\"\", \"\", VLOOKUP($O97, USSW!$N$7:$O$2000, 2, FALSE))","v":1.9005000000000001},{"$f":"IF($O97=\"\", \"\", VLOOKUP($O97, USSW!$P$7:$Q$2000, 2, FALSE))","v":1.9624999999999999},{"$f":"IF($O97=\"\", \"\", VLOOKUP($O97, USSW!$R$7:$S$2000, 2, FALSE))","v":2.0188999999999999},{"$f":"IF($O97=\"\", \"\", VLOOKUP($O97, USSW!$T$7:$U$2000, 2, FALSE))","v":2.0695999999999999}]
[null,{"$f":"IF(CAD!B95=\"\", \"\", CAD!B95)","v":"2017-08-29"},{"$f":"IF($B98=\"\", \"\", CAD!C95)","v":1.2512000000000001},{"$f":"IF($B98=\"\", \"\",VLOOKUP($B98, CAD!$D$7:$E$2000, 2, FALSE))","v":1.2481800000000001},{"$f":"IF($B98=\"\", \"\",VLOOKUP($B98, CAD!$F$7:$G$2000, 2, FALSE))","v":1.2485790000000001},{"$f":"IF($B98=\"\", \"\",VLOOKUP($B98, CAD!$H$7:$I$2000, 2, FALSE))","v":1.2476700000000001},{"$f":"IF($B98=\"\", \"\",VLOOKUP($B98, CAD!$J$7:$K$2000, 2, FALSE))","v":1.2481500000000001},{"$f":"IF($B98=\"\", \"\", VLOOKUP($B98, CAD!$L$7:$M$2000, 2, FALSE))","v":1.2500500000000001},{"$f":"IF($B98=\"\", \"\", VLOOKUP($B98, CAD!$N$7:$O$2000, 2, FALSE))","v":1.25084},{"$f":"IF($B98=\"\", \"\", VLOOKUP($B98, CAD!$P$7:$Q$2000, 2, FALSE))","v":1.25288},{"$f":"IF($B98=\"\", \"\", VLOOKUP($B98, CAD!$R$7:$S$2000, 2, FALSE))","v":1.2547900000000001},{"$f":"IF($B98=\"\", \"\", VLOOKUP($B98, CAD!$T$7:$U$2000, 2, FALSE))","v":1.25745},{"$f":"IF($B98=\"\", \"\", VLOOKUP($B98, CAD!$V$7:$W$2000, 2, FALSE))","v":1.2614300000000001},null,{"$f":"IF(USSW!B95=\"\", \"\", USSW!B95)","v":"2017-08-28"},{"$f":"IF($O98=\"\", \"\", USSW!C95)","v":1.4447000000000001},{"$f":"IF($O98=\"\", \"\", VLOOKUP($O98, USSW!$D$7:$E$2000, 2, FALSE))","v":1.5474000000000001},{"$f":"IF($O98=\"\", \"\", VLOOKUP($O98, USSW!$F$7:$G$2000, 2, FALSE))","v":1.6306},{"$f":"IF($O98=\"\", \"\", VLOOKUP($O98, USSW!$H$7:$I$2000, 2, FALSE))","v":1.7108000000000001},{"$f":"IF($O98=\"\", \"\", VLOOKUP($O98, USSW!$J$7:$K$2000, 2, FALSE))","v":1.7867},{"$f":"IF($O98=\"\", \"\", VLOOKUP($O98, USSW!$L$7:$M$2000, 2, FALSE))","v":1.8585},{"$f":"IF($O98=\"\", \"\", VLOOKUP($O98, USSW!$N$7:$O$2000, 2, FALSE))","v":1.927},{"$f":"IF($O98=\"\", \"\", VLOOKUP($O98, USSW!$P$7:$Q$2000, 2, FALSE))","v":1.9906999999999999},{"$f":"IF($O98=\"\", \"\", VLOOKUP($O98, USSW!$R$7:$S$2000, 2, FALSE))","v":2.0451000000000001},{"$f":"IF($O98=\"\", \"\", VLOOKUP($O98, USSW!$T$7:$U$2000, 2, FALSE))","v":2.0958999999999999}]
[null,{"$f":"IF(CAD!B96=\"\", \"\", CAD!B96)","v":"2017-08-28"},{"$f":"IF($B99=\"\", \"\", CAD!C96)","v":1.2507999999999999},{"$f":"IF($B99=\"\", \"\",VLOOKUP($B99, CAD!$D$7:$E$2000, 2, FALSE))","v":1.2478800000000001},{"$f":"IF($B99=\"\", \"\",VLOOKUP($B99, CAD!$F$7:$G$2000, 2, FALSE))","v":1.2467280000000001},{"$f":"IF($B99=\"\", \"\",VLOOKUP($B99, CAD!$H$7:$I$2000, 2, FALSE))","v":1.24685},{"$f":"IF($B99=\"\", \"\",VLOOKUP($B99, CAD!$J$7:$K$2000, 2, FALSE))","v":1.24722},{"$f":"IF($B99=\"\", \"\", VLOOKUP($B99, CAD!$L$7:$M$2000, 2, FALSE))","v":1.2476499999999999},{"$f":"IF($B99=\"\", \"\", VLOOKUP($B99, CAD!$N$7:$O$2000, 2, FALSE))","v":1.24814},{"$f":"IF($B99=\"\", \"\", VLOOKUP($B99, CAD!$P$7:$Q$2000, 2, FALSE))","v":1.249717},{"$f":"IF($B99=\"\", \"\", VLOOKUP($B99, CAD!$R$7:$S$2000, 2, FALSE))","v":1.25118},{"$f":"IF($B99=\"\", \"\", VLOOKUP($B99, CAD!$T$7:$U$2000, 2, FALSE))","v":1.2534400000000001},{"$f":"IF($B99=\"\", \"\", VLOOKUP($B99, CAD!$V$7:$W$2000, 2, FALSE))","v":1.2569999999999999},null,{"$f":"IF(USSW!B96=\"\", \"\", USSW!B96)","v":"2017-08-25"},{"$f":"IF($O99=\"\", \"\", USSW!C96)","v":1.4553},{"$f":"IF($O99=\"\", \"\", VLOOKUP($O99, USSW!$D$7:$E$2000, 2, FALSE))","v":1.5623},{"$f":"IF($O99=\"\", \"\", VLOOKUP($O99, USSW!$F$7:$G$2000, 2, FALSE))","v":1.6524000000000001},{"$f":"IF($O99=\"\", \"\", VLOOKUP($O99, USSW!$H$7:$I$2000, 2, FALSE))","v":1.7322},{"$f":"IF($O99=\"\", \"\", VLOOKUP($O99, USSW!$J$7:$K$2000, 2, FALSE))","v":1.8091999999999999},{"$f":"IF($O99=\"\", \"\", VLOOKUP($O99, USSW!$L$7:$M$2000, 2, FALSE))","v":1.8816999999999999},{"$f":"IF($O99=\"\", \"\", VLOOKUP($O99, USSW!$N$7:$O$2000, 2, FALSE))","v":1.9484999999999999},{"$f":"IF($O99=\"\", \"\", VLOOKUP($O99, USSW!$P$7:$Q$2000, 2, FALSE))","v":2.0089000000000001},{"$f":"IF($O99=\"\", \"\", VLOOKUP($O99, USSW!$R$7:$S$2000, 2, FALSE))","v":2.0619999999999998},{"$f":"IF($O99=\"\", \"\", VLOOKUP($O99, USSW!$T$7:$U$2000, 2, FALSE))","v":2.1089000000000002}]
[null,{"$f":"IF(CAD!B97=\"\", \"\", CAD!B97)","v":"2017-08-25"},{"$f":"IF($B100=\"\", \"\", CAD!C97)","v":1.2481},{"$f":"IF($B100=\"\", \"\",VLOOKUP($B100, CAD!$D$7:$E$2000, 2, FALSE))","v":1.2449600000000001},{"$f":"IF($B100=\"\", \"\",VLOOKUP($B100, CAD!$F$7:$G$2000, 2, FALSE))","v":1.24339},{"$f":"IF($B100=\"\", \"\",VLOOKUP($B100, CAD!$H$7:$I$2000, 2, FALSE))","v":1.24394},{"$f":"IF($B100=\"\", \"\",VLOOKUP($B100, CAD!$J$7:$K$2000, 2, FALSE))","v":1.2430749999999999},{"$f":"IF($B100=\"\", \"\", VLOOKUP($B100, CAD!$L$7:$M$2000, 2, FALSE))","v":1.244712},{"$f":"IF($B100=\"\", \"\", VLOOKUP($B100, CAD!$N$7:$O$2000, 2, FALSE))","v":1.2478},{"$f":"IF($B100=\"\", \"\", VLOOKUP($B100, CAD!$P$7:$Q$2000, 2, FALSE))","v":1.2478},{"$f":"IF($B100=\"\", \"\", VLOOKUP($B100, CAD!$R$7:$S$2000, 2, FALSE))","v":1.248},{"$f":"IF($B100=\"\", \"\", VLOOKUP($B100, CAD!$T$7:$U$2000, 2, FALSE))","v":{"$error":"#N/A"}},{"$f":"IF($B100=\"\", \"\", VLOOKUP($B100, CAD!$V$7:$W$2000, 2, FALSE))","v":{"$error":"#N/A"}},null,{"$f":"IF(USSW!B97=\"\", \"\", USSW!B97)","v":"2017-08-24"},{"$f":"IF($O100=\"\", \"\", USSW!C97)","v":1.4584999999999999},{"$f":"IF($O100=\"\", \"\", VLOOKUP($O100, USSW!$D$7:$E$2000, 2, FALSE))","v":1.5738000000000001},{"$f":"IF($O100=\"\", \"\", VLOOKUP($O100, USSW!$F$7:$G$2000, 2, FALSE))","v":1.6681999999999999},{"$f":"IF($O100=\"\", \"\", VLOOKUP($O100, USSW!$H$7:$I$2000, 2, FALSE))","v":1.7515000000000001},{"$f":"IF($O100=\"\", \"\", VLOOKUP($O100, USSW!$J$7:$K$2000, 2, FALSE))","v":1.8248},{"$f":"IF($O100=\"\", \"\", VLOOKUP($O100, USSW!$L$7:$M$2000, 2, FALSE))","v":1.9008},{"$f":"IF($O100=\"\", \"\", VLOOKUP($O100, USSW!$N$7:$O$2000, 2, FALSE))","v":1.9689000000000001},{"$f":"IF($O100=\"\", \"\", VLOOKUP($O100, USSW!$P$7:$Q$2000, 2, FALSE))","v":2.0310000000000001},{"$f":"IF($O100=\"\", \"\", VLOOKUP($O100, USSW!$R$7:$S$2000, 2, FALSE))","v":2.0836999999999999},{"$f":"IF($O100=\"\", \"\", VLOOKUP($O100, USSW!$T$7:$U$2000, 2, FALSE))","v":2.1347}]
[null,{"$f":"IF(CAD!B98=\"\", \"\", CAD!B98)","v":"2017-08-24"},{"$f":"IF($B101=\"\", \"\", CAD!C98)","v":1.252},{"$f":"IF($B101=\"\", \"\",VLOOKUP($B101, CAD!$D$7:$E$2000, 2, FALSE))","v":1.24875},{"$f":"IF($B101=\"\", \"\",VLOOKUP($B101, CAD!$F$7:$G$2000, 2, FALSE))","v":1.2469349999999999},{"$f":"IF($B101=\"\", \"\",VLOOKUP($B101, CAD!$H$7:$I$2000, 2, FALSE))","v":1.2463500000000001},{"$f":"IF($B101=\"\", \"\",VLOOKUP($B101, CAD!$J$7:$K$2000, 2, FALSE))","v":1.2462850000000001},{"$f":"IF($B101=\"\", \"\", VLOOKUP($B101, CAD!$L$7:$M$2000, 2, FALSE))","v":1.24654},{"$f":"IF($B101=\"\", \"\", VLOOKUP($B101, CAD!$N$7:$O$2000, 2, FALSE))","v":1.2468699999999999},{"$f":"IF($B101=\"\", \"\", VLOOKUP($B101, CAD!$P$7:$Q$2000, 2, FALSE))","v":1.247935},{"$f":"IF($B101=\"\", \"\", VLOOKUP($B101, CAD!$R$7:$S$2000, 2, FALSE))","v":1.2488250000000001},{"$f":"IF($B101=\"\", \"\", VLOOKUP($B101, CAD!$T$7:$U$2000, 2, FALSE))","v":1.250885},{"$f":"IF($B101=\"\", \"\", VLOOKUP($B101, CAD!$V$7:$W$2000, 2, FALSE))","v":1.2543299999999999},null,{"$f":"IF(USSW!B98=\"\", \"\", USSW!B98)","v":"2017-08-23"},{"$f":"IF($O101=\"\", \"\", USSW!C98)","v":1.4447000000000001},{"$f":"IF($O101=\"\", \"\", VLOOKUP($O101, USSW!$D$7:$E$2000, 2, FALSE))","v":1.5543},{"$f":"IF($O101=\"\", \"\", VLOOKUP($O101, USSW!$F$7:$G$2000, 2, FALSE))","v":1.6439999999999999},{"$f":"IF($O101=\"\", \"\", VLOOKUP($O101, USSW!$H$7:$I$2000, 2, FALSE))","v":1.7236},{"$f":"IF($O101=\"\", \"\", VLOOKUP($O101, USSW!$J$7:$K$2000, 2, FALSE))","v":1.7998000000000001},{"$f":"IF($O101=\"\", \"\", VLOOKUP($O101, USSW!$L$7:$M$2000, 2, FALSE))","v":1.8721000000000001},{"$f":"IF($O101=\"\", \"\", VLOOKUP($O101, USSW!$N$7:$O$2000, 2, FALSE))","v":1.9411},{"$f":"IF($O101=\"\", \"\", VLOOKUP($O101, USSW!$P$7:$Q$2000, 2, FALSE))","v":2},{"$f":"IF($O101=\"\", \"\", VLOOKUP($O101, USSW!$R$7:$S$2000, 2, FALSE))","v":2.0589},{"$f":"IF($O101=\"\", \"\", VLOOKUP($O101, USSW!$T$7:$U$2000, 2, FALSE))","v":2.1044999999999998}]
[null,{"$f":"IF(CAD!B99=\"\", \"\", CAD!B99)","v":"2017-08-23"},{"$f":"IF($B102=\"\", \"\", CAD!C99)","v":1.2554000000000001},{"$f":"IF($B102=\"\", \"\",VLOOKUP($B102, CAD!$D$7:$E$2000, 2, FALSE))","v":1.2520800000000001},{"$f":"IF($B102=\"\", \"\",VLOOKUP($B102, CAD!$F$7:$G$2000, 2, FALSE))","v":1.2505200000000001},{"$f":"IF($B102=\"\", \"\",VLOOKUP($B102, CAD!$H$7:$I$2000, 2, FALSE))","v":1.2501249999999999},{"$f":"IF($B102=\"\", \"\",VLOOKUP($B102, CAD!$J$7:$K$2000, 2, FALSE))","v":1.2502599999999999},{"$f":"IF($B102=\"\", \"\", VLOOKUP($B102, CAD!$L$7:$M$2000, 2, FALSE))","v":1.2507569999999999},{"$f":"IF($B102=\"\", \"\", VLOOKUP($B102, CAD!$N$7:$O$2000, 2, FALSE))","v":1.25101},{"$f":"IF($B102=\"\", \"\", VLOOKUP($B102, CAD!$P$7:$Q$2000, 2, FALSE))","v":1.25203},{"$f":"IF($B102=\"\", \"\", VLOOKUP($B102, CAD!$R$7:$S$2000, 2, FALSE))","v":1.25332},{"$f":"IF($B102=\"\", \"\", VLOOKUP($B102, CAD!$T$7:$U$2000, 2, FALSE))","v":1.25556},{"$f":"IF($B102=\"\", \"\", VLOOKUP($B102, CAD!$V$7:$W$2000, 2, FALSE))","v":1.2586349999999999},null,{"$f":"IF(USSW!B99=\"\", \"\", USSW!B99)","v":"2017-08-22"},{"$f":"IF($O102=\"\", \"\", USSW!C99)","v":1.4598},{"$f":"IF($O102=\"\", \"\", VLOOKUP($O102, USSW!$D$7:$E$2000, 2, FALSE))","v":1.5825},{"$f":"IF($O102=\"\", \"\", VLOOKUP($O102, USSW!$F$7:$G$2000, 2, FALSE))","v":1.6787000000000001},{"$f":"IF($O102=\"\", \"\", VLOOKUP($O102, USSW!$H$7:$I$2000, 2, FALSE))","v":1.7618},{"$f":"IF($O102=\"\", \"\", VLOOKUP($O102, USSW!$J$7:$K$2000, 2, FALSE))","v":1.8427},{"$f":"IF($O102=\"\", \"\", VLOOKUP($O102, USSW!$L$7:$M$2000, 2, FALSE))","v":1.9181999999999999},{"$f":"IF($O102=\"\", \"\", VLOOKUP($O102, USSW!$N$7:$O$2000, 2, FALSE))","v":1.9888999999999999},{"$f":"IF($O102=\"\", \"\", VLOOKUP($O102, USSW!$P$7:$Q$2000, 2, FALSE))","v":2.0518000000000001},{"$f":"IF($O102=\"\", \"\", VLOOKUP($O102, USSW!$R$7:$S$2000, 2, FALSE))","v":2.1052},{"$f":"IF($O102=\"\", \"\", VLOOKUP($O102, USSW!$T$7:$U$2000, 2, FALSE))","v":2.1555}]
[null,{"$f":"IF(CAD!B100=\"\", \"\", CAD!B100)","v":"2017-08-22"},{"$f":"IF($B103=\"\", \"\", CAD!C100)","v":1.2565},{"$f":"IF($B103=\"\", \"\",VLOOKUP($B103, CAD!$D$7:$E$2000, 2, FALSE))","v":1.2531000000000001},{"$f":"IF($B103=\"\", \"\",VLOOKUP($B103, CAD!$F$7:$G$2000, 2, FALSE))","v":1.2510790000000001},{"$f":"IF($B103=\"\", \"\",VLOOKUP($B103, CAD!$H$7:$I$2000, 2, FALSE))","v":1.2507619999999999},{"$f":"IF($B103=\"\", \"\",VLOOKUP($B103, CAD!$J$7:$K$2000, 2, FALSE))","v":1.2504299999999999},{"$f":"IF($B103=\"\", \"\", VLOOKUP($B103, CAD!$L$7:$M$2000, 2, FALSE))","v":1.2508090000000001},{"$f":"IF($B103=\"\", \"\", VLOOKUP($B103, CAD!$N$7:$O$2000, 2, FALSE))","v":1.25013},{"$f":"IF($B103=\"\", \"\", VLOOKUP($B103, CAD!$P$7:$Q$2000, 2, FALSE))","v":1.25109},{"$f":"IF($B103=\"\", \"\", VLOOKUP($B103, CAD!$R$7:$S$2000, 2, FALSE))","v":1.25234},{"$f":"IF($B103=\"\", \"\", VLOOKUP($B103, CAD!$T$7:$U$2000, 2, FALSE))","v":1.254745},{"$f":"IF($B103=\"\", \"\", VLOOKUP($B103, CAD!$V$7:$W$2000, 2, FALSE))","v":1.25831},null,{"$f":"IF(USSW!B100=\"\", \"\", USSW!B100)","v":"2017-08-21"},{"$f":"IF($O103=\"\", \"\", USSW!C100)","v":1.4513},{"$f":"IF($O103=\"\", \"\", VLOOKUP($O103, USSW!$D$7:$E$2000, 2, FALSE))","v":1.5618000000000001},{"$f":"IF($O103=\"\", \"\", VLOOKUP($O103, USSW!$F$7:$G$2000, 2, FALSE))","v":1.6536999999999999},{"$f":"IF($O103=\"\", \"\", VLOOKUP($O103, USSW!$H$7:$I$2000, 2, FALSE))","v":1.7371000000000001},{"$f":"IF($O103=\"\", \"\", VLOOKUP($O103, USSW!$J$7:$K$2000, 2, FALSE))","v":1.8137000000000001},{"$f":"IF($O103=\"\", \"\", VLOOKUP($O103, USSW!$L$7:$M$2000, 2, FALSE))","v":1.8919999999999999},{"$f":"IF($O103=\"\", \"\", VLOOKUP($O103, USSW!$N$7:$O$2000, 2, FALSE))","v":1.9570000000000001},{"$f":"IF($O103=\"\", \"\", VLOOKUP($O103, USSW!$P$7:$Q$2000, 2, FALSE))","v":2.0198999999999998},{"$f":"IF($O103=\"\", \"\", VLOOKUP($O103, USSW!$R$7:$S$2000, 2, FALSE))","v":2.0745},{"$f":"IF($O103=\"\", \"\", VLOOKUP($O103, USSW!$T$7:$U$2000, 2, FALSE))","v":2.1265000000000001}]
[null,{"$f":"IF(CAD!B101=\"\", \"\", CAD!B101)","v":"2017-08-21"},{"$f":"IF($B104=\"\", \"\", CAD!C101)","v":1.2558},{"$f":"IF($B104=\"\", \"\",VLOOKUP($B104, CAD!$D$7:$E$2000, 2, FALSE))","v":1.2522800000000001},{"$f":"IF($B104=\"\", \"\",VLOOKUP($B104, CAD!$F$7:$G$2000, 2, FALSE))","v":1.2503850000000001},{"$f":"IF($B104=\"\", \"\",VLOOKUP($B104, CAD!$H$7:$I$2000, 2, FALSE))","v":1.24949},{"$f":"IF($B104=\"\", \"\",VLOOKUP($B104, CAD!$J$7:$K$2000, 2, FALSE))","v":1.2496350000000001},{"$f":"IF($B104=\"\", \"\", VLOOKUP($B104, CAD!$L$7:$M$2000, 2, FALSE))","v":1.24949},{"$f":"IF($B104=\"\", \"\", VLOOKUP($B104, CAD!$N$7:$O$2000, 2, FALSE))","v":1.249525},{"$f":"IF($B104=\"\", \"\", VLOOKUP($B104, CAD!$P$7:$Q$2000, 2, FALSE))","v":1.24973},{"$f":"IF($B104=\"\", \"\", VLOOKUP($B104, CAD!$R$7:$S$2000, 2, FALSE))","v":1.2511749999999999},{"$f":"IF($B104=\"\", \"\", VLOOKUP($B104, CAD!$T$7:$U$2000, 2, FALSE))","v":1.2538499999999999},{"$f":"IF($B104=\"\", \"\", VLOOKUP($B104, CAD!$V$7:$W$2000, 2, FALSE))","v":1.2574190000000001},null,{"$f":"IF(USSW!B101=\"\", \"\", USSW!B101)","v":"2017-08-18"},{"$f":"IF($O104=\"\", \"\", USSW!C101)","v":1.4588000000000001},{"$f":"IF($O104=\"\", \"\", VLOOKUP($O104, USSW!$D$7:$E$2000, 2, FALSE))","v":1.5749},{"$f":"IF($O104=\"\", \"\", VLOOKUP($O104, USSW!$F$7:$G$2000, 2, FALSE))","v":1.6677999999999999},{"$f":"IF($O104=\"\", \"\", VLOOKUP($O104, USSW!$H$7:$I$2000, 2, FALSE))","v":1.7523},{"$f":"IF($O104=\"\", \"\", VLOOKUP($O104, USSW!$J$7:$K$2000, 2, FALSE))","v":1.8313999999999999},{"$f":"IF($O104=\"\", \"\", VLOOKUP($O104, USSW!$L$7:$M$2000, 2, FALSE))","v":1.9041999999999999},{"$f":"IF($O104=\"\", \"\", VLOOKUP($O104, USSW!$N$7:$O$2000, 2, FALSE))","v":1.9763999999999999},{"$f":"IF($O104=\"\", \"\", VLOOKUP($O104, USSW!$P$7:$Q$2000, 2, FALSE))","v":2.0390999999999999},{"$f":"IF($O104=\"\", \"\", VLOOKUP($O104, USSW!$R$7:$S$2000, 2, FALSE))","v":2.093},{"$f":"IF($O104=\"\", \"\", VLOOKUP($O104, USSW!$T$7:$U$2000, 2, FALSE))","v":2.1435}]
[null,{"$f":"IF(CAD!B102=\"\", \"\", CAD!B102)","v":"2017-08-18"},{"$f":"IF($B105=\"\", \"\", CAD!C102)","v":1.2585},{"$f":"IF($B105=\"\", \"\",VLOOKUP($B105, CAD!$D$7:$E$2000, 2, FALSE))","v":1.2549600000000001},{"$f":"IF($B105=\"\", \"\",VLOOKUP($B105, CAD!$F$7:$G$2000, 2, FALSE))","v":1.2525539999999999},{"$f":"IF($B105=\"\", \"\",VLOOKUP($B105, CAD!$H$7:$I$2000, 2, FALSE))","v":1.2519499999999999},{"$f":"IF($B105=\"\", \"\",VLOOKUP($B105, CAD!$J$7:$K$2000, 2, FALSE))","v":1.2511300000000001},{"$f":"IF($B105=\"\", \"\", VLOOKUP($B105, CAD!$L$7:$M$2000, 2, FALSE))","v":1.2509349999999999},{"$f":"IF($B105=\"\", \"\", VLOOKUP($B105, CAD!$N$7:$O$2000, 2, FALSE))","v":1.25082},{"$f":"IF($B105=\"\", \"\", VLOOKUP($B105, CAD!$P$7:$Q$2000, 2, FALSE))","v":1.250945},{"$f":"IF($B105=\"\", \"\", VLOOKUP($B105, CAD!$R$7:$S$2000, 2, FALSE))","v":1.2518},{"$f":"IF($B105=\"\", \"\", VLOOKUP($B105, CAD!$T$7:$U$2000, 2, FALSE))","v":1.2544599999999999},{"$f":"IF($B105=\"\", \"\", VLOOKUP($B105, CAD!$V$7:$W$2000, 2, FALSE))","v":1.2580469999999999},null,{"$f":"IF(USSW!B102=\"\", \"\", USSW!B102)","v":"2017-08-17"},{"$f":"IF($O105=\"\", \"\", USSW!C102)","v":1.4595},{"$f":"IF($O105=\"\", \"\", VLOOKUP($O105, USSW!$D$7:$E$2000, 2, FALSE))","v":1.5733999999999999},{"$f":"IF($O105=\"\", \"\", VLOOKUP($O105, USSW!$F$7:$G$2000, 2, FALSE))","v":1.6655},{"$f":"IF($O105=\"\", \"\", VLOOKUP($O105, USSW!$H$7:$I$2000, 2, FALSE))","v":1.748},{"$f":"IF($O105=\"\", \"\", VLOOKUP($O105, USSW!$J$7:$K$2000, 2, FALSE))","v":1.8249},{"$f":"IF($O105=\"\", \"\", VLOOKUP($O105, USSW!$L$7:$M$2000, 2, FALSE))","v":1.8997999999999999},{"$f":"IF($O105=\"\", \"\", VLOOKUP($O105, USSW!$N$7:$O$2000, 2, FALSE))","v":1.9697},{"$f":"IF($O105=\"\", \"\", VLOOKUP($O105, USSW!$P$7:$Q$2000, 2, FALSE))","v":2.0314000000000001},{"$f":"IF($O105=\"\", \"\", VLOOKUP($O105, USSW!$R$7:$S$2000, 2, FALSE))","v":2.0868000000000002},{"$f":"IF($O105=\"\", \"\", VLOOKUP($O105, USSW!$T$7:$U$2000, 2, FALSE))","v":2.1354000000000002}]
[null,{"$f":"IF(CAD!B103=\"\", \"\", CAD!B103)","v":"2017-08-17"},{"$f":"IF($B106=\"\", \"\", CAD!C103)","v":1.2682},{"$f":"IF($B106=\"\", \"\",VLOOKUP($B106, CAD!$D$7:$E$2000, 2, FALSE))","v":1.2645200000000001},{"$f":"IF($B106=\"\", \"\",VLOOKUP($B106, CAD!$F$7:$G$2000, 2, FALSE))","v":1.2622819999999999},{"$f":"IF($B106=\"\", \"\",VLOOKUP($B106, CAD!$H$7:$I$2000, 2, FALSE))","v":1.2605900000000001},{"$f":"IF($B106=\"\", \"\",VLOOKUP($B106, CAD!$J$7:$K$2000, 2, FALSE))","v":1.26004},{"$f":"IF($B106=\"\", \"\", VLOOKUP($B106, CAD!$L$7:$M$2000, 2, FALSE))","v":1.2601199999999999},{"$f":"IF($B106=\"\", \"\", VLOOKUP($B106, CAD!$N$7:$O$2000, 2, FALSE))","v":1.25952},{"$f":"IF($B106=\"\", \"\", VLOOKUP($B106, CAD!$P$7:$Q$2000, 2, FALSE))","v":1.259835},{"$f":"IF($B106=\"\", \"\", VLOOKUP($B106, CAD!$R$7:$S$2000, 2, FALSE))","v":1.2607299999999999},{"$f":"IF($B106=\"\", \"\", VLOOKUP($B106, CAD!$T$7:$U$2000, 2, FALSE))","v":1.2634000000000001},{"$f":"IF($B106=\"\", \"\", VLOOKUP($B106, CAD!$V$7:$W$2000, 2, FALSE))","v":1.2680100000000001},null,{"$f":"IF(USSW!B103=\"\", \"\", USSW!B103)","v":"2017-08-16"},{"$f":"IF($O106=\"\", \"\", USSW!C103)","v":1.4679},{"$f":"IF($O106=\"\", \"\", VLOOKUP($O106, USSW!$D$7:$E$2000, 2, FALSE))","v":1.5888},{"$f":"IF($O106=\"\", \"\", VLOOKUP($O106, USSW!$F$7:$G$2000, 2, FALSE))","v":1.6879999999999999},{"$f":"IF($O106=\"\", \"\", VLOOKUP($O106, USSW!$H$7:$I$2000, 2, FALSE))","v":1.7747999999999999},{"$f":"IF($O106=\"\", \"\", VLOOKUP($O106, USSW!$J$7:$K$2000, 2, FALSE))","v":1.8547},{"$f":"IF($O106=\"\", \"\", VLOOKUP($O106, USSW!$L$7:$M$2000, 2, FALSE))","v":1.9327000000000001},{"$f":"IF($O106=\"\", \"\", VLOOKUP($O106, USSW!$N$7:$O$2000, 2, FALSE))","v":2.0055999999999998},{"$f":"IF($O106=\"\", \"\", VLOOKUP($O106, USSW!$P$7:$Q$2000, 2, FALSE))","v":2.0680000000000001},{"$f":"IF($O106=\"\", \"\", VLOOKUP($O106, USSW!$R$7:$S$2000, 2, FALSE))","v":2.1246},{"$f":"IF($O106=\"\", \"\", VLOOKUP($O106, USSW!$T$7:$U$2000, 2, FALSE))","v":2.1755}]
[null,{"$f":"IF(CAD!B104=\"\", \"\", CAD!B104)","v":"2017-08-16"},{"$f":"IF($B107=\"\", \"\", CAD!C104)","v":1.2618},{"$f":"IF($B107=\"\", \"\",VLOOKUP($B107, CAD!$D$7:$E$2000, 2, FALSE))","v":1.2579400000000001},{"$f":"IF($B107=\"\", \"\",VLOOKUP($B107, CAD!$F$7:$G$2000, 2, FALSE))","v":1.2557499999999999},{"$f":"IF($B107=\"\", \"\",VLOOKUP($B107, CAD!$H$7:$I$2000, 2, FALSE))","v":1.2543500000000001},{"$f":"IF($B107=\"\", \"\",VLOOKUP($B107, CAD!$J$7:$K$2000, 2, FALSE))","v":1.2534700000000001},{"$f":"IF($B107=\"\", \"\", VLOOKUP($B107, CAD!$L$7:$M$2000, 2, FALSE))","v":1.2528900000000001},{"$f":"IF($B107=\"\", \"\", VLOOKUP($B107, CAD!$N$7:$O$2000, 2, FALSE))","v":1.2522800000000001},{"$f":"IF($B107=\"\", \"\", VLOOKUP($B107, CAD!$P$7:$Q$2000, 2, FALSE))","v":1.2523899999999999},{"$f":"IF($B107=\"\", \"\", VLOOKUP($B107, CAD!$R$7:$S$2000, 2, FALSE))","v":1.25332},{"$f":"IF($B107=\"\", \"\", VLOOKUP($B107, CAD!$T$7:$U$2000, 2, FALSE))","v":1.2557199999999999},{"$f":"IF($B107=\"\", \"\", VLOOKUP($B107, CAD!$V$7:$W$2000, 2, FALSE))","v":1.2593799999999999},null,{"$f":"IF(USSW!B104=\"\", \"\", USSW!B104)","v":"2017-08-15"},{"$f":"IF($O107=\"\", \"\", USSW!C104)","v":1.4755},{"$f":"IF($O107=\"\", \"\", VLOOKUP($O107, USSW!$D$7:$E$2000, 2, FALSE))","v":1.6068},{"$f":"IF($O107=\"\", \"\", VLOOKUP($O107, USSW!$F$7:$G$2000, 2, FALSE))","v":1.7124999999999999},{"$f":"IF($O107=\"\", \"\", VLOOKUP($O107, USSW!$H$7:$I$2000, 2, FALSE))","v":1.8079000000000001},{"$f":"IF($O107=\"\", \"\", VLOOKUP($O107, USSW!$J$7:$K$2000, 2, FALSE))","v":1.8949},{"$f":"IF($O107=\"\", \"\", VLOOKUP($O107, USSW!$L$7:$M$2000, 2, FALSE))","v":1.9685999999999999},{"$f":"IF($O107=\"\", \"\", VLOOKUP($O107, USSW!$N$7:$O$2000, 2, FALSE))","v":2.0510000000000002},{"$f":"IF($O107=\"\", \"\", VLOOKUP($O107, USSW!$P$7:$Q$2000, 2, FALSE))","v":2.1150000000000002},{"$f":"IF($O107=\"\", \"\", VLOOKUP($O107, USSW!$R$7:$S$2000, 2, FALSE))","v":2.1724999999999999},{"$f":"IF($O107=\"\", \"\", VLOOKUP($O107, USSW!$T$7:$U$2000, 2, FALSE))","v":2.2239}]
[null,{"$f":"IF(CAD!B105=\"\", \"\", CAD!B105)","v":"2017-08-15"},{"$f":"IF($B108=\"\", \"\", CAD!C105)","v":1.2757000000000001},{"$f":"IF($B108=\"\", \"\",VLOOKUP($B108, CAD!$D$7:$E$2000, 2, FALSE))","v":1.27203},{"$f":"IF($B108=\"\", \"\",VLOOKUP($B108, CAD!$F$7:$G$2000, 2, FALSE))","v":1.2693179999999999},{"$f":"IF($B108=\"\", \"\",VLOOKUP($B108, CAD!$H$7:$I$2000, 2, FALSE))","v":1.2680499999999999},{"$f":"IF($B108=\"\", \"\",VLOOKUP($B108, CAD!$J$7:$K$2000, 2, FALSE))","v":1.2670300000000001},{"$f":"IF($B108=\"\", \"\", VLOOKUP($B108, CAD!$L$7:$M$2000, 2, FALSE))","v":1.2662599999999999},{"$f":"IF($B108=\"\", \"\", VLOOKUP($B108, CAD!$N$7:$O$2000, 2, FALSE))","v":1.265555},{"$f":"IF($B108=\"\", \"\", VLOOKUP($B108, CAD!$P$7:$Q$2000, 2, FALSE))","v":1.2652600000000001},{"$f":"IF($B108=\"\", \"\", VLOOKUP($B108, CAD!$R$7:$S$2000, 2, FALSE))","v":1.2659400000000001},{"$f":"IF($B108=\"\", \"\", VLOOKUP($B108, CAD!$T$7:$U$2000, 2, FALSE))","v":1.2677639999999999},{"$f":"IF($B108=\"\", \"\", VLOOKUP($B108, CAD!$V$7:$W$2000, 2, FALSE))","v":1.270699},null,{"$f":"IF(USSW!B105=\"\", \"\", USSW!B105)","v":"2017-08-14"},{"$f":"IF($O108=\"\", \"\", USSW!C105)","v":1.4588000000000001},{"$f":"IF($O108=\"\", \"\", VLOOKUP($O108, USSW!$D$7:$E$2000, 2, FALSE))","v":1.5760000000000001},{"$f":"IF($O108=\"\", \"\", VLOOKUP($O108, USSW!$F$7:$G$2000, 2, FALSE))","v":1.6759999999999999},{"$f":"IF($O108=\"\", \"\", VLOOKUP($O108, USSW!$H$7:$I$2000, 2, FALSE))","v":1.7635000000000001},{"$f":"IF($O108=\"\", \"\", VLOOKUP($O108, USSW!$J$7:$K$2000, 2, FALSE))","v":1.8474999999999999},{"$f":"IF($O108=\"\", \"\", VLOOKUP($O108, USSW!$L$7:$M$2000, 2, FALSE))","v":1.9260999999999999},{"$f":"IF($O108=\"\", \"\", VLOOKUP($O108, USSW!$N$7:$O$2000, 2, FALSE))","v":2.0003000000000002},{"$f":"IF($O108=\"\", \"\", VLOOKUP($O108, USSW!$P$7:$Q$2000, 2, FALSE))","v":2.0659000000000001},{"$f":"IF($O108=\"\", \"\", VLOOKUP($O108, USSW!$R$7:$S$2000, 2, FALSE))","v":2.1217000000000001},{"$f":"IF($O108=\"\", \"\", VLOOKUP($O108, USSW!$T$7:$U$2000, 2, FALSE))","v":2.1743999999999999}]
[null,{"$f":"IF(CAD!B106=\"\", \"\", CAD!B106)","v":"2017-08-14"},{"$f":"IF($B109=\"\", \"\", CAD!C106)","v":1.2722},{"$f":"IF($B109=\"\", \"\",VLOOKUP($B109, CAD!$D$7:$E$2000, 2, FALSE))","v":1.2686500000000001},{"$f":"IF($B109=\"\", \"\",VLOOKUP($B109, CAD!$F$7:$G$2000, 2, FALSE))","v":1.2663500000000001},{"$f":"IF($B109=\"\", \"\",VLOOKUP($B109, CAD!$H$7:$I$2000, 2, FALSE))","v":1.2654300000000001},{"$f":"IF($B109=\"\", \"\",VLOOKUP($B109, CAD!$J$7:$K$2000, 2, FALSE))","v":1.2649300000000001},{"$f":"IF($B109=\"\", \"\", VLOOKUP($B109, CAD!$L$7:$M$2000, 2, FALSE))","v":1.2649349999999999},{"$f":"IF($B109=\"\", \"\", VLOOKUP($B109, CAD!$N$7:$O$2000, 2, FALSE))","v":1.26461},{"$f":"IF($B109=\"\", \"\", VLOOKUP($B109, CAD!$P$7:$Q$2000, 2, FALSE))","v":1.2652000000000001},{"$f":"IF($B109=\"\", \"\", VLOOKUP($B109, CAD!$R$7:$S$2000, 2, FALSE))","v":1.266265},{"$f":"IF($B109=\"\", \"\", VLOOKUP($B109, CAD!$T$7:$U$2000, 2, FALSE))","v":1.2682899999999999},{"$f":"IF($B109=\"\", \"\", VLOOKUP($B109, CAD!$V$7:$W$2000, 2, FALSE))","v":1.2717799999999999},null,{"$f":"IF(USSW!B106=\"\", \"\", USSW!B106)","v":"2017-08-11"},{"$f":"IF($O109=\"\", \"\", USSW!C106)","v":1.4422999999999999},{"$f":"IF($O109=\"\", \"\", VLOOKUP($O109, USSW!$D$7:$E$2000, 2, FALSE))","v":1.5545},{"$f":"IF($O109=\"\", \"\", VLOOKUP($O109, USSW!$F$7:$G$2000, 2, FALSE))","v":1.6531},{"$f":"IF($O109=\"\", \"\", VLOOKUP($O109, USSW!$H$7:$I$2000, 2, FALSE))","v":1.7423},{"$f":"IF($O109=\"\", \"\", VLOOKUP($O109, USSW!$J$7:$K$2000, 2, FALSE))","v":1.8254999999999999},{"$f":"IF($O109=\"\", \"\", VLOOKUP($O109, USSW!$L$7:$M$2000, 2, FALSE))","v":1.9032},{"$f":"IF($O109=\"\", \"\", VLOOKUP($O109, USSW!$N$7:$O$2000, 2, FALSE))","v":1.9744999999999999},{"$f":"IF($O109=\"\", \"\", VLOOKUP($O109, USSW!$P$7:$Q$2000, 2, FALSE))","v":2.04},{"$f":"IF($O109=\"\", \"\", VLOOKUP($O109, USSW!$R$7:$S$2000, 2, FALSE))","v":2.0969000000000002},{"$f":"IF($O109=\"\", \"\", VLOOKUP($O109, USSW!$T$7:$U$2000, 2, FALSE))","v":2.1497999999999999}]
[null,{"$f":"IF(CAD!B107=\"\", \"\", CAD!B107)","v":"2017-08-11"},{"$f":"IF($B110=\"\", \"\", CAD!C107)","v":1.2677},{"$f":"IF($B110=\"\", \"\",VLOOKUP($B110, CAD!$D$7:$E$2000, 2, FALSE))","v":1.2642500000000001},{"$f":"IF($B110=\"\", \"\",VLOOKUP($B110, CAD!$F$7:$G$2000, 2, FALSE))","v":1.2618499999999999},{"$f":"IF($B110=\"\", \"\",VLOOKUP($B110, CAD!$H$7:$I$2000, 2, FALSE))","v":1.2611300000000001},{"$f":"IF($B110=\"\", \"\",VLOOKUP($B110, CAD!$J$7:$K$2000, 2, FALSE))","v":1.2607699999999999},{"$f":"IF($B110=\"\", \"\", VLOOKUP($B110, CAD!$L$7:$M$2000, 2, FALSE))","v":1.260815},{"$f":"IF($B110=\"\", \"\", VLOOKUP($B110, CAD!$N$7:$O$2000, 2, FALSE))","v":1.2606299999999999},{"$f":"IF($B110=\"\", \"\", VLOOKUP($B110, CAD!$P$7:$Q$2000, 2, FALSE))","v":1.2613799999999999},{"$f":"IF($B110=\"\", \"\", VLOOKUP($B110, CAD!$R$7:$S$2000, 2, FALSE))","v":1.2624599999999999},{"$f":"IF($B110=\"\", \"\", VLOOKUP($B110, CAD!$T$7:$U$2000, 2, FALSE))","v":1.2645500000000001},{"$f":"IF($B110=\"\", \"\", VLOOKUP($B110, CAD!$V$7:$W$2000, 2, FALSE))","v":1.2681100000000001},null,{"$f":"IF(USSW!B107=\"\", \"\", USSW!B107)","v":"2017-08-10"},{"$f":"IF($O110=\"\", \"\", USSW!C107)","v":1.4603999999999999},{"$f":"IF($O110=\"\", \"\", VLOOKUP($O110, USSW!$D$7:$E$2000, 2, FALSE))","v":1.5851999999999999},{"$f":"IF($O110=\"\", \"\", VLOOKUP($O110, USSW!$F$7:$G$2000, 2, FALSE))","v":1.6879999999999999},{"$f":"IF($O110=\"\", \"\", VLOOKUP($O110, USSW!$H$7:$I$2000, 2, FALSE))","v":1.7718},{"$f":"IF($O110=\"\", \"\", VLOOKUP($O110, USSW!$J$7:$K$2000, 2, FALSE))","v":1.8601000000000001},{"$f":"IF($O110=\"\", \"\", VLOOKUP($O110, USSW!$L$7:$M$2000, 2, FALSE))","v":1.9365000000000001},{"$f":"IF($O110=\"\", \"\", VLOOKUP($O110, USSW!$N$7:$O$2000, 2, FALSE))","v":1.9963},{"$f":"IF($O110=\"\", \"\", VLOOKUP($O110, USSW!$P$7:$Q$2000, 2, FALSE))","v":2.0689000000000002},{"$f":"IF($O110=\"\", \"\", VLOOKUP($O110, USSW!$R$7:$S$2000, 2, FALSE))","v":2.113},{"$f":"IF($O110=\"\", \"\", VLOOKUP($O110, USSW!$T$7:$U$2000, 2, FALSE))","v":2.1623000000000001}]
[null,{"$f":"IF(CAD!B108=\"\", \"\", CAD!B108)","v":"2017-08-10"},{"$f":"IF($B111=\"\", \"\", CAD!C108)","v":1.2744},{"$f":"IF($B111=\"\", \"\",VLOOKUP($B111, CAD!$D$7:$E$2000, 2, FALSE))","v":1.2706599999999999},{"$f":"IF($B111=\"\", \"\",VLOOKUP($B111, CAD!$F$7:$G$2000, 2, FALSE))","v":1.268265},{"$f":"IF($B111=\"\", \"\",VLOOKUP($B111, CAD!$H$7:$I$2000, 2, FALSE))","v":1.2666999999999999},{"$f":"IF($B111=\"\", \"\",VLOOKUP($B111, CAD!$J$7:$K$2000, 2, FALSE))","v":1.2663500000000001},{"$f":"IF($B111=\"\", \"\", VLOOKUP($B111, CAD!$L$7:$M$2000, 2, FALSE))","v":1.26596},{"$f":"IF($B111=\"\", \"\", VLOOKUP($B111, CAD!$N$7:$O$2000, 2, FALSE))","v":1.26614},{"$f":"IF($B111=\"\", \"\", VLOOKUP($B111, CAD!$P$7:$Q$2000, 2, FALSE))","v":1.2664200000000001},{"$f":"IF($B111=\"\", \"\", VLOOKUP($B111, CAD!$R$7:$S$2000, 2, FALSE))","v":1.2677149999999999},{"$f":"IF($B111=\"\", \"\", VLOOKUP($B111, CAD!$T$7:$U$2000, 2, FALSE))","v":1.2697050000000001},{"$f":"IF($B111=\"\", \"\", VLOOKUP($B111, CAD!$V$7:$W$2000, 2, FALSE))","v":1.27325},null,{"$f":"IF(USSW!B108=\"\", \"\", USSW!B108)","v":"2017-08-09"},{"$f":"IF($O111=\"\", \"\", USSW!C108)","v":1.4651000000000001},{"$f":"IF($O111=\"\", \"\", VLOOKUP($O111, USSW!$D$7:$E$2000, 2, FALSE))","v":1.6063000000000001},{"$f":"IF($O111=\"\", \"\", VLOOKUP($O111, USSW!$F$7:$G$2000, 2, FALSE))","v":1.7091000000000001},{"$f":"IF($O111=\"\", \"\", VLOOKUP($O111, USSW!$H$7:$I$2000, 2, FALSE))","v":1.8009999999999999},{"$f":"IF($O111=\"\", \"\", VLOOKUP($O111, USSW!$J$7:$K$2000, 2, FALSE))","v":1.8859999999999999},{"$f":"IF($O111=\"\", \"\", VLOOKUP($O111, USSW!$L$7:$M$2000, 2, FALSE))","v":1.9652000000000001},{"$f":"IF($O111=\"\", \"\", VLOOKUP($O111, USSW!$N$7:$O$2000, 2, FALSE))","v":2.0405000000000002},{"$f":"IF($O111=\"\", \"\", VLOOKUP($O111, USSW!$P$7:$Q$2000, 2, FALSE))","v":2.1061000000000001},{"$f":"IF($O111=\"\", \"\", VLOOKUP($O111, USSW!$R$7:$S$2000, 2, FALSE))","v":2.1627000000000001},{"$f":"IF($O111=\"\", \"\", VLOOKUP($O111, USSW!$T$7:$U$2000, 2, FALSE))","v":2.2132000000000001}]
[null,{"$f":"IF(CAD!B109=\"\", \"\", CAD!B109)","v":"2017-08-09"},{"$f":"IF($B112=\"\", \"\", CAD!C109)","v":1.27},{"$f":"IF($B112=\"\", \"\",VLOOKUP($B112, CAD!$D$7:$E$2000, 2, FALSE))","v":1.2663150000000001},{"$f":"IF($B112=\"\", \"\",VLOOKUP($B112, CAD!$F$7:$G$2000, 2, FALSE))","v":1.263657},{"$f":"IF($B112=\"\", \"\",VLOOKUP($B112, CAD!$H$7:$I$2000, 2, FALSE))","v":1.26227},{"$f":"IF($B112=\"\", \"\",VLOOKUP($B112, CAD!$J$7:$K$2000, 2, FALSE))","v":1.2620100000000001},{"$f":"IF($B112=\"\", \"\", VLOOKUP($B112, CAD!$L$7:$M$2000, 2, FALSE))","v":1.26233},{"$f":"IF($B112=\"\", \"\", VLOOKUP($B112, CAD!$N$7:$O$2000, 2, FALSE))","v":1.2620750000000001},{"$f":"IF($B112=\"\", \"\", VLOOKUP($B112, CAD!$P$7:$Q$2000, 2, FALSE))","v":1.26206},{"$f":"IF($B112=\"\", \"\", VLOOKUP($B112, CAD!$R$7:$S$2000, 2, FALSE))","v":1.2629649999999999},{"$f":"IF($B112=\"\", \"\", VLOOKUP($B112, CAD!$T$7:$U$2000, 2, FALSE))","v":1.2649349999999999},{"$f":"IF($B112=\"\", \"\", VLOOKUP($B112, CAD!$V$7:$W$2000, 2, FALSE))","v":1.2684899999999999},null,{"$f":"IF(USSW!B109=\"\", \"\", USSW!B109)","v":"2017-08-08"},{"$f":"IF($O112=\"\", \"\", USSW!C109)","v":1.4721},{"$f":"IF($O112=\"\", \"\", VLOOKUP($O112, USSW!$D$7:$E$2000, 2, FALSE))","v":1.6120000000000001},{"$f":"IF($O112=\"\", \"\", VLOOKUP($O112, USSW!$F$7:$G$2000, 2, FALSE))","v":1.72},{"$f":"IF($O112=\"\", \"\", VLOOKUP($O112, USSW!$H$7:$I$2000, 2, FALSE))","v":1.8115000000000001},{"$f":"IF($O112=\"\", \"\", VLOOKUP($O112, USSW!$J$7:$K$2000, 2, FALSE))","v":1.8946000000000001},{"$f":"IF($O112=\"\", \"\", VLOOKUP($O112, USSW!$L$7:$M$2000, 2, FALSE))","v":1.976},{"$f":"IF($O112=\"\", \"\", VLOOKUP($O112, USSW!$N$7:$O$2000, 2, FALSE))","v":2.0514000000000001},{"$f":"IF($O112=\"\", \"\", VLOOKUP($O112, USSW!$P$7:$Q$2000, 2, FALSE))","v":2.1284000000000001},{"$f":"IF($O112=\"\", \"\", VLOOKUP($O112, USSW!$R$7:$S$2000, 2, FALSE))","v":2.1732},{"$f":"IF($O112=\"\", \"\", VLOOKUP($O112, USSW!$T$7:$U$2000, 2, FALSE))","v":2.2250999999999999}]
[null,{"$f":"IF(CAD!B110=\"\", \"\", CAD!B110)","v":"2017-08-08"},{"$f":"IF($B113=\"\", \"\", CAD!C110)","v":1.2666999999999999},{"$f":"IF($B113=\"\", \"\",VLOOKUP($B113, CAD!$D$7:$E$2000, 2, FALSE))","v":1.2630300000000001},{"$f":"IF($B113=\"\", \"\",VLOOKUP($B113, CAD!$F$7:$G$2000, 2, FALSE))","v":1.2602800000000001},{"$f":"IF($B113=\"\", \"\",VLOOKUP($B113, CAD!$H$7:$I$2000, 2, FALSE))","v":1.2591000000000001},{"$f":"IF($B113=\"\", \"\",VLOOKUP($B113, CAD!$J$7:$K$2000, 2, FALSE))","v":1.2591600000000001},{"$f":"IF($B113=\"\", \"\", VLOOKUP($B113, CAD!$L$7:$M$2000, 2, FALSE))","v":1.260005},{"$f":"IF($B113=\"\", \"\", VLOOKUP($B113, CAD!$N$7:$O$2000, 2, FALSE))","v":1.259225},{"$f":"IF($B113=\"\", \"\", VLOOKUP($B113, CAD!$P$7:$Q$2000, 2, FALSE))","v":1.2599},{"$f":"IF($B113=\"\", \"\", VLOOKUP($B113, CAD!$R$7:$S$2000, 2, FALSE))","v":1.2614749999999999},{"$f":"IF($B113=\"\", \"\", VLOOKUP($B113, CAD!$T$7:$U$2000, 2, FALSE))","v":1.2650999999999999},{"$f":"IF($B113=\"\", \"\", VLOOKUP($B113, CAD!$V$7:$W$2000, 2, FALSE))","v":1.2701199999999999},null,{"$f":"IF(USSW!B110=\"\", \"\", USSW!B110)","v":"2017-08-07"},{"$f":"IF($O113=\"\", \"\", USSW!C110)","v":1.4668000000000001},{"$f":"IF($O113=\"\", \"\", VLOOKUP($O113, USSW!$D$7:$E$2000, 2, FALSE))","v":1.6032999999999999},{"$f":"IF($O113=\"\", \"\", VLOOKUP($O113, USSW!$F$7:$G$2000, 2, FALSE))","v":1.71},{"$f":"IF($O113=\"\", \"\", VLOOKUP($O113, USSW!$H$7:$I$2000, 2, FALSE))","v":1.8013999999999999},{"$f":"IF($O113=\"\", \"\", VLOOKUP($O113, USSW!$J$7:$K$2000, 2, FALSE))","v":1.8862000000000001},{"$f":"IF($O113=\"\", \"\", VLOOKUP($O113, USSW!$L$7:$M$2000, 2, FALSE))","v":1.9684999999999999},{"$f":"IF($O113=\"\", \"\", VLOOKUP($O113, USSW!$N$7:$O$2000, 2, FALSE))","v":2.0430000000000001},{"$f":"IF($O113=\"\", \"\", VLOOKUP($O113, USSW!$P$7:$Q$2000, 2, FALSE))","v":2.1089000000000002},{"$f":"IF($O113=\"\", \"\", VLOOKUP($O113, USSW!$R$7:$S$2000, 2, FALSE))","v":2.1661999999999999},{"$f":"IF($O113=\"\", \"\", VLOOKUP($O113, USSW!$T$7:$U$2000, 2, FALSE))","v":2.2128999999999999}]
[null,{"$f":"IF(CAD!B111=\"\", \"\", CAD!B111)","v":"2017-08-07"},{"$f":"IF($B114=\"\", \"\", CAD!C111)","v":1.268},{"$f":"IF($B114=\"\", \"\",VLOOKUP($B114, CAD!$D$7:$E$2000, 2, FALSE))","v":1.264175},{"$f":"IF($B114=\"\", \"\",VLOOKUP($B114, CAD!$F$7:$G$2000, 2, FALSE))","v":1.26135},{"$f":"IF($B114=\"\", \"\",VLOOKUP($B114, CAD!$H$7:$I$2000, 2, FALSE))","v":1.2605},{"$f":"IF($B114=\"\", \"\",VLOOKUP($B114, CAD!$J$7:$K$2000, 2, FALSE))","v":1.26027},{"$f":"IF($B114=\"\", \"\", VLOOKUP($B114, CAD!$L$7:$M$2000, 2, FALSE))","v":1.260955},{"$f":"IF($B114=\"\", \"\", VLOOKUP($B114, CAD!$N$7:$O$2000, 2, FALSE))","v":1.260475},{"$f":"IF($B114=\"\", \"\", VLOOKUP($B114, CAD!$P$7:$Q$2000, 2, FALSE))","v":1.260975},{"$f":"IF($B114=\"\", \"\", VLOOKUP($B114, CAD!$R$7:$S$2000, 2, FALSE))","v":1.262065},{"$f":"IF($B114=\"\", \"\", VLOOKUP($B114, CAD!$T$7:$U$2000, 2, FALSE))","v":1.2645200000000001},{"$f":"IF($B114=\"\", \"\", VLOOKUP($B114, CAD!$V$7:$W$2000, 2, FALSE))","v":1.2681500000000001},null,{"$f":"IF(USSW!B111=\"\", \"\", USSW!B111)","v":"2017-08-04"},{"$f":"IF($O114=\"\", \"\", USSW!C111)","v":1.4677},{"$f":"IF($O114=\"\", \"\", VLOOKUP($O114, USSW!$D$7:$E$2000, 2, FALSE))","v":1.605},{"$f":"IF($O114=\"\", \"\", VLOOKUP($O114, USSW!$F$7:$G$2000, 2, FALSE))","v":1.7141},{"$f":"IF($O114=\"\", \"\", VLOOKUP($O114, USSW!$H$7:$I$2000, 2, FALSE))","v":1.8085},{"$f":"IF($O114=\"\", \"\", VLOOKUP($O114, USSW!$J$7:$K$2000, 2, FALSE))","v":1.9006000000000001},{"$f":"IF($O114=\"\", \"\", VLOOKUP($O114, USSW!$L$7:$M$2000, 2, FALSE))","v":1.9830000000000001},{"$f":"IF($O114=\"\", \"\", VLOOKUP($O114, USSW!$N$7:$O$2000, 2, FALSE))","v":2.0583999999999998},{"$f":"IF($O114=\"\", \"\", VLOOKUP($O114, USSW!$P$7:$Q$2000, 2, FALSE))","v":2.1244000000000001},{"$f":"IF($O114=\"\", \"\", VLOOKUP($O114, USSW!$R$7:$S$2000, 2, FALSE))","v":2.1825999999999999},{"$f":"IF($O114=\"\", \"\", VLOOKUP($O114, USSW!$T$7:$U$2000, 2, FALSE))","v":2.23}]
[null,{"$f":"IF(CAD!B112=\"\", \"\", CAD!B112)","v":"2017-08-04"},{"$f":"IF($B115=\"\", \"\", CAD!C112)","v":1.2645},{"$f":"IF($B115=\"\", \"\",VLOOKUP($B115, CAD!$D$7:$E$2000, 2, FALSE))","v":1.26067},{"$f":"IF($B115=\"\", \"\",VLOOKUP($B115, CAD!$F$7:$G$2000, 2, FALSE))","v":1.25803},{"$f":"IF($B115=\"\", \"\",VLOOKUP($B115, CAD!$H$7:$I$2000, 2, FALSE))","v":1.2571300000000001},{"$f":"IF($B115=\"\", \"\",VLOOKUP($B115, CAD!$J$7:$K$2000, 2, FALSE))","v":1.256589},{"$f":"IF($B115=\"\", \"\", VLOOKUP($B115, CAD!$L$7:$M$2000, 2, FALSE))","v":1.2566759999999999},{"$f":"IF($B115=\"\", \"\", VLOOKUP($B115, CAD!$N$7:$O$2000, 2, FALSE))","v":1.25641},{"$f":"IF($B115=\"\", \"\", VLOOKUP($B115, CAD!$P$7:$Q$2000, 2, FALSE))","v":1.2567999999999999},{"$f":"IF($B115=\"\", \"\", VLOOKUP($B115, CAD!$R$7:$S$2000, 2, FALSE))","v":1.257395},{"$f":"IF($B115=\"\", \"\", VLOOKUP($B115, CAD!$T$7:$U$2000, 2, FALSE))","v":1.2589900000000001},{"$f":"IF($B115=\"\", \"\", VLOOKUP($B115, CAD!$V$7:$W$2000, 2, FALSE))","v":1.26136},null,{"$f":"IF(USSW!B112=\"\", \"\", USSW!B112)","v":"2017-08-03"},{"$f":"IF($O115=\"\", \"\", USSW!C112)","v":1.4567000000000001},{"$f":"IF($O115=\"\", \"\", VLOOKUP($O115, USSW!$D$7:$E$2000, 2, FALSE))","v":1.5869},{"$f":"IF($O115=\"\", \"\", VLOOKUP($O115, USSW!$F$7:$G$2000, 2, FALSE))","v":1.6899},{"$f":"IF($O115=\"\", \"\", VLOOKUP($O115, USSW!$H$7:$I$2000, 2, FALSE))","v":1.7816000000000001},{"$f":"IF($O115=\"\", \"\", VLOOKUP($O115, USSW!$J$7:$K$2000, 2, FALSE))","v":1.8651},{"$f":"IF($O115=\"\", \"\", VLOOKUP($O115, USSW!$L$7:$M$2000, 2, FALSE))","v":1.9479},{"$f":"IF($O115=\"\", \"\", VLOOKUP($O115, USSW!$N$7:$O$2000, 2, FALSE))","v":2.0202},{"$f":"IF($O115=\"\", \"\", VLOOKUP($O115, USSW!$P$7:$Q$2000, 2, FALSE))","v":2.0857000000000001},{"$f":"IF($O115=\"\", \"\", VLOOKUP($O115, USSW!$R$7:$S$2000, 2, FALSE))","v":2.1436000000000002},{"$f":"IF($O115=\"\", \"\", VLOOKUP($O115, USSW!$T$7:$U$2000, 2, FALSE))","v":2.1934999999999998}]
[null,{"$f":"IF(CAD!B113=\"\", \"\", CAD!B113)","v":"2017-08-03"},{"$f":"IF($B116=\"\", \"\", CAD!C113)","v":1.2585999999999999},{"$f":"IF($B116=\"\", \"\",VLOOKUP($B116, CAD!$D$7:$E$2000, 2, FALSE))","v":1.2549999999999999},{"$f":"IF($B116=\"\", \"\",VLOOKUP($B116, CAD!$F$7:$G$2000, 2, FALSE))","v":1.2528539999999999},{"$f":"IF($B116=\"\", \"\",VLOOKUP($B116, CAD!$H$7:$I$2000, 2, FALSE))","v":1.251925},{"$f":"IF($B116=\"\", \"\",VLOOKUP($B116, CAD!$J$7:$K$2000, 2, FALSE))","v":1.25156},{"$f":"IF($B116=\"\", \"\", VLOOKUP($B116, CAD!$L$7:$M$2000, 2, FALSE))","v":1.252284},{"$f":"IF($B116=\"\", \"\", VLOOKUP($B116, CAD!$N$7:$O$2000, 2, FALSE))","v":1.2513099999999999},{"$f":"IF($B116=\"\", \"\", VLOOKUP($B116, CAD!$P$7:$Q$2000, 2, FALSE))","v":1.2515400000000001},{"$f":"IF($B116=\"\", \"\", VLOOKUP($B116, CAD!$R$7:$S$2000, 2, FALSE))","v":1.252515},{"$f":"IF($B116=\"\", \"\", VLOOKUP($B116, CAD!$T$7:$U$2000, 2, FALSE))","v":1.254345},{"$f":"IF($B116=\"\", \"\", VLOOKUP($B116, CAD!$V$7:$W$2000, 2, FALSE))","v":1.25789},null,{"$f":"IF(USSW!B113=\"\", \"\", USSW!B113)","v":"2017-08-02"},{"$f":"IF($O116=\"\", \"\", USSW!C113)","v":1.4659},{"$f":"IF($O116=\"\", \"\", VLOOKUP($O116, USSW!$D$7:$E$2000, 2, FALSE))","v":1.6032999999999999},{"$f":"IF($O116=\"\", \"\", VLOOKUP($O116, USSW!$F$7:$G$2000, 2, FALSE))","v":1.7132000000000001},{"$f":"IF($O116=\"\", \"\", VLOOKUP($O116, USSW!$H$7:$I$2000, 2, FALSE))","v":1.8098000000000001},{"$f":"IF($O116=\"\", \"\", VLOOKUP($O116, USSW!$J$7:$K$2000, 2, FALSE))","v":1.8997999999999999},{"$f":"IF($O116=\"\", \"\", VLOOKUP($O116, USSW!$L$7:$M$2000, 2, FALSE))","v":1.9824999999999999},{"$f":"IF($O116=\"\", \"\", VLOOKUP($O116, USSW!$N$7:$O$2000, 2, FALSE))","v":2.0579999999999998},{"$f":"IF($O116=\"\", \"\", VLOOKUP($O116, USSW!$P$7:$Q$2000, 2, FALSE))","v":2.1240000000000001},{"$f":"IF($O116=\"\", \"\", VLOOKUP($O116, USSW!$R$7:$S$2000, 2, FALSE))","v":2.1821999999999999},{"$f":"IF($O116=\"\", \"\", VLOOKUP($O116, USSW!$T$7:$U$2000, 2, FALSE))","v":2.2345000000000002}]
[null,{"$f":"IF(CAD!B114=\"\", \"\", CAD!B114)","v":"2017-08-02"},{"$f":"IF($B117=\"\", \"\", CAD!C114)","v":1.2569999999999999},{"$f":"IF($B117=\"\", \"\",VLOOKUP($B117, CAD!$D$7:$E$2000, 2, FALSE))","v":1.253495},{"$f":"IF($B117=\"\", \"\",VLOOKUP($B117, CAD!$F$7:$G$2000, 2, FALSE))","v":1.25125},{"$f":"IF($B117=\"\", \"\",VLOOKUP($B117, CAD!$H$7:$I$2000, 2, FALSE))","v":1.2503500000000001},{"$f":"IF($B117=\"\", \"\",VLOOKUP($B117, CAD!$J$7:$K$2000, 2, FALSE))","v":1.2499},{"$f":"IF($B117=\"\", \"\", VLOOKUP($B117, CAD!$L$7:$M$2000, 2, FALSE))","v":1.2502279999999999},{"$f":"IF($B117=\"\", \"\", VLOOKUP($B117, CAD!$N$7:$O$2000, 2, FALSE))","v":1.24979},{"$f":"IF($B117=\"\", \"\", VLOOKUP($B117, CAD!$P$7:$Q$2000, 2, FALSE))","v":1.2501549999999999},{"$f":"IF($B117=\"\", \"\", VLOOKUP($B117, CAD!$R$7:$S$2000, 2, FALSE))","v":1.250785},{"$f":"IF($B117=\"\", \"\", VLOOKUP($B117, CAD!$T$7:$U$2000, 2, FALSE))","v":1.252926},{"$f":"IF($B117=\"\", \"\", VLOOKUP($B117, CAD!$V$7:$W$2000, 2, FALSE))","v":1.25604},null,{"$f":"IF(USSW!B114=\"\", \"\", USSW!B114)","v":"2017-08-01"},{"$f":"IF($O117=\"\", \"\", USSW!C114)","v":1.4558},{"$f":"IF($O117=\"\", \"\", VLOOKUP($O117, USSW!$D$7:$E$2000, 2, FALSE))","v":1.5858000000000001},{"$f":"IF($O117=\"\", \"\", VLOOKUP($O117, USSW!$F$7:$G$2000, 2, FALSE))","v":1.6924999999999999},{"$f":"IF($O117=\"\", \"\", VLOOKUP($O117, USSW!$H$7:$I$2000, 2, FALSE))","v":1.7867999999999999},{"$f":"IF($O117=\"\", \"\", VLOOKUP($O117, USSW!$J$7:$K$2000, 2, FALSE))","v":1.8743000000000001},{"$f":"IF($O117=\"\", \"\", VLOOKUP($O117, USSW!$L$7:$M$2000, 2, FALSE))","v":1.956},{"$f":"IF($O117=\"\", \"\", VLOOKUP($O117, USSW!$N$7:$O$2000, 2, FALSE))","v":2.0310000000000001},{"$f":"IF($O117=\"\", \"\", VLOOKUP($O117, USSW!$P$7:$Q$2000, 2, FALSE))","v":2.0973000000000002},{"$f":"IF($O117=\"\", \"\", VLOOKUP($O117, USSW!$R$7:$S$2000, 2, FALSE))","v":2.1566999999999998},{"$f":"IF($O117=\"\", \"\", VLOOKUP($O117, USSW!$T$7:$U$2000, 2, FALSE))","v":2.2088000000000001}]
[null,{"$f":"IF(CAD!B115=\"\", \"\", CAD!B115)","v":"2017-08-01"},{"$f":"IF($B118=\"\", \"\", CAD!C115)","v":1.2538},{"$f":"IF($B118=\"\", \"\",VLOOKUP($B118, CAD!$D$7:$E$2000, 2, FALSE))","v":1.2503249999999999},{"$f":"IF($B118=\"\", \"\",VLOOKUP($B118, CAD!$F$7:$G$2000, 2, FALSE))","v":1.24838},{"$f":"IF($B118=\"\", \"\",VLOOKUP($B118, CAD!$H$7:$I$2000, 2, FALSE))","v":1.2476400000000001},{"$f":"IF($B118=\"\", \"\",VLOOKUP($B118, CAD!$J$7:$K$2000, 2, FALSE))","v":1.2472749999999999},{"$f":"IF($B118=\"\", \"\", VLOOKUP($B118, CAD!$L$7:$M$2000, 2, FALSE))","v":1.2478499999999999},{"$f":"IF($B118=\"\", \"\", VLOOKUP($B118, CAD!$N$7:$O$2000, 2, FALSE))","v":1.2479},{"$f":"IF($B118=\"\", \"\", VLOOKUP($B118, CAD!$P$7:$Q$2000, 2, FALSE))","v":1.24871},{"$f":"IF($B118=\"\", \"\", VLOOKUP($B118, CAD!$R$7:$S$2000, 2, FALSE))","v":1.2499400000000001},{"$f":"IF($B118=\"\", \"\", VLOOKUP($B118, CAD!$T$7:$U$2000, 2, FALSE))","v":1.2525500000000001},{"$f":"IF($B118=\"\", \"\", VLOOKUP($B118, CAD!$V$7:$W$2000, 2, FALSE))","v":1.2565200000000001},null,{"$f":"IF(USSW!B115=\"\", \"\", USSW!B115)","v":"2017-07-31"},{"$f":"IF($O118=\"\", \"\", USSW!C115)","v":1.4595},{"$f":"IF($O118=\"\", \"\", VLOOKUP($O118, USSW!$D$7:$E$2000, 2, FALSE))","v":1.5987},{"$f":"IF($O118=\"\", \"\", VLOOKUP($O118, USSW!$F$7:$G$2000, 2, FALSE))","v":1.7150000000000001},{"$f":"IF($O118=\"\", \"\", VLOOKUP($O118, USSW!$H$7:$I$2000, 2, FALSE))","v":1.8152999999999999},{"$f":"IF($O118=\"\", \"\", VLOOKUP($O118, USSW!$J$7:$K$2000, 2, FALSE))","v":1.9077},{"$f":"IF($O118=\"\", \"\", VLOOKUP($O118, USSW!$L$7:$M$2000, 2, FALSE))","v":1.9917},{"$f":"IF($O118=\"\", \"\", VLOOKUP($O118, USSW!$N$7:$O$2000, 2, FALSE))","v":2.069},{"$f":"IF($O118=\"\", \"\", VLOOKUP($O118, USSW!$P$7:$Q$2000, 2, FALSE))","v":2.1362999999999999},{"$f":"IF($O118=\"\", \"\", VLOOKUP($O118, USSW!$R$7:$S$2000, 2, FALSE))","v":2.1959},{"$f":"IF($O118=\"\", \"\", VLOOKUP($O118, USSW!$T$7:$U$2000, 2, FALSE))","v":2.2483}]
[null,{"$f":"IF(CAD!B116=\"\", \"\", CAD!B116)","v":"2017-07-31"},{"$f":"IF($B119=\"\", \"\", CAD!C116)","v":1.248},{"$f":"IF($B119=\"\", \"\",VLOOKUP($B119, CAD!$D$7:$E$2000, 2, FALSE))","v":1.2448509999999999},{"$f":"IF($B119=\"\", \"\",VLOOKUP($B119, CAD!$F$7:$G$2000, 2, FALSE))","v":1.24315},{"$f":"IF($B119=\"\", \"\",VLOOKUP($B119, CAD!$H$7:$I$2000, 2, FALSE))","v":1.243085},{"$f":"IF($B119=\"\", \"\",VLOOKUP($B119, CAD!$J$7:$K$2000, 2, FALSE))","v":1.24352},{"$f":"IF($B119=\"\", \"\", VLOOKUP($B119, CAD!$L$7:$M$2000, 2, FALSE))","v":1.2450000000000001},{"$f":"IF($B119=\"\", \"\", VLOOKUP($B119, CAD!$N$7:$O$2000, 2, FALSE))","v":1.245735},{"$f":"IF($B119=\"\", \"\", VLOOKUP($B119, CAD!$P$7:$Q$2000, 2, FALSE))","v":1.2472049999999999},{"$f":"IF($B119=\"\", \"\", VLOOKUP($B119, CAD!$R$7:$S$2000, 2, FALSE))","v":1.24919},{"$f":"IF($B119=\"\", \"\", VLOOKUP($B119, CAD!$T$7:$U$2000, 2, FALSE))","v":1.2525999999999999},{"$f":"IF($B119=\"\", \"\", VLOOKUP($B119, CAD!$V$7:$W$2000, 2, FALSE))","v":1.2576799999999999},null,{"$f":"IF(USSW!B116=\"\", \"\", USSW!B116)","v":"2017-07-28"},{"$f":"IF($O119=\"\", \"\", USSW!C116)","v":1.4544999999999999},{"$f":"IF($O119=\"\", \"\", VLOOKUP($O119, USSW!$D$7:$E$2000, 2, FALSE))","v":1.591},{"$f":"IF($O119=\"\", \"\", VLOOKUP($O119, USSW!$F$7:$G$2000, 2, FALSE))","v":1.7070000000000001},{"$f":"IF($O119=\"\", \"\", VLOOKUP($O119, USSW!$H$7:$I$2000, 2, FALSE))","v":1.8097000000000001},{"$f":"IF($O119=\"\", \"\", VLOOKUP($O119, USSW!$J$7:$K$2000, 2, FALSE))","v":1.9038999999999999},{"$f":"IF($O119=\"\", \"\", VLOOKUP($O119, USSW!$L$7:$M$2000, 2, FALSE))","v":1.9890000000000001},{"$f":"IF($O119=\"\", \"\", VLOOKUP($O119, USSW!$N$7:$O$2000, 2, FALSE))","v":2.0659999999999998},{"$f":"IF($O119=\"\", \"\", VLOOKUP($O119, USSW!$P$7:$Q$2000, 2, FALSE))","v":2.1339999999999999},{"$f":"IF($O119=\"\", \"\", VLOOKUP($O119, USSW!$R$7:$S$2000, 2, FALSE))","v":2.194},{"$f":"IF($O119=\"\", \"\", VLOOKUP($O119, USSW!$T$7:$U$2000, 2, FALSE))","v":2.2458}]
[null,{"$f":"IF(CAD!B117=\"\", \"\", CAD!B117)","v":"2017-07-28"},{"$f":"IF($B120=\"\", \"\", CAD!C117)","v":1.2433000000000001},{"$f":"IF($B120=\"\", \"\",VLOOKUP($B120, CAD!$D$7:$E$2000, 2, FALSE))","v":1.2403550000000001},{"$f":"IF($B120=\"\", \"\",VLOOKUP($B120, CAD!$F$7:$G$2000, 2, FALSE))","v":1.239088},{"$f":"IF($B120=\"\", \"\",VLOOKUP($B120, CAD!$H$7:$I$2000, 2, FALSE))","v":1.23861},{"$f":"IF($B120=\"\", \"\",VLOOKUP($B120, CAD!$J$7:$K$2000, 2, FALSE))","v":1.2390600000000001},{"$f":"IF($B120=\"\", \"\", VLOOKUP($B120, CAD!$L$7:$M$2000, 2, FALSE))","v":1.23966},{"$f":"IF($B120=\"\", \"\", VLOOKUP($B120, CAD!$N$7:$O$2000, 2, FALSE))","v":1.2400599999999999},{"$f":"IF($B120=\"\", \"\", VLOOKUP($B120, CAD!$P$7:$Q$2000, 2, FALSE))","v":1.24109},{"$f":"IF($B120=\"\", \"\", VLOOKUP($B120, CAD!$R$7:$S$2000, 2, FALSE))","v":1.24238},{"$f":"IF($B120=\"\", \"\", VLOOKUP($B120, CAD!$T$7:$U$2000, 2, FALSE))","v":1.2451700000000001},{"$f":"IF($B120=\"\", \"\", VLOOKUP($B120, CAD!$V$7:$W$2000, 2, FALSE))","v":1.24983},null,{"$f":"IF(USSW!B117=\"\", \"\", USSW!B117)","v":"2017-07-27"},{"$f":"IF($O120=\"\", \"\", USSW!C117)","v":1.4593},{"$f":"IF($O120=\"\", \"\", VLOOKUP($O120, USSW!$D$7:$E$2000, 2, FALSE))","v":1.6048},{"$f":"IF($O120=\"\", \"\", VLOOKUP($O120, USSW!$F$7:$G$2000, 2, FALSE))","v":1.7253000000000001},{"$f":"IF($O120=\"\", \"\", VLOOKUP($O120, USSW!$H$7:$I$2000, 2, FALSE))","v":1.8292999999999999},{"$f":"IF($O120=\"\", \"\", VLOOKUP($O120, USSW!$J$7:$K$2000, 2, FALSE))","v":1.9239999999999999},{"$f":"IF($O120=\"\", \"\", VLOOKUP($O120, USSW!$L$7:$M$2000, 2, FALSE))","v":2.012},{"$f":"IF($O120=\"\", \"\", VLOOKUP($O120, USSW!$N$7:$O$2000, 2, FALSE))","v":2.09},{"$f":"IF($O120=\"\", \"\", VLOOKUP($O120, USSW!$P$7:$Q$2000, 2, FALSE))","v":2.1600999999999999},{"$f":"IF($O120=\"\", \"\", VLOOKUP($O120, USSW!$R$7:$S$2000, 2, FALSE))","v":2.2214999999999998},{"$f":"IF($O120=\"\", \"\", VLOOKUP($O120, USSW!$T$7:$U$2000, 2, FALSE))","v":2.2745000000000002}]
[null,{"$f":"IF(CAD!B118=\"\", \"\", CAD!B118)","v":"2017-07-27"},{"$f":"IF($B121=\"\", \"\", CAD!C118)","v":1.2554000000000001},{"$f":"IF($B121=\"\", \"\",VLOOKUP($B121, CAD!$D$7:$E$2000, 2, FALSE))","v":1.2520100000000001},{"$f":"IF($B121=\"\", \"\",VLOOKUP($B121, CAD!$F$7:$G$2000, 2, FALSE))","v":1.2500500000000001},{"$f":"IF($B121=\"\", \"\",VLOOKUP($B121, CAD!$H$7:$I$2000, 2, FALSE))","v":1.249425},{"$f":"IF($B121=\"\", \"\",VLOOKUP($B121, CAD!$J$7:$K$2000, 2, FALSE))","v":1.24946},{"$f":"IF($B121=\"\", \"\", VLOOKUP($B121, CAD!$L$7:$M$2000, 2, FALSE))","v":1.2496},{"$f":"IF($B121=\"\", \"\", VLOOKUP($B121, CAD!$N$7:$O$2000, 2, FALSE))","v":1.2495400000000001},{"$f":"IF($B121=\"\", \"\", VLOOKUP($B121, CAD!$P$7:$Q$2000, 2, FALSE))","v":1.250135},{"$f":"IF($B121=\"\", \"\", VLOOKUP($B121, CAD!$R$7:$S$2000, 2, FALSE))","v":1.2514749999999999},{"$f":"IF($B121=\"\", \"\", VLOOKUP($B121, CAD!$T$7:$U$2000, 2, FALSE))","v":1.2537400000000001},{"$f":"IF($B121=\"\", \"\", VLOOKUP($B121, CAD!$V$7:$W$2000, 2, FALSE))","v":1.2574099999999999},null,{"$f":"IF(USSW!B118=\"\", \"\", USSW!B118)","v":"2017-07-26"},{"$f":"IF($O121=\"\", \"\", USSW!C118)","v":1.4530000000000001},{"$f":"IF($O121=\"\", \"\", VLOOKUP($O121, USSW!$D$7:$E$2000, 2, FALSE))","v":1.5924},{"$f":"IF($O121=\"\", \"\", VLOOKUP($O121, USSW!$F$7:$G$2000, 2, FALSE))","v":1.7108000000000001},{"$f":"IF($O121=\"\", \"\", VLOOKUP($O121, USSW!$H$7:$I$2000, 2, FALSE))","v":1.8112999999999999},{"$f":"IF($O121=\"\", \"\", VLOOKUP($O121, USSW!$J$7:$K$2000, 2, FALSE))","v":1.8998999999999999},{"$f":"IF($O121=\"\", \"\", VLOOKUP($O121, USSW!$L$7:$M$2000, 2, FALSE))","v":1.9847999999999999},{"$f":"IF($O121=\"\", \"\", VLOOKUP($O121, USSW!$N$7:$O$2000, 2, FALSE))","v":2.0638000000000001},{"$f":"IF($O121=\"\", \"\", VLOOKUP($O121, USSW!$P$7:$Q$2000, 2, FALSE))","v":2.1337000000000002},{"$f":"IF($O121=\"\", \"\", VLOOKUP($O121, USSW!$R$7:$S$2000, 2, FALSE))","v":2.1928999999999998},{"$f":"IF($O121=\"\", \"\", VLOOKUP($O121, USSW!$T$7:$U$2000, 2, FALSE))","v":2.2482000000000002}]
[null,{"$f":"IF(CAD!B119=\"\", \"\", CAD!B119)","v":"2017-07-26"},{"$f":"IF($B122=\"\", \"\", CAD!C119)","v":1.2444999999999999},{"$f":"IF($B122=\"\", \"\",VLOOKUP($B122, CAD!$D$7:$E$2000, 2, FALSE))","v":1.2412099999999999},{"$f":"IF($B122=\"\", \"\",VLOOKUP($B122, CAD!$F$7:$G$2000, 2, FALSE))","v":1.23895},{"$f":"IF($B122=\"\", \"\",VLOOKUP($B122, CAD!$H$7:$I$2000, 2, FALSE))","v":1.2386250000000001},{"$f":"IF($B122=\"\", \"\",VLOOKUP($B122, CAD!$J$7:$K$2000, 2, FALSE))","v":1.2382299999999999},{"$f":"IF($B122=\"\", \"\", VLOOKUP($B122, CAD!$L$7:$M$2000, 2, FALSE))","v":1.239188},{"$f":"IF($B122=\"\", \"\", VLOOKUP($B122, CAD!$N$7:$O$2000, 2, FALSE))","v":1.2389650000000001},{"$f":"IF($B122=\"\", \"\", VLOOKUP($B122, CAD!$P$7:$Q$2000, 2, FALSE))","v":1.23976},{"$f":"IF($B122=\"\", \"\", VLOOKUP($B122, CAD!$R$7:$S$2000, 2, FALSE))","v":1.2411700000000001},{"$f":"IF($B122=\"\", \"\", VLOOKUP($B122, CAD!$T$7:$U$2000, 2, FALSE))","v":1.2425600000000001},{"$f":"IF($B122=\"\", \"\", VLOOKUP($B122, CAD!$V$7:$W$2000, 2, FALSE))","v":1.24556},null,{"$f":"IF(USSW!B119=\"\", \"\", USSW!B119)","v":"2017-07-25"},{"$f":"IF($O122=\"\", \"\", USSW!C119)","v":1.4795},{"$f":"IF($O122=\"\", \"\", VLOOKUP($O122, USSW!$D$7:$E$2000, 2, FALSE))","v":1.6328},{"$f":"IF($O122=\"\", \"\", VLOOKUP($O122, USSW!$F$7:$G$2000, 2, FALSE))","v":1.7571000000000001},{"$f":"IF($O122=\"\", \"\", VLOOKUP($O122, USSW!$H$7:$I$2000, 2, FALSE))","v":1.8634999999999999},{"$f":"IF($O122=\"\", \"\", VLOOKUP($O122, USSW!$J$7:$K$2000, 2, FALSE))","v":1.9590000000000001},{"$f":"IF($O122=\"\", \"\", VLOOKUP($O122, USSW!$L$7:$M$2000, 2, FALSE))","v":2.0436999999999999},{"$f":"IF($O122=\"\", \"\", VLOOKUP($O122, USSW!$N$7:$O$2000, 2, FALSE))","v":2.1202999999999999},{"$f":"IF($O122=\"\", \"\", VLOOKUP($O122, USSW!$P$7:$Q$2000, 2, FALSE))","v":2.1867000000000001},{"$f":"IF($O122=\"\", \"\", VLOOKUP($O122, USSW!$R$7:$S$2000, 2, FALSE))","v":2.2450999999999999},{"$f":"IF($O122=\"\", \"\", VLOOKUP($O122, USSW!$T$7:$U$2000, 2, FALSE))","v":2.2985000000000002}]
[null,{"$f":"IF(CAD!B120=\"\", \"\", CAD!B120)","v":"2017-07-25"},{"$f":"IF($B123=\"\", \"\", CAD!C120)","v":1.2508999999999999},{"$f":"IF($B123=\"\", \"\",VLOOKUP($B123, CAD!$D$7:$E$2000, 2, FALSE))","v":1.24739},{"$f":"IF($B123=\"\", \"\",VLOOKUP($B123, CAD!$F$7:$G$2000, 2, FALSE))","v":1.24529},{"$f":"IF($B123=\"\", \"\",VLOOKUP($B123, CAD!$H$7:$I$2000, 2, FALSE))","v":1.2444249999999999},{"$f":"IF($B123=\"\", \"\",VLOOKUP($B123, CAD!$J$7:$K$2000, 2, FALSE))","v":1.244105},{"$f":"IF($B123=\"\", \"\", VLOOKUP($B123, CAD!$L$7:$M$2000, 2, FALSE))","v":1.2454000000000001},{"$f":"IF($B123=\"\", \"\", VLOOKUP($B123, CAD!$N$7:$O$2000, 2, FALSE))","v":1.2452399999999999},{"$f":"IF($B123=\"\", \"\", VLOOKUP($B123, CAD!$P$7:$Q$2000, 2, FALSE))","v":1.2463900000000001},{"$f":"IF($B123=\"\", \"\", VLOOKUP($B123, CAD!$R$7:$S$2000, 2, FALSE))","v":1.24766},{"$f":"IF($B123=\"\", \"\", VLOOKUP($B123, CAD!$T$7:$U$2000, 2, FALSE))","v":1.25125},{"$f":"IF($B123=\"\", \"\", VLOOKUP($B123, CAD!$V$7:$W$2000, 2, FALSE))","v":1.25457},null,{"$f":"IF(USSW!B120=\"\", \"\", USSW!B120)","v":"2017-07-24"},{"$f":"IF($O123=\"\", \"\", USSW!C120)","v":1.4622999999999999},{"$f":"IF($O123=\"\", \"\", VLOOKUP($O123, USSW!$D$7:$E$2000, 2, FALSE))","v":1.5995999999999999},{"$f":"IF($O123=\"\", \"\", VLOOKUP($O123, USSW!$F$7:$G$2000, 2, FALSE))","v":1.7141},{"$f":"IF($O123=\"\", \"\", VLOOKUP($O123, USSW!$H$7:$I$2000, 2, FALSE))","v":1.8103},{"$f":"IF($O123=\"\", \"\", VLOOKUP($O123, USSW!$J$7:$K$2000, 2, FALSE))","v":1.8955},{"$f":"IF($O123=\"\", \"\", VLOOKUP($O123, USSW!$L$7:$M$2000, 2, FALSE))","v":1.9748000000000001},{"$f":"IF($O123=\"\", \"\", VLOOKUP($O123, USSW!$N$7:$O$2000, 2, FALSE))","v":2.0470000000000002},{"$f":"IF($O123=\"\", \"\", VLOOKUP($O123, USSW!$P$7:$Q$2000, 2, FALSE))","v":2.1120000000000001},{"$f":"IF($O123=\"\", \"\", VLOOKUP($O123, USSW!$R$7:$S$2000, 2, FALSE))","v":2.1680000000000001},{"$f":"IF($O123=\"\", \"\", VLOOKUP($O123, USSW!$T$7:$U$2000, 2, FALSE))","v":2.2197}]
[null,{"$f":"IF(CAD!B121=\"\", \"\", CAD!B121)","v":"2017-07-24"},{"$f":"IF($B124=\"\", \"\", CAD!C121)","v":1.2509999999999999},{"$f":"IF($B124=\"\", \"\",VLOOKUP($B124, CAD!$D$7:$E$2000, 2, FALSE))","v":1.2473399999999999},{"$f":"IF($B124=\"\", \"\",VLOOKUP($B124, CAD!$F$7:$G$2000, 2, FALSE))","v":1.244775},{"$f":"IF($B124=\"\", \"\",VLOOKUP($B124, CAD!$H$7:$I$2000, 2, FALSE))","v":1.2437750000000001},{"$f":"IF($B124=\"\", \"\",VLOOKUP($B124, CAD!$J$7:$K$2000, 2, FALSE))","v":1.2439499999999999},{"$f":"IF($B124=\"\", \"\", VLOOKUP($B124, CAD!$L$7:$M$2000, 2, FALSE))","v":1.244815},{"$f":"IF($B124=\"\", \"\", VLOOKUP($B124, CAD!$N$7:$O$2000, 2, FALSE))","v":1.245025},{"$f":"IF($B124=\"\", \"\", VLOOKUP($B124, CAD!$P$7:$Q$2000, 2, FALSE))","v":1.24634},{"$f":"IF($B124=\"\", \"\", VLOOKUP($B124, CAD!$R$7:$S$2000, 2, FALSE))","v":1.24749},{"$f":"IF($B124=\"\", \"\", VLOOKUP($B124, CAD!$T$7:$U$2000, 2, FALSE))","v":1.24986},{"$f":"IF($B124=\"\", \"\", VLOOKUP($B124, CAD!$V$7:$W$2000, 2, FALSE))","v":1.25335},null,{"$f":"IF(USSW!B121=\"\", \"\", USSW!B121)","v":"2017-07-21"},{"$f":"IF($O124=\"\", \"\", USSW!C121)","v":1.4548000000000001},{"$f":"IF($O124=\"\", \"\", VLOOKUP($O124, USSW!$D$7:$E$2000, 2, FALSE))","v":1.5911},{"$f":"IF($O124=\"\", \"\", VLOOKUP($O124, USSW!$F$7:$G$2000, 2, FALSE))","v":1.704},{"$f":"IF($O124=\"\", \"\", VLOOKUP($O124, USSW!$H$7:$I$2000, 2, FALSE))","v":1.7988},{"$f":"IF($O124=\"\", \"\", VLOOKUP($O124, USSW!$J$7:$K$2000, 2, FALSE))","v":1.8844000000000001},{"$f":"IF($O124=\"\", \"\", VLOOKUP($O124, USSW!$L$7:$M$2000, 2, FALSE))","v":1.9625999999999999},{"$f":"IF($O124=\"\", \"\", VLOOKUP($O124, USSW!$N$7:$O$2000, 2, FALSE))","v":2.0356000000000001},{"$f":"IF($O124=\"\", \"\", VLOOKUP($O124, USSW!$P$7:$Q$2000, 2, FALSE))","v":2.0983999999999998},{"$f":"IF($O124=\"\", \"\", VLOOKUP($O124, USSW!$R$7:$S$2000, 2, FALSE))","v":2.1558000000000002},{"$f":"IF($O124=\"\", \"\", VLOOKUP($O124, USSW!$T$7:$U$2000, 2, FALSE))","v":2.2081}]
[null,{"$f":"IF(CAD!B122=\"\", \"\", CAD!B122)","v":"2017-07-21"},{"$f":"IF($B125=\"\", \"\", CAD!C122)","v":1.2539},{"$f":"IF($B125=\"\", \"\",VLOOKUP($B125, CAD!$D$7:$E$2000, 2, FALSE))","v":1.25003},{"$f":"IF($B125=\"\", \"\",VLOOKUP($B125, CAD!$F$7:$G$2000, 2, FALSE))","v":1.247498},{"$f":"IF($B125=\"\", \"\",VLOOKUP($B125, CAD!$H$7:$I$2000, 2, FALSE))","v":1.2462169999999999},{"$f":"IF($B125=\"\", \"\",VLOOKUP($B125, CAD!$J$7:$K$2000, 2, FALSE))","v":1.245635},{"$f":"IF($B125=\"\", \"\", VLOOKUP($B125, CAD!$L$7:$M$2000, 2, FALSE))","v":1.2464999999999999},{"$f":"IF($B125=\"\", \"\", VLOOKUP($B125, CAD!$N$7:$O$2000, 2, FALSE))","v":1.24553},{"$f":"IF($B125=\"\", \"\", VLOOKUP($B125, CAD!$P$7:$Q$2000, 2, FALSE))","v":1.24657},{"$f":"IF($B125=\"\", \"\", VLOOKUP($B125, CAD!$R$7:$S$2000, 2, FALSE))","v":1.2476100000000001},{"$f":"IF($B125=\"\", \"\", VLOOKUP($B125, CAD!$T$7:$U$2000, 2, FALSE))","v":1.24983},{"$f":"IF($B125=\"\", \"\", VLOOKUP($B125, CAD!$V$7:$W$2000, 2, FALSE))","v":1.25366},null,{"$f":"IF(USSW!B122=\"\", \"\", USSW!B122)","v":"2017-07-20"},{"$f":"IF($O125=\"\", \"\", USSW!C122)","v":1.4574},{"$f":"IF($O125=\"\", \"\", VLOOKUP($O125, USSW!$D$7:$E$2000, 2, FALSE))","v":1.599},{"$f":"IF($O125=\"\", \"\", VLOOKUP($O125, USSW!$F$7:$G$2000, 2, FALSE))","v":1.7125999999999999},{"$f":"IF($O125=\"\", \"\", VLOOKUP($O125, USSW!$H$7:$I$2000, 2, FALSE))","v":1.8109},{"$f":"IF($O125=\"\", \"\", VLOOKUP($O125, USSW!$J$7:$K$2000, 2, FALSE))","v":1.8989},{"$f":"IF($O125=\"\", \"\", VLOOKUP($O125, USSW!$L$7:$M$2000, 2, FALSE))","v":1.9798},{"$f":"IF($O125=\"\", \"\", VLOOKUP($O125, USSW!$N$7:$O$2000, 2, FALSE))","v":2.0533000000000001},{"$f":"IF($O125=\"\", \"\", VLOOKUP($O125, USSW!$P$7:$Q$2000, 2, FALSE))","v":2.1185},{"$f":"IF($O125=\"\", \"\", VLOOKUP($O125, USSW!$R$7:$S$2000, 2, FALSE))","v":2.177},{"$f":"IF($O125=\"\", \"\", VLOOKUP($O125, USSW!$T$7:$U$2000, 2, FALSE))","v":2.2282000000000002}]
[null,{"$f":"IF(CAD!B123=\"\", \"\", CAD!B123)","v":"2017-07-20"},{"$f":"IF($B126=\"\", \"\", CAD!C123)","v":1.2588999999999999},{"$f":"IF($B126=\"\", \"\",VLOOKUP($B126, CAD!$D$7:$E$2000, 2, FALSE))","v":1.2549300000000001},{"$f":"IF($B126=\"\", \"\",VLOOKUP($B126, CAD!$F$7:$G$2000, 2, FALSE))","v":1.2522500000000001},{"$f":"IF($B126=\"\", \"\",VLOOKUP($B126, CAD!$H$7:$I$2000, 2, FALSE))","v":1.25074},{"$f":"IF($B126=\"\", \"\",VLOOKUP($B126, CAD!$J$7:$K$2000, 2, FALSE))","v":1.2500599999999999},{"$f":"IF($B126=\"\", \"\", VLOOKUP($B126, CAD!$L$7:$M$2000, 2, FALSE))","v":1.24959},{"$f":"IF($B126=\"\", \"\", VLOOKUP($B126, CAD!$N$7:$O$2000, 2, FALSE))","v":1.2494000000000001},{"$f":"IF($B126=\"\", \"\", VLOOKUP($B126, CAD!$P$7:$Q$2000, 2, FALSE))","v":1.250105},{"$f":"IF($B126=\"\", \"\", VLOOKUP($B126, CAD!$R$7:$S$2000, 2, FALSE))","v":1.2509950000000001},{"$f":"IF($B126=\"\", \"\", VLOOKUP($B126, CAD!$T$7:$U$2000, 2, FALSE))","v":1.2534799999999999},{"$f":"IF($B126=\"\", \"\", VLOOKUP($B126, CAD!$V$7:$W$2000, 2, FALSE))","v":1.2576400000000001},null,{"$f":"IF(USSW!B123=\"\", \"\", USSW!B123)","v":"2017-07-19"},{"$f":"IF($O126=\"\", \"\", USSW!C123)","v":1.4501999999999999},{"$f":"IF($O126=\"\", \"\", VLOOKUP($O126, USSW!$D$7:$E$2000, 2, FALSE))","v":1.5952999999999999},{"$f":"IF($O126=\"\", \"\", VLOOKUP($O126, USSW!$F$7:$G$2000, 2, FALSE))","v":1.7124999999999999},{"$f":"IF($O126=\"\", \"\", VLOOKUP($O126, USSW!$H$7:$I$2000, 2, FALSE))","v":1.8115000000000001},{"$f":"IF($O126=\"\", \"\", VLOOKUP($O126, USSW!$J$7:$K$2000, 2, FALSE))","v":1.901},{"$f":"IF($O126=\"\", \"\", VLOOKUP($O126, USSW!$L$7:$M$2000, 2, FALSE))","v":1.9830000000000001},{"$f":"IF($O126=\"\", \"\", VLOOKUP($O126, USSW!$N$7:$O$2000, 2, FALSE))","v":2.0575000000000001},{"$f":"IF($O126=\"\", \"\", VLOOKUP($O126, USSW!$P$7:$Q$2000, 2, FALSE))","v":2.1230000000000002},{"$f":"IF($O126=\"\", \"\", VLOOKUP($O126, USSW!$R$7:$S$2000, 2, FALSE))","v":2.1819999999999999},{"$f":"IF($O126=\"\", \"\", VLOOKUP($O126, USSW!$T$7:$U$2000, 2, FALSE))","v":2.2343999999999999}]
[null,{"$f":"IF(CAD!B124=\"\", \"\", CAD!B124)","v":"2017-07-19"},{"$f":"IF($B127=\"\", \"\", CAD!C124)","v":1.2605999999999999},{"$f":"IF($B127=\"\", \"\",VLOOKUP($B127, CAD!$D$7:$E$2000, 2, FALSE))","v":1.2568319999999999},{"$f":"IF($B127=\"\", \"\",VLOOKUP($B127, CAD!$F$7:$G$2000, 2, FALSE))","v":1.2544500000000001},{"$f":"IF($B127=\"\", \"\",VLOOKUP($B127, CAD!$H$7:$I$2000, 2, FALSE))","v":1.25295},{"$f":"IF($B127=\"\", \"\",VLOOKUP($B127, CAD!$J$7:$K$2000, 2, FALSE))","v":1.25275},{"$f":"IF($B127=\"\", \"\", VLOOKUP($B127, CAD!$L$7:$M$2000, 2, FALSE))","v":1.25305},{"$f":"IF($B127=\"\", \"\", VLOOKUP($B127, CAD!$N$7:$O$2000, 2, FALSE))","v":1.2529999999999999},{"$f":"IF($B127=\"\", \"\", VLOOKUP($B127, CAD!$P$7:$Q$2000, 2, FALSE))","v":1.2536449999999999},{"$f":"IF($B127=\"\", \"\", VLOOKUP($B127, CAD!$R$7:$S$2000, 2, FALSE))","v":1.2548299999999999},{"$f":"IF($B127=\"\", \"\", VLOOKUP($B127, CAD!$T$7:$U$2000, 2, FALSE))","v":1.2572099999999999},{"$f":"IF($B127=\"\", \"\", VLOOKUP($B127, CAD!$V$7:$W$2000, 2, FALSE))","v":1.26111},null,{"$f":"IF(USSW!B124=\"\", \"\", USSW!B124)","v":"2017-07-18"},{"$f":"IF($O127=\"\", \"\", USSW!C124)","v":1.4370000000000001},{"$f":"IF($O127=\"\", \"\", VLOOKUP($O127, USSW!$D$7:$E$2000, 2, FALSE))","v":1.5771999999999999},{"$f":"IF($O127=\"\", \"\", VLOOKUP($O127, USSW!$F$7:$G$2000, 2, FALSE))","v":1.6913},{"$f":"IF($O127=\"\", \"\", VLOOKUP($O127, USSW!$H$7:$I$2000, 2, FALSE))","v":1.7894000000000001},{"$f":"IF($O127=\"\", \"\", VLOOKUP($O127, USSW!$J$7:$K$2000, 2, FALSE))","v":1.8769},{"$f":"IF($O127=\"\", \"\", VLOOKUP($O127, USSW!$L$7:$M$2000, 2, FALSE))","v":1.9567000000000001},{"$f":"IF($O127=\"\", \"\", VLOOKUP($O127, USSW!$N$7:$O$2000, 2, FALSE))","v":2.0310000000000001},{"$f":"IF($O127=\"\", \"\", VLOOKUP($O127, USSW!$P$7:$Q$2000, 2, FALSE))","v":2.0966},{"$f":"IF($O127=\"\", \"\", VLOOKUP($O127, USSW!$R$7:$S$2000, 2, FALSE))","v":2.1516000000000002},{"$f":"IF($O127=\"\", \"\", VLOOKUP($O127, USSW!$T$7:$U$2000, 2, FALSE))","v":2.2039}]
[null,{"$f":"IF(CAD!B125=\"\", \"\", CAD!B125)","v":"2017-07-18"},{"$f":"IF($B128=\"\", \"\", CAD!C125)","v":1.2627999999999999},{"$f":"IF($B128=\"\", \"\",VLOOKUP($B128, CAD!$D$7:$E$2000, 2, FALSE))","v":1.25909},{"$f":"IF($B128=\"\", \"\",VLOOKUP($B128, CAD!$F$7:$G$2000, 2, FALSE))","v":1.256589},{"$f":"IF($B128=\"\", \"\",VLOOKUP($B128, CAD!$H$7:$I$2000, 2, FALSE))","v":1.25535},{"$f":"IF($B128=\"\", \"\",VLOOKUP($B128, CAD!$J$7:$K$2000, 2, FALSE))","v":1.2546550000000001},{"$f":"IF($B128=\"\", \"\", VLOOKUP($B128, CAD!$L$7:$M$2000, 2, FALSE))","v":1.254775},{"$f":"IF($B128=\"\", \"\", VLOOKUP($B128, CAD!$N$7:$O$2000, 2, FALSE))","v":1.2544150000000001},{"$f":"IF($B128=\"\", \"\", VLOOKUP($B128, CAD!$P$7:$Q$2000, 2, FALSE))","v":1.25519},{"$f":"IF($B128=\"\", \"\", VLOOKUP($B128, CAD!$R$7:$S$2000, 2, FALSE))","v":1.2555700000000001},{"$f":"IF($B128=\"\", \"\", VLOOKUP($B128, CAD!$T$7:$U$2000, 2, FALSE))","v":1.2575099999999999},{"$f":"IF($B128=\"\", \"\", VLOOKUP($B128, CAD!$V$7:$W$2000, 2, FALSE))","v":1.260786},null,{"$f":"IF(USSW!B125=\"\", \"\", USSW!B125)","v":"2017-07-17"},{"$f":"IF($O128=\"\", \"\", USSW!C125)","v":1.4432},{"$f":"IF($O128=\"\", \"\", VLOOKUP($O128, USSW!$D$7:$E$2000, 2, FALSE))","v":1.5934999999999999},{"$f":"IF($O128=\"\", \"\", VLOOKUP($O128, USSW!$F$7:$G$2000, 2, FALSE))","v":1.7191000000000001},{"$f":"IF($O128=\"\", \"\", VLOOKUP($O128, USSW!$H$7:$I$2000, 2, FALSE))","v":1.8239000000000001},{"$f":"IF($O128=\"\", \"\", VLOOKUP($O128, USSW!$J$7:$K$2000, 2, FALSE))","v":1.9191},{"$f":"IF($O128=\"\", \"\", VLOOKUP($O128, USSW!$L$7:$M$2000, 2, FALSE))","v":2.0026000000000002},{"$f":"IF($O128=\"\", \"\", VLOOKUP($O128, USSW!$N$7:$O$2000, 2, FALSE))","v":2.0785},{"$f":"IF($O128=\"\", \"\", VLOOKUP($O128, USSW!$P$7:$Q$2000, 2, FALSE))","v":2.1459999999999999},{"$f":"IF($O128=\"\", \"\", VLOOKUP($O128, USSW!$R$7:$S$2000, 2, FALSE))","v":2.2050000000000001},{"$f":"IF($O128=\"\", \"\", VLOOKUP($O128, USSW!$T$7:$U$2000, 2, FALSE))","v":2.2578999999999998}]
[null,{"$f":"IF(CAD!B126=\"\", \"\", CAD!B126)","v":"2017-07-17"},{"$f":"IF($B129=\"\", \"\", CAD!C126)","v":1.2697000000000001},{"$f":"IF($B129=\"\", \"\",VLOOKUP($B129, CAD!$D$7:$E$2000, 2, FALSE))","v":1.2659},{"$f":"IF($B129=\"\", \"\",VLOOKUP($B129, CAD!$F$7:$G$2000, 2, FALSE))","v":1.26325},{"$f":"IF($B129=\"\", \"\",VLOOKUP($B129, CAD!$H$7:$I$2000, 2, FALSE))","v":1.2616499999999999},{"$f":"IF($B129=\"\", \"\",VLOOKUP($B129, CAD!$J$7:$K$2000, 2, FALSE))","v":1.2607900000000001},{"$f":"IF($B129=\"\", \"\", VLOOKUP($B129, CAD!$L$7:$M$2000, 2, FALSE))","v":1.2604299999999999},{"$f":"IF($B129=\"\", \"\", VLOOKUP($B129, CAD!$N$7:$O$2000, 2, FALSE))","v":1.2602800000000001},{"$f":"IF($B129=\"\", \"\", VLOOKUP($B129, CAD!$P$7:$Q$2000, 2, FALSE))","v":1.2608999999999999},{"$f":"IF($B129=\"\", \"\", VLOOKUP($B129, CAD!$R$7:$S$2000, 2, FALSE))","v":1.261765},{"$f":"IF($B129=\"\", \"\", VLOOKUP($B129, CAD!$T$7:$U$2000, 2, FALSE))","v":1.26431},{"$f":"IF($B129=\"\", \"\", VLOOKUP($B129, CAD!$V$7:$W$2000, 2, FALSE))","v":1.26719},null,{"$f":"IF(USSW!B126=\"\", \"\", USSW!B126)","v":"2017-07-14"},{"$f":"IF($O129=\"\", \"\", USSW!C126)","v":1.4399},{"$f":"IF($O129=\"\", \"\", VLOOKUP($O129, USSW!$D$7:$E$2000, 2, FALSE))","v":1.5947},{"$f":"IF($O129=\"\", \"\", VLOOKUP($O129, USSW!$F$7:$G$2000, 2, FALSE))","v":1.7242999999999999},{"$f":"IF($O129=\"\", \"\", VLOOKUP($O129, USSW!$H$7:$I$2000, 2, FALSE))","v":1.8347},{"$f":"IF($O129=\"\", \"\", VLOOKUP($O129, USSW!$J$7:$K$2000, 2, FALSE))","v":1.9302999999999999},{"$f":"IF($O129=\"\", \"\", VLOOKUP($O129, USSW!$L$7:$M$2000, 2, FALSE))","v":2.0179999999999998},{"$f":"IF($O129=\"\", \"\", VLOOKUP($O129, USSW!$N$7:$O$2000, 2, FALSE))","v":2.097},{"$f":"IF($O129=\"\", \"\", VLOOKUP($O129, USSW!$P$7:$Q$2000, 2, FALSE))","v":2.1657999999999999},{"$f":"IF($O129=\"\", \"\", VLOOKUP($O129, USSW!$R$7:$S$2000, 2, FALSE))","v":2.2280000000000002},{"$f":"IF($O129=\"\", \"\", VLOOKUP($O129, USSW!$T$7:$U$2000, 2, FALSE))","v":2.2814999999999999}]
[null,{"$f":"IF(CAD!B127=\"\", \"\", CAD!B127)","v":"2017-07-14"},{"$f":"IF($B130=\"\", \"\", CAD!C127)","v":1.2644},{"$f":"IF($B130=\"\", \"\",VLOOKUP($B130, CAD!$D$7:$E$2000, 2, FALSE))","v":1.26065},{"$f":"IF($B130=\"\", \"\",VLOOKUP($B130, CAD!$F$7:$G$2000, 2, FALSE))","v":1.257565},{"$f":"IF($B130=\"\", \"\",VLOOKUP($B130, CAD!$H$7:$I$2000, 2, FALSE))","v":1.2563},{"$f":"IF($B130=\"\", \"\",VLOOKUP($B130, CAD!$J$7:$K$2000, 2, FALSE))","v":1.2547600000000001},{"$f":"IF($B130=\"\", \"\", VLOOKUP($B130, CAD!$L$7:$M$2000, 2, FALSE))","v":1.254},{"$f":"IF($B130=\"\", \"\", VLOOKUP($B130, CAD!$N$7:$O$2000, 2, FALSE))","v":1.253595},{"$f":"IF($B130=\"\", \"\", VLOOKUP($B130, CAD!$P$7:$Q$2000, 2, FALSE))","v":1.253655},{"$f":"IF($B130=\"\", \"\", VLOOKUP($B130, CAD!$R$7:$S$2000, 2, FALSE))","v":1.2538199999999999},{"$f":"IF($B130=\"\", \"\", VLOOKUP($B130, CAD!$T$7:$U$2000, 2, FALSE))","v":1.25566},{"$f":"IF($B130=\"\", \"\", VLOOKUP($B130, CAD!$V$7:$W$2000, 2, FALSE))","v":1.2579050000000001},null,{"$f":"IF(USSW!B127=\"\", \"\", USSW!B127)","v":"2017-07-13"},{"$f":"IF($O130=\"\", \"\", USSW!C127)","v":1.4474},{"$f":"IF($O130=\"\", \"\", VLOOKUP($O130, USSW!$D$7:$E$2000, 2, FALSE))","v":1.607},{"$f":"IF($O130=\"\", \"\", VLOOKUP($O130, USSW!$F$7:$G$2000, 2, FALSE))","v":1.7403999999999999},{"$f":"IF($O130=\"\", \"\", VLOOKUP($O130, USSW!$H$7:$I$2000, 2, FALSE))","v":1.8536999999999999},{"$f":"IF($O130=\"\", \"\", VLOOKUP($O130, USSW!$J$7:$K$2000, 2, FALSE))","v":1.9538},{"$f":"IF($O130=\"\", \"\", VLOOKUP($O130, USSW!$L$7:$M$2000, 2, FALSE))","v":2.0411000000000001},{"$f":"IF($O130=\"\", \"\", VLOOKUP($O130, USSW!$N$7:$O$2000, 2, FALSE))","v":2.1187999999999998},{"$f":"IF($O130=\"\", \"\", VLOOKUP($O130, USSW!$P$7:$Q$2000, 2, FALSE))","v":2.1848999999999998},{"$f":"IF($O130=\"\", \"\", VLOOKUP($O130, USSW!$R$7:$S$2000, 2, FALSE))","v":2.2456999999999998},{"$f":"IF($O130=\"\", \"\", VLOOKUP($O130, USSW!$T$7:$U$2000, 2, FALSE))","v":2.2949999999999999}]
[null,{"$f":"IF(CAD!B128=\"\", \"\", CAD!B128)","v":"2017-07-13"},{"$f":"IF($B131=\"\", \"\", CAD!C128)","v":1.2722},{"$f":"IF($B131=\"\", \"\",VLOOKUP($B131, CAD!$D$7:$E$2000, 2, FALSE))","v":1.2685200000000001},{"$f":"IF($B131=\"\", \"\",VLOOKUP($B131, CAD!$F$7:$G$2000, 2, FALSE))","v":1.265897},{"$f":"IF($B131=\"\", \"\",VLOOKUP($B131, CAD!$H$7:$I$2000, 2, FALSE))","v":1.2640499999999999},{"$f":"IF($B131=\"\", \"\",VLOOKUP($B131, CAD!$J$7:$K$2000, 2, FALSE))","v":1.2628900000000001},{"$f":"IF($B131=\"\", \"\", VLOOKUP($B131, CAD!$L$7:$M$2000, 2, FALSE))","v":1.2626999999999999},{"$f":"IF($B131=\"\", \"\", VLOOKUP($B131, CAD!$N$7:$O$2000, 2, FALSE))","v":1.26149},{"$f":"IF($B131=\"\", \"\", VLOOKUP($B131, CAD!$P$7:$Q$2000, 2, FALSE))","v":1.261315},{"$f":"IF($B131=\"\", \"\", VLOOKUP($B131, CAD!$R$7:$S$2000, 2, FALSE))","v":1.2615050000000001},{"$f":"IF($B131=\"\", \"\", VLOOKUP($B131, CAD!$T$7:$U$2000, 2, FALSE))","v":1.263115},{"$f":"IF($B131=\"\", \"\", VLOOKUP($B131, CAD!$V$7:$W$2000, 2, FALSE))","v":1.2655050000000001},null,{"$f":"IF(USSW!B128=\"\", \"\", USSW!B128)","v":"2017-07-12"},{"$f":"IF($O131=\"\", \"\", USSW!C128)","v":1.4370000000000001},{"$f":"IF($O131=\"\", \"\", VLOOKUP($O131, USSW!$D$7:$E$2000, 2, FALSE))","v":1.5965},{"$f":"IF($O131=\"\", \"\", VLOOKUP($O131, USSW!$F$7:$G$2000, 2, FALSE))","v":1.7296},{"$f":"IF($O131=\"\", \"\", VLOOKUP($O131, USSW!$H$7:$I$2000, 2, FALSE))","v":1.8416999999999999},{"$f":"IF($O131=\"\", \"\", VLOOKUP($O131, USSW!$J$7:$K$2000, 2, FALSE))","v":1.9490000000000001},{"$f":"IF($O131=\"\", \"\", VLOOKUP($O131, USSW!$L$7:$M$2000, 2, FALSE))","v":2.0228999999999999},{"$f":"IF($O131=\"\", \"\", VLOOKUP($O131, USSW!$N$7:$O$2000, 2, FALSE))","v":2.1006999999999998},{"$f":"IF($O131=\"\", \"\", VLOOKUP($O131, USSW!$P$7:$Q$2000, 2, FALSE))","v":2.1646999999999998},{"$f":"IF($O131=\"\", \"\", VLOOKUP($O131, USSW!$R$7:$S$2000, 2, FALSE))","v":2.2223000000000002},{"$f":"IF($O131=\"\", \"\", VLOOKUP($O131, USSW!$T$7:$U$2000, 2, FALSE))","v":2.2725}]
[null,{"$f":"IF(CAD!B129=\"\", \"\", CAD!B129)","v":"2017-07-12"},{"$f":"IF($B132=\"\", \"\", CAD!C129)","v":1.2750999999999999},{"$f":"IF($B132=\"\", \"\",VLOOKUP($B132, CAD!$D$7:$E$2000, 2, FALSE))","v":1.271415},{"$f":"IF($B132=\"\", \"\",VLOOKUP($B132, CAD!$F$7:$G$2000, 2, FALSE))","v":1.2686649999999999},{"$f":"IF($B132=\"\", \"\",VLOOKUP($B132, CAD!$H$7:$I$2000, 2, FALSE))","v":1.2663500000000001},{"$f":"IF($B132=\"\", \"\",VLOOKUP($B132, CAD!$J$7:$K$2000, 2, FALSE))","v":1.2647900000000001},{"$f":"IF($B132=\"\", \"\", VLOOKUP($B132, CAD!$L$7:$M$2000, 2, FALSE))","v":1.26427},{"$f":"IF($B132=\"\", \"\", VLOOKUP($B132, CAD!$N$7:$O$2000, 2, FALSE))","v":1.2627699999999999},{"$f":"IF($B132=\"\", \"\", VLOOKUP($B132, CAD!$P$7:$Q$2000, 2, FALSE))","v":1.26244},{"$f":"IF($B132=\"\", \"\", VLOOKUP($B132, CAD!$R$7:$S$2000, 2, FALSE))","v":1.2627200000000001},{"$f":"IF($B132=\"\", \"\", VLOOKUP($B132, CAD!$T$7:$U$2000, 2, FALSE))","v":1.2646200000000001},{"$f":"IF($B132=\"\", \"\", VLOOKUP($B132, CAD!$V$7:$W$2000, 2, FALSE))","v":1.26691},null,{"$f":"IF(USSW!B129=\"\", \"\", USSW!B129)","v":"2017-07-11"},{"$f":"IF($O132=\"\", \"\", USSW!C129)","v":1.4540999999999999},{"$f":"IF($O132=\"\", \"\", VLOOKUP($O132, USSW!$D$7:$E$2000, 2, FALSE))","v":1.6267},{"$f":"IF($O132=\"\", \"\", VLOOKUP($O132, USSW!$F$7:$G$2000, 2, FALSE))","v":1.7647999999999999},{"$f":"IF($O132=\"\", \"\", VLOOKUP($O132, USSW!$H$7:$I$2000, 2, FALSE))","v":1.8795999999999999},{"$f":"IF($O132=\"\", \"\", VLOOKUP($O132, USSW!$J$7:$K$2000, 2, FALSE))","v":1.9791000000000001},{"$f":"IF($O132=\"\", \"\", VLOOKUP($O132, USSW!$L$7:$M$2000, 2, FALSE))","v":2.0657999999999999},{"$f":"IF($O132=\"\", \"\", VLOOKUP($O132, USSW!$N$7:$O$2000, 2, FALSE))","v":2.1438999999999999},{"$f":"IF($O132=\"\", \"\", VLOOKUP($O132, USSW!$P$7:$Q$2000, 2, FALSE))","v":2.2069999999999999},{"$f":"IF($O132=\"\", \"\", VLOOKUP($O132, USSW!$R$7:$S$2000, 2, FALSE))","v":2.266},{"$f":"IF($O132=\"\", \"\", VLOOKUP($O132, USSW!$T$7:$U$2000, 2, FALSE))","v":2.3161}]
[null,{"$f":"IF(CAD!B130=\"\", \"\", CAD!B130)","v":"2017-07-11"},{"$f":"IF($B133=\"\", \"\", CAD!C130)","v":1.2915000000000001},{"$f":"IF($B133=\"\", \"\",VLOOKUP($B133, CAD!$D$7:$E$2000, 2, FALSE))","v":1.2868489999999999},{"$f":"IF($B133=\"\", \"\",VLOOKUP($B133, CAD!$F$7:$G$2000, 2, FALSE))","v":1.2824},{"$f":"IF($B133=\"\", \"\",VLOOKUP($B133, CAD!$H$7:$I$2000, 2, FALSE))","v":1.2787500000000001},{"$f":"IF($B133=\"\", \"\",VLOOKUP($B133, CAD!$J$7:$K$2000, 2, FALSE))","v":1.27616},{"$f":"IF($B133=\"\", \"\", VLOOKUP($B133, CAD!$L$7:$M$2000, 2, FALSE))","v":1.2742100000000001},{"$f":"IF($B133=\"\", \"\", VLOOKUP($B133, CAD!$N$7:$O$2000, 2, FALSE))","v":1.2723},{"$f":"IF($B133=\"\", \"\", VLOOKUP($B133, CAD!$P$7:$Q$2000, 2, FALSE))","v":1.27169},{"$f":"IF($B133=\"\", \"\", VLOOKUP($B133, CAD!$R$7:$S$2000, 2, FALSE))","v":1.2716400000000001},{"$f":"IF($B133=\"\", \"\", VLOOKUP($B133, CAD!$T$7:$U$2000, 2, FALSE))","v":1.27312},{"$f":"IF($B133=\"\", \"\", VLOOKUP($B133, CAD!$V$7:$W$2000, 2, FALSE))","v":1.2764200000000001},null,{"$f":"IF(USSW!B130=\"\", \"\", USSW!B130)","v":"2017-07-10"},{"$f":"IF($O133=\"\", \"\", USSW!C130)","v":1.4608000000000001},{"$f":"IF($O133=\"\", \"\", VLOOKUP($O133, USSW!$D$7:$E$2000, 2, FALSE))","v":1.641},{"$f":"IF($O133=\"\", \"\", VLOOKUP($O133, USSW!$F$7:$G$2000, 2, FALSE))","v":1.7863},{"$f":"IF($O133=\"\", \"\", VLOOKUP($O133, USSW!$H$7:$I$2000, 2, FALSE))","v":1.903},{"$f":"IF($O133=\"\", \"\", VLOOKUP($O133, USSW!$J$7:$K$2000, 2, FALSE))","v":2.0034999999999998},{"$f":"IF($O133=\"\", \"\", VLOOKUP($O133, USSW!$L$7:$M$2000, 2, FALSE))","v":2.0901999999999998},{"$f":"IF($O133=\"\", \"\", VLOOKUP($O133, USSW!$N$7:$O$2000, 2, FALSE))","v":2.1659999999999999},{"$f":"IF($O133=\"\", \"\", VLOOKUP($O133, USSW!$P$7:$Q$2000, 2, FALSE))","v":2.2307000000000001},{"$f":"IF($O133=\"\", \"\", VLOOKUP($O133, USSW!$R$7:$S$2000, 2, FALSE))","v":2.2879},{"$f":"IF($O133=\"\", \"\", VLOOKUP($O133, USSW!$T$7:$U$2000, 2, FALSE))","v":2.3363}]
[null,{"$f":"IF(CAD!B131=\"\", \"\", CAD!B131)","v":"2017-07-10"},{"$f":"IF($B134=\"\", \"\", CAD!C131)","v":1.2890999999999999},{"$f":"IF($B134=\"\", \"\",VLOOKUP($B134, CAD!$D$7:$E$2000, 2, FALSE))","v":1.2846200000000001},{"$f":"IF($B134=\"\", \"\",VLOOKUP($B134, CAD!$F$7:$G$2000, 2, FALSE))","v":1.2805},{"$f":"IF($B134=\"\", \"\",VLOOKUP($B134, CAD!$H$7:$I$2000, 2, FALSE))","v":1.27695},{"$f":"IF($B134=\"\", \"\",VLOOKUP($B134, CAD!$J$7:$K$2000, 2, FALSE))","v":1.2741499999999999},{"$f":"IF($B134=\"\", \"\", VLOOKUP($B134, CAD!$L$7:$M$2000, 2, FALSE))","v":1.2721800000000001},{"$f":"IF($B134=\"\", \"\", VLOOKUP($B134, CAD!$N$7:$O$2000, 2, FALSE))","v":1.27067},{"$f":"IF($B134=\"\", \"\", VLOOKUP($B134, CAD!$P$7:$Q$2000, 2, FALSE))","v":1.27017},{"$f":"IF($B134=\"\", \"\", VLOOKUP($B134, CAD!$R$7:$S$2000, 2, FALSE))","v":1.27014},{"$f":"IF($B134=\"\", \"\", VLOOKUP($B134, CAD!$T$7:$U$2000, 2, FALSE))","v":1.2722500000000001},{"$f":"IF($B134=\"\", \"\", VLOOKUP($B134, CAD!$V$7:$W$2000, 2, FALSE))","v":1.2751699999999999},null,{"$f":"IF(USSW!B131=\"\", \"\", USSW!B131)","v":"2017-07-07"},{"$f":"IF($O134=\"\", \"\", USSW!C131)","v":1.4644999999999999},{"$f":"IF($O134=\"\", \"\", VLOOKUP($O134, USSW!$D$7:$E$2000, 2, FALSE))","v":1.647},{"$f":"IF($O134=\"\", \"\", VLOOKUP($O134, USSW!$F$7:$G$2000, 2, FALSE))","v":1.7949999999999999},{"$f":"IF($O134=\"\", \"\", VLOOKUP($O134, USSW!$H$7:$I$2000, 2, FALSE))","v":1.9148000000000001},{"$f":"IF($O134=\"\", \"\", VLOOKUP($O134, USSW!$J$7:$K$2000, 2, FALSE))","v":2.0167999999999999},{"$f":"IF($O134=\"\", \"\", VLOOKUP($O134, USSW!$L$7:$M$2000, 2, FALSE))","v":2.1046},{"$f":"IF($O134=\"\", \"\", VLOOKUP($O134, USSW!$N$7:$O$2000, 2, FALSE))","v":2.181},{"$f":"IF($O134=\"\", \"\", VLOOKUP($O134, USSW!$P$7:$Q$2000, 2, FALSE))","v":2.2492000000000001},{"$f":"IF($O134=\"\", \"\", VLOOKUP($O134, USSW!$R$7:$S$2000, 2, FALSE))","v":2.3045},{"$f":"IF($O134=\"\", \"\", VLOOKUP($O134, USSW!$T$7:$U$2000, 2, FALSE))","v":2.3534000000000002}]
[null,{"$f":"IF(CAD!B132=\"\", \"\", CAD!B132)","v":"2017-07-07"},{"$f":"IF($B135=\"\", \"\", CAD!C132)","v":1.2876000000000001},{"$f":"IF($B135=\"\", \"\",VLOOKUP($B135, CAD!$D$7:$E$2000, 2, FALSE))","v":1.283199},{"$f":"IF($B135=\"\", \"\",VLOOKUP($B135, CAD!$F$7:$G$2000, 2, FALSE))","v":1.2788999999999999},{"$f":"IF($B135=\"\", \"\",VLOOKUP($B135, CAD!$H$7:$I$2000, 2, FALSE))","v":1.27545},{"$f":"IF($B135=\"\", \"\",VLOOKUP($B135, CAD!$J$7:$K$2000, 2, FALSE))","v":1.272329},{"$f":"IF($B135=\"\", \"\", VLOOKUP($B135, CAD!$L$7:$M$2000, 2, FALSE))","v":1.26979},{"$f":"IF($B135=\"\", \"\", VLOOKUP($B135, CAD!$N$7:$O$2000, 2, FALSE))","v":1.2677700000000001},{"$f":"IF($B135=\"\", \"\", VLOOKUP($B135, CAD!$P$7:$Q$2000, 2, FALSE))","v":1.266845},{"$f":"IF($B135=\"\", \"\", VLOOKUP($B135, CAD!$R$7:$S$2000, 2, FALSE))","v":1.2664},{"$f":"IF($B135=\"\", \"\", VLOOKUP($B135, CAD!$T$7:$U$2000, 2, FALSE))","v":1.26769},{"$f":"IF($B135=\"\", \"\", VLOOKUP($B135, CAD!$V$7:$W$2000, 2, FALSE))","v":1.2699860000000001},null,{"$f":"IF(USSW!B132=\"\", \"\", USSW!B132)","v":"2017-07-06"},{"$f":"IF($O135=\"\", \"\", USSW!C132)","v":1.4719},{"$f":"IF($O135=\"\", \"\", VLOOKUP($O135, USSW!$D$7:$E$2000, 2, FALSE))","v":1.65},{"$f":"IF($O135=\"\", \"\", VLOOKUP($O135, USSW!$F$7:$G$2000, 2, FALSE))","v":1.7949999999999999},{"$f":"IF($O135=\"\", \"\", VLOOKUP($O135, USSW!$H$7:$I$2000, 2, FALSE))","v":1.9145000000000001},{"$f":"IF($O135=\"\", \"\", VLOOKUP($O135, USSW!$J$7:$K$2000, 2, FALSE))","v":2.0122},{"$f":"IF($O135=\"\", \"\", VLOOKUP($O135, USSW!$L$7:$M$2000, 2, FALSE))","v":2.1002999999999998},{"$f":"IF($O135=\"\", \"\", VLOOKUP($O135, USSW!$N$7:$O$2000, 2, FALSE))","v":2.1764999999999999},{"$f":"IF($O135=\"\", \"\", VLOOKUP($O135, USSW!$P$7:$Q$2000, 2, FALSE))","v":2.2403},{"$f":"IF($O135=\"\", \"\", VLOOKUP($O135, USSW!$R$7:$S$2000, 2, FALSE))","v":2.2970000000000002},{"$f":"IF($O135=\"\", \"\", VLOOKUP($O135, USSW!$T$7:$U$2000, 2, FALSE))","v":2.3460999999999999}]
[null,{"$f":"IF(CAD!B133=\"\", \"\", CAD!B133)","v":"2017-07-06"},{"$f":"IF($B136=\"\", \"\", CAD!C133)","v":1.2978000000000001},{"$f":"IF($B136=\"\", \"\",VLOOKUP($B136, CAD!$D$7:$E$2000, 2, FALSE))","v":1.29295},{"$f":"IF($B136=\"\", \"\",VLOOKUP($B136, CAD!$F$7:$G$2000, 2, FALSE))","v":1.2884},{"$f":"IF($B136=\"\", \"\",VLOOKUP($B136, CAD!$H$7:$I$2000, 2, FALSE))","v":1.2847249999999999},{"$f":"IF($B136=\"\", \"\",VLOOKUP($B136, CAD!$J$7:$K$2000, 2, FALSE))","v":1.2811600000000001},{"$f":"IF($B136=\"\", \"\", VLOOKUP($B136, CAD!$L$7:$M$2000, 2, FALSE))","v":1.2784},{"$f":"IF($B136=\"\", \"\", VLOOKUP($B136, CAD!$N$7:$O$2000, 2, FALSE))","v":1.2757449999999999},{"$f":"IF($B136=\"\", \"\", VLOOKUP($B136, CAD!$P$7:$Q$2000, 2, FALSE))","v":1.2741199999999999},{"$f":"IF($B136=\"\", \"\", VLOOKUP($B136, CAD!$R$7:$S$2000, 2, FALSE))","v":1.27311},{"$f":"IF($B136=\"\", \"\", VLOOKUP($B136, CAD!$T$7:$U$2000, 2, FALSE))","v":1.2739100000000001},{"$f":"IF($B136=\"\", \"\", VLOOKUP($B136, CAD!$V$7:$W$2000, 2, FALSE))","v":1.2760499999999999},null,{"$f":"IF(USSW!B133=\"\", \"\", USSW!B133)","v":"2017-07-05"},{"$f":"IF($O136=\"\", \"\", USSW!C133)","v":1.4725999999999999},{"$f":"IF($O136=\"\", \"\", VLOOKUP($O136, USSW!$D$7:$E$2000, 2, FALSE))","v":1.6487000000000001},{"$f":"IF($O136=\"\", \"\", VLOOKUP($O136, USSW!$F$7:$G$2000, 2, FALSE))","v":1.7855000000000001},{"$f":"IF($O136=\"\", \"\", VLOOKUP($O136, USSW!$H$7:$I$2000, 2, FALSE))","v":1.8972},{"$f":"IF($O136=\"\", \"\", VLOOKUP($O136, USSW!$J$7:$K$2000, 2, FALSE))","v":1.9915},{"$f":"IF($O136=\"\", \"\", VLOOKUP($O136, USSW!$L$7:$M$2000, 2, FALSE))","v":2.0743999999999998},{"$f":"IF($O136=\"\", \"\", VLOOKUP($O136, USSW!$N$7:$O$2000, 2, FALSE))","v":2.1452},{"$f":"IF($O136=\"\", \"\", VLOOKUP($O136, USSW!$P$7:$Q$2000, 2, FALSE))","v":2.2052999999999998},{"$f":"IF($O136=\"\", \"\", VLOOKUP($O136, USSW!$R$7:$S$2000, 2, FALSE))","v":2.2591999999999999},{"$f":"IF($O136=\"\", \"\", VLOOKUP($O136, USSW!$T$7:$U$2000, 2, FALSE))","v":2.3071000000000002}]
[null,{"$f":"IF(CAD!B134=\"\", \"\", CAD!B134)","v":"2017-07-05"},{"$f":"IF($B137=\"\", \"\", CAD!C134)","v":1.2957000000000001},{"$f":"IF($B137=\"\", \"\",VLOOKUP($B137, CAD!$D$7:$E$2000, 2, FALSE))","v":1.29074},{"$f":"IF($B137=\"\", \"\",VLOOKUP($B137, CAD!$F$7:$G$2000, 2, FALSE))","v":1.28606},{"$f":"IF($B137=\"\", \"\",VLOOKUP($B137, CAD!$H$7:$I$2000, 2, FALSE))","v":1.2820499999999999},{"$f":"IF($B137=\"\", \"\",VLOOKUP($B137, CAD!$J$7:$K$2000, 2, FALSE))","v":1.278565},{"$f":"IF($B137=\"\", \"\", VLOOKUP($B137, CAD!$L$7:$M$2000, 2, FALSE))","v":1.2761},{"$f":"IF($B137=\"\", \"\", VLOOKUP($B137, CAD!$N$7:$O$2000, 2, FALSE))","v":1.27291},{"$f":"IF($B137=\"\", \"\", VLOOKUP($B137, CAD!$P$7:$Q$2000, 2, FALSE))","v":1.2718400000000001},{"$f":"IF($B137=\"\", \"\", VLOOKUP($B137, CAD!$R$7:$S$2000, 2, FALSE))","v":1.27095},{"$f":"IF($B137=\"\", \"\", VLOOKUP($B137, CAD!$T$7:$U$2000, 2, FALSE))","v":1.27146},{"$f":"IF($B137=\"\", \"\", VLOOKUP($B137, CAD!$V$7:$W$2000, 2, FALSE))","v":1.2742899999999999},null,{"$f":"IF(USSW!B134=\"\", \"\", USSW!B134)","v":"2017-07-04"},{"$f":"IF($O137=\"\", \"\", USSW!C134)","v":1.464},{"$f":"IF($O137=\"\", \"\", VLOOKUP($O137, USSW!$D$7:$E$2000, 2, FALSE))","v":1.6465000000000001},{"$f":"IF($O137=\"\", \"\", VLOOKUP($O137, USSW!$F$7:$G$2000, 2, FALSE))","v":1.784},{"$f":"IF($O137=\"\", \"\", VLOOKUP($O137, USSW!$H$7:$I$2000, 2, FALSE))","v":1.8779999999999999},{"$f":"IF($O137=\"\", \"\", VLOOKUP($O137, USSW!$J$7:$K$2000, 2, FALSE))","v":1.9910000000000001},{"$f":"IF($O137=\"\", \"\", VLOOKUP($O137, USSW!$L$7:$M$2000, 2, FALSE))","v":2.0821999999999998},{"$f":"IF($O137=\"\", \"\", VLOOKUP($O137, USSW!$N$7:$O$2000, 2, FALSE))","v":2.13},{"$f":"IF($O137=\"\", \"\", VLOOKUP($O137, USSW!$P$7:$Q$2000, 2, FALSE))","v":2.2189999999999999},{"$f":"IF($O137=\"\", \"\", VLOOKUP($O137, USSW!$R$7:$S$2000, 2, FALSE))","v":2.2719999999999998},{"$f":"IF($O137=\"\", \"\", VLOOKUP($O137, USSW!$T$7:$U$2000, 2, FALSE))","v":2.3195000000000001}]
[null,{"$f":"IF(CAD!B135=\"\", \"\", CAD!B135)","v":"2017-07-04"},{"$f":"IF($B138=\"\", \"\", CAD!C135)","v":1.2937000000000001},{"$f":"IF($B138=\"\", \"\",VLOOKUP($B138, CAD!$D$7:$E$2000, 2, FALSE))","v":1.2886500000000001},{"$f":"IF($B138=\"\", \"\",VLOOKUP($B138, CAD!$F$7:$G$2000, 2, FALSE))","v":1.2840389999999999},{"$f":"IF($B138=\"\", \"\",VLOOKUP($B138, CAD!$H$7:$I$2000, 2, FALSE))","v":1.2813159999999999},{"$f":"IF($B138=\"\", \"\",VLOOKUP($B138, CAD!$J$7:$K$2000, 2, FALSE))","v":1.2782199999999999},{"$f":"IF($B138=\"\", \"\", VLOOKUP($B138, CAD!$L$7:$M$2000, 2, FALSE))","v":1.2759799999999999},{"$f":"IF($B138=\"\", \"\", VLOOKUP($B138, CAD!$N$7:$O$2000, 2, FALSE))","v":1.2735449999999999},{"$f":"IF($B138=\"\", \"\", VLOOKUP($B138, CAD!$P$7:$Q$2000, 2, FALSE))","v":1.2740450000000001},{"$f":"IF($B138=\"\", \"\", VLOOKUP($B138, CAD!$R$7:$S$2000, 2, FALSE))","v":1.2724500000000001},{"$f":"IF($B138=\"\", \"\", VLOOKUP($B138, CAD!$T$7:$U$2000, 2, FALSE))","v":1.2728699999999999},{"$f":"IF($B138=\"\", \"\", VLOOKUP($B138, CAD!$V$7:$W$2000, 2, FALSE))","v":1.2787299999999999},null,{"$f":"IF(USSW!B135=\"\", \"\", USSW!B135)","v":"2017-07-03"},{"$f":"IF($O138=\"\", \"\", USSW!C135)","v":1.4701},{"$f":"IF($O138=\"\", \"\", VLOOKUP($O138, USSW!$D$7:$E$2000, 2, FALSE))","v":1.6435},{"$f":"IF($O138=\"\", \"\", VLOOKUP($O138, USSW!$F$7:$G$2000, 2, FALSE))","v":1.7828999999999999},{"$f":"IF($O138=\"\", \"\", VLOOKUP($O138, USSW!$H$7:$I$2000, 2, FALSE))","v":1.8976},{"$f":"IF($O138=\"\", \"\", VLOOKUP($O138, USSW!$J$7:$K$2000, 2, FALSE))","v":1.9947999999999999},{"$f":"IF($O138=\"\", \"\", VLOOKUP($O138, USSW!$L$7:$M$2000, 2, FALSE))","v":2.0819000000000001},{"$f":"IF($O138=\"\", \"\", VLOOKUP($O138, USSW!$N$7:$O$2000, 2, FALSE))","v":2.1551999999999998},{"$f":"IF($O138=\"\", \"\", VLOOKUP($O138, USSW!$P$7:$Q$2000, 2, FALSE))","v":2.2181999999999999},{"$f":"IF($O138=\"\", \"\", VLOOKUP($O138, USSW!$R$7:$S$2000, 2, FALSE))","v":2.2726000000000002},{"$f":"IF($O138=\"\", \"\", VLOOKUP($O138, USSW!$T$7:$U$2000, 2, FALSE))","v":2.3205}]
[null,{"$f":"IF(CAD!B136=\"\", \"\", CAD!B136)","v":"2017-07-03"},{"$f":"IF($B139=\"\", \"\", CAD!C136)","v":1.3007},{"$f":"IF($B139=\"\", \"\",VLOOKUP($B139, CAD!$D$7:$E$2000, 2, FALSE))","v":1.295345},{"$f":"IF($B139=\"\", \"\",VLOOKUP($B139, CAD!$F$7:$G$2000, 2, FALSE))","v":1.289668},{"$f":"IF($B139=\"\", \"\",VLOOKUP($B139, CAD!$H$7:$I$2000, 2, FALSE))","v":1.285355},{"$f":"IF($B139=\"\", \"\",VLOOKUP($B139, CAD!$J$7:$K$2000, 2, FALSE))","v":1.281155},{"$f":"IF($B139=\"\", \"\", VLOOKUP($B139, CAD!$L$7:$M$2000, 2, FALSE))","v":1.27986},{"$f":"IF($B139=\"\", \"\", VLOOKUP($B139, CAD!$N$7:$O$2000, 2, FALSE))","v":1.2751600000000001},{"$f":"IF($B139=\"\", \"\", VLOOKUP($B139, CAD!$P$7:$Q$2000, 2, FALSE))","v":1.2729999999999999},{"$f":"IF($B139=\"\", \"\", VLOOKUP($B139, CAD!$R$7:$S$2000, 2, FALSE))","v":1.27078},{"$f":"IF($B139=\"\", \"\", VLOOKUP($B139, CAD!$T$7:$U$2000, 2, FALSE))","v":1.2704200000000001},{"$f":"IF($B139=\"\", \"\", VLOOKUP($B139, CAD!$V$7:$W$2000, 2, FALSE))","v":1.2718700000000001},null,{"$f":"IF(USSW!B136=\"\", \"\", USSW!B136)","v":"2017-06-30"},{"$f":"IF($O139=\"\", \"\", USSW!C136)","v":1.4571000000000001},{"$f":"IF($O139=\"\", \"\", VLOOKUP($O139, USSW!$D$7:$E$2000, 2, FALSE))","v":1.6177999999999999},{"$f":"IF($O139=\"\", \"\", VLOOKUP($O139, USSW!$F$7:$G$2000, 2, FALSE))","v":1.7508999999999999},{"$f":"IF($O139=\"\", \"\", VLOOKUP($O139, USSW!$H$7:$I$2000, 2, FALSE))","v":1.8615999999999999},{"$f":"IF($O139=\"\", \"\", VLOOKUP($O139, USSW!$J$7:$K$2000, 2, FALSE))","v":1.958},{"$f":"IF($O139=\"\", \"\", VLOOKUP($O139, USSW!$L$7:$M$2000, 2, FALSE))","v":2.0409999999999999},{"$f":"IF($O139=\"\", \"\", VLOOKUP($O139, USSW!$N$7:$O$2000, 2, FALSE))","v":2.1124999999999998},{"$f":"IF($O139=\"\", \"\", VLOOKUP($O139, USSW!$P$7:$Q$2000, 2, FALSE))","v":2.165},{"$f":"IF($O139=\"\", \"\", VLOOKUP($O139, USSW!$R$7:$S$2000, 2, FALSE))","v":2.2317999999999998},{"$f":"IF($O139=\"\", \"\", VLOOKUP($O139, USSW!$T$7:$U$2000, 2, FALSE))","v":2.2810000000000001}]
[null,{"$f":"IF(CAD!B137=\"\", \"\", CAD!B137)","v":"2017-06-30"},{"$f":"IF($B140=\"\", \"\", CAD!C137)","v":1.2964},{"$f":"IF($B140=\"\", \"\",VLOOKUP($B140, CAD!$D$7:$E$2000, 2, FALSE))","v":1.29125},{"$f":"IF($B140=\"\", \"\",VLOOKUP($B140, CAD!$F$7:$G$2000, 2, FALSE))","v":1.286651},{"$f":"IF($B140=\"\", \"\",VLOOKUP($B140, CAD!$H$7:$I$2000, 2, FALSE))","v":1.28305},{"$f":"IF($B140=\"\", \"\",VLOOKUP($B140, CAD!$J$7:$K$2000, 2, FALSE))","v":1.2786900000000001},{"$f":"IF($B140=\"\", \"\", VLOOKUP($B140, CAD!$L$7:$M$2000, 2, FALSE))","v":1.2768999999999999},{"$f":"IF($B140=\"\", \"\", VLOOKUP($B140, CAD!$N$7:$O$2000, 2, FALSE))","v":1.2734700000000001},{"$f":"IF($B140=\"\", \"\", VLOOKUP($B140, CAD!$P$7:$Q$2000, 2, FALSE))","v":1.27182},{"$f":"IF($B140=\"\", \"\", VLOOKUP($B140, CAD!$R$7:$S$2000, 2, FALSE))","v":1.2703100000000001},{"$f":"IF($B140=\"\", \"\", VLOOKUP($B140, CAD!$T$7:$U$2000, 2, FALSE))","v":1.2707599999999999},{"$f":"IF($B140=\"\", \"\", VLOOKUP($B140, CAD!$V$7:$W$2000, 2, FALSE))","v":1.2731300000000001},null,{"$f":"IF(USSW!B137=\"\", \"\", USSW!B137)","v":"2017-06-29"},{"$f":"IF($O140=\"\", \"\", USSW!C137)","v":1.44},{"$f":"IF($O140=\"\", \"\", VLOOKUP($O140, USSW!$D$7:$E$2000, 2, FALSE))","v":1.5892999999999999},{"$f":"IF($O140=\"\", \"\", VLOOKUP($O140, USSW!$F$7:$G$2000, 2, FALSE))","v":1.7144999999999999},{"$f":"IF($O140=\"\", \"\", VLOOKUP($O140, USSW!$H$7:$I$2000, 2, FALSE))","v":1.8223},{"$f":"IF($O140=\"\", \"\", VLOOKUP($O140, USSW!$J$7:$K$2000, 2, FALSE))","v":1.9168000000000001},{"$f":"IF($O140=\"\", \"\", VLOOKUP($O140, USSW!$L$7:$M$2000, 2, FALSE))","v":1.9984999999999999},{"$f":"IF($O140=\"\", \"\", VLOOKUP($O140, USSW!$N$7:$O$2000, 2, FALSE))","v":2.0718000000000001},{"$f":"IF($O140=\"\", \"\", VLOOKUP($O140, USSW!$P$7:$Q$2000, 2, FALSE))","v":2.1349},{"$f":"IF($O140=\"\", \"\", VLOOKUP($O140, USSW!$R$7:$S$2000, 2, FALSE))","v":2.1913999999999998},{"$f":"IF($O140=\"\", \"\", VLOOKUP($O140, USSW!$T$7:$U$2000, 2, FALSE))","v":2.2400000000000002}]
[null,{"$f":"IF(CAD!B138=\"\", \"\", CAD!B138)","v":"2017-06-29"},{"$f":"IF($B141=\"\", \"\", CAD!C138)","v":1.3004},{"$f":"IF($B141=\"\", \"\",VLOOKUP($B141, CAD!$D$7:$E$2000, 2, FALSE))","v":1.29491},{"$f":"IF($B141=\"\", \"\",VLOOKUP($B141, CAD!$F$7:$G$2000, 2, FALSE))","v":1.2903249999999999},{"$f":"IF($B141=\"\", \"\",VLOOKUP($B141, CAD!$H$7:$I$2000, 2, FALSE))","v":1.2865500000000001},{"$f":"IF($B141=\"\", \"\",VLOOKUP($B141, CAD!$J$7:$K$2000, 2, FALSE))","v":1.2831399999999999},{"$f":"IF($B141=\"\", \"\", VLOOKUP($B141, CAD!$L$7:$M$2000, 2, FALSE))","v":1.2806900000000001},{"$f":"IF($B141=\"\", \"\", VLOOKUP($B141, CAD!$N$7:$O$2000, 2, FALSE))","v":1.2772600000000001},{"$f":"IF($B141=\"\", \"\", VLOOKUP($B141, CAD!$P$7:$Q$2000, 2, FALSE))","v":1.2754449999999999},{"$f":"IF($B141=\"\", \"\", VLOOKUP($B141, CAD!$R$7:$S$2000, 2, FALSE))","v":1.2742100000000001},{"$f":"IF($B141=\"\", \"\", VLOOKUP($B141, CAD!$T$7:$U$2000, 2, FALSE))","v":1.27407},{"$f":"IF($B141=\"\", \"\", VLOOKUP($B141, CAD!$V$7:$W$2000, 2, FALSE))","v":1.2745500000000001},null,{"$f":"IF(USSW!B138=\"\", \"\", USSW!B138)","v":"2017-06-28"},{"$f":"IF($O141=\"\", \"\", USSW!C138)","v":1.4359999999999999},{"$f":"IF($O141=\"\", \"\", VLOOKUP($O141, USSW!$D$7:$E$2000, 2, FALSE))","v":1.573},{"$f":"IF($O141=\"\", \"\", VLOOKUP($O141, USSW!$F$7:$G$2000, 2, FALSE))","v":1.6899},{"$f":"IF($O141=\"\", \"\", VLOOKUP($O141, USSW!$H$7:$I$2000, 2, FALSE))","v":1.7907999999999999},{"$f":"IF($O141=\"\", \"\", VLOOKUP($O141, USSW!$J$7:$K$2000, 2, FALSE))","v":1.8808},{"$f":"IF($O141=\"\", \"\", VLOOKUP($O141, USSW!$L$7:$M$2000, 2, FALSE))","v":1.9615},{"$f":"IF($O141=\"\", \"\", VLOOKUP($O141, USSW!$N$7:$O$2000, 2, FALSE))","v":2.0322},{"$f":"IF($O141=\"\", \"\", VLOOKUP($O141, USSW!$P$7:$Q$2000, 2, FALSE))","v":2.0952999999999999},{"$f":"IF($O141=\"\", \"\", VLOOKUP($O141, USSW!$R$7:$S$2000, 2, FALSE))","v":2.1522999999999999},{"$f":"IF($O141=\"\", \"\", VLOOKUP($O141, USSW!$T$7:$U$2000, 2, FALSE))","v":2.2012}]
[null,{"$f":"IF(CAD!B139=\"\", \"\", CAD!B139)","v":"2017-06-28"},{"$f":"IF($B142=\"\", \"\", CAD!C139)","v":1.3039000000000001},{"$f":"IF($B142=\"\", \"\",VLOOKUP($B142, CAD!$D$7:$E$2000, 2, FALSE))","v":1.2982800000000001},{"$f":"IF($B142=\"\", \"\",VLOOKUP($B142, CAD!$F$7:$G$2000, 2, FALSE))","v":1.293668},{"$f":"IF($B142=\"\", \"\",VLOOKUP($B142, CAD!$H$7:$I$2000, 2, FALSE))","v":1.28975},{"$f":"IF($B142=\"\", \"\",VLOOKUP($B142, CAD!$J$7:$K$2000, 2, FALSE))","v":1.2852600000000001},{"$f":"IF($B142=\"\", \"\", VLOOKUP($B142, CAD!$L$7:$M$2000, 2, FALSE))","v":1.2827},{"$f":"IF($B142=\"\", \"\", VLOOKUP($B142, CAD!$N$7:$O$2000, 2, FALSE))","v":1.27932},{"$f":"IF($B142=\"\", \"\", VLOOKUP($B142, CAD!$P$7:$Q$2000, 2, FALSE))","v":1.2773399999999999},{"$f":"IF($B142=\"\", \"\", VLOOKUP($B142, CAD!$R$7:$S$2000, 2, FALSE))","v":1.27535},{"$f":"IF($B142=\"\", \"\", VLOOKUP($B142, CAD!$T$7:$U$2000, 2, FALSE))","v":1.27447},{"$f":"IF($B142=\"\", \"\", VLOOKUP($B142, CAD!$V$7:$W$2000, 2, FALSE))","v":1.2756700000000001},null,{"$f":"IF(USSW!B139=\"\", \"\", USSW!B139)","v":"2017-06-27"},{"$f":"IF($O142=\"\", \"\", USSW!C139)","v":1.4355},{"$f":"IF($O142=\"\", \"\", VLOOKUP($O142, USSW!$D$7:$E$2000, 2, FALSE))","v":1.571},{"$f":"IF($O142=\"\", \"\", VLOOKUP($O142, USSW!$F$7:$G$2000, 2, FALSE))","v":1.6847000000000001},{"$f":"IF($O142=\"\", \"\", VLOOKUP($O142, USSW!$H$7:$I$2000, 2, FALSE))","v":1.7855000000000001},{"$f":"IF($O142=\"\", \"\", VLOOKUP($O142, USSW!$J$7:$K$2000, 2, FALSE))","v":1.8683000000000001},{"$f":"IF($O142=\"\", \"\", VLOOKUP($O142, USSW!$L$7:$M$2000, 2, FALSE))","v":1.9476},{"$f":"IF($O142=\"\", \"\", VLOOKUP($O142, USSW!$N$7:$O$2000, 2, FALSE))","v":2.0143},{"$f":"IF($O142=\"\", \"\", VLOOKUP($O142, USSW!$P$7:$Q$2000, 2, FALSE))","v":2.0756999999999999},{"$f":"IF($O142=\"\", \"\", VLOOKUP($O142, USSW!$R$7:$S$2000, 2, FALSE))","v":2.1286},{"$f":"IF($O142=\"\", \"\", VLOOKUP($O142, USSW!$T$7:$U$2000, 2, FALSE))","v":2.1774}]
[null,{"$f":"IF(CAD!B140=\"\", \"\", CAD!B140)","v":"2017-06-27"},{"$f":"IF($B143=\"\", \"\", CAD!C140)","v":1.3199000000000001},{"$f":"IF($B143=\"\", \"\",VLOOKUP($B143, CAD!$D$7:$E$2000, 2, FALSE))","v":1.313447},{"$f":"IF($B143=\"\", \"\",VLOOKUP($B143, CAD!$F$7:$G$2000, 2, FALSE))","v":1.3082400000000001},{"$f":"IF($B143=\"\", \"\",VLOOKUP($B143, CAD!$H$7:$I$2000, 2, FALSE))","v":1.30365},{"$f":"IF($B143=\"\", \"\",VLOOKUP($B143, CAD!$J$7:$K$2000, 2, FALSE))","v":1.3002},{"$f":"IF($B143=\"\", \"\", VLOOKUP($B143, CAD!$L$7:$M$2000, 2, FALSE))","v":1.2978940000000001},{"$f":"IF($B143=\"\", \"\", VLOOKUP($B143, CAD!$N$7:$O$2000, 2, FALSE))","v":1.2925199999999999},{"$f":"IF($B143=\"\", \"\", VLOOKUP($B143, CAD!$P$7:$Q$2000, 2, FALSE))","v":1.29027},{"$f":"IF($B143=\"\", \"\", VLOOKUP($B143, CAD!$R$7:$S$2000, 2, FALSE))","v":1.2883500000000001},{"$f":"IF($B143=\"\", \"\", VLOOKUP($B143, CAD!$T$7:$U$2000, 2, FALSE))","v":1.28779},{"$f":"IF($B143=\"\", \"\", VLOOKUP($B143, CAD!$V$7:$W$2000, 2, FALSE))","v":1.2888900000000001},null,{"$f":"IF(USSW!B140=\"\", \"\", USSW!B140)","v":"2017-06-26"},{"$f":"IF($O143=\"\", \"\", USSW!C140)","v":1.423},{"$f":"IF($O143=\"\", \"\", VLOOKUP($O143, USSW!$D$7:$E$2000, 2, FALSE))","v":1.5487},{"$f":"IF($O143=\"\", \"\", VLOOKUP($O143, USSW!$F$7:$G$2000, 2, FALSE))","v":1.655},{"$f":"IF($O143=\"\", \"\", VLOOKUP($O143, USSW!$H$7:$I$2000, 2, FALSE))","v":1.7442},{"$f":"IF($O143=\"\", \"\", VLOOKUP($O143, USSW!$J$7:$K$2000, 2, FALSE))","v":1.8248},{"$f":"IF($O143=\"\", \"\", VLOOKUP($O143, USSW!$L$7:$M$2000, 2, FALSE))","v":1.8958999999999999},{"$f":"IF($O143=\"\", \"\", VLOOKUP($O143, USSW!$N$7:$O$2000, 2, FALSE))","v":1.9603999999999999},{"$f":"IF($O143=\"\", \"\", VLOOKUP($O143, USSW!$P$7:$Q$2000, 2, FALSE))","v":2.0186000000000002},{"$f":"IF($O143=\"\", \"\", VLOOKUP($O143, USSW!$R$7:$S$2000, 2, FALSE))","v":2.0714999999999999},{"$f":"IF($O143=\"\", \"\", VLOOKUP($O143, USSW!$T$7:$U$2000, 2, FALSE))","v":2.1196000000000002}]
[null,{"$f":"IF(CAD!B141=\"\", \"\", CAD!B141)","v":"2017-06-26"},{"$f":"IF($B144=\"\", \"\", CAD!C141)","v":1.3244},{"$f":"IF($B144=\"\", \"\",VLOOKUP($B144, CAD!$D$7:$E$2000, 2, FALSE))","v":1.3176890000000001},{"$f":"IF($B144=\"\", \"\",VLOOKUP($B144, CAD!$F$7:$G$2000, 2, FALSE))","v":1.31193},{"$f":"IF($B144=\"\", \"\",VLOOKUP($B144, CAD!$H$7:$I$2000, 2, FALSE))","v":1.3067500000000001},{"$f":"IF($B144=\"\", \"\",VLOOKUP($B144, CAD!$J$7:$K$2000, 2, FALSE))","v":1.3020499999999999},{"$f":"IF($B144=\"\", \"\", VLOOKUP($B144, CAD!$L$7:$M$2000, 2, FALSE))","v":1.2981799999999999},{"$f":"IF($B144=\"\", \"\", VLOOKUP($B144, CAD!$N$7:$O$2000, 2, FALSE))","v":1.2938449999999999},{"$f":"IF($B144=\"\", \"\", VLOOKUP($B144, CAD!$P$7:$Q$2000, 2, FALSE))","v":1.2915700000000001},{"$f":"IF($B144=\"\", \"\", VLOOKUP($B144, CAD!$R$7:$S$2000, 2, FALSE))","v":1.2893950000000001},{"$f":"IF($B144=\"\", \"\", VLOOKUP($B144, CAD!$T$7:$U$2000, 2, FALSE))","v":1.28905},{"$f":"IF($B144=\"\", \"\", VLOOKUP($B144, CAD!$V$7:$W$2000, 2, FALSE))","v":1.2894699999999999},null,{"$f":"IF(USSW!B141=\"\", \"\", USSW!B141)","v":"2017-06-23"},{"$f":"IF($O144=\"\", \"\", USSW!C141)","v":1.4185000000000001},{"$f":"IF($O144=\"\", \"\", VLOOKUP($O144, USSW!$D$7:$E$2000, 2, FALSE))","v":1.5448999999999999},{"$f":"IF($O144=\"\", \"\", VLOOKUP($O144, USSW!$F$7:$G$2000, 2, FALSE))","v":1.6501999999999999},{"$f":"IF($O144=\"\", \"\", VLOOKUP($O144, USSW!$H$7:$I$2000, 2, FALSE))","v":1.7408999999999999},{"$f":"IF($O144=\"\", \"\", VLOOKUP($O144, USSW!$J$7:$K$2000, 2, FALSE))","v":1.819},{"$f":"IF($O144=\"\", \"\", VLOOKUP($O144, USSW!$L$7:$M$2000, 2, FALSE))","v":1.8905000000000001},{"$f":"IF($O144=\"\", \"\", VLOOKUP($O144, USSW!$N$7:$O$2000, 2, FALSE))","v":1.9558},{"$f":"IF($O144=\"\", \"\", VLOOKUP($O144, USSW!$P$7:$Q$2000, 2, FALSE))","v":2.0145},{"$f":"IF($O144=\"\", \"\", VLOOKUP($O144, USSW!$R$7:$S$2000, 2, FALSE))","v":2.0682999999999998},{"$f":"IF($O144=\"\", \"\", VLOOKUP($O144, USSW!$T$7:$U$2000, 2, FALSE))","v":2.1168}]
[null,{"$f":"IF(CAD!B142=\"\", \"\", CAD!B142)","v":"2017-06-23"},{"$f":"IF($B145=\"\", \"\", CAD!C142)","v":1.3267},{"$f":"IF($B145=\"\", \"\",VLOOKUP($B145, CAD!$D$7:$E$2000, 2, FALSE))","v":1.3199399999999999},{"$f":"IF($B145=\"\", \"\",VLOOKUP($B145, CAD!$F$7:$G$2000, 2, FALSE))","v":1.3143339999999999},{"$f":"IF($B145=\"\", \"\",VLOOKUP($B145, CAD!$H$7:$I$2000, 2, FALSE))","v":1.30935},{"$f":"IF($B145=\"\", \"\",VLOOKUP($B145, CAD!$J$7:$K$2000, 2, FALSE))","v":1.3049500000000001},{"$f":"IF($B145=\"\", \"\", VLOOKUP($B145, CAD!$L$7:$M$2000, 2, FALSE))","v":1.3008999999999999},{"$f":"IF($B145=\"\", \"\", VLOOKUP($B145, CAD!$N$7:$O$2000, 2, FALSE))","v":1.2975449999999999},{"$f":"IF($B145=\"\", \"\", VLOOKUP($B145, CAD!$P$7:$Q$2000, 2, FALSE))","v":1.29528},{"$f":"IF($B145=\"\", \"\", VLOOKUP($B145, CAD!$R$7:$S$2000, 2, FALSE))","v":1.2934399999999999},{"$f":"IF($B145=\"\", \"\", VLOOKUP($B145, CAD!$T$7:$U$2000, 2, FALSE))","v":1.2931299999999999},{"$f":"IF($B145=\"\", \"\", VLOOKUP($B145, CAD!$V$7:$W$2000, 2, FALSE))","v":1.2938799999999999},null,{"$f":"IF(USSW!B142=\"\", \"\", USSW!B142)","v":"2017-06-22"},{"$f":"IF($O145=\"\", \"\", USSW!C142)","v":1.4129},{"$f":"IF($O145=\"\", \"\", VLOOKUP($O145, USSW!$D$7:$E$2000, 2, FALSE))","v":1.5302},{"$f":"IF($O145=\"\", \"\", VLOOKUP($O145, USSW!$F$7:$G$2000, 2, FALSE))","v":1.6353},{"$f":"IF($O145=\"\", \"\", VLOOKUP($O145, USSW!$H$7:$I$2000, 2, FALSE))","v":1.7270000000000001},{"$f":"IF($O145=\"\", \"\", VLOOKUP($O145, USSW!$J$7:$K$2000, 2, FALSE))","v":1.8068},{"$f":"IF($O145=\"\", \"\", VLOOKUP($O145, USSW!$L$7:$M$2000, 2, FALSE))","v":1.8811},{"$f":"IF($O145=\"\", \"\", VLOOKUP($O145, USSW!$N$7:$O$2000, 2, FALSE))","v":1.9424999999999999},{"$f":"IF($O145=\"\", \"\", VLOOKUP($O145, USSW!$P$7:$Q$2000, 2, FALSE))","v":2.0015999999999998},{"$f":"IF($O145=\"\", \"\", VLOOKUP($O145, USSW!$R$7:$S$2000, 2, FALSE))","v":2.0548999999999999},{"$f":"IF($O145=\"\", \"\", VLOOKUP($O145, USSW!$T$7:$U$2000, 2, FALSE))","v":2.101}]
[null,{"$f":"IF(CAD!B143=\"\", \"\", CAD!B143)","v":"2017-06-22"},{"$f":"IF($B146=\"\", \"\", CAD!C143)","v":1.3232999999999999},{"$f":"IF($B146=\"\", \"\",VLOOKUP($B146, CAD!$D$7:$E$2000, 2, FALSE))","v":1.3170839999999999},{"$f":"IF($B146=\"\", \"\",VLOOKUP($B146, CAD!$F$7:$G$2000, 2, FALSE))","v":1.3121499999999999},{"$f":"IF($B146=\"\", \"\",VLOOKUP($B146, CAD!$H$7:$I$2000, 2, FALSE))","v":1.3080499999999999},{"$f":"IF($B146=\"\", \"\",VLOOKUP($B146, CAD!$J$7:$K$2000, 2, FALSE))","v":1.3040099999999999},{"$f":"IF($B146=\"\", \"\", VLOOKUP($B146, CAD!$L$7:$M$2000, 2, FALSE))","v":1.3013999999999999},{"$f":"IF($B146=\"\", \"\", VLOOKUP($B146, CAD!$N$7:$O$2000, 2, FALSE))","v":1.29745},{"$f":"IF($B146=\"\", \"\", VLOOKUP($B146, CAD!$P$7:$Q$2000, 2, FALSE))","v":1.29538},{"$f":"IF($B146=\"\", \"\", VLOOKUP($B146, CAD!$R$7:$S$2000, 2, FALSE))","v":1.2940149999999999},{"$f":"IF($B146=\"\", \"\", VLOOKUP($B146, CAD!$T$7:$U$2000, 2, FALSE))","v":1.293795},{"$f":"IF($B146=\"\", \"\", VLOOKUP($B146, CAD!$V$7:$W$2000, 2, FALSE))","v":1.29498},null,{"$f":"IF(USSW!B143=\"\", \"\", USSW!B143)","v":"2017-06-21"},{"$f":"IF($O146=\"\", \"\", USSW!C143)","v":1.4132},{"$f":"IF($O146=\"\", \"\", VLOOKUP($O146, USSW!$D$7:$E$2000, 2, FALSE))","v":1.5435000000000001},{"$f":"IF($O146=\"\", \"\", VLOOKUP($O146, USSW!$F$7:$G$2000, 2, FALSE))","v":1.6519999999999999},{"$f":"IF($O146=\"\", \"\", VLOOKUP($O146, USSW!$H$7:$I$2000, 2, FALSE))","v":1.7456},{"$f":"IF($O146=\"\", \"\", VLOOKUP($O146, USSW!$J$7:$K$2000, 2, FALSE))","v":1.8294999999999999},{"$f":"IF($O146=\"\", \"\", VLOOKUP($O146, USSW!$L$7:$M$2000, 2, FALSE))","v":1.9008},{"$f":"IF($O146=\"\", \"\", VLOOKUP($O146, USSW!$N$7:$O$2000, 2, FALSE))","v":1.9663999999999999},{"$f":"IF($O146=\"\", \"\", VLOOKUP($O146, USSW!$P$7:$Q$2000, 2, FALSE))","v":2.0261999999999998},{"$f":"IF($O146=\"\", \"\", VLOOKUP($O146, USSW!$R$7:$S$2000, 2, FALSE))","v":2.0785999999999998},{"$f":"IF($O146=\"\", \"\", VLOOKUP($O146, USSW!$T$7:$U$2000, 2, FALSE))","v":2.1280000000000001}]
[null,{"$f":"IF(CAD!B144=\"\", \"\", CAD!B144)","v":"2017-06-21"},{"$f":"IF($B147=\"\", \"\", CAD!C144)","v":1.3333999999999999},{"$f":"IF($B147=\"\", \"\",VLOOKUP($B147, CAD!$D$7:$E$2000, 2, FALSE))","v":1.32667},{"$f":"IF($B147=\"\", \"\",VLOOKUP($B147, CAD!$F$7:$G$2000, 2, FALSE))","v":1.3211660000000001},{"$f":"IF($B147=\"\", \"\",VLOOKUP($B147, CAD!$H$7:$I$2000, 2, FALSE))","v":1.3162700000000001},{"$f":"IF($B147=\"\", \"\",VLOOKUP($B147, CAD!$J$7:$K$2000, 2, FALSE))","v":1.3117799999999999},{"$f":"IF($B147=\"\", \"\", VLOOKUP($B147, CAD!$L$7:$M$2000, 2, FALSE))","v":1.3076950000000001},{"$f":"IF($B147=\"\", \"\", VLOOKUP($B147, CAD!$N$7:$O$2000, 2, FALSE))","v":1.3039099999999999},{"$f":"IF($B147=\"\", \"\", VLOOKUP($B147, CAD!$P$7:$Q$2000, 2, FALSE))","v":1.301755},{"$f":"IF($B147=\"\", \"\", VLOOKUP($B147, CAD!$R$7:$S$2000, 2, FALSE))","v":1.2998799999999999},{"$f":"IF($B147=\"\", \"\", VLOOKUP($B147, CAD!$T$7:$U$2000, 2, FALSE))","v":1.29922},{"$f":"IF($B147=\"\", \"\", VLOOKUP($B147, CAD!$V$7:$W$2000, 2, FALSE))","v":1.29941},null,{"$f":"IF(USSW!B144=\"\", \"\", USSW!B144)","v":"2017-06-20"},{"$f":"IF($O147=\"\", \"\", USSW!C144)","v":1.4135},{"$f":"IF($O147=\"\", \"\", VLOOKUP($O147, USSW!$D$7:$E$2000, 2, FALSE))","v":1.5508},{"$f":"IF($O147=\"\", \"\", VLOOKUP($O147, USSW!$F$7:$G$2000, 2, FALSE))","v":1.6597999999999999},{"$f":"IF($O147=\"\", \"\", VLOOKUP($O147, USSW!$H$7:$I$2000, 2, FALSE))","v":1.7523},{"$f":"IF($O147=\"\", \"\", VLOOKUP($O147, USSW!$J$7:$K$2000, 2, FALSE))","v":1.8332999999999999},{"$f":"IF($O147=\"\", \"\", VLOOKUP($O147, USSW!$L$7:$M$2000, 2, FALSE))","v":1.9063000000000001},{"$f":"IF($O147=\"\", \"\", VLOOKUP($O147, USSW!$N$7:$O$2000, 2, FALSE))","v":1.9742},{"$f":"IF($O147=\"\", \"\", VLOOKUP($O147, USSW!$P$7:$Q$2000, 2, FALSE))","v":2.0335999999999999},{"$f":"IF($O147=\"\", \"\", VLOOKUP($O147, USSW!$R$7:$S$2000, 2, FALSE))","v":2.0876000000000001},{"$f":"IF($O147=\"\", \"\", VLOOKUP($O147, USSW!$T$7:$U$2000, 2, FALSE))","v":2.1372}]
[null,{"$f":"IF(CAD!B145=\"\", \"\", CAD!B145)","v":"2017-06-20"},{"$f":"IF($B148=\"\", \"\", CAD!C145)","v":1.3268},{"$f":"IF($B148=\"\", \"\",VLOOKUP($B148, CAD!$D$7:$E$2000, 2, FALSE))","v":1.320344},{"$f":"IF($B148=\"\", \"\",VLOOKUP($B148, CAD!$F$7:$G$2000, 2, FALSE))","v":1.3146549999999999},{"$f":"IF($B148=\"\", \"\",VLOOKUP($B148, CAD!$H$7:$I$2000, 2, FALSE))","v":1.30945},{"$f":"IF($B148=\"\", \"\",VLOOKUP($B148, CAD!$J$7:$K$2000, 2, FALSE))","v":1.30481},{"$f":"IF($B148=\"\", \"\", VLOOKUP($B148, CAD!$L$7:$M$2000, 2, FALSE))","v":1.3012999999999999},{"$f":"IF($B148=\"\", \"\", VLOOKUP($B148, CAD!$N$7:$O$2000, 2, FALSE))","v":1.2969250000000001},{"$f":"IF($B148=\"\", \"\", VLOOKUP($B148, CAD!$P$7:$Q$2000, 2, FALSE))","v":1.29477},{"$f":"IF($B148=\"\", \"\", VLOOKUP($B148, CAD!$R$7:$S$2000, 2, FALSE))","v":1.293115},{"$f":"IF($B148=\"\", \"\", VLOOKUP($B148, CAD!$T$7:$U$2000, 2, FALSE))","v":1.2924599999999999},{"$f":"IF($B148=\"\", \"\", VLOOKUP($B148, CAD!$V$7:$W$2000, 2, FALSE))","v":1.29297},null,{"$f":"IF(USSW!B145=\"\", \"\", USSW!B145)","v":"2017-06-19"},{"$f":"IF($O148=\"\", \"\", USSW!C145)","v":1.4192},{"$f":"IF($O148=\"\", \"\", VLOOKUP($O148, USSW!$D$7:$E$2000, 2, FALSE))","v":1.5609999999999999},{"$f":"IF($O148=\"\", \"\", VLOOKUP($O148, USSW!$F$7:$G$2000, 2, FALSE))","v":1.6766000000000001},{"$f":"IF($O148=\"\", \"\", VLOOKUP($O148, USSW!$H$7:$I$2000, 2, FALSE))","v":1.7755000000000001},{"$f":"IF($O148=\"\", \"\", VLOOKUP($O148, USSW!$J$7:$K$2000, 2, FALSE))","v":1.861},{"$f":"IF($O148=\"\", \"\", VLOOKUP($O148, USSW!$L$7:$M$2000, 2, FALSE))","v":1.9375},{"$f":"IF($O148=\"\", \"\", VLOOKUP($O148, USSW!$N$7:$O$2000, 2, FALSE))","v":2.0049999999999999},{"$f":"IF($O148=\"\", \"\", VLOOKUP($O148, USSW!$P$7:$Q$2000, 2, FALSE))","v":2.0665},{"$f":"IF($O148=\"\", \"\", VLOOKUP($O148, USSW!$R$7:$S$2000, 2, FALSE))","v":2.1214},{"$f":"IF($O148=\"\", \"\", VLOOKUP($O148, USSW!$T$7:$U$2000, 2, FALSE))","v":2.1705000000000001}]
[null,{"$f":"IF(CAD!B146=\"\", \"\", CAD!B146)","v":"2017-06-19"},{"$f":"IF($B149=\"\", \"\", CAD!C146)","v":1.3219000000000001},{"$f":"IF($B149=\"\", \"\",VLOOKUP($B149, CAD!$D$7:$E$2000, 2, FALSE))","v":1.3154999999999999},{"$f":"IF($B149=\"\", \"\",VLOOKUP($B149, CAD!$F$7:$G$2000, 2, FALSE))","v":1.3102499999999999},{"$f":"IF($B149=\"\", \"\",VLOOKUP($B149, CAD!$H$7:$I$2000, 2, FALSE))","v":1.3053399999999999},{"$f":"IF($B149=\"\", \"\",VLOOKUP($B149, CAD!$J$7:$K$2000, 2, FALSE))","v":1.300635},{"$f":"IF($B149=\"\", \"\", VLOOKUP($B149, CAD!$L$7:$M$2000, 2, FALSE))","v":1.2965150000000001},{"$f":"IF($B149=\"\", \"\", VLOOKUP($B149, CAD!$N$7:$O$2000, 2, FALSE))","v":1.2928649999999999},{"$f":"IF($B149=\"\", \"\", VLOOKUP($B149, CAD!$P$7:$Q$2000, 2, FALSE))","v":1.29036},{"$f":"IF($B149=\"\", \"\", VLOOKUP($B149, CAD!$R$7:$S$2000, 2, FALSE))","v":1.2880450000000001},{"$f":"IF($B149=\"\", \"\", VLOOKUP($B149, CAD!$T$7:$U$2000, 2, FALSE))","v":1.2870200000000001},{"$f":"IF($B149=\"\", \"\", VLOOKUP($B149, CAD!$V$7:$W$2000, 2, FALSE))","v":1.2868200000000001},null,{"$f":"IF(USSW!B146=\"\", \"\", USSW!B146)","v":"2017-06-16"},{"$f":"IF($O149=\"\", \"\", USSW!C146)","v":1.3956999999999999},{"$f":"IF($O149=\"\", \"\", VLOOKUP($O149, USSW!$D$7:$E$2000, 2, FALSE))","v":1.5273000000000001},{"$f":"IF($O149=\"\", \"\", VLOOKUP($O149, USSW!$F$7:$G$2000, 2, FALSE))","v":1.6383000000000001},{"$f":"IF($O149=\"\", \"\", VLOOKUP($O149, USSW!$H$7:$I$2000, 2, FALSE))","v":1.734},{"$f":"IF($O149=\"\", \"\", VLOOKUP($O149, USSW!$J$7:$K$2000, 2, FALSE))","v":1.8177000000000001},{"$f":"IF($O149=\"\", \"\", VLOOKUP($O149, USSW!$L$7:$M$2000, 2, FALSE))","v":1.8918999999999999},{"$f":"IF($O149=\"\", \"\", VLOOKUP($O149, USSW!$N$7:$O$2000, 2, FALSE))","v":1.9590000000000001},{"$f":"IF($O149=\"\", \"\", VLOOKUP($O149, USSW!$P$7:$Q$2000, 2, FALSE))","v":2.0175999999999998},{"$f":"IF($O149=\"\", \"\", VLOOKUP($O149, USSW!$R$7:$S$2000, 2, FALSE))","v":2.073},{"$f":"IF($O149=\"\", \"\", VLOOKUP($O149, USSW!$T$7:$U$2000, 2, FALSE))","v":2.1208}]
[null,{"$f":"IF(CAD!B147=\"\", \"\", CAD!B147)","v":"2017-06-16"},{"$f":"IF($B150=\"\", \"\", CAD!C147)","v":1.3212999999999999},{"$f":"IF($B150=\"\", \"\",VLOOKUP($B150, CAD!$D$7:$E$2000, 2, FALSE))","v":1.314792},{"$f":"IF($B150=\"\", \"\",VLOOKUP($B150, CAD!$F$7:$G$2000, 2, FALSE))","v":1.309375},{"$f":"IF($B150=\"\", \"\",VLOOKUP($B150, CAD!$H$7:$I$2000, 2, FALSE))","v":1.3046},{"$f":"IF($B150=\"\", \"\",VLOOKUP($B150, CAD!$J$7:$K$2000, 2, FALSE))","v":1.3003199999999999},{"$f":"IF($B150=\"\", \"\", VLOOKUP($B150, CAD!$L$7:$M$2000, 2, FALSE))","v":1.2965599999999999},{"$f":"IF($B150=\"\", \"\", VLOOKUP($B150, CAD!$N$7:$O$2000, 2, FALSE))","v":1.2933749999999999},{"$f":"IF($B150=\"\", \"\", VLOOKUP($B150, CAD!$P$7:$Q$2000, 2, FALSE))","v":1.291445},{"$f":"IF($B150=\"\", \"\", VLOOKUP($B150, CAD!$R$7:$S$2000, 2, FALSE))","v":1.2899},{"$f":"IF($B150=\"\", \"\", VLOOKUP($B150, CAD!$T$7:$U$2000, 2, FALSE))","v":1.2898700000000001},{"$f":"IF($B150=\"\", \"\", VLOOKUP($B150, CAD!$V$7:$W$2000, 2, FALSE))","v":1.2902199999999999},null,{"$f":"IF(USSW!B147=\"\", \"\", USSW!B147)","v":"2017-06-15"},{"$f":"IF($O150=\"\", \"\", USSW!C147)","v":1.3995},{"$f":"IF($O150=\"\", \"\", VLOOKUP($O150, USSW!$D$7:$E$2000, 2, FALSE))","v":1.5425},{"$f":"IF($O150=\"\", \"\", VLOOKUP($O150, USSW!$F$7:$G$2000, 2, FALSE))","v":1.6585000000000001},{"$f":"IF($O150=\"\", \"\", VLOOKUP($O150, USSW!$H$7:$I$2000, 2, FALSE))","v":1.7549999999999999},{"$f":"IF($O150=\"\", \"\", VLOOKUP($O150, USSW!$J$7:$K$2000, 2, FALSE))","v":1.8394999999999999},{"$f":"IF($O150=\"\", \"\", VLOOKUP($O150, USSW!$L$7:$M$2000, 2, FALSE))","v":1.9133},{"$f":"IF($O150=\"\", \"\", VLOOKUP($O150, USSW!$N$7:$O$2000, 2, FALSE))","v":1.9784999999999999},{"$f":"IF($O150=\"\", \"\", VLOOKUP($O150, USSW!$P$7:$Q$2000, 2, FALSE))","v":2.0381999999999998},{"$f":"IF($O150=\"\", \"\", VLOOKUP($O150, USSW!$R$7:$S$2000, 2, FALSE))","v":2.0918000000000001},{"$f":"IF($O150=\"\", \"\", VLOOKUP($O150, USSW!$T$7:$U$2000, 2, FALSE))","v":2.1404999999999998}]
[null,{"$f":"IF(CAD!B148=\"\", \"\", CAD!B148)","v":"2017-06-15"},{"$f":"IF($B151=\"\", \"\", CAD!C148)","v":1.3269},{"$f":"IF($B151=\"\", \"\",VLOOKUP($B151, CAD!$D$7:$E$2000, 2, FALSE))","v":1.320171},{"$f":"IF($B151=\"\", \"\",VLOOKUP($B151, CAD!$F$7:$G$2000, 2, FALSE))","v":1.3143549999999999},{"$f":"IF($B151=\"\", \"\",VLOOKUP($B151, CAD!$H$7:$I$2000, 2, FALSE))","v":1.3091999999999999},{"$f":"IF($B151=\"\", \"\",VLOOKUP($B151, CAD!$J$7:$K$2000, 2, FALSE))","v":1.3042},{"$f":"IF($B151=\"\", \"\", VLOOKUP($B151, CAD!$L$7:$M$2000, 2, FALSE))","v":1.3005},{"$f":"IF($B151=\"\", \"\", VLOOKUP($B151, CAD!$N$7:$O$2000, 2, FALSE))","v":1.2966},{"$f":"IF($B151=\"\", \"\", VLOOKUP($B151, CAD!$P$7:$Q$2000, 2, FALSE))","v":1.2948},{"$f":"IF($B151=\"\", \"\", VLOOKUP($B151, CAD!$R$7:$S$2000, 2, FALSE))","v":1.29291},{"$f":"IF($B151=\"\", \"\", VLOOKUP($B151, CAD!$T$7:$U$2000, 2, FALSE))","v":1.2928200000000001},{"$f":"IF($B151=\"\", \"\", VLOOKUP($B151, CAD!$V$7:$W$2000, 2, FALSE))","v":1.29454},null,{"$f":"IF(USSW!B148=\"\", \"\", USSW!B148)","v":"2017-06-14"},{"$f":"IF($O151=\"\", \"\", USSW!C148)","v":1.3836999999999999},{"$f":"IF($O151=\"\", \"\", VLOOKUP($O151, USSW!$D$7:$E$2000, 2, FALSE))","v":1.5202},{"$f":"IF($O151=\"\", \"\", VLOOKUP($O151, USSW!$F$7:$G$2000, 2, FALSE))","v":1.6346000000000001},{"$f":"IF($O151=\"\", \"\", VLOOKUP($O151, USSW!$H$7:$I$2000, 2, FALSE))","v":1.7244999999999999},{"$f":"IF($O151=\"\", \"\", VLOOKUP($O151, USSW!$J$7:$K$2000, 2, FALSE))","v":1.8036000000000001},{"$f":"IF($O151=\"\", \"\", VLOOKUP($O151, USSW!$L$7:$M$2000, 2, FALSE))","v":1.8765000000000001},{"$f":"IF($O151=\"\", \"\", VLOOKUP($O151, USSW!$N$7:$O$2000, 2, FALSE))","v":1.9438},{"$f":"IF($O151=\"\", \"\", VLOOKUP($O151, USSW!$P$7:$Q$2000, 2, FALSE))","v":2.0049999999999999},{"$f":"IF($O151=\"\", \"\", VLOOKUP($O151, USSW!$R$7:$S$2000, 2, FALSE))","v":2.0575000000000001},{"$f":"IF($O151=\"\", \"\", VLOOKUP($O151, USSW!$T$7:$U$2000, 2, FALSE))","v":2.1067999999999998}]
[null,{"$f":"IF(CAD!B149=\"\", \"\", CAD!B149)","v":"2017-06-14"},{"$f":"IF($B152=\"\", \"\", CAD!C149)","v":1.3247},{"$f":"IF($B152=\"\", \"\",VLOOKUP($B152, CAD!$D$7:$E$2000, 2, FALSE))","v":1.3175399999999999},{"$f":"IF($B152=\"\", \"\",VLOOKUP($B152, CAD!$F$7:$G$2000, 2, FALSE))","v":1.3113999999999999},{"$f":"IF($B152=\"\", \"\",VLOOKUP($B152, CAD!$H$7:$I$2000, 2, FALSE))","v":1.3059499999999999},{"$f":"IF($B152=\"\", \"\",VLOOKUP($B152, CAD!$J$7:$K$2000, 2, FALSE))","v":1.30122},{"$f":"IF($B152=\"\", \"\", VLOOKUP($B152, CAD!$L$7:$M$2000, 2, FALSE))","v":1.2974399999999999},{"$f":"IF($B152=\"\", \"\", VLOOKUP($B152, CAD!$N$7:$O$2000, 2, FALSE))","v":1.29433},{"$f":"IF($B152=\"\", \"\", VLOOKUP($B152, CAD!$P$7:$Q$2000, 2, FALSE))","v":1.2917000000000001},{"$f":"IF($B152=\"\", \"\", VLOOKUP($B152, CAD!$R$7:$S$2000, 2, FALSE))","v":1.28955},{"$f":"IF($B152=\"\", \"\", VLOOKUP($B152, CAD!$T$7:$U$2000, 2, FALSE))","v":1.28867},{"$f":"IF($B152=\"\", \"\", VLOOKUP($B152, CAD!$V$7:$W$2000, 2, FALSE))","v":1.28989},null,{"$f":"IF(USSW!B149=\"\", \"\", USSW!B149)","v":"2017-06-13"},{"$f":"IF($O152=\"\", \"\", USSW!C149)","v":1.4064000000000001},{"$f":"IF($O152=\"\", \"\", VLOOKUP($O152, USSW!$D$7:$E$2000, 2, FALSE))","v":1.5639000000000001},{"$f":"IF($O152=\"\", \"\", VLOOKUP($O152, USSW!$F$7:$G$2000, 2, FALSE))","v":1.6873},{"$f":"IF($O152=\"\", \"\", VLOOKUP($O152, USSW!$H$7:$I$2000, 2, FALSE))","v":1.7849999999999999},{"$f":"IF($O152=\"\", \"\", VLOOKUP($O152, USSW!$J$7:$K$2000, 2, FALSE))","v":1.8694},{"$f":"IF($O152=\"\", \"\", VLOOKUP($O152, USSW!$L$7:$M$2000, 2, FALSE))","v":1.9504999999999999},{"$f":"IF($O152=\"\", \"\", VLOOKUP($O152, USSW!$N$7:$O$2000, 2, FALSE))","v":2.0209999999999999},{"$f":"IF($O152=\"\", \"\", VLOOKUP($O152, USSW!$P$7:$Q$2000, 2, FALSE))","v":2.0823},{"$f":"IF($O152=\"\", \"\", VLOOKUP($O152, USSW!$R$7:$S$2000, 2, FALSE))","v":2.1368999999999998},{"$f":"IF($O152=\"\", \"\", VLOOKUP($O152, USSW!$T$7:$U$2000, 2, FALSE))","v":2.1859999999999999}]
[null,{"$f":"IF(CAD!B150=\"\", \"\", CAD!B150)","v":"2017-06-13"},{"$f":"IF($B153=\"\", \"\", CAD!C150)","v":1.3242},{"$f":"IF($B153=\"\", \"\",VLOOKUP($B153, CAD!$D$7:$E$2000, 2, FALSE))","v":1.3166800000000001},{"$f":"IF($B153=\"\", \"\",VLOOKUP($B153, CAD!$F$7:$G$2000, 2, FALSE))","v":1.3105739999999999},{"$f":"IF($B153=\"\", \"\",VLOOKUP($B153, CAD!$H$7:$I$2000, 2, FALSE))","v":1.3045500000000001},{"$f":"IF($B153=\"\", \"\",VLOOKUP($B153, CAD!$J$7:$K$2000, 2, FALSE))","v":1.29989},{"$f":"IF($B153=\"\", \"\", VLOOKUP($B153, CAD!$L$7:$M$2000, 2, FALSE))","v":1.2958700000000001},{"$f":"IF($B153=\"\", \"\", VLOOKUP($B153, CAD!$N$7:$O$2000, 2, FALSE))","v":1.29192},{"$f":"IF($B153=\"\", \"\", VLOOKUP($B153, CAD!$P$7:$Q$2000, 2, FALSE))","v":1.289415},{"$f":"IF($B153=\"\", \"\", VLOOKUP($B153, CAD!$R$7:$S$2000, 2, FALSE))","v":1.2870699999999999},{"$f":"IF($B153=\"\", \"\", VLOOKUP($B153, CAD!$T$7:$U$2000, 2, FALSE))","v":1.2870900000000001},{"$f":"IF($B153=\"\", \"\", VLOOKUP($B153, CAD!$V$7:$W$2000, 2, FALSE))","v":1.2876799999999999},null,{"$f":"IF(USSW!B150=\"\", \"\", USSW!B150)","v":"2017-06-12"},{"$f":"IF($O153=\"\", \"\", USSW!C150)","v":1.4003000000000001},{"$f":"IF($O153=\"\", \"\", VLOOKUP($O153, USSW!$D$7:$E$2000, 2, FALSE))","v":1.5491999999999999},{"$f":"IF($O153=\"\", \"\", VLOOKUP($O153, USSW!$F$7:$G$2000, 2, FALSE))","v":1.6679999999999999},{"$f":"IF($O153=\"\", \"\", VLOOKUP($O153, USSW!$H$7:$I$2000, 2, FALSE))","v":1.766},{"$f":"IF($O153=\"\", \"\", VLOOKUP($O153, USSW!$J$7:$K$2000, 2, FALSE))","v":1.8520000000000001},{"$f":"IF($O153=\"\", \"\", VLOOKUP($O153, USSW!$L$7:$M$2000, 2, FALSE))","v":1.93},{"$f":"IF($O153=\"\", \"\", VLOOKUP($O153, USSW!$N$7:$O$2000, 2, FALSE))","v":1.9975000000000001},{"$f":"IF($O153=\"\", \"\", VLOOKUP($O153, USSW!$P$7:$Q$2000, 2, FALSE))","v":2.0581999999999998},{"$f":"IF($O153=\"\", \"\", VLOOKUP($O153, USSW!$R$7:$S$2000, 2, FALSE))","v":2.1126999999999998},{"$f":"IF($O153=\"\", \"\", VLOOKUP($O153, USSW!$T$7:$U$2000, 2, FALSE))","v":2.1602000000000001}]
[null,{"$f":"IF(CAD!B151=\"\", \"\", CAD!B151)","v":"2017-06-12"},{"$f":"IF($B154=\"\", \"\", CAD!C151)","v":1.3324},{"$f":"IF($B154=\"\", \"\",VLOOKUP($B154, CAD!$D$7:$E$2000, 2, FALSE))","v":1.3240289999999999},{"$f":"IF($B154=\"\", \"\",VLOOKUP($B154, CAD!$F$7:$G$2000, 2, FALSE))","v":1.3168550000000001},{"$f":"IF($B154=\"\", \"\",VLOOKUP($B154, CAD!$H$7:$I$2000, 2, FALSE))","v":1.3099499999999999},{"$f":"IF($B154=\"\", \"\",VLOOKUP($B154, CAD!$J$7:$K$2000, 2, FALSE))","v":1.303175},{"$f":"IF($B154=\"\", \"\", VLOOKUP($B154, CAD!$L$7:$M$2000, 2, FALSE))","v":1.2975650000000001},{"$f":"IF($B154=\"\", \"\", VLOOKUP($B154, CAD!$N$7:$O$2000, 2, FALSE))","v":1.2931049999999999},{"$f":"IF($B154=\"\", \"\", VLOOKUP($B154, CAD!$P$7:$Q$2000, 2, FALSE))","v":1.289615},{"$f":"IF($B154=\"\", \"\", VLOOKUP($B154, CAD!$R$7:$S$2000, 2, FALSE))","v":1.287445},{"$f":"IF($B154=\"\", \"\", VLOOKUP($B154, CAD!$T$7:$U$2000, 2, FALSE))","v":1.2874399999999999},{"$f":"IF($B154=\"\", \"\", VLOOKUP($B154, CAD!$V$7:$W$2000, 2, FALSE))","v":1.2877099999999999},null,{"$f":"IF(USSW!B151=\"\", \"\", USSW!B151)","v":"2017-06-09"},{"$f":"IF($O154=\"\", \"\", USSW!C151)","v":1.393},{"$f":"IF($O154=\"\", \"\", VLOOKUP($O154, USSW!$D$7:$E$2000, 2, FALSE))","v":1.5435000000000001},{"$f":"IF($O154=\"\", \"\", VLOOKUP($O154, USSW!$F$7:$G$2000, 2, FALSE))","v":1.6659999999999999},{"$f":"IF($O154=\"\", \"\", VLOOKUP($O154, USSW!$H$7:$I$2000, 2, FALSE))","v":1.7637},{"$f":"IF($O154=\"\", \"\", VLOOKUP($O154, USSW!$J$7:$K$2000, 2, FALSE))","v":1.8493999999999999},{"$f":"IF($O154=\"\", \"\", VLOOKUP($O154, USSW!$L$7:$M$2000, 2, FALSE))","v":1.9262999999999999},{"$f":"IF($O154=\"\", \"\", VLOOKUP($O154, USSW!$N$7:$O$2000, 2, FALSE))","v":1.9957},{"$f":"IF($O154=\"\", \"\", VLOOKUP($O154, USSW!$P$7:$Q$2000, 2, FALSE))","v":2.0552999999999999},{"$f":"IF($O154=\"\", \"\", VLOOKUP($O154, USSW!$R$7:$S$2000, 2, FALSE))","v":2.1089000000000002},{"$f":"IF($O154=\"\", \"\", VLOOKUP($O154, USSW!$T$7:$U$2000, 2, FALSE))","v":2.1581000000000001}]
[null,{"$f":"IF(CAD!B152=\"\", \"\", CAD!B152)","v":"2017-06-09"},{"$f":"IF($B155=\"\", \"\", CAD!C152)","v":1.347},{"$f":"IF($B155=\"\", \"\",VLOOKUP($B155, CAD!$D$7:$E$2000, 2, FALSE))","v":1.33755},{"$f":"IF($B155=\"\", \"\",VLOOKUP($B155, CAD!$F$7:$G$2000, 2, FALSE))","v":1.327985},{"$f":"IF($B155=\"\", \"\",VLOOKUP($B155, CAD!$H$7:$I$2000, 2, FALSE))","v":1.31945},{"$f":"IF($B155=\"\", \"\",VLOOKUP($B155, CAD!$J$7:$K$2000, 2, FALSE))","v":1.311005},{"$f":"IF($B155=\"\", \"\", VLOOKUP($B155, CAD!$L$7:$M$2000, 2, FALSE))","v":1.3045},{"$f":"IF($B155=\"\", \"\", VLOOKUP($B155, CAD!$N$7:$O$2000, 2, FALSE))","v":1.29775},{"$f":"IF($B155=\"\", \"\", VLOOKUP($B155, CAD!$P$7:$Q$2000, 2, FALSE))","v":1.2940400000000001},{"$f":"IF($B155=\"\", \"\", VLOOKUP($B155, CAD!$R$7:$S$2000, 2, FALSE))","v":1.2914099999999999},{"$f":"IF($B155=\"\", \"\", VLOOKUP($B155, CAD!$T$7:$U$2000, 2, FALSE))","v":1.29186},{"$f":"IF($B155=\"\", \"\", VLOOKUP($B155, CAD!$V$7:$W$2000, 2, FALSE))","v":1.2924899999999999},null,{"$f":"IF(USSW!B152=\"\", \"\", USSW!B152)","v":"2017-06-08"},{"$f":"IF($O155=\"\", \"\", USSW!C152)","v":1.3802000000000001},{"$f":"IF($O155=\"\", \"\", VLOOKUP($O155, USSW!$D$7:$E$2000, 2, FALSE))","v":1.5294000000000001},{"$f":"IF($O155=\"\", \"\", VLOOKUP($O155, USSW!$F$7:$G$2000, 2, FALSE))","v":1.6516999999999999},{"$f":"IF($O155=\"\", \"\", VLOOKUP($O155, USSW!$H$7:$I$2000, 2, FALSE))","v":1.7513000000000001},{"$f":"IF($O155=\"\", \"\", VLOOKUP($O155, USSW!$J$7:$K$2000, 2, FALSE))","v":1.8361000000000001},{"$f":"IF($O155=\"\", \"\", VLOOKUP($O155, USSW!$L$7:$M$2000, 2, FALSE))","v":1.9133},{"$f":"IF($O155=\"\", \"\", VLOOKUP($O155, USSW!$N$7:$O$2000, 2, FALSE))","v":1.9851000000000001},{"$f":"IF($O155=\"\", \"\", VLOOKUP($O155, USSW!$P$7:$Q$2000, 2, FALSE))","v":2.0451999999999999},{"$f":"IF($O155=\"\", \"\", VLOOKUP($O155, USSW!$R$7:$S$2000, 2, FALSE))","v":2.1015000000000001},{"$f":"IF($O155=\"\", \"\", VLOOKUP($O155, USSW!$T$7:$U$2000, 2, FALSE))","v":2.1503000000000001}]
[null,{"$f":"IF(CAD!B153=\"\", \"\", CAD!B153)","v":"2017-06-08"},{"$f":"IF($B156=\"\", \"\", CAD!C153)","v":1.3506},{"$f":"IF($B156=\"\", \"\",VLOOKUP($B156, CAD!$D$7:$E$2000, 2, FALSE))","v":1.3410690000000001},{"$f":"IF($B156=\"\", \"\",VLOOKUP($B156, CAD!$F$7:$G$2000, 2, FALSE))","v":1.33155},{"$f":"IF($B156=\"\", \"\",VLOOKUP($B156, CAD!$H$7:$I$2000, 2, FALSE))","v":1.3226599999999999},{"$f":"IF($B156=\"\", \"\",VLOOKUP($B156, CAD!$J$7:$K$2000, 2, FALSE))","v":1.3147},{"$f":"IF($B156=\"\", \"\", VLOOKUP($B156, CAD!$L$7:$M$2000, 2, FALSE))","v":1.3078000000000001},{"$f":"IF($B156=\"\", \"\", VLOOKUP($B156, CAD!$N$7:$O$2000, 2, FALSE))","v":1.3021199999999999},{"$f":"IF($B156=\"\", \"\", VLOOKUP($B156, CAD!$P$7:$Q$2000, 2, FALSE))","v":1.298465},{"$f":"IF($B156=\"\", \"\", VLOOKUP($B156, CAD!$R$7:$S$2000, 2, FALSE))","v":1.2956700000000001},{"$f":"IF($B156=\"\", \"\", VLOOKUP($B156, CAD!$T$7:$U$2000, 2, FALSE))","v":1.2946549999999999},{"$f":"IF($B156=\"\", \"\", VLOOKUP($B156, CAD!$V$7:$W$2000, 2, FALSE))","v":1.2957050000000001},null,{"$f":"IF(USSW!B153=\"\", \"\", USSW!B153)","v":"2017-06-07"},{"$f":"IF($O156=\"\", \"\", USSW!C153)","v":1.3711},{"$f":"IF($O156=\"\", \"\", VLOOKUP($O156, USSW!$D$7:$E$2000, 2, FALSE))","v":1.5187999999999999},{"$f":"IF($O156=\"\", \"\", VLOOKUP($O156, USSW!$F$7:$G$2000, 2, FALSE))","v":1.6400999999999999},{"$f":"IF($O156=\"\", \"\", VLOOKUP($O156, USSW!$H$7:$I$2000, 2, FALSE))","v":1.7367999999999999},{"$f":"IF($O156=\"\", \"\", VLOOKUP($O156, USSW!$J$7:$K$2000, 2, FALSE))","v":1.8236000000000001},{"$f":"IF($O156=\"\", \"\", VLOOKUP($O156, USSW!$L$7:$M$2000, 2, FALSE))","v":1.8984000000000001},{"$f":"IF($O156=\"\", \"\", VLOOKUP($O156, USSW!$N$7:$O$2000, 2, FALSE))","v":1.9685999999999999},{"$f":"IF($O156=\"\", \"\", VLOOKUP($O156, USSW!$P$7:$Q$2000, 2, FALSE))","v":2.0274999999999999},{"$f":"IF($O156=\"\", \"\", VLOOKUP($O156, USSW!$R$7:$S$2000, 2, FALSE))","v":2.0834000000000001},{"$f":"IF($O156=\"\", \"\", VLOOKUP($O156, USSW!$T$7:$U$2000, 2, FALSE))","v":2.1322999999999999}]
[null,{"$f":"IF(CAD!B154=\"\", \"\", CAD!B154)","v":"2017-06-07"},{"$f":"IF($B157=\"\", \"\", CAD!C154)","v":1.3509},{"$f":"IF($B157=\"\", \"\",VLOOKUP($B157, CAD!$D$7:$E$2000, 2, FALSE))","v":1.3414999999999999},{"$f":"IF($B157=\"\", \"\",VLOOKUP($B157, CAD!$F$7:$G$2000, 2, FALSE))","v":1.3320650000000001},{"$f":"IF($B157=\"\", \"\",VLOOKUP($B157, CAD!$H$7:$I$2000, 2, FALSE))","v":1.32341},{"$f":"IF($B157=\"\", \"\",VLOOKUP($B157, CAD!$J$7:$K$2000, 2, FALSE))","v":1.3155399999999999},{"$f":"IF($B157=\"\", \"\", VLOOKUP($B157, CAD!$L$7:$M$2000, 2, FALSE))","v":1.3093999999999999},{"$f":"IF($B157=\"\", \"\", VLOOKUP($B157, CAD!$N$7:$O$2000, 2, FALSE))","v":1.3030900000000001},{"$f":"IF($B157=\"\", \"\", VLOOKUP($B157, CAD!$P$7:$Q$2000, 2, FALSE))","v":1.299555},{"$f":"IF($B157=\"\", \"\", VLOOKUP($B157, CAD!$R$7:$S$2000, 2, FALSE))","v":1.296845},{"$f":"IF($B157=\"\", \"\", VLOOKUP($B157, CAD!$T$7:$U$2000, 2, FALSE))","v":1.295795},{"$f":"IF($B157=\"\", \"\", VLOOKUP($B157, CAD!$V$7:$W$2000, 2, FALSE))","v":1.296845},null,{"$f":"IF(USSW!B154=\"\", \"\", USSW!B154)","v":"2017-06-06"},{"$f":"IF($O157=\"\", \"\", USSW!C154)","v":1.365},{"$f":"IF($O157=\"\", \"\", VLOOKUP($O157, USSW!$D$7:$E$2000, 2, FALSE))","v":1.5087999999999999},{"$f":"IF($O157=\"\", \"\", VLOOKUP($O157, USSW!$F$7:$G$2000, 2, FALSE))","v":1.6234999999999999},{"$f":"IF($O157=\"\", \"\", VLOOKUP($O157, USSW!$H$7:$I$2000, 2, FALSE))","v":1.7159},{"$f":"IF($O157=\"\", \"\", VLOOKUP($O157, USSW!$J$7:$K$2000, 2, FALSE))","v":1.7965},{"$f":"IF($O157=\"\", \"\", VLOOKUP($O157, USSW!$L$7:$M$2000, 2, FALSE))","v":1.8706},{"$f":"IF($O157=\"\", \"\", VLOOKUP($O157, USSW!$N$7:$O$2000, 2, FALSE))","v":1.9389000000000001},{"$f":"IF($O157=\"\", \"\", VLOOKUP($O157, USSW!$P$7:$Q$2000, 2, FALSE))","v":1.9984999999999999},{"$f":"IF($O157=\"\", \"\", VLOOKUP($O157, USSW!$R$7:$S$2000, 2, FALSE))","v":2.0520999999999998},{"$f":"IF($O157=\"\", \"\", VLOOKUP($O157, USSW!$T$7:$U$2000, 2, FALSE))","v":2.1012}]
[null,{"$f":"IF(CAD!B155=\"\", \"\", CAD!B155)","v":"2017-06-06"},{"$f":"IF($B158=\"\", \"\", CAD!C155)","v":1.3454999999999999},{"$f":"IF($B158=\"\", \"\",VLOOKUP($B158, CAD!$D$7:$E$2000, 2, FALSE))","v":1.3363689999999999},{"$f":"IF($B158=\"\", \"\",VLOOKUP($B158, CAD!$F$7:$G$2000, 2, FALSE))","v":1.32752},{"$f":"IF($B158=\"\", \"\",VLOOKUP($B158, CAD!$H$7:$I$2000, 2, FALSE))","v":1.319},{"$f":"IF($B158=\"\", \"\",VLOOKUP($B158, CAD!$J$7:$K$2000, 2, FALSE))","v":1.3121400000000001},{"$f":"IF($B158=\"\", \"\", VLOOKUP($B158, CAD!$L$7:$M$2000, 2, FALSE))","v":1.3063819999999999},{"$f":"IF($B158=\"\", \"\", VLOOKUP($B158, CAD!$N$7:$O$2000, 2, FALSE))","v":1.3006899999999999},{"$f":"IF($B158=\"\", \"\", VLOOKUP($B158, CAD!$P$7:$Q$2000, 2, FALSE))","v":1.2972699999999999},{"$f":"IF($B158=\"\", \"\", VLOOKUP($B158, CAD!$R$7:$S$2000, 2, FALSE))","v":1.29451},{"$f":"IF($B158=\"\", \"\", VLOOKUP($B158, CAD!$T$7:$U$2000, 2, FALSE))","v":1.2932399999999999},{"$f":"IF($B158=\"\", \"\", VLOOKUP($B158, CAD!$V$7:$W$2000, 2, FALSE))","v":1.29508},null,{"$f":"IF(USSW!B155=\"\", \"\", USSW!B155)","v":"2017-06-05"},{"$f":"IF($O158=\"\", \"\", USSW!C155)","v":1.3754},{"$f":"IF($O158=\"\", \"\", VLOOKUP($O158, USSW!$D$7:$E$2000, 2, FALSE))","v":1.518},{"$f":"IF($O158=\"\", \"\", VLOOKUP($O158, USSW!$F$7:$G$2000, 2, FALSE))","v":1.6368},{"$f":"IF($O158=\"\", \"\", VLOOKUP($O158, USSW!$H$7:$I$2000, 2, FALSE))","v":1.7355},{"$f":"IF($O158=\"\", \"\", VLOOKUP($O158, USSW!$J$7:$K$2000, 2, FALSE))","v":1.8192999999999999},{"$f":"IF($O158=\"\", \"\", VLOOKUP($O158, USSW!$L$7:$M$2000, 2, FALSE))","v":1.8958999999999999},{"$f":"IF($O158=\"\", \"\", VLOOKUP($O158, USSW!$N$7:$O$2000, 2, FALSE))","v":1.9658},{"$f":"IF($O158=\"\", \"\", VLOOKUP($O158, USSW!$P$7:$Q$2000, 2, FALSE))","v":2.0257999999999998},{"$f":"IF($O158=\"\", \"\", VLOOKUP($O158, USSW!$R$7:$S$2000, 2, FALSE))","v":2.0804999999999998},{"$f":"IF($O158=\"\", \"\", VLOOKUP($O158, USSW!$T$7:$U$2000, 2, FALSE))","v":2.1297000000000001}]
[null,{"$f":"IF(CAD!B156=\"\", \"\", CAD!B156)","v":"2017-06-05"},{"$f":"IF($B159=\"\", \"\", CAD!C156)","v":1.3472999999999999},{"$f":"IF($B159=\"\", \"\",VLOOKUP($B159, CAD!$D$7:$E$2000, 2, FALSE))","v":1.338079},{"$f":"IF($B159=\"\", \"\",VLOOKUP($B159, CAD!$F$7:$G$2000, 2, FALSE))","v":1.3289519999999999},{"$f":"IF($B159=\"\", \"\",VLOOKUP($B159, CAD!$H$7:$I$2000, 2, FALSE))","v":1.3208200000000001},{"$f":"IF($B159=\"\", \"\",VLOOKUP($B159, CAD!$J$7:$K$2000, 2, FALSE))","v":1.313715},{"$f":"IF($B159=\"\", \"\", VLOOKUP($B159, CAD!$L$7:$M$2000, 2, FALSE))","v":1.3077000000000001},{"$f":"IF($B159=\"\", \"\", VLOOKUP($B159, CAD!$N$7:$O$2000, 2, FALSE))","v":1.30213},{"$f":"IF($B159=\"\", \"\", VLOOKUP($B159, CAD!$P$7:$Q$2000, 2, FALSE))","v":1.2986899999999999},{"$f":"IF($B159=\"\", \"\", VLOOKUP($B159, CAD!$R$7:$S$2000, 2, FALSE))","v":1.29572},{"$f":"IF($B159=\"\", \"\", VLOOKUP($B159, CAD!$T$7:$U$2000, 2, FALSE))","v":1.2946500000000001},{"$f":"IF($B159=\"\", \"\", VLOOKUP($B159, CAD!$V$7:$W$2000, 2, FALSE))","v":1.2962899999999999},null,{"$f":"IF(USSW!B156=\"\", \"\", USSW!B156)","v":"2017-06-02"},{"$f":"IF($O159=\"\", \"\", USSW!C156)","v":1.373},{"$f":"IF($O159=\"\", \"\", VLOOKUP($O159, USSW!$D$7:$E$2000, 2, FALSE))","v":1.5125},{"$f":"IF($O159=\"\", \"\", VLOOKUP($O159, USSW!$F$7:$G$2000, 2, FALSE))","v":1.6272},{"$f":"IF($O159=\"\", \"\", VLOOKUP($O159, USSW!$H$7:$I$2000, 2, FALSE))","v":1.7208000000000001},{"$f":"IF($O159=\"\", \"\", VLOOKUP($O159, USSW!$J$7:$K$2000, 2, FALSE))","v":1.8008999999999999},{"$f":"IF($O159=\"\", \"\", VLOOKUP($O159, USSW!$L$7:$M$2000, 2, FALSE))","v":1.8754999999999999},{"$f":"IF($O159=\"\", \"\", VLOOKUP($O159, USSW!$N$7:$O$2000, 2, FALSE))","v":1.9424999999999999},{"$f":"IF($O159=\"\", \"\", VLOOKUP($O159, USSW!$P$7:$Q$2000, 2, FALSE))","v":2.0044},{"$f":"IF($O159=\"\", \"\", VLOOKUP($O159, USSW!$R$7:$S$2000, 2, FALSE))","v":2.0583},{"$f":"IF($O159=\"\", \"\", VLOOKUP($O159, USSW!$T$7:$U$2000, 2, FALSE))","v":2.1055000000000001}]
[null,{"$f":"IF(CAD!B157=\"\", \"\", CAD!B157)","v":"2017-06-02"},{"$f":"IF($B160=\"\", \"\", CAD!C157)","v":1.3487},{"$f":"IF($B160=\"\", \"\",VLOOKUP($B160, CAD!$D$7:$E$2000, 2, FALSE))","v":1.3394900000000001},{"$f":"IF($B160=\"\", \"\",VLOOKUP($B160, CAD!$F$7:$G$2000, 2, FALSE))","v":1.3298749999999999},{"$f":"IF($B160=\"\", \"\",VLOOKUP($B160, CAD!$H$7:$I$2000, 2, FALSE))","v":1.3218000000000001},{"$f":"IF($B160=\"\", \"\",VLOOKUP($B160, CAD!$J$7:$K$2000, 2, FALSE))","v":1.3146599999999999},{"$f":"IF($B160=\"\", \"\", VLOOKUP($B160, CAD!$L$7:$M$2000, 2, FALSE))","v":1.3090999999999999},{"$f":"IF($B160=\"\", \"\", VLOOKUP($B160, CAD!$N$7:$O$2000, 2, FALSE))","v":1.30436},{"$f":"IF($B160=\"\", \"\", VLOOKUP($B160, CAD!$P$7:$Q$2000, 2, FALSE))","v":1.30125},{"$f":"IF($B160=\"\", \"\", VLOOKUP($B160, CAD!$R$7:$S$2000, 2, FALSE))","v":1.29921},{"$f":"IF($B160=\"\", \"\", VLOOKUP($B160, CAD!$T$7:$U$2000, 2, FALSE))","v":1.29881},{"$f":"IF($B160=\"\", \"\", VLOOKUP($B160, CAD!$V$7:$W$2000, 2, FALSE))","v":1.3004849999999999},null,{"$f":"IF(USSW!B157=\"\", \"\", USSW!B157)","v":"2017-06-01"},{"$f":"IF($O160=\"\", \"\", USSW!C157)","v":1.3757999999999999},{"$f":"IF($O160=\"\", \"\", VLOOKUP($O160, USSW!$D$7:$E$2000, 2, FALSE))","v":1.5257000000000001},{"$f":"IF($O160=\"\", \"\", VLOOKUP($O160, USSW!$F$7:$G$2000, 2, FALSE))","v":1.6503000000000001},{"$f":"IF($O160=\"\", \"\", VLOOKUP($O160, USSW!$H$7:$I$2000, 2, FALSE))","v":1.752},{"$f":"IF($O160=\"\", \"\", VLOOKUP($O160, USSW!$J$7:$K$2000, 2, FALSE))","v":1.8395999999999999},{"$f":"IF($O160=\"\", \"\", VLOOKUP($O160, USSW!$L$7:$M$2000, 2, FALSE))","v":1.9182999999999999},{"$f":"IF($O160=\"\", \"\", VLOOKUP($O160, USSW!$N$7:$O$2000, 2, FALSE))","v":1.9884999999999999},{"$f":"IF($O160=\"\", \"\", VLOOKUP($O160, USSW!$P$7:$Q$2000, 2, FALSE))","v":2.0520999999999998},{"$f":"IF($O160=\"\", \"\", VLOOKUP($O160, USSW!$R$7:$S$2000, 2, FALSE))","v":2.1067},{"$f":"IF($O160=\"\", \"\", VLOOKUP($O160, USSW!$T$7:$U$2000, 2, FALSE))","v":2.1558999999999999}]
[null,{"$f":"IF(CAD!B158=\"\", \"\", CAD!B158)","v":"2017-06-01"},{"$f":"IF($B161=\"\", \"\", CAD!C158)","v":1.3514999999999999},{"$f":"IF($B161=\"\", \"\",VLOOKUP($B161, CAD!$D$7:$E$2000, 2, FALSE))","v":1.3421099999999999},{"$f":"IF($B161=\"\", \"\",VLOOKUP($B161, CAD!$F$7:$G$2000, 2, FALSE))","v":1.3329500000000001},{"$f":"IF($B161=\"\", \"\",VLOOKUP($B161, CAD!$H$7:$I$2000, 2, FALSE))","v":1.3245400000000001},{"$f":"IF($B161=\"\", \"\",VLOOKUP($B161, CAD!$J$7:$K$2000, 2, FALSE))","v":1.3169900000000001},{"$f":"IF($B161=\"\", \"\", VLOOKUP($B161, CAD!$L$7:$M$2000, 2, FALSE))","v":1.31114},{"$f":"IF($B161=\"\", \"\", VLOOKUP($B161, CAD!$N$7:$O$2000, 2, FALSE))","v":1.3059700000000001},{"$f":"IF($B161=\"\", \"\", VLOOKUP($B161, CAD!$P$7:$Q$2000, 2, FALSE))","v":1.3027200000000001},{"$f":"IF($B161=\"\", \"\", VLOOKUP($B161, CAD!$R$7:$S$2000, 2, FALSE))","v":1.3002800000000001},{"$f":"IF($B161=\"\", \"\", VLOOKUP($B161, CAD!$T$7:$U$2000, 2, FALSE))","v":1.29911},{"$f":"IF($B161=\"\", \"\", VLOOKUP($B161, CAD!$V$7:$W$2000, 2, FALSE))","v":1.3000499999999999},null,{"$f":"IF(USSW!B158=\"\", \"\", USSW!B158)","v":"2017-05-31"},{"$f":"IF($O161=\"\", \"\", USSW!C158)","v":1.3565},{"$f":"IF($O161=\"\", \"\", VLOOKUP($O161, USSW!$D$7:$E$2000, 2, FALSE))","v":1.5105},{"$f":"IF($O161=\"\", \"\", VLOOKUP($O161, USSW!$F$7:$G$2000, 2, FALSE))","v":1.6397999999999999},{"$f":"IF($O161=\"\", \"\", VLOOKUP($O161, USSW!$H$7:$I$2000, 2, FALSE))","v":1.74},{"$f":"IF($O161=\"\", \"\", VLOOKUP($O161, USSW!$J$7:$K$2000, 2, FALSE))","v":1.8274999999999999},{"$f":"IF($O161=\"\", \"\", VLOOKUP($O161, USSW!$L$7:$M$2000, 2, FALSE))","v":1.9079999999999999},{"$f":"IF($O161=\"\", \"\", VLOOKUP($O161, USSW!$N$7:$O$2000, 2, FALSE))","v":1.9775},{"$f":"IF($O161=\"\", \"\", VLOOKUP($O161, USSW!$P$7:$Q$2000, 2, FALSE))","v":2.0385},{"$f":"IF($O161=\"\", \"\", VLOOKUP($O161, USSW!$R$7:$S$2000, 2, FALSE))","v":2.0945},{"$f":"IF($O161=\"\", \"\", VLOOKUP($O161, USSW!$T$7:$U$2000, 2, FALSE))","v":2.1471}]
[null,{"$f":"IF(CAD!B159=\"\", \"\", CAD!B159)","v":"2017-05-31"},{"$f":"IF($B162=\"\", \"\", CAD!C159)","v":1.35},{"$f":"IF($B162=\"\", \"\",VLOOKUP($B162, CAD!$D$7:$E$2000, 2, FALSE))","v":1.341107},{"$f":"IF($B162=\"\", \"\",VLOOKUP($B162, CAD!$F$7:$G$2000, 2, FALSE))","v":1.3321449999999999},{"$f":"IF($B162=\"\", \"\",VLOOKUP($B162, CAD!$H$7:$I$2000, 2, FALSE))","v":1.3240350000000001},{"$f":"IF($B162=\"\", \"\",VLOOKUP($B162, CAD!$J$7:$K$2000, 2, FALSE))","v":1.3165899999999999},{"$f":"IF($B162=\"\", \"\", VLOOKUP($B162, CAD!$L$7:$M$2000, 2, FALSE))","v":1.31088},{"$f":"IF($B162=\"\", \"\", VLOOKUP($B162, CAD!$N$7:$O$2000, 2, FALSE))","v":1.3060099999999999},{"$f":"IF($B162=\"\", \"\", VLOOKUP($B162, CAD!$P$7:$Q$2000, 2, FALSE))","v":1.3025599999999999},{"$f":"IF($B162=\"\", \"\", VLOOKUP($B162, CAD!$R$7:$S$2000, 2, FALSE))","v":1.29972},{"$f":"IF($B162=\"\", \"\", VLOOKUP($B162, CAD!$T$7:$U$2000, 2, FALSE))","v":1.29897},{"$f":"IF($B162=\"\", \"\", VLOOKUP($B162, CAD!$V$7:$W$2000, 2, FALSE))","v":1.3003400000000001},null,{"$f":"IF(USSW!B159=\"\", \"\", USSW!B159)","v":"2017-05-30"},{"$f":"IF($O162=\"\", \"\", USSW!C159)","v":1.3543000000000001},{"$f":"IF($O162=\"\", \"\", VLOOKUP($O162, USSW!$D$7:$E$2000, 2, FALSE))","v":1.5095000000000001},{"$f":"IF($O162=\"\", \"\", VLOOKUP($O162, USSW!$F$7:$G$2000, 2, FALSE))","v":1.6367},{"$f":"IF($O162=\"\", \"\", VLOOKUP($O162, USSW!$H$7:$I$2000, 2, FALSE))","v":1.744},{"$f":"IF($O162=\"\", \"\", VLOOKUP($O162, USSW!$J$7:$K$2000, 2, FALSE))","v":1.8309},{"$f":"IF($O162=\"\", \"\", VLOOKUP($O162, USSW!$L$7:$M$2000, 2, FALSE))","v":1.9117},{"$f":"IF($O162=\"\", \"\", VLOOKUP($O162, USSW!$N$7:$O$2000, 2, FALSE))","v":1.9823999999999999},{"$f":"IF($O162=\"\", \"\", VLOOKUP($O162, USSW!$P$7:$Q$2000, 2, FALSE))","v":2.0455999999999999},{"$f":"IF($O162=\"\", \"\", VLOOKUP($O162, USSW!$R$7:$S$2000, 2, FALSE))","v":2.101},{"$f":"IF($O162=\"\", \"\", VLOOKUP($O162, USSW!$T$7:$U$2000, 2, FALSE))","v":2.1516999999999999}]
[null,{"$f":"IF(CAD!B160=\"\", \"\", CAD!B160)","v":"2017-05-30"},{"$f":"IF($B163=\"\", \"\", CAD!C160)","v":1.3459000000000001},{"$f":"IF($B163=\"\", \"\",VLOOKUP($B163, CAD!$D$7:$E$2000, 2, FALSE))","v":1.3370599999999999},{"$f":"IF($B163=\"\", \"\",VLOOKUP($B163, CAD!$F$7:$G$2000, 2, FALSE))","v":1.32819},{"$f":"IF($B163=\"\", \"\",VLOOKUP($B163, CAD!$H$7:$I$2000, 2, FALSE))","v":1.31989},{"$f":"IF($B163=\"\", \"\",VLOOKUP($B163, CAD!$J$7:$K$2000, 2, FALSE))","v":1.3126450000000001},{"$f":"IF($B163=\"\", \"\", VLOOKUP($B163, CAD!$L$7:$M$2000, 2, FALSE))","v":1.3066},{"$f":"IF($B163=\"\", \"\", VLOOKUP($B163, CAD!$N$7:$O$2000, 2, FALSE))","v":1.3010999999999999},{"$f":"IF($B163=\"\", \"\", VLOOKUP($B163, CAD!$P$7:$Q$2000, 2, FALSE))","v":1.29705},{"$f":"IF($B163=\"\", \"\", VLOOKUP($B163, CAD!$R$7:$S$2000, 2, FALSE))","v":1.2937000000000001},{"$f":"IF($B163=\"\", \"\", VLOOKUP($B163, CAD!$T$7:$U$2000, 2, FALSE))","v":1.2921400000000001},{"$f":"IF($B163=\"\", \"\", VLOOKUP($B163, CAD!$V$7:$W$2000, 2, FALSE))","v":1.2928999999999999},null,{"$f":"IF(USSW!B160=\"\", \"\", USSW!B160)","v":"2017-05-29"},{"$f":"IF($O163=\"\", \"\", USSW!C160)","v":1.3626},{"$f":"IF($O163=\"\", \"\", VLOOKUP($O163, USSW!$D$7:$E$2000, 2, FALSE))","v":1.5325},{"$f":"IF($O163=\"\", \"\", VLOOKUP($O163, USSW!$F$7:$G$2000, 2, FALSE))","v":1.6705000000000001},{"$f":"IF($O163=\"\", \"\", VLOOKUP($O163, USSW!$H$7:$I$2000, 2, FALSE))","v":1.78},{"$f":"IF($O163=\"\", \"\", VLOOKUP($O163, USSW!$J$7:$K$2000, 2, FALSE))","v":1.875},{"$f":"IF($O163=\"\", \"\", VLOOKUP($O163, USSW!$L$7:$M$2000, 2, FALSE))","v":1.9559},{"$f":"IF($O163=\"\", \"\", VLOOKUP($O163, USSW!$N$7:$O$2000, 2, FALSE))","v":2.0377000000000001},{"$f":"IF($O163=\"\", \"\", VLOOKUP($O163, USSW!$P$7:$Q$2000, 2, FALSE))","v":2.089},{"$f":"IF($O163=\"\", \"\", VLOOKUP($O163, USSW!$R$7:$S$2000, 2, FALSE))","v":2.145},{"$f":"IF($O163=\"\", \"\", VLOOKUP($O163, USSW!$T$7:$U$2000, 2, FALSE))","v":2.202}]
[null,{"$f":"IF(CAD!B161=\"\", \"\", CAD!B161)","v":"2017-05-29"},{"$f":"IF($B164=\"\", \"\", CAD!C161)","v":1.3452},{"$f":"IF($B164=\"\", \"\",VLOOKUP($B164, CAD!$D$7:$E$2000, 2, FALSE))","v":1.3363100000000001},{"$f":"IF($B164=\"\", \"\",VLOOKUP($B164, CAD!$F$7:$G$2000, 2, FALSE))","v":1.3269249999999999},{"$f":"IF($B164=\"\", \"\",VLOOKUP($B164, CAD!$H$7:$I$2000, 2, FALSE))","v":1.3186500000000001},{"$f":"IF($B164=\"\", \"\",VLOOKUP($B164, CAD!$J$7:$K$2000, 2, FALSE))","v":1.30976},{"$f":"IF($B164=\"\", \"\", VLOOKUP($B164, CAD!$L$7:$M$2000, 2, FALSE))","v":1.3023400000000001},{"$f":"IF($B164=\"\", \"\", VLOOKUP($B164, CAD!$N$7:$O$2000, 2, FALSE))","v":1.29596},{"$f":"IF($B164=\"\", \"\", VLOOKUP($B164, CAD!$P$7:$Q$2000, 2, FALSE))","v":1.2908500000000001},{"$f":"IF($B164=\"\", \"\", VLOOKUP($B164, CAD!$R$7:$S$2000, 2, FALSE))","v":1.2863599999999999},{"$f":"IF($B164=\"\", \"\", VLOOKUP($B164, CAD!$T$7:$U$2000, 2, FALSE))","v":1.2841199999999999},{"$f":"IF($B164=\"\", \"\", VLOOKUP($B164, CAD!$V$7:$W$2000, 2, FALSE))","v":1.28372},null,{"$f":"IF(USSW!B161=\"\", \"\", USSW!B161)","v":"2017-05-26"},{"$f":"IF($O164=\"\", \"\", USSW!C161)","v":1.3664000000000001},{"$f":"IF($O164=\"\", \"\", VLOOKUP($O164, USSW!$D$7:$E$2000, 2, FALSE))","v":1.5318000000000001},{"$f":"IF($O164=\"\", \"\", VLOOKUP($O164, USSW!$F$7:$G$2000, 2, FALSE))","v":1.6665000000000001},{"$f":"IF($O164=\"\", \"\", VLOOKUP($O164, USSW!$H$7:$I$2000, 2, FALSE))","v":1.7795000000000001},{"$f":"IF($O164=\"\", \"\", VLOOKUP($O164, USSW!$J$7:$K$2000, 2, FALSE))","v":1.8777999999999999},{"$f":"IF($O164=\"\", \"\", VLOOKUP($O164, USSW!$L$7:$M$2000, 2, FALSE))","v":1.9545999999999999},{"$f":"IF($O164=\"\", \"\", VLOOKUP($O164, USSW!$N$7:$O$2000, 2, FALSE))","v":2.0278},{"$f":"IF($O164=\"\", \"\", VLOOKUP($O164, USSW!$P$7:$Q$2000, 2, FALSE))","v":2.0918000000000001},{"$f":"IF($O164=\"\", \"\", VLOOKUP($O164, USSW!$R$7:$S$2000, 2, FALSE))","v":2.149},{"$f":"IF($O164=\"\", \"\", VLOOKUP($O164, USSW!$T$7:$U$2000, 2, FALSE))","v":2.2004000000000001}]
[null,{"$f":"IF(CAD!B162=\"\", \"\", CAD!B162)","v":"2017-05-26"},{"$f":"IF($B165=\"\", \"\", CAD!C162)","v":1.3446},{"$f":"IF($B165=\"\", \"\",VLOOKUP($B165, CAD!$D$7:$E$2000, 2, FALSE))","v":1.33568},{"$f":"IF($B165=\"\", \"\",VLOOKUP($B165, CAD!$F$7:$G$2000, 2, FALSE))","v":1.3264100000000001},{"$f":"IF($B165=\"\", \"\",VLOOKUP($B165, CAD!$H$7:$I$2000, 2, FALSE))","v":1.3180350000000001},{"$f":"IF($B165=\"\", \"\",VLOOKUP($B165, CAD!$J$7:$K$2000, 2, FALSE))","v":1.30992},{"$f":"IF($B165=\"\", \"\", VLOOKUP($B165, CAD!$L$7:$M$2000, 2, FALSE))","v":1.30321},{"$f":"IF($B165=\"\", \"\", VLOOKUP($B165, CAD!$N$7:$O$2000, 2, FALSE))","v":1.297105},{"$f":"IF($B165=\"\", \"\", VLOOKUP($B165, CAD!$P$7:$Q$2000, 2, FALSE))","v":1.292635},{"$f":"IF($B165=\"\", \"\", VLOOKUP($B165, CAD!$R$7:$S$2000, 2, FALSE))","v":1.2896700000000001},{"$f":"IF($B165=\"\", \"\", VLOOKUP($B165, CAD!$T$7:$U$2000, 2, FALSE))","v":1.2884549999999999},{"$f":"IF($B165=\"\", \"\", VLOOKUP($B165, CAD!$V$7:$W$2000, 2, FALSE))","v":1.28895},null,{"$f":"IF(USSW!B162=\"\", \"\", USSW!B162)","v":"2017-05-25"},{"$f":"IF($O165=\"\", \"\", USSW!C162)","v":1.37},{"$f":"IF($O165=\"\", \"\", VLOOKUP($O165, USSW!$D$7:$E$2000, 2, FALSE))","v":1.5358000000000001},{"$f":"IF($O165=\"\", \"\", VLOOKUP($O165, USSW!$F$7:$G$2000, 2, FALSE))","v":1.673},{"$f":"IF($O165=\"\", \"\", VLOOKUP($O165, USSW!$H$7:$I$2000, 2, FALSE))","v":1.7851999999999999},{"$f":"IF($O165=\"\", \"\", VLOOKUP($O165, USSW!$J$7:$K$2000, 2, FALSE))","v":1.8809},{"$f":"IF($O165=\"\", \"\", VLOOKUP($O165, USSW!$L$7:$M$2000, 2, FALSE))","v":1.9605999999999999},{"$f":"IF($O165=\"\", \"\", VLOOKUP($O165, USSW!$N$7:$O$2000, 2, FALSE))","v":2.0339999999999998},{"$f":"IF($O165=\"\", \"\", VLOOKUP($O165, USSW!$P$7:$Q$2000, 2, FALSE))","v":2.0973000000000002},{"$f":"IF($O165=\"\", \"\", VLOOKUP($O165, USSW!$R$7:$S$2000, 2, FALSE))","v":2.1553},{"$f":"IF($O165=\"\", \"\", VLOOKUP($O165, USSW!$T$7:$U$2000, 2, FALSE))","v":2.2044999999999999}]
[null,{"$f":"IF(CAD!B163=\"\", \"\", CAD!B163)","v":"2017-05-25"},{"$f":"IF($B166=\"\", \"\", CAD!C163)","v":1.3485},{"$f":"IF($B166=\"\", \"\",VLOOKUP($B166, CAD!$D$7:$E$2000, 2, FALSE))","v":1.3393649999999999},{"$f":"IF($B166=\"\", \"\",VLOOKUP($B166, CAD!$F$7:$G$2000, 2, FALSE))","v":1.3301499999999999},{"$f":"IF($B166=\"\", \"\",VLOOKUP($B166, CAD!$H$7:$I$2000, 2, FALSE))","v":1.32125},{"$f":"IF($B166=\"\", \"\",VLOOKUP($B166, CAD!$J$7:$K$2000, 2, FALSE))","v":1.312575},{"$f":"IF($B166=\"\", \"\", VLOOKUP($B166, CAD!$L$7:$M$2000, 2, FALSE))","v":1.30606},{"$f":"IF($B166=\"\", \"\", VLOOKUP($B166, CAD!$N$7:$O$2000, 2, FALSE))","v":1.30002},{"$f":"IF($B166=\"\", \"\", VLOOKUP($B166, CAD!$P$7:$Q$2000, 2, FALSE))","v":1.29549},{"$f":"IF($B166=\"\", \"\", VLOOKUP($B166, CAD!$R$7:$S$2000, 2, FALSE))","v":1.2921899999999999},{"$f":"IF($B166=\"\", \"\", VLOOKUP($B166, CAD!$T$7:$U$2000, 2, FALSE))","v":1.2912699999999999},{"$f":"IF($B166=\"\", \"\", VLOOKUP($B166, CAD!$V$7:$W$2000, 2, FALSE))","v":1.2924100000000001},null,{"$f":"IF(USSW!B163=\"\", \"\", USSW!B163)","v":"2017-05-24"},{"$f":"IF($O166=\"\", \"\", USSW!C163)","v":1.3531},{"$f":"IF($O166=\"\", \"\", VLOOKUP($O166, USSW!$D$7:$E$2000, 2, FALSE))","v":1.5143},{"$f":"IF($O166=\"\", \"\", VLOOKUP($O166, USSW!$F$7:$G$2000, 2, FALSE))","v":1.6505000000000001},{"$f":"IF($O166=\"\", \"\", VLOOKUP($O166, USSW!$H$7:$I$2000, 2, FALSE))","v":1.7644},{"$f":"IF($O166=\"\", \"\", VLOOKUP($O166, USSW!$J$7:$K$2000, 2, FALSE))","v":1.8633999999999999},{"$f":"IF($O166=\"\", \"\", VLOOKUP($O166, USSW!$L$7:$M$2000, 2, FALSE))","v":1.9454},{"$f":"IF($O166=\"\", \"\", VLOOKUP($O166, USSW!$N$7:$O$2000, 2, FALSE))","v":2.0206},{"$f":"IF($O166=\"\", \"\", VLOOKUP($O166, USSW!$P$7:$Q$2000, 2, FALSE))","v":2.0844999999999998},{"$f":"IF($O166=\"\", \"\", VLOOKUP($O166, USSW!$R$7:$S$2000, 2, FALSE))","v":2.1419000000000001},{"$f":"IF($O166=\"\", \"\", VLOOKUP($O166, USSW!$T$7:$U$2000, 2, FALSE))","v":2.1947999999999999}]
[null,{"$f":"IF(CAD!B164=\"\", \"\", CAD!B164)","v":"2017-05-24"},{"$f":"IF($B167=\"\", \"\", CAD!C164)","v":1.3407},{"$f":"IF($B167=\"\", \"\",VLOOKUP($B167, CAD!$D$7:$E$2000, 2, FALSE))","v":1.331879},{"$f":"IF($B167=\"\", \"\",VLOOKUP($B167, CAD!$F$7:$G$2000, 2, FALSE))","v":1.3226},{"$f":"IF($B167=\"\", \"\",VLOOKUP($B167, CAD!$H$7:$I$2000, 2, FALSE))","v":1.31375},{"$f":"IF($B167=\"\", \"\",VLOOKUP($B167, CAD!$J$7:$K$2000, 2, FALSE))","v":1.30562},{"$f":"IF($B167=\"\", \"\", VLOOKUP($B167, CAD!$L$7:$M$2000, 2, FALSE))","v":1.2984},{"$f":"IF($B167=\"\", \"\", VLOOKUP($B167, CAD!$N$7:$O$2000, 2, FALSE))","v":1.29233},{"$f":"IF($B167=\"\", \"\", VLOOKUP($B167, CAD!$P$7:$Q$2000, 2, FALSE))","v":1.2881},{"$f":"IF($B167=\"\", \"\", VLOOKUP($B167, CAD!$R$7:$S$2000, 2, FALSE))","v":1.2850600000000001},{"$f":"IF($B167=\"\", \"\", VLOOKUP($B167, CAD!$T$7:$U$2000, 2, FALSE))","v":1.2844599999999999},{"$f":"IF($B167=\"\", \"\", VLOOKUP($B167, CAD!$V$7:$W$2000, 2, FALSE))","v":1.28505},null,{"$f":"IF(USSW!B164=\"\", \"\", USSW!B164)","v":"2017-05-23"},{"$f":"IF($O167=\"\", \"\", USSW!C164)","v":1.3726},{"$f":"IF($O167=\"\", \"\", VLOOKUP($O167, USSW!$D$7:$E$2000, 2, FALSE))","v":1.5457000000000001},{"$f":"IF($O167=\"\", \"\", VLOOKUP($O167, USSW!$F$7:$G$2000, 2, FALSE))","v":1.6873},{"$f":"IF($O167=\"\", \"\", VLOOKUP($O167, USSW!$H$7:$I$2000, 2, FALSE))","v":1.8011999999999999},{"$f":"IF($O167=\"\", \"\", VLOOKUP($O167, USSW!$J$7:$K$2000, 2, FALSE))","v":1.8973},{"$f":"IF($O167=\"\", \"\", VLOOKUP($O167, USSW!$L$7:$M$2000, 2, FALSE))","v":1.9795},{"$f":"IF($O167=\"\", \"\", VLOOKUP($O167, USSW!$N$7:$O$2000, 2, FALSE))","v":2.0526},{"$f":"IF($O167=\"\", \"\", VLOOKUP($O167, USSW!$P$7:$Q$2000, 2, FALSE))","v":2.1154999999999999},{"$f":"IF($O167=\"\", \"\", VLOOKUP($O167, USSW!$R$7:$S$2000, 2, FALSE))","v":2.1711},{"$f":"IF($O167=\"\", \"\", VLOOKUP($O167, USSW!$T$7:$U$2000, 2, FALSE))","v":2.2225000000000001}]
[null,{"$f":"IF(CAD!B165=\"\", \"\", CAD!B165)","v":"2017-05-23"},{"$f":"IF($B168=\"\", \"\", CAD!C165)","v":1.3513999999999999},{"$f":"IF($B168=\"\", \"\",VLOOKUP($B168, CAD!$D$7:$E$2000, 2, FALSE))","v":1.342022},{"$f":"IF($B168=\"\", \"\",VLOOKUP($B168, CAD!$F$7:$G$2000, 2, FALSE))","v":1.3318749999999999},{"$f":"IF($B168=\"\", \"\",VLOOKUP($B168, CAD!$H$7:$I$2000, 2, FALSE))","v":1.323},{"$f":"IF($B168=\"\", \"\",VLOOKUP($B168, CAD!$J$7:$K$2000, 2, FALSE))","v":1.315375},{"$f":"IF($B168=\"\", \"\", VLOOKUP($B168, CAD!$L$7:$M$2000, 2, FALSE))","v":1.308683},{"$f":"IF($B168=\"\", \"\", VLOOKUP($B168, CAD!$N$7:$O$2000, 2, FALSE))","v":1.3022400000000001},{"$f":"IF($B168=\"\", \"\", VLOOKUP($B168, CAD!$P$7:$Q$2000, 2, FALSE))","v":1.2985100000000001},{"$f":"IF($B168=\"\", \"\", VLOOKUP($B168, CAD!$R$7:$S$2000, 2, FALSE))","v":1.2958000000000001},{"$f":"IF($B168=\"\", \"\", VLOOKUP($B168, CAD!$T$7:$U$2000, 2, FALSE))","v":1.2956300000000001},{"$f":"IF($B168=\"\", \"\", VLOOKUP($B168, CAD!$V$7:$W$2000, 2, FALSE))","v":1.2978400000000001},null,{"$f":"IF(USSW!B165=\"\", \"\", USSW!B165)","v":"2017-05-22"},{"$f":"IF($O168=\"\", \"\", USSW!C165)","v":1.3608},{"$f":"IF($O168=\"\", \"\", VLOOKUP($O168, USSW!$D$7:$E$2000, 2, FALSE))","v":1.5277000000000001},{"$f":"IF($O168=\"\", \"\", VLOOKUP($O168, USSW!$F$7:$G$2000, 2, FALSE))","v":1.6689000000000001},{"$f":"IF($O168=\"\", \"\", VLOOKUP($O168, USSW!$H$7:$I$2000, 2, FALSE))","v":1.7814000000000001},{"$f":"IF($O168=\"\", \"\", VLOOKUP($O168, USSW!$J$7:$K$2000, 2, FALSE))","v":1.8753},{"$f":"IF($O168=\"\", \"\", VLOOKUP($O168, USSW!$L$7:$M$2000, 2, FALSE))","v":1.9561999999999999},{"$f":"IF($O168=\"\", \"\", VLOOKUP($O168, USSW!$N$7:$O$2000, 2, FALSE))","v":2.0274999999999999},{"$f":"IF($O168=\"\", \"\", VLOOKUP($O168, USSW!$P$7:$Q$2000, 2, FALSE))","v":2.0905},{"$f":"IF($O168=\"\", \"\", VLOOKUP($O168, USSW!$R$7:$S$2000, 2, FALSE))","v":2.1440000000000001},{"$f":"IF($O168=\"\", \"\", VLOOKUP($O168, USSW!$T$7:$U$2000, 2, FALSE))","v":2.1930000000000001}]
[null,{"$f":"IF(CAD!B166=\"\", \"\", CAD!B166)","v":"2017-05-22"},{"$f":"IF($B169=\"\", \"\", CAD!C166)","v":1.3503000000000001},{"$f":"IF($B169=\"\", \"\",VLOOKUP($B169, CAD!$D$7:$E$2000, 2, FALSE))","v":1.340889},{"$f":"IF($B169=\"\", \"\",VLOOKUP($B169, CAD!$F$7:$G$2000, 2, FALSE))","v":1.3306929999999999},{"$f":"IF($B169=\"\", \"\",VLOOKUP($B169, CAD!$H$7:$I$2000, 2, FALSE))","v":1.320975},{"$f":"IF($B169=\"\", \"\",VLOOKUP($B169, CAD!$J$7:$K$2000, 2, FALSE))","v":1.312565},{"$f":"IF($B169=\"\", \"\", VLOOKUP($B169, CAD!$L$7:$M$2000, 2, FALSE))","v":1.3054250000000001},{"$f":"IF($B169=\"\", \"\", VLOOKUP($B169, CAD!$N$7:$O$2000, 2, FALSE))","v":1.2998400000000001},{"$f":"IF($B169=\"\", \"\", VLOOKUP($B169, CAD!$P$7:$Q$2000, 2, FALSE))","v":1.29582},{"$f":"IF($B169=\"\", \"\", VLOOKUP($B169, CAD!$R$7:$S$2000, 2, FALSE))","v":1.2930699999999999},{"$f":"IF($B169=\"\", \"\", VLOOKUP($B169, CAD!$T$7:$U$2000, 2, FALSE))","v":1.2929299999999999},{"$f":"IF($B169=\"\", \"\", VLOOKUP($B169, CAD!$V$7:$W$2000, 2, FALSE))","v":1.2946599999999999},null,{"$f":"IF(USSW!B166=\"\", \"\", USSW!B166)","v":"2017-05-19"},{"$f":"IF($O169=\"\", \"\", USSW!C166)","v":1.3527},{"$f":"IF($O169=\"\", \"\", VLOOKUP($O169, USSW!$D$7:$E$2000, 2, FALSE))","v":1.5141},{"$f":"IF($O169=\"\", \"\", VLOOKUP($O169, USSW!$F$7:$G$2000, 2, FALSE))","v":1.6513},{"$f":"IF($O169=\"\", \"\", VLOOKUP($O169, USSW!$H$7:$I$2000, 2, FALSE))","v":1.7618},{"$f":"IF($O169=\"\", \"\", VLOOKUP($O169, USSW!$J$7:$K$2000, 2, FALSE))","v":1.8557999999999999},{"$f":"IF($O169=\"\", \"\", VLOOKUP($O169, USSW!$L$7:$M$2000, 2, FALSE))","v":1.9359999999999999},{"$f":"IF($O169=\"\", \"\", VLOOKUP($O169, USSW!$N$7:$O$2000, 2, FALSE))","v":2.0063},{"$f":"IF($O169=\"\", \"\", VLOOKUP($O169, USSW!$P$7:$Q$2000, 2, FALSE))","v":2.0695000000000001},{"$f":"IF($O169=\"\", \"\", VLOOKUP($O169, USSW!$R$7:$S$2000, 2, FALSE))","v":2.1236000000000002},{"$f":"IF($O169=\"\", \"\", VLOOKUP($O169, USSW!$T$7:$U$2000, 2, FALSE))","v":2.1720999999999999}]
[null,{"$f":"IF(CAD!B167=\"\", \"\", CAD!B167)","v":"2017-05-19"},{"$f":"IF($B170=\"\", \"\", CAD!C167)","v":1.3511},{"$f":"IF($B170=\"\", \"\",VLOOKUP($B170, CAD!$D$7:$E$2000, 2, FALSE))","v":1.3417589999999999},{"$f":"IF($B170=\"\", \"\",VLOOKUP($B170, CAD!$F$7:$G$2000, 2, FALSE))","v":1.3315999999999999},{"$f":"IF($B170=\"\", \"\",VLOOKUP($B170, CAD!$H$7:$I$2000, 2, FALSE))","v":1.322695},{"$f":"IF($B170=\"\", \"\",VLOOKUP($B170, CAD!$J$7:$K$2000, 2, FALSE))","v":1.314365},{"$f":"IF($B170=\"\", \"\", VLOOKUP($B170, CAD!$L$7:$M$2000, 2, FALSE))","v":1.30792},{"$f":"IF($B170=\"\", \"\", VLOOKUP($B170, CAD!$N$7:$O$2000, 2, FALSE))","v":1.3023199999999999},{"$f":"IF($B170=\"\", \"\", VLOOKUP($B170, CAD!$P$7:$Q$2000, 2, FALSE))","v":1.2984},{"$f":"IF($B170=\"\", \"\", VLOOKUP($B170, CAD!$R$7:$S$2000, 2, FALSE))","v":1.2959700000000001},{"$f":"IF($B170=\"\", \"\", VLOOKUP($B170, CAD!$T$7:$U$2000, 2, FALSE))","v":1.29606},{"$f":"IF($B170=\"\", \"\", VLOOKUP($B170, CAD!$V$7:$W$2000, 2, FALSE))","v":1.29823},null,{"$f":"IF(USSW!B167=\"\", \"\", USSW!B167)","v":"2017-05-18"},{"$f":"IF($O170=\"\", \"\", USSW!C167)","v":1.3378000000000001},{"$f":"IF($O170=\"\", \"\", VLOOKUP($O170, USSW!$D$7:$E$2000, 2, FALSE))","v":1.4951000000000001},{"$f":"IF($O170=\"\", \"\", VLOOKUP($O170, USSW!$F$7:$G$2000, 2, FALSE))","v":1.6281000000000001},{"$f":"IF($O170=\"\", \"\", VLOOKUP($O170, USSW!$H$7:$I$2000, 2, FALSE))","v":1.7388999999999999},{"$f":"IF($O170=\"\", \"\", VLOOKUP($O170, USSW!$J$7:$K$2000, 2, FALSE))","v":1.8349},{"$f":"IF($O170=\"\", \"\", VLOOKUP($O170, USSW!$L$7:$M$2000, 2, FALSE))","v":1.9149},{"$f":"IF($O170=\"\", \"\", VLOOKUP($O170, USSW!$N$7:$O$2000, 2, FALSE))","v":1.9864999999999999},{"$f":"IF($O170=\"\", \"\", VLOOKUP($O170, USSW!$P$7:$Q$2000, 2, FALSE))","v":2.0495999999999999},{"$f":"IF($O170=\"\", \"\", VLOOKUP($O170, USSW!$R$7:$S$2000, 2, FALSE))","v":2.1061999999999999},{"$f":"IF($O170=\"\", \"\", VLOOKUP($O170, USSW!$T$7:$U$2000, 2, FALSE))","v":2.1560000000000001}]
[null,{"$f":"IF(CAD!B168=\"\", \"\", CAD!B168)","v":"2017-05-18"},{"$f":"IF($B171=\"\", \"\", CAD!C168)","v":1.3603000000000001},{"$f":"IF($B171=\"\", \"\",VLOOKUP($B171, CAD!$D$7:$E$2000, 2, FALSE))","v":1.35101},{"$f":"IF($B171=\"\", \"\",VLOOKUP($B171, CAD!$F$7:$G$2000, 2, FALSE))","v":1.34121},{"$f":"IF($B171=\"\", \"\",VLOOKUP($B171, CAD!$H$7:$I$2000, 2, FALSE))","v":1.3323499999999999},{"$f":"IF($B171=\"\", \"\",VLOOKUP($B171, CAD!$J$7:$K$2000, 2, FALSE))","v":1.32355},{"$f":"IF($B171=\"\", \"\", VLOOKUP($B171, CAD!$L$7:$M$2000, 2, FALSE))","v":1.3166949999999999},{"$f":"IF($B171=\"\", \"\", VLOOKUP($B171, CAD!$N$7:$O$2000, 2, FALSE))","v":1.31067},{"$f":"IF($B171=\"\", \"\", VLOOKUP($B171, CAD!$P$7:$Q$2000, 2, FALSE))","v":1.3067850000000001},{"$f":"IF($B171=\"\", \"\", VLOOKUP($B171, CAD!$R$7:$S$2000, 2, FALSE))","v":1.3045949999999999},{"$f":"IF($B171=\"\", \"\", VLOOKUP($B171, CAD!$T$7:$U$2000, 2, FALSE))","v":1.3045100000000001},{"$f":"IF($B171=\"\", \"\", VLOOKUP($B171, CAD!$V$7:$W$2000, 2, FALSE))","v":1.3056399999999999},null,{"$f":"IF(USSW!B168=\"\", \"\", USSW!B168)","v":"2017-05-17"},{"$f":"IF($O171=\"\", \"\", USSW!C168)","v":1.3152999999999999},{"$f":"IF($O171=\"\", \"\", VLOOKUP($O171, USSW!$D$7:$E$2000, 2, FALSE))","v":1.4693000000000001},{"$f":"IF($O171=\"\", \"\", VLOOKUP($O171, USSW!$F$7:$G$2000, 2, FALSE))","v":1.6025},{"$f":"IF($O171=\"\", \"\", VLOOKUP($O171, USSW!$H$7:$I$2000, 2, FALSE))","v":1.7155},{"$f":"IF($O171=\"\", \"\", VLOOKUP($O171, USSW!$J$7:$K$2000, 2, FALSE))","v":1.8110999999999999},{"$f":"IF($O171=\"\", \"\", VLOOKUP($O171, USSW!$L$7:$M$2000, 2, FALSE))","v":1.8964000000000001},{"$f":"IF($O171=\"\", \"\", VLOOKUP($O171, USSW!$N$7:$O$2000, 2, FALSE))","v":1.9716},{"$f":"IF($O171=\"\", \"\", VLOOKUP($O171, USSW!$P$7:$Q$2000, 2, FALSE))","v":2.0371000000000001},{"$f":"IF($O171=\"\", \"\", VLOOKUP($O171, USSW!$R$7:$S$2000, 2, FALSE))","v":2.0945},{"$f":"IF($O171=\"\", \"\", VLOOKUP($O171, USSW!$T$7:$U$2000, 2, FALSE))","v":2.1469999999999998}]
[null,{"$f":"IF(CAD!B169=\"\", \"\", CAD!B169)","v":"2017-05-17"},{"$f":"IF($B172=\"\", \"\", CAD!C169)","v":1.3602000000000001},{"$f":"IF($B172=\"\", \"\",VLOOKUP($B172, CAD!$D$7:$E$2000, 2, FALSE))","v":1.35118},{"$f":"IF($B172=\"\", \"\",VLOOKUP($B172, CAD!$F$7:$G$2000, 2, FALSE))","v":1.3414950000000001},{"$f":"IF($B172=\"\", \"\",VLOOKUP($B172, CAD!$H$7:$I$2000, 2, FALSE))","v":1.3327500000000001},{"$f":"IF($B172=\"\", \"\",VLOOKUP($B172, CAD!$J$7:$K$2000, 2, FALSE))","v":1.3244499999999999},{"$f":"IF($B172=\"\", \"\", VLOOKUP($B172, CAD!$L$7:$M$2000, 2, FALSE))","v":1.3173999999999999},{"$f":"IF($B172=\"\", \"\", VLOOKUP($B172, CAD!$N$7:$O$2000, 2, FALSE))","v":1.31141},{"$f":"IF($B172=\"\", \"\", VLOOKUP($B172, CAD!$P$7:$Q$2000, 2, FALSE))","v":1.30752},{"$f":"IF($B172=\"\", \"\", VLOOKUP($B172, CAD!$R$7:$S$2000, 2, FALSE))","v":1.3048850000000001},{"$f":"IF($B172=\"\", \"\", VLOOKUP($B172, CAD!$T$7:$U$2000, 2, FALSE))","v":1.3044100000000001},{"$f":"IF($B172=\"\", \"\", VLOOKUP($B172, CAD!$V$7:$W$2000, 2, FALSE))","v":1.3061400000000001},null,{"$f":"IF(USSW!B169=\"\", \"\", USSW!B169)","v":"2017-05-16"},{"$f":"IF($O172=\"\", \"\", USSW!C169)","v":1.3582000000000001},{"$f":"IF($O172=\"\", \"\", VLOOKUP($O172, USSW!$D$7:$E$2000, 2, FALSE))","v":1.5329999999999999},{"$f":"IF($O172=\"\", \"\", VLOOKUP($O172, USSW!$F$7:$G$2000, 2, FALSE))","v":1.6813},{"$f":"IF($O172=\"\", \"\", VLOOKUP($O172, USSW!$H$7:$I$2000, 2, FALSE))","v":1.8045},{"$f":"IF($O172=\"\", \"\", VLOOKUP($O172, USSW!$J$7:$K$2000, 2, FALSE))","v":1.9083000000000001},{"$f":"IF($O172=\"\", \"\", VLOOKUP($O172, USSW!$L$7:$M$2000, 2, FALSE))","v":1.9938},{"$f":"IF($O172=\"\", \"\", VLOOKUP($O172, USSW!$N$7:$O$2000, 2, FALSE))","v":2.0718000000000001},{"$f":"IF($O172=\"\", \"\", VLOOKUP($O172, USSW!$P$7:$Q$2000, 2, FALSE))","v":2.1371000000000002},{"$f":"IF($O172=\"\", \"\", VLOOKUP($O172, USSW!$R$7:$S$2000, 2, FALSE))","v":2.1945999999999999},{"$f":"IF($O172=\"\", \"\", VLOOKUP($O172, USSW!$T$7:$U$2000, 2, FALSE))","v":2.2467000000000001}]
[null,{"$f":"IF(CAD!B170=\"\", \"\", CAD!B170)","v":"2017-05-16"},{"$f":"IF($B173=\"\", \"\", CAD!C170)","v":1.3606},{"$f":"IF($B173=\"\", \"\",VLOOKUP($B173, CAD!$D$7:$E$2000, 2, FALSE))","v":1.351189},{"$f":"IF($B173=\"\", \"\",VLOOKUP($B173, CAD!$F$7:$G$2000, 2, FALSE))","v":1.3408500000000001},{"$f":"IF($B173=\"\", \"\",VLOOKUP($B173, CAD!$H$7:$I$2000, 2, FALSE))","v":1.33195},{"$f":"IF($B173=\"\", \"\",VLOOKUP($B173, CAD!$J$7:$K$2000, 2, FALSE))","v":1.3237099999999999},{"$f":"IF($B173=\"\", \"\", VLOOKUP($B173, CAD!$L$7:$M$2000, 2, FALSE))","v":1.3168150000000001},{"$f":"IF($B173=\"\", \"\", VLOOKUP($B173, CAD!$N$7:$O$2000, 2, FALSE))","v":1.3111349999999999},{"$f":"IF($B173=\"\", \"\", VLOOKUP($B173, CAD!$P$7:$Q$2000, 2, FALSE))","v":1.30742},{"$f":"IF($B173=\"\", \"\", VLOOKUP($B173, CAD!$R$7:$S$2000, 2, FALSE))","v":1.3053049999999999},{"$f":"IF($B173=\"\", \"\", VLOOKUP($B173, CAD!$T$7:$U$2000, 2, FALSE))","v":1.3052900000000001},{"$f":"IF($B173=\"\", \"\", VLOOKUP($B173, CAD!$V$7:$W$2000, 2, FALSE))","v":1.3071999999999999},null,{"$f":"IF(USSW!B170=\"\", \"\", USSW!B170)","v":"2017-05-15"},{"$f":"IF($O173=\"\", \"\", USSW!C170)","v":1.357},{"$f":"IF($O173=\"\", \"\", VLOOKUP($O173, USSW!$D$7:$E$2000, 2, FALSE))","v":1.5322},{"$f":"IF($O173=\"\", \"\", VLOOKUP($O173, USSW!$F$7:$G$2000, 2, FALSE))","v":1.6849000000000001},{"$f":"IF($O173=\"\", \"\", VLOOKUP($O173, USSW!$H$7:$I$2000, 2, FALSE))","v":1.8086},{"$f":"IF($O173=\"\", \"\", VLOOKUP($O173, USSW!$J$7:$K$2000, 2, FALSE))","v":1.9129},{"$f":"IF($O173=\"\", \"\", VLOOKUP($O173, USSW!$L$7:$M$2000, 2, FALSE))","v":2.0015000000000001},{"$f":"IF($O173=\"\", \"\", VLOOKUP($O173, USSW!$N$7:$O$2000, 2, FALSE))","v":2.0790000000000002},{"$f":"IF($O173=\"\", \"\", VLOOKUP($O173, USSW!$P$7:$Q$2000, 2, FALSE))","v":2.1432000000000002},{"$f":"IF($O173=\"\", \"\", VLOOKUP($O173, USSW!$R$7:$S$2000, 2, FALSE))","v":2.2021999999999999},{"$f":"IF($O173=\"\", \"\", VLOOKUP($O173, USSW!$T$7:$U$2000, 2, FALSE))","v":2.2553000000000001}]
[null,{"$f":"IF(CAD!B171=\"\", \"\", CAD!B171)","v":"2017-05-15"},{"$f":"IF($B174=\"\", \"\", CAD!C171)","v":1.3633},{"$f":"IF($B174=\"\", \"\",VLOOKUP($B174, CAD!$D$7:$E$2000, 2, FALSE))","v":1.3536900000000001},{"$f":"IF($B174=\"\", \"\",VLOOKUP($B174, CAD!$F$7:$G$2000, 2, FALSE))","v":1.343275},{"$f":"IF($B174=\"\", \"\",VLOOKUP($B174, CAD!$H$7:$I$2000, 2, FALSE))","v":1.3342499999999999},{"$f":"IF($B174=\"\", \"\",VLOOKUP($B174, CAD!$J$7:$K$2000, 2, FALSE))","v":1.326355},{"$f":"IF($B174=\"\", \"\", VLOOKUP($B174, CAD!$L$7:$M$2000, 2, FALSE))","v":1.319825},{"$f":"IF($B174=\"\", \"\", VLOOKUP($B174, CAD!$N$7:$O$2000, 2, FALSE))","v":1.3140050000000001},{"$f":"IF($B174=\"\", \"\", VLOOKUP($B174, CAD!$P$7:$Q$2000, 2, FALSE))","v":1.310435},{"$f":"IF($B174=\"\", \"\", VLOOKUP($B174, CAD!$R$7:$S$2000, 2, FALSE))","v":1.3085500000000001},{"$f":"IF($B174=\"\", \"\", VLOOKUP($B174, CAD!$T$7:$U$2000, 2, FALSE))","v":1.3088900000000001},{"$f":"IF($B174=\"\", \"\", VLOOKUP($B174, CAD!$V$7:$W$2000, 2, FALSE))","v":1.3106500000000001},null,{"$f":"IF(USSW!B171=\"\", \"\", USSW!B171)","v":"2017-05-12"},{"$f":"IF($O174=\"\", \"\", USSW!C171)","v":1.3539000000000001},{"$f":"IF($O174=\"\", \"\", VLOOKUP($O174, USSW!$D$7:$E$2000, 2, FALSE))","v":1.5359},{"$f":"IF($O174=\"\", \"\", VLOOKUP($O174, USSW!$F$7:$G$2000, 2, FALSE))","v":1.6889000000000001},{"$f":"IF($O174=\"\", \"\", VLOOKUP($O174, USSW!$H$7:$I$2000, 2, FALSE))","v":1.8109},{"$f":"IF($O174=\"\", \"\", VLOOKUP($O174, USSW!$J$7:$K$2000, 2, FALSE))","v":1.9155},{"$f":"IF($O174=\"\", \"\", VLOOKUP($O174, USSW!$L$7:$M$2000, 2, FALSE))","v":2.0019999999999998},{"$f":"IF($O174=\"\", \"\", VLOOKUP($O174, USSW!$N$7:$O$2000, 2, FALSE))","v":2.0771999999999999},{"$f":"IF($O174=\"\", \"\", VLOOKUP($O174, USSW!$P$7:$Q$2000, 2, FALSE))","v":2.1425999999999998},{"$f":"IF($O174=\"\", \"\", VLOOKUP($O174, USSW!$R$7:$S$2000, 2, FALSE))","v":2.1997},{"$f":"IF($O174=\"\", \"\", VLOOKUP($O174, USSW!$T$7:$U$2000, 2, FALSE))","v":2.2505999999999999}]
[null,{"$f":"IF(CAD!B172=\"\", \"\", CAD!B172)","v":"2017-05-12"},{"$f":"IF($B175=\"\", \"\", CAD!C172)","v":1.371},{"$f":"IF($B175=\"\", \"\",VLOOKUP($B175, CAD!$D$7:$E$2000, 2, FALSE))","v":1.361389},{"$f":"IF($B175=\"\", \"\",VLOOKUP($B175, CAD!$F$7:$G$2000, 2, FALSE))","v":1.350417},{"$f":"IF($B175=\"\", \"\",VLOOKUP($B175, CAD!$H$7:$I$2000, 2, FALSE))","v":1.34137},{"$f":"IF($B175=\"\", \"\",VLOOKUP($B175, CAD!$J$7:$K$2000, 2, FALSE))","v":1.3324199999999999},{"$f":"IF($B175=\"\", \"\", VLOOKUP($B175, CAD!$L$7:$M$2000, 2, FALSE))","v":1.32562},{"$f":"IF($B175=\"\", \"\", VLOOKUP($B175, CAD!$N$7:$O$2000, 2, FALSE))","v":1.3196950000000001},{"$f":"IF($B175=\"\", \"\", VLOOKUP($B175, CAD!$P$7:$Q$2000, 2, FALSE))","v":1.315995},{"$f":"IF($B175=\"\", \"\", VLOOKUP($B175, CAD!$R$7:$S$2000, 2, FALSE))","v":1.31389},{"$f":"IF($B175=\"\", \"\", VLOOKUP($B175, CAD!$T$7:$U$2000, 2, FALSE))","v":1.3141400000000001},{"$f":"IF($B175=\"\", \"\", VLOOKUP($B175, CAD!$V$7:$W$2000, 2, FALSE))","v":1.3164450000000001},null,{"$f":"IF(USSW!B172=\"\", \"\", USSW!B172)","v":"2017-05-11"},{"$f":"IF($O175=\"\", \"\", USSW!C172)","v":1.3907},{"$f":"IF($O175=\"\", \"\", VLOOKUP($O175, USSW!$D$7:$E$2000, 2, FALSE))","v":1.5906},{"$f":"IF($O175=\"\", \"\", VLOOKUP($O175, USSW!$F$7:$G$2000, 2, FALSE))","v":1.7511000000000001},{"$f":"IF($O175=\"\", \"\", VLOOKUP($O175, USSW!$H$7:$I$2000, 2, FALSE))","v":1.8794},{"$f":"IF($O175=\"\", \"\", VLOOKUP($O175, USSW!$J$7:$K$2000, 2, FALSE))","v":1.9804999999999999},{"$f":"IF($O175=\"\", \"\", VLOOKUP($O175, USSW!$L$7:$M$2000, 2, FALSE))","v":2.0665},{"$f":"IF($O175=\"\", \"\", VLOOKUP($O175, USSW!$N$7:$O$2000, 2, FALSE))","v":2.1408999999999998},{"$f":"IF($O175=\"\", \"\", VLOOKUP($O175, USSW!$P$7:$Q$2000, 2, FALSE))","v":2.2046999999999999},{"$f":"IF($O175=\"\", \"\", VLOOKUP($O175, USSW!$R$7:$S$2000, 2, FALSE))","v":2.2597},{"$f":"IF($O175=\"\", \"\", VLOOKUP($O175, USSW!$T$7:$U$2000, 2, FALSE))","v":2.3090000000000002}]
[null,{"$f":"IF(CAD!B173=\"\", \"\", CAD!B173)","v":"2017-05-11"},{"$f":"IF($B176=\"\", \"\", CAD!C173)","v":1.3696999999999999},{"$f":"IF($B176=\"\", \"\",VLOOKUP($B176, CAD!$D$7:$E$2000, 2, FALSE))","v":1.3598060000000001},{"$f":"IF($B176=\"\", \"\",VLOOKUP($B176, CAD!$F$7:$G$2000, 2, FALSE))","v":1.34849},{"$f":"IF($B176=\"\", \"\",VLOOKUP($B176, CAD!$H$7:$I$2000, 2, FALSE))","v":1.338775},{"$f":"IF($B176=\"\", \"\",VLOOKUP($B176, CAD!$J$7:$K$2000, 2, FALSE))","v":1.3293649999999999},{"$f":"IF($B176=\"\", \"\", VLOOKUP($B176, CAD!$L$7:$M$2000, 2, FALSE))","v":1.3225},{"$f":"IF($B176=\"\", \"\", VLOOKUP($B176, CAD!$N$7:$O$2000, 2, FALSE))","v":1.3159700000000001},{"$f":"IF($B176=\"\", \"\", VLOOKUP($B176, CAD!$P$7:$Q$2000, 2, FALSE))","v":1.3119400000000001},{"$f":"IF($B176=\"\", \"\", VLOOKUP($B176, CAD!$R$7:$S$2000, 2, FALSE))","v":1.3094600000000001},{"$f":"IF($B176=\"\", \"\", VLOOKUP($B176, CAD!$T$7:$U$2000, 2, FALSE))","v":1.30955},{"$f":"IF($B176=\"\", \"\", VLOOKUP($B176, CAD!$V$7:$W$2000, 2, FALSE))","v":1.3126500000000001},null,{"$f":"IF(USSW!B173=\"\", \"\", USSW!B173)","v":"2017-05-10"},{"$f":"IF($O176=\"\", \"\", USSW!C173)","v":1.3974},{"$f":"IF($O176=\"\", \"\", VLOOKUP($O176, USSW!$D$7:$E$2000, 2, FALSE))","v":1.6026},{"$f":"IF($O176=\"\", \"\", VLOOKUP($O176, USSW!$F$7:$G$2000, 2, FALSE))","v":1.7642},{"$f":"IF($O176=\"\", \"\", VLOOKUP($O176, USSW!$H$7:$I$2000, 2, FALSE))","v":1.8928},{"$f":"IF($O176=\"\", \"\", VLOOKUP($O176, USSW!$J$7:$K$2000, 2, FALSE))","v":1.9959},{"$f":"IF($O176=\"\", \"\", VLOOKUP($O176, USSW!$L$7:$M$2000, 2, FALSE))","v":2.0815000000000001},{"$f":"IF($O176=\"\", \"\", VLOOKUP($O176, USSW!$N$7:$O$2000, 2, FALSE))","v":2.1568999999999998},{"$f":"IF($O176=\"\", \"\", VLOOKUP($O176, USSW!$P$7:$Q$2000, 2, FALSE))","v":2.2198000000000002},{"$f":"IF($O176=\"\", \"\", VLOOKUP($O176, USSW!$R$7:$S$2000, 2, FALSE))","v":2.2751000000000001},{"$f":"IF($O176=\"\", \"\", VLOOKUP($O176, USSW!$T$7:$U$2000, 2, FALSE))","v":2.3241999999999998}]
[null,{"$f":"IF(CAD!B174=\"\", \"\", CAD!B174)","v":"2017-05-10"},{"$f":"IF($B177=\"\", \"\", CAD!C174)","v":1.3655999999999999},{"$f":"IF($B177=\"\", \"\",VLOOKUP($B177, CAD!$D$7:$E$2000, 2, FALSE))","v":1.355739},{"$f":"IF($B177=\"\", \"\",VLOOKUP($B177, CAD!$F$7:$G$2000, 2, FALSE))","v":1.344595},{"$f":"IF($B177=\"\", \"\",VLOOKUP($B177, CAD!$H$7:$I$2000, 2, FALSE))","v":1.3353550000000001},{"$f":"IF($B177=\"\", \"\",VLOOKUP($B177, CAD!$J$7:$K$2000, 2, FALSE))","v":1.3267100000000001},{"$f":"IF($B177=\"\", \"\", VLOOKUP($B177, CAD!$L$7:$M$2000, 2, FALSE))","v":1.3202},{"$f":"IF($B177=\"\", \"\", VLOOKUP($B177, CAD!$N$7:$O$2000, 2, FALSE))","v":1.31416},{"$f":"IF($B177=\"\", \"\", VLOOKUP($B177, CAD!$P$7:$Q$2000, 2, FALSE))","v":1.3104849999999999},{"$f":"IF($B177=\"\", \"\", VLOOKUP($B177, CAD!$R$7:$S$2000, 2, FALSE))","v":1.308675},{"$f":"IF($B177=\"\", \"\", VLOOKUP($B177, CAD!$T$7:$U$2000, 2, FALSE))","v":1.3094600000000001},{"$f":"IF($B177=\"\", \"\", VLOOKUP($B177, CAD!$V$7:$W$2000, 2, FALSE))","v":1.3122750000000001},null,{"$f":"IF(USSW!B174=\"\", \"\", USSW!B174)","v":"2017-05-09"},{"$f":"IF($O177=\"\", \"\", USSW!C174)","v":1.4043000000000001},{"$f":"IF($O177=\"\", \"\", VLOOKUP($O177, USSW!$D$7:$E$2000, 2, FALSE))","v":1.6134999999999999},{"$f":"IF($O177=\"\", \"\", VLOOKUP($O177, USSW!$F$7:$G$2000, 2, FALSE))","v":1.7775000000000001},{"$f":"IF($O177=\"\", \"\", VLOOKUP($O177, USSW!$H$7:$I$2000, 2, FALSE))","v":1.9033},{"$f":"IF($O177=\"\", \"\", VLOOKUP($O177, USSW!$J$7:$K$2000, 2, FALSE))","v":2.0070000000000001},{"$f":"IF($O177=\"\", \"\", VLOOKUP($O177, USSW!$L$7:$M$2000, 2, FALSE))","v":2.0903999999999998},{"$f":"IF($O177=\"\", \"\", VLOOKUP($O177, USSW!$N$7:$O$2000, 2, FALSE))","v":2.1638000000000002},{"$f":"IF($O177=\"\", \"\", VLOOKUP($O177, USSW!$P$7:$Q$2000, 2, FALSE))","v":2.2254},{"$f":"IF($O177=\"\", \"\", VLOOKUP($O177, USSW!$R$7:$S$2000, 2, FALSE))","v":2.2795999999999998},{"$f":"IF($O177=\"\", \"\", VLOOKUP($O177, USSW!$T$7:$U$2000, 2, FALSE))","v":2.3277999999999999}]
[null,{"$f":"IF(CAD!B175=\"\", \"\", CAD!B175)","v":"2017-05-09"},{"$f":"IF($B178=\"\", \"\", CAD!C175)","v":1.3720000000000001},{"$f":"IF($B178=\"\", \"\",VLOOKUP($B178, CAD!$D$7:$E$2000, 2, FALSE))","v":1.3622300000000001},{"$f":"IF($B178=\"\", \"\",VLOOKUP($B178, CAD!$F$7:$G$2000, 2, FALSE))","v":1.351146},{"$f":"IF($B178=\"\", \"\",VLOOKUP($B178, CAD!$H$7:$I$2000, 2, FALSE))","v":1.34118},{"$f":"IF($B178=\"\", \"\",VLOOKUP($B178, CAD!$J$7:$K$2000, 2, FALSE))","v":1.3322499999999999},{"$f":"IF($B178=\"\", \"\", VLOOKUP($B178, CAD!$L$7:$M$2000, 2, FALSE))","v":1.325415},{"$f":"IF($B178=\"\", \"\", VLOOKUP($B178, CAD!$N$7:$O$2000, 2, FALSE))","v":1.3193250000000001},{"$f":"IF($B178=\"\", \"\", VLOOKUP($B178, CAD!$P$7:$Q$2000, 2, FALSE))","v":1.3153699999999999},{"$f":"IF($B178=\"\", \"\", VLOOKUP($B178, CAD!$R$7:$S$2000, 2, FALSE))","v":1.3134699999999999},{"$f":"IF($B178=\"\", \"\", VLOOKUP($B178, CAD!$T$7:$U$2000, 2, FALSE))","v":1.31453},{"$f":"IF($B178=\"\", \"\", VLOOKUP($B178, CAD!$V$7:$W$2000, 2, FALSE))","v":1.31698},null,{"$f":"IF(USSW!B175=\"\", \"\", USSW!B175)","v":"2017-05-08"},{"$f":"IF($O178=\"\", \"\", USSW!C175)","v":1.4180999999999999},{"$f":"IF($O178=\"\", \"\", VLOOKUP($O178, USSW!$D$7:$E$2000, 2, FALSE))","v":1.6215999999999999},{"$f":"IF($O178=\"\", \"\", VLOOKUP($O178, USSW!$F$7:$G$2000, 2, FALSE))","v":1.7829999999999999},{"$f":"IF($O178=\"\", \"\", VLOOKUP($O178, USSW!$H$7:$I$2000, 2, FALSE))","v":1.9058999999999999},{"$f":"IF($O178=\"\", \"\", VLOOKUP($O178, USSW!$J$7:$K$2000, 2, FALSE))","v":2.0085000000000002},{"$f":"IF($O178=\"\", \"\", VLOOKUP($O178, USSW!$L$7:$M$2000, 2, FALSE))","v":2.0895000000000001},{"$f":"IF($O178=\"\", \"\", VLOOKUP($O178, USSW!$N$7:$O$2000, 2, FALSE))","v":2.1635},{"$f":"IF($O178=\"\", \"\", VLOOKUP($O178, USSW!$P$7:$Q$2000, 2, FALSE))","v":2.2250000000000001},{"$f":"IF($O178=\"\", \"\", VLOOKUP($O178, USSW!$R$7:$S$2000, 2, FALSE))","v":2.2783000000000002},{"$f":"IF($O178=\"\", \"\", VLOOKUP($O178, USSW!$T$7:$U$2000, 2, FALSE))","v":2.3262}]
[null,{"$f":"IF(CAD!B176=\"\", \"\", CAD!B176)","v":"2017-05-08"},{"$f":"IF($B179=\"\", \"\", CAD!C176)","v":1.3691},{"$f":"IF($B179=\"\", \"\",VLOOKUP($B179, CAD!$D$7:$E$2000, 2, FALSE))","v":1.35927},{"$f":"IF($B179=\"\", \"\",VLOOKUP($B179, CAD!$F$7:$G$2000, 2, FALSE))","v":1.347985},{"$f":"IF($B179=\"\", \"\",VLOOKUP($B179, CAD!$H$7:$I$2000, 2, FALSE))","v":1.3379000000000001},{"$f":"IF($B179=\"\", \"\",VLOOKUP($B179, CAD!$J$7:$K$2000, 2, FALSE))","v":1.3287199999999999},{"$f":"IF($B179=\"\", \"\", VLOOKUP($B179, CAD!$L$7:$M$2000, 2, FALSE))","v":1.321715},{"$f":"IF($B179=\"\", \"\", VLOOKUP($B179, CAD!$N$7:$O$2000, 2, FALSE))","v":1.315995},{"$f":"IF($B179=\"\", \"\", VLOOKUP($B179, CAD!$P$7:$Q$2000, 2, FALSE))","v":1.3117099999999999},{"$f":"IF($B179=\"\", \"\", VLOOKUP($B179, CAD!$R$7:$S$2000, 2, FALSE))","v":1.309415},{"$f":"IF($B179=\"\", \"\", VLOOKUP($B179, CAD!$T$7:$U$2000, 2, FALSE))","v":1.30952},{"$f":"IF($B179=\"\", \"\", VLOOKUP($B179, CAD!$V$7:$W$2000, 2, FALSE))","v":1.3114399999999999},null,{"$f":"IF(USSW!B176=\"\", \"\", USSW!B176)","v":"2017-05-05"},{"$f":"IF($O179=\"\", \"\", USSW!C176)","v":1.4077},{"$f":"IF($O179=\"\", \"\", VLOOKUP($O179, USSW!$D$7:$E$2000, 2, FALSE))","v":1.6040000000000001},{"$f":"IF($O179=\"\", \"\", VLOOKUP($O179, USSW!$F$7:$G$2000, 2, FALSE))","v":1.76},{"$f":"IF($O179=\"\", \"\", VLOOKUP($O179, USSW!$H$7:$I$2000, 2, FALSE))","v":1.8793},{"$f":"IF($O179=\"\", \"\", VLOOKUP($O179, USSW!$J$7:$K$2000, 2, FALSE))","v":1.978},{"$f":"IF($O179=\"\", \"\", VLOOKUP($O179, USSW!$L$7:$M$2000, 2, FALSE))","v":2.0590000000000002},{"$f":"IF($O179=\"\", \"\", VLOOKUP($O179, USSW!$N$7:$O$2000, 2, FALSE))","v":2.1299000000000001},{"$f":"IF($O179=\"\", \"\", VLOOKUP($O179, USSW!$P$7:$Q$2000, 2, FALSE))","v":2.1903999999999999},{"$f":"IF($O179=\"\", \"\", VLOOKUP($O179, USSW!$R$7:$S$2000, 2, FALSE))","v":2.2433000000000001},{"$f":"IF($O179=\"\", \"\", VLOOKUP($O179, USSW!$T$7:$U$2000, 2, FALSE))","v":2.2904}]
[null,{"$f":"IF(CAD!B177=\"\", \"\", CAD!B177)","v":"2017-05-05"},{"$f":"IF($B180=\"\", \"\", CAD!C177)","v":1.3652},{"$f":"IF($B180=\"\", \"\",VLOOKUP($B180, CAD!$D$7:$E$2000, 2, FALSE))","v":1.3555600000000001},{"$f":"IF($B180=\"\", \"\",VLOOKUP($B180, CAD!$F$7:$G$2000, 2, FALSE))","v":1.3443700000000001},{"$f":"IF($B180=\"\", \"\",VLOOKUP($B180, CAD!$H$7:$I$2000, 2, FALSE))","v":1.3342499999999999},{"$f":"IF($B180=\"\", \"\",VLOOKUP($B180, CAD!$J$7:$K$2000, 2, FALSE))","v":1.32517},{"$f":"IF($B180=\"\", \"\", VLOOKUP($B180, CAD!$L$7:$M$2000, 2, FALSE))","v":1.317895},{"$f":"IF($B180=\"\", \"\", VLOOKUP($B180, CAD!$N$7:$O$2000, 2, FALSE))","v":1.31227},{"$f":"IF($B180=\"\", \"\", VLOOKUP($B180, CAD!$P$7:$Q$2000, 2, FALSE))","v":1.3083400000000001},{"$f":"IF($B180=\"\", \"\", VLOOKUP($B180, CAD!$R$7:$S$2000, 2, FALSE))","v":1.305995},{"$f":"IF($B180=\"\", \"\", VLOOKUP($B180, CAD!$T$7:$U$2000, 2, FALSE))","v":1.3058700000000001},{"$f":"IF($B180=\"\", \"\", VLOOKUP($B180, CAD!$V$7:$W$2000, 2, FALSE))","v":1.30802},null,{"$f":"IF(USSW!B177=\"\", \"\", USSW!B177)","v":"2017-05-04"},{"$f":"IF($O180=\"\", \"\", USSW!C177)","v":1.4000999999999999},{"$f":"IF($O180=\"\", \"\", VLOOKUP($O180, USSW!$D$7:$E$2000, 2, FALSE))","v":1.599},{"$f":"IF($O180=\"\", \"\", VLOOKUP($O180, USSW!$F$7:$G$2000, 2, FALSE))","v":1.7579},{"$f":"IF($O180=\"\", \"\", VLOOKUP($O180, USSW!$H$7:$I$2000, 2, FALSE))","v":1.8835},{"$f":"IF($O180=\"\", \"\", VLOOKUP($O180, USSW!$J$7:$K$2000, 2, FALSE))","v":1.9822},{"$f":"IF($O180=\"\", \"\", VLOOKUP($O180, USSW!$L$7:$M$2000, 2, FALSE))","v":2.0707},{"$f":"IF($O180=\"\", \"\", VLOOKUP($O180, USSW!$N$7:$O$2000, 2, FALSE))","v":2.1408},{"$f":"IF($O180=\"\", \"\", VLOOKUP($O180, USSW!$P$7:$Q$2000, 2, FALSE))","v":2.2029999999999998},{"$f":"IF($O180=\"\", \"\", VLOOKUP($O180, USSW!$R$7:$S$2000, 2, FALSE))","v":2.2572000000000001},{"$f":"IF($O180=\"\", \"\", VLOOKUP($O180, USSW!$T$7:$U$2000, 2, FALSE))","v":2.3029999999999999}]
[null,{"$f":"IF(CAD!B178=\"\", \"\", CAD!B178)","v":"2017-05-04"},{"$f":"IF($B181=\"\", \"\", CAD!C178)","v":1.3749},{"$f":"IF($B181=\"\", \"\",VLOOKUP($B181, CAD!$D$7:$E$2000, 2, FALSE))","v":1.3653299999999999},{"$f":"IF($B181=\"\", \"\",VLOOKUP($B181, CAD!$F$7:$G$2000, 2, FALSE))","v":1.3542400000000001},{"$f":"IF($B181=\"\", \"\",VLOOKUP($B181, CAD!$H$7:$I$2000, 2, FALSE))","v":1.34385},{"$f":"IF($B181=\"\", \"\",VLOOKUP($B181, CAD!$J$7:$K$2000, 2, FALSE))","v":1.33447},{"$f":"IF($B181=\"\", \"\", VLOOKUP($B181, CAD!$L$7:$M$2000, 2, FALSE))","v":1.3271900000000001},{"$f":"IF($B181=\"\", \"\", VLOOKUP($B181, CAD!$N$7:$O$2000, 2, FALSE))","v":1.3208949999999999},{"$f":"IF($B181=\"\", \"\", VLOOKUP($B181, CAD!$P$7:$Q$2000, 2, FALSE))","v":1.3165100000000001},{"$f":"IF($B181=\"\", \"\", VLOOKUP($B181, CAD!$R$7:$S$2000, 2, FALSE))","v":1.3138449999999999},{"$f":"IF($B181=\"\", \"\", VLOOKUP($B181, CAD!$T$7:$U$2000, 2, FALSE))","v":1.313715},{"$f":"IF($B181=\"\", \"\", VLOOKUP($B181, CAD!$V$7:$W$2000, 2, FALSE))","v":1.31531},null,{"$f":"IF(USSW!B178=\"\", \"\", USSW!B178)","v":"2017-05-03"},{"$f":"IF($O181=\"\", \"\", USSW!C178)","v":1.3937999999999999},{"$f":"IF($O181=\"\", \"\", VLOOKUP($O181, USSW!$D$7:$E$2000, 2, FALSE))","v":1.5844},{"$f":"IF($O181=\"\", \"\", VLOOKUP($O181, USSW!$F$7:$G$2000, 2, FALSE))","v":1.7383999999999999},{"$f":"IF($O181=\"\", \"\", VLOOKUP($O181, USSW!$H$7:$I$2000, 2, FALSE))","v":1.8580000000000001},{"$f":"IF($O181=\"\", \"\", VLOOKUP($O181, USSW!$J$7:$K$2000, 2, FALSE))","v":1.9561999999999999},{"$f":"IF($O181=\"\", \"\", VLOOKUP($O181, USSW!$L$7:$M$2000, 2, FALSE))","v":2.0388000000000002},{"$f":"IF($O181=\"\", \"\", VLOOKUP($O181, USSW!$N$7:$O$2000, 2, FALSE))","v":2.1095000000000002},{"$f":"IF($O181=\"\", \"\", VLOOKUP($O181, USSW!$P$7:$Q$2000, 2, FALSE))","v":2.1698},{"$f":"IF($O181=\"\", \"\", VLOOKUP($O181, USSW!$R$7:$S$2000, 2, FALSE))","v":2.2223000000000002},{"$f":"IF($O181=\"\", \"\", VLOOKUP($O181, USSW!$T$7:$U$2000, 2, FALSE))","v":2.2690000000000001}]
[null,{"$f":"IF(CAD!B179=\"\", \"\", CAD!B179)","v":"2017-05-03"},{"$f":"IF($B182=\"\", \"\", CAD!C179)","v":1.373},{"$f":"IF($B182=\"\", \"\",VLOOKUP($B182, CAD!$D$7:$E$2000, 2, FALSE))","v":1.36371},{"$f":"IF($B182=\"\", \"\",VLOOKUP($B182, CAD!$F$7:$G$2000, 2, FALSE))","v":1.35328},{"$f":"IF($B182=\"\", \"\",VLOOKUP($B182, CAD!$H$7:$I$2000, 2, FALSE))","v":1.34372},{"$f":"IF($B182=\"\", \"\",VLOOKUP($B182, CAD!$J$7:$K$2000, 2, FALSE))","v":1.3348899999999999},{"$f":"IF($B182=\"\", \"\", VLOOKUP($B182, CAD!$L$7:$M$2000, 2, FALSE))","v":1.3279300000000001},{"$f":"IF($B182=\"\", \"\", VLOOKUP($B182, CAD!$N$7:$O$2000, 2, FALSE))","v":1.3222149999999999},{"$f":"IF($B182=\"\", \"\", VLOOKUP($B182, CAD!$P$7:$Q$2000, 2, FALSE))","v":1.318635},{"$f":"IF($B182=\"\", \"\", VLOOKUP($B182, CAD!$R$7:$S$2000, 2, FALSE))","v":1.31654},{"$f":"IF($B182=\"\", \"\", VLOOKUP($B182, CAD!$T$7:$U$2000, 2, FALSE))","v":1.3168},{"$f":"IF($B182=\"\", \"\", VLOOKUP($B182, CAD!$V$7:$W$2000, 2, FALSE))","v":1.31898},null,{"$f":"IF(USSW!B179=\"\", \"\", USSW!B179)","v":"2017-05-02"},{"$f":"IF($O182=\"\", \"\", USSW!C179)","v":1.3787},{"$f":"IF($O182=\"\", \"\", VLOOKUP($O182, USSW!$D$7:$E$2000, 2, FALSE))","v":1.5638000000000001},{"$f":"IF($O182=\"\", \"\", VLOOKUP($O182, USSW!$F$7:$G$2000, 2, FALSE))","v":1.712},{"$f":"IF($O182=\"\", \"\", VLOOKUP($O182, USSW!$H$7:$I$2000, 2, FALSE))","v":1.8289},{"$f":"IF($O182=\"\", \"\", VLOOKUP($O182, USSW!$J$7:$K$2000, 2, FALSE))","v":1.9251},{"$f":"IF($O182=\"\", \"\", VLOOKUP($O182, USSW!$L$7:$M$2000, 2, FALSE))","v":2.0085000000000002},{"$f":"IF($O182=\"\", \"\", VLOOKUP($O182, USSW!$N$7:$O$2000, 2, FALSE))","v":2.0813999999999999},{"$f":"IF($O182=\"\", \"\", VLOOKUP($O182, USSW!$P$7:$Q$2000, 2, FALSE))","v":2.1427999999999998},{"$f":"IF($O182=\"\", \"\", VLOOKUP($O182, USSW!$R$7:$S$2000, 2, FALSE))","v":2.1970000000000001},{"$f":"IF($O182=\"\", \"\", VLOOKUP($O182, USSW!$T$7:$U$2000, 2, FALSE))","v":2.2452999999999999}]
[null,{"$f":"IF(CAD!B180=\"\", \"\", CAD!B180)","v":"2017-05-02"},{"$f":"IF($B183=\"\", \"\", CAD!C180)","v":1.3709},{"$f":"IF($B183=\"\", \"\",VLOOKUP($B183, CAD!$D$7:$E$2000, 2, FALSE))","v":1.361772},{"$f":"IF($B183=\"\", \"\",VLOOKUP($B183, CAD!$F$7:$G$2000, 2, FALSE))","v":1.3511},{"$f":"IF($B183=\"\", \"\",VLOOKUP($B183, CAD!$H$7:$I$2000, 2, FALSE))","v":1.3416300000000001},{"$f":"IF($B183=\"\", \"\",VLOOKUP($B183, CAD!$J$7:$K$2000, 2, FALSE))","v":1.3329200000000001},{"$f":"IF($B183=\"\", \"\", VLOOKUP($B183, CAD!$L$7:$M$2000, 2, FALSE))","v":1.3261400000000001},{"$f":"IF($B183=\"\", \"\", VLOOKUP($B183, CAD!$N$7:$O$2000, 2, FALSE))","v":1.3197049999999999},{"$f":"IF($B183=\"\", \"\", VLOOKUP($B183, CAD!$P$7:$Q$2000, 2, FALSE))","v":1.3158300000000001},{"$f":"IF($B183=\"\", \"\", VLOOKUP($B183, CAD!$R$7:$S$2000, 2, FALSE))","v":1.3134950000000001},{"$f":"IF($B183=\"\", \"\", VLOOKUP($B183, CAD!$T$7:$U$2000, 2, FALSE))","v":1.313545},{"$f":"IF($B183=\"\", \"\", VLOOKUP($B183, CAD!$V$7:$W$2000, 2, FALSE))","v":1.3154600000000001},null,{"$f":"IF(USSW!B180=\"\", \"\", USSW!B180)","v":"2017-05-01"},{"$f":"IF($O183=\"\", \"\", USSW!C180)","v":1.3917999999999999},{"$f":"IF($O183=\"\", \"\", VLOOKUP($O183, USSW!$D$7:$E$2000, 2, FALSE))","v":1.5827},{"$f":"IF($O183=\"\", \"\", VLOOKUP($O183, USSW!$F$7:$G$2000, 2, FALSE))","v":1.7350000000000001},{"$f":"IF($O183=\"\", \"\", VLOOKUP($O183, USSW!$H$7:$I$2000, 2, FALSE))","v":1.8543000000000001},{"$f":"IF($O183=\"\", \"\", VLOOKUP($O183, USSW!$J$7:$K$2000, 2, FALSE))","v":1.9576},{"$f":"IF($O183=\"\", \"\", VLOOKUP($O183, USSW!$L$7:$M$2000, 2, FALSE))","v":2.0419},{"$f":"IF($O183=\"\", \"\", VLOOKUP($O183, USSW!$N$7:$O$2000, 2, FALSE))","v":2.1164000000000001},{"$f":"IF($O183=\"\", \"\", VLOOKUP($O183, USSW!$P$7:$Q$2000, 2, FALSE))","v":2.1798000000000002},{"$f":"IF($O183=\"\", \"\", VLOOKUP($O183, USSW!$R$7:$S$2000, 2, FALSE))","v":2.2342},{"$f":"IF($O183=\"\", \"\", VLOOKUP($O183, USSW!$T$7:$U$2000, 2, FALSE))","v":2.2837999999999998}]
[null,{"$f":"IF(CAD!B181=\"\", \"\", CAD!B181)","v":"2017-05-01"},{"$f":"IF($B184=\"\", \"\", CAD!C181)","v":1.3681000000000001},{"$f":"IF($B184=\"\", \"\",VLOOKUP($B184, CAD!$D$7:$E$2000, 2, FALSE))","v":1.3591690000000001},{"$f":"IF($B184=\"\", \"\",VLOOKUP($B184, CAD!$F$7:$G$2000, 2, FALSE))","v":1.3490500000000001},{"$f":"IF($B184=\"\", \"\",VLOOKUP($B184, CAD!$H$7:$I$2000, 2, FALSE))","v":1.3397250000000001},{"$f":"IF($B184=\"\", \"\",VLOOKUP($B184, CAD!$J$7:$K$2000, 2, FALSE))","v":1.3310999999999999},{"$f":"IF($B184=\"\", \"\", VLOOKUP($B184, CAD!$L$7:$M$2000, 2, FALSE))","v":1.32437},{"$f":"IF($B184=\"\", \"\", VLOOKUP($B184, CAD!$N$7:$O$2000, 2, FALSE))","v":1.3183400000000001},{"$f":"IF($B184=\"\", \"\", VLOOKUP($B184, CAD!$P$7:$Q$2000, 2, FALSE))","v":1.3143199999999999},{"$f":"IF($B184=\"\", \"\", VLOOKUP($B184, CAD!$R$7:$S$2000, 2, FALSE))","v":1.31246},{"$f":"IF($B184=\"\", \"\", VLOOKUP($B184, CAD!$T$7:$U$2000, 2, FALSE))","v":1.3133600000000001},{"$f":"IF($B184=\"\", \"\", VLOOKUP($B184, CAD!$V$7:$W$2000, 2, FALSE))","v":1.31559},null,{"$f":"IF(USSW!B181=\"\", \"\", USSW!B181)","v":"2017-04-28"},{"$f":"IF($O184=\"\", \"\", USSW!C181)","v":1.39},{"$f":"IF($O184=\"\", \"\", VLOOKUP($O184, USSW!$D$7:$E$2000, 2, FALSE))","v":1.5725},{"$f":"IF($O184=\"\", \"\", VLOOKUP($O184, USSW!$F$7:$G$2000, 2, FALSE))","v":1.7196},{"$f":"IF($O184=\"\", \"\", VLOOKUP($O184, USSW!$H$7:$I$2000, 2, FALSE))","v":1.8363},{"$f":"IF($O184=\"\", \"\", VLOOKUP($O184, USSW!$J$7:$K$2000, 2, FALSE))","v":1.9327000000000001},{"$f":"IF($O184=\"\", \"\", VLOOKUP($O184, USSW!$L$7:$M$2000, 2, FALSE))","v":2.0162},{"$f":"IF($O184=\"\", \"\", VLOOKUP($O184, USSW!$N$7:$O$2000, 2, FALSE))","v":2.0886999999999998},{"$f":"IF($O184=\"\", \"\", VLOOKUP($O184, USSW!$P$7:$Q$2000, 2, FALSE))","v":2.1522000000000001},{"$f":"IF($O184=\"\", \"\", VLOOKUP($O184, USSW!$R$7:$S$2000, 2, FALSE))","v":2.2071000000000001},{"$f":"IF($O184=\"\", \"\", VLOOKUP($O184, USSW!$T$7:$U$2000, 2, FALSE))","v":2.2544}]
[null,{"$f":"IF(CAD!B182=\"\", \"\", CAD!B182)","v":"2017-04-28"},{"$f":"IF($B185=\"\", \"\", CAD!C182)","v":1.3653},{"$f":"IF($B185=\"\", \"\",VLOOKUP($B185, CAD!$D$7:$E$2000, 2, FALSE))","v":1.35649},{"$f":"IF($B185=\"\", \"\",VLOOKUP($B185, CAD!$F$7:$G$2000, 2, FALSE))","v":1.3466640000000001},{"$f":"IF($B185=\"\", \"\",VLOOKUP($B185, CAD!$H$7:$I$2000, 2, FALSE))","v":1.3376049999999999},{"$f":"IF($B185=\"\", \"\",VLOOKUP($B185, CAD!$J$7:$K$2000, 2, FALSE))","v":1.329315},{"$f":"IF($B185=\"\", \"\", VLOOKUP($B185, CAD!$L$7:$M$2000, 2, FALSE))","v":1.3227040000000001},{"$f":"IF($B185=\"\", \"\", VLOOKUP($B185, CAD!$N$7:$O$2000, 2, FALSE))","v":1.31671},{"$f":"IF($B185=\"\", \"\", VLOOKUP($B185, CAD!$P$7:$Q$2000, 2, FALSE))","v":1.312705},{"$f":"IF($B185=\"\", \"\", VLOOKUP($B185, CAD!$R$7:$S$2000, 2, FALSE))","v":1.3106949999999999},{"$f":"IF($B185=\"\", \"\", VLOOKUP($B185, CAD!$T$7:$U$2000, 2, FALSE))","v":1.3107200000000001},{"$f":"IF($B185=\"\", \"\", VLOOKUP($B185, CAD!$V$7:$W$2000, 2, FALSE))","v":1.312845},null,{"$f":"IF(USSW!B182=\"\", \"\", USSW!B182)","v":"2017-04-27"},{"$f":"IF($O185=\"\", \"\", USSW!C182)","v":1.3815},{"$f":"IF($O185=\"\", \"\", VLOOKUP($O185, USSW!$D$7:$E$2000, 2, FALSE))","v":1.5656000000000001},{"$f":"IF($O185=\"\", \"\", VLOOKUP($O185, USSW!$F$7:$G$2000, 2, FALSE))","v":1.7145999999999999},{"$f":"IF($O185=\"\", \"\", VLOOKUP($O185, USSW!$H$7:$I$2000, 2, FALSE))","v":1.8367},{"$f":"IF($O185=\"\", \"\", VLOOKUP($O185, USSW!$J$7:$K$2000, 2, FALSE))","v":1.9393},{"$f":"IF($O185=\"\", \"\", VLOOKUP($O185, USSW!$L$7:$M$2000, 2, FALSE))","v":2.0247999999999999},{"$f":"IF($O185=\"\", \"\", VLOOKUP($O185, USSW!$N$7:$O$2000, 2, FALSE))","v":2.0992000000000002},{"$f":"IF($O185=\"\", \"\", VLOOKUP($O185, USSW!$P$7:$Q$2000, 2, FALSE))","v":2.1633},{"$f":"IF($O185=\"\", \"\", VLOOKUP($O185, USSW!$R$7:$S$2000, 2, FALSE))","v":2.2187999999999999},{"$f":"IF($O185=\"\", \"\", VLOOKUP($O185, USSW!$T$7:$U$2000, 2, FALSE))","v":2.2669999999999999}]
[null,{"$f":"IF(CAD!B183=\"\", \"\", CAD!B183)","v":"2017-04-27"},{"$f":"IF($B186=\"\", \"\", CAD!C183)","v":1.3633},{"$f":"IF($B186=\"\", \"\",VLOOKUP($B186, CAD!$D$7:$E$2000, 2, FALSE))","v":1.3546180000000001},{"$f":"IF($B186=\"\", \"\",VLOOKUP($B186, CAD!$F$7:$G$2000, 2, FALSE))","v":1.3452519999999999},{"$f":"IF($B186=\"\", \"\",VLOOKUP($B186, CAD!$H$7:$I$2000, 2, FALSE))","v":1.336805},{"$f":"IF($B186=\"\", \"\",VLOOKUP($B186, CAD!$J$7:$K$2000, 2, FALSE))","v":1.328435},{"$f":"IF($B186=\"\", \"\", VLOOKUP($B186, CAD!$L$7:$M$2000, 2, FALSE))","v":1.321906},{"$f":"IF($B186=\"\", \"\", VLOOKUP($B186, CAD!$N$7:$O$2000, 2, FALSE))","v":1.3155650000000001},{"$f":"IF($B186=\"\", \"\", VLOOKUP($B186, CAD!$P$7:$Q$2000, 2, FALSE))","v":1.3112900000000001},{"$f":"IF($B186=\"\", \"\", VLOOKUP($B186, CAD!$R$7:$S$2000, 2, FALSE))","v":1.3093250000000001},{"$f":"IF($B186=\"\", \"\", VLOOKUP($B186, CAD!$T$7:$U$2000, 2, FALSE))","v":1.3093950000000001},{"$f":"IF($B186=\"\", \"\", VLOOKUP($B186, CAD!$V$7:$W$2000, 2, FALSE))","v":1.3112699999999999},null,{"$f":"IF(USSW!B183=\"\", \"\", USSW!B183)","v":"2017-04-26"},{"$f":"IF($O186=\"\", \"\", USSW!C183)","v":1.3975},{"$f":"IF($O186=\"\", \"\", VLOOKUP($O186, USSW!$D$7:$E$2000, 2, FALSE))","v":1.5846},{"$f":"IF($O186=\"\", \"\", VLOOKUP($O186, USSW!$F$7:$G$2000, 2, FALSE))","v":1.7355},{"$f":"IF($O186=\"\", \"\", VLOOKUP($O186, USSW!$H$7:$I$2000, 2, FALSE))","v":1.8548},{"$f":"IF($O186=\"\", \"\", VLOOKUP($O186, USSW!$J$7:$K$2000, 2, FALSE))","v":1.9562999999999999},{"$f":"IF($O186=\"\", \"\", VLOOKUP($O186, USSW!$L$7:$M$2000, 2, FALSE))","v":2.0404},{"$f":"IF($O186=\"\", \"\", VLOOKUP($O186, USSW!$N$7:$O$2000, 2, FALSE))","v":2.1147999999999998},{"$f":"IF($O186=\"\", \"\", VLOOKUP($O186, USSW!$P$7:$Q$2000, 2, FALSE))","v":2.1779000000000002},{"$f":"IF($O186=\"\", \"\", VLOOKUP($O186, USSW!$R$7:$S$2000, 2, FALSE))","v":2.2328000000000001},{"$f":"IF($O186=\"\", \"\", VLOOKUP($O186, USSW!$T$7:$U$2000, 2, FALSE))","v":2.2799999999999998}]
[null,{"$f":"IF(CAD!B184=\"\", \"\", CAD!B184)","v":"2017-04-26"},{"$f":"IF($B187=\"\", \"\", CAD!C184)","v":1.3616999999999999},{"$f":"IF($B187=\"\", \"\",VLOOKUP($B187, CAD!$D$7:$E$2000, 2, FALSE))","v":1.3530150000000001},{"$f":"IF($B187=\"\", \"\",VLOOKUP($B187, CAD!$F$7:$G$2000, 2, FALSE))","v":1.34331},{"$f":"IF($B187=\"\", \"\",VLOOKUP($B187, CAD!$H$7:$I$2000, 2, FALSE))","v":1.3340749999999999},{"$f":"IF($B187=\"\", \"\",VLOOKUP($B187, CAD!$J$7:$K$2000, 2, FALSE))","v":1.3258099999999999},{"$f":"IF($B187=\"\", \"\", VLOOKUP($B187, CAD!$L$7:$M$2000, 2, FALSE))","v":1.3182100000000001},{"$f":"IF($B187=\"\", \"\", VLOOKUP($B187, CAD!$N$7:$O$2000, 2, FALSE))","v":1.31213},{"$f":"IF($B187=\"\", \"\", VLOOKUP($B187, CAD!$P$7:$Q$2000, 2, FALSE))","v":1.307795},{"$f":"IF($B187=\"\", \"\", VLOOKUP($B187, CAD!$R$7:$S$2000, 2, FALSE))","v":1.30505},{"$f":"IF($B187=\"\", \"\", VLOOKUP($B187, CAD!$T$7:$U$2000, 2, FALSE))","v":1.3048999999999999},{"$f":"IF($B187=\"\", \"\", VLOOKUP($B187, CAD!$V$7:$W$2000, 2, FALSE))","v":1.30585},null,{"$f":"IF(USSW!B184=\"\", \"\", USSW!B184)","v":"2017-04-25"},{"$f":"IF($O187=\"\", \"\", USSW!C184)","v":1.4083000000000001},{"$f":"IF($O187=\"\", \"\", VLOOKUP($O187, USSW!$D$7:$E$2000, 2, FALSE))","v":1.6028},{"$f":"IF($O187=\"\", \"\", VLOOKUP($O187, USSW!$F$7:$G$2000, 2, FALSE))","v":1.7583},{"$f":"IF($O187=\"\", \"\", VLOOKUP($O187, USSW!$H$7:$I$2000, 2, FALSE))","v":1.8827},{"$f":"IF($O187=\"\", \"\", VLOOKUP($O187, USSW!$J$7:$K$2000, 2, FALSE))","v":1.9867999999999999},{"$f":"IF($O187=\"\", \"\", VLOOKUP($O187, USSW!$L$7:$M$2000, 2, FALSE))","v":2.0731999999999999},{"$f":"IF($O187=\"\", \"\", VLOOKUP($O187, USSW!$N$7:$O$2000, 2, FALSE))","v":2.1488},{"$f":"IF($O187=\"\", \"\", VLOOKUP($O187, USSW!$P$7:$Q$2000, 2, FALSE))","v":2.2109000000000001},{"$f":"IF($O187=\"\", \"\", VLOOKUP($O187, USSW!$R$7:$S$2000, 2, FALSE))","v":2.2656000000000001},{"$f":"IF($O187=\"\", \"\", VLOOKUP($O187, USSW!$T$7:$U$2000, 2, FALSE))","v":2.3155000000000001}]
[null,{"$f":"IF(CAD!B185=\"\", \"\", CAD!B185)","v":"2017-04-25"},{"$f":"IF($B188=\"\", \"\", CAD!C185)","v":1.3572},{"$f":"IF($B188=\"\", \"\",VLOOKUP($B188, CAD!$D$7:$E$2000, 2, FALSE))","v":1.348519},{"$f":"IF($B188=\"\", \"\",VLOOKUP($B188, CAD!$F$7:$G$2000, 2, FALSE))","v":1.33918},{"$f":"IF($B188=\"\", \"\",VLOOKUP($B188, CAD!$H$7:$I$2000, 2, FALSE))","v":1.3293699999999999},{"$f":"IF($B188=\"\", \"\",VLOOKUP($B188, CAD!$J$7:$K$2000, 2, FALSE))","v":1.3201799999999999},{"$f":"IF($B188=\"\", \"\", VLOOKUP($B188, CAD!$L$7:$M$2000, 2, FALSE))","v":1.3132839999999999},{"$f":"IF($B188=\"\", \"\", VLOOKUP($B188, CAD!$N$7:$O$2000, 2, FALSE))","v":1.3059700000000001},{"$f":"IF($B188=\"\", \"\", VLOOKUP($B188, CAD!$P$7:$Q$2000, 2, FALSE))","v":1.3013300000000001},{"$f":"IF($B188=\"\", \"\", VLOOKUP($B188, CAD!$R$7:$S$2000, 2, FALSE))","v":1.29837},{"$f":"IF($B188=\"\", \"\", VLOOKUP($B188, CAD!$T$7:$U$2000, 2, FALSE))","v":1.29783},{"$f":"IF($B188=\"\", \"\", VLOOKUP($B188, CAD!$V$7:$W$2000, 2, FALSE))","v":1.2994000000000001},null,{"$f":"IF(USSW!B185=\"\", \"\", USSW!B185)","v":"2017-04-24"},{"$f":"IF($O188=\"\", \"\", USSW!C185)","v":1.3804000000000001},{"$f":"IF($O188=\"\", \"\", VLOOKUP($O188, USSW!$D$7:$E$2000, 2, FALSE))","v":1.5644},{"$f":"IF($O188=\"\", \"\", VLOOKUP($O188, USSW!$F$7:$G$2000, 2, FALSE))","v":1.7135},{"$f":"IF($O188=\"\", \"\", VLOOKUP($O188, USSW!$H$7:$I$2000, 2, FALSE))","v":1.8328},{"$f":"IF($O188=\"\", \"\", VLOOKUP($O188, USSW!$J$7:$K$2000, 2, FALSE))","v":1.9300999999999999},{"$f":"IF($O188=\"\", \"\", VLOOKUP($O188, USSW!$L$7:$M$2000, 2, FALSE))","v":2.0154999999999998},{"$f":"IF($O188=\"\", \"\", VLOOKUP($O188, USSW!$N$7:$O$2000, 2, FALSE))","v":2.0871},{"$f":"IF($O188=\"\", \"\", VLOOKUP($O188, USSW!$P$7:$Q$2000, 2, FALSE))","v":2.1478000000000002},{"$f":"IF($O188=\"\", \"\", VLOOKUP($O188, USSW!$R$7:$S$2000, 2, FALSE))","v":2.2012},{"$f":"IF($O188=\"\", \"\", VLOOKUP($O188, USSW!$T$7:$U$2000, 2, FALSE))","v":2.2486000000000002}]
[null,{"$f":"IF(CAD!B186=\"\", \"\", CAD!B186)","v":"2017-04-24"},{"$f":"IF($B189=\"\", \"\", CAD!C186)","v":1.3501000000000001},{"$f":"IF($B189=\"\", \"\",VLOOKUP($B189, CAD!$D$7:$E$2000, 2, FALSE))","v":1.341755},{"$f":"IF($B189=\"\", \"\",VLOOKUP($B189, CAD!$F$7:$G$2000, 2, FALSE))","v":1.3325199999999999},{"$f":"IF($B189=\"\", \"\",VLOOKUP($B189, CAD!$H$7:$I$2000, 2, FALSE))","v":1.32395},{"$f":"IF($B189=\"\", \"\",VLOOKUP($B189, CAD!$J$7:$K$2000, 2, FALSE))","v":1.31497},{"$f":"IF($B189=\"\", \"\", VLOOKUP($B189, CAD!$L$7:$M$2000, 2, FALSE))","v":1.3082100000000001},{"$f":"IF($B189=\"\", \"\", VLOOKUP($B189, CAD!$N$7:$O$2000, 2, FALSE))","v":1.30128},{"$f":"IF($B189=\"\", \"\", VLOOKUP($B189, CAD!$P$7:$Q$2000, 2, FALSE))","v":1.2970200000000001},{"$f":"IF($B189=\"\", \"\", VLOOKUP($B189, CAD!$R$7:$S$2000, 2, FALSE))","v":1.29419},{"$f":"IF($B189=\"\", \"\", VLOOKUP($B189, CAD!$T$7:$U$2000, 2, FALSE))","v":1.2938099999999999},{"$f":"IF($B189=\"\", \"\", VLOOKUP($B189, CAD!$V$7:$W$2000, 2, FALSE))","v":1.2948500000000001},null,{"$f":"IF(USSW!B186=\"\", \"\", USSW!B186)","v":"2017-04-21"},{"$f":"IF($O189=\"\", \"\", USSW!C186)","v":1.355},{"$f":"IF($O189=\"\", \"\", VLOOKUP($O189, USSW!$D$7:$E$2000, 2, FALSE))","v":1.5323},{"$f":"IF($O189=\"\", \"\", VLOOKUP($O189, USSW!$F$7:$G$2000, 2, FALSE))","v":1.6797},{"$f":"IF($O189=\"\", \"\", VLOOKUP($O189, USSW!$H$7:$I$2000, 2, FALSE))","v":1.8012999999999999},{"$f":"IF($O189=\"\", \"\", VLOOKUP($O189, USSW!$J$7:$K$2000, 2, FALSE))","v":1.9013},{"$f":"IF($O189=\"\", \"\", VLOOKUP($O189, USSW!$L$7:$M$2000, 2, FALSE))","v":1.9838},{"$f":"IF($O189=\"\", \"\", VLOOKUP($O189, USSW!$N$7:$O$2000, 2, FALSE))","v":2.0552999999999999},{"$f":"IF($O189=\"\", \"\", VLOOKUP($O189, USSW!$P$7:$Q$2000, 2, FALSE))","v":2.1145999999999998},{"$f":"IF($O189=\"\", \"\", VLOOKUP($O189, USSW!$R$7:$S$2000, 2, FALSE))","v":2.1661999999999999},{"$f":"IF($O189=\"\", \"\", VLOOKUP($O189, USSW!$T$7:$U$2000, 2, FALSE))","v":2.2145000000000001}]
[null,{"$f":"IF(CAD!B187=\"\", \"\", CAD!B187)","v":"2017-04-21"},{"$f":"IF($B190=\"\", \"\", CAD!C187)","v":1.3498000000000001},{"$f":"IF($B190=\"\", \"\",VLOOKUP($B190, CAD!$D$7:$E$2000, 2, FALSE))","v":1.3417870000000001},{"$f":"IF($B190=\"\", \"\",VLOOKUP($B190, CAD!$F$7:$G$2000, 2, FALSE))","v":1.3327100000000001},{"$f":"IF($B190=\"\", \"\",VLOOKUP($B190, CAD!$H$7:$I$2000, 2, FALSE))","v":1.32345},{"$f":"IF($B190=\"\", \"\",VLOOKUP($B190, CAD!$J$7:$K$2000, 2, FALSE))","v":1.3147899999999999},{"$f":"IF($B190=\"\", \"\", VLOOKUP($B190, CAD!$L$7:$M$2000, 2, FALSE))","v":1.30752},{"$f":"IF($B190=\"\", \"\", VLOOKUP($B190, CAD!$N$7:$O$2000, 2, FALSE))","v":1.30166},{"$f":"IF($B190=\"\", \"\", VLOOKUP($B190, CAD!$P$7:$Q$2000, 2, FALSE))","v":1.29803},{"$f":"IF($B190=\"\", \"\", VLOOKUP($B190, CAD!$R$7:$S$2000, 2, FALSE))","v":1.29549},{"$f":"IF($B190=\"\", \"\", VLOOKUP($B190, CAD!$T$7:$U$2000, 2, FALSE))","v":1.29535},{"$f":"IF($B190=\"\", \"\", VLOOKUP($B190, CAD!$V$7:$W$2000, 2, FALSE))","v":1.2977099999999999},null,{"$f":"IF(USSW!B187=\"\", \"\", USSW!B187)","v":"2017-04-20"},{"$f":"IF($O190=\"\", \"\", USSW!C187)","v":1.355},{"$f":"IF($O190=\"\", \"\", VLOOKUP($O190, USSW!$D$7:$E$2000, 2, FALSE))","v":1.5276000000000001},{"$f":"IF($O190=\"\", \"\", VLOOKUP($O190, USSW!$F$7:$G$2000, 2, FALSE))","v":1.6727000000000001},{"$f":"IF($O190=\"\", \"\", VLOOKUP($O190, USSW!$H$7:$I$2000, 2, FALSE))","v":1.7916000000000001},{"$f":"IF($O190=\"\", \"\", VLOOKUP($O190, USSW!$J$7:$K$2000, 2, FALSE))","v":1.889},{"$f":"IF($O190=\"\", \"\", VLOOKUP($O190, USSW!$L$7:$M$2000, 2, FALSE))","v":1.97},{"$f":"IF($O190=\"\", \"\", VLOOKUP($O190, USSW!$N$7:$O$2000, 2, FALSE))","v":2.0413000000000001},{"$f":"IF($O190=\"\", \"\", VLOOKUP($O190, USSW!$P$7:$Q$2000, 2, FALSE))","v":2.1021000000000001},{"$f":"IF($O190=\"\", \"\", VLOOKUP($O190, USSW!$R$7:$S$2000, 2, FALSE))","v":2.1543000000000001},{"$f":"IF($O190=\"\", \"\", VLOOKUP($O190, USSW!$T$7:$U$2000, 2, FALSE))","v":2.2033}]
[null,{"$f":"IF(CAD!B188=\"\", \"\", CAD!B188)","v":"2017-04-20"},{"$f":"IF($B191=\"\", \"\", CAD!C188)","v":1.3469},{"$f":"IF($B191=\"\", \"\",VLOOKUP($B191, CAD!$D$7:$E$2000, 2, FALSE))","v":1.3389850000000001},{"$f":"IF($B191=\"\", \"\",VLOOKUP($B191, CAD!$F$7:$G$2000, 2, FALSE))","v":1.33022},{"$f":"IF($B191=\"\", \"\",VLOOKUP($B191, CAD!$H$7:$I$2000, 2, FALSE))","v":1.32155},{"$f":"IF($B191=\"\", \"\",VLOOKUP($B191, CAD!$J$7:$K$2000, 2, FALSE))","v":1.31332},{"$f":"IF($B191=\"\", \"\", VLOOKUP($B191, CAD!$L$7:$M$2000, 2, FALSE))","v":1.3060350000000001},{"$f":"IF($B191=\"\", \"\", VLOOKUP($B191, CAD!$N$7:$O$2000, 2, FALSE))","v":1.30063},{"$f":"IF($B191=\"\", \"\", VLOOKUP($B191, CAD!$P$7:$Q$2000, 2, FALSE))","v":1.29708},{"$f":"IF($B191=\"\", \"\", VLOOKUP($B191, CAD!$R$7:$S$2000, 2, FALSE))","v":1.2949299999999999},{"$f":"IF($B191=\"\", \"\", VLOOKUP($B191, CAD!$T$7:$U$2000, 2, FALSE))","v":1.2957399999999999},{"$f":"IF($B191=\"\", \"\", VLOOKUP($B191, CAD!$V$7:$W$2000, 2, FALSE))","v":1.2976000000000001},null,{"$f":"IF(USSW!B188=\"\", \"\", USSW!B188)","v":"2017-04-19"},{"$f":"IF($O191=\"\", \"\", USSW!C188)","v":1.3379000000000001},{"$f":"IF($O191=\"\", \"\", VLOOKUP($O191, USSW!$D$7:$E$2000, 2, FALSE))","v":1.4983},{"$f":"IF($O191=\"\", \"\", VLOOKUP($O191, USSW!$F$7:$G$2000, 2, FALSE))","v":1.6365000000000001},{"$f":"IF($O191=\"\", \"\", VLOOKUP($O191, USSW!$H$7:$I$2000, 2, FALSE))","v":1.7524},{"$f":"IF($O191=\"\", \"\", VLOOKUP($O191, USSW!$J$7:$K$2000, 2, FALSE))","v":1.8506},{"$f":"IF($O191=\"\", \"\", VLOOKUP($O191, USSW!$L$7:$M$2000, 2, FALSE))","v":1.9295},{"$f":"IF($O191=\"\", \"\", VLOOKUP($O191, USSW!$N$7:$O$2000, 2, FALSE))","v":2},{"$f":"IF($O191=\"\", \"\", VLOOKUP($O191, USSW!$P$7:$Q$2000, 2, FALSE))","v":2.0617999999999999},{"$f":"IF($O191=\"\", \"\", VLOOKUP($O191, USSW!$R$7:$S$2000, 2, FALSE))","v":2.1158000000000001},{"$f":"IF($O191=\"\", \"\", VLOOKUP($O191, USSW!$T$7:$U$2000, 2, FALSE))","v":2.1659999999999999}]
[null,{"$f":"IF(CAD!B189=\"\", \"\", CAD!B189)","v":"2017-04-19"},{"$f":"IF($B192=\"\", \"\", CAD!C189)","v":1.3485},{"$f":"IF($B192=\"\", \"\",VLOOKUP($B192, CAD!$D$7:$E$2000, 2, FALSE))","v":1.340805},{"$f":"IF($B192=\"\", \"\",VLOOKUP($B192, CAD!$F$7:$G$2000, 2, FALSE))","v":1.332355},{"$f":"IF($B192=\"\", \"\",VLOOKUP($B192, CAD!$H$7:$I$2000, 2, FALSE))","v":1.32395},{"$f":"IF($B192=\"\", \"\",VLOOKUP($B192, CAD!$J$7:$K$2000, 2, FALSE))","v":1.31586},{"$f":"IF($B192=\"\", \"\", VLOOKUP($B192, CAD!$L$7:$M$2000, 2, FALSE))","v":1.308805},{"$f":"IF($B192=\"\", \"\", VLOOKUP($B192, CAD!$N$7:$O$2000, 2, FALSE))","v":1.3039400000000001},{"$f":"IF($B192=\"\", \"\", VLOOKUP($B192, CAD!$P$7:$Q$2000, 2, FALSE))","v":1.30019},{"$f":"IF($B192=\"\", \"\", VLOOKUP($B192, CAD!$R$7:$S$2000, 2, FALSE))","v":1.2984599999999999},{"$f":"IF($B192=\"\", \"\", VLOOKUP($B192, CAD!$T$7:$U$2000, 2, FALSE))","v":1.2989299999999999},{"$f":"IF($B192=\"\", \"\", VLOOKUP($B192, CAD!$V$7:$W$2000, 2, FALSE))","v":1.3010999999999999},null,{"$f":"IF(USSW!B189=\"\", \"\", USSW!B189)","v":"2017-04-18"},{"$f":"IF($O192=\"\", \"\", USSW!C189)","v":1.3240000000000001},{"$f":"IF($O192=\"\", \"\", VLOOKUP($O192, USSW!$D$7:$E$2000, 2, FALSE))","v":1.4796},{"$f":"IF($O192=\"\", \"\", VLOOKUP($O192, USSW!$F$7:$G$2000, 2, FALSE))","v":1.6108},{"$f":"IF($O192=\"\", \"\", VLOOKUP($O192, USSW!$H$7:$I$2000, 2, FALSE))","v":1.7211000000000001},{"$f":"IF($O192=\"\", \"\", VLOOKUP($O192, USSW!$J$7:$K$2000, 2, FALSE))","v":1.8127},{"$f":"IF($O192=\"\", \"\", VLOOKUP($O192, USSW!$L$7:$M$2000, 2, FALSE))","v":1.8925000000000001},{"$f":"IF($O192=\"\", \"\", VLOOKUP($O192, USSW!$N$7:$O$2000, 2, FALSE))","v":1.9624999999999999},{"$f":"IF($O192=\"\", \"\", VLOOKUP($O192, USSW!$P$7:$Q$2000, 2, FALSE))","v":2.0230000000000001},{"$f":"IF($O192=\"\", \"\", VLOOKUP($O192, USSW!$R$7:$S$2000, 2, FALSE))","v":2.0788000000000002},{"$f":"IF($O192=\"\", \"\", VLOOKUP($O192, USSW!$T$7:$U$2000, 2, FALSE))","v":2.1280000000000001}]
[null,{"$f":"IF(CAD!B190=\"\", \"\", CAD!B190)","v":"2017-04-18"},{"$f":"IF($B193=\"\", \"\", CAD!C190)","v":1.3380000000000001},{"$f":"IF($B193=\"\", \"\",VLOOKUP($B193, CAD!$D$7:$E$2000, 2, FALSE))","v":1.3305100000000001},{"$f":"IF($B193=\"\", \"\",VLOOKUP($B193, CAD!$F$7:$G$2000, 2, FALSE))","v":1.3221499999999999},{"$f":"IF($B193=\"\", \"\",VLOOKUP($B193, CAD!$H$7:$I$2000, 2, FALSE))","v":1.315458},{"$f":"IF($B193=\"\", \"\",VLOOKUP($B193, CAD!$J$7:$K$2000, 2, FALSE))","v":1.3064100000000001},{"$f":"IF($B193=\"\", \"\", VLOOKUP($B193, CAD!$L$7:$M$2000, 2, FALSE))","v":1.300781},{"$f":"IF($B193=\"\", \"\", VLOOKUP($B193, CAD!$N$7:$O$2000, 2, FALSE))","v":1.2941199999999999},{"$f":"IF($B193=\"\", \"\", VLOOKUP($B193, CAD!$P$7:$Q$2000, 2, FALSE))","v":1.2905800000000001},{"$f":"IF($B193=\"\", \"\", VLOOKUP($B193, CAD!$R$7:$S$2000, 2, FALSE))","v":1.2892749999999999},{"$f":"IF($B193=\"\", \"\", VLOOKUP($B193, CAD!$T$7:$U$2000, 2, FALSE))","v":1.29003},{"$f":"IF($B193=\"\", \"\", VLOOKUP($B193, CAD!$V$7:$W$2000, 2, FALSE))","v":1.29129},null,{"$f":"IF(USSW!B190=\"\", \"\", USSW!B190)","v":"2017-04-17"},{"$f":"IF($O193=\"\", \"\", USSW!C190)","v":1.3554999999999999},{"$f":"IF($O193=\"\", \"\", VLOOKUP($O193, USSW!$D$7:$E$2000, 2, FALSE))","v":1.5331999999999999},{"$f":"IF($O193=\"\", \"\", VLOOKUP($O193, USSW!$F$7:$G$2000, 2, FALSE))","v":1.6753},{"$f":"IF($O193=\"\", \"\", VLOOKUP($O193, USSW!$H$7:$I$2000, 2, FALSE))","v":1.7904},{"$f":"IF($O193=\"\", \"\", VLOOKUP($O193, USSW!$J$7:$K$2000, 2, FALSE))","v":1.8855},{"$f":"IF($O193=\"\", \"\", VLOOKUP($O193, USSW!$L$7:$M$2000, 2, FALSE))","v":1.9689000000000001},{"$f":"IF($O193=\"\", \"\", VLOOKUP($O193, USSW!$N$7:$O$2000, 2, FALSE))","v":2.0415000000000001},{"$f":"IF($O193=\"\", \"\", VLOOKUP($O193, USSW!$P$7:$Q$2000, 2, FALSE))","v":2.1059999999999999},{"$f":"IF($O193=\"\", \"\", VLOOKUP($O193, USSW!$R$7:$S$2000, 2, FALSE))","v":2.1619999999999999},{"$f":"IF($O193=\"\", \"\", VLOOKUP($O193, USSW!$T$7:$U$2000, 2, FALSE))","v":2.2115999999999998}]
[null,{"$f":"IF(CAD!B191=\"\", \"\", CAD!B191)","v":"2017-04-17"},{"$f":"IF($B194=\"\", \"\", CAD!C191)","v":1.3317000000000001},{"$f":"IF($B194=\"\", \"\",VLOOKUP($B194, CAD!$D$7:$E$2000, 2, FALSE))","v":1.3240000000000001},{"$f":"IF($B194=\"\", \"\",VLOOKUP($B194, CAD!$F$7:$G$2000, 2, FALSE))","v":1.315868},{"$f":"IF($B194=\"\", \"\",VLOOKUP($B194, CAD!$H$7:$I$2000, 2, FALSE))","v":1.30844},{"$f":"IF($B194=\"\", \"\",VLOOKUP($B194, CAD!$J$7:$K$2000, 2, FALSE))","v":1.3017350000000001},{"$f":"IF($B194=\"\", \"\", VLOOKUP($B194, CAD!$L$7:$M$2000, 2, FALSE))","v":1.295466},{"$f":"IF($B194=\"\", \"\", VLOOKUP($B194, CAD!$N$7:$O$2000, 2, FALSE))","v":1.2893600000000001},{"$f":"IF($B194=\"\", \"\", VLOOKUP($B194, CAD!$P$7:$Q$2000, 2, FALSE))","v":1.2854699999999999},{"$f":"IF($B194=\"\", \"\", VLOOKUP($B194, CAD!$R$7:$S$2000, 2, FALSE))","v":1.28301},{"$f":"IF($B194=\"\", \"\", VLOOKUP($B194, CAD!$T$7:$U$2000, 2, FALSE))","v":1.2826200000000001},{"$f":"IF($B194=\"\", \"\", VLOOKUP($B194, CAD!$V$7:$W$2000, 2, FALSE))","v":1.28423},null,{"$f":"IF(USSW!B191=\"\", \"\", USSW!B191)","v":"2017-04-14"},{"$f":"IF($O194=\"\", \"\", USSW!C191)","v":1.3674999999999999},{"$f":"IF($O194=\"\", \"\", VLOOKUP($O194, USSW!$D$7:$E$2000, 2, FALSE))","v":{"$error":"#N/A"}},{"$f":"IF($O194=\"\", \"\", VLOOKUP($O194, USSW!$F$7:$G$2000, 2, FALSE))","v":{"$error":"#N/A"}},{"$f":"IF($O194=\"\", \"\", VLOOKUP($O194, USSW!$H$7:$I$2000, 2, FALSE))","v":{"$error":"#N/A"}},{"$f":"IF($O194=\"\", \"\", VLOOKUP($O194, USSW!$J$7:$K$2000, 2, FALSE))","v":{"$error":"#N/A"}},{"$f":"IF($O194=\"\", \"\", VLOOKUP($O194, USSW!$L$7:$M$2000, 2, FALSE))","v":{"$error":"#N/A"}},{"$f":"IF($O194=\"\", \"\", VLOOKUP($O194, USSW!$N$7:$O$2000, 2, FALSE))","v":{"$error":"#N/A"}},{"$f":"IF($O194=\"\", \"\", VLOOKUP($O194, USSW!$P$7:$Q$2000, 2, FALSE))","v":{"$error":"#N/A"}},{"$f":"IF($O194=\"\", \"\", VLOOKUP($O194, USSW!$R$7:$S$2000, 2, FALSE))","v":{"$error":"#N/A"}},{"$f":"IF($O194=\"\", \"\", VLOOKUP($O194, USSW!$T$7:$U$2000, 2, FALSE))","v":2.2105000000000001}]
[null,{"$f":"IF(CAD!B192=\"\", \"\", CAD!B192)","v":"2017-04-14"},{"$f":"IF($B195=\"\", \"\", CAD!C192)","v":1.3325},{"$f":"IF($B195=\"\", \"\",VLOOKUP($B195, CAD!$D$7:$E$2000, 2, FALSE))","v":1.3249150000000001},{"$f":"IF($B195=\"\", \"\",VLOOKUP($B195, CAD!$F$7:$G$2000, 2, FALSE))","v":1.3163339999999999},{"$f":"IF($B195=\"\", \"\",VLOOKUP($B195, CAD!$H$7:$I$2000, 2, FALSE))","v":1.30941},{"$f":"IF($B195=\"\", \"\",VLOOKUP($B195, CAD!$J$7:$K$2000, 2, FALSE))","v":1.3020750000000001},{"$f":"IF($B195=\"\", \"\", VLOOKUP($B195, CAD!$L$7:$M$2000, 2, FALSE))","v":1.296055},{"$f":"IF($B195=\"\", \"\", VLOOKUP($B195, CAD!$N$7:$O$2000, 2, FALSE))","v":1.2911300000000001},{"$f":"IF($B195=\"\", \"\", VLOOKUP($B195, CAD!$P$7:$Q$2000, 2, FALSE))","v":1.28745},{"$f":"IF($B195=\"\", \"\", VLOOKUP($B195, CAD!$R$7:$S$2000, 2, FALSE))","v":1.2851699999999999},{"$f":"IF($B195=\"\", \"\", VLOOKUP($B195, CAD!$T$7:$U$2000, 2, FALSE))","v":1.28498},{"$f":"IF($B195=\"\", \"\", VLOOKUP($B195, CAD!$V$7:$W$2000, 2, FALSE))","v":1.2868299999999999},null,{"$f":"IF(USSW!B192=\"\", \"\", USSW!B192)","v":"2017-04-13"},{"$f":"IF($O195=\"\", \"\", USSW!C192)","v":1.3680000000000001},{"$f":"IF($O195=\"\", \"\", VLOOKUP($O195, USSW!$D$7:$E$2000, 2, FALSE))","v":1.5329999999999999},{"$f":"IF($O195=\"\", \"\", VLOOKUP($O195, USSW!$F$7:$G$2000, 2, FALSE))","v":1.6735},{"$f":"IF($O195=\"\", \"\", VLOOKUP($O195, USSW!$H$7:$I$2000, 2, FALSE))","v":1.7885},{"$f":"IF($O195=\"\", \"\", VLOOKUP($O195, USSW!$J$7:$K$2000, 2, FALSE))","v":1.8741000000000001},{"$f":"IF($O195=\"\", \"\", VLOOKUP($O195, USSW!$L$7:$M$2000, 2, FALSE))","v":1.9664999999999999},{"$f":"IF($O195=\"\", \"\", VLOOKUP($O195, USSW!$N$7:$O$2000, 2, FALSE))","v":2.0415000000000001},{"$f":"IF($O195=\"\", \"\", VLOOKUP($O195, USSW!$P$7:$Q$2000, 2, FALSE))","v":2.1019999999999999},{"$f":"IF($O195=\"\", \"\", VLOOKUP($O195, USSW!$R$7:$S$2000, 2, FALSE))","v":2.1539999999999999},{"$f":"IF($O195=\"\", \"\", VLOOKUP($O195, USSW!$T$7:$U$2000, 2, FALSE))","v":2.2090000000000001}]
[null,{"$f":"IF(CAD!B193=\"\", \"\", CAD!B193)","v":"2017-04-13"},{"$f":"IF($B196=\"\", \"\", CAD!C193)","v":1.3329},{"$f":"IF($B196=\"\", \"\",VLOOKUP($B196, CAD!$D$7:$E$2000, 2, FALSE))","v":1.3252250000000001},{"$f":"IF($B196=\"\", \"\",VLOOKUP($B196, CAD!$F$7:$G$2000, 2, FALSE))","v":1.316797},{"$f":"IF($B196=\"\", \"\",VLOOKUP($B196, CAD!$H$7:$I$2000, 2, FALSE))","v":1.3101970000000001},{"$f":"IF($B196=\"\", \"\",VLOOKUP($B196, CAD!$J$7:$K$2000, 2, FALSE))","v":1.3025549999999999},{"$f":"IF($B196=\"\", \"\", VLOOKUP($B196, CAD!$L$7:$M$2000, 2, FALSE))","v":1.2967880000000001},{"$f":"IF($B196=\"\", \"\", VLOOKUP($B196, CAD!$N$7:$O$2000, 2, FALSE))","v":1.29192},{"$f":"IF($B196=\"\", \"\", VLOOKUP($B196, CAD!$P$7:$Q$2000, 2, FALSE))","v":1.28782},{"$f":"IF($B196=\"\", \"\", VLOOKUP($B196, CAD!$R$7:$S$2000, 2, FALSE))","v":1.2855399999999999},{"$f":"IF($B196=\"\", \"\", VLOOKUP($B196, CAD!$T$7:$U$2000, 2, FALSE))","v":1.28539},{"$f":"IF($B196=\"\", \"\", VLOOKUP($B196, CAD!$V$7:$W$2000, 2, FALSE))","v":1.2872399999999999},null,{"$f":"IF(USSW!B193=\"\", \"\", USSW!B193)","v":"2017-04-12"},{"$f":"IF($O196=\"\", \"\", USSW!C193)","v":1.3524},{"$f":"IF($O196=\"\", \"\", VLOOKUP($O196, USSW!$D$7:$E$2000, 2, FALSE))","v":1.5210999999999999},{"$f":"IF($O196=\"\", \"\", VLOOKUP($O196, USSW!$F$7:$G$2000, 2, FALSE))","v":1.6656},{"$f":"IF($O196=\"\", \"\", VLOOKUP($O196, USSW!$H$7:$I$2000, 2, FALSE))","v":1.7809999999999999},{"$f":"IF($O196=\"\", \"\", VLOOKUP($O196, USSW!$J$7:$K$2000, 2, FALSE))","v":1.8754999999999999},{"$f":"IF($O196=\"\", \"\", VLOOKUP($O196, USSW!$L$7:$M$2000, 2, FALSE))","v":1.9597},{"$f":"IF($O196=\"\", \"\", VLOOKUP($O196, USSW!$N$7:$O$2000, 2, FALSE))","v":2.0333000000000001},{"$f":"IF($O196=\"\", \"\", VLOOKUP($O196, USSW!$P$7:$Q$2000, 2, FALSE))","v":2.0977000000000001},{"$f":"IF($O196=\"\", \"\", VLOOKUP($O196, USSW!$R$7:$S$2000, 2, FALSE))","v":2.1536},{"$f":"IF($O196=\"\", \"\", VLOOKUP($O196, USSW!$T$7:$U$2000, 2, FALSE))","v":2.2035999999999998}]
[null,{"$f":"IF(CAD!B194=\"\", \"\", CAD!B194)","v":"2017-04-12"},{"$f":"IF($B197=\"\", \"\", CAD!C194)","v":1.3253999999999999},{"$f":"IF($B197=\"\", \"\",VLOOKUP($B197, CAD!$D$7:$E$2000, 2, FALSE))","v":1.3179380000000001},{"$f":"IF($B197=\"\", \"\",VLOOKUP($B197, CAD!$F$7:$G$2000, 2, FALSE))","v":1.30985},{"$f":"IF($B197=\"\", \"\",VLOOKUP($B197, CAD!$H$7:$I$2000, 2, FALSE))","v":1.3032649999999999},{"$f":"IF($B197=\"\", \"\",VLOOKUP($B197, CAD!$J$7:$K$2000, 2, FALSE))","v":1.2953300000000001},{"$f":"IF($B197=\"\", \"\", VLOOKUP($B197, CAD!$L$7:$M$2000, 2, FALSE))","v":1.290562},{"$f":"IF($B197=\"\", \"\", VLOOKUP($B197, CAD!$N$7:$O$2000, 2, FALSE))","v":1.28569},{"$f":"IF($B197=\"\", \"\", VLOOKUP($B197, CAD!$P$7:$Q$2000, 2, FALSE))","v":1.28224},{"$f":"IF($B197=\"\", \"\", VLOOKUP($B197, CAD!$R$7:$S$2000, 2, FALSE))","v":1.279995},{"$f":"IF($B197=\"\", \"\", VLOOKUP($B197, CAD!$T$7:$U$2000, 2, FALSE))","v":1.2803599999999999},{"$f":"IF($B197=\"\", \"\", VLOOKUP($B197, CAD!$V$7:$W$2000, 2, FALSE))","v":1.28142},null,{"$f":"IF(USSW!B194=\"\", \"\", USSW!B194)","v":"2017-04-11"},{"$f":"IF($O197=\"\", \"\", USSW!C194)","v":1.3696999999999999},{"$f":"IF($O197=\"\", \"\", VLOOKUP($O197, USSW!$D$7:$E$2000, 2, FALSE))","v":1.5575000000000001},{"$f":"IF($O197=\"\", \"\", VLOOKUP($O197, USSW!$F$7:$G$2000, 2, FALSE))","v":1.7119},{"$f":"IF($O197=\"\", \"\", VLOOKUP($O197, USSW!$H$7:$I$2000, 2, FALSE))","v":1.8325},{"$f":"IF($O197=\"\", \"\", VLOOKUP($O197, USSW!$J$7:$K$2000, 2, FALSE))","v":1.9337},{"$f":"IF($O197=\"\", \"\", VLOOKUP($O197, USSW!$L$7:$M$2000, 2, FALSE))","v":2.0169999999999999},{"$f":"IF($O197=\"\", \"\", VLOOKUP($O197, USSW!$N$7:$O$2000, 2, FALSE))","v":2.0905999999999998},{"$f":"IF($O197=\"\", \"\", VLOOKUP($O197, USSW!$P$7:$Q$2000, 2, FALSE))","v":2.1524000000000001},{"$f":"IF($O197=\"\", \"\", VLOOKUP($O197, USSW!$R$7:$S$2000, 2, FALSE))","v":2.2082999999999999},{"$f":"IF($O197=\"\", \"\", VLOOKUP($O197, USSW!$T$7:$U$2000, 2, FALSE))","v":2.2574000000000001}]
[null,{"$f":"IF(CAD!B195=\"\", \"\", CAD!B195)","v":"2017-04-11"},{"$f":"IF($B198=\"\", \"\", CAD!C195)","v":1.3325},{"$f":"IF($B198=\"\", \"\",VLOOKUP($B198, CAD!$D$7:$E$2000, 2, FALSE))","v":1.3247469999999999},{"$f":"IF($B198=\"\", \"\",VLOOKUP($B198, CAD!$F$7:$G$2000, 2, FALSE))","v":1.3159700000000001},{"$f":"IF($B198=\"\", \"\",VLOOKUP($B198, CAD!$H$7:$I$2000, 2, FALSE))","v":1.30881},{"$f":"IF($B198=\"\", \"\",VLOOKUP($B198, CAD!$J$7:$K$2000, 2, FALSE))","v":1.3006200000000001},{"$f":"IF($B198=\"\", \"\", VLOOKUP($B198, CAD!$L$7:$M$2000, 2, FALSE))","v":1.2951520000000001},{"$f":"IF($B198=\"\", \"\", VLOOKUP($B198, CAD!$N$7:$O$2000, 2, FALSE))","v":1.28912},{"$f":"IF($B198=\"\", \"\", VLOOKUP($B198, CAD!$P$7:$Q$2000, 2, FALSE))","v":1.28532},{"$f":"IF($B198=\"\", \"\", VLOOKUP($B198, CAD!$R$7:$S$2000, 2, FALSE))","v":1.28328},{"$f":"IF($B198=\"\", \"\", VLOOKUP($B198, CAD!$T$7:$U$2000, 2, FALSE))","v":1.28329},{"$f":"IF($B198=\"\", \"\", VLOOKUP($B198, CAD!$V$7:$W$2000, 2, FALSE))","v":1.2855799999999999},null,{"$f":"IF(USSW!B195=\"\", \"\", USSW!B195)","v":"2017-04-10"},{"$f":"IF($O198=\"\", \"\", USSW!C195)","v":1.3905000000000001},{"$f":"IF($O198=\"\", \"\", VLOOKUP($O198, USSW!$D$7:$E$2000, 2, FALSE))","v":1.5985},{"$f":"IF($O198=\"\", \"\", VLOOKUP($O198, USSW!$F$7:$G$2000, 2, FALSE))","v":1.7654000000000001},{"$f":"IF($O198=\"\", \"\", VLOOKUP($O198, USSW!$H$7:$I$2000, 2, FALSE))","v":1.8953},{"$f":"IF($O198=\"\", \"\", VLOOKUP($O198, USSW!$J$7:$K$2000, 2, FALSE))","v":1.9990000000000001},{"$f":"IF($O198=\"\", \"\", VLOOKUP($O198, USSW!$L$7:$M$2000, 2, FALSE))","v":2.0859999999999999},{"$f":"IF($O198=\"\", \"\", VLOOKUP($O198, USSW!$N$7:$O$2000, 2, FALSE))","v":2.1616},{"$f":"IF($O198=\"\", \"\", VLOOKUP($O198, USSW!$P$7:$Q$2000, 2, FALSE))","v":2.2252999999999998},{"$f":"IF($O198=\"\", \"\", VLOOKUP($O198, USSW!$R$7:$S$2000, 2, FALSE))","v":2.2816999999999998},{"$f":"IF($O198=\"\", \"\", VLOOKUP($O198, USSW!$T$7:$U$2000, 2, FALSE))","v":2.3311000000000002}]
[null,{"$f":"IF(CAD!B196=\"\", \"\", CAD!B196)","v":"2017-04-10"},{"$f":"IF($B199=\"\", \"\", CAD!C196)","v":1.3326},{"$f":"IF($B199=\"\", \"\",VLOOKUP($B199, CAD!$D$7:$E$2000, 2, FALSE))","v":1.324765},{"$f":"IF($B199=\"\", \"\",VLOOKUP($B199, CAD!$F$7:$G$2000, 2, FALSE))","v":1.3159650000000001},{"$f":"IF($B199=\"\", \"\",VLOOKUP($B199, CAD!$H$7:$I$2000, 2, FALSE))","v":1.30775},{"$f":"IF($B199=\"\", \"\",VLOOKUP($B199, CAD!$J$7:$K$2000, 2, FALSE))","v":1.30003},{"$f":"IF($B199=\"\", \"\", VLOOKUP($B199, CAD!$L$7:$M$2000, 2, FALSE))","v":1.294975},{"$f":"IF($B199=\"\", \"\", VLOOKUP($B199, CAD!$N$7:$O$2000, 2, FALSE))","v":1.2891300000000001},{"$f":"IF($B199=\"\", \"\", VLOOKUP($B199, CAD!$P$7:$Q$2000, 2, FALSE))","v":1.2850999999999999},{"$f":"IF($B199=\"\", \"\", VLOOKUP($B199, CAD!$R$7:$S$2000, 2, FALSE))","v":1.28312},{"$f":"IF($B199=\"\", \"\", VLOOKUP($B199, CAD!$T$7:$U$2000, 2, FALSE))","v":1.2831999999999999},{"$f":"IF($B199=\"\", \"\", VLOOKUP($B199, CAD!$V$7:$W$2000, 2, FALSE))","v":1.2851399999999999},null,{"$f":"IF(USSW!B196=\"\", \"\", USSW!B196)","v":"2017-04-07"},{"$f":"IF($O199=\"\", \"\", USSW!C196)","v":1.4041999999999999},{"$f":"IF($O199=\"\", \"\", VLOOKUP($O199, USSW!$D$7:$E$2000, 2, FALSE))","v":1.6157999999999999},{"$f":"IF($O199=\"\", \"\", VLOOKUP($O199, USSW!$F$7:$G$2000, 2, FALSE))","v":1.7875000000000001},{"$f":"IF($O199=\"\", \"\", VLOOKUP($O199, USSW!$H$7:$I$2000, 2, FALSE))","v":1.9202999999999999},{"$f":"IF($O199=\"\", \"\", VLOOKUP($O199, USSW!$J$7:$K$2000, 2, FALSE))","v":2.0266000000000002},{"$f":"IF($O199=\"\", \"\", VLOOKUP($O199, USSW!$L$7:$M$2000, 2, FALSE))","v":2.1137000000000001},{"$f":"IF($O199=\"\", \"\", VLOOKUP($O199, USSW!$N$7:$O$2000, 2, FALSE))","v":2.1888000000000001},{"$f":"IF($O199=\"\", \"\", VLOOKUP($O199, USSW!$P$7:$Q$2000, 2, FALSE))","v":2.2528999999999999},{"$f":"IF($O199=\"\", \"\", VLOOKUP($O199, USSW!$R$7:$S$2000, 2, FALSE))","v":2.3087},{"$f":"IF($O199=\"\", \"\", VLOOKUP($O199, USSW!$T$7:$U$2000, 2, FALSE))","v":2.3563999999999998}]
[null,{"$f":"IF(CAD!B197=\"\", \"\", CAD!B197)","v":"2017-04-07"},{"$f":"IF($B200=\"\", \"\", CAD!C197)","v":1.3398000000000001},{"$f":"IF($B200=\"\", \"\",VLOOKUP($B200, CAD!$D$7:$E$2000, 2, FALSE))","v":1.331855},{"$f":"IF($B200=\"\", \"\",VLOOKUP($B200, CAD!$F$7:$G$2000, 2, FALSE))","v":1.3227199999999999},{"$f":"IF($B200=\"\", \"\",VLOOKUP($B200, CAD!$H$7:$I$2000, 2, FALSE))","v":1.314597},{"$f":"IF($B200=\"\", \"\",VLOOKUP($B200, CAD!$J$7:$K$2000, 2, FALSE))","v":1.305785},{"$f":"IF($B200=\"\", \"\", VLOOKUP($B200, CAD!$L$7:$M$2000, 2, FALSE))","v":1.2997620000000001},{"$f":"IF($B200=\"\", \"\", VLOOKUP($B200, CAD!$N$7:$O$2000, 2, FALSE))","v":1.2932999999999999},{"$f":"IF($B200=\"\", \"\", VLOOKUP($B200, CAD!$P$7:$Q$2000, 2, FALSE))","v":1.2889299999999999},{"$f":"IF($B200=\"\", \"\", VLOOKUP($B200, CAD!$R$7:$S$2000, 2, FALSE))","v":1.2861800000000001},{"$f":"IF($B200=\"\", \"\", VLOOKUP($B200, CAD!$T$7:$U$2000, 2, FALSE))","v":1.28583},{"$f":"IF($B200=\"\", \"\", VLOOKUP($B200, CAD!$V$7:$W$2000, 2, FALSE))","v":1.28783},null,{"$f":"IF(USSW!B197=\"\", \"\", USSW!B197)","v":"2017-04-06"},{"$f":"IF($O200=\"\", \"\", USSW!C197)","v":1.3878999999999999},{"$f":"IF($O200=\"\", \"\", VLOOKUP($O200, USSW!$D$7:$E$2000, 2, FALSE))","v":1.5783},{"$f":"IF($O200=\"\", \"\", VLOOKUP($O200, USSW!$F$7:$G$2000, 2, FALSE))","v":1.7395},{"$f":"IF($O200=\"\", \"\", VLOOKUP($O200, USSW!$H$7:$I$2000, 2, FALSE))","v":1.8674999999999999},{"$f":"IF($O200=\"\", \"\", VLOOKUP($O200, USSW!$J$7:$K$2000, 2, FALSE))","v":1.974},{"$f":"IF($O200=\"\", \"\", VLOOKUP($O200, USSW!$L$7:$M$2000, 2, FALSE))","v":2.0646},{"$f":"IF($O200=\"\", \"\", VLOOKUP($O200, USSW!$N$7:$O$2000, 2, FALSE))","v":2.1427999999999998},{"$f":"IF($O200=\"\", \"\", VLOOKUP($O200, USSW!$P$7:$Q$2000, 2, FALSE))","v":2.2090000000000001},{"$f":"IF($O200=\"\", \"\", VLOOKUP($O200, USSW!$R$7:$S$2000, 2, FALSE))","v":2.2673999999999999},{"$f":"IF($O200=\"\", \"\", VLOOKUP($O200, USSW!$T$7:$U$2000, 2, FALSE))","v":2.3193000000000001}]
[null,{"$f":"IF(CAD!B198=\"\", \"\", CAD!B198)","v":"2017-04-06"},{"$f":"IF($B201=\"\", \"\", CAD!C198)","v":1.3412999999999999},{"$f":"IF($B201=\"\", \"\",VLOOKUP($B201, CAD!$D$7:$E$2000, 2, FALSE))","v":1.333439},{"$f":"IF($B201=\"\", \"\",VLOOKUP($B201, CAD!$F$7:$G$2000, 2, FALSE))","v":1.3244210000000001},{"$f":"IF($B201=\"\", \"\",VLOOKUP($B201, CAD!$H$7:$I$2000, 2, FALSE))","v":1.316441},{"$f":"IF($B201=\"\", \"\",VLOOKUP($B201, CAD!$J$7:$K$2000, 2, FALSE))","v":1.3081700000000001},{"$f":"IF($B201=\"\", \"\", VLOOKUP($B201, CAD!$L$7:$M$2000, 2, FALSE))","v":1.302392},{"$f":"IF($B201=\"\", \"\", VLOOKUP($B201, CAD!$N$7:$O$2000, 2, FALSE))","v":1.2962100000000001},{"$f":"IF($B201=\"\", \"\", VLOOKUP($B201, CAD!$P$7:$Q$2000, 2, FALSE))","v":1.2920499999999999},{"$f":"IF($B201=\"\", \"\", VLOOKUP($B201, CAD!$R$7:$S$2000, 2, FALSE))","v":1.28965},{"$f":"IF($B201=\"\", \"\", VLOOKUP($B201, CAD!$T$7:$U$2000, 2, FALSE))","v":1.28948},{"$f":"IF($B201=\"\", \"\", VLOOKUP($B201, CAD!$V$7:$W$2000, 2, FALSE))","v":1.29128},null,{"$f":"IF(USSW!B198=\"\", \"\", USSW!B198)","v":"2017-04-05"},{"$f":"IF($O201=\"\", \"\", USSW!C198)","v":1.3759999999999999},{"$f":"IF($O201=\"\", \"\", VLOOKUP($O201, USSW!$D$7:$E$2000, 2, FALSE))","v":1.5697000000000001},{"$f":"IF($O201=\"\", \"\", VLOOKUP($O201, USSW!$F$7:$G$2000, 2, FALSE))","v":1.7307999999999999},{"$f":"IF($O201=\"\", \"\", VLOOKUP($O201, USSW!$H$7:$I$2000, 2, FALSE))","v":1.8612},{"$f":"IF($O201=\"\", \"\", VLOOKUP($O201, USSW!$J$7:$K$2000, 2, FALSE))","v":1.968},{"$f":"IF($O201=\"\", \"\", VLOOKUP($O201, USSW!$L$7:$M$2000, 2, FALSE))","v":2.0594999999999999},{"$f":"IF($O201=\"\", \"\", VLOOKUP($O201, USSW!$N$7:$O$2000, 2, FALSE))","v":2.1392000000000002},{"$f":"IF($O201=\"\", \"\", VLOOKUP($O201, USSW!$P$7:$Q$2000, 2, FALSE))","v":2.206},{"$f":"IF($O201=\"\", \"\", VLOOKUP($O201, USSW!$R$7:$S$2000, 2, FALSE))","v":2.2635999999999998},{"$f":"IF($O201=\"\", \"\", VLOOKUP($O201, USSW!$T$7:$U$2000, 2, FALSE))","v":2.3159000000000001}]
[null,{"$f":"IF(CAD!B199=\"\", \"\", CAD!B199)","v":"2017-04-05"},{"$f":"IF($B202=\"\", \"\", CAD!C199)","v":1.3434999999999999},{"$f":"IF($B202=\"\", \"\",VLOOKUP($B202, CAD!$D$7:$E$2000, 2, FALSE))","v":1.3357289999999999},{"$f":"IF($B202=\"\", \"\",VLOOKUP($B202, CAD!$F$7:$G$2000, 2, FALSE))","v":1.326543},{"$f":"IF($B202=\"\", \"\",VLOOKUP($B202, CAD!$H$7:$I$2000, 2, FALSE))","v":1.31795},{"$f":"IF($B202=\"\", \"\",VLOOKUP($B202, CAD!$J$7:$K$2000, 2, FALSE))","v":1.3112699999999999},{"$f":"IF($B202=\"\", \"\", VLOOKUP($B202, CAD!$L$7:$M$2000, 2, FALSE))","v":1.305904},{"$f":"IF($B202=\"\", \"\", VLOOKUP($B202, CAD!$N$7:$O$2000, 2, FALSE))","v":1.29878},{"$f":"IF($B202=\"\", \"\", VLOOKUP($B202, CAD!$P$7:$Q$2000, 2, FALSE))","v":1.2948},{"$f":"IF($B202=\"\", \"\", VLOOKUP($B202, CAD!$R$7:$S$2000, 2, FALSE))","v":1.2927500000000001},{"$f":"IF($B202=\"\", \"\", VLOOKUP($B202, CAD!$T$7:$U$2000, 2, FALSE))","v":1.2932900000000001},{"$f":"IF($B202=\"\", \"\", VLOOKUP($B202, CAD!$V$7:$W$2000, 2, FALSE))","v":1.2950200000000001},null,{"$f":"IF(USSW!B199=\"\", \"\", USSW!B199)","v":"2017-04-04"},{"$f":"IF($O202=\"\", \"\", USSW!C199)","v":1.3802000000000001},{"$f":"IF($O202=\"\", \"\", VLOOKUP($O202, USSW!$D$7:$E$2000, 2, FALSE))","v":1.593},{"$f":"IF($O202=\"\", \"\", VLOOKUP($O202, USSW!$F$7:$G$2000, 2, FALSE))","v":1.7655000000000001},{"$f":"IF($O202=\"\", \"\", VLOOKUP($O202, USSW!$H$7:$I$2000, 2, FALSE))","v":1.9015},{"$f":"IF($O202=\"\", \"\", VLOOKUP($O202, USSW!$J$7:$K$2000, 2, FALSE))","v":2.0074999999999998},{"$f":"IF($O202=\"\", \"\", VLOOKUP($O202, USSW!$L$7:$M$2000, 2, FALSE))","v":2.0977000000000001},{"$f":"IF($O202=\"\", \"\", VLOOKUP($O202, USSW!$N$7:$O$2000, 2, FALSE))","v":2.1745000000000001},{"$f":"IF($O202=\"\", \"\", VLOOKUP($O202, USSW!$P$7:$Q$2000, 2, FALSE))","v":2.2393000000000001},{"$f":"IF($O202=\"\", \"\", VLOOKUP($O202, USSW!$R$7:$S$2000, 2, FALSE))","v":2.2961},{"$f":"IF($O202=\"\", \"\", VLOOKUP($O202, USSW!$T$7:$U$2000, 2, FALSE))","v":2.3454999999999999}]
[null,{"$f":"IF(CAD!B200=\"\", \"\", CAD!B200)","v":"2017-04-04"},{"$f":"IF($B203=\"\", \"\", CAD!C200)","v":1.3402000000000001},{"$f":"IF($B203=\"\", \"\",VLOOKUP($B203, CAD!$D$7:$E$2000, 2, FALSE))","v":1.3323199999999999},{"$f":"IF($B203=\"\", \"\",VLOOKUP($B203, CAD!$F$7:$G$2000, 2, FALSE))","v":1.3227059999999999},{"$f":"IF($B203=\"\", \"\",VLOOKUP($B203, CAD!$H$7:$I$2000, 2, FALSE))","v":1.314481},{"$f":"IF($B203=\"\", \"\",VLOOKUP($B203, CAD!$J$7:$K$2000, 2, FALSE))","v":1.3062400000000001},{"$f":"IF($B203=\"\", \"\", VLOOKUP($B203, CAD!$L$7:$M$2000, 2, FALSE))","v":1.299828},{"$f":"IF($B203=\"\", \"\", VLOOKUP($B203, CAD!$N$7:$O$2000, 2, FALSE))","v":1.2942499999999999},{"$f":"IF($B203=\"\", \"\", VLOOKUP($B203, CAD!$P$7:$Q$2000, 2, FALSE))","v":1.2914699999999999},{"$f":"IF($B203=\"\", \"\", VLOOKUP($B203, CAD!$R$7:$S$2000, 2, FALSE))","v":1.2886500000000001},{"$f":"IF($B203=\"\", \"\", VLOOKUP($B203, CAD!$T$7:$U$2000, 2, FALSE))","v":1.28793},{"$f":"IF($B203=\"\", \"\", VLOOKUP($B203, CAD!$V$7:$W$2000, 2, FALSE))","v":1.2886899999999999},null,{"$f":"IF(USSW!B200=\"\", \"\", USSW!B200)","v":"2017-04-03"},{"$f":"IF($O203=\"\", \"\", USSW!C200)","v":1.371},{"$f":"IF($O203=\"\", \"\", VLOOKUP($O203, USSW!$D$7:$E$2000, 2, FALSE))","v":1.5799000000000001},{"$f":"IF($O203=\"\", \"\", VLOOKUP($O203, USSW!$F$7:$G$2000, 2, FALSE))","v":1.7466999999999999},{"$f":"IF($O203=\"\", \"\", VLOOKUP($O203, USSW!$H$7:$I$2000, 2, FALSE))","v":1.8757999999999999},{"$f":"IF($O203=\"\", \"\", VLOOKUP($O203, USSW!$J$7:$K$2000, 2, FALSE))","v":1.9775},{"$f":"IF($O203=\"\", \"\", VLOOKUP($O203, USSW!$L$7:$M$2000, 2, FALSE))","v":2.0644},{"$f":"IF($O203=\"\", \"\", VLOOKUP($O203, USSW!$N$7:$O$2000, 2, FALSE))","v":2.1398000000000001},{"$f":"IF($O203=\"\", \"\", VLOOKUP($O203, USSW!$P$7:$Q$2000, 2, FALSE))","v":2.2046000000000001},{"$f":"IF($O203=\"\", \"\", VLOOKUP($O203, USSW!$R$7:$S$2000, 2, FALSE))","v":2.2578999999999998},{"$f":"IF($O203=\"\", \"\", VLOOKUP($O203, USSW!$T$7:$U$2000, 2, FALSE))","v":2.3075999999999999}]
[null,{"$f":"IF(CAD!B201=\"\", \"\", CAD!B201)","v":"2017-04-03"},{"$f":"IF($B204=\"\", \"\", CAD!C201)","v":1.3381000000000001},{"$f":"IF($B204=\"\", \"\",VLOOKUP($B204, CAD!$D$7:$E$2000, 2, FALSE))","v":1.3302},{"$f":"IF($B204=\"\", \"\",VLOOKUP($B204, CAD!$F$7:$G$2000, 2, FALSE))","v":1.320689},{"$f":"IF($B204=\"\", \"\",VLOOKUP($B204, CAD!$H$7:$I$2000, 2, FALSE))","v":1.312967},{"$f":"IF($B204=\"\", \"\",VLOOKUP($B204, CAD!$J$7:$K$2000, 2, FALSE))","v":1.3044500000000001},{"$f":"IF($B204=\"\", \"\", VLOOKUP($B204, CAD!$L$7:$M$2000, 2, FALSE))","v":1.298829},{"$f":"IF($B204=\"\", \"\", VLOOKUP($B204, CAD!$N$7:$O$2000, 2, FALSE))","v":1.2922800000000001},{"$f":"IF($B204=\"\", \"\", VLOOKUP($B204, CAD!$P$7:$Q$2000, 2, FALSE))","v":1.288735},{"$f":"IF($B204=\"\", \"\", VLOOKUP($B204, CAD!$R$7:$S$2000, 2, FALSE))","v":1.286295},{"$f":"IF($B204=\"\", \"\", VLOOKUP($B204, CAD!$T$7:$U$2000, 2, FALSE))","v":1.2854749999999999},{"$f":"IF($B204=\"\", \"\", VLOOKUP($B204, CAD!$V$7:$W$2000, 2, FALSE))","v":1.286565},null,{"$f":"IF(USSW!B201=\"\", \"\", USSW!B201)","v":"2017-03-31"},{"$f":"IF($O204=\"\", \"\", USSW!C201)","v":1.3835999999999999},{"$f":"IF($O204=\"\", \"\", VLOOKUP($O204, USSW!$D$7:$E$2000, 2, FALSE))","v":1.6175999999999999},{"$f":"IF($O204=\"\", \"\", VLOOKUP($O204, USSW!$F$7:$G$2000, 2, FALSE))","v":1.8069999999999999},{"$f":"IF($O204=\"\", \"\", VLOOKUP($O204, USSW!$H$7:$I$2000, 2, FALSE))","v":1.9450000000000001},{"$f":"IF($O204=\"\", \"\", VLOOKUP($O204, USSW!$J$7:$K$2000, 2, FALSE))","v":2.0522999999999998},{"$f":"IF($O204=\"\", \"\", VLOOKUP($O204, USSW!$L$7:$M$2000, 2, FALSE))","v":2.1423000000000001},{"$f":"IF($O204=\"\", \"\", VLOOKUP($O204, USSW!$N$7:$O$2000, 2, FALSE))","v":2.2164999999999999},{"$f":"IF($O204=\"\", \"\", VLOOKUP($O204, USSW!$P$7:$Q$2000, 2, FALSE))","v":2.2799999999999998},{"$f":"IF($O204=\"\", \"\", VLOOKUP($O204, USSW!$R$7:$S$2000, 2, FALSE))","v":2.335},{"$f":"IF($O204=\"\", \"\", VLOOKUP($O204, USSW!$T$7:$U$2000, 2, FALSE))","v":2.3841000000000001}]
[null,{"$f":"IF(CAD!B202=\"\", \"\", CAD!B202)","v":"2017-03-31"},{"$f":"IF($B205=\"\", \"\", CAD!C202)","v":1.3318000000000001},{"$f":"IF($B205=\"\", \"\",VLOOKUP($B205, CAD!$D$7:$E$2000, 2, FALSE))","v":1.323887},{"$f":"IF($B205=\"\", \"\",VLOOKUP($B205, CAD!$F$7:$G$2000, 2, FALSE))","v":1.314195},{"$f":"IF($B205=\"\", \"\",VLOOKUP($B205, CAD!$H$7:$I$2000, 2, FALSE))","v":1.305331},{"$f":"IF($B205=\"\", \"\",VLOOKUP($B205, CAD!$J$7:$K$2000, 2, FALSE))","v":1.2962499999999999},{"$f":"IF($B205=\"\", \"\", VLOOKUP($B205, CAD!$L$7:$M$2000, 2, FALSE))","v":1.2901389999999999},{"$f":"IF($B205=\"\", \"\", VLOOKUP($B205, CAD!$N$7:$O$2000, 2, FALSE))","v":1.2840199999999999},{"$f":"IF($B205=\"\", \"\", VLOOKUP($B205, CAD!$P$7:$Q$2000, 2, FALSE))","v":1.28006},{"$f":"IF($B205=\"\", \"\", VLOOKUP($B205, CAD!$R$7:$S$2000, 2, FALSE))","v":1.27721},{"$f":"IF($B205=\"\", \"\", VLOOKUP($B205, CAD!$T$7:$U$2000, 2, FALSE))","v":1.27657},{"$f":"IF($B205=\"\", \"\", VLOOKUP($B205, CAD!$V$7:$W$2000, 2, FALSE))","v":1.2773099999999999},null,{"$f":"IF(USSW!B202=\"\", \"\", USSW!B202)","v":"2017-03-30"},{"$f":"IF($O205=\"\", \"\", USSW!C202)","v":1.3882000000000001},{"$f":"IF($O205=\"\", \"\", VLOOKUP($O205, USSW!$D$7:$E$2000, 2, FALSE))","v":1.6393},{"$f":"IF($O205=\"\", \"\", VLOOKUP($O205, USSW!$F$7:$G$2000, 2, FALSE))","v":1.8321000000000001},{"$f":"IF($O205=\"\", \"\", VLOOKUP($O205, USSW!$H$7:$I$2000, 2, FALSE))","v":1.9741},{"$f":"IF($O205=\"\", \"\", VLOOKUP($O205, USSW!$J$7:$K$2000, 2, FALSE))","v":2.0823999999999998},{"$f":"IF($O205=\"\", \"\", VLOOKUP($O205, USSW!$L$7:$M$2000, 2, FALSE))","v":2.1715},{"$f":"IF($O205=\"\", \"\", VLOOKUP($O205, USSW!$N$7:$O$2000, 2, FALSE))","v":2.2461000000000002},{"$f":"IF($O205=\"\", \"\", VLOOKUP($O205, USSW!$P$7:$Q$2000, 2, FALSE))","v":2.3092999999999999},{"$f":"IF($O205=\"\", \"\", VLOOKUP($O205, USSW!$R$7:$S$2000, 2, FALSE))","v":2.3637999999999999},{"$f":"IF($O205=\"\", \"\", VLOOKUP($O205, USSW!$T$7:$U$2000, 2, FALSE))","v":2.4116}]
[null,{"$f":"IF(CAD!B203=\"\", \"\", CAD!B203)","v":"2017-03-30"},{"$f":"IF($B206=\"\", \"\", CAD!C203)","v":1.3341000000000001},{"$f":"IF($B206=\"\", \"\",VLOOKUP($B206, CAD!$D$7:$E$2000, 2, FALSE))","v":1.3260000000000001},{"$f":"IF($B206=\"\", \"\",VLOOKUP($B206, CAD!$F$7:$G$2000, 2, FALSE))","v":1.3154999999999999},{"$f":"IF($B206=\"\", \"\",VLOOKUP($B206, CAD!$H$7:$I$2000, 2, FALSE))","v":1.306562},{"$f":"IF($B206=\"\", \"\",VLOOKUP($B206, CAD!$J$7:$K$2000, 2, FALSE))","v":1.2965100000000001},{"$f":"IF($B206=\"\", \"\", VLOOKUP($B206, CAD!$L$7:$M$2000, 2, FALSE))","v":1.2904359999999999},{"$f":"IF($B206=\"\", \"\", VLOOKUP($B206, CAD!$N$7:$O$2000, 2, FALSE))","v":1.28443},{"$f":"IF($B206=\"\", \"\", VLOOKUP($B206, CAD!$P$7:$Q$2000, 2, FALSE))","v":1.2801},{"$f":"IF($B206=\"\", \"\", VLOOKUP($B206, CAD!$R$7:$S$2000, 2, FALSE))","v":1.27705},{"$f":"IF($B206=\"\", \"\", VLOOKUP($B206, CAD!$T$7:$U$2000, 2, FALSE))","v":1.27634},{"$f":"IF($B206=\"\", \"\", VLOOKUP($B206, CAD!$V$7:$W$2000, 2, FALSE))","v":1.27759},null,{"$f":"IF(USSW!B203=\"\", \"\", USSW!B203)","v":"2017-03-29"},{"$f":"IF($O206=\"\", \"\", USSW!C203)","v":1.3674999999999999},{"$f":"IF($O206=\"\", \"\", VLOOKUP($O206, USSW!$D$7:$E$2000, 2, FALSE))","v":1.6072},{"$f":"IF($O206=\"\", \"\", VLOOKUP($O206, USSW!$F$7:$G$2000, 2, FALSE))","v":1.7963},{"$f":"IF($O206=\"\", \"\", VLOOKUP($O206, USSW!$H$7:$I$2000, 2, FALSE))","v":1.9339},{"$f":"IF($O206=\"\", \"\", VLOOKUP($O206, USSW!$J$7:$K$2000, 2, FALSE))","v":2.0384000000000002},{"$f":"IF($O206=\"\", \"\", VLOOKUP($O206, USSW!$L$7:$M$2000, 2, FALSE))","v":2.1267999999999998},{"$f":"IF($O206=\"\", \"\", VLOOKUP($O206, USSW!$N$7:$O$2000, 2, FALSE))","v":2.1981999999999999},{"$f":"IF($O206=\"\", \"\", VLOOKUP($O206, USSW!$P$7:$Q$2000, 2, FALSE))","v":2.2606000000000002},{"$f":"IF($O206=\"\", \"\", VLOOKUP($O206, USSW!$R$7:$S$2000, 2, FALSE))","v":2.3130999999999999},{"$f":"IF($O206=\"\", \"\", VLOOKUP($O206, USSW!$T$7:$U$2000, 2, FALSE))","v":2.3613}]
[null,{"$f":"IF(CAD!B204=\"\", \"\", CAD!B204)","v":"2017-03-29"},{"$f":"IF($B207=\"\", \"\", CAD!C204)","v":1.3326},{"$f":"IF($B207=\"\", \"\",VLOOKUP($B207, CAD!$D$7:$E$2000, 2, FALSE))","v":1.3245389999999999},{"$f":"IF($B207=\"\", \"\",VLOOKUP($B207, CAD!$F$7:$G$2000, 2, FALSE))","v":1.3141050000000001},{"$f":"IF($B207=\"\", \"\",VLOOKUP($B207, CAD!$H$7:$I$2000, 2, FALSE))","v":1.3042499999999999},{"$f":"IF($B207=\"\", \"\",VLOOKUP($B207, CAD!$J$7:$K$2000, 2, FALSE))","v":1.2952999999999999},{"$f":"IF($B207=\"\", \"\", VLOOKUP($B207, CAD!$L$7:$M$2000, 2, FALSE))","v":1.2880769999999999},{"$f":"IF($B207=\"\", \"\", VLOOKUP($B207, CAD!$N$7:$O$2000, 2, FALSE))","v":1.28305},{"$f":"IF($B207=\"\", \"\", VLOOKUP($B207, CAD!$P$7:$Q$2000, 2, FALSE))","v":1.27884},{"$f":"IF($B207=\"\", \"\", VLOOKUP($B207, CAD!$R$7:$S$2000, 2, FALSE))","v":1.276195},{"$f":"IF($B207=\"\", \"\", VLOOKUP($B207, CAD!$T$7:$U$2000, 2, FALSE))","v":1.27579},{"$f":"IF($B207=\"\", \"\", VLOOKUP($B207, CAD!$V$7:$W$2000, 2, FALSE))","v":1.27739},null,{"$f":"IF(USSW!B204=\"\", \"\", USSW!B204)","v":"2017-03-28"},{"$f":"IF($O207=\"\", \"\", USSW!C204)","v":1.387},{"$f":"IF($O207=\"\", \"\", VLOOKUP($O207, USSW!$D$7:$E$2000, 2, FALSE))","v":1.6325000000000001},{"$f":"IF($O207=\"\", \"\", VLOOKUP($O207, USSW!$F$7:$G$2000, 2, FALSE))","v":1.8233999999999999},{"$f":"IF($O207=\"\", \"\", VLOOKUP($O207, USSW!$H$7:$I$2000, 2, FALSE))","v":1.9644999999999999},{"$f":"IF($O207=\"\", \"\", VLOOKUP($O207, USSW!$J$7:$K$2000, 2, FALSE))","v":2.0754999999999999},{"$f":"IF($O207=\"\", \"\", VLOOKUP($O207, USSW!$L$7:$M$2000, 2, FALSE))","v":2.1602999999999999},{"$f":"IF($O207=\"\", \"\", VLOOKUP($O207, USSW!$N$7:$O$2000, 2, FALSE))","v":2.2317999999999998},{"$f":"IF($O207=\"\", \"\", VLOOKUP($O207, USSW!$P$7:$Q$2000, 2, FALSE))","v":2.2944},{"$f":"IF($O207=\"\", \"\", VLOOKUP($O207, USSW!$R$7:$S$2000, 2, FALSE))","v":2.3473999999999999},{"$f":"IF($O207=\"\", \"\", VLOOKUP($O207, USSW!$T$7:$U$2000, 2, FALSE))","v":2.395}]
[null,{"$f":"IF(CAD!B205=\"\", \"\", CAD!B205)","v":"2017-03-28"},{"$f":"IF($B208=\"\", \"\", CAD!C205)","v":1.3383},{"$f":"IF($B208=\"\", \"\",VLOOKUP($B208, CAD!$D$7:$E$2000, 2, FALSE))","v":1.3300689999999999},{"$f":"IF($B208=\"\", \"\",VLOOKUP($B208, CAD!$F$7:$G$2000, 2, FALSE))","v":1.3199000000000001},{"$f":"IF($B208=\"\", \"\",VLOOKUP($B208, CAD!$H$7:$I$2000, 2, FALSE))","v":1.3109550000000001},{"$f":"IF($B208=\"\", \"\",VLOOKUP($B208, CAD!$J$7:$K$2000, 2, FALSE))","v":1.3012349999999999},{"$f":"IF($B208=\"\", \"\", VLOOKUP($B208, CAD!$L$7:$M$2000, 2, FALSE))","v":1.294494},{"$f":"IF($B208=\"\", \"\", VLOOKUP($B208, CAD!$N$7:$O$2000, 2, FALSE))","v":1.28813},{"$f":"IF($B208=\"\", \"\", VLOOKUP($B208, CAD!$P$7:$Q$2000, 2, FALSE))","v":1.2847},{"$f":"IF($B208=\"\", \"\", VLOOKUP($B208, CAD!$R$7:$S$2000, 2, FALSE))","v":1.2819750000000001},{"$f":"IF($B208=\"\", \"\", VLOOKUP($B208, CAD!$T$7:$U$2000, 2, FALSE))","v":1.2810950000000001},{"$f":"IF($B208=\"\", \"\", VLOOKUP($B208, CAD!$V$7:$W$2000, 2, FALSE))","v":1.28254},null,{"$f":"IF(USSW!B205=\"\", \"\", USSW!B205)","v":"2017-03-27"},{"$f":"IF($O208=\"\", \"\", USSW!C205)","v":1.3677999999999999},{"$f":"IF($O208=\"\", \"\", VLOOKUP($O208, USSW!$D$7:$E$2000, 2, FALSE))","v":1.5985},{"$f":"IF($O208=\"\", \"\", VLOOKUP($O208, USSW!$F$7:$G$2000, 2, FALSE))","v":1.7829999999999999},{"$f":"IF($O208=\"\", \"\", VLOOKUP($O208, USSW!$H$7:$I$2000, 2, FALSE))","v":1.9205000000000001},{"$f":"IF($O208=\"\", \"\", VLOOKUP($O208, USSW!$J$7:$K$2000, 2, FALSE))","v":2.0287000000000002},{"$f":"IF($O208=\"\", \"\", VLOOKUP($O208, USSW!$L$7:$M$2000, 2, FALSE))","v":2.1124999999999998},{"$f":"IF($O208=\"\", \"\", VLOOKUP($O208, USSW!$N$7:$O$2000, 2, FALSE))","v":2.1865000000000001},{"$f":"IF($O208=\"\", \"\", VLOOKUP($O208, USSW!$P$7:$Q$2000, 2, FALSE))","v":2.2465999999999999},{"$f":"IF($O208=\"\", \"\", VLOOKUP($O208, USSW!$R$7:$S$2000, 2, FALSE))","v":2.3008000000000002},{"$f":"IF($O208=\"\", \"\", VLOOKUP($O208, USSW!$T$7:$U$2000, 2, FALSE))","v":2.3490000000000002}]
[null,{"$f":"IF(CAD!B206=\"\", \"\", CAD!B206)","v":"2017-03-27"},{"$f":"IF($B209=\"\", \"\", CAD!C206)","v":1.3375999999999999},{"$f":"IF($B209=\"\", \"\",VLOOKUP($B209, CAD!$D$7:$E$2000, 2, FALSE))","v":1.329699},{"$f":"IF($B209=\"\", \"\",VLOOKUP($B209, CAD!$F$7:$G$2000, 2, FALSE))","v":1.3196600000000001},{"$f":"IF($B209=\"\", \"\",VLOOKUP($B209, CAD!$H$7:$I$2000, 2, FALSE))","v":1.311051},{"$f":"IF($B209=\"\", \"\",VLOOKUP($B209, CAD!$J$7:$K$2000, 2, FALSE))","v":1.30172},{"$f":"IF($B209=\"\", \"\", VLOOKUP($B209, CAD!$L$7:$M$2000, 2, FALSE))","v":1.29562},{"$f":"IF($B209=\"\", \"\", VLOOKUP($B209, CAD!$N$7:$O$2000, 2, FALSE))","v":1.2901100000000001},{"$f":"IF($B209=\"\", \"\", VLOOKUP($B209, CAD!$P$7:$Q$2000, 2, FALSE))","v":1.2863800000000001},{"$f":"IF($B209=\"\", \"\", VLOOKUP($B209, CAD!$R$7:$S$2000, 2, FALSE))","v":1.2835799999999999},{"$f":"IF($B209=\"\", \"\", VLOOKUP($B209, CAD!$T$7:$U$2000, 2, FALSE))","v":1.2825899999999999},{"$f":"IF($B209=\"\", \"\", VLOOKUP($B209, CAD!$V$7:$W$2000, 2, FALSE))","v":1.2831600000000001},null,{"$f":"IF(USSW!B206=\"\", \"\", USSW!B206)","v":"2017-03-24"},{"$f":"IF($O209=\"\", \"\", USSW!C206)","v":1.3785000000000001},{"$f":"IF($O209=\"\", \"\", VLOOKUP($O209, USSW!$D$7:$E$2000, 2, FALSE))","v":1.6197999999999999},{"$f":"IF($O209=\"\", \"\", VLOOKUP($O209, USSW!$F$7:$G$2000, 2, FALSE))","v":1.8133999999999999},{"$f":"IF($O209=\"\", \"\", VLOOKUP($O209, USSW!$H$7:$I$2000, 2, FALSE))","v":1.9558},{"$f":"IF($O209=\"\", \"\", VLOOKUP($O209, USSW!$J$7:$K$2000, 2, FALSE))","v":2.0655000000000001},{"$f":"IF($O209=\"\", \"\", VLOOKUP($O209, USSW!$L$7:$M$2000, 2, FALSE))","v":2.1541000000000001},{"$f":"IF($O209=\"\", \"\", VLOOKUP($O209, USSW!$N$7:$O$2000, 2, FALSE))","v":2.2298},{"$f":"IF($O209=\"\", \"\", VLOOKUP($O209, USSW!$P$7:$Q$2000, 2, FALSE))","v":2.2911000000000001},{"$f":"IF($O209=\"\", \"\", VLOOKUP($O209, USSW!$R$7:$S$2000, 2, FALSE))","v":2.3466999999999998},{"$f":"IF($O209=\"\", \"\", VLOOKUP($O209, USSW!$T$7:$U$2000, 2, FALSE))","v":2.3965000000000001}]
[null,{"$f":"IF(CAD!B207=\"\", \"\", CAD!B207)","v":"2017-03-24"},{"$f":"IF($B210=\"\", \"\", CAD!C207)","v":1.3378000000000001},{"$f":"IF($B210=\"\", \"\",VLOOKUP($B210, CAD!$D$7:$E$2000, 2, FALSE))","v":1.3297600000000001},{"$f":"IF($B210=\"\", \"\",VLOOKUP($B210, CAD!$F$7:$G$2000, 2, FALSE))","v":1.3195380000000001},{"$f":"IF($B210=\"\", \"\",VLOOKUP($B210, CAD!$H$7:$I$2000, 2, FALSE))","v":1.3106},{"$f":"IF($B210=\"\", \"\",VLOOKUP($B210, CAD!$J$7:$K$2000, 2, FALSE))","v":1.3018350000000001},{"$f":"IF($B210=\"\", \"\", VLOOKUP($B210, CAD!$L$7:$M$2000, 2, FALSE))","v":1.2954479999999999},{"$f":"IF($B210=\"\", \"\", VLOOKUP($B210, CAD!$N$7:$O$2000, 2, FALSE))","v":1.28871},{"$f":"IF($B210=\"\", \"\", VLOOKUP($B210, CAD!$P$7:$Q$2000, 2, FALSE))","v":1.28538},{"$f":"IF($B210=\"\", \"\", VLOOKUP($B210, CAD!$R$7:$S$2000, 2, FALSE))","v":1.2821199999999999},{"$f":"IF($B210=\"\", \"\", VLOOKUP($B210, CAD!$T$7:$U$2000, 2, FALSE))","v":1.28105},{"$f":"IF($B210=\"\", \"\", VLOOKUP($B210, CAD!$V$7:$W$2000, 2, FALSE))","v":1.2813349999999999},null,{"$f":"IF(USSW!B207=\"\", \"\", USSW!B207)","v":"2017-03-23"},{"$f":"IF($O210=\"\", \"\", USSW!C207)","v":1.383},{"$f":"IF($O210=\"\", \"\", VLOOKUP($O210, USSW!$D$7:$E$2000, 2, FALSE))","v":1.6233},{"$f":"IF($O210=\"\", \"\", VLOOKUP($O210, USSW!$F$7:$G$2000, 2, FALSE))","v":1.8147},{"$f":"IF($O210=\"\", \"\", VLOOKUP($O210, USSW!$H$7:$I$2000, 2, FALSE))","v":1.9573},{"$f":"IF($O210=\"\", \"\", VLOOKUP($O210, USSW!$J$7:$K$2000, 2, FALSE))","v":2.0680999999999998},{"$f":"IF($O210=\"\", \"\", VLOOKUP($O210, USSW!$L$7:$M$2000, 2, FALSE))","v":2.1555},{"$f":"IF($O210=\"\", \"\", VLOOKUP($O210, USSW!$N$7:$O$2000, 2, FALSE))","v":2.2315},{"$f":"IF($O210=\"\", \"\", VLOOKUP($O210, USSW!$P$7:$Q$2000, 2, FALSE))","v":2.2978999999999998},{"$f":"IF($O210=\"\", \"\", VLOOKUP($O210, USSW!$R$7:$S$2000, 2, FALSE))","v":2.3519999999999999},{"$f":"IF($O210=\"\", \"\", VLOOKUP($O210, USSW!$T$7:$U$2000, 2, FALSE))","v":2.4007999999999998}]
[null,{"$f":"IF(CAD!B208=\"\", \"\", CAD!B208)","v":"2017-03-23"},{"$f":"IF($B211=\"\", \"\", CAD!C208)","v":1.335},{"$f":"IF($B211=\"\", \"\",VLOOKUP($B211, CAD!$D$7:$E$2000, 2, FALSE))","v":1.3269},{"$f":"IF($B211=\"\", \"\",VLOOKUP($B211, CAD!$F$7:$G$2000, 2, FALSE))","v":1.31724},{"$f":"IF($B211=\"\", \"\",VLOOKUP($B211, CAD!$H$7:$I$2000, 2, FALSE))","v":1.309348},{"$f":"IF($B211=\"\", \"\",VLOOKUP($B211, CAD!$J$7:$K$2000, 2, FALSE))","v":1.30114},{"$f":"IF($B211=\"\", \"\", VLOOKUP($B211, CAD!$L$7:$M$2000, 2, FALSE))","v":1.2952980000000001},{"$f":"IF($B211=\"\", \"\", VLOOKUP($B211, CAD!$N$7:$O$2000, 2, FALSE))","v":1.28972},{"$f":"IF($B211=\"\", \"\", VLOOKUP($B211, CAD!$P$7:$Q$2000, 2, FALSE))","v":1.2859100000000001},{"$f":"IF($B211=\"\", \"\", VLOOKUP($B211, CAD!$R$7:$S$2000, 2, FALSE))","v":1.2831300000000001},{"$f":"IF($B211=\"\", \"\", VLOOKUP($B211, CAD!$T$7:$U$2000, 2, FALSE))","v":1.28237},{"$f":"IF($B211=\"\", \"\", VLOOKUP($B211, CAD!$V$7:$W$2000, 2, FALSE))","v":1.28284},null,{"$f":"IF(USSW!B208=\"\", \"\", USSW!B208)","v":"2017-03-22"},{"$f":"IF($O211=\"\", \"\", USSW!C208)","v":1.377},{"$f":"IF($O211=\"\", \"\", VLOOKUP($O211, USSW!$D$7:$E$2000, 2, FALSE))","v":1.6077999999999999},{"$f":"IF($O211=\"\", \"\", VLOOKUP($O211, USSW!$F$7:$G$2000, 2, FALSE))","v":1.7909999999999999},{"$f":"IF($O211=\"\", \"\", VLOOKUP($O211, USSW!$H$7:$I$2000, 2, FALSE))","v":1.9315},{"$f":"IF($O211=\"\", \"\", VLOOKUP($O211, USSW!$J$7:$K$2000, 2, FALSE))","v":2.0394999999999999},{"$f":"IF($O211=\"\", \"\", VLOOKUP($O211, USSW!$L$7:$M$2000, 2, FALSE))","v":2.1269},{"$f":"IF($O211=\"\", \"\", VLOOKUP($O211, USSW!$N$7:$O$2000, 2, FALSE))","v":2.2029999999999998},{"$f":"IF($O211=\"\", \"\", VLOOKUP($O211, USSW!$P$7:$Q$2000, 2, FALSE))","v":2.2656000000000001},{"$f":"IF($O211=\"\", \"\", VLOOKUP($O211, USSW!$R$7:$S$2000, 2, FALSE))","v":2.3197999999999999},{"$f":"IF($O211=\"\", \"\", VLOOKUP($O211, USSW!$T$7:$U$2000, 2, FALSE))","v":2.3704999999999998}]
[null,{"$f":"IF(CAD!B209=\"\", \"\", CAD!B209)","v":"2017-03-22"},{"$f":"IF($B212=\"\", \"\", CAD!C209)","v":1.3329},{"$f":"IF($B212=\"\", \"\",VLOOKUP($B212, CAD!$D$7:$E$2000, 2, FALSE))","v":1.3248340000000001},{"$f":"IF($B212=\"\", \"\",VLOOKUP($B212, CAD!$F$7:$G$2000, 2, FALSE))","v":1.315903},{"$f":"IF($B212=\"\", \"\",VLOOKUP($B212, CAD!$H$7:$I$2000, 2, FALSE))","v":1.307976},{"$f":"IF($B212=\"\", \"\",VLOOKUP($B212, CAD!$J$7:$K$2000, 2, FALSE))","v":1.299855},{"$f":"IF($B212=\"\", \"\", VLOOKUP($B212, CAD!$L$7:$M$2000, 2, FALSE))","v":1.2936080000000001},{"$f":"IF($B212=\"\", \"\", VLOOKUP($B212, CAD!$N$7:$O$2000, 2, FALSE))","v":1.28843},{"$f":"IF($B212=\"\", \"\", VLOOKUP($B212, CAD!$P$7:$Q$2000, 2, FALSE))","v":1.28498},{"$f":"IF($B212=\"\", \"\", VLOOKUP($B212, CAD!$R$7:$S$2000, 2, FALSE))","v":1.28247},{"$f":"IF($B212=\"\", \"\", VLOOKUP($B212, CAD!$T$7:$U$2000, 2, FALSE))","v":1.2819199999999999},{"$f":"IF($B212=\"\", \"\", VLOOKUP($B212, CAD!$V$7:$W$2000, 2, FALSE))","v":1.2828900000000001},null,{"$f":"IF(USSW!B209=\"\", \"\", USSW!B209)","v":"2017-03-21"},{"$f":"IF($O212=\"\", \"\", USSW!C209)","v":1.3845000000000001},{"$f":"IF($O212=\"\", \"\", VLOOKUP($O212, USSW!$D$7:$E$2000, 2, FALSE))","v":1.6174999999999999},{"$f":"IF($O212=\"\", \"\", VLOOKUP($O212, USSW!$F$7:$G$2000, 2, FALSE))","v":1.7995000000000001},{"$f":"IF($O212=\"\", \"\", VLOOKUP($O212, USSW!$H$7:$I$2000, 2, FALSE))","v":1.9390000000000001},{"$f":"IF($O212=\"\", \"\", VLOOKUP($O212, USSW!$J$7:$K$2000, 2, FALSE))","v":2.0507},{"$f":"IF($O212=\"\", \"\", VLOOKUP($O212, USSW!$L$7:$M$2000, 2, FALSE))","v":2.1387},{"$f":"IF($O212=\"\", \"\", VLOOKUP($O212, USSW!$N$7:$O$2000, 2, FALSE))","v":2.2134999999999998},{"$f":"IF($O212=\"\", \"\", VLOOKUP($O212, USSW!$P$7:$Q$2000, 2, FALSE))","v":2.2768000000000002},{"$f":"IF($O212=\"\", \"\", VLOOKUP($O212, USSW!$R$7:$S$2000, 2, FALSE))","v":2.3331},{"$f":"IF($O212=\"\", \"\", VLOOKUP($O212, USSW!$T$7:$U$2000, 2, FALSE))","v":2.3824999999999998}]
[null,{"$f":"IF(CAD!B210=\"\", \"\", CAD!B210)","v":"2017-03-21"},{"$f":"IF($B213=\"\", \"\", CAD!C210)","v":1.3351999999999999},{"$f":"IF($B213=\"\", \"\",VLOOKUP($B213, CAD!$D$7:$E$2000, 2, FALSE))","v":1.327148},{"$f":"IF($B213=\"\", \"\",VLOOKUP($B213, CAD!$F$7:$G$2000, 2, FALSE))","v":1.317555},{"$f":"IF($B213=\"\", \"\",VLOOKUP($B213, CAD!$H$7:$I$2000, 2, FALSE))","v":1.310314},{"$f":"IF($B213=\"\", \"\",VLOOKUP($B213, CAD!$J$7:$K$2000, 2, FALSE))","v":1.3020499999999999},{"$f":"IF($B213=\"\", \"\", VLOOKUP($B213, CAD!$L$7:$M$2000, 2, FALSE))","v":1.296241},{"$f":"IF($B213=\"\", \"\", VLOOKUP($B213, CAD!$N$7:$O$2000, 2, FALSE))","v":1.29087},{"$f":"IF($B213=\"\", \"\", VLOOKUP($B213, CAD!$P$7:$Q$2000, 2, FALSE))","v":1.2878099999999999},{"$f":"IF($B213=\"\", \"\", VLOOKUP($B213, CAD!$R$7:$S$2000, 2, FALSE))","v":1.28538},{"$f":"IF($B213=\"\", \"\", VLOOKUP($B213, CAD!$T$7:$U$2000, 2, FALSE))","v":1.2846900000000001},{"$f":"IF($B213=\"\", \"\", VLOOKUP($B213, CAD!$V$7:$W$2000, 2, FALSE))","v":1.28562},null,{"$f":"IF(USSW!B210=\"\", \"\", USSW!B210)","v":"2017-03-20"},{"$f":"IF($O213=\"\", \"\", USSW!C210)","v":1.3937999999999999},{"$f":"IF($O213=\"\", \"\", VLOOKUP($O213, USSW!$D$7:$E$2000, 2, FALSE))","v":1.6335},{"$f":"IF($O213=\"\", \"\", VLOOKUP($O213, USSW!$F$7:$G$2000, 2, FALSE))","v":1.8278000000000001},{"$f":"IF($O213=\"\", \"\", VLOOKUP($O213, USSW!$H$7:$I$2000, 2, FALSE))","v":1.9735},{"$f":"IF($O213=\"\", \"\", VLOOKUP($O213, USSW!$J$7:$K$2000, 2, FALSE))","v":2.0908000000000002},{"$f":"IF($O213=\"\", \"\", VLOOKUP($O213, USSW!$L$7:$M$2000, 2, FALSE))","v":2.1810999999999998},{"$f":"IF($O213=\"\", \"\", VLOOKUP($O213, USSW!$N$7:$O$2000, 2, FALSE))","v":2.2555999999999998},{"$f":"IF($O213=\"\", \"\", VLOOKUP($O213, USSW!$P$7:$Q$2000, 2, FALSE))","v":2.3205},{"$f":"IF($O213=\"\", \"\", VLOOKUP($O213, USSW!$R$7:$S$2000, 2, FALSE))","v":2.3782999999999999},{"$f":"IF($O213=\"\", \"\", VLOOKUP($O213, USSW!$T$7:$U$2000, 2, FALSE))","v":2.4278}]
[null,{"$f":"IF(CAD!B211=\"\", \"\", CAD!B211)","v":"2017-03-20"},{"$f":"IF($B214=\"\", \"\", CAD!C211)","v":1.335},{"$f":"IF($B214=\"\", \"\",VLOOKUP($B214, CAD!$D$7:$E$2000, 2, FALSE))","v":1.326657},{"$f":"IF($B214=\"\", \"\",VLOOKUP($B214, CAD!$F$7:$G$2000, 2, FALSE))","v":1.31704},{"$f":"IF($B214=\"\", \"\",VLOOKUP($B214, CAD!$H$7:$I$2000, 2, FALSE))","v":1.3083},{"$f":"IF($B214=\"\", \"\",VLOOKUP($B214, CAD!$J$7:$K$2000, 2, FALSE))","v":1.3001799999999999},{"$f":"IF($B214=\"\", \"\", VLOOKUP($B214, CAD!$L$7:$M$2000, 2, FALSE))","v":1.294181},{"$f":"IF($B214=\"\", \"\", VLOOKUP($B214, CAD!$N$7:$O$2000, 2, FALSE))","v":1.28853},{"$f":"IF($B214=\"\", \"\", VLOOKUP($B214, CAD!$P$7:$Q$2000, 2, FALSE))","v":1.28511},{"$f":"IF($B214=\"\", \"\", VLOOKUP($B214, CAD!$R$7:$S$2000, 2, FALSE))","v":1.2827500000000001},{"$f":"IF($B214=\"\", \"\", VLOOKUP($B214, CAD!$T$7:$U$2000, 2, FALSE))","v":1.28209},{"$f":"IF($B214=\"\", \"\", VLOOKUP($B214, CAD!$V$7:$W$2000, 2, FALSE))","v":1.2833600000000001},null,{"$f":"IF(USSW!B211=\"\", \"\", USSW!B211)","v":"2017-03-17"},{"$f":"IF($O214=\"\", \"\", USSW!C211)","v":1.3996999999999999},{"$f":"IF($O214=\"\", \"\", VLOOKUP($O214, USSW!$D$7:$E$2000, 2, FALSE))","v":1.6516999999999999},{"$f":"IF($O214=\"\", \"\", VLOOKUP($O214, USSW!$F$7:$G$2000, 2, FALSE))","v":1.8552999999999999},{"$f":"IF($O214=\"\", \"\", VLOOKUP($O214, USSW!$H$7:$I$2000, 2, FALSE))","v":2.0063},{"$f":"IF($O214=\"\", \"\", VLOOKUP($O214, USSW!$J$7:$K$2000, 2, FALSE))","v":2.1244999999999998},{"$f":"IF($O214=\"\", \"\", VLOOKUP($O214, USSW!$L$7:$M$2000, 2, FALSE))","v":2.2185999999999999},{"$f":"IF($O214=\"\", \"\", VLOOKUP($O214, USSW!$N$7:$O$2000, 2, FALSE))","v":2.2984},{"$f":"IF($O214=\"\", \"\", VLOOKUP($O214, USSW!$P$7:$Q$2000, 2, FALSE))","v":2.3649},{"$f":"IF($O214=\"\", \"\", VLOOKUP($O214, USSW!$R$7:$S$2000, 2, FALSE))","v":2.423},{"$f":"IF($O214=\"\", \"\", VLOOKUP($O214, USSW!$T$7:$U$2000, 2, FALSE))","v":2.4731000000000001}]
[null,{"$f":"IF(CAD!B212=\"\", \"\", CAD!B212)","v":"2017-03-17"},{"$f":"IF($B215=\"\", \"\", CAD!C212)","v":1.335},{"$f":"IF($B215=\"\", \"\",VLOOKUP($B215, CAD!$D$7:$E$2000, 2, FALSE))","v":1.3265400000000001},{"$f":"IF($B215=\"\", \"\",VLOOKUP($B215, CAD!$F$7:$G$2000, 2, FALSE))","v":1.3168500000000001},{"$f":"IF($B215=\"\", \"\",VLOOKUP($B215, CAD!$H$7:$I$2000, 2, FALSE))","v":1.3080499999999999},{"$f":"IF($B215=\"\", \"\",VLOOKUP($B215, CAD!$J$7:$K$2000, 2, FALSE))","v":1.299995},{"$f":"IF($B215=\"\", \"\", VLOOKUP($B215, CAD!$L$7:$M$2000, 2, FALSE))","v":1.2930299999999999},{"$f":"IF($B215=\"\", \"\", VLOOKUP($B215, CAD!$N$7:$O$2000, 2, FALSE))","v":1.28786},{"$f":"IF($B215=\"\", \"\", VLOOKUP($B215, CAD!$P$7:$Q$2000, 2, FALSE))","v":1.28403},{"$f":"IF($B215=\"\", \"\", VLOOKUP($B215, CAD!$R$7:$S$2000, 2, FALSE))","v":1.2812049999999999},{"$f":"IF($B215=\"\", \"\", VLOOKUP($B215, CAD!$T$7:$U$2000, 2, FALSE))","v":1.2805150000000001},{"$f":"IF($B215=\"\", \"\", VLOOKUP($B215, CAD!$V$7:$W$2000, 2, FALSE))","v":1.2818799999999999},null,{"$f":"IF(USSW!B212=\"\", \"\", USSW!B212)","v":"2017-03-16"},{"$f":"IF($O215=\"\", \"\", USSW!C212)","v":1.4033},{"$f":"IF($O215=\"\", \"\", VLOOKUP($O215, USSW!$D$7:$E$2000, 2, FALSE))","v":1.6675},{"$f":"IF($O215=\"\", \"\", VLOOKUP($O215, USSW!$F$7:$G$2000, 2, FALSE))","v":1.877},{"$f":"IF($O215=\"\", \"\", VLOOKUP($O215, USSW!$H$7:$I$2000, 2, FALSE))","v":2.0326},{"$f":"IF($O215=\"\", \"\", VLOOKUP($O215, USSW!$J$7:$K$2000, 2, FALSE))","v":2.1513},{"$f":"IF($O215=\"\", \"\", VLOOKUP($O215, USSW!$L$7:$M$2000, 2, FALSE))","v":2.2475000000000001},{"$f":"IF($O215=\"\", \"\", VLOOKUP($O215, USSW!$N$7:$O$2000, 2, FALSE))","v":2.3264},{"$f":"IF($O215=\"\", \"\", VLOOKUP($O215, USSW!$P$7:$Q$2000, 2, FALSE))","v":2.395},{"$f":"IF($O215=\"\", \"\", VLOOKUP($O215, USSW!$R$7:$S$2000, 2, FALSE))","v":2.4525000000000001},{"$f":"IF($O215=\"\", \"\", VLOOKUP($O215, USSW!$T$7:$U$2000, 2, FALSE))","v":2.5028000000000001}]
[null,{"$f":"IF(CAD!B213=\"\", \"\", CAD!B213)","v":"2017-03-16"},{"$f":"IF($B216=\"\", \"\", CAD!C213)","v":1.3319000000000001},{"$f":"IF($B216=\"\", \"\",VLOOKUP($B216, CAD!$D$7:$E$2000, 2, FALSE))","v":1.32351},{"$f":"IF($B216=\"\", \"\",VLOOKUP($B216, CAD!$F$7:$G$2000, 2, FALSE))","v":1.31406},{"$f":"IF($B216=\"\", \"\",VLOOKUP($B216, CAD!$H$7:$I$2000, 2, FALSE))","v":1.3048500000000001},{"$f":"IF($B216=\"\", \"\",VLOOKUP($B216, CAD!$J$7:$K$2000, 2, FALSE))","v":1.2981799999999999},{"$f":"IF($B216=\"\", \"\", VLOOKUP($B216, CAD!$L$7:$M$2000, 2, FALSE))","v":1.2915099999999999},{"$f":"IF($B216=\"\", \"\", VLOOKUP($B216, CAD!$N$7:$O$2000, 2, FALSE))","v":1.2849299999999999},{"$f":"IF($B216=\"\", \"\", VLOOKUP($B216, CAD!$P$7:$Q$2000, 2, FALSE))","v":1.2815099999999999},{"$f":"IF($B216=\"\", \"\", VLOOKUP($B216, CAD!$R$7:$S$2000, 2, FALSE))","v":1.2790999999999999},{"$f":"IF($B216=\"\", \"\", VLOOKUP($B216, CAD!$T$7:$U$2000, 2, FALSE))","v":1.2787999999999999},{"$f":"IF($B216=\"\", \"\", VLOOKUP($B216, CAD!$V$7:$W$2000, 2, FALSE))","v":1.2802500000000001},null,{"$f":"IF(USSW!B213=\"\", \"\", USSW!B213)","v":"2017-03-15"},{"$f":"IF($O216=\"\", \"\", USSW!C213)","v":1.391},{"$f":"IF($O216=\"\", \"\", VLOOKUP($O216, USSW!$D$7:$E$2000, 2, FALSE))","v":1.6396999999999999},{"$f":"IF($O216=\"\", \"\", VLOOKUP($O216, USSW!$F$7:$G$2000, 2, FALSE))","v":1.8440000000000001},{"$f":"IF($O216=\"\", \"\", VLOOKUP($O216, USSW!$H$7:$I$2000, 2, FALSE))","v":1.9955000000000001},{"$f":"IF($O216=\"\", \"\", VLOOKUP($O216, USSW!$J$7:$K$2000, 2, FALSE))","v":2.1128999999999998},{"$f":"IF($O216=\"\", \"\", VLOOKUP($O216, USSW!$L$7:$M$2000, 2, FALSE))","v":2.2080000000000002},{"$f":"IF($O216=\"\", \"\", VLOOKUP($O216, USSW!$N$7:$O$2000, 2, FALSE))","v":2.2881},{"$f":"IF($O216=\"\", \"\", VLOOKUP($O216, USSW!$P$7:$Q$2000, 2, FALSE))","v":2.3567},{"$f":"IF($O216=\"\", \"\", VLOOKUP($O216, USSW!$R$7:$S$2000, 2, FALSE))","v":2.415},{"$f":"IF($O216=\"\", \"\", VLOOKUP($O216, USSW!$T$7:$U$2000, 2, FALSE))","v":2.4664999999999999}]
[null,{"$f":"IF(CAD!B214=\"\", \"\", CAD!B214)","v":"2017-03-15"},{"$f":"IF($B217=\"\", \"\", CAD!C214)","v":1.3304},{"$f":"IF($B217=\"\", \"\",VLOOKUP($B217, CAD!$D$7:$E$2000, 2, FALSE))","v":1.3221000000000001},{"$f":"IF($B217=\"\", \"\",VLOOKUP($B217, CAD!$F$7:$G$2000, 2, FALSE))","v":1.3127450000000001},{"$f":"IF($B217=\"\", \"\",VLOOKUP($B217, CAD!$H$7:$I$2000, 2, FALSE))","v":1.30335},{"$f":"IF($B217=\"\", \"\",VLOOKUP($B217, CAD!$J$7:$K$2000, 2, FALSE))","v":1.2954399999999999},{"$f":"IF($B217=\"\", \"\", VLOOKUP($B217, CAD!$L$7:$M$2000, 2, FALSE))","v":1.28918},{"$f":"IF($B217=\"\", \"\", VLOOKUP($B217, CAD!$N$7:$O$2000, 2, FALSE))","v":1.28396},{"$f":"IF($B217=\"\", \"\", VLOOKUP($B217, CAD!$P$7:$Q$2000, 2, FALSE))","v":1.2803800000000001},{"$f":"IF($B217=\"\", \"\", VLOOKUP($B217, CAD!$R$7:$S$2000, 2, FALSE))","v":1.27752},{"$f":"IF($B217=\"\", \"\", VLOOKUP($B217, CAD!$T$7:$U$2000, 2, FALSE))","v":1.27704},{"$f":"IF($B217=\"\", \"\", VLOOKUP($B217, CAD!$V$7:$W$2000, 2, FALSE))","v":1.27823},null,{"$f":"IF(USSW!B214=\"\", \"\", USSW!B214)","v":"2017-03-14"},{"$f":"IF($O217=\"\", \"\", USSW!C214)","v":1.4185000000000001},{"$f":"IF($O217=\"\", \"\", VLOOKUP($O217, USSW!$D$7:$E$2000, 2, FALSE))","v":1.7093},{"$f":"IF($O217=\"\", \"\", VLOOKUP($O217, USSW!$F$7:$G$2000, 2, FALSE))","v":1.9376},{"$f":"IF($O217=\"\", \"\", VLOOKUP($O217, USSW!$H$7:$I$2000, 2, FALSE))","v":2.1023999999999998},{"$f":"IF($O217=\"\", \"\", VLOOKUP($O217, USSW!$J$7:$K$2000, 2, FALSE))","v":2.2273000000000001},{"$f":"IF($O217=\"\", \"\", VLOOKUP($O217, USSW!$L$7:$M$2000, 2, FALSE))","v":2.3246000000000002},{"$f":"IF($O217=\"\", \"\", VLOOKUP($O217, USSW!$N$7:$O$2000, 2, FALSE))","v":2.4024999999999999},{"$f":"IF($O217=\"\", \"\", VLOOKUP($O217, USSW!$P$7:$Q$2000, 2, FALSE))","v":2.4674999999999998},{"$f":"IF($O217=\"\", \"\", VLOOKUP($O217, USSW!$R$7:$S$2000, 2, FALSE))","v":2.5228000000000002},{"$f":"IF($O217=\"\", \"\", VLOOKUP($O217, USSW!$T$7:$U$2000, 2, FALSE))","v":2.5712999999999999}]
[null,{"$f":"IF(CAD!B215=\"\", \"\", CAD!B215)","v":"2017-03-14"},{"$f":"IF($B218=\"\", \"\", CAD!C215)","v":1.3479000000000001},{"$f":"IF($B218=\"\", \"\",VLOOKUP($B218, CAD!$D$7:$E$2000, 2, FALSE))","v":1.3392040000000001},{"$f":"IF($B218=\"\", \"\",VLOOKUP($B218, CAD!$F$7:$G$2000, 2, FALSE))","v":1.3285499999999999},{"$f":"IF($B218=\"\", \"\",VLOOKUP($B218, CAD!$H$7:$I$2000, 2, FALSE))","v":1.3188550000000001},{"$f":"IF($B218=\"\", \"\",VLOOKUP($B218, CAD!$J$7:$K$2000, 2, FALSE))","v":1.3097399999999999},{"$f":"IF($B218=\"\", \"\", VLOOKUP($B218, CAD!$L$7:$M$2000, 2, FALSE))","v":1.3025850000000001},{"$f":"IF($B218=\"\", \"\", VLOOKUP($B218, CAD!$N$7:$O$2000, 2, FALSE))","v":1.29654},{"$f":"IF($B218=\"\", \"\", VLOOKUP($B218, CAD!$P$7:$Q$2000, 2, FALSE))","v":1.292405},{"$f":"IF($B218=\"\", \"\", VLOOKUP($B218, CAD!$R$7:$S$2000, 2, FALSE))","v":1.2892650000000001},{"$f":"IF($B218=\"\", \"\", VLOOKUP($B218, CAD!$T$7:$U$2000, 2, FALSE))","v":1.28772},{"$f":"IF($B218=\"\", \"\", VLOOKUP($B218, CAD!$V$7:$W$2000, 2, FALSE))","v":1.2878700000000001},null,{"$f":"IF(USSW!B215=\"\", \"\", USSW!B215)","v":"2017-03-13"},{"$f":"IF($O218=\"\", \"\", USSW!C215)","v":1.4216},{"$f":"IF($O218=\"\", \"\", VLOOKUP($O218, USSW!$D$7:$E$2000, 2, FALSE))","v":1.7128000000000001},{"$f":"IF($O218=\"\", \"\", VLOOKUP($O218, USSW!$F$7:$G$2000, 2, FALSE))","v":1.9460999999999999},{"$f":"IF($O218=\"\", \"\", VLOOKUP($O218, USSW!$H$7:$I$2000, 2, FALSE))","v":2.1139999999999999},{"$f":"IF($O218=\"\", \"\", VLOOKUP($O218, USSW!$J$7:$K$2000, 2, FALSE))","v":2.2385999999999999},{"$f":"IF($O218=\"\", \"\", VLOOKUP($O218, USSW!$L$7:$M$2000, 2, FALSE))","v":2.34},{"$f":"IF($O218=\"\", \"\", VLOOKUP($O218, USSW!$N$7:$O$2000, 2, FALSE))","v":2.4215},{"$f":"IF($O218=\"\", \"\", VLOOKUP($O218, USSW!$P$7:$Q$2000, 2, FALSE))","v":2.4910000000000001},{"$f":"IF($O218=\"\", \"\", VLOOKUP($O218, USSW!$R$7:$S$2000, 2, FALSE))","v":2.5478000000000001},{"$f":"IF($O218=\"\", \"\", VLOOKUP($O218, USSW!$T$7:$U$2000, 2, FALSE))","v":2.5987}]
[null,{"$f":"IF(CAD!B216=\"\", \"\", CAD!B216)","v":"2017-03-13"},{"$f":"IF($B219=\"\", \"\", CAD!C216)","v":1.3446},{"$f":"IF($B219=\"\", \"\",VLOOKUP($B219, CAD!$D$7:$E$2000, 2, FALSE))","v":1.3360989999999999},{"$f":"IF($B219=\"\", \"\",VLOOKUP($B219, CAD!$F$7:$G$2000, 2, FALSE))","v":1.325825},{"$f":"IF($B219=\"\", \"\",VLOOKUP($B219, CAD!$H$7:$I$2000, 2, FALSE))","v":1.31585},{"$f":"IF($B219=\"\", \"\",VLOOKUP($B219, CAD!$J$7:$K$2000, 2, FALSE))","v":1.3074650000000001},{"$f":"IF($B219=\"\", \"\", VLOOKUP($B219, CAD!$L$7:$M$2000, 2, FALSE))","v":1.3014250000000001},{"$f":"IF($B219=\"\", \"\", VLOOKUP($B219, CAD!$N$7:$O$2000, 2, FALSE))","v":1.2948299999999999},{"$f":"IF($B219=\"\", \"\", VLOOKUP($B219, CAD!$P$7:$Q$2000, 2, FALSE))","v":1.2903800000000001},{"$f":"IF($B219=\"\", \"\", VLOOKUP($B219, CAD!$R$7:$S$2000, 2, FALSE))","v":1.2867850000000001},{"$f":"IF($B219=\"\", \"\", VLOOKUP($B219, CAD!$T$7:$U$2000, 2, FALSE))","v":1.2854749999999999},{"$f":"IF($B219=\"\", \"\", VLOOKUP($B219, CAD!$V$7:$W$2000, 2, FALSE))","v":1.2862199999999999},null,{"$f":"IF(USSW!B216=\"\", \"\", USSW!B216)","v":"2017-03-10"},{"$f":"IF($O219=\"\", \"\", USSW!C216)","v":1.4097},{"$f":"IF($O219=\"\", \"\", VLOOKUP($O219, USSW!$D$7:$E$2000, 2, FALSE))","v":1.6954},{"$f":"IF($O219=\"\", \"\", VLOOKUP($O219, USSW!$F$7:$G$2000, 2, FALSE))","v":1.9227000000000001},{"$f":"IF($O219=\"\", \"\", VLOOKUP($O219, USSW!$H$7:$I$2000, 2, FALSE))","v":2.0846},{"$f":"IF($O219=\"\", \"\", VLOOKUP($O219, USSW!$J$7:$K$2000, 2, FALSE))","v":2.2040000000000002},{"$f":"IF($O219=\"\", \"\", VLOOKUP($O219, USSW!$L$7:$M$2000, 2, FALSE))","v":2.3003},{"$f":"IF($O219=\"\", \"\", VLOOKUP($O219, USSW!$N$7:$O$2000, 2, FALSE))","v":2.3793000000000002},{"$f":"IF($O219=\"\", \"\", VLOOKUP($O219, USSW!$P$7:$Q$2000, 2, FALSE))","v":2.4443999999999999},{"$f":"IF($O219=\"\", \"\", VLOOKUP($O219, USSW!$R$7:$S$2000, 2, FALSE))","v":2.5007000000000001},{"$f":"IF($O219=\"\", \"\", VLOOKUP($O219, USSW!$T$7:$U$2000, 2, FALSE))","v":2.5508000000000002}]
[null,{"$f":"IF(CAD!B217=\"\", \"\", CAD!B217)","v":"2017-03-10"},{"$f":"IF($B220=\"\", \"\", CAD!C217)","v":1.3471},{"$f":"IF($B220=\"\", \"\",VLOOKUP($B220, CAD!$D$7:$E$2000, 2, FALSE))","v":1.3386039999999999},{"$f":"IF($B220=\"\", \"\",VLOOKUP($B220, CAD!$F$7:$G$2000, 2, FALSE))","v":1.3282400000000001},{"$f":"IF($B220=\"\", \"\",VLOOKUP($B220, CAD!$H$7:$I$2000, 2, FALSE))","v":1.3180499999999999},{"$f":"IF($B220=\"\", \"\",VLOOKUP($B220, CAD!$J$7:$K$2000, 2, FALSE))","v":1.3087500000000001},{"$f":"IF($B220=\"\", \"\", VLOOKUP($B220, CAD!$L$7:$M$2000, 2, FALSE))","v":1.302646},{"$f":"IF($B220=\"\", \"\", VLOOKUP($B220, CAD!$N$7:$O$2000, 2, FALSE))","v":1.2958499999999999},{"$f":"IF($B220=\"\", \"\", VLOOKUP($B220, CAD!$P$7:$Q$2000, 2, FALSE))","v":1.2910600000000001},{"$f":"IF($B220=\"\", \"\", VLOOKUP($B220, CAD!$R$7:$S$2000, 2, FALSE))","v":1.2881849999999999},{"$f":"IF($B220=\"\", \"\", VLOOKUP($B220, CAD!$T$7:$U$2000, 2, FALSE))","v":1.2866850000000001},{"$f":"IF($B220=\"\", \"\", VLOOKUP($B220, CAD!$V$7:$W$2000, 2, FALSE))","v":1.2866},null,{"$f":"IF(USSW!B217=\"\", \"\", USSW!B217)","v":"2017-03-09"},{"$f":"IF($O220=\"\", \"\", USSW!C217)","v":1.4057999999999999},{"$f":"IF($O220=\"\", \"\", VLOOKUP($O220, USSW!$D$7:$E$2000, 2, FALSE))","v":1.7029000000000001},{"$f":"IF($O220=\"\", \"\", VLOOKUP($O220, USSW!$F$7:$G$2000, 2, FALSE))","v":1.9354},{"$f":"IF($O220=\"\", \"\", VLOOKUP($O220, USSW!$H$7:$I$2000, 2, FALSE))","v":2.1044},{"$f":"IF($O220=\"\", \"\", VLOOKUP($O220, USSW!$J$7:$K$2000, 2, FALSE))","v":2.2290999999999999},{"$f":"IF($O220=\"\", \"\", VLOOKUP($O220, USSW!$L$7:$M$2000, 2, FALSE))","v":2.3239999999999998},{"$f":"IF($O220=\"\", \"\", VLOOKUP($O220, USSW!$N$7:$O$2000, 2, FALSE))","v":2.4024999999999999},{"$f":"IF($O220=\"\", \"\", VLOOKUP($O220, USSW!$P$7:$Q$2000, 2, FALSE))","v":2.4683000000000002},{"$f":"IF($O220=\"\", \"\", VLOOKUP($O220, USSW!$R$7:$S$2000, 2, FALSE))","v":2.5243000000000002},{"$f":"IF($O220=\"\", \"\", VLOOKUP($O220, USSW!$T$7:$U$2000, 2, FALSE))","v":2.5720000000000001}]
[null,{"$f":"IF(CAD!B218=\"\", \"\", CAD!B218)","v":"2017-03-09"},{"$f":"IF($B221=\"\", \"\", CAD!C218)","v":1.3511},{"$f":"IF($B221=\"\", \"\",VLOOKUP($B221, CAD!$D$7:$E$2000, 2, FALSE))","v":1.34259},{"$f":"IF($B221=\"\", \"\",VLOOKUP($B221, CAD!$F$7:$G$2000, 2, FALSE))","v":1.33155},{"$f":"IF($B221=\"\", \"\",VLOOKUP($B221, CAD!$H$7:$I$2000, 2, FALSE))","v":1.3208500000000001},{"$f":"IF($B221=\"\", \"\",VLOOKUP($B221, CAD!$J$7:$K$2000, 2, FALSE))","v":1.3109999999999999},{"$f":"IF($B221=\"\", \"\", VLOOKUP($B221, CAD!$L$7:$M$2000, 2, FALSE))","v":1.3043389999999999},{"$f":"IF($B221=\"\", \"\", VLOOKUP($B221, CAD!$N$7:$O$2000, 2, FALSE))","v":1.29705},{"$f":"IF($B221=\"\", \"\", VLOOKUP($B221, CAD!$P$7:$Q$2000, 2, FALSE))","v":1.29155},{"$f":"IF($B221=\"\", \"\", VLOOKUP($B221, CAD!$R$7:$S$2000, 2, FALSE))","v":1.2885800000000001},{"$f":"IF($B221=\"\", \"\", VLOOKUP($B221, CAD!$T$7:$U$2000, 2, FALSE))","v":1.286645},{"$f":"IF($B221=\"\", \"\", VLOOKUP($B221, CAD!$V$7:$W$2000, 2, FALSE))","v":1.2866},null,{"$f":"IF(USSW!B218=\"\", \"\", USSW!B218)","v":"2017-03-08"},{"$f":"IF($O221=\"\", \"\", USSW!C218)","v":1.383},{"$f":"IF($O221=\"\", \"\", VLOOKUP($O221, USSW!$D$7:$E$2000, 2, FALSE))","v":1.6713},{"$f":"IF($O221=\"\", \"\", VLOOKUP($O221, USSW!$F$7:$G$2000, 2, FALSE))","v":1.8954},{"$f":"IF($O221=\"\", \"\", VLOOKUP($O221, USSW!$H$7:$I$2000, 2, FALSE))","v":2.0568},{"$f":"IF($O221=\"\", \"\", VLOOKUP($O221, USSW!$J$7:$K$2000, 2, FALSE))","v":2.1743999999999999},{"$f":"IF($O221=\"\", \"\", VLOOKUP($O221, USSW!$L$7:$M$2000, 2, FALSE))","v":2.2684000000000002},{"$f":"IF($O221=\"\", \"\", VLOOKUP($O221, USSW!$N$7:$O$2000, 2, FALSE))","v":2.3460000000000001},{"$f":"IF($O221=\"\", \"\", VLOOKUP($O221, USSW!$P$7:$Q$2000, 2, FALSE))","v":2.4110999999999998},{"$f":"IF($O221=\"\", \"\", VLOOKUP($O221, USSW!$R$7:$S$2000, 2, FALSE))","v":2.4664000000000001},{"$f":"IF($O221=\"\", \"\", VLOOKUP($O221, USSW!$T$7:$U$2000, 2, FALSE))","v":2.5135000000000001}]
[null,{"$f":"IF(CAD!B219=\"\", \"\", CAD!B219)","v":"2017-03-08"},{"$f":"IF($B222=\"\", \"\", CAD!C219)","v":1.3491},{"$f":"IF($B222=\"\", \"\",VLOOKUP($B222, CAD!$D$7:$E$2000, 2, FALSE))","v":1.3409899999999999},{"$f":"IF($B222=\"\", \"\",VLOOKUP($B222, CAD!$F$7:$G$2000, 2, FALSE))","v":1.3300620000000001},{"$f":"IF($B222=\"\", \"\",VLOOKUP($B222, CAD!$H$7:$I$2000, 2, FALSE))","v":1.31935},{"$f":"IF($B222=\"\", \"\",VLOOKUP($B222, CAD!$J$7:$K$2000, 2, FALSE))","v":1.31013},{"$f":"IF($B222=\"\", \"\", VLOOKUP($B222, CAD!$L$7:$M$2000, 2, FALSE))","v":1.3107470000000001},{"$f":"IF($B222=\"\", \"\", VLOOKUP($B222, CAD!$N$7:$O$2000, 2, FALSE))","v":1.2959499999999999},{"$f":"IF($B222=\"\", \"\", VLOOKUP($B222, CAD!$P$7:$Q$2000, 2, FALSE))","v":1.2908500000000001},{"$f":"IF($B222=\"\", \"\", VLOOKUP($B222, CAD!$R$7:$S$2000, 2, FALSE))","v":1.2878000000000001},{"$f":"IF($B222=\"\", \"\", VLOOKUP($B222, CAD!$T$7:$U$2000, 2, FALSE))","v":1.2974000000000001},{"$f":"IF($B222=\"\", \"\", VLOOKUP($B222, CAD!$V$7:$W$2000, 2, FALSE))","v":1.2862},null,{"$f":"IF(USSW!B219=\"\", \"\", USSW!B219)","v":"2017-03-07"},{"$f":"IF($O222=\"\", \"\", USSW!C219)","v":1.3671},{"$f":"IF($O222=\"\", \"\", VLOOKUP($O222, USSW!$D$7:$E$2000, 2, FALSE))","v":1.6479999999999999},{"$f":"IF($O222=\"\", \"\", VLOOKUP($O222, USSW!$F$7:$G$2000, 2, FALSE))","v":1.8644000000000001},{"$f":"IF($O222=\"\", \"\", VLOOKUP($O222, USSW!$H$7:$I$2000, 2, FALSE))","v":2.0190000000000001},{"$f":"IF($O222=\"\", \"\", VLOOKUP($O222, USSW!$J$7:$K$2000, 2, FALSE))","v":2.1335999999999999},{"$f":"IF($O222=\"\", \"\", VLOOKUP($O222, USSW!$L$7:$M$2000, 2, FALSE))","v":2.2250000000000001},{"$f":"IF($O222=\"\", \"\", VLOOKUP($O222, USSW!$N$7:$O$2000, 2, FALSE))","v":2.3010000000000002},{"$f":"IF($O222=\"\", \"\", VLOOKUP($O222, USSW!$P$7:$Q$2000, 2, FALSE))","v":2.3645999999999998},{"$f":"IF($O222=\"\", \"\", VLOOKUP($O222, USSW!$R$7:$S$2000, 2, FALSE))","v":2.4184999999999999},{"$f":"IF($O222=\"\", \"\", VLOOKUP($O222, USSW!$T$7:$U$2000, 2, FALSE))","v":2.4662999999999999}]
[null,{"$f":"IF(CAD!B220=\"\", \"\", CAD!B220)","v":"2017-03-07"},{"$f":"IF($B223=\"\", \"\", CAD!C220)","v":1.3412999999999999},{"$f":"IF($B223=\"\", \"\",VLOOKUP($B223, CAD!$D$7:$E$2000, 2, FALSE))","v":1.3335300000000001},{"$f":"IF($B223=\"\", \"\",VLOOKUP($B223, CAD!$F$7:$G$2000, 2, FALSE))","v":1.3230440000000001},{"$f":"IF($B223=\"\", \"\",VLOOKUP($B223, CAD!$H$7:$I$2000, 2, FALSE))","v":1.3121499999999999},{"$f":"IF($B223=\"\", \"\",VLOOKUP($B223, CAD!$J$7:$K$2000, 2, FALSE))","v":1.3019499999999999},{"$f":"IF($B223=\"\", \"\", VLOOKUP($B223, CAD!$L$7:$M$2000, 2, FALSE))","v":1.302978},{"$f":"IF($B223=\"\", \"\", VLOOKUP($B223, CAD!$N$7:$O$2000, 2, FALSE))","v":1.2888500000000001},{"$f":"IF($B223=\"\", \"\", VLOOKUP($B223, CAD!$P$7:$Q$2000, 2, FALSE))","v":1.2845500000000001},{"$f":"IF($B223=\"\", \"\", VLOOKUP($B223, CAD!$R$7:$S$2000, 2, FALSE))","v":1.2815000000000001},{"$f":"IF($B223=\"\", \"\", VLOOKUP($B223, CAD!$T$7:$U$2000, 2, FALSE))","v":1.290875},{"$f":"IF($B223=\"\", \"\", VLOOKUP($B223, CAD!$V$7:$W$2000, 2, FALSE))","v":1.2805},null,{"$f":"IF(USSW!B220=\"\", \"\", USSW!B220)","v":"2017-03-06"},{"$f":"IF($O223=\"\", \"\", USSW!C220)","v":1.3605},{"$f":"IF($O223=\"\", \"\", VLOOKUP($O223, USSW!$D$7:$E$2000, 2, FALSE))","v":1.6352},{"$f":"IF($O223=\"\", \"\", VLOOKUP($O223, USSW!$F$7:$G$2000, 2, FALSE))","v":1.8501000000000001},{"$f":"IF($O223=\"\", \"\", VLOOKUP($O223, USSW!$H$7:$I$2000, 2, FALSE))","v":2.0059999999999998},{"$f":"IF($O223=\"\", \"\", VLOOKUP($O223, USSW!$J$7:$K$2000, 2, FALSE))","v":2.1194000000000002},{"$f":"IF($O223=\"\", \"\", VLOOKUP($O223, USSW!$L$7:$M$2000, 2, FALSE))","v":2.2143000000000002},{"$f":"IF($O223=\"\", \"\", VLOOKUP($O223, USSW!$N$7:$O$2000, 2, FALSE))","v":2.2919999999999998},{"$f":"IF($O223=\"\", \"\", VLOOKUP($O223, USSW!$P$7:$Q$2000, 2, FALSE))","v":2.3582999999999998},{"$f":"IF($O223=\"\", \"\", VLOOKUP($O223, USSW!$R$7:$S$2000, 2, FALSE))","v":2.4144999999999999},{"$f":"IF($O223=\"\", \"\", VLOOKUP($O223, USSW!$T$7:$U$2000, 2, FALSE))","v":2.4630000000000001}]
[null,{"$f":"IF(CAD!B221=\"\", \"\", CAD!B221)","v":"2017-03-06"},{"$f":"IF($B224=\"\", \"\", CAD!C221)","v":1.3411999999999999},{"$f":"IF($B224=\"\", \"\",VLOOKUP($B224, CAD!$D$7:$E$2000, 2, FALSE))","v":1.3334299999999999},{"$f":"IF($B224=\"\", \"\",VLOOKUP($B224, CAD!$F$7:$G$2000, 2, FALSE))","v":1.322721},{"$f":"IF($B224=\"\", \"\",VLOOKUP($B224, CAD!$H$7:$I$2000, 2, FALSE))","v":1.31175},{"$f":"IF($B224=\"\", \"\",VLOOKUP($B224, CAD!$J$7:$K$2000, 2, FALSE))","v":1.3022499999999999},{"$f":"IF($B224=\"\", \"\", VLOOKUP($B224, CAD!$L$7:$M$2000, 2, FALSE))","v":1.3028839999999999},{"$f":"IF($B224=\"\", \"\", VLOOKUP($B224, CAD!$N$7:$O$2000, 2, FALSE))","v":1.28752},{"$f":"IF($B224=\"\", \"\", VLOOKUP($B224, CAD!$P$7:$Q$2000, 2, FALSE))","v":1.2828999999999999},{"$f":"IF($B224=\"\", \"\", VLOOKUP($B224, CAD!$R$7:$S$2000, 2, FALSE))","v":1.2801400000000001},{"$f":"IF($B224=\"\", \"\", VLOOKUP($B224, CAD!$T$7:$U$2000, 2, FALSE))","v":1.27884},{"$f":"IF($B224=\"\", \"\", VLOOKUP($B224, CAD!$V$7:$W$2000, 2, FALSE))","v":1.27854},null,{"$f":"IF(USSW!B221=\"\", \"\", USSW!B221)","v":"2017-03-03"},{"$f":"IF($O224=\"\", \"\", USSW!C221)","v":1.3732},{"$f":"IF($O224=\"\", \"\", VLOOKUP($O224, USSW!$D$7:$E$2000, 2, FALSE))","v":1.6503000000000001},{"$f":"IF($O224=\"\", \"\", VLOOKUP($O224, USSW!$F$7:$G$2000, 2, FALSE))","v":1.8628},{"$f":"IF($O224=\"\", \"\", VLOOKUP($O224, USSW!$H$7:$I$2000, 2, FALSE))","v":2.0135000000000001},{"$f":"IF($O224=\"\", \"\", VLOOKUP($O224, USSW!$J$7:$K$2000, 2, FALSE))","v":2.1253000000000002},{"$f":"IF($O224=\"\", \"\", VLOOKUP($O224, USSW!$L$7:$M$2000, 2, FALSE))","v":2.2145999999999999},{"$f":"IF($O224=\"\", \"\", VLOOKUP($O224, USSW!$N$7:$O$2000, 2, FALSE))","v":2.2907999999999999},{"$f":"IF($O224=\"\", \"\", VLOOKUP($O224, USSW!$P$7:$Q$2000, 2, FALSE))","v":2.3534999999999999},{"$f":"IF($O224=\"\", \"\", VLOOKUP($O224, USSW!$R$7:$S$2000, 2, FALSE))","v":2.4073000000000002},{"$f":"IF($O224=\"\", \"\", VLOOKUP($O224, USSW!$T$7:$U$2000, 2, FALSE))","v":2.4550000000000001}]
[null,{"$f":"IF(CAD!B222=\"\", \"\", CAD!B222)","v":"2017-03-03"},{"$f":"IF($B225=\"\", \"\", CAD!C222)","v":1.3380000000000001},{"$f":"IF($B225=\"\", \"\",VLOOKUP($B225, CAD!$D$7:$E$2000, 2, FALSE))","v":1.3302449999999999},{"$f":"IF($B225=\"\", \"\",VLOOKUP($B225, CAD!$F$7:$G$2000, 2, FALSE))","v":1.3192429999999999},{"$f":"IF($B225=\"\", \"\",VLOOKUP($B225, CAD!$H$7:$I$2000, 2, FALSE))","v":1.3088649999999999},{"$f":"IF($B225=\"\", \"\",VLOOKUP($B225, CAD!$J$7:$K$2000, 2, FALSE))","v":1.29881},{"$f":"IF($B225=\"\", \"\", VLOOKUP($B225, CAD!$L$7:$M$2000, 2, FALSE))","v":1.2929060000000001},{"$f":"IF($B225=\"\", \"\", VLOOKUP($B225, CAD!$N$7:$O$2000, 2, FALSE))","v":1.28535},{"$f":"IF($B225=\"\", \"\", VLOOKUP($B225, CAD!$P$7:$Q$2000, 2, FALSE))","v":1.2806599999999999},{"$f":"IF($B225=\"\", \"\", VLOOKUP($B225, CAD!$R$7:$S$2000, 2, FALSE))","v":1.2772399999999999},{"$f":"IF($B225=\"\", \"\", VLOOKUP($B225, CAD!$T$7:$U$2000, 2, FALSE))","v":1.2764500000000001},{"$f":"IF($B225=\"\", \"\", VLOOKUP($B225, CAD!$V$7:$W$2000, 2, FALSE))","v":1.27749},null,{"$f":"IF(USSW!B222=\"\", \"\", USSW!B222)","v":"2017-03-02"},{"$f":"IF($O225=\"\", \"\", USSW!C222)","v":1.3815},{"$f":"IF($O225=\"\", \"\", VLOOKUP($O225, USSW!$D$7:$E$2000, 2, FALSE))","v":1.6573},{"$f":"IF($O225=\"\", \"\", VLOOKUP($O225, USSW!$F$7:$G$2000, 2, FALSE))","v":1.8655999999999999},{"$f":"IF($O225=\"\", \"\", VLOOKUP($O225, USSW!$H$7:$I$2000, 2, FALSE))","v":2.0146000000000002},{"$f":"IF($O225=\"\", \"\", VLOOKUP($O225, USSW!$J$7:$K$2000, 2, FALSE))","v":2.1252},{"$f":"IF($O225=\"\", \"\", VLOOKUP($O225, USSW!$L$7:$M$2000, 2, FALSE))","v":2.2164999999999999},{"$f":"IF($O225=\"\", \"\", VLOOKUP($O225, USSW!$N$7:$O$2000, 2, FALSE))","v":2.2919},{"$f":"IF($O225=\"\", \"\", VLOOKUP($O225, USSW!$P$7:$Q$2000, 2, FALSE))","v":2.3549000000000002},{"$f":"IF($O225=\"\", \"\", VLOOKUP($O225, USSW!$R$7:$S$2000, 2, FALSE))","v":2.4096000000000002},{"$f":"IF($O225=\"\", \"\", VLOOKUP($O225, USSW!$T$7:$U$2000, 2, FALSE))","v":2.4565000000000001}]
[null,{"$f":"IF(CAD!B223=\"\", \"\", CAD!B223)","v":"2017-03-02"},{"$f":"IF($B226=\"\", \"\", CAD!C223)","v":1.3391},{"$f":"IF($B226=\"\", \"\",VLOOKUP($B226, CAD!$D$7:$E$2000, 2, FALSE))","v":1.33134},{"$f":"IF($B226=\"\", \"\",VLOOKUP($B226, CAD!$F$7:$G$2000, 2, FALSE))","v":1.3207599999999999},{"$f":"IF($B226=\"\", \"\",VLOOKUP($B226, CAD!$H$7:$I$2000, 2, FALSE))","v":1.3098700000000001},{"$f":"IF($B226=\"\", \"\",VLOOKUP($B226, CAD!$J$7:$K$2000, 2, FALSE))","v":1.300475},{"$f":"IF($B226=\"\", \"\", VLOOKUP($B226, CAD!$L$7:$M$2000, 2, FALSE))","v":1.2945979999999999},{"$f":"IF($B226=\"\", \"\", VLOOKUP($B226, CAD!$N$7:$O$2000, 2, FALSE))","v":1.2863},{"$f":"IF($B226=\"\", \"\", VLOOKUP($B226, CAD!$P$7:$Q$2000, 2, FALSE))","v":1.2810600000000001},{"$f":"IF($B226=\"\", \"\", VLOOKUP($B226, CAD!$R$7:$S$2000, 2, FALSE))","v":1.2775700000000001},{"$f":"IF($B226=\"\", \"\", VLOOKUP($B226, CAD!$T$7:$U$2000, 2, FALSE))","v":1.2764899999999999},{"$f":"IF($B226=\"\", \"\", VLOOKUP($B226, CAD!$V$7:$W$2000, 2, FALSE))","v":1.27746},null,{"$f":"IF(USSW!B223=\"\", \"\", USSW!B223)","v":"2017-03-01"},{"$f":"IF($O226=\"\", \"\", USSW!C223)","v":1.3608},{"$f":"IF($O226=\"\", \"\", VLOOKUP($O226, USSW!$D$7:$E$2000, 2, FALSE))","v":1.6253},{"$f":"IF($O226=\"\", \"\", VLOOKUP($O226, USSW!$F$7:$G$2000, 2, FALSE))","v":1.8271999999999999},{"$f":"IF($O226=\"\", \"\", VLOOKUP($O226, USSW!$H$7:$I$2000, 2, FALSE))","v":1.976},{"$f":"IF($O226=\"\", \"\", VLOOKUP($O226, USSW!$J$7:$K$2000, 2, FALSE))","v":2.0865},{"$f":"IF($O226=\"\", \"\", VLOOKUP($O226, USSW!$L$7:$M$2000, 2, FALSE))","v":2.1785000000000001},{"$f":"IF($O226=\"\", \"\", VLOOKUP($O226, USSW!$N$7:$O$2000, 2, FALSE))","v":2.2557999999999998},{"$f":"IF($O226=\"\", \"\", VLOOKUP($O226, USSW!$P$7:$Q$2000, 2, FALSE))","v":2.3191999999999999},{"$f":"IF($O226=\"\", \"\", VLOOKUP($O226, USSW!$R$7:$S$2000, 2, FALSE))","v":2.3734000000000002},{"$f":"IF($O226=\"\", \"\", VLOOKUP($O226, USSW!$T$7:$U$2000, 2, FALSE))","v":2.4207000000000001}]
[null,{"$f":"IF(CAD!B224=\"\", \"\", CAD!B224)","v":"2017-03-01"},{"$f":"IF($B227=\"\", \"\", CAD!C224)","v":1.3325},{"$f":"IF($B227=\"\", \"\",VLOOKUP($B227, CAD!$D$7:$E$2000, 2, FALSE))","v":1.3250150000000001},{"$f":"IF($B227=\"\", \"\",VLOOKUP($B227, CAD!$F$7:$G$2000, 2, FALSE))","v":1.3141959999999999},{"$f":"IF($B227=\"\", \"\",VLOOKUP($B227, CAD!$H$7:$I$2000, 2, FALSE))","v":1.3047390000000001},{"$f":"IF($B227=\"\", \"\",VLOOKUP($B227, CAD!$J$7:$K$2000, 2, FALSE))","v":1.2951699999999999},{"$f":"IF($B227=\"\", \"\", VLOOKUP($B227, CAD!$L$7:$M$2000, 2, FALSE))","v":1.289121},{"$f":"IF($B227=\"\", \"\", VLOOKUP($B227, CAD!$N$7:$O$2000, 2, FALSE))","v":1.2819},{"$f":"IF($B227=\"\", \"\", VLOOKUP($B227, CAD!$P$7:$Q$2000, 2, FALSE))","v":1.27685},{"$f":"IF($B227=\"\", \"\", VLOOKUP($B227, CAD!$R$7:$S$2000, 2, FALSE))","v":1.2740800000000001},{"$f":"IF($B227=\"\", \"\", VLOOKUP($B227, CAD!$T$7:$U$2000, 2, FALSE))","v":1.2735399999999999},{"$f":"IF($B227=\"\", \"\", VLOOKUP($B227, CAD!$V$7:$W$2000, 2, FALSE))","v":1.2751600000000001},null,{"$f":"IF(USSW!B224=\"\", \"\", USSW!B224)","v":"2017-02-28"},{"$f":"IF($O227=\"\", \"\", USSW!C224)","v":1.3577999999999999},{"$f":"IF($O227=\"\", \"\", VLOOKUP($O227, USSW!$D$7:$E$2000, 2, FALSE))","v":1.6094999999999999},{"$f":"IF($O227=\"\", \"\", VLOOKUP($O227, USSW!$F$7:$G$2000, 2, FALSE))","v":1.7975000000000001},{"$f":"IF($O227=\"\", \"\", VLOOKUP($O227, USSW!$H$7:$I$2000, 2, FALSE))","v":1.9384999999999999},{"$f":"IF($O227=\"\", \"\", VLOOKUP($O227, USSW!$J$7:$K$2000, 2, FALSE))","v":2.0476999999999999},{"$f":"IF($O227=\"\", \"\", VLOOKUP($O227, USSW!$L$7:$M$2000, 2, FALSE))","v":2.1352000000000002},{"$f":"IF($O227=\"\", \"\", VLOOKUP($O227, USSW!$N$7:$O$2000, 2, FALSE))","v":2.2111999999999998},{"$f":"IF($O227=\"\", \"\", VLOOKUP($O227, USSW!$P$7:$Q$2000, 2, FALSE))","v":2.2719999999999998},{"$f":"IF($O227=\"\", \"\", VLOOKUP($O227, USSW!$R$7:$S$2000, 2, FALSE))","v":2.3258000000000001},{"$f":"IF($O227=\"\", \"\", VLOOKUP($O227, USSW!$T$7:$U$2000, 2, FALSE))","v":2.3738000000000001}]
[null,{"$f":"IF(CAD!B225=\"\", \"\", CAD!B225)","v":"2017-02-28"},{"$f":"IF($B228=\"\", \"\", CAD!C225)","v":1.3301000000000001},{"$f":"IF($B228=\"\", \"\",VLOOKUP($B228, CAD!$D$7:$E$2000, 2, FALSE))","v":1.3226899999999999},{"$f":"IF($B228=\"\", \"\",VLOOKUP($B228, CAD!$F$7:$G$2000, 2, FALSE))","v":1.3126040000000001},{"$f":"IF($B228=\"\", \"\",VLOOKUP($B228, CAD!$H$7:$I$2000, 2, FALSE))","v":1.30243},{"$f":"IF($B228=\"\", \"\",VLOOKUP($B228, CAD!$J$7:$K$2000, 2, FALSE))","v":1.2927},{"$f":"IF($B228=\"\", \"\", VLOOKUP($B228, CAD!$L$7:$M$2000, 2, FALSE))","v":1.2864979999999999},{"$f":"IF($B228=\"\", \"\", VLOOKUP($B228, CAD!$N$7:$O$2000, 2, FALSE))","v":1.2782500000000001},{"$f":"IF($B228=\"\", \"\", VLOOKUP($B228, CAD!$P$7:$Q$2000, 2, FALSE))","v":1.2728999999999999},{"$f":"IF($B228=\"\", \"\", VLOOKUP($B228, CAD!$R$7:$S$2000, 2, FALSE))","v":1.269755},{"$f":"IF($B228=\"\", \"\", VLOOKUP($B228, CAD!$T$7:$U$2000, 2, FALSE))","v":1.2687200000000001},{"$f":"IF($B228=\"\", \"\", VLOOKUP($B228, CAD!$V$7:$W$2000, 2, FALSE))","v":1.2694399999999999},null,{"$f":"IF(USSW!B225=\"\", \"\", USSW!B225)","v":"2017-02-27"},{"$f":"IF($O228=\"\", \"\", USSW!C225)","v":1.31},{"$f":"IF($O228=\"\", \"\", VLOOKUP($O228, USSW!$D$7:$E$2000, 2, FALSE))","v":1.5528},{"$f":"IF($O228=\"\", \"\", VLOOKUP($O228, USSW!$F$7:$G$2000, 2, FALSE))","v":1.7405999999999999},{"$f":"IF($O228=\"\", \"\", VLOOKUP($O228, USSW!$H$7:$I$2000, 2, FALSE))","v":1.8801000000000001},{"$f":"IF($O228=\"\", \"\", VLOOKUP($O228, USSW!$J$7:$K$2000, 2, FALSE))","v":1.9924999999999999},{"$f":"IF($O228=\"\", \"\", VLOOKUP($O228, USSW!$L$7:$M$2000, 2, FALSE))","v":2.0863},{"$f":"IF($O228=\"\", \"\", VLOOKUP($O228, USSW!$N$7:$O$2000, 2, FALSE))","v":2.1669999999999998},{"$f":"IF($O228=\"\", \"\", VLOOKUP($O228, USSW!$P$7:$Q$2000, 2, FALSE))","v":2.2349999999999999},{"$f":"IF($O228=\"\", \"\", VLOOKUP($O228, USSW!$R$7:$S$2000, 2, FALSE))","v":2.2928000000000002},{"$f":"IF($O228=\"\", \"\", VLOOKUP($O228, USSW!$T$7:$U$2000, 2, FALSE))","v":2.343}]
[null,{"$f":"IF(CAD!B226=\"\", \"\", CAD!B226)","v":"2017-02-27"},{"$f":"IF($B229=\"\", \"\", CAD!C226)","v":1.3180000000000001},{"$f":"IF($B229=\"\", \"\",VLOOKUP($B229, CAD!$D$7:$E$2000, 2, FALSE))","v":1.3113999999999999},{"$f":"IF($B229=\"\", \"\",VLOOKUP($B229, CAD!$F$7:$G$2000, 2, FALSE))","v":1.3019499999999999},{"$f":"IF($B229=\"\", \"\",VLOOKUP($B229, CAD!$H$7:$I$2000, 2, FALSE))","v":1.2928900000000001},{"$f":"IF($B229=\"\", \"\",VLOOKUP($B229, CAD!$J$7:$K$2000, 2, FALSE))","v":1.2839},{"$f":"IF($B229=\"\", \"\", VLOOKUP($B229, CAD!$L$7:$M$2000, 2, FALSE))","v":1.277798},{"$f":"IF($B229=\"\", \"\", VLOOKUP($B229, CAD!$N$7:$O$2000, 2, FALSE))","v":1.2705200000000001},{"$f":"IF($B229=\"\", \"\", VLOOKUP($B229, CAD!$P$7:$Q$2000, 2, FALSE))","v":1.2657},{"$f":"IF($B229=\"\", \"\", VLOOKUP($B229, CAD!$R$7:$S$2000, 2, FALSE))","v":1.26264},{"$f":"IF($B229=\"\", \"\", VLOOKUP($B229, CAD!$T$7:$U$2000, 2, FALSE))","v":1.26139},{"$f":"IF($B229=\"\", \"\", VLOOKUP($B229, CAD!$V$7:$W$2000, 2, FALSE))","v":1.2614300000000001},null,{"$f":"IF(USSW!B226=\"\", \"\", USSW!B226)","v":"2017-02-24"},{"$f":"IF($O229=\"\", \"\", USSW!C226)","v":1.288},{"$f":"IF($O229=\"\", \"\", VLOOKUP($O229, USSW!$D$7:$E$2000, 2, FALSE))","v":1.5158},{"$f":"IF($O229=\"\", \"\", VLOOKUP($O229, USSW!$F$7:$G$2000, 2, FALSE))","v":1.6928000000000001},{"$f":"IF($O229=\"\", \"\", VLOOKUP($O229, USSW!$H$7:$I$2000, 2, FALSE))","v":1.8272999999999999},{"$f":"IF($O229=\"\", \"\", VLOOKUP($O229, USSW!$J$7:$K$2000, 2, FALSE))","v":1.9313},{"$f":"IF($O229=\"\", \"\", VLOOKUP($O229, USSW!$L$7:$M$2000, 2, FALSE))","v":2.0255000000000001},{"$f":"IF($O229=\"\", \"\", VLOOKUP($O229, USSW!$N$7:$O$2000, 2, FALSE))","v":2.1059000000000001},{"$f":"IF($O229=\"\", \"\", VLOOKUP($O229, USSW!$P$7:$Q$2000, 2, FALSE))","v":2.1747999999999998},{"$f":"IF($O229=\"\", \"\", VLOOKUP($O229, USSW!$R$7:$S$2000, 2, FALSE))","v":2.2347999999999999},{"$f":"IF($O229=\"\", \"\", VLOOKUP($O229, USSW!$T$7:$U$2000, 2, FALSE))","v":2.2879999999999998}]
[null,{"$f":"IF(CAD!B227=\"\", \"\", CAD!B227)","v":"2017-02-24"},{"$f":"IF($B230=\"\", \"\", CAD!C227)","v":1.3090999999999999},{"$f":"IF($B230=\"\", \"\",VLOOKUP($B230, CAD!$D$7:$E$2000, 2, FALSE))","v":1.3027500000000001},{"$f":"IF($B230=\"\", \"\",VLOOKUP($B230, CAD!$F$7:$G$2000, 2, FALSE))","v":1.2935399999999999},{"$f":"IF($B230=\"\", \"\",VLOOKUP($B230, CAD!$H$7:$I$2000, 2, FALSE))","v":1.285471},{"$f":"IF($B230=\"\", \"\",VLOOKUP($B230, CAD!$J$7:$K$2000, 2, FALSE))","v":1.27691},{"$f":"IF($B230=\"\", \"\", VLOOKUP($B230, CAD!$L$7:$M$2000, 2, FALSE))","v":1.2709269999999999},{"$f":"IF($B230=\"\", \"\", VLOOKUP($B230, CAD!$N$7:$O$2000, 2, FALSE))","v":1.26458},{"$f":"IF($B230=\"\", \"\", VLOOKUP($B230, CAD!$P$7:$Q$2000, 2, FALSE))","v":1.25976},{"$f":"IF($B230=\"\", \"\", VLOOKUP($B230, CAD!$R$7:$S$2000, 2, FALSE))","v":1.2562199999999999},{"$f":"IF($B230=\"\", \"\", VLOOKUP($B230, CAD!$T$7:$U$2000, 2, FALSE))","v":1.2548550000000001},{"$f":"IF($B230=\"\", \"\", VLOOKUP($B230, CAD!$V$7:$W$2000, 2, FALSE))","v":1.25481},null,{"$f":"IF(USSW!B227=\"\", \"\", USSW!B227)","v":"2017-02-23"},{"$f":"IF($O230=\"\", \"\", USSW!C227)","v":1.2965},{"$f":"IF($O230=\"\", \"\", VLOOKUP($O230, USSW!$D$7:$E$2000, 2, FALSE))","v":1.5338000000000001},{"$f":"IF($O230=\"\", \"\", VLOOKUP($O230, USSW!$F$7:$G$2000, 2, FALSE))","v":1.7181},{"$f":"IF($O230=\"\", \"\", VLOOKUP($O230, USSW!$H$7:$I$2000, 2, FALSE))","v":1.8642000000000001},{"$f":"IF($O230=\"\", \"\", VLOOKUP($O230, USSW!$J$7:$K$2000, 2, FALSE))","v":1.9799},{"$f":"IF($O230=\"\", \"\", VLOOKUP($O230, USSW!$L$7:$M$2000, 2, FALSE))","v":2.077},{"$f":"IF($O230=\"\", \"\", VLOOKUP($O230, USSW!$N$7:$O$2000, 2, FALSE))","v":2.1629999999999998},{"$f":"IF($O230=\"\", \"\", VLOOKUP($O230, USSW!$P$7:$Q$2000, 2, FALSE))","v":2.234},{"$f":"IF($O230=\"\", \"\", VLOOKUP($O230, USSW!$R$7:$S$2000, 2, FALSE))","v":2.2964000000000002},{"$f":"IF($O230=\"\", \"\", VLOOKUP($O230, USSW!$T$7:$U$2000, 2, FALSE))","v":2.3508}]
[null,{"$f":"IF(CAD!B228=\"\", \"\", CAD!B228)","v":"2017-02-23"},{"$f":"IF($B231=\"\", \"\", CAD!C228)","v":1.3105},{"$f":"IF($B231=\"\", \"\",VLOOKUP($B231, CAD!$D$7:$E$2000, 2, FALSE))","v":1.3040799999999999},{"$f":"IF($B231=\"\", \"\",VLOOKUP($B231, CAD!$F$7:$G$2000, 2, FALSE))","v":1.294476},{"$f":"IF($B231=\"\", \"\",VLOOKUP($B231, CAD!$H$7:$I$2000, 2, FALSE))","v":1.286599},{"$f":"IF($B231=\"\", \"\",VLOOKUP($B231, CAD!$J$7:$K$2000, 2, FALSE))","v":1.27837},{"$f":"IF($B231=\"\", \"\", VLOOKUP($B231, CAD!$L$7:$M$2000, 2, FALSE))","v":1.2772209999999999},{"$f":"IF($B231=\"\", \"\", VLOOKUP($B231, CAD!$N$7:$O$2000, 2, FALSE))","v":1.2664299999999999},{"$f":"IF($B231=\"\", \"\", VLOOKUP($B231, CAD!$P$7:$Q$2000, 2, FALSE))","v":1.26173},{"$f":"IF($B231=\"\", \"\", VLOOKUP($B231, CAD!$R$7:$S$2000, 2, FALSE))","v":1.2583},{"$f":"IF($B231=\"\", \"\", VLOOKUP($B231, CAD!$T$7:$U$2000, 2, FALSE))","v":1.25681},{"$f":"IF($B231=\"\", \"\", VLOOKUP($B231, CAD!$V$7:$W$2000, 2, FALSE))","v":1.2568299999999999},null,{"$f":"IF(USSW!B228=\"\", \"\", USSW!B228)","v":"2017-02-22"},{"$f":"IF($O231=\"\", \"\", USSW!C228)","v":1.3133999999999999},{"$f":"IF($O231=\"\", \"\", VLOOKUP($O231, USSW!$D$7:$E$2000, 2, FALSE))","v":1.5609999999999999},{"$f":"IF($O231=\"\", \"\", VLOOKUP($O231, USSW!$F$7:$G$2000, 2, FALSE))","v":1.7544999999999999},{"$f":"IF($O231=\"\", \"\", VLOOKUP($O231, USSW!$H$7:$I$2000, 2, FALSE))","v":1.9033},{"$f":"IF($O231=\"\", \"\", VLOOKUP($O231, USSW!$J$7:$K$2000, 2, FALSE))","v":2.0217999999999998},{"$f":"IF($O231=\"\", \"\", VLOOKUP($O231, USSW!$L$7:$M$2000, 2, FALSE))","v":2.1200999999999999},{"$f":"IF($O231=\"\", \"\", VLOOKUP($O231, USSW!$N$7:$O$2000, 2, FALSE))","v":2.2023000000000001},{"$f":"IF($O231=\"\", \"\", VLOOKUP($O231, USSW!$P$7:$Q$2000, 2, FALSE))","v":2.2732999999999999},{"$f":"IF($O231=\"\", \"\", VLOOKUP($O231, USSW!$R$7:$S$2000, 2, FALSE))","v":2.3348},{"$f":"IF($O231=\"\", \"\", VLOOKUP($O231, USSW!$T$7:$U$2000, 2, FALSE))","v":2.3879999999999999}]
[null,{"$f":"IF(CAD!B229=\"\", \"\", CAD!B229)","v":"2017-02-22"},{"$f":"IF($B232=\"\", \"\", CAD!C229)","v":1.3164},{"$f":"IF($B232=\"\", \"\",VLOOKUP($B232, CAD!$D$7:$E$2000, 2, FALSE))","v":1.30979},{"$f":"IF($B232=\"\", \"\",VLOOKUP($B232, CAD!$F$7:$G$2000, 2, FALSE))","v":1.3000799999999999},{"$f":"IF($B232=\"\", \"\",VLOOKUP($B232, CAD!$H$7:$I$2000, 2, FALSE))","v":1.29095},{"$f":"IF($B232=\"\", \"\",VLOOKUP($B232, CAD!$J$7:$K$2000, 2, FALSE))","v":1.2827299999999999},{"$f":"IF($B232=\"\", \"\", VLOOKUP($B232, CAD!$L$7:$M$2000, 2, FALSE))","v":1.2771669999999999},{"$f":"IF($B232=\"\", \"\", VLOOKUP($B232, CAD!$N$7:$O$2000, 2, FALSE))","v":1.2698},{"$f":"IF($B232=\"\", \"\", VLOOKUP($B232, CAD!$P$7:$Q$2000, 2, FALSE))","v":1.2661800000000001},{"$f":"IF($B232=\"\", \"\", VLOOKUP($B232, CAD!$R$7:$S$2000, 2, FALSE))","v":1.2628699999999999},{"$f":"IF($B232=\"\", \"\", VLOOKUP($B232, CAD!$T$7:$U$2000, 2, FALSE))","v":1.2623},{"$f":"IF($B232=\"\", \"\", VLOOKUP($B232, CAD!$V$7:$W$2000, 2, FALSE))","v":1.26244},null,{"$f":"IF(USSW!B229=\"\", \"\", USSW!B229)","v":"2017-02-21"},{"$f":"IF($O232=\"\", \"\", USSW!C229)","v":1.3239000000000001},{"$f":"IF($O232=\"\", \"\", VLOOKUP($O232, USSW!$D$7:$E$2000, 2, FALSE))","v":1.5828},{"$f":"IF($O232=\"\", \"\", VLOOKUP($O232, USSW!$F$7:$G$2000, 2, FALSE))","v":1.7784},{"$f":"IF($O232=\"\", \"\", VLOOKUP($O232, USSW!$H$7:$I$2000, 2, FALSE))","v":1.9295},{"$f":"IF($O232=\"\", \"\", VLOOKUP($O232, USSW!$J$7:$K$2000, 2, FALSE))","v":2.0449999999999999},{"$f":"IF($O232=\"\", \"\", VLOOKUP($O232, USSW!$L$7:$M$2000, 2, FALSE))","v":2.1438000000000001},{"$f":"IF($O232=\"\", \"\", VLOOKUP($O232, USSW!$N$7:$O$2000, 2, FALSE))","v":2.2258},{"$f":"IF($O232=\"\", \"\", VLOOKUP($O232, USSW!$P$7:$Q$2000, 2, FALSE))","v":2.2968000000000002},{"$f":"IF($O232=\"\", \"\", VLOOKUP($O232, USSW!$R$7:$S$2000, 2, FALSE))","v":2.3563000000000001},{"$f":"IF($O232=\"\", \"\", VLOOKUP($O232, USSW!$T$7:$U$2000, 2, FALSE))","v":2.4079999999999999}]
[null,{"$f":"IF(CAD!B230=\"\", \"\", CAD!B230)","v":"2017-02-21"},{"$f":"IF($B233=\"\", \"\", CAD!C230)","v":1.3141},{"$f":"IF($B233=\"\", \"\",VLOOKUP($B233, CAD!$D$7:$E$2000, 2, FALSE))","v":1.3075140000000001},{"$f":"IF($B233=\"\", \"\",VLOOKUP($B233, CAD!$F$7:$G$2000, 2, FALSE))","v":1.2977080000000001},{"$f":"IF($B233=\"\", \"\",VLOOKUP($B233, CAD!$H$7:$I$2000, 2, FALSE))","v":1.2889949999999999},{"$f":"IF($B233=\"\", \"\",VLOOKUP($B233, CAD!$J$7:$K$2000, 2, FALSE))","v":1.27946},{"$f":"IF($B233=\"\", \"\", VLOOKUP($B233, CAD!$L$7:$M$2000, 2, FALSE))","v":1.2794300000000001},{"$f":"IF($B233=\"\", \"\", VLOOKUP($B233, CAD!$N$7:$O$2000, 2, FALSE))","v":1.26641},{"$f":"IF($B233=\"\", \"\", VLOOKUP($B233, CAD!$P$7:$Q$2000, 2, FALSE))","v":1.2623200000000001},{"$f":"IF($B233=\"\", \"\", VLOOKUP($B233, CAD!$R$7:$S$2000, 2, FALSE))","v":1.2593000000000001},{"$f":"IF($B233=\"\", \"\", VLOOKUP($B233, CAD!$T$7:$U$2000, 2, FALSE))","v":1.2579},{"$f":"IF($B233=\"\", \"\", VLOOKUP($B233, CAD!$V$7:$W$2000, 2, FALSE))","v":1.2590300000000001},null,{"$f":"IF(USSW!B230=\"\", \"\", USSW!B230)","v":"2017-02-20"},{"$f":"IF($O233=\"\", \"\", USSW!C230)","v":1.3037000000000001},{"$f":"IF($O233=\"\", \"\", VLOOKUP($O233, USSW!$D$7:$E$2000, 2, FALSE))","v":1.556},{"$f":"IF($O233=\"\", \"\", VLOOKUP($O233, USSW!$F$7:$G$2000, 2, FALSE))","v":1.748},{"$f":"IF($O233=\"\", \"\", VLOOKUP($O233, USSW!$H$7:$I$2000, 2, FALSE))","v":1.9015},{"$f":"IF($O233=\"\", \"\", VLOOKUP($O233, USSW!$J$7:$K$2000, 2, FALSE))","v":2.0099999999999998},{"$f":"IF($O233=\"\", \"\", VLOOKUP($O233, USSW!$L$7:$M$2000, 2, FALSE))","v":2.1110000000000002},{"$f":"IF($O233=\"\", \"\", VLOOKUP($O233, USSW!$N$7:$O$2000, 2, FALSE))","v":2.1949999999999998},{"$f":"IF($O233=\"\", \"\", VLOOKUP($O233, USSW!$P$7:$Q$2000, 2, FALSE))","v":2.2599999999999998},{"$f":"IF($O233=\"\", \"\", VLOOKUP($O233, USSW!$R$7:$S$2000, 2, FALSE))","v":2.3235000000000001},{"$f":"IF($O233=\"\", \"\", VLOOKUP($O233, USSW!$T$7:$U$2000, 2, FALSE))","v":2.3820000000000001}]
[null,{"$f":"IF(CAD!B231=\"\", \"\", CAD!B231)","v":"2017-02-20"},{"$f":"IF($B234=\"\", \"\", CAD!C231)","v":1.3106},{"$f":"IF($B234=\"\", \"\",VLOOKUP($B234, CAD!$D$7:$E$2000, 2, FALSE))","v":1.304192},{"$f":"IF($B234=\"\", \"\",VLOOKUP($B234, CAD!$F$7:$G$2000, 2, FALSE))","v":1.29457},{"$f":"IF($B234=\"\", \"\",VLOOKUP($B234, CAD!$H$7:$I$2000, 2, FALSE))","v":1.28583},{"$f":"IF($B234=\"\", \"\",VLOOKUP($B234, CAD!$J$7:$K$2000, 2, FALSE))","v":1.27735},{"$f":"IF($B234=\"\", \"\", VLOOKUP($B234, CAD!$L$7:$M$2000, 2, FALSE))","v":1.27138},{"$f":"IF($B234=\"\", \"\", VLOOKUP($B234, CAD!$N$7:$O$2000, 2, FALSE))","v":1.26373},{"$f":"IF($B234=\"\", \"\", VLOOKUP($B234, CAD!$P$7:$Q$2000, 2, FALSE))","v":1.25925},{"$f":"IF($B234=\"\", \"\", VLOOKUP($B234, CAD!$R$7:$S$2000, 2, FALSE))","v":1.2557400000000001},{"$f":"IF($B234=\"\", \"\", VLOOKUP($B234, CAD!$T$7:$U$2000, 2, FALSE))","v":1.25386},{"$f":"IF($B234=\"\", \"\", VLOOKUP($B234, CAD!$V$7:$W$2000, 2, FALSE))","v":1.2535700000000001},null,{"$f":"IF(USSW!B231=\"\", \"\", USSW!B231)","v":"2017-02-17"},{"$f":"IF($O234=\"\", \"\", USSW!C231)","v":1.2994000000000001},{"$f":"IF($O234=\"\", \"\", VLOOKUP($O234, USSW!$D$7:$E$2000, 2, FALSE))","v":1.5488},{"$f":"IF($O234=\"\", \"\", VLOOKUP($O234, USSW!$F$7:$G$2000, 2, FALSE))","v":1.7418},{"$f":"IF($O234=\"\", \"\", VLOOKUP($O234, USSW!$H$7:$I$2000, 2, FALSE))","v":1.8937999999999999},{"$f":"IF($O234=\"\", \"\", VLOOKUP($O234, USSW!$J$7:$K$2000, 2, FALSE))","v":2.012},{"$f":"IF($O234=\"\", \"\", VLOOKUP($O234, USSW!$L$7:$M$2000, 2, FALSE))","v":2.11},{"$f":"IF($O234=\"\", \"\", VLOOKUP($O234, USSW!$N$7:$O$2000, 2, FALSE))","v":2.1930000000000001},{"$f":"IF($O234=\"\", \"\", VLOOKUP($O234, USSW!$P$7:$Q$2000, 2, FALSE))","v":2.2629999999999999},{"$f":"IF($O234=\"\", \"\", VLOOKUP($O234, USSW!$R$7:$S$2000, 2, FALSE))","v":2.3227000000000002},{"$f":"IF($O234=\"\", \"\", VLOOKUP($O234, USSW!$T$7:$U$2000, 2, FALSE))","v":2.375}]
[null,{"$f":"IF(CAD!B232=\"\", \"\", CAD!B232)","v":"2017-02-17"},{"$f":"IF($B235=\"\", \"\", CAD!C232)","v":1.3096000000000001},{"$f":"IF($B235=\"\", \"\",VLOOKUP($B235, CAD!$D$7:$E$2000, 2, FALSE))","v":1.303294},{"$f":"IF($B235=\"\", \"\",VLOOKUP($B235, CAD!$F$7:$G$2000, 2, FALSE))","v":1.2937399999999999},{"$f":"IF($B235=\"\", \"\",VLOOKUP($B235, CAD!$H$7:$I$2000, 2, FALSE))","v":1.2856460000000001},{"$f":"IF($B235=\"\", \"\",VLOOKUP($B235, CAD!$J$7:$K$2000, 2, FALSE))","v":1.27694},{"$f":"IF($B235=\"\", \"\", VLOOKUP($B235, CAD!$L$7:$M$2000, 2, FALSE))","v":1.2712619999999999},{"$f":"IF($B235=\"\", \"\", VLOOKUP($B235, CAD!$N$7:$O$2000, 2, FALSE))","v":1.26393},{"$f":"IF($B235=\"\", \"\", VLOOKUP($B235, CAD!$P$7:$Q$2000, 2, FALSE))","v":1.2596499999999999},{"$f":"IF($B235=\"\", \"\", VLOOKUP($B235, CAD!$R$7:$S$2000, 2, FALSE))","v":1.25661},{"$f":"IF($B235=\"\", \"\", VLOOKUP($B235, CAD!$T$7:$U$2000, 2, FALSE))","v":1.2553700000000001},{"$f":"IF($B235=\"\", \"\", VLOOKUP($B235, CAD!$V$7:$W$2000, 2, FALSE))","v":1.25604},null,{"$f":"IF(USSW!B232=\"\", \"\", USSW!B232)","v":"2017-02-16"},{"$f":"IF($O235=\"\", \"\", USSW!C232)","v":1.3023},{"$f":"IF($O235=\"\", \"\", VLOOKUP($O235, USSW!$D$7:$E$2000, 2, FALSE))","v":1.5615000000000001},{"$f":"IF($O235=\"\", \"\", VLOOKUP($O235, USSW!$F$7:$G$2000, 2, FALSE))","v":1.7618},{"$f":"IF($O235=\"\", \"\", VLOOKUP($O235, USSW!$H$7:$I$2000, 2, FALSE))","v":1.9137},{"$f":"IF($O235=\"\", \"\", VLOOKUP($O235, USSW!$J$7:$K$2000, 2, FALSE))","v":2.0320999999999998},{"$f":"IF($O235=\"\", \"\", VLOOKUP($O235, USSW!$L$7:$M$2000, 2, FALSE))","v":2.1313},{"$f":"IF($O235=\"\", \"\", VLOOKUP($O235, USSW!$N$7:$O$2000, 2, FALSE))","v":2.2122999999999999},{"$f":"IF($O235=\"\", \"\", VLOOKUP($O235, USSW!$P$7:$Q$2000, 2, FALSE))","v":2.2810000000000001},{"$f":"IF($O235=\"\", \"\", VLOOKUP($O235, USSW!$R$7:$S$2000, 2, FALSE))","v":2.3399000000000001},{"$f":"IF($O235=\"\", \"\", VLOOKUP($O235, USSW!$T$7:$U$2000, 2, FALSE))","v":2.3902999999999999}]
[null,{"$f":"IF(CAD!B233=\"\", \"\", CAD!B233)","v":"2017-02-16"},{"$f":"IF($B236=\"\", \"\", CAD!C233)","v":1.3070999999999999},{"$f":"IF($B236=\"\", \"\",VLOOKUP($B236, CAD!$D$7:$E$2000, 2, FALSE))","v":1.3007690000000001},{"$f":"IF($B236=\"\", \"\",VLOOKUP($B236, CAD!$F$7:$G$2000, 2, FALSE))","v":1.2915000000000001},{"$f":"IF($B236=\"\", \"\",VLOOKUP($B236, CAD!$H$7:$I$2000, 2, FALSE))","v":1.2824500000000001},{"$f":"IF($B236=\"\", \"\",VLOOKUP($B236, CAD!$J$7:$K$2000, 2, FALSE))","v":1.2737799999999999},{"$f":"IF($B236=\"\", \"\", VLOOKUP($B236, CAD!$L$7:$M$2000, 2, FALSE))","v":1.2683249999999999},{"$f":"IF($B236=\"\", \"\", VLOOKUP($B236, CAD!$N$7:$O$2000, 2, FALSE))","v":1.2619100000000001},{"$f":"IF($B236=\"\", \"\", VLOOKUP($B236, CAD!$P$7:$Q$2000, 2, FALSE))","v":1.2576499999999999},{"$f":"IF($B236=\"\", \"\", VLOOKUP($B236, CAD!$R$7:$S$2000, 2, FALSE))","v":1.2554099999999999},{"$f":"IF($B236=\"\", \"\", VLOOKUP($B236, CAD!$T$7:$U$2000, 2, FALSE))","v":1.25522},{"$f":"IF($B236=\"\", \"\", VLOOKUP($B236, CAD!$V$7:$W$2000, 2, FALSE))","v":1.2572300000000001},null,{"$f":"IF(USSW!B233=\"\", \"\", USSW!B233)","v":"2017-02-15"},{"$f":"IF($O236=\"\", \"\", USSW!C233)","v":1.3160000000000001},{"$f":"IF($O236=\"\", \"\", VLOOKUP($O236, USSW!$D$7:$E$2000, 2, FALSE))","v":1.5863},{"$f":"IF($O236=\"\", \"\", VLOOKUP($O236, USSW!$F$7:$G$2000, 2, FALSE))","v":1.7932999999999999},{"$f":"IF($O236=\"\", \"\", VLOOKUP($O236, USSW!$H$7:$I$2000, 2, FALSE))","v":1.952},{"$f":"IF($O236=\"\", \"\", VLOOKUP($O236, USSW!$J$7:$K$2000, 2, FALSE))","v":2.0728},{"$f":"IF($O236=\"\", \"\", VLOOKUP($O236, USSW!$L$7:$M$2000, 2, FALSE))","v":2.1718999999999999},{"$f":"IF($O236=\"\", \"\", VLOOKUP($O236, USSW!$N$7:$O$2000, 2, FALSE))","v":2.2538},{"$f":"IF($O236=\"\", \"\", VLOOKUP($O236, USSW!$P$7:$Q$2000, 2, FALSE))","v":2.3208000000000002},{"$f":"IF($O236=\"\", \"\", VLOOKUP($O236, USSW!$R$7:$S$2000, 2, FALSE))","v":2.379},{"$f":"IF($O236=\"\", \"\", VLOOKUP($O236, USSW!$T$7:$U$2000, 2, FALSE))","v":2.4278}]
[null,{"$f":"IF(CAD!B234=\"\", \"\", CAD!B234)","v":"2017-02-15"},{"$f":"IF($B237=\"\", \"\", CAD!C234)","v":1.3080000000000001},{"$f":"IF($B237=\"\", \"\",VLOOKUP($B237, CAD!$D$7:$E$2000, 2, FALSE))","v":1.301555},{"$f":"IF($B237=\"\", \"\",VLOOKUP($B237, CAD!$F$7:$G$2000, 2, FALSE))","v":1.291777},{"$f":"IF($B237=\"\", \"\",VLOOKUP($B237, CAD!$H$7:$I$2000, 2, FALSE))","v":1.2822499999999999},{"$f":"IF($B237=\"\", \"\",VLOOKUP($B237, CAD!$J$7:$K$2000, 2, FALSE))","v":1.27349},{"$f":"IF($B237=\"\", \"\", VLOOKUP($B237, CAD!$L$7:$M$2000, 2, FALSE))","v":1.268753},{"$f":"IF($B237=\"\", \"\", VLOOKUP($B237, CAD!$N$7:$O$2000, 2, FALSE))","v":1.26128},{"$f":"IF($B237=\"\", \"\", VLOOKUP($B237, CAD!$P$7:$Q$2000, 2, FALSE))","v":1.25749},{"$f":"IF($B237=\"\", \"\", VLOOKUP($B237, CAD!$R$7:$S$2000, 2, FALSE))","v":1.25485},{"$f":"IF($B237=\"\", \"\", VLOOKUP($B237, CAD!$T$7:$U$2000, 2, FALSE))","v":1.25515},{"$f":"IF($B237=\"\", \"\", VLOOKUP($B237, CAD!$V$7:$W$2000, 2, FALSE))","v":1.25641},null,{"$f":"IF(USSW!B234=\"\", \"\", USSW!B234)","v":"2017-02-14"},{"$f":"IF($O237=\"\", \"\", USSW!C234)","v":1.2892999999999999},{"$f":"IF($O237=\"\", \"\", VLOOKUP($O237, USSW!$D$7:$E$2000, 2, FALSE))","v":1.556},{"$f":"IF($O237=\"\", \"\", VLOOKUP($O237, USSW!$F$7:$G$2000, 2, FALSE))","v":1.7617},{"$f":"IF($O237=\"\", \"\", VLOOKUP($O237, USSW!$H$7:$I$2000, 2, FALSE))","v":1.92},{"$f":"IF($O237=\"\", \"\", VLOOKUP($O237, USSW!$J$7:$K$2000, 2, FALSE))","v":2.0430000000000001},{"$f":"IF($O237=\"\", \"\", VLOOKUP($O237, USSW!$L$7:$M$2000, 2, FALSE))","v":2.1431},{"$f":"IF($O237=\"\", \"\", VLOOKUP($O237, USSW!$N$7:$O$2000, 2, FALSE))","v":2.2254999999999998},{"$f":"IF($O237=\"\", \"\", VLOOKUP($O237, USSW!$P$7:$Q$2000, 2, FALSE))","v":2.2953000000000001},{"$f":"IF($O237=\"\", \"\", VLOOKUP($O237, USSW!$R$7:$S$2000, 2, FALSE))","v":2.3521999999999998},{"$f":"IF($O237=\"\", \"\", VLOOKUP($O237, USSW!$T$7:$U$2000, 2, FALSE))","v":2.4015}]
[null,{"$f":"IF(CAD!B235=\"\", \"\", CAD!B235)","v":"2017-02-14"},{"$f":"IF($B238=\"\", \"\", CAD!C235)","v":1.3076000000000001},{"$f":"IF($B238=\"\", \"\",VLOOKUP($B238, CAD!$D$7:$E$2000, 2, FALSE))","v":1.30138},{"$f":"IF($B238=\"\", \"\",VLOOKUP($B238, CAD!$F$7:$G$2000, 2, FALSE))","v":1.291779},{"$f":"IF($B238=\"\", \"\",VLOOKUP($B238, CAD!$H$7:$I$2000, 2, FALSE))","v":1.2825899999999999},{"$f":"IF($B238=\"\", \"\",VLOOKUP($B238, CAD!$J$7:$K$2000, 2, FALSE))","v":1.2741199999999999},{"$f":"IF($B238=\"\", \"\", VLOOKUP($B238, CAD!$L$7:$M$2000, 2, FALSE))","v":1.2681800000000001},{"$f":"IF($B238=\"\", \"\", VLOOKUP($B238, CAD!$N$7:$O$2000, 2, FALSE))","v":1.2615400000000001},{"$f":"IF($B238=\"\", \"\", VLOOKUP($B238, CAD!$P$7:$Q$2000, 2, FALSE))","v":1.258},{"$f":"IF($B238=\"\", \"\", VLOOKUP($B238, CAD!$R$7:$S$2000, 2, FALSE))","v":1.25586},{"$f":"IF($B238=\"\", \"\", VLOOKUP($B238, CAD!$T$7:$U$2000, 2, FALSE))","v":1.25604},{"$f":"IF($B238=\"\", \"\", VLOOKUP($B238, CAD!$V$7:$W$2000, 2, FALSE))","v":1.2576700000000001},null,{"$f":"IF(USSW!B235=\"\", \"\", USSW!B235)","v":"2017-02-13"},{"$f":"IF($O238=\"\", \"\", USSW!C235)","v":1.2687999999999999},{"$f":"IF($O238=\"\", \"\", VLOOKUP($O238, USSW!$D$7:$E$2000, 2, FALSE))","v":1.5209999999999999},{"$f":"IF($O238=\"\", \"\", VLOOKUP($O238, USSW!$F$7:$G$2000, 2, FALSE))","v":1.7233000000000001},{"$f":"IF($O238=\"\", \"\", VLOOKUP($O238, USSW!$H$7:$I$2000, 2, FALSE))","v":1.8815},{"$f":"IF($O238=\"\", \"\", VLOOKUP($O238, USSW!$J$7:$K$2000, 2, FALSE))","v":2.0030000000000001},{"$f":"IF($O238=\"\", \"\", VLOOKUP($O238, USSW!$L$7:$M$2000, 2, FALSE))","v":2.105},{"$f":"IF($O238=\"\", \"\", VLOOKUP($O238, USSW!$N$7:$O$2000, 2, FALSE))","v":2.1884999999999999},{"$f":"IF($O238=\"\", \"\", VLOOKUP($O238, USSW!$P$7:$Q$2000, 2, FALSE))","v":2.2603},{"$f":"IF($O238=\"\", \"\", VLOOKUP($O238, USSW!$R$7:$S$2000, 2, FALSE))","v":2.3182999999999998},{"$f":"IF($O238=\"\", \"\", VLOOKUP($O238, USSW!$T$7:$U$2000, 2, FALSE))","v":2.37}]
[null,{"$f":"IF(CAD!B236=\"\", \"\", CAD!B236)","v":"2017-02-13"},{"$f":"IF($B239=\"\", \"\", CAD!C236)","v":1.3070999999999999},{"$f":"IF($B239=\"\", \"\",VLOOKUP($B239, CAD!$D$7:$E$2000, 2, FALSE))","v":1.3011079999999999},{"$f":"IF($B239=\"\", \"\",VLOOKUP($B239, CAD!$F$7:$G$2000, 2, FALSE))","v":1.2921100000000001},{"$f":"IF($B239=\"\", \"\",VLOOKUP($B239, CAD!$H$7:$I$2000, 2, FALSE))","v":1.28305},{"$f":"IF($B239=\"\", \"\",VLOOKUP($B239, CAD!$J$7:$K$2000, 2, FALSE))","v":1.2748900000000001},{"$f":"IF($B239=\"\", \"\", VLOOKUP($B239, CAD!$L$7:$M$2000, 2, FALSE))","v":1.269326},{"$f":"IF($B239=\"\", \"\", VLOOKUP($B239, CAD!$N$7:$O$2000, 2, FALSE))","v":1.26064},{"$f":"IF($B239=\"\", \"\", VLOOKUP($B239, CAD!$P$7:$Q$2000, 2, FALSE))","v":1.2563599999999999},{"$f":"IF($B239=\"\", \"\", VLOOKUP($B239, CAD!$R$7:$S$2000, 2, FALSE))","v":1.25329},{"$f":"IF($B239=\"\", \"\", VLOOKUP($B239, CAD!$T$7:$U$2000, 2, FALSE))","v":1.2528900000000001},{"$f":"IF($B239=\"\", \"\", VLOOKUP($B239, CAD!$V$7:$W$2000, 2, FALSE))","v":1.25386},null,{"$f":"IF(USSW!B236=\"\", \"\", USSW!B236)","v":"2017-02-10"},{"$f":"IF($O239=\"\", \"\", USSW!C236)","v":1.2611000000000001},{"$f":"IF($O239=\"\", \"\", VLOOKUP($O239, USSW!$D$7:$E$2000, 2, FALSE))","v":1.5066999999999999},{"$f":"IF($O239=\"\", \"\", VLOOKUP($O239, USSW!$F$7:$G$2000, 2, FALSE))","v":1.7013},{"$f":"IF($O239=\"\", \"\", VLOOKUP($O239, USSW!$H$7:$I$2000, 2, FALSE))","v":1.8548},{"$f":"IF($O239=\"\", \"\", VLOOKUP($O239, USSW!$J$7:$K$2000, 2, FALSE))","v":1.9762999999999999},{"$f":"IF($O239=\"\", \"\", VLOOKUP($O239, USSW!$L$7:$M$2000, 2, FALSE))","v":2.0760000000000001},{"$f":"IF($O239=\"\", \"\", VLOOKUP($O239, USSW!$N$7:$O$2000, 2, FALSE))","v":2.1579999999999999},{"$f":"IF($O239=\"\", \"\", VLOOKUP($O239, USSW!$P$7:$Q$2000, 2, FALSE))","v":2.2273000000000001},{"$f":"IF($O239=\"\", \"\", VLOOKUP($O239, USSW!$R$7:$S$2000, 2, FALSE))","v":2.2865000000000002},{"$f":"IF($O239=\"\", \"\", VLOOKUP($O239, USSW!$T$7:$U$2000, 2, FALSE))","v":2.3365}]
[null,{"$f":"IF(CAD!B237=\"\", \"\", CAD!B237)","v":"2017-02-10"},{"$f":"IF($B240=\"\", \"\", CAD!C237)","v":1.3083},{"$f":"IF($B240=\"\", \"\",VLOOKUP($B240, CAD!$D$7:$E$2000, 2, FALSE))","v":1.30226},{"$f":"IF($B240=\"\", \"\",VLOOKUP($B240, CAD!$F$7:$G$2000, 2, FALSE))","v":1.2932699999999999},{"$f":"IF($B240=\"\", \"\",VLOOKUP($B240, CAD!$H$7:$I$2000, 2, FALSE))","v":1.2846169999999999},{"$f":"IF($B240=\"\", \"\",VLOOKUP($B240, CAD!$J$7:$K$2000, 2, FALSE))","v":1.2756799999999999},{"$f":"IF($B240=\"\", \"\", VLOOKUP($B240, CAD!$L$7:$M$2000, 2, FALSE))","v":1.270554},{"$f":"IF($B240=\"\", \"\", VLOOKUP($B240, CAD!$N$7:$O$2000, 2, FALSE))","v":1.2629699999999999},{"$f":"IF($B240=\"\", \"\", VLOOKUP($B240, CAD!$P$7:$Q$2000, 2, FALSE))","v":1.25892},{"$f":"IF($B240=\"\", \"\", VLOOKUP($B240, CAD!$R$7:$S$2000, 2, FALSE))","v":1.25654},{"$f":"IF($B240=\"\", \"\", VLOOKUP($B240, CAD!$T$7:$U$2000, 2, FALSE))","v":1.2568699999999999},{"$f":"IF($B240=\"\", \"\", VLOOKUP($B240, CAD!$V$7:$W$2000, 2, FALSE))","v":1.25878},null,{"$f":"IF(USSW!B237=\"\", \"\", USSW!B237)","v":"2017-02-09"},{"$f":"IF($O240=\"\", \"\", USSW!C237)","v":1.2484999999999999},{"$f":"IF($O240=\"\", \"\", VLOOKUP($O240, USSW!$D$7:$E$2000, 2, FALSE))","v":1.4904999999999999},{"$f":"IF($O240=\"\", \"\", VLOOKUP($O240, USSW!$F$7:$G$2000, 2, FALSE))","v":1.6825000000000001},{"$f":"IF($O240=\"\", \"\", VLOOKUP($O240, USSW!$H$7:$I$2000, 2, FALSE))","v":1.8340000000000001},{"$f":"IF($O240=\"\", \"\", VLOOKUP($O240, USSW!$J$7:$K$2000, 2, FALSE))","v":1.9538},{"$f":"IF($O240=\"\", \"\", VLOOKUP($O240, USSW!$L$7:$M$2000, 2, FALSE))","v":2.0543999999999998},{"$f":"IF($O240=\"\", \"\", VLOOKUP($O240, USSW!$N$7:$O$2000, 2, FALSE))","v":2.1389999999999998},{"$f":"IF($O240=\"\", \"\", VLOOKUP($O240, USSW!$P$7:$Q$2000, 2, FALSE))","v":2.2088999999999999},{"$f":"IF($O240=\"\", \"\", VLOOKUP($O240, USSW!$R$7:$S$2000, 2, FALSE))","v":2.2692999999999999},{"$f":"IF($O240=\"\", \"\", VLOOKUP($O240, USSW!$T$7:$U$2000, 2, FALSE))","v":2.3210000000000002}]
[null,{"$f":"IF(CAD!B238=\"\", \"\", CAD!B238)","v":"2017-02-09"},{"$f":"IF($B241=\"\", \"\", CAD!C238)","v":1.3145},{"$f":"IF($B241=\"\", \"\",VLOOKUP($B241, CAD!$D$7:$E$2000, 2, FALSE))","v":1.3084800000000001},{"$f":"IF($B241=\"\", \"\",VLOOKUP($B241, CAD!$F$7:$G$2000, 2, FALSE))","v":1.2988},{"$f":"IF($B241=\"\", \"\",VLOOKUP($B241, CAD!$H$7:$I$2000, 2, FALSE))","v":1.29044},{"$f":"IF($B241=\"\", \"\",VLOOKUP($B241, CAD!$J$7:$K$2000, 2, FALSE))","v":1.28206},{"$f":"IF($B241=\"\", \"\", VLOOKUP($B241, CAD!$L$7:$M$2000, 2, FALSE))","v":1.2762119999999999},{"$f":"IF($B241=\"\", \"\", VLOOKUP($B241, CAD!$N$7:$O$2000, 2, FALSE))","v":1.2687999999999999},{"$f":"IF($B241=\"\", \"\", VLOOKUP($B241, CAD!$P$7:$Q$2000, 2, FALSE))","v":1.26492},{"$f":"IF($B241=\"\", \"\", VLOOKUP($B241, CAD!$R$7:$S$2000, 2, FALSE))","v":1.2625999999999999},{"$f":"IF($B241=\"\", \"\", VLOOKUP($B241, CAD!$T$7:$U$2000, 2, FALSE))","v":1.26302},{"$f":"IF($B241=\"\", \"\", VLOOKUP($B241, CAD!$V$7:$W$2000, 2, FALSE))","v":1.26519},null,{"$f":"IF(USSW!B238=\"\", \"\", USSW!B238)","v":"2017-02-08"},{"$f":"IF($O241=\"\", \"\", USSW!C238)","v":1.2238},{"$f":"IF($O241=\"\", \"\", VLOOKUP($O241, USSW!$D$7:$E$2000, 2, FALSE))","v":1.4496},{"$f":"IF($O241=\"\", \"\", VLOOKUP($O241, USSW!$F$7:$G$2000, 2, FALSE))","v":1.6294},{"$f":"IF($O241=\"\", \"\", VLOOKUP($O241, USSW!$H$7:$I$2000, 2, FALSE))","v":1.7737000000000001},{"$f":"IF($O241=\"\", \"\", VLOOKUP($O241, USSW!$J$7:$K$2000, 2, FALSE))","v":1.8919999999999999},{"$f":"IF($O241=\"\", \"\", VLOOKUP($O241, USSW!$L$7:$M$2000, 2, FALSE))","v":1.9903},{"$f":"IF($O241=\"\", \"\", VLOOKUP($O241, USSW!$N$7:$O$2000, 2, FALSE))","v":2.0731000000000002},{"$f":"IF($O241=\"\", \"\", VLOOKUP($O241, USSW!$P$7:$Q$2000, 2, FALSE))","v":2.1435},{"$f":"IF($O241=\"\", \"\", VLOOKUP($O241, USSW!$R$7:$S$2000, 2, FALSE))","v":2.2029999999999998},{"$f":"IF($O241=\"\", \"\", VLOOKUP($O241, USSW!$T$7:$U$2000, 2, FALSE))","v":2.2549999999999999}]
[null,{"$f":"IF(CAD!B239=\"\", \"\", CAD!B239)","v":"2017-02-08"},{"$f":"IF($B242=\"\", \"\", CAD!C239)","v":1.3144},{"$f":"IF($B242=\"\", \"\",VLOOKUP($B242, CAD!$D$7:$E$2000, 2, FALSE))","v":1.3085199999999999},{"$f":"IF($B242=\"\", \"\",VLOOKUP($B242, CAD!$F$7:$G$2000, 2, FALSE))","v":1.2994829999999999},{"$f":"IF($B242=\"\", \"\",VLOOKUP($B242, CAD!$H$7:$I$2000, 2, FALSE))","v":1.290975},{"$f":"IF($B242=\"\", \"\",VLOOKUP($B242, CAD!$J$7:$K$2000, 2, FALSE))","v":1.2829349999999999},{"$f":"IF($B242=\"\", \"\", VLOOKUP($B242, CAD!$L$7:$M$2000, 2, FALSE))","v":1.2770630000000001},{"$f":"IF($B242=\"\", \"\", VLOOKUP($B242, CAD!$N$7:$O$2000, 2, FALSE))","v":1.2702599999999999},{"$f":"IF($B242=\"\", \"\", VLOOKUP($B242, CAD!$P$7:$Q$2000, 2, FALSE))","v":1.26647},{"$f":"IF($B242=\"\", \"\", VLOOKUP($B242, CAD!$R$7:$S$2000, 2, FALSE))","v":1.2641},{"$f":"IF($B242=\"\", \"\", VLOOKUP($B242, CAD!$T$7:$U$2000, 2, FALSE))","v":1.2642199999999999},{"$f":"IF($B242=\"\", \"\", VLOOKUP($B242, CAD!$V$7:$W$2000, 2, FALSE))","v":1.2661500000000001},null,{"$f":"IF(USSW!B239=\"\", \"\", USSW!B239)","v":"2017-02-07"},{"$f":"IF($O242=\"\", \"\", USSW!C239)","v":1.2413000000000001},{"$f":"IF($O242=\"\", \"\", VLOOKUP($O242, USSW!$D$7:$E$2000, 2, FALSE))","v":1.4821},{"$f":"IF($O242=\"\", \"\", VLOOKUP($O242, USSW!$F$7:$G$2000, 2, FALSE))","v":1.6735},{"$f":"IF($O242=\"\", \"\", VLOOKUP($O242, USSW!$H$7:$I$2000, 2, FALSE))","v":1.8261000000000001},{"$f":"IF($O242=\"\", \"\", VLOOKUP($O242, USSW!$J$7:$K$2000, 2, FALSE))","v":1.9478},{"$f":"IF($O242=\"\", \"\", VLOOKUP($O242, USSW!$L$7:$M$2000, 2, FALSE))","v":2.0514999999999999},{"$f":"IF($O242=\"\", \"\", VLOOKUP($O242, USSW!$N$7:$O$2000, 2, FALSE))","v":2.1373000000000002},{"$f":"IF($O242=\"\", \"\", VLOOKUP($O242, USSW!$P$7:$Q$2000, 2, FALSE))","v":2.2105000000000001},{"$f":"IF($O242=\"\", \"\", VLOOKUP($O242, USSW!$R$7:$S$2000, 2, FALSE))","v":2.2726999999999999},{"$f":"IF($O242=\"\", \"\", VLOOKUP($O242, USSW!$T$7:$U$2000, 2, FALSE))","v":2.3268}]
[null,{"$f":"IF(CAD!B240=\"\", \"\", CAD!B240)","v":"2017-02-07"},{"$f":"IF($B243=\"\", \"\", CAD!C240)","v":1.3185},{"$f":"IF($B243=\"\", \"\",VLOOKUP($B243, CAD!$D$7:$E$2000, 2, FALSE))","v":1.3122799999999999},{"$f":"IF($B243=\"\", \"\",VLOOKUP($B243, CAD!$F$7:$G$2000, 2, FALSE))","v":1.30304},{"$f":"IF($B243=\"\", \"\",VLOOKUP($B243, CAD!$H$7:$I$2000, 2, FALSE))","v":1.2944960000000001},{"$f":"IF($B243=\"\", \"\",VLOOKUP($B243, CAD!$J$7:$K$2000, 2, FALSE))","v":1.2858350000000001},{"$f":"IF($B243=\"\", \"\", VLOOKUP($B243, CAD!$L$7:$M$2000, 2, FALSE))","v":1.280187},{"$f":"IF($B243=\"\", \"\", VLOOKUP($B243, CAD!$N$7:$O$2000, 2, FALSE))","v":1.2731699999999999},{"$f":"IF($B243=\"\", \"\", VLOOKUP($B243, CAD!$P$7:$Q$2000, 2, FALSE))","v":1.2693300000000001},{"$f":"IF($B243=\"\", \"\", VLOOKUP($B243, CAD!$R$7:$S$2000, 2, FALSE))","v":1.26708},{"$f":"IF($B243=\"\", \"\", VLOOKUP($B243, CAD!$T$7:$U$2000, 2, FALSE))","v":1.2672399999999999},{"$f":"IF($B243=\"\", \"\", VLOOKUP($B243, CAD!$V$7:$W$2000, 2, FALSE))","v":1.2695000000000001},null,{"$f":"IF(USSW!B240=\"\", \"\", USSW!B240)","v":"2017-02-06"},{"$f":"IF($O243=\"\", \"\", USSW!C240)","v":1.2378},{"$f":"IF($O243=\"\", \"\", VLOOKUP($O243, USSW!$D$7:$E$2000, 2, FALSE))","v":1.4775},{"$f":"IF($O243=\"\", \"\", VLOOKUP($O243, USSW!$F$7:$G$2000, 2, FALSE))","v":1.6713},{"$f":"IF($O243=\"\", \"\", VLOOKUP($O243, USSW!$H$7:$I$2000, 2, FALSE))","v":1.8228},{"$f":"IF($O243=\"\", \"\", VLOOKUP($O243, USSW!$J$7:$K$2000, 2, FALSE))","v":1.9453},{"$f":"IF($O243=\"\", \"\", VLOOKUP($O243, USSW!$L$7:$M$2000, 2, FALSE))","v":2.0518000000000001},{"$f":"IF($O243=\"\", \"\", VLOOKUP($O243, USSW!$N$7:$O$2000, 2, FALSE))","v":2.1436000000000002},{"$f":"IF($O243=\"\", \"\", VLOOKUP($O243, USSW!$P$7:$Q$2000, 2, FALSE))","v":2.2206999999999999},{"$f":"IF($O243=\"\", \"\", VLOOKUP($O243, USSW!$R$7:$S$2000, 2, FALSE))","v":2.2862},{"$f":"IF($O243=\"\", \"\", VLOOKUP($O243, USSW!$T$7:$U$2000, 2, FALSE))","v":2.3435000000000001}]
[null,{"$f":"IF(CAD!B241=\"\", \"\", CAD!B241)","v":"2017-02-06"},{"$f":"IF($B244=\"\", \"\", CAD!C241)","v":1.3084},{"$f":"IF($B244=\"\", \"\",VLOOKUP($B244, CAD!$D$7:$E$2000, 2, FALSE))","v":1.3022},{"$f":"IF($B244=\"\", \"\",VLOOKUP($B244, CAD!$F$7:$G$2000, 2, FALSE))","v":1.2931699999999999},{"$f":"IF($B244=\"\", \"\",VLOOKUP($B244, CAD!$H$7:$I$2000, 2, FALSE))","v":1.2842},{"$f":"IF($B244=\"\", \"\",VLOOKUP($B244, CAD!$J$7:$K$2000, 2, FALSE))","v":1.2760800000000001},{"$f":"IF($B244=\"\", \"\", VLOOKUP($B244, CAD!$L$7:$M$2000, 2, FALSE))","v":1.2688600000000001},{"$f":"IF($B244=\"\", \"\", VLOOKUP($B244, CAD!$N$7:$O$2000, 2, FALSE))","v":1.26336},{"$f":"IF($B244=\"\", \"\", VLOOKUP($B244, CAD!$P$7:$Q$2000, 2, FALSE))","v":1.2596700000000001},{"$f":"IF($B244=\"\", \"\", VLOOKUP($B244, CAD!$R$7:$S$2000, 2, FALSE))","v":1.2574000000000001},{"$f":"IF($B244=\"\", \"\", VLOOKUP($B244, CAD!$T$7:$U$2000, 2, FALSE))","v":1.2570399999999999},{"$f":"IF($B244=\"\", \"\", VLOOKUP($B244, CAD!$V$7:$W$2000, 2, FALSE))","v":1.2583500000000001},null,{"$f":"IF(USSW!B241=\"\", \"\", USSW!B241)","v":"2017-02-03"},{"$f":"IF($O244=\"\", \"\", USSW!C241)","v":1.2481},{"$f":"IF($O244=\"\", \"\", VLOOKUP($O244, USSW!$D$7:$E$2000, 2, FALSE))","v":1.5023},{"$f":"IF($O244=\"\", \"\", VLOOKUP($O244, USSW!$F$7:$G$2000, 2, FALSE))","v":1.7088000000000001},{"$f":"IF($O244=\"\", \"\", VLOOKUP($O244, USSW!$H$7:$I$2000, 2, FALSE))","v":1.8684000000000001},{"$f":"IF($O244=\"\", \"\", VLOOKUP($O244, USSW!$J$7:$K$2000, 2, FALSE))","v":1.9927999999999999},{"$f":"IF($O244=\"\", \"\", VLOOKUP($O244, USSW!$L$7:$M$2000, 2, FALSE))","v":2.0998000000000001},{"$f":"IF($O244=\"\", \"\", VLOOKUP($O244, USSW!$N$7:$O$2000, 2, FALSE))","v":2.1913},{"$f":"IF($O244=\"\", \"\", VLOOKUP($O244, USSW!$P$7:$Q$2000, 2, FALSE))","v":2.2665999999999999},{"$f":"IF($O244=\"\", \"\", VLOOKUP($O244, USSW!$R$7:$S$2000, 2, FALSE))","v":2.3321999999999998},{"$f":"IF($O244=\"\", \"\", VLOOKUP($O244, USSW!$T$7:$U$2000, 2, FALSE))","v":2.3879000000000001}]
[null,{"$f":"IF(CAD!B242=\"\", \"\", CAD!B242)","v":"2017-02-03"},{"$f":"IF($B245=\"\", \"\", CAD!C242)","v":1.3023},{"$f":"IF($B245=\"\", \"\",VLOOKUP($B245, CAD!$D$7:$E$2000, 2, FALSE))","v":1.2962899999999999},{"$f":"IF($B245=\"\", \"\",VLOOKUP($B245, CAD!$F$7:$G$2000, 2, FALSE))","v":1.2874000000000001},{"$f":"IF($B245=\"\", \"\",VLOOKUP($B245, CAD!$H$7:$I$2000, 2, FALSE))","v":1.2783500000000001},{"$f":"IF($B245=\"\", \"\",VLOOKUP($B245, CAD!$J$7:$K$2000, 2, FALSE))","v":1.2700800000000001},{"$f":"IF($B245=\"\", \"\", VLOOKUP($B245, CAD!$L$7:$M$2000, 2, FALSE))","v":1.2632350000000001},{"$f":"IF($B245=\"\", \"\", VLOOKUP($B245, CAD!$N$7:$O$2000, 2, FALSE))","v":1.2579800000000001},{"$f":"IF($B245=\"\", \"\", VLOOKUP($B245, CAD!$P$7:$Q$2000, 2, FALSE))","v":1.25457},{"$f":"IF($B245=\"\", \"\", VLOOKUP($B245, CAD!$R$7:$S$2000, 2, FALSE))","v":1.2524850000000001},{"$f":"IF($B245=\"\", \"\", VLOOKUP($B245, CAD!$T$7:$U$2000, 2, FALSE))","v":1.25278},{"$f":"IF($B245=\"\", \"\", VLOOKUP($B245, CAD!$V$7:$W$2000, 2, FALSE))","v":1.25508},null,{"$f":"IF(USSW!B242=\"\", \"\", USSW!B242)","v":"2017-02-02"},{"$f":"IF($O245=\"\", \"\", USSW!C242)","v":1.2518},{"$f":"IF($O245=\"\", \"\", VLOOKUP($O245, USSW!$D$7:$E$2000, 2, FALSE))","v":1.5085999999999999},{"$f":"IF($O245=\"\", \"\", VLOOKUP($O245, USSW!$F$7:$G$2000, 2, FALSE))","v":1.7163999999999999},{"$f":"IF($O245=\"\", \"\", VLOOKUP($O245, USSW!$H$7:$I$2000, 2, FALSE))","v":1.8768},{"$f":"IF($O245=\"\", \"\", VLOOKUP($O245, USSW!$J$7:$K$2000, 2, FALSE))","v":1.9996},{"$f":"IF($O245=\"\", \"\", VLOOKUP($O245, USSW!$L$7:$M$2000, 2, FALSE))","v":2.1055999999999999},{"$f":"IF($O245=\"\", \"\", VLOOKUP($O245, USSW!$N$7:$O$2000, 2, FALSE))","v":2.1939000000000002},{"$f":"IF($O245=\"\", \"\", VLOOKUP($O245, USSW!$P$7:$Q$2000, 2, FALSE))","v":2.2688000000000001},{"$f":"IF($O245=\"\", \"\", VLOOKUP($O245, USSW!$R$7:$S$2000, 2, FALSE))","v":2.3323},{"$f":"IF($O245=\"\", \"\", VLOOKUP($O245, USSW!$T$7:$U$2000, 2, FALSE))","v":2.3874}]
[null,{"$f":"IF(CAD!B243=\"\", \"\", CAD!B243)","v":"2017-02-02"},{"$f":"IF($B246=\"\", \"\", CAD!C243)","v":1.3027},{"$f":"IF($B246=\"\", \"\",VLOOKUP($B246, CAD!$D$7:$E$2000, 2, FALSE))","v":1.2965500000000001},{"$f":"IF($B246=\"\", \"\",VLOOKUP($B246, CAD!$F$7:$G$2000, 2, FALSE))","v":1.28725},{"$f":"IF($B246=\"\", \"\",VLOOKUP($B246, CAD!$H$7:$I$2000, 2, FALSE))","v":1.2785500000000001},{"$f":"IF($B246=\"\", \"\",VLOOKUP($B246, CAD!$J$7:$K$2000, 2, FALSE))","v":1.27051},{"$f":"IF($B246=\"\", \"\", VLOOKUP($B246, CAD!$L$7:$M$2000, 2, FALSE))","v":1.2638849999999999},{"$f":"IF($B246=\"\", \"\", VLOOKUP($B246, CAD!$N$7:$O$2000, 2, FALSE))","v":1.2584599999999999},{"$f":"IF($B246=\"\", \"\", VLOOKUP($B246, CAD!$P$7:$Q$2000, 2, FALSE))","v":1.2546299999999999},{"$f":"IF($B246=\"\", \"\", VLOOKUP($B246, CAD!$R$7:$S$2000, 2, FALSE))","v":1.2533449999999999},{"$f":"IF($B246=\"\", \"\", VLOOKUP($B246, CAD!$T$7:$U$2000, 2, FALSE))","v":1.2544},{"$f":"IF($B246=\"\", \"\", VLOOKUP($B246, CAD!$V$7:$W$2000, 2, FALSE))","v":1.25573},null,{"$f":"IF(USSW!B243=\"\", \"\", USSW!B243)","v":"2017-02-01"},{"$f":"IF($O246=\"\", \"\", USSW!C243)","v":1.2515000000000001},{"$f":"IF($O246=\"\", \"\", VLOOKUP($O246, USSW!$D$7:$E$2000, 2, FALSE))","v":1.506},{"$f":"IF($O246=\"\", \"\", VLOOKUP($O246, USSW!$F$7:$G$2000, 2, FALSE))","v":1.7144999999999999},{"$f":"IF($O246=\"\", \"\", VLOOKUP($O246, USSW!$H$7:$I$2000, 2, FALSE))","v":1.8763000000000001},{"$f":"IF($O246=\"\", \"\", VLOOKUP($O246, USSW!$J$7:$K$2000, 2, FALSE))","v":2.0030000000000001},{"$f":"IF($O246=\"\", \"\", VLOOKUP($O246, USSW!$L$7:$M$2000, 2, FALSE))","v":2.1086},{"$f":"IF($O246=\"\", \"\", VLOOKUP($O246, USSW!$N$7:$O$2000, 2, FALSE))","v":2.1945000000000001},{"$f":"IF($O246=\"\", \"\", VLOOKUP($O246, USSW!$P$7:$Q$2000, 2, FALSE))","v":2.2685},{"$f":"IF($O246=\"\", \"\", VLOOKUP($O246, USSW!$R$7:$S$2000, 2, FALSE))","v":2.3298000000000001},{"$f":"IF($O246=\"\", \"\", VLOOKUP($O246, USSW!$T$7:$U$2000, 2, FALSE))","v":2.3833000000000002}]
[null,{"$f":"IF(CAD!B244=\"\", \"\", CAD!B244)","v":"2017-02-01"},{"$f":"IF($B247=\"\", \"\", CAD!C244)","v":1.3048999999999999},{"$f":"IF($B247=\"\", \"\",VLOOKUP($B247, CAD!$D$7:$E$2000, 2, FALSE))","v":1.2986200000000001},{"$f":"IF($B247=\"\", \"\",VLOOKUP($B247, CAD!$F$7:$G$2000, 2, FALSE))","v":1.2894000000000001},{"$f":"IF($B247=\"\", \"\",VLOOKUP($B247, CAD!$H$7:$I$2000, 2, FALSE))","v":1.2802249999999999},{"$f":"IF($B247=\"\", \"\",VLOOKUP($B247, CAD!$J$7:$K$2000, 2, FALSE))","v":1.2717099999999999},{"$f":"IF($B247=\"\", \"\", VLOOKUP($B247, CAD!$L$7:$M$2000, 2, FALSE))","v":1.2641150000000001},{"$f":"IF($B247=\"\", \"\", VLOOKUP($B247, CAD!$N$7:$O$2000, 2, FALSE))","v":1.25939},{"$f":"IF($B247=\"\", \"\", VLOOKUP($B247, CAD!$P$7:$Q$2000, 2, FALSE))","v":1.25593},{"$f":"IF($B247=\"\", \"\", VLOOKUP($B247, CAD!$R$7:$S$2000, 2, FALSE))","v":1.2544299999999999},{"$f":"IF($B247=\"\", \"\", VLOOKUP($B247, CAD!$T$7:$U$2000, 2, FALSE))","v":1.25454},{"$f":"IF($B247=\"\", \"\", VLOOKUP($B247, CAD!$V$7:$W$2000, 2, FALSE))","v":1.2559199999999999},null,{"$f":"IF(USSW!B244=\"\", \"\", USSW!B244)","v":"2017-01-31"},{"$f":"IF($O247=\"\", \"\", USSW!C244)","v":1.2464},{"$f":"IF($O247=\"\", \"\", VLOOKUP($O247, USSW!$D$7:$E$2000, 2, FALSE))","v":1.4976},{"$f":"IF($O247=\"\", \"\", VLOOKUP($O247, USSW!$F$7:$G$2000, 2, FALSE))","v":1.7},{"$f":"IF($O247=\"\", \"\", VLOOKUP($O247, USSW!$H$7:$I$2000, 2, FALSE))","v":1.8614999999999999},{"$f":"IF($O247=\"\", \"\", VLOOKUP($O247, USSW!$J$7:$K$2000, 2, FALSE))","v":1.9873000000000001},{"$f":"IF($O247=\"\", \"\", VLOOKUP($O247, USSW!$L$7:$M$2000, 2, FALSE))","v":2.0920000000000001},{"$f":"IF($O247=\"\", \"\", VLOOKUP($O247, USSW!$N$7:$O$2000, 2, FALSE))","v":2.1778},{"$f":"IF($O247=\"\", \"\", VLOOKUP($O247, USSW!$P$7:$Q$2000, 2, FALSE))","v":2.2501000000000002},{"$f":"IF($O247=\"\", \"\", VLOOKUP($O247, USSW!$R$7:$S$2000, 2, FALSE))","v":2.3104},{"$f":"IF($O247=\"\", \"\", VLOOKUP($O247, USSW!$T$7:$U$2000, 2, FALSE))","v":2.3645}]
[null,{"$f":"IF(CAD!B245=\"\", \"\", CAD!B245)","v":"2017-01-31"},{"$f":"IF($B248=\"\", \"\", CAD!C245)","v":1.3029999999999999},{"$f":"IF($B248=\"\", \"\",VLOOKUP($B248, CAD!$D$7:$E$2000, 2, FALSE))","v":1.29653},{"$f":"IF($B248=\"\", \"\",VLOOKUP($B248, CAD!$F$7:$G$2000, 2, FALSE))","v":1.28725},{"$f":"IF($B248=\"\", \"\",VLOOKUP($B248, CAD!$H$7:$I$2000, 2, FALSE))","v":1.2783500000000001},{"$f":"IF($B248=\"\", \"\",VLOOKUP($B248, CAD!$J$7:$K$2000, 2, FALSE))","v":1.2703100000000001},{"$f":"IF($B248=\"\", \"\", VLOOKUP($B248, CAD!$L$7:$M$2000, 2, FALSE))","v":1.26362},{"$f":"IF($B248=\"\", \"\", VLOOKUP($B248, CAD!$N$7:$O$2000, 2, FALSE))","v":1.2585900000000001},{"$f":"IF($B248=\"\", \"\", VLOOKUP($B248, CAD!$P$7:$Q$2000, 2, FALSE))","v":1.2557},{"$f":"IF($B248=\"\", \"\", VLOOKUP($B248, CAD!$R$7:$S$2000, 2, FALSE))","v":1.254105},{"$f":"IF($B248=\"\", \"\", VLOOKUP($B248, CAD!$T$7:$U$2000, 2, FALSE))","v":1.2550699999999999},{"$f":"IF($B248=\"\", \"\", VLOOKUP($B248, CAD!$V$7:$W$2000, 2, FALSE))","v":1.25773},null,{"$f":"IF(USSW!B245=\"\", \"\", USSW!B245)","v":"2017-01-30"},{"$f":"IF($O248=\"\", \"\", USSW!C245)","v":1.2533000000000001},{"$f":"IF($O248=\"\", \"\", VLOOKUP($O248, USSW!$D$7:$E$2000, 2, FALSE))","v":1.5130999999999999},{"$f":"IF($O248=\"\", \"\", VLOOKUP($O248, USSW!$F$7:$G$2000, 2, FALSE))","v":1.7255},{"$f":"IF($O248=\"\", \"\", VLOOKUP($O248, USSW!$H$7:$I$2000, 2, FALSE))","v":1.8906000000000001},{"$f":"IF($O248=\"\", \"\", VLOOKUP($O248, USSW!$J$7:$K$2000, 2, FALSE))","v":2.0211000000000001},{"$f":"IF($O248=\"\", \"\", VLOOKUP($O248, USSW!$L$7:$M$2000, 2, FALSE))","v":2.1240999999999999},{"$f":"IF($O248=\"\", \"\", VLOOKUP($O248, USSW!$N$7:$O$2000, 2, FALSE))","v":2.2109000000000001},{"$f":"IF($O248=\"\", \"\", VLOOKUP($O248, USSW!$P$7:$Q$2000, 2, FALSE))","v":2.2829999999999999},{"$f":"IF($O248=\"\", \"\", VLOOKUP($O248, USSW!$R$7:$S$2000, 2, FALSE))","v":2.3439000000000001},{"$f":"IF($O248=\"\", \"\", VLOOKUP($O248, USSW!$T$7:$U$2000, 2, FALSE))","v":2.3969}]
[null,{"$f":"IF(CAD!B246=\"\", \"\", CAD!B246)","v":"2017-01-30"},{"$f":"IF($B249=\"\", \"\", CAD!C246)","v":1.3117000000000001},{"$f":"IF($B249=\"\", \"\",VLOOKUP($B249, CAD!$D$7:$E$2000, 2, FALSE))","v":1.3050999999999999},{"$f":"IF($B249=\"\", \"\",VLOOKUP($B249, CAD!$F$7:$G$2000, 2, FALSE))","v":1.2960750000000001},{"$f":"IF($B249=\"\", \"\",VLOOKUP($B249, CAD!$H$7:$I$2000, 2, FALSE))","v":1.2865500000000001},{"$f":"IF($B249=\"\", \"\",VLOOKUP($B249, CAD!$J$7:$K$2000, 2, FALSE))","v":1.2780800000000001},{"$f":"IF($B249=\"\", \"\", VLOOKUP($B249, CAD!$L$7:$M$2000, 2, FALSE))","v":1.2710049999999999},{"$f":"IF($B249=\"\", \"\", VLOOKUP($B249, CAD!$N$7:$O$2000, 2, FALSE))","v":1.26607},{"$f":"IF($B249=\"\", \"\", VLOOKUP($B249, CAD!$P$7:$Q$2000, 2, FALSE))","v":1.2635700000000001},{"$f":"IF($B249=\"\", \"\", VLOOKUP($B249, CAD!$R$7:$S$2000, 2, FALSE))","v":1.2614300000000001},{"$f":"IF($B249=\"\", \"\", VLOOKUP($B249, CAD!$T$7:$U$2000, 2, FALSE))","v":1.2614000000000001},{"$f":"IF($B249=\"\", \"\", VLOOKUP($B249, CAD!$V$7:$W$2000, 2, FALSE))","v":1.26298},null,{"$f":"IF(USSW!B246=\"\", \"\", USSW!B246)","v":"2017-01-27"},{"$f":"IF($O249=\"\", \"\", USSW!C246)","v":1.2583},{"$f":"IF($O249=\"\", \"\", VLOOKUP($O249, USSW!$D$7:$E$2000, 2, FALSE))","v":1.5139},{"$f":"IF($O249=\"\", \"\", VLOOKUP($O249, USSW!$F$7:$G$2000, 2, FALSE))","v":1.7228000000000001},{"$f":"IF($O249=\"\", \"\", VLOOKUP($O249, USSW!$H$7:$I$2000, 2, FALSE))","v":1.8853},{"$f":"IF($O249=\"\", \"\", VLOOKUP($O249, USSW!$J$7:$K$2000, 2, FALSE))","v":2.0169999999999999},{"$f":"IF($O249=\"\", \"\", VLOOKUP($O249, USSW!$L$7:$M$2000, 2, FALSE))","v":2.1234999999999999},{"$f":"IF($O249=\"\", \"\", VLOOKUP($O249, USSW!$N$7:$O$2000, 2, FALSE))","v":2.2103000000000002},{"$f":"IF($O249=\"\", \"\", VLOOKUP($O249, USSW!$P$7:$Q$2000, 2, FALSE))","v":2.2837999999999998},{"$f":"IF($O249=\"\", \"\", VLOOKUP($O249, USSW!$R$7:$S$2000, 2, FALSE))","v":2.3448000000000002},{"$f":"IF($O249=\"\", \"\", VLOOKUP($O249, USSW!$T$7:$U$2000, 2, FALSE))","v":2.3972000000000002}]
[null,{"$f":"IF(CAD!B247=\"\", \"\", CAD!B247)","v":"2017-01-27"},{"$f":"IF($B250=\"\", \"\", CAD!C247)","v":1.3152999999999999},{"$f":"IF($B250=\"\", \"\",VLOOKUP($B250, CAD!$D$7:$E$2000, 2, FALSE))","v":1.3087},{"$f":"IF($B250=\"\", \"\",VLOOKUP($B250, CAD!$F$7:$G$2000, 2, FALSE))","v":1.2993250000000001},{"$f":"IF($B250=\"\", \"\",VLOOKUP($B250, CAD!$H$7:$I$2000, 2, FALSE))","v":1.2907189999999999},{"$f":"IF($B250=\"\", \"\",VLOOKUP($B250, CAD!$J$7:$K$2000, 2, FALSE))","v":1.2817700000000001},{"$f":"IF($B250=\"\", \"\", VLOOKUP($B250, CAD!$L$7:$M$2000, 2, FALSE))","v":1.2748710000000001},{"$f":"IF($B250=\"\", \"\", VLOOKUP($B250, CAD!$N$7:$O$2000, 2, FALSE))","v":1.26874},{"$f":"IF($B250=\"\", \"\", VLOOKUP($B250, CAD!$P$7:$Q$2000, 2, FALSE))","v":1.26617},{"$f":"IF($B250=\"\", \"\", VLOOKUP($B250, CAD!$R$7:$S$2000, 2, FALSE))","v":1.2636099999999999},{"$f":"IF($B250=\"\", \"\", VLOOKUP($B250, CAD!$T$7:$U$2000, 2, FALSE))","v":1.2631300000000001},{"$f":"IF($B250=\"\", \"\", VLOOKUP($B250, CAD!$V$7:$W$2000, 2, FALSE))","v":1.2641899999999999},null,{"$f":"IF(USSW!B247=\"\", \"\", USSW!B247)","v":"2017-01-26"},{"$f":"IF($O250=\"\", \"\", USSW!C247)","v":1.2605},{"$f":"IF($O250=\"\", \"\", VLOOKUP($O250, USSW!$D$7:$E$2000, 2, FALSE))","v":1.5144},{"$f":"IF($O250=\"\", \"\", VLOOKUP($O250, USSW!$F$7:$G$2000, 2, FALSE))","v":1.7258},{"$f":"IF($O250=\"\", \"\", VLOOKUP($O250, USSW!$H$7:$I$2000, 2, FALSE))","v":1.8942000000000001},{"$f":"IF($O250=\"\", \"\", VLOOKUP($O250, USSW!$J$7:$K$2000, 2, FALSE))","v":2.0301999999999998},{"$f":"IF($O250=\"\", \"\", VLOOKUP($O250, USSW!$L$7:$M$2000, 2, FALSE))","v":2.1364000000000001},{"$f":"IF($O250=\"\", \"\", VLOOKUP($O250, USSW!$N$7:$O$2000, 2, FALSE))","v":2.2261000000000002},{"$f":"IF($O250=\"\", \"\", VLOOKUP($O250, USSW!$P$7:$Q$2000, 2, FALSE))","v":2.3010000000000002},{"$f":"IF($O250=\"\", \"\", VLOOKUP($O250, USSW!$R$7:$S$2000, 2, FALSE))","v":2.3614000000000002},{"$f":"IF($O250=\"\", \"\", VLOOKUP($O250, USSW!$T$7:$U$2000, 2, FALSE))","v":2.4140999999999999}]
[null,{"$f":"IF(CAD!B248=\"\", \"\", CAD!B248)","v":"2017-01-26"},{"$f":"IF($B251=\"\", \"\", CAD!C248)","v":1.3089999999999999},{"$f":"IF($B251=\"\", \"\",VLOOKUP($B251, CAD!$D$7:$E$2000, 2, FALSE))","v":1.3023640000000001},{"$f":"IF($B251=\"\", \"\",VLOOKUP($B251, CAD!$F$7:$G$2000, 2, FALSE))","v":1.2931889999999999},{"$f":"IF($B251=\"\", \"\",VLOOKUP($B251, CAD!$H$7:$I$2000, 2, FALSE))","v":1.2846900000000001},{"$f":"IF($B251=\"\", \"\",VLOOKUP($B251, CAD!$J$7:$K$2000, 2, FALSE))","v":1.2759750000000001},{"$f":"IF($B251=\"\", \"\", VLOOKUP($B251, CAD!$L$7:$M$2000, 2, FALSE))","v":1.270524},{"$f":"IF($B251=\"\", \"\", VLOOKUP($B251, CAD!$N$7:$O$2000, 2, FALSE))","v":1.2641899999999999},{"$f":"IF($B251=\"\", \"\", VLOOKUP($B251, CAD!$P$7:$Q$2000, 2, FALSE))","v":1.2618100000000001},{"$f":"IF($B251=\"\", \"\", VLOOKUP($B251, CAD!$R$7:$S$2000, 2, FALSE))","v":1.259325},{"$f":"IF($B251=\"\", \"\", VLOOKUP($B251, CAD!$T$7:$U$2000, 2, FALSE))","v":1.259525},{"$f":"IF($B251=\"\", \"\", VLOOKUP($B251, CAD!$V$7:$W$2000, 2, FALSE))","v":1.2617499999999999},null,{"$f":"IF(USSW!B248=\"\", \"\", USSW!B248)","v":"2017-01-25"},{"$f":"IF($O251=\"\", \"\", USSW!C248)","v":1.2638},{"$f":"IF($O251=\"\", \"\", VLOOKUP($O251, USSW!$D$7:$E$2000, 2, FALSE))","v":1.5195000000000001},{"$f":"IF($O251=\"\", \"\", VLOOKUP($O251, USSW!$F$7:$G$2000, 2, FALSE))","v":1.7307999999999999},{"$f":"IF($O251=\"\", \"\", VLOOKUP($O251, USSW!$H$7:$I$2000, 2, FALSE))","v":1.8995},{"$f":"IF($O251=\"\", \"\", VLOOKUP($O251, USSW!$J$7:$K$2000, 2, FALSE))","v":2.0326},{"$f":"IF($O251=\"\", \"\", VLOOKUP($O251, USSW!$L$7:$M$2000, 2, FALSE))","v":2.1379000000000001},{"$f":"IF($O251=\"\", \"\", VLOOKUP($O251, USSW!$N$7:$O$2000, 2, FALSE))","v":2.2261000000000002},{"$f":"IF($O251=\"\", \"\", VLOOKUP($O251, USSW!$P$7:$Q$2000, 2, FALSE))","v":2.2985000000000002},{"$f":"IF($O251=\"\", \"\", VLOOKUP($O251, USSW!$R$7:$S$2000, 2, FALSE))","v":2.3597999999999999},{"$f":"IF($O251=\"\", \"\", VLOOKUP($O251, USSW!$T$7:$U$2000, 2, FALSE))","v":2.4123999999999999}]
[null,{"$f":"IF(CAD!B249=\"\", \"\", CAD!B249)","v":"2017-01-25"},{"$f":"IF($B252=\"\", \"\", CAD!C249)","v":1.3069999999999999},{"$f":"IF($B252=\"\", \"\",VLOOKUP($B252, CAD!$D$7:$E$2000, 2, FALSE))","v":1.3004100000000001},{"$f":"IF($B252=\"\", \"\",VLOOKUP($B252, CAD!$F$7:$G$2000, 2, FALSE))","v":1.291039},{"$f":"IF($B252=\"\", \"\",VLOOKUP($B252, CAD!$H$7:$I$2000, 2, FALSE))","v":1.2825899999999999},{"$f":"IF($B252=\"\", \"\",VLOOKUP($B252, CAD!$J$7:$K$2000, 2, FALSE))","v":1.2740899999999999},{"$f":"IF($B252=\"\", \"\", VLOOKUP($B252, CAD!$L$7:$M$2000, 2, FALSE))","v":1.2692060000000001},{"$f":"IF($B252=\"\", \"\", VLOOKUP($B252, CAD!$N$7:$O$2000, 2, FALSE))","v":1.2625200000000001},{"$f":"IF($B252=\"\", \"\", VLOOKUP($B252, CAD!$P$7:$Q$2000, 2, FALSE))","v":1.2597499999999999},{"$f":"IF($B252=\"\", \"\", VLOOKUP($B252, CAD!$R$7:$S$2000, 2, FALSE))","v":1.2580899999999999},{"$f":"IF($B252=\"\", \"\", VLOOKUP($B252, CAD!$T$7:$U$2000, 2, FALSE))","v":1.25884},{"$f":"IF($B252=\"\", \"\", VLOOKUP($B252, CAD!$V$7:$W$2000, 2, FALSE))","v":1.2610399999999999},null,{"$f":"IF(USSW!B249=\"\", \"\", USSW!B249)","v":"2017-01-24"},{"$f":"IF($O252=\"\", \"\", USSW!C249)","v":1.2483},{"$f":"IF($O252=\"\", \"\", VLOOKUP($O252, USSW!$D$7:$E$2000, 2, FALSE))","v":1.5004999999999999},{"$f":"IF($O252=\"\", \"\", VLOOKUP($O252, USSW!$F$7:$G$2000, 2, FALSE))","v":1.7033},{"$f":"IF($O252=\"\", \"\", VLOOKUP($O252, USSW!$H$7:$I$2000, 2, FALSE))","v":1.8648},{"$f":"IF($O252=\"\", \"\", VLOOKUP($O252, USSW!$J$7:$K$2000, 2, FALSE))","v":1.9931000000000001},{"$f":"IF($O252=\"\", \"\", VLOOKUP($O252, USSW!$L$7:$M$2000, 2, FALSE))","v":2.0933999999999999},{"$f":"IF($O252=\"\", \"\", VLOOKUP($O252, USSW!$N$7:$O$2000, 2, FALSE))","v":2.1793},{"$f":"IF($O252=\"\", \"\", VLOOKUP($O252, USSW!$P$7:$Q$2000, 2, FALSE))","v":2.25},{"$f":"IF($O252=\"\", \"\", VLOOKUP($O252, USSW!$R$7:$S$2000, 2, FALSE))","v":2.3102999999999998},{"$f":"IF($O252=\"\", \"\", VLOOKUP($O252, USSW!$T$7:$U$2000, 2, FALSE))","v":2.3610000000000002}]
[null,{"$f":"IF(CAD!B250=\"\", \"\", CAD!B250)","v":"2017-01-24"},{"$f":"IF($B253=\"\", \"\", CAD!C250)","v":1.3158000000000001},{"$f":"IF($B253=\"\", \"\",VLOOKUP($B253, CAD!$D$7:$E$2000, 2, FALSE))","v":1.30918},{"$f":"IF($B253=\"\", \"\",VLOOKUP($B253, CAD!$F$7:$G$2000, 2, FALSE))","v":1.2997300000000001},{"$f":"IF($B253=\"\", \"\",VLOOKUP($B253, CAD!$H$7:$I$2000, 2, FALSE))","v":1.2912509999999999},{"$f":"IF($B253=\"\", \"\",VLOOKUP($B253, CAD!$J$7:$K$2000, 2, FALSE))","v":1.2827200000000001},{"$f":"IF($B253=\"\", \"\", VLOOKUP($B253, CAD!$L$7:$M$2000, 2, FALSE))","v":1.277614},{"$f":"IF($B253=\"\", \"\", VLOOKUP($B253, CAD!$N$7:$O$2000, 2, FALSE))","v":1.2706200000000001},{"$f":"IF($B253=\"\", \"\", VLOOKUP($B253, CAD!$P$7:$Q$2000, 2, FALSE))","v":1.2679499999999999},{"$f":"IF($B253=\"\", \"\", VLOOKUP($B253, CAD!$R$7:$S$2000, 2, FALSE))","v":1.2658799999999999},{"$f":"IF($B253=\"\", \"\", VLOOKUP($B253, CAD!$T$7:$U$2000, 2, FALSE))","v":1.26606},{"$f":"IF($B253=\"\", \"\", VLOOKUP($B253, CAD!$V$7:$W$2000, 2, FALSE))","v":1.26824},null,{"$f":"IF(USSW!B250=\"\", \"\", USSW!B250)","v":"2017-01-23"},{"$f":"IF($O253=\"\", \"\", USSW!C250)","v":1.2325999999999999},{"$f":"IF($O253=\"\", \"\", VLOOKUP($O253, USSW!$D$7:$E$2000, 2, FALSE))","v":1.468},{"$f":"IF($O253=\"\", \"\", VLOOKUP($O253, USSW!$F$7:$G$2000, 2, FALSE))","v":1.6612},{"$f":"IF($O253=\"\", \"\", VLOOKUP($O253, USSW!$H$7:$I$2000, 2, FALSE))","v":1.8150999999999999},{"$f":"IF($O253=\"\", \"\", VLOOKUP($O253, USSW!$J$7:$K$2000, 2, FALSE))","v":1.9374},{"$f":"IF($O253=\"\", \"\", VLOOKUP($O253, USSW!$L$7:$M$2000, 2, FALSE))","v":2.0379999999999998},{"$f":"IF($O253=\"\", \"\", VLOOKUP($O253, USSW!$N$7:$O$2000, 2, FALSE))","v":2.1223000000000001},{"$f":"IF($O253=\"\", \"\", VLOOKUP($O253, USSW!$P$7:$Q$2000, 2, FALSE))","v":2.1932},{"$f":"IF($O253=\"\", \"\", VLOOKUP($O253, USSW!$R$7:$S$2000, 2, FALSE))","v":2.2523},{"$f":"IF($O253=\"\", \"\", VLOOKUP($O253, USSW!$T$7:$U$2000, 2, FALSE))","v":2.3020999999999998}]
[null,{"$f":"IF(CAD!B251=\"\", \"\", CAD!B251)","v":"2017-01-23"},{"$f":"IF($B254=\"\", \"\", CAD!C251)","v":1.3238000000000001},{"$f":"IF($B254=\"\", \"\",VLOOKUP($B254, CAD!$D$7:$E$2000, 2, FALSE))","v":1.31691},{"$f":"IF($B254=\"\", \"\",VLOOKUP($B254, CAD!$F$7:$G$2000, 2, FALSE))","v":1.3071950000000001},{"$f":"IF($B254=\"\", \"\",VLOOKUP($B254, CAD!$H$7:$I$2000, 2, FALSE))","v":1.2984450000000001},{"$f":"IF($B254=\"\", \"\",VLOOKUP($B254, CAD!$J$7:$K$2000, 2, FALSE))","v":1.290095},{"$f":"IF($B254=\"\", \"\", VLOOKUP($B254, CAD!$L$7:$M$2000, 2, FALSE))","v":1.285358},{"$f":"IF($B254=\"\", \"\", VLOOKUP($B254, CAD!$N$7:$O$2000, 2, FALSE))","v":1.2779499999999999},{"$f":"IF($B254=\"\", \"\", VLOOKUP($B254, CAD!$P$7:$Q$2000, 2, FALSE))","v":1.2748600000000001},{"$f":"IF($B254=\"\", \"\", VLOOKUP($B254, CAD!$R$7:$S$2000, 2, FALSE))","v":1.2723100000000001},{"$f":"IF($B254=\"\", \"\", VLOOKUP($B254, CAD!$T$7:$U$2000, 2, FALSE))","v":1.2718400000000001},{"$f":"IF($B254=\"\", \"\", VLOOKUP($B254, CAD!$V$7:$W$2000, 2, FALSE))","v":1.27284},null,{"$f":"IF(USSW!B251=\"\", \"\", USSW!B251)","v":"2017-01-20"},{"$f":"IF($O254=\"\", \"\", USSW!C251)","v":1.2613000000000001},{"$f":"IF($O254=\"\", \"\", VLOOKUP($O254, USSW!$D$7:$E$2000, 2, FALSE))","v":1.5159},{"$f":"IF($O254=\"\", \"\", VLOOKUP($O254, USSW!$F$7:$G$2000, 2, FALSE))","v":1.7195},{"$f":"IF($O254=\"\", \"\", VLOOKUP($O254, USSW!$H$7:$I$2000, 2, FALSE))","v":1.8796999999999999},{"$f":"IF($O254=\"\", \"\", VLOOKUP($O254, USSW!$J$7:$K$2000, 2, FALSE))","v":2.0023},{"$f":"IF($O254=\"\", \"\", VLOOKUP($O254, USSW!$L$7:$M$2000, 2, FALSE))","v":2.1034999999999999},{"$f":"IF($O254=\"\", \"\", VLOOKUP($O254, USSW!$N$7:$O$2000, 2, FALSE))","v":2.1859999999999999},{"$f":"IF($O254=\"\", \"\", VLOOKUP($O254, USSW!$P$7:$Q$2000, 2, FALSE))","v":2.2565},{"$f":"IF($O254=\"\", \"\", VLOOKUP($O254, USSW!$R$7:$S$2000, 2, FALSE))","v":2.3165},{"$f":"IF($O254=\"\", \"\", VLOOKUP($O254, USSW!$T$7:$U$2000, 2, FALSE))","v":2.3635000000000002}]
[null,{"$f":"IF(CAD!B252=\"\", \"\", CAD!B252)","v":"2017-01-20"},{"$f":"IF($B255=\"\", \"\", CAD!C252)","v":1.3320000000000001},{"$f":"IF($B255=\"\", \"\",VLOOKUP($B255, CAD!$D$7:$E$2000, 2, FALSE))","v":1.32474},{"$f":"IF($B255=\"\", \"\",VLOOKUP($B255, CAD!$F$7:$G$2000, 2, FALSE))","v":1.3149200000000001},{"$f":"IF($B255=\"\", \"\",VLOOKUP($B255, CAD!$H$7:$I$2000, 2, FALSE))","v":1.3059730000000001},{"$f":"IF($B255=\"\", \"\",VLOOKUP($B255, CAD!$J$7:$K$2000, 2, FALSE))","v":1.2972649999999999},{"$f":"IF($B255=\"\", \"\", VLOOKUP($B255, CAD!$L$7:$M$2000, 2, FALSE))","v":1.2915829999999999},{"$f":"IF($B255=\"\", \"\", VLOOKUP($B255, CAD!$N$7:$O$2000, 2, FALSE))","v":1.2854099999999999},{"$f":"IF($B255=\"\", \"\", VLOOKUP($B255, CAD!$P$7:$Q$2000, 2, FALSE))","v":1.2829999999999999},{"$f":"IF($B255=\"\", \"\", VLOOKUP($B255, CAD!$R$7:$S$2000, 2, FALSE))","v":1.2799750000000001},{"$f":"IF($B255=\"\", \"\", VLOOKUP($B255, CAD!$T$7:$U$2000, 2, FALSE))","v":1.279755},{"$f":"IF($B255=\"\", \"\", VLOOKUP($B255, CAD!$V$7:$W$2000, 2, FALSE))","v":1.2815700000000001},null,{"$f":"IF(USSW!B252=\"\", \"\", USSW!B252)","v":"2017-01-19"},{"$f":"IF($O255=\"\", \"\", USSW!C252)","v":1.2695000000000001},{"$f":"IF($O255=\"\", \"\", VLOOKUP($O255, USSW!$D$7:$E$2000, 2, FALSE))","v":1.5365},{"$f":"IF($O255=\"\", \"\", VLOOKUP($O255, USSW!$F$7:$G$2000, 2, FALSE))","v":1.7423},{"$f":"IF($O255=\"\", \"\", VLOOKUP($O255, USSW!$H$7:$I$2000, 2, FALSE))","v":1.9033},{"$f":"IF($O255=\"\", \"\", VLOOKUP($O255, USSW!$J$7:$K$2000, 2, FALSE))","v":2.0247999999999999},{"$f":"IF($O255=\"\", \"\", VLOOKUP($O255, USSW!$L$7:$M$2000, 2, FALSE))","v":2.1219999999999999},{"$f":"IF($O255=\"\", \"\", VLOOKUP($O255, USSW!$N$7:$O$2000, 2, FALSE))","v":2.2023999999999999},{"$f":"IF($O255=\"\", \"\", VLOOKUP($O255, USSW!$P$7:$Q$2000, 2, FALSE))","v":2.2694999999999999},{"$f":"IF($O255=\"\", \"\", VLOOKUP($O255, USSW!$R$7:$S$2000, 2, FALSE))","v":2.3245},{"$f":"IF($O255=\"\", \"\", VLOOKUP($O255, USSW!$T$7:$U$2000, 2, FALSE))","v":2.3713000000000002}]
[null,{"$f":"IF(CAD!B253=\"\", \"\", CAD!B253)","v":"2017-01-19"},{"$f":"IF($B256=\"\", \"\", CAD!C253)","v":1.3318000000000001},{"$f":"IF($B256=\"\", \"\",VLOOKUP($B256, CAD!$D$7:$E$2000, 2, FALSE))","v":1.3245899999999999},{"$f":"IF($B256=\"\", \"\",VLOOKUP($B256, CAD!$F$7:$G$2000, 2, FALSE))","v":1.3147070000000001},{"$f":"IF($B256=\"\", \"\",VLOOKUP($B256, CAD!$H$7:$I$2000, 2, FALSE))","v":1.3052520000000001},{"$f":"IF($B256=\"\", \"\",VLOOKUP($B256, CAD!$J$7:$K$2000, 2, FALSE))","v":1.3012649999999999},{"$f":"IF($B256=\"\", \"\", VLOOKUP($B256, CAD!$L$7:$M$2000, 2, FALSE))","v":1.2923770000000001},{"$f":"IF($B256=\"\", \"\", VLOOKUP($B256, CAD!$N$7:$O$2000, 2, FALSE))","v":1.28545},{"$f":"IF($B256=\"\", \"\", VLOOKUP($B256, CAD!$P$7:$Q$2000, 2, FALSE))","v":1.28227},{"$f":"IF($B256=\"\", \"\", VLOOKUP($B256, CAD!$R$7:$S$2000, 2, FALSE))","v":1.280295},{"$f":"IF($B256=\"\", \"\", VLOOKUP($B256, CAD!$T$7:$U$2000, 2, FALSE))","v":1.2803199999999999},{"$f":"IF($B256=\"\", \"\", VLOOKUP($B256, CAD!$V$7:$W$2000, 2, FALSE))","v":1.28257},null,{"$f":"IF(USSW!B253=\"\", \"\", USSW!B253)","v":"2017-01-18"},{"$f":"IF($O256=\"\", \"\", USSW!C253)","v":1.2549999999999999},{"$f":"IF($O256=\"\", \"\", VLOOKUP($O256, USSW!$D$7:$E$2000, 2, FALSE))","v":1.5229999999999999},{"$f":"IF($O256=\"\", \"\", VLOOKUP($O256, USSW!$F$7:$G$2000, 2, FALSE))","v":1.7264999999999999},{"$f":"IF($O256=\"\", \"\", VLOOKUP($O256, USSW!$H$7:$I$2000, 2, FALSE))","v":1.8757999999999999},{"$f":"IF($O256=\"\", \"\", VLOOKUP($O256, USSW!$J$7:$K$2000, 2, FALSE))","v":1.9881},{"$f":"IF($O256=\"\", \"\", VLOOKUP($O256, USSW!$L$7:$M$2000, 2, FALSE))","v":2.0775000000000001},{"$f":"IF($O256=\"\", \"\", VLOOKUP($O256, USSW!$N$7:$O$2000, 2, FALSE))","v":2.1534},{"$f":"IF($O256=\"\", \"\", VLOOKUP($O256, USSW!$P$7:$Q$2000, 2, FALSE))","v":2.2166999999999999},{"$f":"IF($O256=\"\", \"\", VLOOKUP($O256, USSW!$R$7:$S$2000, 2, FALSE))","v":2.2692999999999999},{"$f":"IF($O256=\"\", \"\", VLOOKUP($O256, USSW!$T$7:$U$2000, 2, FALSE))","v":2.3142999999999998}]
[null,{"$f":"IF(CAD!B254=\"\", \"\", CAD!B254)","v":"2017-01-18"},{"$f":"IF($B257=\"\", \"\", CAD!C254)","v":1.3269},{"$f":"IF($B257=\"\", \"\",VLOOKUP($B257, CAD!$D$7:$E$2000, 2, FALSE))","v":1.3200799999999999},{"$f":"IF($B257=\"\", \"\",VLOOKUP($B257, CAD!$F$7:$G$2000, 2, FALSE))","v":1.310227},{"$f":"IF($B257=\"\", \"\",VLOOKUP($B257, CAD!$H$7:$I$2000, 2, FALSE))","v":1.3005},{"$f":"IF($B257=\"\", \"\",VLOOKUP($B257, CAD!$J$7:$K$2000, 2, FALSE))","v":1.2968200000000001},{"$f":"IF($B257=\"\", \"\", VLOOKUP($B257, CAD!$L$7:$M$2000, 2, FALSE))","v":1.2877510000000001},{"$f":"IF($B257=\"\", \"\", VLOOKUP($B257, CAD!$N$7:$O$2000, 2, FALSE))","v":1.2816099999999999},{"$f":"IF($B257=\"\", \"\", VLOOKUP($B257, CAD!$P$7:$Q$2000, 2, FALSE))","v":1.2789900000000001},{"$f":"IF($B257=\"\", \"\", VLOOKUP($B257, CAD!$R$7:$S$2000, 2, FALSE))","v":1.2769299999999999},{"$f":"IF($B257=\"\", \"\", VLOOKUP($B257, CAD!$T$7:$U$2000, 2, FALSE))","v":1.27685},{"$f":"IF($B257=\"\", \"\", VLOOKUP($B257, CAD!$V$7:$W$2000, 2, FALSE))","v":1.2785},null,{"$f":"IF(USSW!B254=\"\", \"\", USSW!B254)","v":"2017-01-17"},{"$f":"IF($O257=\"\", \"\", USSW!C254)","v":1.2158},{"$f":"IF($O257=\"\", \"\", VLOOKUP($O257, USSW!$D$7:$E$2000, 2, FALSE))","v":1.4499},{"$f":"IF($O257=\"\", \"\", VLOOKUP($O257, USSW!$F$7:$G$2000, 2, FALSE))","v":1.631},{"$f":"IF($O257=\"\", \"\", VLOOKUP($O257, USSW!$H$7:$I$2000, 2, FALSE))","v":1.7663},{"$f":"IF($O257=\"\", \"\", VLOOKUP($O257, USSW!$J$7:$K$2000, 2, FALSE))","v":1.8724000000000001},{"$f":"IF($O257=\"\", \"\", VLOOKUP($O257, USSW!$L$7:$M$2000, 2, FALSE))","v":1.9634},{"$f":"IF($O257=\"\", \"\", VLOOKUP($O257, USSW!$N$7:$O$2000, 2, FALSE))","v":2.0381999999999998},{"$f":"IF($O257=\"\", \"\", VLOOKUP($O257, USSW!$P$7:$Q$2000, 2, FALSE))","v":2.1036000000000001},{"$f":"IF($O257=\"\", \"\", VLOOKUP($O257, USSW!$R$7:$S$2000, 2, FALSE))","v":2.1593},{"$f":"IF($O257=\"\", \"\", VLOOKUP($O257, USSW!$T$7:$U$2000, 2, FALSE))","v":2.2075999999999998}]
[null,{"$f":"IF(CAD!B255=\"\", \"\", CAD!B255)","v":"2017-01-17"},{"$f":"IF($B258=\"\", \"\", CAD!C255)","v":1.3043},{"$f":"IF($B258=\"\", \"\",VLOOKUP($B258, CAD!$D$7:$E$2000, 2, FALSE))","v":1.2980400000000001},{"$f":"IF($B258=\"\", \"\",VLOOKUP($B258, CAD!$F$7:$G$2000, 2, FALSE))","v":1.2896700000000001},{"$f":"IF($B258=\"\", \"\",VLOOKUP($B258, CAD!$H$7:$I$2000, 2, FALSE))","v":1.2822279999999999},{"$f":"IF($B258=\"\", \"\",VLOOKUP($B258, CAD!$J$7:$K$2000, 2, FALSE))","v":1.2776749999999999},{"$f":"IF($B258=\"\", \"\", VLOOKUP($B258, CAD!$L$7:$M$2000, 2, FALSE))","v":1.2712589999999999},{"$f":"IF($B258=\"\", \"\", VLOOKUP($B258, CAD!$N$7:$O$2000, 2, FALSE))","v":1.26572},{"$f":"IF($B258=\"\", \"\", VLOOKUP($B258, CAD!$P$7:$Q$2000, 2, FALSE))","v":1.2633399999999999},{"$f":"IF($B258=\"\", \"\", VLOOKUP($B258, CAD!$R$7:$S$2000, 2, FALSE))","v":1.261425},{"$f":"IF($B258=\"\", \"\", VLOOKUP($B258, CAD!$T$7:$U$2000, 2, FALSE))","v":1.2614399999999999},{"$f":"IF($B258=\"\", \"\", VLOOKUP($B258, CAD!$V$7:$W$2000, 2, FALSE))","v":1.26359},null,{"$f":"IF(USSW!B255=\"\", \"\", USSW!B255)","v":"2017-01-13"},{"$f":"IF($O258=\"\", \"\", USSW!C255)","v":1.2310000000000001},{"$f":"IF($O258=\"\", \"\", VLOOKUP($O258, USSW!$D$7:$E$2000, 2, FALSE))","v":1.4917},{"$f":"IF($O258=\"\", \"\", VLOOKUP($O258, USSW!$F$7:$G$2000, 2, FALSE))","v":1.6931},{"$f":"IF($O258=\"\", \"\", VLOOKUP($O258, USSW!$H$7:$I$2000, 2, FALSE))","v":1.8393999999999999},{"$f":"IF($O258=\"\", \"\", VLOOKUP($O258, USSW!$J$7:$K$2000, 2, FALSE))","v":1.9487000000000001},{"$f":"IF($O258=\"\", \"\", VLOOKUP($O258, USSW!$L$7:$M$2000, 2, FALSE))","v":2.0377000000000001},{"$f":"IF($O258=\"\", \"\", VLOOKUP($O258, USSW!$N$7:$O$2000, 2, FALSE))","v":2.1139000000000001},{"$f":"IF($O258=\"\", \"\", VLOOKUP($O258, USSW!$P$7:$Q$2000, 2, FALSE))","v":2.1775000000000002},{"$f":"IF($O258=\"\", \"\", VLOOKUP($O258, USSW!$R$7:$S$2000, 2, FALSE))","v":2.2323},{"$f":"IF($O258=\"\", \"\", VLOOKUP($O258, USSW!$T$7:$U$2000, 2, FALSE))","v":2.2795000000000001}]
[null,{"$f":"IF(CAD!B256=\"\", \"\", CAD!B256)","v":"2017-01-16"},{"$f":"IF($B259=\"\", \"\", CAD!C256)","v":1.3174999999999999},{"$f":"IF($B259=\"\", \"\",VLOOKUP($B259, CAD!$D$7:$E$2000, 2, FALSE))","v":1.31124},{"$f":"IF($B259=\"\", \"\",VLOOKUP($B259, CAD!$F$7:$G$2000, 2, FALSE))","v":1.3024290000000001},{"$f":"IF($B259=\"\", \"\",VLOOKUP($B259, CAD!$H$7:$I$2000, 2, FALSE))","v":1.294},{"$f":"IF($B259=\"\", \"\",VLOOKUP($B259, CAD!$J$7:$K$2000, 2, FALSE))","v":1.289415},{"$f":"IF($B259=\"\", \"\", VLOOKUP($B259, CAD!$L$7:$M$2000, 2, FALSE))","v":1.2811570000000001},{"$f":"IF($B259=\"\", \"\", VLOOKUP($B259, CAD!$N$7:$O$2000, 2, FALSE))","v":1.2765200000000001},{"$f":"IF($B259=\"\", \"\", VLOOKUP($B259, CAD!$P$7:$Q$2000, 2, FALSE))","v":1.2738100000000001},{"$f":"IF($B259=\"\", \"\", VLOOKUP($B259, CAD!$R$7:$S$2000, 2, FALSE))","v":1.2718700000000001},{"$f":"IF($B259=\"\", \"\", VLOOKUP($B259, CAD!$T$7:$U$2000, 2, FALSE))","v":1.2718700000000001},{"$f":"IF($B259=\"\", \"\", VLOOKUP($B259, CAD!$V$7:$W$2000, 2, FALSE))","v":1.2735099999999999},null,{"$f":"IF(USSW!B256=\"\", \"\", USSW!B256)","v":"2017-01-12"},{"$f":"IF($O259=\"\", \"\", USSW!C256)","v":1.2179},{"$f":"IF($O259=\"\", \"\", VLOOKUP($O259, USSW!$D$7:$E$2000, 2, FALSE))","v":1.466},{"$f":"IF($O259=\"\", \"\", VLOOKUP($O259, USSW!$F$7:$G$2000, 2, FALSE))","v":1.66},{"$f":"IF($O259=\"\", \"\", VLOOKUP($O259, USSW!$H$7:$I$2000, 2, FALSE))","v":1.8032999999999999},{"$f":"IF($O259=\"\", \"\", VLOOKUP($O259, USSW!$J$7:$K$2000, 2, FALSE))","v":1.9145000000000001},{"$f":"IF($O259=\"\", \"\", VLOOKUP($O259, USSW!$L$7:$M$2000, 2, FALSE))","v":2.0019},{"$f":"IF($O259=\"\", \"\", VLOOKUP($O259, USSW!$N$7:$O$2000, 2, FALSE))","v":2.0764999999999998},{"$f":"IF($O259=\"\", \"\", VLOOKUP($O259, USSW!$P$7:$Q$2000, 2, FALSE))","v":2.141},{"$f":"IF($O259=\"\", \"\", VLOOKUP($O259, USSW!$R$7:$S$2000, 2, FALSE))","v":2.1943000000000001},{"$f":"IF($O259=\"\", \"\", VLOOKUP($O259, USSW!$T$7:$U$2000, 2, FALSE))","v":2.2418999999999998}]
[null,{"$f":"IF(CAD!B257=\"\", \"\", CAD!B257)","v":"2017-01-13"},{"$f":"IF($B260=\"\", \"\", CAD!C257)","v":1.3113999999999999},{"$f":"IF($B260=\"\", \"\",VLOOKUP($B260, CAD!$D$7:$E$2000, 2, FALSE))","v":1.30507},{"$f":"IF($B260=\"\", \"\",VLOOKUP($B260, CAD!$F$7:$G$2000, 2, FALSE))","v":1.29643},{"$f":"IF($B260=\"\", \"\",VLOOKUP($B260, CAD!$H$7:$I$2000, 2, FALSE))","v":1.2881},{"$f":"IF($B260=\"\", \"\",VLOOKUP($B260, CAD!$J$7:$K$2000, 2, FALSE))","v":1.2836000000000001},{"$f":"IF($B260=\"\", \"\", VLOOKUP($B260, CAD!$L$7:$M$2000, 2, FALSE))","v":1.276629},{"$f":"IF($B260=\"\", \"\", VLOOKUP($B260, CAD!$N$7:$O$2000, 2, FALSE))","v":1.2706},{"$f":"IF($B260=\"\", \"\", VLOOKUP($B260, CAD!$P$7:$Q$2000, 2, FALSE))","v":1.2678799999999999},{"$f":"IF($B260=\"\", \"\", VLOOKUP($B260, CAD!$R$7:$S$2000, 2, FALSE))","v":1.26607},{"$f":"IF($B260=\"\", \"\", VLOOKUP($B260, CAD!$T$7:$U$2000, 2, FALSE))","v":1.2661500000000001},{"$f":"IF($B260=\"\", \"\", VLOOKUP($B260, CAD!$V$7:$W$2000, 2, FALSE))","v":1.26797},null,{"$f":"IF(USSW!B257=\"\", \"\", USSW!B257)","v":"2017-01-11"},{"$f":"IF($O260=\"\", \"\", USSW!C257)","v":1.224},{"$f":"IF($O260=\"\", \"\", VLOOKUP($O260, USSW!$D$7:$E$2000, 2, FALSE))","v":1.4795},{"$f":"IF($O260=\"\", \"\", VLOOKUP($O260, USSW!$F$7:$G$2000, 2, FALSE))","v":1.6773},{"$f":"IF($O260=\"\", \"\", VLOOKUP($O260, USSW!$H$7:$I$2000, 2, FALSE))","v":1.8213999999999999},{"$f":"IF($O260=\"\", \"\", VLOOKUP($O260, USSW!$J$7:$K$2000, 2, FALSE))","v":1.9313},{"$f":"IF($O260=\"\", \"\", VLOOKUP($O260, USSW!$L$7:$M$2000, 2, FALSE))","v":2.0190999999999999},{"$f":"IF($O260=\"\", \"\", VLOOKUP($O260, USSW!$N$7:$O$2000, 2, FALSE))","v":2.0922999999999998},{"$f":"IF($O260=\"\", \"\", VLOOKUP($O260, USSW!$P$7:$Q$2000, 2, FALSE))","v":2.153},{"$f":"IF($O260=\"\", \"\", VLOOKUP($O260, USSW!$R$7:$S$2000, 2, FALSE))","v":2.2054},{"$f":"IF($O260=\"\", \"\", VLOOKUP($O260, USSW!$T$7:$U$2000, 2, FALSE))","v":2.2505999999999999}]
[null,{"$f":"IF(CAD!B258=\"\", \"\", CAD!B258)","v":"2017-01-12"},{"$f":"IF($B261=\"\", \"\", CAD!C258)","v":1.3145},{"$f":"IF($B261=\"\", \"\",VLOOKUP($B261, CAD!$D$7:$E$2000, 2, FALSE))","v":1.3082499999999999},{"$f":"IF($B261=\"\", \"\",VLOOKUP($B261, CAD!$F$7:$G$2000, 2, FALSE))","v":1.29979},{"$f":"IF($B261=\"\", \"\",VLOOKUP($B261, CAD!$H$7:$I$2000, 2, FALSE))","v":1.29152},{"$f":"IF($B261=\"\", \"\",VLOOKUP($B261, CAD!$J$7:$K$2000, 2, FALSE))","v":1.2865899999999999},{"$f":"IF($B261=\"\", \"\", VLOOKUP($B261, CAD!$L$7:$M$2000, 2, FALSE))","v":1.2781830000000001},{"$f":"IF($B261=\"\", \"\", VLOOKUP($B261, CAD!$N$7:$O$2000, 2, FALSE))","v":1.272475},{"$f":"IF($B261=\"\", \"\", VLOOKUP($B261, CAD!$P$7:$Q$2000, 2, FALSE))","v":1.2695700000000001},{"$f":"IF($B261=\"\", \"\", VLOOKUP($B261, CAD!$R$7:$S$2000, 2, FALSE))","v":1.2676750000000001},{"$f":"IF($B261=\"\", \"\", VLOOKUP($B261, CAD!$T$7:$U$2000, 2, FALSE))","v":1.267825},{"$f":"IF($B261=\"\", \"\", VLOOKUP($B261, CAD!$V$7:$W$2000, 2, FALSE))","v":1.26962},null,{"$f":"IF(USSW!B258=\"\", \"\", USSW!B258)","v":"2017-01-10"},{"$f":"IF($O261=\"\", \"\", USSW!C258)","v":1.2181},{"$f":"IF($O261=\"\", \"\", VLOOKUP($O261, USSW!$D$7:$E$2000, 2, FALSE))","v":1.4742999999999999},{"$f":"IF($O261=\"\", \"\", VLOOKUP($O261, USSW!$F$7:$G$2000, 2, FALSE))","v":1.6722999999999999},{"$f":"IF($O261=\"\", \"\", VLOOKUP($O261, USSW!$H$7:$I$2000, 2, FALSE))","v":1.8141},{"$f":"IF($O261=\"\", \"\", VLOOKUP($O261, USSW!$J$7:$K$2000, 2, FALSE))","v":1.9180999999999999},{"$f":"IF($O261=\"\", \"\", VLOOKUP($O261, USSW!$L$7:$M$2000, 2, FALSE))","v":2.0118999999999998},{"$f":"IF($O261=\"\", \"\", VLOOKUP($O261, USSW!$N$7:$O$2000, 2, FALSE))","v":2.0884},{"$f":"IF($O261=\"\", \"\", VLOOKUP($O261, USSW!$P$7:$Q$2000, 2, FALSE))","v":2.1522999999999999},{"$f":"IF($O261=\"\", \"\", VLOOKUP($O261, USSW!$R$7:$S$2000, 2, FALSE))","v":2.2063000000000001},{"$f":"IF($O261=\"\", \"\", VLOOKUP($O261, USSW!$T$7:$U$2000, 2, FALSE))","v":2.2511999999999999}]
[null,{"$f":"IF(CAD!B259=\"\", \"\", CAD!B259)","v":"2017-01-11"},{"$f":"IF($B262=\"\", \"\", CAD!C259)","v":1.3179000000000001},{"$f":"IF($B262=\"\", \"\",VLOOKUP($B262, CAD!$D$7:$E$2000, 2, FALSE))","v":1.31176},{"$f":"IF($B262=\"\", \"\",VLOOKUP($B262, CAD!$F$7:$G$2000, 2, FALSE))","v":1.3030630000000001},{"$f":"IF($B262=\"\", \"\",VLOOKUP($B262, CAD!$H$7:$I$2000, 2, FALSE))","v":1.2942450000000001},{"$f":"IF($B262=\"\", \"\",VLOOKUP($B262, CAD!$J$7:$K$2000, 2, FALSE))","v":1.2894350000000001},{"$f":"IF($B262=\"\", \"\", VLOOKUP($B262, CAD!$L$7:$M$2000, 2, FALSE))","v":1.2820039999999999},{"$f":"IF($B262=\"\", \"\", VLOOKUP($B262, CAD!$N$7:$O$2000, 2, FALSE))","v":1.2757099999999999},{"$f":"IF($B262=\"\", \"\", VLOOKUP($B262, CAD!$P$7:$Q$2000, 2, FALSE))","v":1.2727200000000001},{"$f":"IF($B262=\"\", \"\", VLOOKUP($B262, CAD!$R$7:$S$2000, 2, FALSE))","v":1.27145},{"$f":"IF($B262=\"\", \"\", VLOOKUP($B262, CAD!$T$7:$U$2000, 2, FALSE))","v":1.271665},{"$f":"IF($B262=\"\", \"\", VLOOKUP($B262, CAD!$V$7:$W$2000, 2, FALSE))","v":1.27335},null,{"$f":"IF(USSW!B259=\"\", \"\", USSW!B259)","v":"2017-01-09"},{"$f":"IF($O262=\"\", \"\", USSW!C259)","v":1.212},{"$f":"IF($O262=\"\", \"\", VLOOKUP($O262, USSW!$D$7:$E$2000, 2, FALSE))","v":1.4662999999999999},{"$f":"IF($O262=\"\", \"\", VLOOKUP($O262, USSW!$F$7:$G$2000, 2, FALSE))","v":1.6635},{"$f":"IF($O262=\"\", \"\", VLOOKUP($O262, USSW!$H$7:$I$2000, 2, FALSE))","v":1.8065},{"$f":"IF($O262=\"\", \"\", VLOOKUP($O262, USSW!$J$7:$K$2000, 2, FALSE))","v":1.9135},{"$f":"IF($O262=\"\", \"\", VLOOKUP($O262, USSW!$L$7:$M$2000, 2, FALSE))","v":2.0011000000000001},{"$f":"IF($O262=\"\", \"\", VLOOKUP($O262, USSW!$N$7:$O$2000, 2, FALSE))","v":2.0750999999999999},{"$f":"IF($O262=\"\", \"\", VLOOKUP($O262, USSW!$P$7:$Q$2000, 2, FALSE))","v":2.1364999999999998},{"$f":"IF($O262=\"\", \"\", VLOOKUP($O262, USSW!$R$7:$S$2000, 2, FALSE))","v":2.1882999999999999},{"$f":"IF($O262=\"\", \"\", VLOOKUP($O262, USSW!$T$7:$U$2000, 2, FALSE))","v":2.2339000000000002}]
[null,{"$f":"IF(CAD!B260=\"\", \"\", CAD!B260)","v":"2017-01-10"},{"$f":"IF($B263=\"\", \"\", CAD!C260)","v":1.3231999999999999},{"$f":"IF($B263=\"\", \"\",VLOOKUP($B263, CAD!$D$7:$E$2000, 2, FALSE))","v":1.3169900000000001},{"$f":"IF($B263=\"\", \"\",VLOOKUP($B263, CAD!$F$7:$G$2000, 2, FALSE))","v":1.3083149999999999},{"$f":"IF($B263=\"\", \"\",VLOOKUP($B263, CAD!$H$7:$I$2000, 2, FALSE))","v":1.2998879999999999},{"$f":"IF($B263=\"\", \"\",VLOOKUP($B263, CAD!$J$7:$K$2000, 2, FALSE))","v":1.295115},{"$f":"IF($B263=\"\", \"\", VLOOKUP($B263, CAD!$L$7:$M$2000, 2, FALSE))","v":1.2865839999999999},{"$f":"IF($B263=\"\", \"\", VLOOKUP($B263, CAD!$N$7:$O$2000, 2, FALSE))","v":1.28102},{"$f":"IF($B263=\"\", \"\", VLOOKUP($B263, CAD!$P$7:$Q$2000, 2, FALSE))","v":1.27826},{"$f":"IF($B263=\"\", \"\", VLOOKUP($B263, CAD!$R$7:$S$2000, 2, FALSE))","v":1.27722},{"$f":"IF($B263=\"\", \"\", VLOOKUP($B263, CAD!$T$7:$U$2000, 2, FALSE))","v":1.27762},{"$f":"IF($B263=\"\", \"\", VLOOKUP($B263, CAD!$V$7:$W$2000, 2, FALSE))","v":1.27901},null,{"$f":"IF(USSW!B260=\"\", \"\", USSW!B260)","v":"2017-01-06"},{"$f":"IF($O263=\"\", \"\", USSW!C260)","v":1.2150000000000001},{"$f":"IF($O263=\"\", \"\", VLOOKUP($O263, USSW!$D$7:$E$2000, 2, FALSE))","v":1.4835},{"$f":"IF($O263=\"\", \"\", VLOOKUP($O263, USSW!$F$7:$G$2000, 2, FALSE))","v":1.6934},{"$f":"IF($O263=\"\", \"\", VLOOKUP($O263, USSW!$H$7:$I$2000, 2, FALSE))","v":1.8452999999999999},{"$f":"IF($O263=\"\", \"\", VLOOKUP($O263, USSW!$J$7:$K$2000, 2, FALSE))","v":1.9576},{"$f":"IF($O263=\"\", \"\", VLOOKUP($O263, USSW!$L$7:$M$2000, 2, FALSE))","v":2.0516999999999999},{"$f":"IF($O263=\"\", \"\", VLOOKUP($O263, USSW!$N$7:$O$2000, 2, FALSE))","v":2.1288},{"$f":"IF($O263=\"\", \"\", VLOOKUP($O263, USSW!$P$7:$Q$2000, 2, FALSE))","v":2.1920000000000002},{"$f":"IF($O263=\"\", \"\", VLOOKUP($O263, USSW!$R$7:$S$2000, 2, FALSE))","v":2.2458},{"$f":"IF($O263=\"\", \"\", VLOOKUP($O263, USSW!$T$7:$U$2000, 2, FALSE))","v":2.2919999999999998}]
[null,{"$f":"IF(CAD!B261=\"\", \"\", CAD!B261)","v":"2017-01-09"},{"$f":"IF($B264=\"\", \"\", CAD!C261)","v":1.3216000000000001},{"$f":"IF($B264=\"\", \"\",VLOOKUP($B264, CAD!$D$7:$E$2000, 2, FALSE))","v":1.3153649999999999},{"$f":"IF($B264=\"\", \"\",VLOOKUP($B264, CAD!$F$7:$G$2000, 2, FALSE))","v":1.3064819999999999},{"$f":"IF($B264=\"\", \"\",VLOOKUP($B264, CAD!$H$7:$I$2000, 2, FALSE))","v":1.2984},{"$f":"IF($B264=\"\", \"\",VLOOKUP($B264, CAD!$J$7:$K$2000, 2, FALSE))","v":1.2940149999999999},{"$f":"IF($B264=\"\", \"\", VLOOKUP($B264, CAD!$L$7:$M$2000, 2, FALSE))","v":1.2898289999999999},{"$f":"IF($B264=\"\", \"\", VLOOKUP($B264, CAD!$N$7:$O$2000, 2, FALSE))","v":1.2813600000000001},{"$f":"IF($B264=\"\", \"\", VLOOKUP($B264, CAD!$P$7:$Q$2000, 2, FALSE))","v":1.27885},{"$f":"IF($B264=\"\", \"\", VLOOKUP($B264, CAD!$R$7:$S$2000, 2, FALSE))","v":1.27793},{"$f":"IF($B264=\"\", \"\", VLOOKUP($B264, CAD!$T$7:$U$2000, 2, FALSE))","v":1.27884},{"$f":"IF($B264=\"\", \"\", VLOOKUP($B264, CAD!$V$7:$W$2000, 2, FALSE))","v":1.28064},null,{"$f":"IF(USSW!B261=\"\", \"\", USSW!B261)","v":"2017-01-05"},{"$f":"IF($O264=\"\", \"\", USSW!C261)","v":1.1907000000000001},{"$f":"IF($O264=\"\", \"\", VLOOKUP($O264, USSW!$D$7:$E$2000, 2, FALSE))","v":1.4312},{"$f":"IF($O264=\"\", \"\", VLOOKUP($O264, USSW!$F$7:$G$2000, 2, FALSE))","v":1.6233},{"$f":"IF($O264=\"\", \"\", VLOOKUP($O264, USSW!$H$7:$I$2000, 2, FALSE))","v":1.7665},{"$f":"IF($O264=\"\", \"\", VLOOKUP($O264, USSW!$J$7:$K$2000, 2, FALSE))","v":1.8748},{"$f":"IF($O264=\"\", \"\", VLOOKUP($O264, USSW!$L$7:$M$2000, 2, FALSE))","v":1.9679},{"$f":"IF($O264=\"\", \"\", VLOOKUP($O264, USSW!$N$7:$O$2000, 2, FALSE))","v":2.0453000000000001},{"$f":"IF($O264=\"\", \"\", VLOOKUP($O264, USSW!$P$7:$Q$2000, 2, FALSE))","v":2.1097999999999999},{"$f":"IF($O264=\"\", \"\", VLOOKUP($O264, USSW!$R$7:$S$2000, 2, FALSE))","v":2.1638000000000002},{"$f":"IF($O264=\"\", \"\", VLOOKUP($O264, USSW!$T$7:$U$2000, 2, FALSE))","v":2.2109999999999999}]
[null,{"$f":"IF(CAD!B262=\"\", \"\", CAD!B262)","v":"2017-01-06"},{"$f":"IF($B265=\"\", \"\", CAD!C262)","v":1.3237000000000001},{"$f":"IF($B265=\"\", \"\",VLOOKUP($B265, CAD!$D$7:$E$2000, 2, FALSE))","v":1.31735},{"$f":"IF($B265=\"\", \"\",VLOOKUP($B265, CAD!$F$7:$G$2000, 2, FALSE))","v":1.308775},{"$f":"IF($B265=\"\", \"\",VLOOKUP($B265, CAD!$H$7:$I$2000, 2, FALSE))","v":1.300049},{"$f":"IF($B265=\"\", \"\",VLOOKUP($B265, CAD!$J$7:$K$2000, 2, FALSE))","v":1.29288},{"$f":"IF($B265=\"\", \"\", VLOOKUP($B265, CAD!$L$7:$M$2000, 2, FALSE))","v":1.288743},{"$f":"IF($B265=\"\", \"\", VLOOKUP($B265, CAD!$N$7:$O$2000, 2, FALSE))","v":1.281825},{"$f":"IF($B265=\"\", \"\", VLOOKUP($B265, CAD!$P$7:$Q$2000, 2, FALSE))","v":1.2790299999999999},{"$f":"IF($B265=\"\", \"\", VLOOKUP($B265, CAD!$R$7:$S$2000, 2, FALSE))","v":1.278505},{"$f":"IF($B265=\"\", \"\", VLOOKUP($B265, CAD!$T$7:$U$2000, 2, FALSE))","v":1.2794300000000001},{"$f":"IF($B265=\"\", \"\", VLOOKUP($B265, CAD!$V$7:$W$2000, 2, FALSE))","v":1.28209},null,{"$f":"IF(USSW!B262=\"\", \"\", USSW!B262)","v":"2017-01-04"},{"$f":"IF($O265=\"\", \"\", USSW!C262)","v":1.2},{"$f":"IF($O265=\"\", \"\", VLOOKUP($O265, USSW!$D$7:$E$2000, 2, FALSE))","v":1.4615},{"$f":"IF($O265=\"\", \"\", VLOOKUP($O265, USSW!$F$7:$G$2000, 2, FALSE))","v":1.6689000000000001},{"$f":"IF($O265=\"\", \"\", VLOOKUP($O265, USSW!$H$7:$I$2000, 2, FALSE))","v":1.8249},{"$f":"IF($O265=\"\", \"\", VLOOKUP($O265, USSW!$J$7:$K$2000, 2, FALSE))","v":1.9418},{"$f":"IF($O265=\"\", \"\", VLOOKUP($O265, USSW!$L$7:$M$2000, 2, FALSE))","v":2.0409000000000002},{"$f":"IF($O265=\"\", \"\", VLOOKUP($O265, USSW!$N$7:$O$2000, 2, FALSE))","v":2.1208999999999998},{"$f":"IF($O265=\"\", \"\", VLOOKUP($O265, USSW!$P$7:$Q$2000, 2, FALSE))","v":2.1861999999999999},{"$f":"IF($O265=\"\", \"\", VLOOKUP($O265, USSW!$R$7:$S$2000, 2, FALSE))","v":2.2418},{"$f":"IF($O265=\"\", \"\", VLOOKUP($O265, USSW!$T$7:$U$2000, 2, FALSE))","v":2.2866}]
[null,{"$f":"IF(CAD!B263=\"\", \"\", CAD!B263)","v":"2017-01-05"},{"$f":"IF($B266=\"\", \"\", CAD!C263)","v":1.3225},{"$f":"IF($B266=\"\", \"\",VLOOKUP($B266, CAD!$D$7:$E$2000, 2, FALSE))","v":1.31595},{"$f":"IF($B266=\"\", \"\",VLOOKUP($B266, CAD!$F$7:$G$2000, 2, FALSE))","v":1.307164},{"$f":"IF($B266=\"\", \"\",VLOOKUP($B266, CAD!$H$7:$I$2000, 2, FALSE))","v":1.2994889999999999},{"$f":"IF($B266=\"\", \"\",VLOOKUP($B266, CAD!$J$7:$K$2000, 2, FALSE))","v":1.2919449999999999},{"$f":"IF($B266=\"\", \"\", VLOOKUP($B266, CAD!$L$7:$M$2000, 2, FALSE))","v":1.2870440000000001},{"$f":"IF($B266=\"\", \"\", VLOOKUP($B266, CAD!$N$7:$O$2000, 2, FALSE))","v":1.2819},{"$f":"IF($B266=\"\", \"\", VLOOKUP($B266, CAD!$P$7:$Q$2000, 2, FALSE))","v":1.2791399999999999},{"$f":"IF($B266=\"\", \"\", VLOOKUP($B266, CAD!$R$7:$S$2000, 2, FALSE))","v":1.27824},{"$f":"IF($B266=\"\", \"\", VLOOKUP($B266, CAD!$T$7:$U$2000, 2, FALSE))","v":1.2798},{"$f":"IF($B266=\"\", \"\", VLOOKUP($B266, CAD!$V$7:$W$2000, 2, FALSE))","v":1.2819400000000001},null,{"$f":"IF(USSW!B263=\"\", \"\", USSW!B263)","v":"2017-01-03"},{"$f":"IF($O266=\"\", \"\", USSW!C263)","v":1.1964999999999999},{"$f":"IF($O266=\"\", \"\", VLOOKUP($O266, USSW!$D$7:$E$2000, 2, FALSE))","v":1.4664999999999999},{"$f":"IF($O266=\"\", \"\", VLOOKUP($O266, USSW!$F$7:$G$2000, 2, FALSE))","v":1.6850000000000001},{"$f":"IF($O266=\"\", \"\", VLOOKUP($O266, USSW!$H$7:$I$2000, 2, FALSE))","v":1.8447},{"$f":"IF($O266=\"\", \"\", VLOOKUP($O266, USSW!$J$7:$K$2000, 2, FALSE))","v":1.966},{"$f":"IF($O266=\"\", \"\", VLOOKUP($O266, USSW!$L$7:$M$2000, 2, FALSE))","v":2.0634999999999999},{"$f":"IF($O266=\"\", \"\", VLOOKUP($O266, USSW!$N$7:$O$2000, 2, FALSE))","v":2.1423999999999999},{"$f":"IF($O266=\"\", \"\", VLOOKUP($O266, USSW!$P$7:$Q$2000, 2, FALSE))","v":2.2073999999999998},{"$f":"IF($O266=\"\", \"\", VLOOKUP($O266, USSW!$R$7:$S$2000, 2, FALSE))","v":2.2603},{"$f":"IF($O266=\"\", \"\", VLOOKUP($O266, USSW!$T$7:$U$2000, 2, FALSE))","v":2.3062}]
[null,{"$f":"IF(CAD!B264=\"\", \"\", CAD!B264)","v":"2017-01-04"},{"$f":"IF($B267=\"\", \"\", CAD!C264)","v":1.3302},{"$f":"IF($B267=\"\", \"\",VLOOKUP($B267, CAD!$D$7:$E$2000, 2, FALSE))","v":1.3237099999999999},{"$f":"IF($B267=\"\", \"\",VLOOKUP($B267, CAD!$F$7:$G$2000, 2, FALSE))","v":1.315321},{"$f":"IF($B267=\"\", \"\",VLOOKUP($B267, CAD!$H$7:$I$2000, 2, FALSE))","v":1.306956},{"$f":"IF($B267=\"\", \"\",VLOOKUP($B267, CAD!$J$7:$K$2000, 2, FALSE))","v":1.302095},{"$f":"IF($B267=\"\", \"\", VLOOKUP($B267, CAD!$L$7:$M$2000, 2, FALSE))","v":1.2941609999999999},{"$f":"IF($B267=\"\", \"\", VLOOKUP($B267, CAD!$N$7:$O$2000, 2, FALSE))","v":1.2872300000000001},{"$f":"IF($B267=\"\", \"\", VLOOKUP($B267, CAD!$P$7:$Q$2000, 2, FALSE))","v":1.28382},{"$f":"IF($B267=\"\", \"\", VLOOKUP($B267, CAD!$R$7:$S$2000, 2, FALSE))","v":1.2828949999999999},{"$f":"IF($B267=\"\", \"\", VLOOKUP($B267, CAD!$T$7:$U$2000, 2, FALSE))","v":1.2831600000000001},{"$f":"IF($B267=\"\", \"\", VLOOKUP($B267, CAD!$V$7:$W$2000, 2, FALSE))","v":1.28637},null,{"$f":"IF(USSW!B264=\"\", \"\", USSW!B264)","v":"2017-01-02"},{"$f":"IF($O267=\"\", \"\", USSW!C264)","v":1.1947000000000001},{"$f":"IF($O267=\"\", \"\", VLOOKUP($O267, USSW!$D$7:$E$2000, 2, FALSE))","v":1.4695},{"$f":"IF($O267=\"\", \"\", VLOOKUP($O267, USSW!$F$7:$G$2000, 2, FALSE))","v":1.6904999999999999},{"$f":"IF($O267=\"\", \"\", VLOOKUP($O267, USSW!$H$7:$I$2000, 2, FALSE))","v":1.84},{"$f":"IF($O267=\"\", \"\", VLOOKUP($O267, USSW!$J$7:$K$2000, 2, FALSE))","v":1.9704999999999999},{"$f":"IF($O267=\"\", \"\", VLOOKUP($O267, USSW!$L$7:$M$2000, 2, FALSE))","v":2.0739999999999998},{"$f":"IF($O267=\"\", \"\", VLOOKUP($O267, USSW!$N$7:$O$2000, 2, FALSE))","v":2.16},{"$f":"IF($O267=\"\", \"\", VLOOKUP($O267, USSW!$P$7:$Q$2000, 2, FALSE))","v":2.2275},{"$f":"IF($O267=\"\", \"\", VLOOKUP($O267, USSW!$R$7:$S$2000, 2, FALSE))","v":2.286},{"$f":"IF($O267=\"\", \"\", VLOOKUP($O267, USSW!$T$7:$U$2000, 2, FALSE))","v":2.3355000000000001}]
[null,{"$f":"IF(CAD!B265=\"\", \"\", CAD!B265)","v":"2017-01-03"},{"$f":"IF($B268=\"\", \"\", CAD!C265)","v":1.3427},{"$f":"IF($B268=\"\", \"\",VLOOKUP($B268, CAD!$D$7:$E$2000, 2, FALSE))","v":1.33619},{"$f":"IF($B268=\"\", \"\",VLOOKUP($B268, CAD!$F$7:$G$2000, 2, FALSE))","v":1.32765},{"$f":"IF($B268=\"\", \"\",VLOOKUP($B268, CAD!$H$7:$I$2000, 2, FALSE))","v":1.3189},{"$f":"IF($B268=\"\", \"\",VLOOKUP($B268, CAD!$J$7:$K$2000, 2, FALSE))","v":1.3140050000000001},{"$f":"IF($B268=\"\", \"\", VLOOKUP($B268, CAD!$L$7:$M$2000, 2, FALSE))","v":1.306068},{"$f":"IF($B268=\"\", \"\", VLOOKUP($B268, CAD!$N$7:$O$2000, 2, FALSE))","v":1.2992900000000001},{"$f":"IF($B268=\"\", \"\", VLOOKUP($B268, CAD!$P$7:$Q$2000, 2, FALSE))","v":1.2963499999999999},{"$f":"IF($B268=\"\", \"\", VLOOKUP($B268, CAD!$R$7:$S$2000, 2, FALSE))","v":1.2958000000000001},{"$f":"IF($B268=\"\", \"\", VLOOKUP($B268, CAD!$T$7:$U$2000, 2, FALSE))","v":1.29681},{"$f":"IF($B268=\"\", \"\", VLOOKUP($B268, CAD!$V$7:$W$2000, 2, FALSE))","v":1.29962}]
[null,{"$f":"IF(CAD!B266=\"\", \"\", CAD!B266)","v":"2017-01-02"},{"$f":"IF($B269=\"\", \"\", CAD!C266)","v":1.3443000000000001},{"$f":"IF($B269=\"\", \"\",VLOOKUP($B269, CAD!$D$7:$E$2000, 2, FALSE))","v":1.3388789999999999},{"$f":"IF($B269=\"\", \"\",VLOOKUP($B269, CAD!$F$7:$G$2000, 2, FALSE))","v":1.328225},{"$f":"IF($B269=\"\", \"\",VLOOKUP($B269, CAD!$H$7:$I$2000, 2, FALSE))","v":1.31911},{"$f":"IF($B269=\"\", \"\",VLOOKUP($B269, CAD!$J$7:$K$2000, 2, FALSE))","v":1.3118449999999999},{"$f":"IF($B269=\"\", \"\", VLOOKUP($B269, CAD!$L$7:$M$2000, 2, FALSE))","v":1.30369},{"$f":"IF($B269=\"\", \"\", VLOOKUP($B269, CAD!$N$7:$O$2000, 2, FALSE))","v":1.2981},{"$f":"IF($B269=\"\", \"\", VLOOKUP($B269, CAD!$P$7:$Q$2000, 2, FALSE))","v":1.2942},{"$f":"IF($B269=\"\", \"\", VLOOKUP($B269, CAD!$R$7:$S$2000, 2, FALSE))","v":1.2925500000000001},{"$f":"IF($B269=\"\", \"\", VLOOKUP($B269, CAD!$T$7:$U$2000, 2, FALSE))","v":1.29247},{"$f":"IF($B269=\"\", \"\", VLOOKUP($B269, CAD!$V$7:$W$2000, 2, FALSE))","v":1.2940700000000001}]
[null,{"$f":"IF(CAD!B267=\"\", \"\", CAD!B267)","v":""},{"$f":"IF($B270=\"\", \"\", CAD!C267)","v":""},{"$f":"IF($B270=\"\", \"\",VLOOKUP($B270, CAD!$D$7:$E$2000, 2, FALSE))","v":""},{"$f":"IF($B270=\"\", \"\",VLOOKUP($B270, CAD!$F$7:$G$2000, 2, FALSE))","v":""},{"$f":"IF($B270=\"\", \"\",VLOOKUP($B270, CAD!$H$7:$I$2000, 2, FALSE))","v":""},{"$f":"IF($B270=\"\", \"\",VLOOKUP($B270, CAD!$J$7:$K$2000, 2, FALSE))","v":""},{"$f":"IF($B270=\"\", \"\", VLOOKUP($B270, CAD!$L$7:$M$2000, 2, FALSE))","v":""},{"$f":"IF($B270=\"\", \"\", VLOOKUP($B270, CAD!$N$7:$O$2000, 2, FALSE))","v":""},{"$f":"IF($B270=\"\", \"\", VLOOKUP($B270, CAD!$P$7:$Q$2000, 2, FALSE))","v":""},{"$f":"IF($B270=\"\", \"\", VLOOKUP($B270, CAD!$R$7:$S$2000, 2, FALSE))","v":""},{"$f":"IF($B270=\"\", \"\", VLOOKUP($B270, CAD!$T$7:$U$2000, 2, FALSE))","v":""},{"$f":"IF($B270=\"\", \"\", VLOOKUP($B270, CAD!$V$7:$W$2000, 2, FALSE))","v":""}]
[null,{"$f":"IF(CAD!B268=\"\", \"\", CAD!B268)","v":""},{"$f":"IF($B271=\"\", \"\", CAD!C268)","v":""},{"$f":"IF($B271=\"\", \"\",VLOOKUP($B271, CAD!$D$7:$E$2000, 2, FALSE))","v":""},{"$f":"IF($B271=\"\", \"\",VLOOKUP($B271, CAD!$F$7:$G$2000, 2, FALSE))","v":""},{"$f":"IF($B271=\"\", \"\",VLOOKUP($B271, CAD!$H$7:$I$2000, 2, FALSE))","v":""},{"$f":"IF($B271=\"\", \"\",VLOOKUP($B271, CAD!$J$7:$K$2000, 2, FALSE))","v":""},{"$f":"IF($B271=\"\", \"\", VLOOKUP($B271, CAD!$L$7:$M$2000, 2, FALSE))","v":""},{"$f":"IF($B271=\"\", \"\", VLOOKUP($B271, CAD!$N$7:$O$2000, 2, FALSE))","v":""},{"$f":"IF($B271=\"\", \"\", VLOOKUP($B271, CAD!$P$7:$Q$2000, 2, FALSE))","v":""},{"$f":"IF($B271=\"\", \"\", VLOOKUP($B271, CAD!$R$7:$S$2000, 2, FALSE))","v":""},{"$f":"IF($B271=\"\", \"\", VLOOKUP($B271, CAD!$T$7:$U$2000, 2, FALSE))","v":""},{"$f":"IF($B271=\"\", \"\", VLOOKUP($B271, CAD!$V$7:$W$2000, 2, FALSE))","v":""}]
[null,{"$f":"IF(CAD!B269=\"\", \"\", CAD!B269)","v":""},{"$f":"IF($B272=\"\", \"\", CAD!C269)","v":""},{"$f":"IF($B272=\"\", \"\",VLOOKUP($B272, CAD!$D$7:$E$2000, 2, FALSE))","v":""},{"$f":"IF($B272=\"\", \"\",VLOOKUP($B272, CAD!$F$7:$G$2000, 2, FALSE))","v":""},{"$f":"IF($B272=\"\", \"\",VLOOKUP($B272, CAD!$H$7:$I$2000, 2, FALSE))","v":""},{"$f":"IF($B272=\"\", \"\",VLOOKUP($B272, CAD!$J$7:$K$2000, 2, FALSE))","v":""},{"$f":"IF($B272=\"\", \"\", VLOOKUP($B272, CAD!$L$7:$M$2000, 2, FALSE))","v":""},{"$f":"IF($B272=\"\", \"\", VLOOKUP($B272, CAD!$N$7:$O$2000, 2, FALSE))","v":""},{"$f":"IF($B272=\"\", \"\", VLOOKUP($B272, CAD!$P$7:$Q$2000, 2, FALSE))","v":""},{"$f":"IF($B272=\"\", \"\", VLOOKUP($B272, CAD!$R$7:$S$2000, 2, FALSE))","v":""},{"$f":"IF($B272=\"\", \"\", VLOOKUP($B272, CAD!$T$7:$U$2000, 2, FALSE))","v":""},{"$f":"IF($B272=\"\", \"\", VLOOKUP($B272, CAD!$V$7:$W$2000, 2, FALSE))","v":""}]
[null,{"$f":"IF(CAD!B270=\"\", \"\", CAD!B270)","v":""},{"$f":"IF($B273=\"\", \"\", CAD!C270)","v":""},{"$f":"IF($B273=\"\", \"\",VLOOKUP($B273, CAD!$D$7:$E$2000, 2, FALSE))","v":""},{"$f":"IF($B273=\"\", \"\",VLOOKUP($B273, CAD!$F$7:$G$2000, 2, FALSE))","v":""},{"$f":"IF($B273=\"\", \"\",VLOOKUP($B273, CAD!$H$7:$I$2000, 2, FALSE))","v":""},{"$f":"IF($B273=\"\", \"\",VLOOKUP($B273, CAD!$J$7:$K$2000, 2, FALSE))","v":""},{"$f":"IF($B273=\"\", \"\", VLOOKUP($B273, CAD!$L$7:$M$2000, 2, FALSE))","v":""},{"$f":"IF($B273=\"\", \"\", VLOOKUP($B273, CAD!$N$7:$O$2000, 2, FALSE))","v":""},{"$f":"IF($B273=\"\", \"\", VLOOKUP($B273, CAD!$P$7:$Q$2000, 2, FALSE))","v":""},{"$f":"IF($B273=\"\", \"\", VLOOKUP($B273, CAD!$R$7:$S$2000, 2, FALSE))","v":""},{"$f":"IF($B273=\"\", \"\", VLOOKUP($B273, CAD!$T$7:$U$2000, 2, FALSE))","v":""},{"$f":"IF($B273=\"\", \"\", VLOOKUP($B273, CAD!$V$7:$W$2000, 2, FALSE))","v":""}]
[null,{"$f":"IF(CAD!B271=\"\", \"\", CAD!B271)","v":""},{"$f":"IF($B274=\"\", \"\", CAD!C271)","v":""},{"$f":"IF($B274=\"\", \"\",VLOOKUP($B274, CAD!$D$7:$E$2000, 2, FALSE))","v":""},{"$f":"IF($B274=\"\", \"\",VLOOKUP($B274, CAD!$F$7:$G$2000, 2, FALSE))","v":""},{"$f":"IF($B274=\"\", \"\",VLOOKUP($B274, CAD!$H$7:$I$2000, 2, FALSE))","v":""},{"$f":"IF($B274=\"\", \"\",VLOOKUP($B274, CAD!$J$7:$K$2000, 2, FALSE))","v":""},{"$f":"IF($B274=\"\", \"\", VLOOKUP($B274, CAD!$L$7:$M$2000, 2, FALSE))","v":""},{"$f":"IF($B274=\"\", \"\", VLOOKUP($B274, CAD!$N$7:$O$2000, 2, FALSE))","v":""},{"$f":"IF($B274=\"\", \"\", VLOOKUP($B274, CAD!$P$7:$Q$2000, 2, FALSE))","v":""},{"$f":"IF($B274=\"\", \"\", VLOOKUP($B274, CAD!$R$7:$S$2000, 2, FALSE))","v":""},{"$f":"IF($B274=\"\", \"\", VLOOKUP($B274, CAD!$T$7:$U$2000, 2, FALSE))","v":""},{"$f":"IF($B274=\"\", \"\", VLOOKUP($B274, CAD!$V$7:$W$2000, 2, FALSE))","v":""}]
[null,{"$f":"IF(CAD!B272=\"\", \"\", CAD!B272)","v":""},{"$f":"IF($B275=\"\", \"\", CAD!C272)","v":""},{"$f":"IF($B275=\"\", \"\",VLOOKUP($B275, CAD!$D$7:$E$2000, 2, FALSE))","v":""},{"$f":"IF($B275=\"\", \"\",VLOOKUP($B275, CAD!$F$7:$G$2000, 2, FALSE))","v":""},{"$f":"IF($B275=\"\", \"\",VLOOKUP($B275, CAD!$H$7:$I$2000, 2, FALSE))","v":""},{"$f":"IF($B275=\"\", \"\",VLOOKUP($B275, CAD!$J$7:$K$2000, 2, FALSE))","v":""},{"$f":"IF($B275=\"\", \"\", VLOOKUP($B275, CAD!$L$7:$M$2000, 2, FALSE))","v":""},{"$f":"IF($B275=\"\", \"\", VLOOKUP($B275, CAD!$N$7:$O$2000, 2, FALSE))","v":""},{"$f":"IF($B275=\"\", \"\", VLOOKUP($B275, CAD!$P$7:$Q$2000, 2, FALSE))","v":""},{"$f":"IF($B275=\"\", \"\", VLOOKUP($B275, CAD!$R$7:$S$2000, 2, FALSE))","v":""},{"$f":"IF($B275=\"\", \"\", VLOOKUP($B275, CAD!$T$7:$U$2000, 2, FALSE))","v":""},{"$f":"IF($B275=\"\", \"\", VLOOKUP($B275, CAD!$V$7:$W$2000, 2, FALSE))","v":""}]
[null,{"$f":"IF(CAD!B273=\"\", \"\", CAD!B273)","v":""},{"$f":"IF($B276=\"\", \"\", CAD!C273)","v":""},{"$f":"IF($B276=\"\", \"\",VLOOKUP($B276, CAD!$D$7:$E$2000, 2, FALSE))","v":""},{"$f":"IF($B276=\"\", \"\",VLOOKUP($B276, CAD!$F$7:$G$2000, 2, FALSE))","v":""},{"$f":"IF($B276=\"\", \"\",VLOOKUP($B276, CAD!$H$7:$I$2000, 2, FALSE))","v":""},{"$f":"IF($B276=\"\", \"\",VLOOKUP($B276, CAD!$J$7:$K$2000, 2, FALSE))","v":""},{"$f":"IF($B276=\"\", \"\", VLOOKUP($B276, CAD!$L$7:$M$2000, 2, FALSE))","v":""},{"$f":"IF($B276=\"\", \"\", VLOOKUP($B276, CAD!$N$7:$O$2000, 2, FALSE))","v":""},{"$f":"IF($B276=\"\", \"\", VLOOKUP($B276, CAD!$P$7:$Q$2000, 2, FALSE))","v":""},{"$f":"IF($B276=\"\", \"\", VLOOKUP($B276, CAD!$R$7:$S$2000, 2, FALSE))","v":""},{"$f":"IF($B276=\"\", \"\", VLOOKUP($B276, CAD!$T$7:$U$2000, 2, FALSE))","v":""},{"$f":"IF($B276=\"\", \"\", VLOOKUP($B276, CAD!$V$7:$W$2000, 2, FALSE))","v":""}]
[null,{"$f":"IF(CAD!B274=\"\", \"\", CAD!B274)","v":""},{"$f":"IF($B277=\"\", \"\", CAD!C274)","v":""},{"$f":"IF($B277=\"\", \"\",VLOOKUP($B277, CAD!$D$7:$E$2000, 2, FALSE))","v":""},{"$f":"IF($B277=\"\", \"\",VLOOKUP($B277, CAD!$F$7:$G$2000, 2, FALSE))","v":""},{"$f":"IF($B277=\"\", \"\",VLOOKUP($B277, CAD!$H$7:$I$2000, 2, FALSE))","v":""},{"$f":"IF($B277=\"\", \"\",VLOOKUP($B277, CAD!$J$7:$K$2000, 2, FALSE))","v":""},{"$f":"IF($B277=\"\", \"\", VLOOKUP($B277, CAD!$L$7:$M$2000, 2, FALSE))","v":""},{"$f":"IF($B277=\"\", \"\", VLOOKUP($B277, CAD!$N$7:$O$2000, 2, FALSE))","v":""},{"$f":"IF($B277=\"\", \"\", VLOOKUP($B277, CAD!$P$7:$Q$2000, 2, FALSE))","v":""},{"$f":"IF($B277=\"\", \"\", VLOOKUP($B277, CAD!$R$7:$S$2000, 2, FALSE))","v":""},{"$f":"IF($B277=\"\", \"\", VLOOKUP($B277, CAD!$T$7:$U$2000, 2, FALSE))","v":""},{"$f":"IF($B277=\"\", \"\", VLOOKUP($B277, CAD!$V$7:$W$2000, 2, FALSE))","v":""}]
[null,{"$f":"IF(CAD!B275=\"\", \"\", CAD!B275)","v":""},{"$f":"IF($B278=\"\", \"\", CAD!C275)","v":""},{"$f":"IF($B278=\"\", \"\",VLOOKUP($B278, CAD!$D$7:$E$2000, 2, FALSE))","v":""},{"$f":"IF($B278=\"\", \"\",VLOOKUP($B278, CAD!$F$7:$G$2000, 2, FALSE))","v":""},{"$f":"IF($B278=\"\", \"\",VLOOKUP($B278, CAD!$H$7:$I$2000, 2, FALSE))","v":""},{"$f":"IF($B278=\"\", \"\",VLOOKUP($B278, CAD!$J$7:$K$2000, 2, FALSE))","v":""},{"$f":"IF($B278=\"\", \"\", VLOOKUP($B278, CAD!$L$7:$M$2000, 2, FALSE))","v":""},{"$f":"IF($B278=\"\", \"\", VLOOKUP($B278, CAD!$N$7:$O$2000, 2, FALSE))","v":""},{"$f":"IF($B278=\"\", \"\", VLOOKUP($B278, CAD!$P$7:$Q$2000, 2, FALSE))","v":""},{"$f":"IF($B278=\"\", \"\", VLOOKUP($B278, CAD!$R$7:$S$2000, 2, FALSE))","v":""},{"$f":"IF($B278=\"\", \"\", VLOOKUP($B278, CAD!$T$7:$U$2000, 2, FALSE))","v":""},{"$f":"IF($B278=\"\", \"\", VLOOKUP($B278, CAD!$V$7:$W$2000, 2, FALSE))","v":""}]
[null,{"$f":"IF(CAD!B276=\"\", \"\", CAD!B276)","v":""},{"$f":"IF($B279=\"\", \"\", CAD!C276)","v":""},{"$f":"IF($B279=\"\", \"\",VLOOKUP($B279, CAD!$D$7:$E$2000, 2, FALSE))","v":""},{"$f":"IF($B279=\"\", \"\",VLOOKUP($B279, CAD!$F$7:$G$2000, 2, FALSE))","v":""},{"$f":"IF($B279=\"\", \"\",VLOOKUP($B279, CAD!$H$7:$I$2000, 2, FALSE))","v":""},{"$f":"IF($B279=\"\", \"\",VLOOKUP($B279, CAD!$J$7:$K$2000, 2, FALSE))","v":""},{"$f":"IF($B279=\"\", \"\", VLOOKUP($B279, CAD!$L$7:$M$2000, 2, FALSE))","v":""},{"$f":"IF($B279=\"\", \"\", VLOOKUP($B279, CAD!$N$7:$O$2000, 2, FALSE))","v":""},{"$f":"IF($B279=\"\", \"\", VLOOKUP($B279, CAD!$P$7:$Q$2000, 2, FALSE))","v":""},{"$f":"IF($B279=\"\", \"\", VLOOKUP($B279, CAD!$R$7:$S$2000, 2, FALSE))","v":""},{"$f":"IF($B279=\"\", \"\", VLOOKUP($B279, CAD!$T$7:$U$2000, 2, FALSE))","v":""},{"$f":"IF($B279=\"\", \"\", VLOOKUP($B279, CAD!$V$7:$W$2000, 2, FALSE))","v":""}]
[null,{"$f":"IF(CAD!B277=\"\", \"\", CAD!B277)","v":""},{"$f":"IF($B280=\"\", \"\", CAD!C277)","v":""},{"$f":"IF($B280=\"\", \"\",VLOOKUP($B280, CAD!$D$7:$E$2000, 2, FALSE))","v":""},{"$f":"IF($B280=\"\", \"\",VLOOKUP($B280, CAD!$F$7:$G$2000, 2, FALSE))","v":""},{"$f":"IF($B280=\"\", \"\",VLOOKUP($B280, CAD!$H$7:$I$2000, 2, FALSE))","v":""},{"$f":"IF($B280=\"\", \"\",VLOOKUP($B280, CAD!$J$7:$K$2000, 2, FALSE))","v":""},{"$f":"IF($B280=\"\", \"\", VLOOKUP($B280, CAD!$L$7:$M$2000, 2, FALSE))","v":""},{"$f":"IF($B280=\"\", \"\", VLOOKUP($B280, CAD!$N$7:$O$2000, 2, FALSE))","v":""},{"$f":"IF($B280=\"\", \"\", VLOOKUP($B280, CAD!$P$7:$Q$2000, 2, FALSE))","v":""},{"$f":"IF($B280=\"\", \"\", VLOOKUP($B280, CAD!$R$7:$S$2000, 2, FALSE))","v":""},{"$f":"IF($B280=\"\", \"\", VLOOKUP($B280, CAD!$T$7:$U$2000, 2, FALSE))","v":""},{"$f":"IF($B280=\"\", \"\", VLOOKUP($B280, CAD!$V$7:$W$2000, 2, FALSE))","v":""}]
[null,{"$f":"IF(CAD!B278=\"\", \"\", CAD!B278)","v":""},{"$f":"IF($B281=\"\", \"\", CAD!C278)","v":""},{"$f":"IF($B281=\"\", \"\",VLOOKUP($B281, CAD!$D$7:$E$2000, 2, FALSE))","v":""},{"$f":"IF($B281=\"\", \"\",VLOOKUP($B281, CAD!$F$7:$G$2000, 2, FALSE))","v":""},{"$f":"IF($B281=\"\", \"\",VLOOKUP($B281, CAD!$H$7:$I$2000, 2, FALSE))","v":""},{"$f":"IF($B281=\"\", \"\",VLOOKUP($B281, CAD!$J$7:$K$2000, 2, FALSE))","v":""},{"$f":"IF($B281=\"\", \"\", VLOOKUP($B281, CAD!$L$7:$M$2000, 2, FALSE))","v":""},{"$f":"IF($B281=\"\", \"\", VLOOKUP($B281, CAD!$N$7:$O$2000, 2, FALSE))","v":""},{"$f":"IF($B281=\"\", \"\", VLOOKUP($B281, CAD!$P$7:$Q$2000, 2, FALSE))","v":""},{"$f":"IF($B281=\"\", \"\", VLOOKUP($B281, CAD!$R$7:$S$2000, 2, FALSE))","v":""},{"$f":"IF($B281=\"\", \"\", VLOOKUP($B281, CAD!$T$7:$U$2000, 2, FALSE))","v":""},{"$f":"IF($B281=\"\", \"\", VLOOKUP($B281, CAD!$V$7:$W$2000, 2, FALSE))","v":""}]
[null,{"$f":"IF(CAD!B279=\"\", \"\", CAD!B279)","v":""},{"$f":"IF($B282=\"\", \"\", CAD!C279)","v":""},{"$f":"IF($B282=\"\", \"\",VLOOKUP($B282, CAD!$D$7:$E$2000, 2, FALSE))","v":""},{"$f":"IF($B282=\"\", \"\",VLOOKUP($B282, CAD!$F$7:$G$2000, 2, FALSE))","v":""},{"$f":"IF($B282=\"\", \"\",VLOOKUP($B282, CAD!$H$7:$I$2000, 2, FALSE))","v":""},{"$f":"IF($B282=\"\", \"\",VLOOKUP($B282, CAD!$J$7:$K$2000, 2, FALSE))","v":""},{"$f":"IF($B282=\"\", \"\", VLOOKUP($B282, CAD!$L$7:$M$2000, 2, FALSE))","v":""},{"$f":"IF($B282=\"\", \"\", VLOOKUP($B282, CAD!$N$7:$O$2000, 2, FALSE))","v":""},{"$f":"IF($B282=\"\", \"\", VLOOKUP($B282, CAD!$P$7:$Q$2000, 2, FALSE))","v":""},{"$f":"IF($B282=\"\", \"\", VLOOKUP($B282, CAD!$R$7:$S$2000, 2, FALSE))","v":""},{"$f":"IF($B282=\"\", \"\", VLOOKUP($B282, CAD!$T$7:$U$2000, 2, FALSE))","v":""},{"$f":"IF($B282=\"\", \"\", VLOOKUP($B282, CAD!$V$7:$W$2000, 2, FALSE))","v":""}]
[null,{"$f":"IF(CAD!B280=\"\", \"\", CAD!B280)","v":""},{"$f":"IF($B283=\"\", \"\", CAD!C280)","v":""},{"$f":"IF($B283=\"\", \"\",VLOOKUP($B283, CAD!$D$7:$E$2000, 2, FALSE))","v":""},{"$f":"IF($B283=\"\", \"\",VLOOKUP($B283, CAD!$F$7:$G$2000, 2, FALSE))","v":""},{"$f":"IF($B283=\"\", \"\",VLOOKUP($B283, CAD!$H$7:$I$2000, 2, FALSE))","v":""},{"$f":"IF($B283=\"\", \"\",VLOOKUP($B283, CAD!$J$7:$K$2000, 2, FALSE))","v":""},{"$f":"IF($B283=\"\", \"\", VLOOKUP($B283, CAD!$L$7:$M$2000, 2, FALSE))","v":""},{"$f":"IF($B283=\"\", \"\", VLOOKUP($B283, CAD!$N$7:$O$2000, 2, FALSE))","v":""},{"$f":"IF($B283=\"\", \"\", VLOOKUP($B283, CAD!$P$7:$Q$2000, 2, FALSE))","v":""},{"$f":"IF($B283=\"\", \"\", VLOOKUP($B283, CAD!$R$7:$S$2000, 2, FALSE))","v":""},{"$f":"IF($B283=\"\", \"\", VLOOKUP($B283, CAD!$T$7:$U$2000, 2, FALSE))","v":""},{"$f":"IF($B283=\"\", \"\", VLOOKUP($B283, CAD!$V$7:$W$2000, 2, FALSE))","v":""}]
[null,{"$f":"IF(CAD!B281=\"\", \"\", CAD!B281)","v":""},{"$f":"IF($B284=\"\", \"\", CAD!C281)","v":""},{"$f":"IF($B284=\"\", \"\",VLOOKUP($B284, CAD!$D$7:$E$2000, 2, FALSE))","v":""},{"$f":"IF($B284=\"\", \"\",VLOOKUP($B284, CAD!$F$7:$G$2000, 2, FALSE))","v":""},{"$f":"IF($B284=\"\", \"\",VLOOKUP($B284, CAD!$H$7:$I$2000, 2, FALSE))","v":""},{"$f":"IF($B284=\"\", \"\",VLOOKUP($B284, CAD!$J$7:$K$2000, 2, FALSE))","v":""},{"$f":"IF($B284=\"\", \"\", VLOOKUP($B284, CAD!$L$7:$M$2000, 2, FALSE))","v":""},{"$f":"IF($B284=\"\", \"\", VLOOKUP($B284, CAD!$N$7:$O$2000, 2, FALSE))","v":""},{"$f":"IF($B284=\"\", \"\", VLOOKUP($B284, CAD!$P$7:$Q$2000, 2, FALSE))","v":""},{"$f":"IF($B284=\"\", \"\", VLOOKUP($B284, CAD!$R$7:$S$2000, 2, FALSE))","v":""},{"$f":"IF($B284=\"\", \"\", VLOOKUP($B284, CAD!$T$7:$U$2000, 2, FALSE))","v":""},{"$f":"IF($B284=\"\", \"\", VLOOKUP($B284, CAD!$V$7:$W$2000, 2, FALSE))","v":""}]
[null,{"$f":"IF(CAD!B282=\"\", \"\", CAD!B282)","v":""},{"$f":"IF($B285=\"\", \"\", CAD!C282)","v":""},{"$f":"IF($B285=\"\", \"\",VLOOKUP($B285, CAD!$D$7:$E$2000, 2, FALSE))","v":""},{"$f":"IF($B285=\"\", \"\",VLOOKUP($B285, CAD!$F$7:$G$2000, 2, FALSE))","v":""},{"$f":"IF($B285=\"\", \"\",VLOOKUP($B285, CAD!$H$7:$I$2000, 2, FALSE))","v":""},{"$f":"IF($B285=\"\", \"\",VLOOKUP($B285, CAD!$J$7:$K$2000, 2, FALSE))","v":""},{"$f":"IF($B285=\"\", \"\", VLOOKUP($B285, CAD!$L$7:$M$2000, 2, FALSE))","v":""},{"$f":"IF($B285=\"\", \"\", VLOOKUP($B285, CAD!$N$7:$O$2000, 2, FALSE))","v":""},{"$f":"IF($B285=\"\", \"\", VLOOKUP($B285, CAD!$P$7:$Q$2000, 2, FALSE))","v":""},{"$f":"IF($B285=\"\", \"\", VLOOKUP($B285, CAD!$R$7:$S$2000, 2, FALSE))","v":""},{"$f":"IF($B285=\"\", \"\", VLOOKUP($B285, CAD!$T$7:$U$2000, 2, FALSE))","v":""},{"$f":"IF($B285=\"\", \"\", VLOOKUP($B285, CAD!$V$7:$W$2000, 2, FALSE))","v":""}]
[null,{"$f":"IF(CAD!B283=\"\", \"\", CAD!B283)","v":""},{"$f":"IF($B286=\"\", \"\", CAD!C283)","v":""},{"$f":"IF($B286=\"\", \"\",VLOOKUP($B286, CAD!$D$7:$E$2000, 2, FALSE))","v":""},{"$f":"IF($B286=\"\", \"\",VLOOKUP($B286, CAD!$F$7:$G$2000, 2, FALSE))","v":""},{"$f":"IF($B286=\"\", \"\",VLOOKUP($B286, CAD!$H$7:$I$2000, 2, FALSE))","v":""},{"$f":"IF($B286=\"\", \"\",VLOOKUP($B286, CAD!$J$7:$K$2000, 2, FALSE))","v":""},{"$f":"IF($B286=\"\", \"\", VLOOKUP($B286, CAD!$L$7:$M$2000, 2, FALSE))","v":""},{"$f":"IF($B286=\"\", \"\", VLOOKUP($B286, CAD!$N$7:$O$2000, 2, FALSE))","v":""},{"$f":"IF($B286=\"\", \"\", VLOOKUP($B286, CAD!$P$7:$Q$2000, 2, FALSE))","v":""},{"$f":"IF($B286=\"\", \"\", VLOOKUP($B286, CAD!$R$7:$S$2000, 2, FALSE))","v":""},{"$f":"IF($B286=\"\", \"\", VLOOKUP($B286, CAD!$T$7:$U$2000, 2, FALSE))","v":""},{"$f":"IF($B286=\"\", \"\", VLOOKUP($B286, CAD!$V$7:$W$2000, 2, FALSE))","v":""}]
[null,{"$f":"IF(CAD!B284=\"\", \"\", CAD!B284)","v":""},{"$f":"IF($B287=\"\", \"\", CAD!C284)","v":""},{"$f":"IF($B287=\"\", \"\",VLOOKUP($B287, CAD!$D$7:$E$2000, 2, FALSE))","v":""},{"$f":"IF($B287=\"\", \"\",VLOOKUP($B287, CAD!$F$7:$G$2000, 2, FALSE))","v":""},{"$f":"IF($B287=\"\", \"\",VLOOKUP($B287, CAD!$H$7:$I$2000, 2, FALSE))","v":""},{"$f":"IF($B287=\"\", \"\",VLOOKUP($B287, CAD!$J$7:$K$2000, 2, FALSE))","v":""},{"$f":"IF($B287=\"\", \"\", VLOOKUP($B287, CAD!$L$7:$M$2000, 2, FALSE))","v":""},{"$f":"IF($B287=\"\", \"\", VLOOKUP($B287, CAD!$N$7:$O$2000, 2, FALSE))","v":""},{"$f":"IF($B287=\"\", \"\", VLOOKUP($B287, CAD!$P$7:$Q$2000, 2, FALSE))","v":""},{"$f":"IF($B287=\"\", \"\", VLOOKUP($B287, CAD!$R$7:$S$2000, 2, FALSE))","v":""},{"$f":"IF($B287=\"\", \"\", VLOOKUP($B287, CAD!$T$7:$U$2000, 2, FALSE))","v":""},{"$f":"IF($B287=\"\", \"\", VLOOKUP($B287, CAD!$V$7:$W$2000, 2, FALSE))","v":""}]
[null,{"$f":"IF(CAD!B285=\"\", \"\", CAD!B285)","v":""},{"$f":"IF($B288=\"\", \"\", CAD!C285)","v":""},{"$f":"IF($B288=\"\", \"\",VLOOKUP($B288, CAD!$D$7:$E$2000, 2, FALSE))","v":""},{"$f":"IF($B288=\"\", \"\",VLOOKUP($B288, CAD!$F$7:$G$2000, 2, FALSE))","v":""},{"$f":"IF($B288=\"\", \"\",VLOOKUP($B288, CAD!$H$7:$I$2000, 2, FALSE))","v":""},{"$f":"IF($B288=\"\", \"\",VLOOKUP($B288, CAD!$J$7:$K$2000, 2, FALSE))","v":""},{"$f":"IF($B288=\"\", \"\", VLOOKUP($B288, CAD!$L$7:$M$2000, 2, FALSE))","v":""},{"$f":"IF($B288=\"\", \"\", VLOOKUP($B288, CAD!$N$7:$O$2000, 2, FALSE))","v":""},{"$f":"IF($B288=\"\", \"\", VLOOKUP($B288, CAD!$P$7:$Q$2000, 2, FALSE))","v":""},{"$f":"IF($B288=\"\", \"\", VLOOKUP($B288, CAD!$R$7:$S$2000, 2, FALSE))","v":""},{"$f":"IF($B288=\"\", \"\", VLOOKUP($B288, CAD!$T$7:$U$2000, 2, FALSE))","v":""},{"$f":"IF($B288=\"\", \"\", VLOOKUP($B288, CAD!$V$7:$W$2000, 2, FALSE))","v":""}]
[null,{"$f":"IF(CAD!B286=\"\", \"\", CAD!B286)","v":""},{"$f":"IF($B289=\"\", \"\", CAD!C286)","v":""},{"$f":"IF($B289=\"\", \"\",VLOOKUP($B289, CAD!$D$7:$E$2000, 2, FALSE))","v":""},{"$f":"IF($B289=\"\", \"\",VLOOKUP($B289, CAD!$F$7:$G$2000, 2, FALSE))","v":""},{"$f":"IF($B289=\"\", \"\",VLOOKUP($B289, CAD!$H$7:$I$2000, 2, FALSE))","v":""},{"$f":"IF($B289=\"\", \"\",VLOOKUP($B289, CAD!$J$7:$K$2000, 2, FALSE))","v":""},{"$f":"IF($B289=\"\", \"\", VLOOKUP($B289, CAD!$L$7:$M$2000, 2, FALSE))","v":""},{"$f":"IF($B289=\"\", \"\", VLOOKUP($B289, CAD!$N$7:$O$2000, 2, FALSE))","v":""},{"$f":"IF($B289=\"\", \"\", VLOOKUP($B289, CAD!$P$7:$Q$2000, 2, FALSE))","v":""},{"$f":"IF($B289=\"\", \"\", VLOOKUP($B289, CAD!$R$7:$S$2000, 2, FALSE))","v":""},{"$f":"IF($B289=\"\", \"\", VLOOKUP($B289, CAD!$T$7:$U$2000, 2, FALSE))","v":""},{"$f":"IF($B289=\"\", \"\", VLOOKUP($B289, CAD!$V$7:$W$2000, 2, FALSE))","v":""}]
[null,{"$f":"IF(CAD!B287=\"\", \"\", CAD!B287)","v":""},{"$f":"IF($B290=\"\", \"\", CAD!C287)","v":""},{"$f":"IF($B290=\"\", \"\",VLOOKUP($B290, CAD!$D$7:$E$2000, 2, FALSE))","v":""},{"$f":"IF($B290=\"\", \"\",VLOOKUP($B290, CAD!$F$7:$G$2000, 2, FALSE))","v":""},{"$f":"IF($B290=\"\", \"\",VLOOKUP($B290, CAD!$H$7:$I$2000, 2, FALSE))","v":""},{"$f":"IF($B290=\"\", \"\",VLOOKUP($B290, CAD!$J$7:$K$2000, 2, FALSE))","v":""},{"$f":"IF($B290=\"\", \"\", VLOOKUP($B290, CAD!$L$7:$M$2000, 2, FALSE))","v":""},{"$f":"IF($B290=\"\", \"\", VLOOKUP($B290, CAD!$N$7:$O$2000, 2, FALSE))","v":""},{"$f":"IF($B290=\"\", \"\", VLOOKUP($B290, CAD!$P$7:$Q$2000, 2, FALSE))","v":""},{"$f":"IF($B290=\"\", \"\", VLOOKUP($B290, CAD!$R$7:$S$2000, 2, FALSE))","v":""},{"$f":"IF($B290=\"\", \"\", VLOOKUP($B290, CAD!$T$7:$U$2000, 2, FALSE))","v":""},{"$f":"IF($B290=\"\", \"\", VLOOKUP($B290, CAD!$V$7:$W$2000, 2, FALSE))","v":""}]
[null,{"$f":"IF(CAD!B288=\"\", \"\", CAD!B288)","v":""},{"$f":"IF($B291=\"\", \"\", CAD!C288)","v":""},{"$f":"IF($B291=\"\", \"\",VLOOKUP($B291, CAD!$D$7:$E$2000, 2, FALSE))","v":""},{"$f":"IF($B291=\"\", \"\",VLOOKUP($B291, CAD!$F$7:$G$2000, 2, FALSE))","v":""},{"$f":"IF($B291=\"\", \"\",VLOOKUP($B291, CAD!$H$7:$I$2000, 2, FALSE))","v":""},{"$f":"IF($B291=\"\", \"\",VLOOKUP($B291, CAD!$J$7:$K$2000, 2, FALSE))","v":""},{"$f":"IF($B291=\"\", \"\", VLOOKUP($B291, CAD!$L$7:$M$2000, 2, FALSE))","v":""},{"$f":"IF($B291=\"\", \"\", VLOOKUP($B291, CAD!$N$7:$O$2000, 2, FALSE))","v":""},{"$f":"IF($B291=\"\", \"\", VLOOKUP($B291, CAD!$P$7:$Q$2000, 2, FALSE))","v":""},{"$f":"IF($B291=\"\", \"\", VLOOKUP($B291, CAD!$R$7:$S$2000, 2, FALSE))","v":""},{"$f":"IF($B291=\"\", \"\", VLOOKUP($B291, CAD!$T$7:$U$2000, 2, FALSE))","v":""},{"$f":"IF($B291=\"\", \"\", VLOOKUP($B291, CAD!$V$7:$W$2000, 2, FALSE))","v":""}]
[null,{"$f":"IF(CAD!B289=\"\", \"\", CAD!B289)","v":""},{"$f":"IF($B292=\"\", \"\", CAD!C289)","v":""},{"$f":"IF($B292=\"\", \"\",VLOOKUP($B292, CAD!$D$7:$E$2000, 2, FALSE))","v":""},{"$f":"IF($B292=\"\", \"\",VLOOKUP($B292, CAD!$F$7:$G$2000, 2, FALSE))","v":""},{"$f":"IF($B292=\"\", \"\",VLOOKUP($B292, CAD!$H$7:$I$2000, 2, FALSE))","v":""},{"$f":"IF($B292=\"\", \"\",VLOOKUP($B292, CAD!$J$7:$K$2000, 2, FALSE))","v":""},{"$f":"IF($B292=\"\", \"\", VLOOKUP($B292, CAD!$L$7:$M$2000, 2, FALSE))","v":""},{"$f":"IF($B292=\"\", \"\", VLOOKUP($B292, CAD!$N$7:$O$2000, 2, FALSE))","v":""},{"$f":"IF($B292=\"\", \"\", VLOOKUP($B292, CAD!$P$7:$Q$2000, 2, FALSE))","v":""},{"$f":"IF($B292=\"\", \"\", VLOOKUP($B292, CAD!$R$7:$S$2000, 2, FALSE))","v":""},{"$f":"IF($B292=\"\", \"\", VLOOKUP($B292, CAD!$T$7:$U$2000, 2, FALSE))","v":""},{"$f":"IF($B292=\"\", \"\", VLOOKUP($B292, CAD!$V$7:$W$2000, 2, FALSE))","v":""}]
[null,{"$f":"IF(CAD!B290=\"\", \"\", CAD!B290)","v":""},{"$f":"IF($B293=\"\", \"\", CAD!C290)","v":""},{"$f":"IF($B293=\"\", \"\",VLOOKUP($B293, CAD!$D$7:$E$2000, 2, FALSE))","v":""},{"$f":"IF($B293=\"\", \"\",VLOOKUP($B293, CAD!$F$7:$G$2000, 2, FALSE))","v":""},{"$f":"IF($B293=\"\", \"\",VLOOKUP($B293, CAD!$H$7:$I$2000, 2, FALSE))","v":""},{"$f":"IF($B293=\"\", \"\",VLOOKUP($B293, CAD!$J$7:$K$2000, 2, FALSE))","v":""},{"$f":"IF($B293=\"\", \"\", VLOOKUP($B293, CAD!$L$7:$M$2000, 2, FALSE))","v":""},{"$f":"IF($B293=\"\", \"\", VLOOKUP($B293, CAD!$N$7:$O$2000, 2, FALSE))","v":""},{"$f":"IF($B293=\"\", \"\", VLOOKUP($B293, CAD!$P$7:$Q$2000, 2, FALSE))","v":""},{"$f":"IF($B293=\"\", \"\", VLOOKUP($B293, CAD!$R$7:$S$2000, 2, FALSE))","v":""},{"$f":"IF($B293=\"\", \"\", VLOOKUP($B293, CAD!$T$7:$U$2000, 2, FALSE))","v":""},{"$f":"IF($B293=\"\", \"\", VLOOKUP($B293, CAD!$V$7:$W$2000, 2, FALSE))","v":""}]
[null,{"$f":"IF(CAD!B291=\"\", \"\", CAD!B291)","v":""},{"$f":"IF($B294=\"\", \"\", CAD!C291)","v":""},{"$f":"IF($B294=\"\", \"\",VLOOKUP($B294, CAD!$D$7:$E$2000, 2, FALSE))","v":""},{"$f":"IF($B294=\"\", \"\",VLOOKUP($B294, CAD!$F$7:$G$2000, 2, FALSE))","v":""},{"$f":"IF($B294=\"\", \"\",VLOOKUP($B294, CAD!$H$7:$I$2000, 2, FALSE))","v":""},{"$f":"IF($B294=\"\", \"\",VLOOKUP($B294, CAD!$J$7:$K$2000, 2, FALSE))","v":""},{"$f":"IF($B294=\"\", \"\", VLOOKUP($B294, CAD!$L$7:$M$2000, 2, FALSE))","v":""},{"$f":"IF($B294=\"\", \"\", VLOOKUP($B294, CAD!$N$7:$O$2000, 2, FALSE))","v":""},{"$f":"IF($B294=\"\", \"\", VLOOKUP($B294, CAD!$P$7:$Q$2000, 2, FALSE))","v":""},{"$f":"IF($B294=\"\", \"\", VLOOKUP($B294, CAD!$R$7:$S$2000, 2, FALSE))","v":""},{"$f":"IF($B294=\"\", \"\", VLOOKUP($B294, CAD!$T$7:$U$2000, 2, FALSE))","v":""},{"$f":"IF($B294=\"\", \"\", VLOOKUP($B294, CAD!$V$7:$W$2000, 2, FALSE))","v":""}]
[null,{"$f":"IF(CAD!B292=\"\", \"\", CAD!B292)","v":""},{"$f":"IF($B295=\"\", \"\", CAD!C292)","v":""},{"$f":"IF($B295=\"\", \"\",VLOOKUP($B295, CAD!$D$7:$E$2000, 2, FALSE))","v":""},{"$f":"IF($B295=\"\", \"\",VLOOKUP($B295, CAD!$F$7:$G$2000, 2, FALSE))","v":""},{"$f":"IF($B295=\"\", \"\",VLOOKUP($B295, CAD!$H$7:$I$2000, 2, FALSE))","v":""},{"$f":"IF($B295=\"\", \"\",VLOOKUP($B295, CAD!$J$7:$K$2000, 2, FALSE))","v":""},{"$f":"IF($B295=\"\", \"\", VLOOKUP($B295, CAD!$L$7:$M$2000, 2, FALSE))","v":""},{"$f":"IF($B295=\"\", \"\", VLOOKUP($B295, CAD!$N$7:$O$2000, 2, FALSE))","v":""},{"$f":"IF($B295=\"\", \"\", VLOOKUP($B295, CAD!$P$7:$Q$2000, 2, FALSE))","v":""},{"$f":"IF($B295=\"\", \"\", VLOOKUP($B295, CAD!$R$7:$S$2000, 2, FALSE))","v":""},{"$f":"IF($B295=\"\", \"\", VLOOKUP($B295, CAD!$T$7:$U$2000, 2, FALSE))","v":""},{"$f":"IF($B295=\"\", \"\", VLOOKUP($B295, CAD!$V$7:$W$2000, 2, FALSE))","v":""}]
[null,{"$f":"IF(CAD!B293=\"\", \"\", CAD!B293)","v":""},{"$f":"IF($B296=\"\", \"\", CAD!C293)","v":""},{"$f":"IF($B296=\"\", \"\",VLOOKUP($B296, CAD!$D$7:$E$2000, 2, FALSE))","v":""},{"$f":"IF($B296=\"\", \"\",VLOOKUP($B296, CAD!$F$7:$G$2000, 2, FALSE))","v":""},{"$f":"IF($B296=\"\", \"\",VLOOKUP($B296, CAD!$H$7:$I$2000, 2, FALSE))","v":""},{"$f":"IF($B296=\"\", \"\",VLOOKUP($B296, CAD!$J$7:$K$2000, 2, FALSE))","v":""},{"$f":"IF($B296=\"\", \"\", VLOOKUP($B296, CAD!$L$7:$M$2000, 2, FALSE))","v":""},{"$f":"IF($B296=\"\", \"\", VLOOKUP($B296, CAD!$N$7:$O$2000, 2, FALSE))","v":""},{"$f":"IF($B296=\"\", \"\", VLOOKUP($B296, CAD!$P$7:$Q$2000, 2, FALSE))","v":""},{"$f":"IF($B296=\"\", \"\", VLOOKUP($B296, CAD!$R$7:$S$2000, 2, FALSE))","v":""},{"$f":"IF($B296=\"\", \"\", VLOOKUP($B296, CAD!$T$7:$U$2000, 2, FALSE))","v":""},{"$f":"IF($B296=\"\", \"\", VLOOKUP($B296, CAD!$V$7:$W$2000, 2, FALSE))","v":""}]
[null,{"$f":"IF(CAD!B294=\"\", \"\", CAD!B294)","v":""},{"$f":"IF($B297=\"\", \"\", CAD!C294)","v":""},{"$f":"IF($B297=\"\", \"\",VLOOKUP($B297, CAD!$D$7:$E$2000, 2, FALSE))","v":""},{"$f":"IF($B297=\"\", \"\",VLOOKUP($B297, CAD!$F$7:$G$2000, 2, FALSE))","v":""},{"$f":"IF($B297=\"\", \"\",VLOOKUP($B297, CAD!$H$7:$I$2000, 2, FALSE))","v":""},{"$f":"IF($B297=\"\", \"\",VLOOKUP($B297, CAD!$J$7:$K$2000, 2, FALSE))","v":""},{"$f":"IF($B297=\"\", \"\", VLOOKUP($B297, CAD!$L$7:$M$2000, 2, FALSE))","v":""},{"$f":"IF($B297=\"\", \"\", VLOOKUP($B297, CAD!$N$7:$O$2000, 2, FALSE))","v":""},{"$f":"IF($B297=\"\", \"\", VLOOKUP($B297, CAD!$P$7:$Q$2000, 2, FALSE))","v":""},{"$f":"IF($B297=\"\", \"\", VLOOKUP($B297, CAD!$R$7:$S$2000, 2, FALSE))","v":""},{"$f":"IF($B297=\"\", \"\", VLOOKUP($B297, CAD!$T$7:$U$2000, 2, FALSE))","v":""},{"$f":"IF($B297=\"\", \"\", VLOOKUP($B297, CAD!$V$7:$W$2000, 2, FALSE))","v":""}]
[null,{"$f":"IF(CAD!B295=\"\", \"\", CAD!B295)","v":""},{"$f":"IF($B298=\"\", \"\", CAD!C295)","v":""},{"$f":"IF($B298=\"\", \"\",VLOOKUP($B298, CAD!$D$7:$E$2000, 2, FALSE))","v":""},{"$f":"IF($B298=\"\", \"\",VLOOKUP($B298, CAD!$F$7:$G$2000, 2, FALSE))","v":""},{"$f":"IF($B298=\"\", \"\",VLOOKUP($B298, CAD!$H$7:$I$2000, 2, FALSE))","v":""},{"$f":"IF($B298=\"\", \"\",VLOOKUP($B298, CAD!$J$7:$K$2000, 2, FALSE))","v":""},{"$f":"IF($B298=\"\", \"\", VLOOKUP($B298, CAD!$L$7:$M$2000, 2, FALSE))","v":""},{"$f":"IF($B298=\"\", \"\", VLOOKUP($B298, CAD!$N$7:$O$2000, 2, FALSE))","v":""},{"$f":"IF($B298=\"\", \"\", VLOOKUP($B298, CAD!$P$7:$Q$2000, 2, FALSE))","v":""},{"$f":"IF($B298=\"\", \"\", VLOOKUP($B298, CAD!$R$7:$S$2000, 2, FALSE))","v":""},{"$f":"IF($B298=\"\", \"\", VLOOKUP($B298, CAD!$T$7:$U$2000, 2, FALSE))","v":""},{"$f":"IF($B298=\"\", \"\", VLOOKUP($B298, CAD!$V$7:$W$2000, 2, FALSE))","v":""}]
[null,{"$f":"IF(CAD!B296=\"\", \"\", CAD!B296)","v":""},{"$f":"IF($B299=\"\", \"\", CAD!C296)","v":""},{"$f":"IF($B299=\"\", \"\",VLOOKUP($B299, CAD!$D$7:$E$2000, 2, FALSE))","v":""},{"$f":"IF($B299=\"\", \"\",VLOOKUP($B299, CAD!$F$7:$G$2000, 2, FALSE))","v":""},{"$f":"IF($B299=\"\", \"\",VLOOKUP($B299, CAD!$H$7:$I$2000, 2, FALSE))","v":""},{"$f":"IF($B299=\"\", \"\",VLOOKUP($B299, CAD!$J$7:$K$2000, 2, FALSE))","v":""},{"$f":"IF($B299=\"\", \"\", VLOOKUP($B299, CAD!$L$7:$M$2000, 2, FALSE))","v":""},{"$f":"IF($B299=\"\", \"\", VLOOKUP($B299, CAD!$N$7:$O$2000, 2, FALSE))","v":""},{"$f":"IF($B299=\"\", \"\", VLOOKUP($B299, CAD!$P$7:$Q$2000, 2, FALSE))","v":""},{"$f":"IF($B299=\"\", \"\", VLOOKUP($B299, CAD!$R$7:$S$2000, 2, FALSE))","v":""},{"$f":"IF($B299=\"\", \"\", VLOOKUP($B299, CAD!$T$7:$U$2000, 2, FALSE))","v":""},{"$f":"IF($B299=\"\", \"\", VLOOKUP($B299, CAD!$V$7:$W$2000, 2, FALSE))","v":""}]
[null,{"$f":"IF(CAD!B297=\"\", \"\", CAD!B297)","v":""},{"$f":"IF($B300=\"\", \"\", CAD!C297)","v":""},{"$f":"IF($B300=\"\", \"\",VLOOKUP($B300, CAD!$D$7:$E$2000, 2, FALSE))","v":""},{"$f":"IF($B300=\"\", \"\",VLOOKUP($B300, CAD!$F$7:$G$2000, 2, FALSE))","v":""},{"$f":"IF($B300=\"\", \"\",VLOOKUP($B300, CAD!$H$7:$I$2000, 2, FALSE))","v":""},{"$f":"IF($B300=\"\", \"\",VLOOKUP($B300, CAD!$J$7:$K$2000, 2, FALSE))","v":""},{"$f":"IF($B300=\"\", \"\", VLOOKUP($B300, CAD!$L$7:$M$2000, 2, FALSE))","v":""},{"$f":"IF($B300=\"\", \"\", VLOOKUP($B300, CAD!$N$7:$O$2000, 2, FALSE))","v":""},{"$f":"IF($B300=\"\", \"\", VLOOKUP($B300, CAD!$P$7:$Q$2000, 2, FALSE))","v":""},{"$f":"IF($B300=\"\", \"\", VLOOKUP($B300, CAD!$R$7:$S$2000, 2, FALSE))","v":""},{"$f":"IF($B300=\"\", \"\", VLOOKUP($B300, CAD!$T$7:$U$2000, 2, FALSE))","v":""},{"$f":"IF($B300=\"\", \"\", VLOOKUP($B300, CAD!$V$7:$W$2000, 2, FALSE))","v":""}]
[null,{"$f":"IF(CAD!B298=\"\", \"\", CAD!B298)","v":""},{"$f":"IF($B301=\"\", \"\", CAD!C298)","v":""},{"$f":"IF($B301=\"\", \"\",VLOOKUP($B301, CAD!$D$7:$E$2000, 2, FALSE))","v":""},{"$f":"IF($B301=\"\", \"\",VLOOKUP($B301, CAD!$F$7:$G$2000, 2, FALSE))","v":""},{"$f":"IF($B301=\"\", \"\",VLOOKUP($B301, CAD!$H$7:$I$2000, 2, FALSE))","v":""},{"$f":"IF($B301=\"\", \"\",VLOOKUP($B301, CAD!$J$7:$K$2000, 2, FALSE))","v":""},{"$f":"IF($B301=\"\", \"\", VLOOKUP($B301, CAD!$L$7:$M$2000, 2, FALSE))","v":""},{"$f":"IF($B301=\"\", \"\", VLOOKUP($B301, CAD!$N$7:$O$2000, 2, FALSE))","v":""},{"$f":"IF($B301=\"\", \"\", VLOOKUP($B301, CAD!$P$7:$Q$2000, 2, FALSE))","v":""},{"$f":"IF($B301=\"\", \"\", VLOOKUP($B301, CAD!$R$7:$S$2000, 2, FALSE))","v":""},{"$f":"IF($B301=\"\", \"\", VLOOKUP($B301, CAD!$T$7:$U$2000, 2, FALSE))","v":""},{"$f":"IF($B301=\"\", \"\", VLOOKUP($B301, CAD!$V$7:$W$2000, 2, FALSE))","v":""}]
[null,{"$f":"IF(CAD!B299=\"\", \"\", CAD!B299)","v":""},{"$f":"IF($B302=\"\", \"\", CAD!C299)","v":""},{"$f":"IF($B302=\"\", \"\",VLOOKUP($B302, CAD!$D$7:$E$2000, 2, FALSE))","v":""},{"$f":"IF($B302=\"\", \"\",VLOOKUP($B302, CAD!$F$7:$G$2000, 2, FALSE))","v":""},{"$f":"IF($B302=\"\", \"\",VLOOKUP($B302, CAD!$H$7:$I$2000, 2, FALSE))","v":""},{"$f":"IF($B302=\"\", \"\",VLOOKUP($B302, CAD!$J$7:$K$2000, 2, FALSE))","v":""},{"$f":"IF($B302=\"\", \"\", VLOOKUP($B302, CAD!$L$7:$M$2000, 2, FALSE))","v":""},{"$f":"IF($B302=\"\", \"\", VLOOKUP($B302, CAD!$N$7:$O$2000, 2, FALSE))","v":""},{"$f":"IF($B302=\"\", \"\", VLOOKUP($B302, CAD!$P$7:$Q$2000, 2, FALSE))","v":""},{"$f":"IF($B302=\"\", \"\", VLOOKUP($B302, CAD!$R$7:$S$2000, 2, FALSE))","v":""},{"$f":"IF($B302=\"\", \"\", VLOOKUP($B302, CAD!$T$7:$U$2000, 2, FALSE))","v":""},{"$f":"IF($B302=\"\", \"\", VLOOKUP($B302, CAD!$V$7:$W$2000, 2, FALSE))","v":""}]
[null,{"$f":"IF(CAD!B300=\"\", \"\", CAD!B300)","v":""},{"$f":"IF($B303=\"\", \"\", CAD!C300)","v":""},{"$f":"IF($B303=\"\", \"\",VLOOKUP($B303, CAD!$D$7:$E$2000, 2, FALSE))","v":""},{"$f":"IF($B303=\"\", \"\",VLOOKUP($B303, CAD!$F$7:$G$2000, 2, FALSE))","v":""},{"$f":"IF($B303=\"\", \"\",VLOOKUP($B303, CAD!$H$7:$I$2000, 2, FALSE))","v":""},{"$f":"IF($B303=\"\", \"\",VLOOKUP($B303, CAD!$J$7:$K$2000, 2, FALSE))","v":""},{"$f":"IF($B303=\"\", \"\", VLOOKUP($B303, CAD!$L$7:$M$2000, 2, FALSE))","v":""},{"$f":"IF($B303=\"\", \"\", VLOOKUP($B303, CAD!$N$7:$O$2000, 2, FALSE))","v":""},{"$f":"IF($B303=\"\", \"\", VLOOKUP($B303, CAD!$P$7:$Q$2000, 2, FALSE))","v":""},{"$f":"IF($B303=\"\", \"\", VLOOKUP($B303, CAD!$R$7:$S$2000, 2, FALSE))","v":""},{"$f":"IF($B303=\"\", \"\", VLOOKUP($B303, CAD!$T$7:$U$2000, 2, FALSE))","v":""},{"$f":"IF($B303=\"\", \"\", VLOOKUP($B303, CAD!$V$7:$W$2000, 2, FALSE))","v":""}]
[null,{"$f":"IF(CAD!B301=\"\", \"\", CAD!B301)","v":""},{"$f":"IF($B304=\"\", \"\", CAD!C301)","v":""},{"$f":"IF($B304=\"\", \"\",VLOOKUP($B304, CAD!$D$7:$E$2000, 2, FALSE))","v":""},{"$f":"IF($B304=\"\", \"\",VLOOKUP($B304, CAD!$F$7:$G$2000, 2, FALSE))","v":""},{"$f":"IF($B304=\"\", \"\",VLOOKUP($B304, CAD!$H$7:$I$2000, 2, FALSE))","v":""},{"$f":"IF($B304=\"\", \"\",VLOOKUP($B304, CAD!$J$7:$K$2000, 2, FALSE))","v":""},{"$f":"IF($B304=\"\", \"\", VLOOKUP($B304, CAD!$L$7:$M$2000, 2, FALSE))","v":""},{"$f":"IF($B304=\"\", \"\", VLOOKUP($B304, CAD!$N$7:$O$2000, 2, FALSE))","v":""},{"$f":"IF($B304=\"\", \"\", VLOOKUP($B304, CAD!$P$7:$Q$2000, 2, FALSE))","v":""},{"$f":"IF($B304=\"\", \"\", VLOOKUP($B304, CAD!$R$7:$S$2000, 2, FALSE))","v":""},{"$f":"IF($B304=\"\", \"\", VLOOKUP($B304, CAD!$T$7:$U$2000, 2, FALSE))","v":""},{"$f":"IF($B304=\"\", \"\", VLOOKUP($B304, CAD!$V$7:$W$2000, 2, FALSE))","v":""}]
[null,{"$f":"IF(CAD!B302=\"\", \"\", CAD!B302)","v":""},{"$f":"IF($B305=\"\", \"\", CAD!C302)","v":""},{"$f":"IF($B305=\"\", \"\",VLOOKUP($B305, CAD!$D$7:$E$2000, 2, FALSE))","v":""},{"$f":"IF($B305=\"\", \"\",VLOOKUP($B305, CAD!$F$7:$G$2000, 2, FALSE))","v":""},{"$f":"IF($B305=\"\", \"\",VLOOKUP($B305, CAD!$H$7:$I$2000, 2, FALSE))","v":""},{"$f":"IF($B305=\"\", \"\",VLOOKUP($B305, CAD!$J$7:$K$2000, 2, FALSE))","v":""},{"$f":"IF($B305=\"\", \"\", VLOOKUP($B305, CAD!$L$7:$M$2000, 2, FALSE))","v":""},{"$f":"IF($B305=\"\", \"\", VLOOKUP($B305, CAD!$N$7:$O$2000, 2, FALSE))","v":""},{"$f":"IF($B305=\"\", \"\", VLOOKUP($B305, CAD!$P$7:$Q$2000, 2, FALSE))","v":""},{"$f":"IF($B305=\"\", \"\", VLOOKUP($B305, CAD!$R$7:$S$2000, 2, FALSE))","v":""},{"$f":"IF($B305=\"\", \"\", VLOOKUP($B305, CAD!$T$7:$U$2000, 2, FALSE))","v":""},{"$f":"IF($B305=\"\", \"\", VLOOKUP($B305, CAD!$V$7:$W$2000, 2, FALSE))","v":""}]
[null,{"$f":"IF(CAD!B303=\"\", \"\", CAD!B303)","v":""},{"$f":"IF($B306=\"\", \"\", CAD!C303)","v":""},{"$f":"IF($B306=\"\", \"\",VLOOKUP($B306, CAD!$D$7:$E$2000, 2, FALSE))","v":""},{"$f":"IF($B306=\"\", \"\",VLOOKUP($B306, CAD!$F$7:$G$2000, 2, FALSE))","v":""},{"$f":"IF($B306=\"\", \"\",VLOOKUP($B306, CAD!$H$7:$I$2000, 2, FALSE))","v":""},{"$f":"IF($B306=\"\", \"\",VLOOKUP($B306, CAD!$J$7:$K$2000, 2, FALSE))","v":""},{"$f":"IF($B306=\"\", \"\", VLOOKUP($B306, CAD!$L$7:$M$2000, 2, FALSE))","v":""},{"$f":"IF($B306=\"\", \"\", VLOOKUP($B306, CAD!$N$7:$O$2000, 2, FALSE))","v":""},{"$f":"IF($B306=\"\", \"\", VLOOKUP($B306, CAD!$P$7:$Q$2000, 2, FALSE))","v":""},{"$f":"IF($B306=\"\", \"\", VLOOKUP($B306, CAD!$R$7:$S$2000, 2, FALSE))","v":""},{"$f":"IF($B306=\"\", \"\", VLOOKUP($B306, CAD!$T$7:$U$2000, 2, FALSE))","v":""},{"$f":"IF($B306=\"\", \"\", VLOOKUP($B306, CAD!$V$7:$W$2000, 2, FALSE))","v":""}]
[null,{"$f":"IF(CAD!B304=\"\", \"\", CAD!B304)","v":""},{"$f":"IF($B307=\"\", \"\", CAD!C304)","v":""},{"$f":"IF($B307=\"\", \"\",VLOOKUP($B307, CAD!$D$7:$E$2000, 2, FALSE))","v":""},{"$f":"IF($B307=\"\", \"\",VLOOKUP($B307, CAD!$F$7:$G$2000, 2, FALSE))","v":""},{"$f":"IF($B307=\"\", \"\",VLOOKUP($B307, CAD!$H$7:$I$2000, 2, FALSE))","v":""},{"$f":"IF($B307=\"\", \"\",VLOOKUP($B307, CAD!$J$7:$K$2000, 2, FALSE))","v":""},{"$f":"IF($B307=\"\", \"\", VLOOKUP($B307, CAD!$L$7:$M$2000, 2, FALSE))","v":""},{"$f":"IF($B307=\"\", \"\", VLOOKUP($B307, CAD!$N$7:$O$2000, 2, FALSE))","v":""},{"$f":"IF($B307=\"\", \"\", VLOOKUP($B307, CAD!$P$7:$Q$2000, 2, FALSE))","v":""},{"$f":"IF($B307=\"\", \"\", VLOOKUP($B307, CAD!$R$7:$S$2000, 2, FALSE))","v":""},{"$f":"IF($B307=\"\", \"\", VLOOKUP($B307, CAD!$T$7:$U$2000, 2, FALSE))","v":""},{"$f":"IF($B307=\"\", \"\", VLOOKUP($B307, CAD!$V$7:$W$2000, 2, FALSE))","v":""}]
[null,{"$f":"IF(CAD!B305=\"\", \"\", CAD!B305)","v":""},{"$f":"IF($B308=\"\", \"\", CAD!C305)","v":""},{"$f":"IF($B308=\"\", \"\",VLOOKUP($B308, CAD!$D$7:$E$2000, 2, FALSE))","v":""},{"$f":"IF($B308=\"\", \"\",VLOOKUP($B308, CAD!$F$7:$G$2000, 2, FALSE))","v":""},{"$f":"IF($B308=\"\", \"\",VLOOKUP($B308, CAD!$H$7:$I$2000, 2, FALSE))","v":""},{"$f":"IF($B308=\"\", \"\",VLOOKUP($B308, CAD!$J$7:$K$2000, 2, FALSE))","v":""},{"$f":"IF($B308=\"\", \"\", VLOOKUP($B308, CAD!$L$7:$M$2000, 2, FALSE))","v":""},{"$f":"IF($B308=\"\", \"\", VLOOKUP($B308, CAD!$N$7:$O$2000, 2, FALSE))","v":""},{"$f":"IF($B308=\"\", \"\", VLOOKUP($B308, CAD!$P$7:$Q$2000, 2, FALSE))","v":""},{"$f":"IF($B308=\"\", \"\", VLOOKUP($B308, CAD!$R$7:$S$2000, 2, FALSE))","v":""},{"$f":"IF($B308=\"\", \"\", VLOOKUP($B308, CAD!$T$7:$U$2000, 2, FALSE))","v":""},{"$f":"IF($B308=\"\", \"\", VLOOKUP($B308, CAD!$V$7:$W$2000, 2, FALSE))","v":""}]
[null,{"$f":"IF(CAD!B306=\"\", \"\", CAD!B306)","v":""},{"$f":"IF($B309=\"\", \"\", CAD!C306)","v":""},{"$f":"IF($B309=\"\", \"\",VLOOKUP($B309, CAD!$D$7:$E$2000, 2, FALSE))","v":""},{"$f":"IF($B309=\"\", \"\",VLOOKUP($B309, CAD!$F$7:$G$2000, 2, FALSE))","v":""},{"$f":"IF($B309=\"\", \"\",VLOOKUP($B309, CAD!$H$7:$I$2000, 2, FALSE))","v":""},{"$f":"IF($B309=\"\", \"\",VLOOKUP($B309, CAD!$J$7:$K$2000, 2, FALSE))","v":""},{"$f":"IF($B309=\"\", \"\", VLOOKUP($B309, CAD!$L$7:$M$2000, 2, FALSE))","v":""},{"$f":"IF($B309=\"\", \"\", VLOOKUP($B309, CAD!$N$7:$O$2000, 2, FALSE))","v":""},{"$f":"IF($B309=\"\", \"\", VLOOKUP($B309, CAD!$P$7:$Q$2000, 2, FALSE))","v":""},{"$f":"IF($B309=\"\", \"\", VLOOKUP($B309, CAD!$R$7:$S$2000, 2, FALSE))","v":""},{"$f":"IF($B309=\"\", \"\", VLOOKUP($B309, CAD!$T$7:$U$2000, 2, FALSE))","v":""},{"$f":"IF($B309=\"\", \"\", VLOOKUP($B309, CAD!$V$7:$W$2000, 2, FALSE))","v":""}]
[null,{"$f":"IF(CAD!B307=\"\", \"\", CAD!B307)","v":""},{"$f":"IF($B310=\"\", \"\", CAD!C307)","v":""},{"$f":"IF($B310=\"\", \"\",VLOOKUP($B310, CAD!$D$7:$E$2000, 2, FALSE))","v":""},{"$f":"IF($B310=\"\", \"\",VLOOKUP($B310, CAD!$F$7:$G$2000, 2, FALSE))","v":""},{"$f":"IF($B310=\"\", \"\",VLOOKUP($B310, CAD!$H$7:$I$2000, 2, FALSE))","v":""},{"$f":"IF($B310=\"\", \"\",VLOOKUP($B310, CAD!$J$7:$K$2000, 2, FALSE))","v":""},{"$f":"IF($B310=\"\", \"\", VLOOKUP($B310, CAD!$L$7:$M$2000, 2, FALSE))","v":""},{"$f":"IF($B310=\"\", \"\", VLOOKUP($B310, CAD!$N$7:$O$2000, 2, FALSE))","v":""},{"$f":"IF($B310=\"\", \"\", VLOOKUP($B310, CAD!$P$7:$Q$2000, 2, FALSE))","v":""},{"$f":"IF($B310=\"\", \"\", VLOOKUP($B310, CAD!$R$7:$S$2000, 2, FALSE))","v":""},{"$f":"IF($B310=\"\", \"\", VLOOKUP($B310, CAD!$T$7:$U$2000, 2, FALSE))","v":""},{"$f":"IF($B310=\"\", \"\", VLOOKUP($B310, CAD!$V$7:$W$2000, 2, FALSE))","v":""}]
[null,{"$f":"IF(CAD!B308=\"\", \"\", CAD!B308)","v":""},{"$f":"IF($B311=\"\", \"\", CAD!C308)","v":""},{"$f":"IF($B311=\"\", \"\",VLOOKUP($B311, CAD!$D$7:$E$2000, 2, FALSE))","v":""},{"$f":"IF($B311=\"\", \"\",VLOOKUP($B311, CAD!$F$7:$G$2000, 2, FALSE))","v":""},{"$f":"IF($B311=\"\", \"\",VLOOKUP($B311, CAD!$H$7:$I$2000, 2, FALSE))","v":""},{"$f":"IF($B311=\"\", \"\",VLOOKUP($B311, CAD!$J$7:$K$2000, 2, FALSE))","v":""},{"$f":"IF($B311=\"\", \"\", VLOOKUP($B311, CAD!$L$7:$M$2000, 2, FALSE))","v":""},{"$f":"IF($B311=\"\", \"\", VLOOKUP($B311, CAD!$N$7:$O$2000, 2, FALSE))","v":""},{"$f":"IF($B311=\"\", \"\", VLOOKUP($B311, CAD!$P$7:$Q$2000, 2, FALSE))","v":""},{"$f":"IF($B311=\"\", \"\", VLOOKUP($B311, CAD!$R$7:$S$2000, 2, FALSE))","v":""},{"$f":"IF($B311=\"\", \"\", VLOOKUP($B311, CAD!$T$7:$U$2000, 2, FALSE))","v":""},{"$f":"IF($B311=\"\", \"\", VLOOKUP($B311, CAD!$V$7:$W$2000, 2, FALSE))","v":""}]
[null,{"$f":"IF(CAD!B309=\"\", \"\", CAD!B309)","v":""},{"$f":"IF($B312=\"\", \"\", CAD!C309)","v":""},{"$f":"IF($B312=\"\", \"\",VLOOKUP($B312, CAD!$D$7:$E$2000, 2, FALSE))","v":""},{"$f":"IF($B312=\"\", \"\",VLOOKUP($B312, CAD!$F$7:$G$2000, 2, FALSE))","v":""},{"$f":"IF($B312=\"\", \"\",VLOOKUP($B312, CAD!$H$7:$I$2000, 2, FALSE))","v":""},{"$f":"IF($B312=\"\", \"\",VLOOKUP($B312, CAD!$J$7:$K$2000, 2, FALSE))","v":""},{"$f":"IF($B312=\"\", \"\", VLOOKUP($B312, CAD!$L$7:$M$2000, 2, FALSE))","v":""},{"$f":"IF($B312=\"\", \"\", VLOOKUP($B312, CAD!$N$7:$O$2000, 2, FALSE))","v":""},{"$f":"IF($B312=\"\", \"\", VLOOKUP($B312, CAD!$P$7:$Q$2000, 2, FALSE))","v":""},{"$f":"IF($B312=\"\", \"\", VLOOKUP($B312, CAD!$R$7:$S$2000, 2, FALSE))","v":""},{"$f":"IF($B312=\"\", \"\", VLOOKUP($B312, CAD!$T$7:$U$2000, 2, FALSE))","v":""},{"$f":"IF($B312=\"\", \"\", VLOOKUP($B312, CAD!$V$7:$W$2000, 2, FALSE))","v":""}]
[null,{"$f":"IF(CAD!B310=\"\", \"\", CAD!B310)","v":""},{"$f":"IF($B313=\"\", \"\", CAD!C310)","v":""},{"$f":"IF($B313=\"\", \"\",VLOOKUP($B313, CAD!$D$7:$E$2000, 2, FALSE))","v":""},{"$f":"IF($B313=\"\", \"\",VLOOKUP($B313, CAD!$F$7:$G$2000, 2, FALSE))","v":""},{"$f":"IF($B313=\"\", \"\",VLOOKUP($B313, CAD!$H$7:$I$2000, 2, FALSE))","v":""},{"$f":"IF($B313=\"\", \"\",VLOOKUP($B313, CAD!$J$7:$K$2000, 2, FALSE))","v":""},{"$f":"IF($B313=\"\", \"\", VLOOKUP($B313, CAD!$L$7:$M$2000, 2, FALSE))","v":""},{"$f":"IF($B313=\"\", \"\", VLOOKUP($B313, CAD!$N$7:$O$2000, 2, FALSE))","v":""},{"$f":"IF($B313=\"\", \"\", VLOOKUP($B313, CAD!$P$7:$Q$2000, 2, FALSE))","v":""},{"$f":"IF($B313=\"\", \"\", VLOOKUP($B313, CAD!$R$7:$S$2000, 2, FALSE))","v":""},{"$f":"IF($B313=\"\", \"\", VLOOKUP($B313, CAD!$T$7:$U$2000, 2, FALSE))","v":""},{"$f":"IF($B313=\"\", \"\", VLOOKUP($B313, CAD!$V$7:$W$2000, 2, FALSE))","v":""}]
[null,{"$f":"IF(CAD!B311=\"\", \"\", CAD!B311)","v":""},{"$f":"IF($B314=\"\", \"\", CAD!C311)","v":""},{"$f":"IF($B314=\"\", \"\",VLOOKUP($B314, CAD!$D$7:$E$2000, 2, FALSE))","v":""},{"$f":"IF($B314=\"\", \"\",VLOOKUP($B314, CAD!$F$7:$G$2000, 2, FALSE))","v":""},{"$f":"IF($B314=\"\", \"\",VLOOKUP($B314, CAD!$H$7:$I$2000, 2, FALSE))","v":""},{"$f":"IF($B314=\"\", \"\",VLOOKUP($B314, CAD!$J$7:$K$2000, 2, FALSE))","v":""},{"$f":"IF($B314=\"\", \"\", VLOOKUP($B314, CAD!$L$7:$M$2000, 2, FALSE))","v":""},{"$f":"IF($B314=\"\", \"\", VLOOKUP($B314, CAD!$N$7:$O$2000, 2, FALSE))","v":""},{"$f":"IF($B314=\"\", \"\", VLOOKUP($B314, CAD!$P$7:$Q$2000, 2, FALSE))","v":""},{"$f":"IF($B314=\"\", \"\", VLOOKUP($B314, CAD!$R$7:$S$2000, 2, FALSE))","v":""},{"$f":"IF($B314=\"\", \"\", VLOOKUP($B314, CAD!$T$7:$U$2000, 2, FALSE))","v":""},{"$f":"IF($B314=\"\", \"\", VLOOKUP($B314, CAD!$V$7:$W$2000, 2, FALSE))","v":""}]
[null,{"$f":"IF(CAD!B312=\"\", \"\", CAD!B312)","v":""},{"$f":"IF($B315=\"\", \"\", CAD!C312)","v":""},{"$f":"IF($B315=\"\", \"\",VLOOKUP($B315, CAD!$D$7:$E$2000, 2, FALSE))","v":""},{"$f":"IF($B315=\"\", \"\",VLOOKUP($B315, CAD!$F$7:$G$2000, 2, FALSE))","v":""},{"$f":"IF($B315=\"\", \"\",VLOOKUP($B315, CAD!$H$7:$I$2000, 2, FALSE))","v":""},{"$f":"IF($B315=\"\", \"\",VLOOKUP($B315, CAD!$J$7:$K$2000, 2, FALSE))","v":""},{"$f":"IF($B315=\"\", \"\", VLOOKUP($B315, CAD!$L$7:$M$2000, 2, FALSE))","v":""},{"$f":"IF($B315=\"\", \"\", VLOOKUP($B315, CAD!$N$7:$O$2000, 2, FALSE))","v":""},{"$f":"IF($B315=\"\", \"\", VLOOKUP($B315, CAD!$P$7:$Q$2000, 2, FALSE))","v":""},{"$f":"IF($B315=\"\", \"\", VLOOKUP($B315, CAD!$R$7:$S$2000, 2, FALSE))","v":""},{"$f":"IF($B315=\"\", \"\", VLOOKUP($B315, CAD!$T$7:$U$2000, 2, FALSE))","v":""},{"$f":"IF($B315=\"\", \"\", VLOOKUP($B315, CAD!$V$7:$W$2000, 2, FALSE))","v":""}]
[null,{"$f":"IF(CAD!B313=\"\", \"\", CAD!B313)","v":""},{"$f":"IF($B316=\"\", \"\", CAD!C313)","v":""},{"$f":"IF($B316=\"\", \"\",VLOOKUP($B316, CAD!$D$7:$E$2000, 2, FALSE))","v":""},{"$f":"IF($B316=\"\", \"\",VLOOKUP($B316, CAD!$F$7:$G$2000, 2, FALSE))","v":""},{"$f":"IF($B316=\"\", \"\",VLOOKUP($B316, CAD!$H$7:$I$2000, 2, FALSE))","v":""},{"$f":"IF($B316=\"\", \"\",VLOOKUP($B316, CAD!$J$7:$K$2000, 2, FALSE))","v":""},{"$f":"IF($B316=\"\", \"\", VLOOKUP($B316, CAD!$L$7:$M$2000, 2, FALSE))","v":""},{"$f":"IF($B316=\"\", \"\", VLOOKUP($B316, CAD!$N$7:$O$2000, 2, FALSE))","v":""},{"$f":"IF($B316=\"\", \"\", VLOOKUP($B316, CAD!$P$7:$Q$2000, 2, FALSE))","v":""},{"$f":"IF($B316=\"\", \"\", VLOOKUP($B316, CAD!$R$7:$S$2000, 2, FALSE))","v":""},{"$f":"IF($B316=\"\", \"\", VLOOKUP($B316, CAD!$T$7:$U$2000, 2, FALSE))","v":""},{"$f":"IF($B316=\"\", \"\", VLOOKUP($B316, CAD!$V$7:$W$2000, 2, FALSE))","v":""}]
[null,{"$f":"IF(CAD!B314=\"\", \"\", CAD!B314)","v":""},{"$f":"IF($B317=\"\", \"\", CAD!C314)","v":""},{"$f":"IF($B317=\"\", \"\",VLOOKUP($B317, CAD!$D$7:$E$2000, 2, FALSE))","v":""},{"$f":"IF($B317=\"\", \"\",VLOOKUP($B317, CAD!$F$7:$G$2000, 2, FALSE))","v":""},{"$f":"IF($B317=\"\", \"\",VLOOKUP($B317, CAD!$H$7:$I$2000, 2, FALSE))","v":""},{"$f":"IF($B317=\"\", \"\",VLOOKUP($B317, CAD!$J$7:$K$2000, 2, FALSE))","v":""},{"$f":"IF($B317=\"\", \"\", VLOOKUP($B317, CAD!$L$7:$M$2000, 2, FALSE))","v":""},{"$f":"IF($B317=\"\", \"\", VLOOKUP($B317, CAD!$N$7:$O$2000, 2, FALSE))","v":""},{"$f":"IF($B317=\"\", \"\", VLOOKUP($B317, CAD!$P$7:$Q$2000, 2, FALSE))","v":""},{"$f":"IF($B317=\"\", \"\", VLOOKUP($B317, CAD!$R$7:$S$2000, 2, FALSE))","v":""},{"$f":"IF($B317=\"\", \"\", VLOOKUP($B317, CAD!$T$7:$U$2000, 2, FALSE))","v":""},{"$f":"IF($B317=\"\", \"\", VLOOKUP($B317, CAD!$V$7:$W$2000, 2, FALSE))","v":""}]
[null,{"$f":"IF(CAD!B315=\"\", \"\", CAD!B315)","v":""},{"$f":"IF($B318=\"\", \"\", CAD!C315)","v":""},{"$f":"IF($B318=\"\", \"\",VLOOKUP($B318, CAD!$D$7:$E$2000, 2, FALSE))","v":""},{"$f":"IF($B318=\"\", \"\",VLOOKUP($B318, CAD!$F$7:$G$2000, 2, FALSE))","v":""},{"$f":"IF($B318=\"\", \"\",VLOOKUP($B318, CAD!$H$7:$I$2000, 2, FALSE))","v":""},{"$f":"IF($B318=\"\", \"\",VLOOKUP($B318, CAD!$J$7:$K$2000, 2, FALSE))","v":""},{"$f":"IF($B318=\"\", \"\", VLOOKUP($B318, CAD!$L$7:$M$2000, 2, FALSE))","v":""},{"$f":"IF($B318=\"\", \"\", VLOOKUP($B318, CAD!$N$7:$O$2000, 2, FALSE))","v":""},{"$f":"IF($B318=\"\", \"\", VLOOKUP($B318, CAD!$P$7:$Q$2000, 2, FALSE))","v":""},{"$f":"IF($B318=\"\", \"\", VLOOKUP($B318, CAD!$R$7:$S$2000, 2, FALSE))","v":""},{"$f":"IF($B318=\"\", \"\", VLOOKUP($B318, CAD!$T$7:$U$2000, 2, FALSE))","v":""},{"$f":"IF($B318=\"\", \"\", VLOOKUP($B318, CAD!$V$7:$W$2000, 2, FALSE))","v":""}]
[null,{"$f":"IF(CAD!B316=\"\", \"\", CAD!B316)","v":""},{"$f":"IF($B319=\"\", \"\", CAD!C316)","v":""},{"$f":"IF($B319=\"\", \"\",VLOOKUP($B319, CAD!$D$7:$E$2000, 2, FALSE))","v":""},{"$f":"IF($B319=\"\", \"\",VLOOKUP($B319, CAD!$F$7:$G$2000, 2, FALSE))","v":""},{"$f":"IF($B319=\"\", \"\",VLOOKUP($B319, CAD!$H$7:$I$2000, 2, FALSE))","v":""},{"$f":"IF($B319=\"\", \"\",VLOOKUP($B319, CAD!$J$7:$K$2000, 2, FALSE))","v":""},{"$f":"IF($B319=\"\", \"\", VLOOKUP($B319, CAD!$L$7:$M$2000, 2, FALSE))","v":""},{"$f":"IF($B319=\"\", \"\", VLOOKUP($B319, CAD!$N$7:$O$2000, 2, FALSE))","v":""},{"$f":"IF($B319=\"\", \"\", VLOOKUP($B319, CAD!$P$7:$Q$2000, 2, FALSE))","v":""},{"$f":"IF($B319=\"\", \"\", VLOOKUP($B319, CAD!$R$7:$S$2000, 2, FALSE))","v":""},{"$f":"IF($B319=\"\", \"\", VLOOKUP($B319, CAD!$T$7:$U$2000, 2, FALSE))","v":""},{"$f":"IF($B319=\"\", \"\", VLOOKUP($B319, CAD!$V$7:$W$2000, 2, FALSE))","v":""}]
[null,{"$f":"IF(CAD!B317=\"\", \"\", CAD!B317)","v":""},{"$f":"IF($B320=\"\", \"\", CAD!C317)","v":""},{"$f":"IF($B320=\"\", \"\",VLOOKUP($B320, CAD!$D$7:$E$2000, 2, FALSE))","v":""},{"$f":"IF($B320=\"\", \"\",VLOOKUP($B320, CAD!$F$7:$G$2000, 2, FALSE))","v":""},{"$f":"IF($B320=\"\", \"\",VLOOKUP($B320, CAD!$H$7:$I$2000, 2, FALSE))","v":""},{"$f":"IF($B320=\"\", \"\",VLOOKUP($B320, CAD!$J$7:$K$2000, 2, FALSE))","v":""},{"$f":"IF($B320=\"\", \"\", VLOOKUP($B320, CAD!$L$7:$M$2000, 2, FALSE))","v":""},{"$f":"IF($B320=\"\", \"\", VLOOKUP($B320, CAD!$N$7:$O$2000, 2, FALSE))","v":""},{"$f":"IF($B320=\"\", \"\", VLOOKUP($B320, CAD!$P$7:$Q$2000, 2, FALSE))","v":""},{"$f":"IF($B320=\"\", \"\", VLOOKUP($B320, CAD!$R$7:$S$2000, 2, FALSE))","v":""},{"$f":"IF($B320=\"\", \"\", VLOOKUP($B320, CAD!$T$7:$U$2000, 2, FALSE))","v":""},{"$f":"IF($B320=\"\", \"\", VLOOKUP($B320, CAD!$V$7:$W$2000, 2, FALSE))","v":""}]
[null,{"$f":"IF(CAD!B318=\"\", \"\", CAD!B318)","v":""},{"$f":"IF($B321=\"\", \"\", CAD!C318)","v":""},{"$f":"IF($B321=\"\", \"\",VLOOKUP($B321, CAD!$D$7:$E$2000, 2, FALSE))","v":""},{"$f":"IF($B321=\"\", \"\",VLOOKUP($B321, CAD!$F$7:$G$2000, 2, FALSE))","v":""},{"$f":"IF($B321=\"\", \"\",VLOOKUP($B321, CAD!$H$7:$I$2000, 2, FALSE))","v":""},{"$f":"IF($B321=\"\", \"\",VLOOKUP($B321, CAD!$J$7:$K$2000, 2, FALSE))","v":""},{"$f":"IF($B321=\"\", \"\", VLOOKUP($B321, CAD!$L$7:$M$2000, 2, FALSE))","v":""},{"$f":"IF($B321=\"\", \"\", VLOOKUP($B321, CAD!$N$7:$O$2000, 2, FALSE))","v":""},{"$f":"IF($B321=\"\", \"\", VLOOKUP($B321, CAD!$P$7:$Q$2000, 2, FALSE))","v":""},{"$f":"IF($B321=\"\", \"\", VLOOKUP($B321, CAD!$R$7:$S$2000, 2, FALSE))","v":""},{"$f":"IF($B321=\"\", \"\", VLOOKUP($B321, CAD!$T$7:$U$2000, 2, FALSE))","v":""},{"$f":"IF($B321=\"\", \"\", VLOOKUP($B321, CAD!$V$7:$W$2000, 2, FALSE))","v":""}]
[null,{"$f":"IF(CAD!B319=\"\", \"\", CAD!B319)","v":""},{"$f":"IF($B322=\"\", \"\", CAD!C319)","v":""},{"$f":"IF($B322=\"\", \"\",VLOOKUP($B322, CAD!$D$7:$E$2000, 2, FALSE))","v":""},{"$f":"IF($B322=\"\", \"\",VLOOKUP($B322, CAD!$F$7:$G$2000, 2, FALSE))","v":""},{"$f":"IF($B322=\"\", \"\",VLOOKUP($B322, CAD!$H$7:$I$2000, 2, FALSE))","v":""},{"$f":"IF($B322=\"\", \"\",VLOOKUP($B322, CAD!$J$7:$K$2000, 2, FALSE))","v":""},{"$f":"IF($B322=\"\", \"\", VLOOKUP($B322, CAD!$L$7:$M$2000, 2, FALSE))","v":""},{"$f":"IF($B322=\"\", \"\", VLOOKUP($B322, CAD!$N$7:$O$2000, 2, FALSE))","v":""},{"$f":"IF($B322=\"\", \"\", VLOOKUP($B322, CAD!$P$7:$Q$2000, 2, FALSE))","v":""},{"$f":"IF($B322=\"\", \"\", VLOOKUP($B322, CAD!$R$7:$S$2000, 2, FALSE))","v":""},{"$f":"IF($B322=\"\", \"\", VLOOKUP($B322, CAD!$T$7:$U$2000, 2, FALSE))","v":""},{"$f":"IF($B322=\"\", \"\", VLOOKUP($B322, CAD!$V$7:$W$2000, 2, FALSE))","v":""}]
[null,{"$f":"IF(CAD!B320=\"\", \"\", CAD!B320)","v":""},{"$f":"IF($B323=\"\", \"\", CAD!C320)","v":""},{"$f":"IF($B323=\"\", \"\",VLOOKUP($B323, CAD!$D$7:$E$2000, 2, FALSE))","v":""},{"$f":"IF($B323=\"\", \"\",VLOOKUP($B323, CAD!$F$7:$G$2000, 2, FALSE))","v":""},{"$f":"IF($B323=\"\", \"\",VLOOKUP($B323, CAD!$H$7:$I$2000, 2, FALSE))","v":""},{"$f":"IF($B323=\"\", \"\",VLOOKUP($B323, CAD!$J$7:$K$2000, 2, FALSE))","v":""},{"$f":"IF($B323=\"\", \"\", VLOOKUP($B323, CAD!$L$7:$M$2000, 2, FALSE))","v":""},{"$f":"IF($B323=\"\", \"\", VLOOKUP($B323, CAD!$N$7:$O$2000, 2, FALSE))","v":""},{"$f":"IF($B323=\"\", \"\", VLOOKUP($B323, CAD!$P$7:$Q$2000, 2, FALSE))","v":""},{"$f":"IF($B323=\"\", \"\", VLOOKUP($B323, CAD!$R$7:$S$2000, 2, FALSE))","v":""},{"$f":"IF($B323=\"\", \"\", VLOOKUP($B323, CAD!$T$7:$U$2000, 2, FALSE))","v":""},{"$f":"IF($B323=\"\", \"\", VLOOKUP($B323, CAD!$V$7:$W$2000, 2, FALSE))","v":""}]
[null,{"$f":"IF(CAD!B321=\"\", \"\", CAD!B321)","v":""},{"$f":"IF($B324=\"\", \"\", CAD!C321)","v":""},{"$f":"IF($B324=\"\", \"\",VLOOKUP($B324, CAD!$D$7:$E$2000, 2, FALSE))","v":""},{"$f":"IF($B324=\"\", \"\",VLOOKUP($B324, CAD!$F$7:$G$2000, 2, FALSE))","v":""},{"$f":"IF($B324=\"\", \"\",VLOOKUP($B324, CAD!$H$7:$I$2000, 2, FALSE))","v":""},{"$f":"IF($B324=\"\", \"\",VLOOKUP($B324, CAD!$J$7:$K$2000, 2, FALSE))","v":""},{"$f":"IF($B324=\"\", \"\", VLOOKUP($B324, CAD!$L$7:$M$2000, 2, FALSE))","v":""},{"$f":"IF($B324=\"\", \"\", VLOOKUP($B324, CAD!$N$7:$O$2000, 2, FALSE))","v":""},{"$f":"IF($B324=\"\", \"\", VLOOKUP($B324, CAD!$P$7:$Q$2000, 2, FALSE))","v":""},{"$f":"IF($B324=\"\", \"\", VLOOKUP($B324, CAD!$R$7:$S$2000, 2, FALSE))","v":""},{"$f":"IF($B324=\"\", \"\", VLOOKUP($B324, CAD!$T$7:$U$2000, 2, FALSE))","v":""},{"$f":"IF($B324=\"\", \"\", VLOOKUP($B324, CAD!$V$7:$W$2000, 2, FALSE))","v":""}]
[null,{"$f":"IF(CAD!B322=\"\", \"\", CAD!B322)","v":""},{"$f":"IF($B325=\"\", \"\", CAD!C322)","v":""},{"$f":"IF($B325=\"\", \"\",VLOOKUP($B325, CAD!$D$7:$E$2000, 2, FALSE))","v":""},{"$f":"IF($B325=\"\", \"\",VLOOKUP($B325, CAD!$F$7:$G$2000, 2, FALSE))","v":""},{"$f":"IF($B325=\"\", \"\",VLOOKUP($B325, CAD!$H$7:$I$2000, 2, FALSE))","v":""},{"$f":"IF($B325=\"\", \"\",VLOOKUP($B325, CAD!$J$7:$K$2000, 2, FALSE))","v":""},{"$f":"IF($B325=\"\", \"\", VLOOKUP($B325, CAD!$L$7:$M$2000, 2, FALSE))","v":""},{"$f":"IF($B325=\"\", \"\", VLOOKUP($B325, CAD!$N$7:$O$2000, 2, FALSE))","v":""},{"$f":"IF($B325=\"\", \"\", VLOOKUP($B325, CAD!$P$7:$Q$2000, 2, FALSE))","v":""},{"$f":"IF($B325=\"\", \"\", VLOOKUP($B325, CAD!$R$7:$S$2000, 2, FALSE))","v":""},{"$f":"IF($B325=\"\", \"\", VLOOKUP($B325, CAD!$T$7:$U$2000, 2, FALSE))","v":""},{"$f":"IF($B325=\"\", \"\", VLOOKUP($B325, CAD!$V$7:$W$2000, 2, FALSE))","v":""}]
[null,{"$f":"IF(CAD!B323=\"\", \"\", CAD!B323)","v":""},{"$f":"IF($B326=\"\", \"\", CAD!C323)","v":""},{"$f":"IF($B326=\"\", \"\",VLOOKUP($B326, CAD!$D$7:$E$2000, 2, FALSE))","v":""},{"$f":"IF($B326=\"\", \"\",VLOOKUP($B326, CAD!$F$7:$G$2000, 2, FALSE))","v":""},{"$f":"IF($B326=\"\", \"\",VLOOKUP($B326, CAD!$H$7:$I$2000, 2, FALSE))","v":""},{"$f":"IF($B326=\"\", \"\",VLOOKUP($B326, CAD!$J$7:$K$2000, 2, FALSE))","v":""},{"$f":"IF($B326=\"\", \"\", VLOOKUP($B326, CAD!$L$7:$M$2000, 2, FALSE))","v":""},{"$f":"IF($B326=\"\", \"\", VLOOKUP($B326, CAD!$N$7:$O$2000, 2, FALSE))","v":""},{"$f":"IF($B326=\"\", \"\", VLOOKUP($B326, CAD!$P$7:$Q$2000, 2, FALSE))","v":""},{"$f":"IF($B326=\"\", \"\", VLOOKUP($B326, CAD!$R$7:$S$2000, 2, FALSE))","v":""},{"$f":"IF($B326=\"\", \"\", VLOOKUP($B326, CAD!$T$7:$U$2000, 2, FALSE))","v":""},{"$f":"IF($B326=\"\", \"\", VLOOKUP($B326, CAD!$V$7:$W$2000, 2, FALSE))","v":""}]
[null,{"$f":"IF(CAD!B324=\"\", \"\", CAD!B324)","v":""},{"$f":"IF($B327=\"\", \"\", CAD!C324)","v":""},{"$f":"IF($B327=\"\", \"\",VLOOKUP($B327, CAD!$D$7:$E$2000, 2, FALSE))","v":""},{"$f":"IF($B327=\"\", \"\",VLOOKUP($B327, CAD!$F$7:$G$2000, 2, FALSE))","v":""},{"$f":"IF($B327=\"\", \"\",VLOOKUP($B327, CAD!$H$7:$I$2000, 2, FALSE))","v":""},{"$f":"IF($B327=\"\", \"\",VLOOKUP($B327, CAD!$J$7:$K$2000, 2, FALSE))","v":""},{"$f":"IF($B327=\"\", \"\", VLOOKUP($B327, CAD!$L$7:$M$2000, 2, FALSE))","v":""},{"$f":"IF($B327=\"\", \"\", VLOOKUP($B327, CAD!$N$7:$O$2000, 2, FALSE))","v":""},{"$f":"IF($B327=\"\", \"\", VLOOKUP($B327, CAD!$P$7:$Q$2000, 2, FALSE))","v":""},{"$f":"IF($B327=\"\", \"\", VLOOKUP($B327, CAD!$R$7:$S$2000, 2, FALSE))","v":""},{"$f":"IF($B327=\"\", \"\", VLOOKUP($B327, CAD!$T$7:$U$2000, 2, FALSE))","v":""},{"$f":"IF($B327=\"\", \"\", VLOOKUP($B327, CAD!$V$7:$W$2000, 2, FALSE))","v":""}]
[null,{"$f":"IF(CAD!B325=\"\", \"\", CAD!B325)","v":""},{"$f":"IF($B328=\"\", \"\", CAD!C325)","v":""},{"$f":"IF($B328=\"\", \"\",VLOOKUP($B328, CAD!$D$7:$E$2000, 2, FALSE))","v":""},{"$f":"IF($B328=\"\", \"\",VLOOKUP($B328, CAD!$F$7:$G$2000, 2, FALSE))","v":""},{"$f":"IF($B328=\"\", \"\",VLOOKUP($B328, CAD!$H$7:$I$2000, 2, FALSE))","v":""},{"$f":"IF($B328=\"\", \"\",VLOOKUP($B328, CAD!$J$7:$K$2000, 2, FALSE))","v":""},{"$f":"IF($B328=\"\", \"\", VLOOKUP($B328, CAD!$L$7:$M$2000, 2, FALSE))","v":""},{"$f":"IF($B328=\"\", \"\", VLOOKUP($B328, CAD!$N$7:$O$2000, 2, FALSE))","v":""},{"$f":"IF($B328=\"\", \"\", VLOOKUP($B328, CAD!$P$7:$Q$2000, 2, FALSE))","v":""},{"$f":"IF($B328=\"\", \"\", VLOOKUP($B328, CAD!$R$7:$S$2000, 2, FALSE))","v":""},{"$f":"IF($B328=\"\", \"\", VLOOKUP($B328, CAD!$T$7:$U$2000, 2, FALSE))","v":""},{"$f":"IF($B328=\"\", \"\", VLOOKUP($B328, CAD!$V$7:$W$2000, 2, FALSE))","v":""}]
[null,{"$f":"IF(CAD!B326=\"\", \"\", CAD!B326)","v":""},{"$f":"IF($B329=\"\", \"\", CAD!C326)","v":""},{"$f":"IF($B329=\"\", \"\",VLOOKUP($B329, CAD!$D$7:$E$2000, 2, FALSE))","v":""},{"$f":"IF($B329=\"\", \"\",VLOOKUP($B329, CAD!$F$7:$G$2000, 2, FALSE))","v":""},{"$f":"IF($B329=\"\", \"\",VLOOKUP($B329, CAD!$H$7:$I$2000, 2, FALSE))","v":""},{"$f":"IF($B329=\"\", \"\",VLOOKUP($B329, CAD!$J$7:$K$2000, 2, FALSE))","v":""},{"$f":"IF($B329=\"\", \"\", VLOOKUP($B329, CAD!$L$7:$M$2000, 2, FALSE))","v":""},{"$f":"IF($B329=\"\", \"\", VLOOKUP($B329, CAD!$N$7:$O$2000, 2, FALSE))","v":""},{"$f":"IF($B329=\"\", \"\", VLOOKUP($B329, CAD!$P$7:$Q$2000, 2, FALSE))","v":""},{"$f":"IF($B329=\"\", \"\", VLOOKUP($B329, CAD!$R$7:$S$2000, 2, FALSE))","v":""},{"$f":"IF($B329=\"\", \"\", VLOOKUP($B329, CAD!$T$7:$U$2000, 2, FALSE))","v":""},{"$f":"IF($B329=\"\", \"\", VLOOKUP($B329, CAD!$V$7:$W$2000, 2, FALSE))","v":""}]
[null,{"$f":"IF(CAD!B327=\"\", \"\", CAD!B327)","v":""},{"$f":"IF($B330=\"\", \"\", CAD!C327)","v":""},{"$f":"IF($B330=\"\", \"\",VLOOKUP($B330, CAD!$D$7:$E$2000, 2, FALSE))","v":""},{"$f":"IF($B330=\"\", \"\",VLOOKUP($B330, CAD!$F$7:$G$2000, 2, FALSE))","v":""},{"$f":"IF($B330=\"\", \"\",VLOOKUP($B330, CAD!$H$7:$I$2000, 2, FALSE))","v":""},{"$f":"IF($B330=\"\", \"\",VLOOKUP($B330, CAD!$J$7:$K$2000, 2, FALSE))","v":""},{"$f":"IF($B330=\"\", \"\", VLOOKUP($B330, CAD!$L$7:$M$2000, 2, FALSE))","v":""},{"$f":"IF($B330=\"\", \"\", VLOOKUP($B330, CAD!$N$7:$O$2000, 2, FALSE))","v":""},{"$f":"IF($B330=\"\", \"\", VLOOKUP($B330, CAD!$P$7:$Q$2000, 2, FALSE))","v":""},{"$f":"IF($B330=\"\", \"\", VLOOKUP($B330, CAD!$R$7:$S$2000, 2, FALSE))","v":""},{"$f":"IF($B330=\"\", \"\", VLOOKUP($B330, CAD!$T$7:$U$2000, 2, FALSE))","v":""},{"$f":"IF($B330=\"\", \"\", VLOOKUP($B330, CAD!$V$7:$W$2000, 2, FALSE))","v":""}]
[null,{"$f":"IF(CAD!B328=\"\", \"\", CAD!B328)","v":""},{"$f":"IF($B331=\"\", \"\", CAD!C328)","v":""},{"$f":"IF($B331=\"\", \"\",VLOOKUP($B331, CAD!$D$7:$E$2000, 2, FALSE))","v":""},{"$f":"IF($B331=\"\", \"\",VLOOKUP($B331, CAD!$F$7:$G$2000, 2, FALSE))","v":""},{"$f":"IF($B331=\"\", \"\",VLOOKUP($B331, CAD!$H$7:$I$2000, 2, FALSE))","v":""},{"$f":"IF($B331=\"\", \"\",VLOOKUP($B331, CAD!$J$7:$K$2000, 2, FALSE))","v":""},{"$f":"IF($B331=\"\", \"\", VLOOKUP($B331, CAD!$L$7:$M$2000, 2, FALSE))","v":""},{"$f":"IF($B331=\"\", \"\", VLOOKUP($B331, CAD!$N$7:$O$2000, 2, FALSE))","v":""},{"$f":"IF($B331=\"\", \"\", VLOOKUP($B331, CAD!$P$7:$Q$2000, 2, FALSE))","v":""},{"$f":"IF($B331=\"\", \"\", VLOOKUP($B331, CAD!$R$7:$S$2000, 2, FALSE))","v":""},{"$f":"IF($B331=\"\", \"\", VLOOKUP($B331, CAD!$T$7:$U$2000, 2, FALSE))","v":""},{"$f":"IF($B331=\"\", \"\", VLOOKUP($B331, CAD!$V$7:$W$2000, 2, FALSE))","v":""}]
[null,{"$f":"IF(CAD!B329=\"\", \"\", CAD!B329)","v":""},{"$f":"IF($B332=\"\", \"\", CAD!C329)","v":""},{"$f":"IF($B332=\"\", \"\",VLOOKUP($B332, CAD!$D$7:$E$2000, 2, FALSE))","v":""},{"$f":"IF($B332=\"\", \"\",VLOOKUP($B332, CAD!$F$7:$G$2000, 2, FALSE))","v":""},{"$f":"IF($B332=\"\", \"\",VLOOKUP($B332, CAD!$H$7:$I$2000, 2, FALSE))","v":""},{"$f":"IF($B332=\"\", \"\",VLOOKUP($B332, CAD!$J$7:$K$2000, 2, FALSE))","v":""},{"$f":"IF($B332=\"\", \"\", VLOOKUP($B332, CAD!$L$7:$M$2000, 2, FALSE))","v":""},{"$f":"IF($B332=\"\", \"\", VLOOKUP($B332, CAD!$N$7:$O$2000, 2, FALSE))","v":""},{"$f":"IF($B332=\"\", \"\", VLOOKUP($B332, CAD!$P$7:$Q$2000, 2, FALSE))","v":""},{"$f":"IF($B332=\"\", \"\", VLOOKUP($B332, CAD!$R$7:$S$2000, 2, FALSE))","v":""},{"$f":"IF($B332=\"\", \"\", VLOOKUP($B332, CAD!$T$7:$U$2000, 2, FALSE))","v":""},{"$f":"IF($B332=\"\", \"\", VLOOKUP($B332, CAD!$V$7:$W$2000, 2, FALSE))","v":""}]
[null,{"$f":"IF(CAD!B330=\"\", \"\", CAD!B330)","v":""},{"$f":"IF($B333=\"\", \"\", CAD!C330)","v":""},{"$f":"IF($B333=\"\", \"\",VLOOKUP($B333, CAD!$D$7:$E$2000, 2, FALSE))","v":""},{"$f":"IF($B333=\"\", \"\",VLOOKUP($B333, CAD!$F$7:$G$2000, 2, FALSE))","v":""},{"$f":"IF($B333=\"\", \"\",VLOOKUP($B333, CAD!$H$7:$I$2000, 2, FALSE))","v":""},{"$f":"IF($B333=\"\", \"\",VLOOKUP($B333, CAD!$J$7:$K$2000, 2, FALSE))","v":""},{"$f":"IF($B333=\"\", \"\", VLOOKUP($B333, CAD!$L$7:$M$2000, 2, FALSE))","v":""},{"$f":"IF($B333=\"\", \"\", VLOOKUP($B333, CAD!$N$7:$O$2000, 2, FALSE))","v":""},{"$f":"IF($B333=\"\", \"\", VLOOKUP($B333, CAD!$P$7:$Q$2000, 2, FALSE))","v":""},{"$f":"IF($B333=\"\", \"\", VLOOKUP($B333, CAD!$R$7:$S$2000, 2, FALSE))","v":""},{"$f":"IF($B333=\"\", \"\", VLOOKUP($B333, CAD!$T$7:$U$2000, 2, FALSE))","v":""},{"$f":"IF($B333=\"\", \"\", VLOOKUP($B333, CAD!$V$7:$W$2000, 2, FALSE))","v":""}]
[null,{"$f":"IF(CAD!B331=\"\", \"\", CAD!B331)","v":""},{"$f":"IF($B334=\"\", \"\", CAD!C331)","v":""},{"$f":"IF($B334=\"\", \"\",VLOOKUP($B334, CAD!$D$7:$E$2000, 2, FALSE))","v":""},{"$f":"IF($B334=\"\", \"\",VLOOKUP($B334, CAD!$F$7:$G$2000, 2, FALSE))","v":""},{"$f":"IF($B334=\"\", \"\",VLOOKUP($B334, CAD!$H$7:$I$2000, 2, FALSE))","v":""},{"$f":"IF($B334=\"\", \"\",VLOOKUP($B334, CAD!$J$7:$K$2000, 2, FALSE))","v":""},{"$f":"IF($B334=\"\", \"\", VLOOKUP($B334, CAD!$L$7:$M$2000, 2, FALSE))","v":""},{"$f":"IF($B334=\"\", \"\", VLOOKUP($B334, CAD!$N$7:$O$2000, 2, FALSE))","v":""},{"$f":"IF($B334=\"\", \"\", VLOOKUP($B334, CAD!$P$7:$Q$2000, 2, FALSE))","v":""},{"$f":"IF($B334=\"\", \"\", VLOOKUP($B334, CAD!$R$7:$S$2000, 2, FALSE))","v":""},{"$f":"IF($B334=\"\", \"\", VLOOKUP($B334, CAD!$T$7:$U$2000, 2, FALSE))","v":""},{"$f":"IF($B334=\"\", \"\", VLOOKUP($B334, CAD!$V$7:$W$2000, 2, FALSE))","v":""}]
[null,{"$f":"IF(CAD!B332=\"\", \"\", CAD!B332)","v":""},{"$f":"IF($B335=\"\", \"\", CAD!C332)","v":""},{"$f":"IF($B335=\"\", \"\",VLOOKUP($B335, CAD!$D$7:$E$2000, 2, FALSE))","v":""},{"$f":"IF($B335=\"\", \"\",VLOOKUP($B335, CAD!$F$7:$G$2000, 2, FALSE))","v":""},{"$f":"IF($B335=\"\", \"\",VLOOKUP($B335, CAD!$H$7:$I$2000, 2, FALSE))","v":""},{"$f":"IF($B335=\"\", \"\",VLOOKUP($B335, CAD!$J$7:$K$2000, 2, FALSE))","v":""},{"$f":"IF($B335=\"\", \"\", VLOOKUP($B335, CAD!$L$7:$M$2000, 2, FALSE))","v":""},{"$f":"IF($B335=\"\", \"\", VLOOKUP($B335, CAD!$N$7:$O$2000, 2, FALSE))","v":""},{"$f":"IF($B335=\"\", \"\", VLOOKUP($B335, CAD!$P$7:$Q$2000, 2, FALSE))","v":""},{"$f":"IF($B335=\"\", \"\", VLOOKUP($B335, CAD!$R$7:$S$2000, 2, FALSE))","v":""},{"$f":"IF($B335=\"\", \"\", VLOOKUP($B335, CAD!$T$7:$U$2000, 2, FALSE))","v":""},{"$f":"IF($B335=\"\", \"\", VLOOKUP($B335, CAD!$V$7:$W$2000, 2, FALSE))","v":""}]
[null,{"$f":"IF(CAD!B333=\"\", \"\", CAD!B333)","v":""},{"$f":"IF($B336=\"\", \"\", CAD!C333)","v":""},{"$f":"IF($B336=\"\", \"\",VLOOKUP($B336, CAD!$D$7:$E$2000, 2, FALSE))","v":""},{"$f":"IF($B336=\"\", \"\",VLOOKUP($B336, CAD!$F$7:$G$2000, 2, FALSE))","v":""},{"$f":"IF($B336=\"\", \"\",VLOOKUP($B336, CAD!$H$7:$I$2000, 2, FALSE))","v":""},{"$f":"IF($B336=\"\", \"\",VLOOKUP($B336, CAD!$J$7:$K$2000, 2, FALSE))","v":""},{"$f":"IF($B336=\"\", \"\", VLOOKUP($B336, CAD!$L$7:$M$2000, 2, FALSE))","v":""},{"$f":"IF($B336=\"\", \"\", VLOOKUP($B336, CAD!$N$7:$O$2000, 2, FALSE))","v":""},{"$f":"IF($B336=\"\", \"\", VLOOKUP($B336, CAD!$P$7:$Q$2000, 2, FALSE))","v":""},{"$f":"IF($B336=\"\", \"\", VLOOKUP($B336, CAD!$R$7:$S$2000, 2, FALSE))","v":""},{"$f":"IF($B336=\"\", \"\", VLOOKUP($B336, CAD!$T$7:$U$2000, 2, FALSE))","v":""},{"$f":"IF($B336=\"\", \"\", VLOOKUP($B336, CAD!$V$7:$W$2000, 2, FALSE))","v":""}]
[null,{"$f":"IF(CAD!B334=\"\", \"\", CAD!B334)","v":""},{"$f":"IF($B337=\"\", \"\", CAD!C334)","v":""},{"$f":"IF($B337=\"\", \"\",VLOOKUP($B337, CAD!$D$7:$E$2000, 2, FALSE))","v":""},{"$f":"IF($B337=\"\", \"\",VLOOKUP($B337, CAD!$F$7:$G$2000, 2, FALSE))","v":""},{"$f":"IF($B337=\"\", \"\",VLOOKUP($B337, CAD!$H$7:$I$2000, 2, FALSE))","v":""},{"$f":"IF($B337=\"\", \"\",VLOOKUP($B337, CAD!$J$7:$K$2000, 2, FALSE))","v":""},{"$f":"IF($B337=\"\", \"\", VLOOKUP($B337, CAD!$L$7:$M$2000, 2, FALSE))","v":""},{"$f":"IF($B337=\"\", \"\", VLOOKUP($B337, CAD!$N$7:$O$2000, 2, FALSE))","v":""},{"$f":"IF($B337=\"\", \"\", VLOOKUP($B337, CAD!$P$7:$Q$2000, 2, FALSE))","v":""},{"$f":"IF($B337=\"\", \"\", VLOOKUP($B337, CAD!$R$7:$S$2000, 2, FALSE))","v":""},{"$f":"IF($B337=\"\", \"\", VLOOKUP($B337, CAD!$T$7:$U$2000, 2, FALSE))","v":""},{"$f":"IF($B337=\"\", \"\", VLOOKUP($B337, CAD!$V$7:$W$2000, 2, FALSE))","v":""}]
[null,{"$f":"IF(CAD!B335=\"\", \"\", CAD!B335)","v":""},{"$f":"IF($B338=\"\", \"\", CAD!C335)","v":""},{"$f":"IF($B338=\"\", \"\",VLOOKUP($B338, CAD!$D$7:$E$2000, 2, FALSE))","v":""},{"$f":"IF($B338=\"\", \"\",VLOOKUP($B338, CAD!$F$7:$G$2000, 2, FALSE))","v":""},{"$f":"IF($B338=\"\", \"\",VLOOKUP($B338, CAD!$H$7:$I$2000, 2, FALSE))","v":""},{"$f":"IF($B338=\"\", \"\",VLOOKUP($B338, CAD!$J$7:$K$2000, 2, FALSE))","v":""},{"$f":"IF($B338=\"\", \"\", VLOOKUP($B338, CAD!$L$7:$M$2000, 2, FALSE))","v":""},{"$f":"IF($B338=\"\", \"\", VLOOKUP($B338, CAD!$N$7:$O$2000, 2, FALSE))","v":""},{"$f":"IF($B338=\"\", \"\", VLOOKUP($B338, CAD!$P$7:$Q$2000, 2, FALSE))","v":""},{"$f":"IF($B338=\"\", \"\", VLOOKUP($B338, CAD!$R$7:$S$2000, 2, FALSE))","v":""},{"$f":"IF($B338=\"\", \"\", VLOOKUP($B338, CAD!$T$7:$U$2000, 2, FALSE))","v":""},{"$f":"IF($B338=\"\", \"\", VLOOKUP($B338, CAD!$V$7:$W$2000, 2, FALSE))","v":""}]
[null,{"$f":"IF(CAD!B336=\"\", \"\", CAD!B336)","v":""},{"$f":"IF($B339=\"\", \"\", CAD!C336)","v":""},{"$f":"IF($B339=\"\", \"\",VLOOKUP($B339, CAD!$D$7:$E$2000, 2, FALSE))","v":""},{"$f":"IF($B339=\"\", \"\",VLOOKUP($B339, CAD!$F$7:$G$2000, 2, FALSE))","v":""},{"$f":"IF($B339=\"\", \"\",VLOOKUP($B339, CAD!$H$7:$I$2000, 2, FALSE))","v":""},{"$f":"IF($B339=\"\", \"\",VLOOKUP($B339, CAD!$J$7:$K$2000, 2, FALSE))","v":""},{"$f":"IF($B339=\"\", \"\", VLOOKUP($B339, CAD!$L$7:$M$2000, 2, FALSE))","v":""},{"$f":"IF($B339=\"\", \"\", VLOOKUP($B339, CAD!$N$7:$O$2000, 2, FALSE))","v":""},{"$f":"IF($B339=\"\", \"\", VLOOKUP($B339, CAD!$P$7:$Q$2000, 2, FALSE))","v":""},{"$f":"IF($B339=\"\", \"\", VLOOKUP($B339, CAD!$R$7:$S$2000, 2, FALSE))","v":""},{"$f":"IF($B339=\"\", \"\", VLOOKUP($B339, CAD!$T$7:$U$2000, 2, FALSE))","v":""},{"$f":"IF($B339=\"\", \"\", VLOOKUP($B339, CAD!$V$7:$W$2000, 2, FALSE))","v":""}]
[null,{"$f":"IF(CAD!B337=\"\", \"\", CAD!B337)","v":""},{"$f":"IF($B340=\"\", \"\", CAD!C337)","v":""},{"$f":"IF($B340=\"\", \"\",VLOOKUP($B340, CAD!$D$7:$E$2000, 2, FALSE))","v":""},{"$f":"IF($B340=\"\", \"\",VLOOKUP($B340, CAD!$F$7:$G$2000, 2, FALSE))","v":""},{"$f":"IF($B340=\"\", \"\",VLOOKUP($B340, CAD!$H$7:$I$2000, 2, FALSE))","v":""},{"$f":"IF($B340=\"\", \"\",VLOOKUP($B340, CAD!$J$7:$K$2000, 2, FALSE))","v":""},{"$f":"IF($B340=\"\", \"\", VLOOKUP($B340, CAD!$L$7:$M$2000, 2, FALSE))","v":""},{"$f":"IF($B340=\"\", \"\", VLOOKUP($B340, CAD!$N$7:$O$2000, 2, FALSE))","v":""},{"$f":"IF($B340=\"\", \"\", VLOOKUP($B340, CAD!$P$7:$Q$2000, 2, FALSE))","v":""},{"$f":"IF($B340=\"\", \"\", VLOOKUP($B340, CAD!$R$7:$S$2000, 2, FALSE))","v":""},{"$f":"IF($B340=\"\", \"\", VLOOKUP($B340, CAD!$T$7:$U$2000, 2, FALSE))","v":""},{"$f":"IF($B340=\"\", \"\", VLOOKUP($B340, CAD!$V$7:$W$2000, 2, FALSE))","v":""}]
[null,{"$f":"IF(CAD!B338=\"\", \"\", CAD!B338)","v":""},{"$f":"IF($B341=\"\", \"\", CAD!C338)","v":""},{"$f":"IF($B341=\"\", \"\",VLOOKUP($B341, CAD!$D$7:$E$2000, 2, FALSE))","v":""},{"$f":"IF($B341=\"\", \"\",VLOOKUP($B341, CAD!$F$7:$G$2000, 2, FALSE))","v":""},{"$f":"IF($B341=\"\", \"\",VLOOKUP($B341, CAD!$H$7:$I$2000, 2, FALSE))","v":""},{"$f":"IF($B341=\"\", \"\",VLOOKUP($B341, CAD!$J$7:$K$2000, 2, FALSE))","v":""},{"$f":"IF($B341=\"\", \"\", VLOOKUP($B341, CAD!$L$7:$M$2000, 2, FALSE))","v":""},{"$f":"IF($B341=\"\", \"\", VLOOKUP($B341, CAD!$N$7:$O$2000, 2, FALSE))","v":""},{"$f":"IF($B341=\"\", \"\", VLOOKUP($B341, CAD!$P$7:$Q$2000, 2, FALSE))","v":""},{"$f":"IF($B341=\"\", \"\", VLOOKUP($B341, CAD!$R$7:$S$2000, 2, FALSE))","v":""},{"$f":"IF($B341=\"\", \"\", VLOOKUP($B341, CAD!$T$7:$U$2000, 2, FALSE))","v":""},{"$f":"IF($B341=\"\", \"\", VLOOKUP($B341, CAD!$V$7:$W$2000, 2, FALSE))","v":""}]
[null,{"$f":"IF(CAD!B339=\"\", \"\", CAD!B339)","v":""},{"$f":"IF($B342=\"\", \"\", CAD!C339)","v":""},{"$f":"IF($B342=\"\", \"\",VLOOKUP($B342, CAD!$D$7:$E$2000, 2, FALSE))","v":""},{"$f":"IF($B342=\"\", \"\",VLOOKUP($B342, CAD!$F$7:$G$2000, 2, FALSE))","v":""},{"$f":"IF($B342=\"\", \"\",VLOOKUP($B342, CAD!$H$7:$I$2000, 2, FALSE))","v":""},{"$f":"IF($B342=\"\", \"\",VLOOKUP($B342, CAD!$J$7:$K$2000, 2, FALSE))","v":""},{"$f":"IF($B342=\"\", \"\", VLOOKUP($B342, CAD!$L$7:$M$2000, 2, FALSE))","v":""},{"$f":"IF($B342=\"\", \"\", VLOOKUP($B342, CAD!$N$7:$O$2000, 2, FALSE))","v":""},{"$f":"IF($B342=\"\", \"\", VLOOKUP($B342, CAD!$P$7:$Q$2000, 2, FALSE))","v":""},{"$f":"IF($B342=\"\", \"\", VLOOKUP($B342, CAD!$R$7:$S$2000, 2, FALSE))","v":""},{"$f":"IF($B342=\"\", \"\", VLOOKUP($B342, CAD!$T$7:$U$2000, 2, FALSE))","v":""},{"$f":"IF($B342=\"\", \"\", VLOOKUP($B342, CAD!$V$7:$W$2000, 2, FALSE))","v":""}]
[null,{"$f":"IF(CAD!B340=\"\", \"\", CAD!B340)","v":""},{"$f":"IF($B343=\"\", \"\", CAD!C340)","v":""},{"$f":"IF($B343=\"\", \"\",VLOOKUP($B343, CAD!$D$7:$E$2000, 2, FALSE))","v":""},{"$f":"IF($B343=\"\", \"\",VLOOKUP($B343, CAD!$F$7:$G$2000, 2, FALSE))","v":""},{"$f":"IF($B343=\"\", \"\",VLOOKUP($B343, CAD!$H$7:$I$2000, 2, FALSE))","v":""},{"$f":"IF($B343=\"\", \"\",VLOOKUP($B343, CAD!$J$7:$K$2000, 2, FALSE))","v":""},{"$f":"IF($B343=\"\", \"\", VLOOKUP($B343, CAD!$L$7:$M$2000, 2, FALSE))","v":""},{"$f":"IF($B343=\"\", \"\", VLOOKUP($B343, CAD!$N$7:$O$2000, 2, FALSE))","v":""},{"$f":"IF($B343=\"\", \"\", VLOOKUP($B343, CAD!$P$7:$Q$2000, 2, FALSE))","v":""},{"$f":"IF($B343=\"\", \"\", VLOOKUP($B343, CAD!$R$7:$S$2000, 2, FALSE))","v":""},{"$f":"IF($B343=\"\", \"\", VLOOKUP($B343, CAD!$T$7:$U$2000, 2, FALSE))","v":""},{"$f":"IF($B343=\"\", \"\", VLOOKUP($B343, CAD!$V$7:$W$2000, 2, FALSE))","v":""}]
[null,{"$f":"IF(CAD!B341=\"\", \"\", CAD!B341)","v":""},{"$f":"IF($B344=\"\", \"\", CAD!C341)","v":""},{"$f":"IF($B344=\"\", \"\",VLOOKUP($B344, CAD!$D$7:$E$2000, 2, FALSE))","v":""},{"$f":"IF($B344=\"\", \"\",VLOOKUP($B344, CAD!$F$7:$G$2000, 2, FALSE))","v":""},{"$f":"IF($B344=\"\", \"\",VLOOKUP($B344, CAD!$H$7:$I$2000, 2, FALSE))","v":""},{"$f":"IF($B344=\"\", \"\",VLOOKUP($B344, CAD!$J$7:$K$2000, 2, FALSE))","v":""},{"$f":"IF($B344=\"\", \"\", VLOOKUP($B344, CAD!$L$7:$M$2000, 2, FALSE))","v":""},{"$f":"IF($B344=\"\", \"\", VLOOKUP($B344, CAD!$N$7:$O$2000, 2, FALSE))","v":""},{"$f":"IF($B344=\"\", \"\", VLOOKUP($B344, CAD!$P$7:$Q$2000, 2, FALSE))","v":""},{"$f":"IF($B344=\"\", \"\", VLOOKUP($B344, CAD!$R$7:$S$2000, 2, FALSE))","v":""},{"$f":"IF($B344=\"\", \"\", VLOOKUP($B344, CAD!$T$7:$U$2000, 2, FALSE))","v":""},{"$f":"IF($B344=\"\", \"\", VLOOKUP($B344, CAD!$V$7:$W$2000, 2, FALSE))","v":""}]
[null,{"$f":"IF(CAD!B342=\"\", \"\", CAD!B342)","v":""},{"$f":"IF($B345=\"\", \"\", CAD!C342)","v":""},{"$f":"IF($B345=\"\", \"\",VLOOKUP($B345, CAD!$D$7:$E$2000, 2, FALSE))","v":""},{"$f":"IF($B345=\"\", \"\",VLOOKUP($B345, CAD!$F$7:$G$2000, 2, FALSE))","v":""},{"$f":"IF($B345=\"\", \"\",VLOOKUP($B345, CAD!$H$7:$I$2000, 2, FALSE))","v":""},{"$f":"IF($B345=\"\", \"\",VLOOKUP($B345, CAD!$J$7:$K$2000, 2, FALSE))","v":""},{"$f":"IF($B345=\"\", \"\", VLOOKUP($B345, CAD!$L$7:$M$2000, 2, FALSE))","v":""},{"$f":"IF($B345=\"\", \"\", VLOOKUP($B345, CAD!$N$7:$O$2000, 2, FALSE))","v":""},{"$f":"IF($B345=\"\", \"\", VLOOKUP($B345, CAD!$P$7:$Q$2000, 2, FALSE))","v":""},{"$f":"IF($B345=\"\", \"\", VLOOKUP($B345, CAD!$R$7:$S$2000, 2, FALSE))","v":""},{"$f":"IF($B345=\"\", \"\", VLOOKUP($B345, CAD!$T$7:$U$2000, 2, FALSE))","v":""},{"$f":"IF($B345=\"\", \"\", VLOOKUP($B345, CAD!$V$7:$W$2000, 2, FALSE))","v":""}]
[null,{"$f":"IF(CAD!B343=\"\", \"\", CAD!B343)","v":""},{"$f":"IF($B346=\"\", \"\", CAD!C343)","v":""},{"$f":"IF($B346=\"\", \"\",VLOOKUP($B346, CAD!$D$7:$E$2000, 2, FALSE))","v":""},{"$f":"IF($B346=\"\", \"\",VLOOKUP($B346, CAD!$F$7:$G$2000, 2, FALSE))","v":""},{"$f":"IF($B346=\"\", \"\",VLOOKUP($B346, CAD!$H$7:$I$2000, 2, FALSE))","v":""},{"$f":"IF($B346=\"\", \"\",VLOOKUP($B346, CAD!$J$7:$K$2000, 2, FALSE))","v":""},{"$f":"IF($B346=\"\", \"\", VLOOKUP($B346, CAD!$L$7:$M$2000, 2, FALSE))","v":""},{"$f":"IF($B346=\"\", \"\", VLOOKUP($B346, CAD!$N$7:$O$2000, 2, FALSE))","v":""},{"$f":"IF($B346=\"\", \"\", VLOOKUP($B346, CAD!$P$7:$Q$2000, 2, FALSE))","v":""},{"$f":"IF($B346=\"\", \"\", VLOOKUP($B346, CAD!$R$7:$S$2000, 2, FALSE))","v":""},{"$f":"IF($B346=\"\", \"\", VLOOKUP($B346, CAD!$T$7:$U$2000, 2, FALSE))","v":""},{"$f":"IF($B346=\"\", \"\", VLOOKUP($B346, CAD!$V$7:$W$2000, 2, FALSE))","v":""}]
[null,{"$f":"IF(CAD!B344=\"\", \"\", CAD!B344)","v":""},{"$f":"IF($B347=\"\", \"\", CAD!C344)","v":""},{"$f":"IF($B347=\"\", \"\",VLOOKUP($B347, CAD!$D$7:$E$2000, 2, FALSE))","v":""},{"$f":"IF($B347=\"\", \"\",VLOOKUP($B347, CAD!$F$7:$G$2000, 2, FALSE))","v":""},{"$f":"IF($B347=\"\", \"\",VLOOKUP($B347, CAD!$H$7:$I$2000, 2, FALSE))","v":""},{"$f":"IF($B347=\"\", \"\",VLOOKUP($B347, CAD!$J$7:$K$2000, 2, FALSE))","v":""},{"$f":"IF($B347=\"\", \"\", VLOOKUP($B347, CAD!$L$7:$M$2000, 2, FALSE))","v":""},{"$f":"IF($B347=\"\", \"\", VLOOKUP($B347, CAD!$N$7:$O$2000, 2, FALSE))","v":""},{"$f":"IF($B347=\"\", \"\", VLOOKUP($B347, CAD!$P$7:$Q$2000, 2, FALSE))","v":""},{"$f":"IF($B347=\"\", \"\", VLOOKUP($B347, CAD!$R$7:$S$2000, 2, FALSE))","v":""},{"$f":"IF($B347=\"\", \"\", VLOOKUP($B347, CAD!$T$7:$U$2000, 2, FALSE))","v":""},{"$f":"IF($B347=\"\", \"\", VLOOKUP($B347, CAD!$V$7:$W$2000, 2, FALSE))","v":""}]
[null,{"$f":"IF(CAD!B345=\"\", \"\", CAD!B345)","v":""},{"$f":"IF($B348=\"\", \"\", CAD!C345)","v":""},{"$f":"IF($B348=\"\", \"\",VLOOKUP($B348, CAD!$D$7:$E$2000, 2, FALSE))","v":""},{"$f":"IF($B348=\"\", \"\",VLOOKUP($B348, CAD!$F$7:$G$2000, 2, FALSE))","v":""},{"$f":"IF($B348=\"\", \"\",VLOOKUP($B348, CAD!$H$7:$I$2000, 2, FALSE))","v":""},{"$f":"IF($B348=\"\", \"\",VLOOKUP($B348, CAD!$J$7:$K$2000, 2, FALSE))","v":""},{"$f":"IF($B348=\"\", \"\", VLOOKUP($B348, CAD!$L$7:$M$2000, 2, FALSE))","v":""},{"$f":"IF($B348=\"\", \"\", VLOOKUP($B348, CAD!$N$7:$O$2000, 2, FALSE))","v":""},{"$f":"IF($B348=\"\", \"\", VLOOKUP($B348, CAD!$P$7:$Q$2000, 2, FALSE))","v":""},{"$f":"IF($B348=\"\", \"\", VLOOKUP($B348, CAD!$R$7:$S$2000, 2, FALSE))","v":""},{"$f":"IF($B348=\"\", \"\", VLOOKUP($B348, CAD!$T$7:$U$2000, 2, FALSE))","v":""},{"$f":"IF($B348=\"\", \"\", VLOOKUP($B348, CAD!$V$7:$W$2000, 2, FALSE))","v":""}]
[null,{"$f":"IF(CAD!B346=\"\", \"\", CAD!B346)","v":""},{"$f":"IF($B349=\"\", \"\", CAD!C346)","v":""},{"$f":"IF($B349=\"\", \"\",VLOOKUP($B349, CAD!$D$7:$E$2000, 2, FALSE))","v":""},{"$f":"IF($B349=\"\", \"\",VLOOKUP($B349, CAD!$F$7:$G$2000, 2, FALSE))","v":""},{"$f":"IF($B349=\"\", \"\",VLOOKUP($B349, CAD!$H$7:$I$2000, 2, FALSE))","v":""},{"$f":"IF($B349=\"\", \"\",VLOOKUP($B349, CAD!$J$7:$K$2000, 2, FALSE))","v":""},{"$f":"IF($B349=\"\", \"\", VLOOKUP($B349, CAD!$L$7:$M$2000, 2, FALSE))","v":""},{"$f":"IF($B349=\"\", \"\", VLOOKUP($B349, CAD!$N$7:$O$2000, 2, FALSE))","v":""},{"$f":"IF($B349=\"\", \"\", VLOOKUP($B349, CAD!$P$7:$Q$2000, 2, FALSE))","v":""},{"$f":"IF($B349=\"\", \"\", VLOOKUP($B349, CAD!$R$7:$S$2000, 2, FALSE))","v":""},{"$f":"IF($B349=\"\", \"\", VLOOKUP($B349, CAD!$T$7:$U$2000, 2, FALSE))","v":""},{"$f":"IF($B349=\"\", \"\", VLOOKUP($B349, CAD!$V$7:$W$2000, 2, FALSE))","v":""}]
[null,{"$f":"IF(CAD!B347=\"\", \"\", CAD!B347)","v":""},{"$f":"IF($B350=\"\", \"\", CAD!C347)","v":""},{"$f":"IF($B350=\"\", \"\",VLOOKUP($B350, CAD!$D$7:$E$2000, 2, FALSE))","v":""},{"$f":"IF($B350=\"\", \"\",VLOOKUP($B350, CAD!$F$7:$G$2000, 2, FALSE))","v":""},{"$f":"IF($B350=\"\", \"\",VLOOKUP($B350, CAD!$H$7:$I$2000, 2, FALSE))","v":""},{"$f":"IF($B350=\"\", \"\",VLOOKUP($B350, CAD!$J$7:$K$2000, 2, FALSE))","v":""},{"$f":"IF($B350=\"\", \"\", VLOOKUP($B350, CAD!$L$7:$M$2000, 2, FALSE))","v":""},{"$f":"IF($B350=\"\", \"\", VLOOKUP($B350, CAD!$N$7:$O$2000, 2, FALSE))","v":""},{"$f":"IF($B350=\"\", \"\", VLOOKUP($B350, CAD!$P$7:$Q$2000, 2, FALSE))","v":""},{"$f":"IF($B350=\"\", \"\", VLOOKUP($B350, CAD!$R$7:$S$2000, 2, FALSE))","v":""},{"$f":"IF($B350=\"\", \"\", VLOOKUP($B350, CAD!$T$7:$U$2000, 2, FALSE))","v":""},{"$f":"IF($B350=\"\", \"\", VLOOKUP($B350, CAD!$V$7:$W$2000, 2, FALSE))","v":""}]
[null,{"$f":"IF(CAD!B348=\"\", \"\", CAD!B348)","v":""},{"$f":"IF($B351=\"\", \"\", CAD!C348)","v":""},{"$f":"IF($B351=\"\", \"\",VLOOKUP($B351, CAD!$D$7:$E$2000, 2, FALSE))","v":""},{"$f":"IF($B351=\"\", \"\",VLOOKUP($B351, CAD!$F$7:$G$2000, 2, FALSE))","v":""},{"$f":"IF($B351=\"\", \"\",VLOOKUP($B351, CAD!$H$7:$I$2000, 2, FALSE))","v":""},{"$f":"IF($B351=\"\", \"\",VLOOKUP($B351, CAD!$J$7:$K$2000, 2, FALSE))","v":""},{"$f":"IF($B351=\"\", \"\", VLOOKUP($B351, CAD!$L$7:$M$2000, 2, FALSE))","v":""},{"$f":"IF($B351=\"\", \"\", VLOOKUP($B351, CAD!$N$7:$O$2000, 2, FALSE))","v":""},{"$f":"IF($B351=\"\", \"\", VLOOKUP($B351, CAD!$P$7:$Q$2000, 2, FALSE))","v":""},{"$f":"IF($B351=\"\", \"\", VLOOKUP($B351, CAD!$R$7:$S$2000, 2, FALSE))","v":""},{"$f":"IF($B351=\"\", \"\", VLOOKUP($B351, CAD!$T$7:$U$2000, 2, FALSE))","v":""},{"$f":"IF($B351=\"\", \"\", VLOOKUP($B351, CAD!$V$7:$W$2000, 2, FALSE))","v":""}]
[null,{"$f":"IF(CAD!B349=\"\", \"\", CAD!B349)","v":""},{"$f":"IF($B352=\"\", \"\", CAD!C349)","v":""},{"$f":"IF($B352=\"\", \"\",VLOOKUP($B352, CAD!$D$7:$E$2000, 2, FALSE))","v":""},{"$f":"IF($B352=\"\", \"\",VLOOKUP($B352, CAD!$F$7:$G$2000, 2, FALSE))","v":""},{"$f":"IF($B352=\"\", \"\",VLOOKUP($B352, CAD!$H$7:$I$2000, 2, FALSE))","v":""},{"$f":"IF($B352=\"\", \"\",VLOOKUP($B352, CAD!$J$7:$K$2000, 2, FALSE))","v":""},{"$f":"IF($B352=\"\", \"\", VLOOKUP($B352, CAD!$L$7:$M$2000, 2, FALSE))","v":""},{"$f":"IF($B352=\"\", \"\", VLOOKUP($B352, CAD!$N$7:$O$2000, 2, FALSE))","v":""},{"$f":"IF($B352=\"\", \"\", VLOOKUP($B352, CAD!$P$7:$Q$2000, 2, FALSE))","v":""},{"$f":"IF($B352=\"\", \"\", VLOOKUP($B352, CAD!$R$7:$S$2000, 2, FALSE))","v":""},{"$f":"IF($B352=\"\", \"\", VLOOKUP($B352, CAD!$T$7:$U$2000, 2, FALSE))","v":""},{"$f":"IF($B352=\"\", \"\", VLOOKUP($B352, CAD!$V$7:$W$2000, 2, FALSE))","v":""}]
[null,{"$f":"IF(CAD!B350=\"\", \"\", CAD!B350)","v":""},{"$f":"IF($B353=\"\", \"\", CAD!C350)","v":""},{"$f":"IF($B353=\"\", \"\",VLOOKUP($B353, CAD!$D$7:$E$2000, 2, FALSE))","v":""},{"$f":"IF($B353=\"\", \"\",VLOOKUP($B353, CAD!$F$7:$G$2000, 2, FALSE))","v":""},{"$f":"IF($B353=\"\", \"\",VLOOKUP($B353, CAD!$H$7:$I$2000, 2, FALSE))","v":""},{"$f":"IF($B353=\"\", \"\",VLOOKUP($B353, CAD!$J$7:$K$2000, 2, FALSE))","v":""},{"$f":"IF($B353=\"\", \"\", VLOOKUP($B353, CAD!$L$7:$M$2000, 2, FALSE))","v":""},{"$f":"IF($B353=\"\", \"\", VLOOKUP($B353, CAD!$N$7:$O$2000, 2, FALSE))","v":""},{"$f":"IF($B353=\"\", \"\", VLOOKUP($B353, CAD!$P$7:$Q$2000, 2, FALSE))","v":""},{"$f":"IF($B353=\"\", \"\", VLOOKUP($B353, CAD!$R$7:$S$2000, 2, FALSE))","v":""},{"$f":"IF($B353=\"\", \"\", VLOOKUP($B353, CAD!$T$7:$U$2000, 2, FALSE))","v":""},{"$f":"IF($B353=\"\", \"\", VLOOKUP($B353, CAD!$V$7:$W$2000, 2, FALSE))","v":""}]
[null,{"$f":"IF(CAD!B351=\"\", \"\", CAD!B351)","v":""},{"$f":"IF($B354=\"\", \"\", CAD!C351)","v":""},{"$f":"IF($B354=\"\", \"\",VLOOKUP($B354, CAD!$D$7:$E$2000, 2, FALSE))","v":""},{"$f":"IF($B354=\"\", \"\",VLOOKUP($B354, CAD!$F$7:$G$2000, 2, FALSE))","v":""},{"$f":"IF($B354=\"\", \"\",VLOOKUP($B354, CAD!$H$7:$I$2000, 2, FALSE))","v":""},{"$f":"IF($B354=\"\", \"\",VLOOKUP($B354, CAD!$J$7:$K$2000, 2, FALSE))","v":""},{"$f":"IF($B354=\"\", \"\", VLOOKUP($B354, CAD!$L$7:$M$2000, 2, FALSE))","v":""},{"$f":"IF($B354=\"\", \"\", VLOOKUP($B354, CAD!$N$7:$O$2000, 2, FALSE))","v":""},{"$f":"IF($B354=\"\", \"\", VLOOKUP($B354, CAD!$P$7:$Q$2000, 2, FALSE))","v":""},{"$f":"IF($B354=\"\", \"\", VLOOKUP($B354, CAD!$R$7:$S$2000, 2, FALSE))","v":""},{"$f":"IF($B354=\"\", \"\", VLOOKUP($B354, CAD!$T$7:$U$2000, 2, FALSE))","v":""},{"$f":"IF($B354=\"\", \"\", VLOOKUP($B354, CAD!$V$7:$W$2000, 2, FALSE))","v":""}]
[null,{"$f":"IF(CAD!B352=\"\", \"\", CAD!B352)","v":""},{"$f":"IF($B355=\"\", \"\", CAD!C352)","v":""},{"$f":"IF($B355=\"\", \"\",VLOOKUP($B355, CAD!$D$7:$E$2000, 2, FALSE))","v":""},{"$f":"IF($B355=\"\", \"\",VLOOKUP($B355, CAD!$F$7:$G$2000, 2, FALSE))","v":""},{"$f":"IF($B355=\"\", \"\",VLOOKUP($B355, CAD!$H$7:$I$2000, 2, FALSE))","v":""},{"$f":"IF($B355=\"\", \"\",VLOOKUP($B355, CAD!$J$7:$K$2000, 2, FALSE))","v":""},{"$f":"IF($B355=\"\", \"\", VLOOKUP($B355, CAD!$L$7:$M$2000, 2, FALSE))","v":""},{"$f":"IF($B355=\"\", \"\", VLOOKUP($B355, CAD!$N$7:$O$2000, 2, FALSE))","v":""},{"$f":"IF($B355=\"\", \"\", VLOOKUP($B355, CAD!$P$7:$Q$2000, 2, FALSE))","v":""},{"$f":"IF($B355=\"\", \"\", VLOOKUP($B355, CAD!$R$7:$S$2000, 2, FALSE))","v":""},{"$f":"IF($B355=\"\", \"\", VLOOKUP($B355, CAD!$T$7:$U$2000, 2, FALSE))","v":""},{"$f":"IF($B355=\"\", \"\", VLOOKUP($B355, CAD!$V$7:$W$2000, 2, FALSE))","v":""}]
[null,{"$f":"IF(CAD!B353=\"\", \"\", CAD!B353)","v":""},{"$f":"IF($B356=\"\", \"\", CAD!C353)","v":""},{"$f":"IF($B356=\"\", \"\",VLOOKUP($B356, CAD!$D$7:$E$2000, 2, FALSE))","v":""},{"$f":"IF($B356=\"\", \"\",VLOOKUP($B356, CAD!$F$7:$G$2000, 2, FALSE))","v":""},{"$f":"IF($B356=\"\", \"\",VLOOKUP($B356, CAD!$H$7:$I$2000, 2, FALSE))","v":""},{"$f":"IF($B356=\"\", \"\",VLOOKUP($B356, CAD!$J$7:$K$2000, 2, FALSE))","v":""},{"$f":"IF($B356=\"\", \"\", VLOOKUP($B356, CAD!$L$7:$M$2000, 2, FALSE))","v":""},{"$f":"IF($B356=\"\", \"\", VLOOKUP($B356, CAD!$N$7:$O$2000, 2, FALSE))","v":""},{"$f":"IF($B356=\"\", \"\", VLOOKUP($B356, CAD!$P$7:$Q$2000, 2, FALSE))","v":""},{"$f":"IF($B356=\"\", \"\", VLOOKUP($B356, CAD!$R$7:$S$2000, 2, FALSE))","v":""},{"$f":"IF($B356=\"\", \"\", VLOOKUP($B356, CAD!$T$7:$U$2000, 2, FALSE))","v":""},{"$f":"IF($B356=\"\", \"\", VLOOKUP($B356, CAD!$V$7:$W$2000, 2, FALSE))","v":""}]
[null,{"$f":"IF(CAD!B354=\"\", \"\", CAD!B354)","v":""},{"$f":"IF($B357=\"\", \"\", CAD!C354)","v":""},{"$f":"IF($B357=\"\", \"\",VLOOKUP($B357, CAD!$D$7:$E$2000, 2, FALSE))","v":""},{"$f":"IF($B357=\"\", \"\",VLOOKUP($B357, CAD!$F$7:$G$2000, 2, FALSE))","v":""},{"$f":"IF($B357=\"\", \"\",VLOOKUP($B357, CAD!$H$7:$I$2000, 2, FALSE))","v":""},{"$f":"IF($B357=\"\", \"\",VLOOKUP($B357, CAD!$J$7:$K$2000, 2, FALSE))","v":""},{"$f":"IF($B357=\"\", \"\", VLOOKUP($B357, CAD!$L$7:$M$2000, 2, FALSE))","v":""},{"$f":"IF($B357=\"\", \"\", VLOOKUP($B357, CAD!$N$7:$O$2000, 2, FALSE))","v":""},{"$f":"IF($B357=\"\", \"\", VLOOKUP($B357, CAD!$P$7:$Q$2000, 2, FALSE))","v":""},{"$f":"IF($B357=\"\", \"\", VLOOKUP($B357, CAD!$R$7:$S$2000, 2, FALSE))","v":""},{"$f":"IF($B357=\"\", \"\", VLOOKUP($B357, CAD!$T$7:$U$2000, 2, FALSE))","v":""},{"$f":"IF($B357=\"\", \"\", VLOOKUP($B357, CAD!$V$7:$W$2000, 2, FALSE))","v":""}]
[null,{"$f":"IF(CAD!B355=\"\", \"\", CAD!B355)","v":""},{"$f":"IF($B358=\"\", \"\", CAD!C355)","v":""},{"$f":"IF($B358=\"\", \"\",VLOOKUP($B358, CAD!$D$7:$E$2000, 2, FALSE))","v":""},{"$f":"IF($B358=\"\", \"\",VLOOKUP($B358, CAD!$F$7:$G$2000, 2, FALSE))","v":""},{"$f":"IF($B358=\"\", \"\",VLOOKUP($B358, CAD!$H$7:$I$2000, 2, FALSE))","v":""},{"$f":"IF($B358=\"\", \"\",VLOOKUP($B358, CAD!$J$7:$K$2000, 2, FALSE))","v":""},{"$f":"IF($B358=\"\", \"\", VLOOKUP($B358, CAD!$L$7:$M$2000, 2, FALSE))","v":""},{"$f":"IF($B358=\"\", \"\", VLOOKUP($B358, CAD!$N$7:$O$2000, 2, FALSE))","v":""},{"$f":"IF($B358=\"\", \"\", VLOOKUP($B358, CAD!$P$7:$Q$2000, 2, FALSE))","v":""},{"$f":"IF($B358=\"\", \"\", VLOOKUP($B358, CAD!$R$7:$S$2000, 2, FALSE))","v":""},{"$f":"IF($B358=\"\", \"\", VLOOKUP($B358, CAD!$T$7:$U$2000, 2, FALSE))","v":""},{"$f":"IF($B358=\"\", \"\", VLOOKUP($B358, CAD!$V$7:$W$2000, 2, FALSE))","v":""}]
[null,{"$f":"IF(CAD!B356=\"\", \"\", CAD!B356)","v":""},{"$f":"IF($B359=\"\", \"\", CAD!C356)","v":""},{"$f":"IF($B359=\"\", \"\",VLOOKUP($B359, CAD!$D$7:$E$2000, 2, FALSE))","v":""},{"$f":"IF($B359=\"\", \"\",VLOOKUP($B359, CAD!$F$7:$G$2000, 2, FALSE))","v":""},{"$f":"IF($B359=\"\", \"\",VLOOKUP($B359, CAD!$H$7:$I$2000, 2, FALSE))","v":""},{"$f":"IF($B359=\"\", \"\",VLOOKUP($B359, CAD!$J$7:$K$2000, 2, FALSE))","v":""},{"$f":"IF($B359=\"\", \"\", VLOOKUP($B359, CAD!$L$7:$M$2000, 2, FALSE))","v":""},{"$f":"IF($B359=\"\", \"\", VLOOKUP($B359, CAD!$N$7:$O$2000, 2, FALSE))","v":""},{"$f":"IF($B359=\"\", \"\", VLOOKUP($B359, CAD!$P$7:$Q$2000, 2, FALSE))","v":""},{"$f":"IF($B359=\"\", \"\", VLOOKUP($B359, CAD!$R$7:$S$2000, 2, FALSE))","v":""},{"$f":"IF($B359=\"\", \"\", VLOOKUP($B359, CAD!$T$7:$U$2000, 2, FALSE))","v":""},{"$f":"IF($B359=\"\", \"\", VLOOKUP($B359, CAD!$V$7:$W$2000, 2, FALSE))","v":""}]
[null,{"$f":"IF(CAD!B357=\"\", \"\", CAD!B357)","v":""},{"$f":"IF($B360=\"\", \"\", CAD!C357)","v":""},{"$f":"IF($B360=\"\", \"\",VLOOKUP($B360, CAD!$D$7:$E$2000, 2, FALSE))","v":""},{"$f":"IF($B360=\"\", \"\",VLOOKUP($B360, CAD!$F$7:$G$2000, 2, FALSE))","v":""},{"$f":"IF($B360=\"\", \"\",VLOOKUP($B360, CAD!$H$7:$I$2000, 2, FALSE))","v":""},{"$f":"IF($B360=\"\", \"\",VLOOKUP($B360, CAD!$J$7:$K$2000, 2, FALSE))","v":""},{"$f":"IF($B360=\"\", \"\", VLOOKUP($B360, CAD!$L$7:$M$2000, 2, FALSE))","v":""},{"$f":"IF($B360=\"\", \"\", VLOOKUP($B360, CAD!$N$7:$O$2000, 2, FALSE))","v":""},{"$f":"IF($B360=\"\", \"\", VLOOKUP($B360, CAD!$P$7:$Q$2000, 2, FALSE))","v":""},{"$f":"IF($B360=\"\", \"\", VLOOKUP($B360, CAD!$R$7:$S$2000, 2, FALSE))","v":""},{"$f":"IF($B360=\"\", \"\", VLOOKUP($B360, CAD!$T$7:$U$2000, 2, FALSE))","v":""},{"$f":"IF($B360=\"\", \"\", VLOOKUP($B360, CAD!$V$7:$W$2000, 2, FALSE))","v":""}]
[null,{"$f":"IF(CAD!B358=\"\", \"\", CAD!B358)","v":""},{"$f":"IF($B361=\"\", \"\", CAD!C358)","v":""},{"$f":"IF($B361=\"\", \"\",VLOOKUP($B361, CAD!$D$7:$E$2000, 2, FALSE))","v":""},{"$f":"IF($B361=\"\", \"\",VLOOKUP($B361, CAD!$F$7:$G$2000, 2, FALSE))","v":""},{"$f":"IF($B361=\"\", \"\",VLOOKUP($B361, CAD!$H$7:$I$2000, 2, FALSE))","v":""},{"$f":"IF($B361=\"\", \"\",VLOOKUP($B361, CAD!$J$7:$K$2000, 2, FALSE))","v":""},{"$f":"IF($B361=\"\", \"\", VLOOKUP($B361, CAD!$L$7:$M$2000, 2, FALSE))","v":""},{"$f":"IF($B361=\"\", \"\", VLOOKUP($B361, CAD!$N$7:$O$2000, 2, FALSE))","v":""},{"$f":"IF($B361=\"\", \"\", VLOOKUP($B361, CAD!$P$7:$Q$2000, 2, FALSE))","v":""},{"$f":"IF($B361=\"\", \"\", VLOOKUP($B361, CAD!$R$7:$S$2000, 2, FALSE))","v":""},{"$f":"IF($B361=\"\", \"\", VLOOKUP($B361, CAD!$T$7:$U$2000, 2, FALSE))","v":""},{"$f":"IF($B361=\"\", \"\", VLOOKUP($B361, CAD!$V$7:$W$2000, 2, FALSE))","v":""}]
[null,{"$f":"IF(CAD!B359=\"\", \"\", CAD!B359)","v":""},{"$f":"IF($B362=\"\", \"\", CAD!C359)","v":""},{"$f":"IF($B362=\"\", \"\",VLOOKUP($B362, CAD!$D$7:$E$2000, 2, FALSE))","v":""},{"$f":"IF($B362=\"\", \"\",VLOOKUP($B362, CAD!$F$7:$G$2000, 2, FALSE))","v":""},{"$f":"IF($B362=\"\", \"\",VLOOKUP($B362, CAD!$H$7:$I$2000, 2, FALSE))","v":""},{"$f":"IF($B362=\"\", \"\",VLOOKUP($B362, CAD!$J$7:$K$2000, 2, FALSE))","v":""},{"$f":"IF($B362=\"\", \"\", VLOOKUP($B362, CAD!$L$7:$M$2000, 2, FALSE))","v":""},{"$f":"IF($B362=\"\", \"\", VLOOKUP($B362, CAD!$N$7:$O$2000, 2, FALSE))","v":""},{"$f":"IF($B362=\"\", \"\", VLOOKUP($B362, CAD!$P$7:$Q$2000, 2, FALSE))","v":""},{"$f":"IF($B362=\"\", \"\", VLOOKUP($B362, CAD!$R$7:$S$2000, 2, FALSE))","v":""},{"$f":"IF($B362=\"\", \"\", VLOOKUP($B362, CAD!$T$7:$U$2000, 2, FALSE))","v":""},{"$f":"IF($B362=\"\", \"\", VLOOKUP($B362, CAD!$V$7:$W$2000, 2, FALSE))","v":""}]
[null,{"$f":"IF(CAD!B360=\"\", \"\", CAD!B360)","v":""},{"$f":"IF($B363=\"\", \"\", CAD!C360)","v":""},{"$f":"IF($B363=\"\", \"\",VLOOKUP($B363, CAD!$D$7:$E$2000, 2, FALSE))","v":""},{"$f":"IF($B363=\"\", \"\",VLOOKUP($B363, CAD!$F$7:$G$2000, 2, FALSE))","v":""},{"$f":"IF($B363=\"\", \"\",VLOOKUP($B363, CAD!$H$7:$I$2000, 2, FALSE))","v":""},{"$f":"IF($B363=\"\", \"\",VLOOKUP($B363, CAD!$J$7:$K$2000, 2, FALSE))","v":""},{"$f":"IF($B363=\"\", \"\", VLOOKUP($B363, CAD!$L$7:$M$2000, 2, FALSE))","v":""},{"$f":"IF($B363=\"\", \"\", VLOOKUP($B363, CAD!$N$7:$O$2000, 2, FALSE))","v":""},{"$f":"IF($B363=\"\", \"\", VLOOKUP($B363, CAD!$P$7:$Q$2000, 2, FALSE))","v":""},{"$f":"IF($B363=\"\", \"\", VLOOKUP($B363, CAD!$R$7:$S$2000, 2, FALSE))","v":""},{"$f":"IF($B363=\"\", \"\", VLOOKUP($B363, CAD!$T$7:$U$2000, 2, FALSE))","v":""},{"$f":"IF($B363=\"\", \"\", VLOOKUP($B363, CAD!$V$7:$W$2000, 2, FALSE))","v":""}]
[null,{"$f":"IF(CAD!B361=\"\", \"\", CAD!B361)","v":""},{"$f":"IF($B364=\"\", \"\", CAD!C361)","v":""},{"$f":"IF($B364=\"\", \"\",VLOOKUP($B364, CAD!$D$7:$E$2000, 2, FALSE))","v":""},{"$f":"IF($B364=\"\", \"\",VLOOKUP($B364, CAD!$F$7:$G$2000, 2, FALSE))","v":""},{"$f":"IF($B364=\"\", \"\",VLOOKUP($B364, CAD!$H$7:$I$2000, 2, FALSE))","v":""},{"$f":"IF($B364=\"\", \"\",VLOOKUP($B364, CAD!$J$7:$K$2000, 2, FALSE))","v":""},{"$f":"IF($B364=\"\", \"\", VLOOKUP($B364, CAD!$L$7:$M$2000, 2, FALSE))","v":""},{"$f":"IF($B364=\"\", \"\", VLOOKUP($B364, CAD!$N$7:$O$2000, 2, FALSE))","v":""},{"$f":"IF($B364=\"\", \"\", VLOOKUP($B364, CAD!$P$7:$Q$2000, 2, FALSE))","v":""},{"$f":"IF($B364=\"\", \"\", VLOOKUP($B364, CAD!$R$7:$S$2000, 2, FALSE))","v":""},{"$f":"IF($B364=\"\", \"\", VLOOKUP($B364, CAD!$T$7:$U$2000, 2, FALSE))","v":""},{"$f":"IF($B364=\"\", \"\", VLOOKUP($B364, CAD!$V$7:$W$2000, 2, FALSE))","v":""}]
[null,{"$f":"IF(CAD!B362=\"\", \"\", CAD!B362)","v":""},{"$f":"IF($B365=\"\", \"\", CAD!C362)","v":""},{"$f":"IF($B365=\"\", \"\",VLOOKUP($B365, CAD!$D$7:$E$2000, 2, FALSE))","v":""},{"$f":"IF($B365=\"\", \"\",VLOOKUP($B365, CAD!$F$7:$G$2000, 2, FALSE))","v":""},{"$f":"IF($B365=\"\", \"\",VLOOKUP($B365, CAD!$H$7:$I$2000, 2, FALSE))","v":""},{"$f":"IF($B365=\"\", \"\",VLOOKUP($B365, CAD!$J$7:$K$2000, 2, FALSE))","v":""},{"$f":"IF($B365=\"\", \"\", VLOOKUP($B365, CAD!$L$7:$M$2000, 2, FALSE))","v":""},{"$f":"IF($B365=\"\", \"\", VLOOKUP($B365, CAD!$N$7:$O$2000, 2, FALSE))","v":""},{"$f":"IF($B365=\"\", \"\", VLOOKUP($B365, CAD!$P$7:$Q$2000, 2, FALSE))","v":""},{"$f":"IF($B365=\"\", \"\", VLOOKUP($B365, CAD!$R$7:$S$2000, 2, FALSE))","v":""},{"$f":"IF($B365=\"\", \"\", VLOOKUP($B365, CAD!$T$7:$U$2000, 2, FALSE))","v":""},{"$f":"IF($B365=\"\", \"\", VLOOKUP($B365, CAD!$V$7:$W$2000, 2, FALSE))","v":""}]
[null,{"$f":"IF(CAD!B363=\"\", \"\", CAD!B363)","v":""},{"$f":"IF($B366=\"\", \"\", CAD!C363)","v":""},{"$f":"IF($B366=\"\", \"\",VLOOKUP($B366, CAD!$D$7:$E$2000, 2, FALSE))","v":""},{"$f":"IF($B366=\"\", \"\",VLOOKUP($B366, CAD!$F$7:$G$2000, 2, FALSE))","v":""},{"$f":"IF($B366=\"\", \"\",VLOOKUP($B366, CAD!$H$7:$I$2000, 2, FALSE))","v":""},{"$f":"IF($B366=\"\", \"\",VLOOKUP($B366, CAD!$J$7:$K$2000, 2, FALSE))","v":""},{"$f":"IF($B366=\"\", \"\", VLOOKUP($B366, CAD!$L$7:$M$2000, 2, FALSE))","v":""},{"$f":"IF($B366=\"\", \"\", VLOOKUP($B366, CAD!$N$7:$O$2000, 2, FALSE))","v":""},{"$f":"IF($B366=\"\", \"\", VLOOKUP($B366, CAD!$P$7:$Q$2000, 2, FALSE))","v":""},{"$f":"IF($B366=\"\", \"\", VLOOKUP($B366, CAD!$R$7:$S$2000, 2, FALSE))","v":""},{"$f":"IF($B366=\"\", \"\", VLOOKUP($B366, CAD!$T$7:$U$2000, 2, FALSE))","v":""},{"$f":"IF($B366=\"\", \"\", VLOOKUP($B366, CAD!$V$7:$W$2000, 2, FALSE))","v":""}]
[null,{"$f":"IF(CAD!B364=\"\", \"\", CAD!B364)","v":""},{"$f":"IF($B367=\"\", \"\", CAD!C364)","v":""},{"$f":"IF($B367=\"\", \"\",VLOOKUP($B367, CAD!$D$7:$E$2000, 2, FALSE))","v":""},{"$f":"IF($B367=\"\", \"\",VLOOKUP($B367, CAD!$F$7:$G$2000, 2, FALSE))","v":""},{"$f":"IF($B367=\"\", \"\",VLOOKUP($B367, CAD!$H$7:$I$2000, 2, FALSE))","v":""},{"$f":"IF($B367=\"\", \"\",VLOOKUP($B367, CAD!$J$7:$K$2000, 2, FALSE))","v":""},{"$f":"IF($B367=\"\", \"\", VLOOKUP($B367, CAD!$L$7:$M$2000, 2, FALSE))","v":""},{"$f":"IF($B367=\"\", \"\", VLOOKUP($B367, CAD!$N$7:$O$2000, 2, FALSE))","v":""},{"$f":"IF($B367=\"\", \"\", VLOOKUP($B367, CAD!$P$7:$Q$2000, 2, FALSE))","v":""},{"$f":"IF($B367=\"\", \"\", VLOOKUP($B367, CAD!$R$7:$S$2000, 2, FALSE))","v":""},{"$f":"IF($B367=\"\", \"\", VLOOKUP($B367, CAD!$T$7:$U$2000, 2, FALSE))","v":""},{"$f":"IF($B367=\"\", \"\", VLOOKUP($B367, CAD!$V$7:$W$2000, 2, FALSE))","v":""}]
[null,{"$f":"IF(CAD!B365=\"\", \"\", CAD!B365)","v":""},{"$f":"IF($B368=\"\", \"\", CAD!C365)","v":""},{"$f":"IF($B368=\"\", \"\",VLOOKUP($B368, CAD!$D$7:$E$2000, 2, FALSE))","v":""},{"$f":"IF($B368=\"\", \"\",VLOOKUP($B368, CAD!$F$7:$G$2000, 2, FALSE))","v":""},{"$f":"IF($B368=\"\", \"\",VLOOKUP($B368, CAD!$H$7:$I$2000, 2, FALSE))","v":""},{"$f":"IF($B368=\"\", \"\",VLOOKUP($B368, CAD!$J$7:$K$2000, 2, FALSE))","v":""},{"$f":"IF($B368=\"\", \"\", VLOOKUP($B368, CAD!$L$7:$M$2000, 2, FALSE))","v":""},{"$f":"IF($B368=\"\", \"\", VLOOKUP($B368, CAD!$N$7:$O$2000, 2, FALSE))","v":""},{"$f":"IF($B368=\"\", \"\", VLOOKUP($B368, CAD!$P$7:$Q$2000, 2, FALSE))","v":""},{"$f":"IF($B368=\"\", \"\", VLOOKUP($B368, CAD!$R$7:$S$2000, 2, FALSE))","v":""},{"$f":"IF($B368=\"\", \"\", VLOOKUP($B368, CAD!$T$7:$U$2000, 2, FALSE))","v":""},{"$f":"IF($B368=\"\", \"\", VLOOKUP($B368, CAD!$V$7:$W$2000, 2, FALSE))","v":""}]
[null,{"$f":"IF(CAD!B366=\"\", \"\", CAD!B366)","v":""},{"$f":"IF($B369=\"\", \"\", CAD!C366)","v":""},{"$f":"IF($B369=\"\", \"\",VLOOKUP($B369, CAD!$D$7:$E$2000, 2, FALSE))","v":""},{"$f":"IF($B369=\"\", \"\",VLOOKUP($B369, CAD!$F$7:$G$2000, 2, FALSE))","v":""},{"$f":"IF($B369=\"\", \"\",VLOOKUP($B369, CAD!$H$7:$I$2000, 2, FALSE))","v":""},{"$f":"IF($B369=\"\", \"\",VLOOKUP($B369, CAD!$J$7:$K$2000, 2, FALSE))","v":""},{"$f":"IF($B369=\"\", \"\", VLOOKUP($B369, CAD!$L$7:$M$2000, 2, FALSE))","v":""},{"$f":"IF($B369=\"\", \"\", VLOOKUP($B369, CAD!$N$7:$O$2000, 2, FALSE))","v":""},{"$f":"IF($B369=\"\", \"\", VLOOKUP($B369, CAD!$P$7:$Q$2000, 2, FALSE))","v":""},{"$f":"IF($B369=\"\", \"\", VLOOKUP($B369, CAD!$R$7:$S$2000, 2, FALSE))","v":""},{"$f":"IF($B369=\"\", \"\", VLOOKUP($B369, CAD!$T$7:$U$2000, 2, FALSE))","v":""},{"$f":"IF($B369=\"\", \"\", VLOOKUP($B369, CAD!$V$7:$W$2000, 2, FALSE))","v":""}]
[null,{"$f":"IF(CAD!B367=\"\", \"\", CAD!B367)","v":""},{"$f":"IF($B370=\"\", \"\", CAD!C367)","v":""},{"$f":"IF($B370=\"\", \"\",VLOOKUP($B370, CAD!$D$7:$E$2000, 2, FALSE))","v":""},{"$f":"IF($B370=\"\", \"\",VLOOKUP($B370, CAD!$F$7:$G$2000, 2, FALSE))","v":""},{"$f":"IF($B370=\"\", \"\",VLOOKUP($B370, CAD!$H$7:$I$2000, 2, FALSE))","v":""},{"$f":"IF($B370=\"\", \"\",VLOOKUP($B370, CAD!$J$7:$K$2000, 2, FALSE))","v":""},{"$f":"IF($B370=\"\", \"\", VLOOKUP($B370, CAD!$L$7:$M$2000, 2, FALSE))","v":""},{"$f":"IF($B370=\"\", \"\", VLOOKUP($B370, CAD!$N$7:$O$2000, 2, FALSE))","v":""},{"$f":"IF($B370=\"\", \"\", VLOOKUP($B370, CAD!$P$7:$Q$2000, 2, FALSE))","v":""},{"$f":"IF($B370=\"\", \"\", VLOOKUP($B370, CAD!$R$7:$S$2000, 2, FALSE))","v":""},{"$f":"IF($B370=\"\", \"\", VLOOKUP($B370, CAD!$T$7:$U$2000, 2, FALSE))","v":""},{"$f":"IF($B370=\"\", \"\", VLOOKUP($B370, CAD!$V$7:$W$2000, 2, FALSE))","v":""}]
[null,{"$f":"IF(CAD!B368=\"\", \"\", CAD!B368)","v":""},{"$f":"IF($B371=\"\", \"\", CAD!C368)","v":""},{"$f":"IF($B371=\"\", \"\",VLOOKUP($B371, CAD!$D$7:$E$2000, 2, FALSE))","v":""},{"$f":"IF($B371=\"\", \"\",VLOOKUP($B371, CAD!$F$7:$G$2000, 2, FALSE))","v":""},{"$f":"IF($B371=\"\", \"\",VLOOKUP($B371, CAD!$H$7:$I$2000, 2, FALSE))","v":""},{"$f":"IF($B371=\"\", \"\",VLOOKUP($B371, CAD!$J$7:$K$2000, 2, FALSE))","v":""},{"$f":"IF($B371=\"\", \"\", VLOOKUP($B371, CAD!$L$7:$M$2000, 2, FALSE))","v":""},{"$f":"IF($B371=\"\", \"\", VLOOKUP($B371, CAD!$N$7:$O$2000, 2, FALSE))","v":""},{"$f":"IF($B371=\"\", \"\", VLOOKUP($B371, CAD!$P$7:$Q$2000, 2, FALSE))","v":""},{"$f":"IF($B371=\"\", \"\", VLOOKUP($B371, CAD!$R$7:$S$2000, 2, FALSE))","v":""},{"$f":"IF($B371=\"\", \"\", VLOOKUP($B371, CAD!$T$7:$U$2000, 2, FALSE))","v":""},{"$f":"IF($B371=\"\", \"\", VLOOKUP($B371, CAD!$V$7:$W$2000, 2, FALSE))","v":""}]
[null,{"$f":"IF(CAD!B369=\"\", \"\", CAD!B369)","v":""},{"$f":"IF($B372=\"\", \"\", CAD!C369)","v":""},{"$f":"IF($B372=\"\", \"\",VLOOKUP($B372, CAD!$D$7:$E$2000, 2, FALSE))","v":""},{"$f":"IF($B372=\"\", \"\",VLOOKUP($B372, CAD!$F$7:$G$2000, 2, FALSE))","v":""},{"$f":"IF($B372=\"\", \"\",VLOOKUP($B372, CAD!$H$7:$I$2000, 2, FALSE))","v":""},{"$f":"IF($B372=\"\", \"\",VLOOKUP($B372, CAD!$J$7:$K$2000, 2, FALSE))","v":""},{"$f":"IF($B372=\"\", \"\", VLOOKUP($B372, CAD!$L$7:$M$2000, 2, FALSE))","v":""},{"$f":"IF($B372=\"\", \"\", VLOOKUP($B372, CAD!$N$7:$O$2000, 2, FALSE))","v":""},{"$f":"IF($B372=\"\", \"\", VLOOKUP($B372, CAD!$P$7:$Q$2000, 2, FALSE))","v":""},{"$f":"IF($B372=\"\", \"\", VLOOKUP($B372, CAD!$R$7:$S$2000, 2, FALSE))","v":""},{"$f":"IF($B372=\"\", \"\", VLOOKUP($B372, CAD!$T$7:$U$2000, 2, FALSE))","v":""},{"$f":"IF($B372=\"\", \"\", VLOOKUP($B372, CAD!$V$7:$W$2000, 2, FALSE))","v":""}]
[null,{"$f":"IF(CAD!B370=\"\", \"\", CAD!B370)","v":""},{"$f":"IF($B373=\"\", \"\", CAD!C370)","v":""},{"$f":"IF($B373=\"\", \"\",VLOOKUP($B373, CAD!$D$7:$E$2000, 2, FALSE))","v":""},{"$f":"IF($B373=\"\", \"\",VLOOKUP($B373, CAD!$F$7:$G$2000, 2, FALSE))","v":""},{"$f":"IF($B373=\"\", \"\",VLOOKUP($B373, CAD!$H$7:$I$2000, 2, FALSE))","v":""},{"$f":"IF($B373=\"\", \"\",VLOOKUP($B373, CAD!$J$7:$K$2000, 2, FALSE))","v":""},{"$f":"IF($B373=\"\", \"\", VLOOKUP($B373, CAD!$L$7:$M$2000, 2, FALSE))","v":""},{"$f":"IF($B373=\"\", \"\", VLOOKUP($B373, CAD!$N$7:$O$2000, 2, FALSE))","v":""},{"$f":"IF($B373=\"\", \"\", VLOOKUP($B373, CAD!$P$7:$Q$2000, 2, FALSE))","v":""},{"$f":"IF($B373=\"\", \"\", VLOOKUP($B373, CAD!$R$7:$S$2000, 2, FALSE))","v":""},{"$f":"IF($B373=\"\", \"\", VLOOKUP($B373, CAD!$T$7:$U$2000, 2, FALSE))","v":""},{"$f":"IF($B373=\"\", \"\", VLOOKUP($B373, CAD!$V$7:$W$2000, 2, FALSE))","v":""}]
[null,{"$f":"IF(CAD!B371=\"\", \"\", CAD!B371)","v":""},{"$f":"IF($B374=\"\", \"\", CAD!C371)","v":""},{"$f":"IF($B374=\"\", \"\",VLOOKUP($B374, CAD!$D$7:$E$2000, 2, FALSE))","v":""},{"$f":"IF($B374=\"\", \"\",VLOOKUP($B374, CAD!$F$7:$G$2000, 2, FALSE))","v":""},{"$f":"IF($B374=\"\", \"\",VLOOKUP($B374, CAD!$H$7:$I$2000, 2, FALSE))","v":""},{"$f":"IF($B374=\"\", \"\",VLOOKUP($B374, CAD!$J$7:$K$2000, 2, FALSE))","v":""},{"$f":"IF($B374=\"\", \"\", VLOOKUP($B374, CAD!$L$7:$M$2000, 2, FALSE))","v":""},{"$f":"IF($B374=\"\", \"\", VLOOKUP($B374, CAD!$N$7:$O$2000, 2, FALSE))","v":""},{"$f":"IF($B374=\"\", \"\", VLOOKUP($B374, CAD!$P$7:$Q$2000, 2, FALSE))","v":""},{"$f":"IF($B374=\"\", \"\", VLOOKUP($B374, CAD!$R$7:$S$2000, 2, FALSE))","v":""},{"$f":"IF($B374=\"\", \"\", VLOOKUP($B374, CAD!$T$7:$U$2000, 2, FALSE))","v":""},{"$f":"IF($B374=\"\", \"\", VLOOKUP($B374, CAD!$V$7:$W$2000, 2, FALSE))","v":""}]
[null,{"$f":"IF(CAD!B372=\"\", \"\", CAD!B372)","v":""},{"$f":"IF($B375=\"\", \"\", CAD!C372)","v":""},{"$f":"IF($B375=\"\", \"\",VLOOKUP($B375, CAD!$D$7:$E$2000, 2, FALSE))","v":""},{"$f":"IF($B375=\"\", \"\",VLOOKUP($B375, CAD!$F$7:$G$2000, 2, FALSE))","v":""},{"$f":"IF($B375=\"\", \"\",VLOOKUP($B375, CAD!$H$7:$I$2000, 2, FALSE))","v":""},{"$f":"IF($B375=\"\", \"\",VLOOKUP($B375, CAD!$J$7:$K$2000, 2, FALSE))","v":""},{"$f":"IF($B375=\"\", \"\", VLOOKUP($B375, CAD!$L$7:$M$2000, 2, FALSE))","v":""},{"$f":"IF($B375=\"\", \"\", VLOOKUP($B375, CAD!$N$7:$O$2000, 2, FALSE))","v":""},{"$f":"IF($B375=\"\", \"\", VLOOKUP($B375, CAD!$P$7:$Q$2000, 2, FALSE))","v":""},{"$f":"IF($B375=\"\", \"\", VLOOKUP($B375, CAD!$R$7:$S$2000, 2, FALSE))","v":""},{"$f":"IF($B375=\"\", \"\", VLOOKUP($B375, CAD!$T$7:$U$2000, 2, FALSE))","v":""},{"$f":"IF($B375=\"\", \"\", VLOOKUP($B375, CAD!$V$7:$W$2000, 2, FALSE))","v":""}]
[null,{"$f":"IF(CAD!B373=\"\", \"\", CAD!B373)","v":""},{"$f":"IF($B376=\"\", \"\", CAD!C373)","v":""},{"$f":"IF($B376=\"\", \"\",VLOOKUP($B376, CAD!$D$7:$E$2000, 2, FALSE))","v":""},{"$f":"IF($B376=\"\", \"\",VLOOKUP($B376, CAD!$F$7:$G$2000, 2, FALSE))","v":""},{"$f":"IF($B376=\"\", \"\",VLOOKUP($B376, CAD!$H$7:$I$2000, 2, FALSE))","v":""},{"$f":"IF($B376=\"\", \"\",VLOOKUP($B376, CAD!$J$7:$K$2000, 2, FALSE))","v":""},{"$f":"IF($B376=\"\", \"\", VLOOKUP($B376, CAD!$L$7:$M$2000, 2, FALSE))","v":""},{"$f":"IF($B376=\"\", \"\", VLOOKUP($B376, CAD!$N$7:$O$2000, 2, FALSE))","v":""},{"$f":"IF($B376=\"\", \"\", VLOOKUP($B376, CAD!$P$7:$Q$2000, 2, FALSE))","v":""},{"$f":"IF($B376=\"\", \"\", VLOOKUP($B376, CAD!$R$7:$S$2000, 2, FALSE))","v":""},{"$f":"IF($B376=\"\", \"\", VLOOKUP($B376, CAD!$T$7:$U$2000, 2, FALSE))","v":""},{"$f":"IF($B376=\"\", \"\", VLOOKUP($B376, CAD!$V$7:$W$2000, 2, FALSE))","v":""}]
[null,{"$f":"IF(CAD!B374=\"\", \"\", CAD!B374)","v":""},{"$f":"IF($B377=\"\", \"\", CAD!C374)","v":""},{"$f":"IF($B377=\"\", \"\",VLOOKUP($B377, CAD!$D$7:$E$2000, 2, FALSE))","v":""},{"$f":"IF($B377=\"\", \"\",VLOOKUP($B377, CAD!$F$7:$G$2000, 2, FALSE))","v":""},{"$f":"IF($B377=\"\", \"\",VLOOKUP($B377, CAD!$H$7:$I$2000, 2, FALSE))","v":""},{"$f":"IF($B377=\"\", \"\",VLOOKUP($B377, CAD!$J$7:$K$2000, 2, FALSE))","v":""},{"$f":"IF($B377=\"\", \"\", VLOOKUP($B377, CAD!$L$7:$M$2000, 2, FALSE))","v":""},{"$f":"IF($B377=\"\", \"\", VLOOKUP($B377, CAD!$N$7:$O$2000, 2, FALSE))","v":""},{"$f":"IF($B377=\"\", \"\", VLOOKUP($B377, CAD!$P$7:$Q$2000, 2, FALSE))","v":""},{"$f":"IF($B377=\"\", \"\", VLOOKUP($B377, CAD!$R$7:$S$2000, 2, FALSE))","v":""},{"$f":"IF($B377=\"\", \"\", VLOOKUP($B377, CAD!$T$7:$U$2000, 2, FALSE))","v":""},{"$f":"IF($B377=\"\", \"\", VLOOKUP($B377, CAD!$V$7:$W$2000, 2, FALSE))","v":""}]
[null,{"$f":"IF(CAD!B375=\"\", \"\", CAD!B375)","v":""},{"$f":"IF($B378=\"\", \"\", CAD!C375)","v":""},{"$f":"IF($B378=\"\", \"\",VLOOKUP($B378, CAD!$D$7:$E$2000, 2, FALSE))","v":""},{"$f":"IF($B378=\"\", \"\",VLOOKUP($B378, CAD!$F$7:$G$2000, 2, FALSE))","v":""},{"$f":"IF($B378=\"\", \"\",VLOOKUP($B378, CAD!$H$7:$I$2000, 2, FALSE))","v":""},{"$f":"IF($B378=\"\", \"\",VLOOKUP($B378, CAD!$J$7:$K$2000, 2, FALSE))","v":""},{"$f":"IF($B378=\"\", \"\", VLOOKUP($B378, CAD!$L$7:$M$2000, 2, FALSE))","v":""},{"$f":"IF($B378=\"\", \"\", VLOOKUP($B378, CAD!$N$7:$O$2000, 2, FALSE))","v":""},{"$f":"IF($B378=\"\", \"\", VLOOKUP($B378, CAD!$P$7:$Q$2000, 2, FALSE))","v":""},{"$f":"IF($B378=\"\", \"\", VLOOKUP($B378, CAD!$R$7:$S$2000, 2, FALSE))","v":""},{"$f":"IF($B378=\"\", \"\", VLOOKUP($B378, CAD!$T$7:$U$2000, 2, FALSE))","v":""},{"$f":"IF($B378=\"\", \"\", VLOOKUP($B378, CAD!$V$7:$W$2000, 2, FALSE))","v":""}]
[null,{"$f":"IF(CAD!B376=\"\", \"\", CAD!B376)","v":""},{"$f":"IF($B379=\"\", \"\", CAD!C376)","v":""},{"$f":"IF($B379=\"\", \"\",VLOOKUP($B379, CAD!$D$7:$E$2000, 2, FALSE))","v":""},{"$f":"IF($B379=\"\", \"\",VLOOKUP($B379, CAD!$F$7:$G$2000, 2, FALSE))","v":""},{"$f":"IF($B379=\"\", \"\",VLOOKUP($B379, CAD!$H$7:$I$2000, 2, FALSE))","v":""},{"$f":"IF($B379=\"\", \"\",VLOOKUP($B379, CAD!$J$7:$K$2000, 2, FALSE))","v":""},{"$f":"IF($B379=\"\", \"\", VLOOKUP($B379, CAD!$L$7:$M$2000, 2, FALSE))","v":""},{"$f":"IF($B379=\"\", \"\", VLOOKUP($B379, CAD!$N$7:$O$2000, 2, FALSE))","v":""},{"$f":"IF($B379=\"\", \"\", VLOOKUP($B379, CAD!$P$7:$Q$2000, 2, FALSE))","v":""},{"$f":"IF($B379=\"\", \"\", VLOOKUP($B379, CAD!$R$7:$S$2000, 2, FALSE))","v":""},{"$f":"IF($B379=\"\", \"\", VLOOKUP($B379, CAD!$T$7:$U$2000, 2, FALSE))","v":""},{"$f":"IF($B379=\"\", \"\", VLOOKUP($B379, CAD!$V$7:$W$2000, 2, FALSE))","v":""}]
[null,{"$f":"IF(CAD!B377=\"\", \"\", CAD!B377)","v":""},{"$f":"IF($B380=\"\", \"\", CAD!C377)","v":""},{"$f":"IF($B380=\"\", \"\",VLOOKUP($B380, CAD!$D$7:$E$2000, 2, FALSE))","v":""},{"$f":"IF($B380=\"\", \"\",VLOOKUP($B380, CAD!$F$7:$G$2000, 2, FALSE))","v":""},{"$f":"IF($B380=\"\", \"\",VLOOKUP($B380, CAD!$H$7:$I$2000, 2, FALSE))","v":""},{"$f":"IF($B380=\"\", \"\",VLOOKUP($B380, CAD!$J$7:$K$2000, 2, FALSE))","v":""},{"$f":"IF($B380=\"\", \"\", VLOOKUP($B380, CAD!$L$7:$M$2000, 2, FALSE))","v":""},{"$f":"IF($B380=\"\", \"\", VLOOKUP($B380, CAD!$N$7:$O$2000, 2, FALSE))","v":""},{"$f":"IF($B380=\"\", \"\", VLOOKUP($B380, CAD!$P$7:$Q$2000, 2, FALSE))","v":""},{"$f":"IF($B380=\"\", \"\", VLOOKUP($B380, CAD!$R$7:$S$2000, 2, FALSE))","v":""},{"$f":"IF($B380=\"\", \"\", VLOOKUP($B380, CAD!$T$7:$U$2000, 2, FALSE))","v":""},{"$f":"IF($B380=\"\", \"\", VLOOKUP($B380, CAD!$V$7:$W$2000, 2, FALSE))","v":""}]
[null,{"$f":"IF(CAD!B378=\"\", \"\", CAD!B378)","v":""},{"$f":"IF($B381=\"\", \"\", CAD!C378)","v":""},{"$f":"IF($B381=\"\", \"\",VLOOKUP($B381, CAD!$D$7:$E$2000, 2, FALSE))","v":""},{"$f":"IF($B381=\"\", \"\",VLOOKUP($B381, CAD!$F$7:$G$2000, 2, FALSE))","v":""},{"$f":"IF($B381=\"\", \"\",VLOOKUP($B381, CAD!$H$7:$I$2000, 2, FALSE))","v":""},{"$f":"IF($B381=\"\", \"\",VLOOKUP($B381, CAD!$J$7:$K$2000, 2, FALSE))","v":""},{"$f":"IF($B381=\"\", \"\", VLOOKUP($B381, CAD!$L$7:$M$2000, 2, FALSE))","v":""},{"$f":"IF($B381=\"\", \"\", VLOOKUP($B381, CAD!$N$7:$O$2000, 2, FALSE))","v":""},{"$f":"IF($B381=\"\", \"\", VLOOKUP($B381, CAD!$P$7:$Q$2000, 2, FALSE))","v":""},{"$f":"IF($B381=\"\", \"\", VLOOKUP($B381, CAD!$R$7:$S$2000, 2, FALSE))","v":""},{"$f":"IF($B381=\"\", \"\", VLOOKUP($B381, CAD!$T$7:$U$2000, 2, FALSE))","v":""},{"$f":"IF($B381=\"\", \"\", VLOOKUP($B381, CAD!$V$7:$W$2000, 2, FALSE))","v":""}]
[null,{"$f":"IF(CAD!B379=\"\", \"\", CAD!B379)","v":""},{"$f":"IF($B382=\"\", \"\", CAD!C379)","v":""},{"$f":"IF($B382=\"\", \"\",VLOOKUP($B382, CAD!$D$7:$E$2000, 2, FALSE))","v":""},{"$f":"IF($B382=\"\", \"\",VLOOKUP($B382, CAD!$F$7:$G$2000, 2, FALSE))","v":""},{"$f":"IF($B382=\"\", \"\",VLOOKUP($B382, CAD!$H$7:$I$2000, 2, FALSE))","v":""},{"$f":"IF($B382=\"\", \"\",VLOOKUP($B382, CAD!$J$7:$K$2000, 2, FALSE))","v":""},{"$f":"IF($B382=\"\", \"\", VLOOKUP($B382, CAD!$L$7:$M$2000, 2, FALSE))","v":""},{"$f":"IF($B382=\"\", \"\", VLOOKUP($B382, CAD!$N$7:$O$2000, 2, FALSE))","v":""},{"$f":"IF($B382=\"\", \"\", VLOOKUP($B382, CAD!$P$7:$Q$2000, 2, FALSE))","v":""},{"$f":"IF($B382=\"\", \"\", VLOOKUP($B382, CAD!$R$7:$S$2000, 2, FALSE))","v":""},{"$f":"IF($B382=\"\", \"\", VLOOKUP($B382, CAD!$T$7:$U$2000, 2, FALSE))","v":""},{"$f":"IF($B382=\"\", \"\", VLOOKUP($B382, CAD!$V$7:$W$2000, 2, FALSE))","v":""}]
[null,{"$f":"IF(CAD!B380=\"\", \"\", CAD!B380)","v":""},{"$f":"IF($B383=\"\", \"\", CAD!C380)","v":""},{"$f":"IF($B383=\"\", \"\",VLOOKUP($B383, CAD!$D$7:$E$2000, 2, FALSE))","v":""},{"$f":"IF($B383=\"\", \"\",VLOOKUP($B383, CAD!$F$7:$G$2000, 2, FALSE))","v":""},{"$f":"IF($B383=\"\", \"\",VLOOKUP($B383, CAD!$H$7:$I$2000, 2, FALSE))","v":""},{"$f":"IF($B383=\"\", \"\",VLOOKUP($B383, CAD!$J$7:$K$2000, 2, FALSE))","v":""},{"$f":"IF($B383=\"\", \"\", VLOOKUP($B383, CAD!$L$7:$M$2000, 2, FALSE))","v":""},{"$f":"IF($B383=\"\", \"\", VLOOKUP($B383, CAD!$N$7:$O$2000, 2, FALSE))","v":""},{"$f":"IF($B383=\"\", \"\", VLOOKUP($B383, CAD!$P$7:$Q$2000, 2, FALSE))","v":""},{"$f":"IF($B383=\"\", \"\", VLOOKUP($B383, CAD!$R$7:$S$2000, 2, FALSE))","v":""},{"$f":"IF($B383=\"\", \"\", VLOOKUP($B383, CAD!$T$7:$U$2000, 2, FALSE))","v":""},{"$f":"IF($B383=\"\", \"\", VLOOKUP($B383, CAD!$V$7:$W$2000, 2, FALSE))","v":""}]
[null,{"$f":"IF(CAD!B381=\"\", \"\", CAD!B381)","v":""},{"$f":"IF($B384=\"\", \"\", CAD!C381)","v":""},{"$f":"IF($B384=\"\", \"\",VLOOKUP($B384, CAD!$D$7:$E$2000, 2, FALSE))","v":""},{"$f":"IF($B384=\"\", \"\",VLOOKUP($B384, CAD!$F$7:$G$2000, 2, FALSE))","v":""},{"$f":"IF($B384=\"\", \"\",VLOOKUP($B384, CAD!$H$7:$I$2000, 2, FALSE))","v":""},{"$f":"IF($B384=\"\", \"\",VLOOKUP($B384, CAD!$J$7:$K$2000, 2, FALSE))","v":""},{"$f":"IF($B384=\"\", \"\", VLOOKUP($B384, CAD!$L$7:$M$2000, 2, FALSE))","v":""},{"$f":"IF($B384=\"\", \"\", VLOOKUP($B384, CAD!$N$7:$O$2000, 2, FALSE))","v":""},{"$f":"IF($B384=\"\", \"\", VLOOKUP($B384, CAD!$P$7:$Q$2000, 2, FALSE))","v":""},{"$f":"IF($B384=\"\", \"\", VLOOKUP($B384, CAD!$R$7:$S$2000, 2, FALSE))","v":""},{"$f":"IF($B384=\"\", \"\", VLOOKUP($B384, CAD!$T$7:$U$2000, 2, FALSE))","v":""},{"$f":"IF($B384=\"\", \"\", VLOOKUP($B384, CAD!$V$7:$W$2000, 2, FALSE))","v":""}]
[null,{"$f":"IF(CAD!B382=\"\", \"\", CAD!B382)","v":""},{"$f":"IF($B385=\"\", \"\", CAD!C382)","v":""},{"$f":"IF($B385=\"\", \"\",VLOOKUP($B385, CAD!$D$7:$E$2000, 2, FALSE))","v":""},{"$f":"IF($B385=\"\", \"\",VLOOKUP($B385, CAD!$F$7:$G$2000, 2, FALSE))","v":""},{"$f":"IF($B385=\"\", \"\",VLOOKUP($B385, CAD!$H$7:$I$2000, 2, FALSE))","v":""},{"$f":"IF($B385=\"\", \"\",VLOOKUP($B385, CAD!$J$7:$K$2000, 2, FALSE))","v":""},{"$f":"IF($B385=\"\", \"\", VLOOKUP($B385, CAD!$L$7:$M$2000, 2, FALSE))","v":""},{"$f":"IF($B385=\"\", \"\", VLOOKUP($B385, CAD!$N$7:$O$2000, 2, FALSE))","v":""},{"$f":"IF($B385=\"\", \"\", VLOOKUP($B385, CAD!$P$7:$Q$2000, 2, FALSE))","v":""},{"$f":"IF($B385=\"\", \"\", VLOOKUP($B385, CAD!$R$7:$S$2000, 2, FALSE))","v":""},{"$f":"IF($B385=\"\", \"\", VLOOKUP($B385, CAD!$T$7:$U$2000, 2, FALSE))","v":""},{"$f":"IF($B385=\"\", \"\", VLOOKUP($B385, CAD!$V$7:$W$2000, 2, FALSE))","v":""}]
[null,{"$f":"IF(CAD!B383=\"\", \"\", CAD!B383)","v":""},{"$f":"IF($B386=\"\", \"\", CAD!C383)","v":""},{"$f":"IF($B386=\"\", \"\",VLOOKUP($B386, CAD!$D$7:$E$2000, 2, FALSE))","v":""},{"$f":"IF($B386=\"\", \"\",VLOOKUP($B386, CAD!$F$7:$G$2000, 2, FALSE))","v":""},{"$f":"IF($B386=\"\", \"\",VLOOKUP($B386, CAD!$H$7:$I$2000, 2, FALSE))","v":""},{"$f":"IF($B386=\"\", \"\",VLOOKUP($B386, CAD!$J$7:$K$2000, 2, FALSE))","v":""},{"$f":"IF($B386=\"\", \"\", VLOOKUP($B386, CAD!$L$7:$M$2000, 2, FALSE))","v":""},{"$f":"IF($B386=\"\", \"\", VLOOKUP($B386, CAD!$N$7:$O$2000, 2, FALSE))","v":""},{"$f":"IF($B386=\"\", \"\", VLOOKUP($B386, CAD!$P$7:$Q$2000, 2, FALSE))","v":""},{"$f":"IF($B386=\"\", \"\", VLOOKUP($B386, CAD!$R$7:$S$2000, 2, FALSE))","v":""},{"$f":"IF($B386=\"\", \"\", VLOOKUP($B386, CAD!$T$7:$U$2000, 2, FALSE))","v":""},{"$f":"IF($B386=\"\", \"\", VLOOKUP($B386, CAD!$V$7:$W$2000, 2, FALSE))","v":""}]
[null,{"$f":"IF(CAD!B384=\"\", \"\", CAD!B384)","v":""},{"$f":"IF($B387=\"\", \"\", CAD!C384)","v":""},{"$f":"IF($B387=\"\", \"\",VLOOKUP($B387, CAD!$D$7:$E$2000, 2, FALSE))","v":""},{"$f":"IF($B387=\"\", \"\",VLOOKUP($B387, CAD!$F$7:$G$2000, 2, FALSE))","v":""},{"$f":"IF($B387=\"\", \"\",VLOOKUP($B387, CAD!$H$7:$I$2000, 2, FALSE))","v":""},{"$f":"IF($B387=\"\", \"\",VLOOKUP($B387, CAD!$J$7:$K$2000, 2, FALSE))","v":""},{"$f":"IF($B387=\"\", \"\", VLOOKUP($B387, CAD!$L$7:$M$2000, 2, FALSE))","v":""},{"$f":"IF($B387=\"\", \"\", VLOOKUP($B387, CAD!$N$7:$O$2000, 2, FALSE))","v":""},{"$f":"IF($B387=\"\", \"\", VLOOKUP($B387, CAD!$P$7:$Q$2000, 2, FALSE))","v":""},{"$f":"IF($B387=\"\", \"\", VLOOKUP($B387, CAD!$R$7:$S$2000, 2, FALSE))","v":""},{"$f":"IF($B387=\"\", \"\", VLOOKUP($B387, CAD!$T$7:$U$2000, 2, FALSE))","v":""},{"$f":"IF($B387=\"\", \"\", VLOOKUP($B387, CAD!$V$7:$W$2000, 2, FALSE))","v":""}]
[null,{"$f":"IF(CAD!B385=\"\", \"\", CAD!B385)","v":""},{"$f":"IF($B388=\"\", \"\", CAD!C385)","v":""},{"$f":"IF($B388=\"\", \"\",VLOOKUP($B388, CAD!$D$7:$E$2000, 2, FALSE))","v":""},{"$f":"IF($B388=\"\", \"\",VLOOKUP($B388, CAD!$F$7:$G$2000, 2, FALSE))","v":""},{"$f":"IF($B388=\"\", \"\",VLOOKUP($B388, CAD!$H$7:$I$2000, 2, FALSE))","v":""},{"$f":"IF($B388=\"\", \"\",VLOOKUP($B388, CAD!$J$7:$K$2000, 2, FALSE))","v":""},{"$f":"IF($B388=\"\", \"\", VLOOKUP($B388, CAD!$L$7:$M$2000, 2, FALSE))","v":""},{"$f":"IF($B388=\"\", \"\", VLOOKUP($B388, CAD!$N$7:$O$2000, 2, FALSE))","v":""},{"$f":"IF($B388=\"\", \"\", VLOOKUP($B388, CAD!$P$7:$Q$2000, 2, FALSE))","v":""},{"$f":"IF($B388=\"\", \"\", VLOOKUP($B388, CAD!$R$7:$S$2000, 2, FALSE))","v":""},{"$f":"IF($B388=\"\", \"\", VLOOKUP($B388, CAD!$T$7:$U$2000, 2, FALSE))","v":""},{"$f":"IF($B388=\"\", \"\", VLOOKUP($B388, CAD!$V$7:$W$2000, 2, FALSE))","v":""}]
[null,{"$f":"IF(CAD!B386=\"\", \"\", CAD!B386)","v":""},{"$f":"IF($B389=\"\", \"\", CAD!C386)","v":""},{"$f":"IF($B389=\"\", \"\",VLOOKUP($B389, CAD!$D$7:$E$2000, 2, FALSE))","v":""},{"$f":"IF($B389=\"\", \"\",VLOOKUP($B389, CAD!$F$7:$G$2000, 2, FALSE))","v":""},{"$f":"IF($B389=\"\", \"\",VLOOKUP($B389, CAD!$H$7:$I$2000, 2, FALSE))","v":""},{"$f":"IF($B389=\"\", \"\",VLOOKUP($B389, CAD!$J$7:$K$2000, 2, FALSE))","v":""},{"$f":"IF($B389=\"\", \"\", VLOOKUP($B389, CAD!$L$7:$M$2000, 2, FALSE))","v":""},{"$f":"IF($B389=\"\", \"\", VLOOKUP($B389, CAD!$N$7:$O$2000, 2, FALSE))","v":""},{"$f":"IF($B389=\"\", \"\", VLOOKUP($B389, CAD!$P$7:$Q$2000, 2, FALSE))","v":""},{"$f":"IF($B389=\"\", \"\", VLOOKUP($B389, CAD!$R$7:$S$2000, 2, FALSE))","v":""},{"$f":"IF($B389=\"\", \"\", VLOOKUP($B389, CAD!$T$7:$U$2000, 2, FALSE))","v":""},{"$f":"IF($B389=\"\", \"\", VLOOKUP($B389, CAD!$V$7:$W$2000, 2, FALSE))","v":""}]
[null,{"$f":"IF(CAD!B387=\"\", \"\", CAD!B387)","v":""},{"$f":"IF($B390=\"\", \"\", CAD!C387)","v":""},{"$f":"IF($B390=\"\", \"\",VLOOKUP($B390, CAD!$D$7:$E$2000, 2, FALSE))","v":""},{"$f":"IF($B390=\"\", \"\",VLOOKUP($B390, CAD!$F$7:$G$2000, 2, FALSE))","v":""},{"$f":"IF($B390=\"\", \"\",VLOOKUP($B390, CAD!$H$7:$I$2000, 2, FALSE))","v":""},{"$f":"IF($B390=\"\", \"\",VLOOKUP($B390, CAD!$J$7:$K$2000, 2, FALSE))","v":""},{"$f":"IF($B390=\"\", \"\", VLOOKUP($B390, CAD!$L$7:$M$2000, 2, FALSE))","v":""},{"$f":"IF($B390=\"\", \"\", VLOOKUP($B390, CAD!$N$7:$O$2000, 2, FALSE))","v":""},{"$f":"IF($B390=\"\", \"\", VLOOKUP($B390, CAD!$P$7:$Q$2000, 2, FALSE))","v":""},{"$f":"IF($B390=\"\", \"\", VLOOKUP($B390, CAD!$R$7:$S$2000, 2, FALSE))","v":""},{"$f":"IF($B390=\"\", \"\", VLOOKUP($B390, CAD!$T$7:$U$2000, 2, FALSE))","v":""},{"$f":"IF($B390=\"\", \"\", VLOOKUP($B390, CAD!$V$7:$W$2000, 2, FALSE))","v":""}]
[null,{"$f":"IF(CAD!B388=\"\", \"\", CAD!B388)","v":""},{"$f":"IF($B391=\"\", \"\", CAD!C388)","v":""},{"$f":"IF($B391=\"\", \"\",VLOOKUP($B391, CAD!$D$7:$E$2000, 2, FALSE))","v":""},{"$f":"IF($B391=\"\", \"\",VLOOKUP($B391, CAD!$F$7:$G$2000, 2, FALSE))","v":""},{"$f":"IF($B391=\"\", \"\",VLOOKUP($B391, CAD!$H$7:$I$2000, 2, FALSE))","v":""},{"$f":"IF($B391=\"\", \"\",VLOOKUP($B391, CAD!$J$7:$K$2000, 2, FALSE))","v":""},{"$f":"IF($B391=\"\", \"\", VLOOKUP($B391, CAD!$L$7:$M$2000, 2, FALSE))","v":""},{"$f":"IF($B391=\"\", \"\", VLOOKUP($B391, CAD!$N$7:$O$2000, 2, FALSE))","v":""},{"$f":"IF($B391=\"\", \"\", VLOOKUP($B391, CAD!$P$7:$Q$2000, 2, FALSE))","v":""},{"$f":"IF($B391=\"\", \"\", VLOOKUP($B391, CAD!$R$7:$S$2000, 2, FALSE))","v":""},{"$f":"IF($B391=\"\", \"\", VLOOKUP($B391, CAD!$T$7:$U$2000, 2, FALSE))","v":""},{"$f":"IF($B391=\"\", \"\", VLOOKUP($B391, CAD!$V$7:$W$2000, 2, FALSE))","v":""}]
[null,{"$f":"IF(CAD!B389=\"\", \"\", CAD!B389)","v":""},{"$f":"IF($B392=\"\", \"\", CAD!C389)","v":""},{"$f":"IF($B392=\"\", \"\",VLOOKUP($B392, CAD!$D$7:$E$2000, 2, FALSE))","v":""},{"$f":"IF($B392=\"\", \"\",VLOOKUP($B392, CAD!$F$7:$G$2000, 2, FALSE))","v":""},{"$f":"IF($B392=\"\", \"\",VLOOKUP($B392, CAD!$H$7:$I$2000, 2, FALSE))","v":""},{"$f":"IF($B392=\"\", \"\",VLOOKUP($B392, CAD!$J$7:$K$2000, 2, FALSE))","v":""},{"$f":"IF($B392=\"\", \"\", VLOOKUP($B392, CAD!$L$7:$M$2000, 2, FALSE))","v":""},{"$f":"IF($B392=\"\", \"\", VLOOKUP($B392, CAD!$N$7:$O$2000, 2, FALSE))","v":""},{"$f":"IF($B392=\"\", \"\", VLOOKUP($B392, CAD!$P$7:$Q$2000, 2, FALSE))","v":""},{"$f":"IF($B392=\"\", \"\", VLOOKUP($B392, CAD!$R$7:$S$2000, 2, FALSE))","v":""},{"$f":"IF($B392=\"\", \"\", VLOOKUP($B392, CAD!$T$7:$U$2000, 2, FALSE))","v":""},{"$f":"IF($B392=\"\", \"\", VLOOKUP($B392, CAD!$V$7:$W$2000, 2, FALSE))","v":""}]
[null,{"$f":"IF(CAD!B390=\"\", \"\", CAD!B390)","v":""},{"$f":"IF($B393=\"\", \"\", CAD!C390)","v":""},{"$f":"IF($B393=\"\", \"\",VLOOKUP($B393, CAD!$D$7:$E$2000, 2, FALSE))","v":""},{"$f":"IF($B393=\"\", \"\",VLOOKUP($B393, CAD!$F$7:$G$2000, 2, FALSE))","v":""},{"$f":"IF($B393=\"\", \"\",VLOOKUP($B393, CAD!$H$7:$I$2000, 2, FALSE))","v":""},{"$f":"IF($B393=\"\", \"\",VLOOKUP($B393, CAD!$J$7:$K$2000, 2, FALSE))","v":""},{"$f":"IF($B393=\"\", \"\", VLOOKUP($B393, CAD!$L$7:$M$2000, 2, FALSE))","v":""},{"$f":"IF($B393=\"\", \"\", VLOOKUP($B393, CAD!$N$7:$O$2000, 2, FALSE))","v":""},{"$f":"IF($B393=\"\", \"\", VLOOKUP($B393, CAD!$P$7:$Q$2000, 2, FALSE))","v":""},{"$f":"IF($B393=\"\", \"\", VLOOKUP($B393, CAD!$R$7:$S$2000, 2, FALSE))","v":""},{"$f":"IF($B393=\"\", \"\", VLOOKUP($B393, CAD!$T$7:$U$2000, 2, FALSE))","v":""},{"$f":"IF($B393=\"\", \"\", VLOOKUP($B393, CAD!$V$7:$W$2000, 2, FALSE))","v":""}]
[null,{"$f":"IF(CAD!B391=\"\", \"\", CAD!B391)","v":""},{"$f":"IF($B394=\"\", \"\", CAD!C391)","v":""},{"$f":"IF($B394=\"\", \"\",VLOOKUP($B394, CAD!$D$7:$E$2000, 2, FALSE))","v":""},{"$f":"IF($B394=\"\", \"\",VLOOKUP($B394, CAD!$F$7:$G$2000, 2, FALSE))","v":""},{"$f":"IF($B394=\"\", \"\",VLOOKUP($B394, CAD!$H$7:$I$2000, 2, FALSE))","v":""},{"$f":"IF($B394=\"\", \"\",VLOOKUP($B394, CAD!$J$7:$K$2000, 2, FALSE))","v":""},{"$f":"IF($B394=\"\", \"\", VLOOKUP($B394, CAD!$L$7:$M$2000, 2, FALSE))","v":""},{"$f":"IF($B394=\"\", \"\", VLOOKUP($B394, CAD!$N$7:$O$2000, 2, FALSE))","v":""},{"$f":"IF($B394=\"\", \"\", VLOOKUP($B394, CAD!$P$7:$Q$2000, 2, FALSE))","v":""},{"$f":"IF($B394=\"\", \"\", VLOOKUP($B394, CAD!$R$7:$S$2000, 2, FALSE))","v":""},{"$f":"IF($B394=\"\", \"\", VLOOKUP($B394, CAD!$T$7:$U$2000, 2, FALSE))","v":""},{"$f":"IF($B394=\"\", \"\", VLOOKUP($B394, CAD!$V$7:$W$2000, 2, FALSE))","v":""}]
[null,{"$f":"IF(CAD!B392=\"\", \"\", CAD!B392)","v":""},{"$f":"IF($B395=\"\", \"\", CAD!C392)","v":""},{"$f":"IF($B395=\"\", \"\",VLOOKUP($B395, CAD!$D$7:$E$2000, 2, FALSE))","v":""},{"$f":"IF($B395=\"\", \"\",VLOOKUP($B395, CAD!$F$7:$G$2000, 2, FALSE))","v":""},{"$f":"IF($B395=\"\", \"\",VLOOKUP($B395, CAD!$H$7:$I$2000, 2, FALSE))","v":""},{"$f":"IF($B395=\"\", \"\",VLOOKUP($B395, CAD!$J$7:$K$2000, 2, FALSE))","v":""},{"$f":"IF($B395=\"\", \"\", VLOOKUP($B395, CAD!$L$7:$M$2000, 2, FALSE))","v":""},{"$f":"IF($B395=\"\", \"\", VLOOKUP($B395, CAD!$N$7:$O$2000, 2, FALSE))","v":""},{"$f":"IF($B395=\"\", \"\", VLOOKUP($B395, CAD!$P$7:$Q$2000, 2, FALSE))","v":""},{"$f":"IF($B395=\"\", \"\", VLOOKUP($B395, CAD!$R$7:$S$2000, 2, FALSE))","v":""},{"$f":"IF($B395=\"\", \"\", VLOOKUP($B395, CAD!$T$7:$U$2000, 2, FALSE))","v":""},{"$f":"IF($B395=\"\", \"\", VLOOKUP($B395, CAD!$V$7:$W$2000, 2, FALSE))","v":""}]
[null,{"$f":"IF(CAD!B393=\"\", \"\", CAD!B393)","v":""},{"$f":"IF($B396=\"\", \"\", CAD!C393)","v":""},{"$f":"IF($B396=\"\", \"\",VLOOKUP($B396, CAD!$D$7:$E$2000, 2, FALSE))","v":""},{"$f":"IF($B396=\"\", \"\",VLOOKUP($B396, CAD!$F$7:$G$2000, 2, FALSE))","v":""},{"$f":"IF($B396=\"\", \"\",VLOOKUP($B396, CAD!$H$7:$I$2000, 2, FALSE))","v":""},{"$f":"IF($B396=\"\", \"\",VLOOKUP($B396, CAD!$J$7:$K$2000, 2, FALSE))","v":""},{"$f":"IF($B396=\"\", \"\", VLOOKUP($B396, CAD!$L$7:$M$2000, 2, FALSE))","v":""},{"$f":"IF($B396=\"\", \"\", VLOOKUP($B396, CAD!$N$7:$O$2000, 2, FALSE))","v":""},{"$f":"IF($B396=\"\", \"\", VLOOKUP($B396, CAD!$P$7:$Q$2000, 2, FALSE))","v":""},{"$f":"IF($B396=\"\", \"\", VLOOKUP($B396, CAD!$R$7:$S$2000, 2, FALSE))","v":""},{"$f":"IF($B396=\"\", \"\", VLOOKUP($B396, CAD!$T$7:$U$2000, 2, FALSE))","v":""},{"$f":"IF($B396=\"\", \"\", VLOOKUP($B396, CAD!$V$7:$W$2000, 2, FALSE))","v":""}]
[null,{"$f":"IF(CAD!B394=\"\", \"\", CAD!B394)","v":""},{"$f":"IF($B397=\"\", \"\", CAD!C394)","v":""},{"$f":"IF($B397=\"\", \"\",VLOOKUP($B397, CAD!$D$7:$E$2000, 2, FALSE))","v":""},{"$f":"IF($B397=\"\", \"\",VLOOKUP($B397, CAD!$F$7:$G$2000, 2, FALSE))","v":""},{"$f":"IF($B397=\"\", \"\",VLOOKUP($B397, CAD!$H$7:$I$2000, 2, FALSE))","v":""},{"$f":"IF($B397=\"\", \"\",VLOOKUP($B397, CAD!$J$7:$K$2000, 2, FALSE))","v":""},{"$f":"IF($B397=\"\", \"\", VLOOKUP($B397, CAD!$L$7:$M$2000, 2, FALSE))","v":""},{"$f":"IF($B397=\"\", \"\", VLOOKUP($B397, CAD!$N$7:$O$2000, 2, FALSE))","v":""},{"$f":"IF($B397=\"\", \"\", VLOOKUP($B397, CAD!$P$7:$Q$2000, 2, FALSE))","v":""},{"$f":"IF($B397=\"\", \"\", VLOOKUP($B397, CAD!$R$7:$S$2000, 2, FALSE))","v":""},{"$f":"IF($B397=\"\", \"\", VLOOKUP($B397, CAD!$T$7:$U$2000, 2, FALSE))","v":""},{"$f":"IF($B397=\"\", \"\", VLOOKUP($B397, CAD!$V$7:$W$2000, 2, FALSE))","v":""}]
[null,{"$f":"IF(CAD!B395=\"\", \"\", CAD!B395)","v":""},{"$f":"IF($B398=\"\", \"\", CAD!C395)","v":""},{"$f":"IF($B398=\"\", \"\",VLOOKUP($B398, CAD!$D$7:$E$2000, 2, FALSE))","v":""},{"$f":"IF($B398=\"\", \"\",VLOOKUP($B398, CAD!$F$7:$G$2000, 2, FALSE))","v":""},{"$f":"IF($B398=\"\", \"\",VLOOKUP($B398, CAD!$H$7:$I$2000, 2, FALSE))","v":""},{"$f":"IF($B398=\"\", \"\",VLOOKUP($B398, CAD!$J$7:$K$2000, 2, FALSE))","v":""},{"$f":"IF($B398=\"\", \"\", VLOOKUP($B398, CAD!$L$7:$M$2000, 2, FALSE))","v":""},{"$f":"IF($B398=\"\", \"\", VLOOKUP($B398, CAD!$N$7:$O$2000, 2, FALSE))","v":""},{"$f":"IF($B398=\"\", \"\", VLOOKUP($B398, CAD!$P$7:$Q$2000, 2, FALSE))","v":""},{"$f":"IF($B398=\"\", \"\", VLOOKUP($B398, CAD!$R$7:$S$2000, 2, FALSE))","v":""},{"$f":"IF($B398=\"\", \"\", VLOOKUP($B398, CAD!$T$7:$U$2000, 2, FALSE))","v":""},{"$f":"IF($B398=\"\", \"\", VLOOKUP($B398, CAD!$V$7:$W$2000, 2, FALSE))","v":""}]
[null,{"$f":"IF(CAD!B396=\"\", \"\", CAD!B396)","v":""},{"$f":"IF($B399=\"\", \"\", CAD!C396)","v":""},{"$f":"IF($B399=\"\", \"\",VLOOKUP($B399, CAD!$D$7:$E$2000, 2, FALSE))","v":""},{"$f":"IF($B399=\"\", \"\",VLOOKUP($B399, CAD!$F$7:$G$2000, 2, FALSE))","v":""},{"$f":"IF($B399=\"\", \"\",VLOOKUP($B399, CAD!$H$7:$I$2000, 2, FALSE))","v":""},{"$f":"IF($B399=\"\", \"\",VLOOKUP($B399, CAD!$J$7:$K$2000, 2, FALSE))","v":""},{"$f":"IF($B399=\"\", \"\", VLOOKUP($B399, CAD!$L$7:$M$2000, 2, FALSE))","v":""},{"$f":"IF($B399=\"\", \"\", VLOOKUP($B399, CAD!$N$7:$O$2000, 2, FALSE))","v":""},{"$f":"IF($B399=\"\", \"\", VLOOKUP($B399, CAD!$P$7:$Q$2000, 2, FALSE))","v":""},{"$f":"IF($B399=\"\", \"\", VLOOKUP($B399, CAD!$R$7:$S$2000, 2, FALSE))","v":""},{"$f":"IF($B399=\"\", \"\", VLOOKUP($B399, CAD!$T$7:$U$2000, 2, FALSE))","v":""},{"$f":"IF($B399=\"\", \"\", VLOOKUP($B399, CAD!$V$7:$W$2000, 2, FALSE))","v":""}]
[null,{"$f":"IF(CAD!B397=\"\", \"\", CAD!B397)","v":""},{"$f":"IF($B400=\"\", \"\", CAD!C397)","v":""},{"$f":"IF($B400=\"\", \"\",VLOOKUP($B400, CAD!$D$7:$E$2000, 2, FALSE))","v":""},{"$f":"IF($B400=\"\", \"\",VLOOKUP($B400, CAD!$F$7:$G$2000, 2, FALSE))","v":""},{"$f":"IF($B400=\"\", \"\",VLOOKUP($B400, CAD!$H$7:$I$2000, 2, FALSE))","v":""},{"$f":"IF($B400=\"\", \"\",VLOOKUP($B400, CAD!$J$7:$K$2000, 2, FALSE))","v":""},{"$f":"IF($B400=\"\", \"\", VLOOKUP($B400, CAD!$L$7:$M$2000, 2, FALSE))","v":""},{"$f":"IF($B400=\"\", \"\", VLOOKUP($B400, CAD!$N$7:$O$2000, 2, FALSE))","v":""},{"$f":"IF($B400=\"\", \"\", VLOOKUP($B400, CAD!$P$7:$Q$2000, 2, FALSE))","v":""},{"$f":"IF($B400=\"\", \"\", VLOOKUP($B400, CAD!$R$7:$S$2000, 2, FALSE))","v":""},{"$f":"IF($B400=\"\", \"\", VLOOKUP($B400, CAD!$T$7:$U$2000, 2, FALSE))","v":""},{"$f":"IF($B400=\"\", \"\", VLOOKUP($B400, CAD!$V$7:$W$2000, 2, FALSE))","v":""}]
[null,{"$f":"IF(CAD!B398=\"\", \"\", CAD!B398)","v":""},{"$f":"IF($B401=\"\", \"\", CAD!C398)","v":""},{"$f":"IF($B401=\"\", \"\",VLOOKUP($B401, CAD!$D$7:$E$2000, 2, FALSE))","v":""},{"$f":"IF($B401=\"\", \"\",VLOOKUP($B401, CAD!$F$7:$G$2000, 2, FALSE))","v":""},{"$f":"IF($B401=\"\", \"\",VLOOKUP($B401, CAD!$H$7:$I$2000, 2, FALSE))","v":""},{"$f":"IF($B401=\"\", \"\",VLOOKUP($B401, CAD!$J$7:$K$2000, 2, FALSE))","v":""},{"$f":"IF($B401=\"\", \"\", VLOOKUP($B401, CAD!$L$7:$M$2000, 2, FALSE))","v":""},{"$f":"IF($B401=\"\", \"\", VLOOKUP($B401, CAD!$N$7:$O$2000, 2, FALSE))","v":""},{"$f":"IF($B401=\"\", \"\", VLOOKUP($B401, CAD!$P$7:$Q$2000, 2, FALSE))","v":""},{"$f":"IF($B401=\"\", \"\", VLOOKUP($B401, CAD!$R$7:$S$2000, 2, FALSE))","v":""},{"$f":"IF($B401=\"\", \"\", VLOOKUP($B401, CAD!$T$7:$U$2000, 2, FALSE))","v":""},{"$f":"IF($B401=\"\", \"\", VLOOKUP($B401, CAD!$V$7:$W$2000, 2, FALSE))","v":""}]
[null,{"$f":"IF(CAD!B399=\"\", \"\", CAD!B399)","v":""},{"$f":"IF($B402=\"\", \"\", CAD!C399)","v":""},{"$f":"IF($B402=\"\", \"\",VLOOKUP($B402, CAD!$D$7:$E$2000, 2, FALSE))","v":""},{"$f":"IF($B402=\"\", \"\",VLOOKUP($B402, CAD!$F$7:$G$2000, 2, FALSE))","v":""},{"$f":"IF($B402=\"\", \"\",VLOOKUP($B402, CAD!$H$7:$I$2000, 2, FALSE))","v":""},{"$f":"IF($B402=\"\", \"\",VLOOKUP($B402, CAD!$J$7:$K$2000, 2, FALSE))","v":""},{"$f":"IF($B402=\"\", \"\", VLOOKUP($B402, CAD!$L$7:$M$2000, 2, FALSE))","v":""},{"$f":"IF($B402=\"\", \"\", VLOOKUP($B402, CAD!$N$7:$O$2000, 2, FALSE))","v":""},{"$f":"IF($B402=\"\", \"\", VLOOKUP($B402, CAD!$P$7:$Q$2000, 2, FALSE))","v":""},{"$f":"IF($B402=\"\", \"\", VLOOKUP($B402, CAD!$R$7:$S$2000, 2, FALSE))","v":""},{"$f":"IF($B402=\"\", \"\", VLOOKUP($B402, CAD!$T$7:$U$2000, 2, FALSE))","v":""},{"$f":"IF($B402=\"\", \"\", VLOOKUP($B402, CAD!$V$7:$W$2000, 2, FALSE))","v":""}]
[null,{"$f":"IF(CAD!B400=\"\", \"\", CAD!B400)","v":""},{"$f":"IF($B403=\"\", \"\", CAD!C400)","v":""},{"$f":"IF($B403=\"\", \"\",VLOOKUP($B403, CAD!$D$7:$E$2000, 2, FALSE))","v":""},{"$f":"IF($B403=\"\", \"\",VLOOKUP($B403, CAD!$F$7:$G$2000, 2, FALSE))","v":""},{"$f":"IF($B403=\"\", \"\",VLOOKUP($B403, CAD!$H$7:$I$2000, 2, FALSE))","v":""},{"$f":"IF($B403=\"\", \"\",VLOOKUP($B403, CAD!$J$7:$K$2000, 2, FALSE))","v":""},{"$f":"IF($B403=\"\", \"\", VLOOKUP($B403, CAD!$L$7:$M$2000, 2, FALSE))","v":""},{"$f":"IF($B403=\"\", \"\", VLOOKUP($B403, CAD!$N$7:$O$2000, 2, FALSE))","v":""},{"$f":"IF($B403=\"\", \"\", VLOOKUP($B403, CAD!$P$7:$Q$2000, 2, FALSE))","v":""},{"$f":"IF($B403=\"\", \"\", VLOOKUP($B403, CAD!$R$7:$S$2000, 2, FALSE))","v":""},{"$f":"IF($B403=\"\", \"\", VLOOKUP($B403, CAD!$T$7:$U$2000, 2, FALSE))","v":""},{"$f":"IF($B403=\"\", \"\", VLOOKUP($B403, CAD!$V$7:$W$2000, 2, FALSE))","v":""}]
[null,{"$f":"IF(CAD!B401=\"\", \"\", CAD!B401)","v":""},{"$f":"IF($B404=\"\", \"\", CAD!C401)","v":""},{"$f":"IF($B404=\"\", \"\",VLOOKUP($B404, CAD!$D$7:$E$2000, 2, FALSE))","v":""},{"$f":"IF($B404=\"\", \"\",VLOOKUP($B404, CAD!$F$7:$G$2000, 2, FALSE))","v":""},{"$f":"IF($B404=\"\", \"\",VLOOKUP($B404, CAD!$H$7:$I$2000, 2, FALSE))","v":""},{"$f":"IF($B404=\"\", \"\",VLOOKUP($B404, CAD!$J$7:$K$2000, 2, FALSE))","v":""},{"$f":"IF($B404=\"\", \"\", VLOOKUP($B404, CAD!$L$7:$M$2000, 2, FALSE))","v":""},{"$f":"IF($B404=\"\", \"\", VLOOKUP($B404, CAD!$N$7:$O$2000, 2, FALSE))","v":""},{"$f":"IF($B404=\"\", \"\", VLOOKUP($B404, CAD!$P$7:$Q$2000, 2, FALSE))","v":""},{"$f":"IF($B404=\"\", \"\", VLOOKUP($B404, CAD!$R$7:$S$2000, 2, FALSE))","v":""},{"$f":"IF($B404=\"\", \"\", VLOOKUP($B404, CAD!$T$7:$U$2000, 2, FALSE))","v":""},{"$f":"IF($B404=\"\", \"\", VLOOKUP($B404, CAD!$V$7:$W$2000, 2, FALSE))","v":""}]
[null,{"$f":"IF(CAD!B402=\"\", \"\", CAD!B402)","v":""},{"$f":"IF($B405=\"\", \"\", CAD!C402)","v":""},{"$f":"IF($B405=\"\", \"\",VLOOKUP($B405, CAD!$D$7:$E$2000, 2, FALSE))","v":""},{"$f":"IF($B405=\"\", \"\",VLOOKUP($B405, CAD!$F$7:$G$2000, 2, FALSE))","v":""},{"$f":"IF($B405=\"\", \"\",VLOOKUP($B405, CAD!$H$7:$I$2000, 2, FALSE))","v":""},{"$f":"IF($B405=\"\", \"\",VLOOKUP($B405, CAD!$J$7:$K$2000, 2, FALSE))","v":""},{"$f":"IF($B405=\"\", \"\", VLOOKUP($B405, CAD!$L$7:$M$2000, 2, FALSE))","v":""},{"$f":"IF($B405=\"\", \"\", VLOOKUP($B405, CAD!$N$7:$O$2000, 2, FALSE))","v":""},{"$f":"IF($B405=\"\", \"\", VLOOKUP($B405, CAD!$P$7:$Q$2000, 2, FALSE))","v":""},{"$f":"IF($B405=\"\", \"\", VLOOKUP($B405, CAD!$R$7:$S$2000, 2, FALSE))","v":""},{"$f":"IF($B405=\"\", \"\", VLOOKUP($B405, CAD!$T$7:$U$2000, 2, FALSE))","v":""},{"$f":"IF($B405=\"\", \"\", VLOOKUP($B405, CAD!$V$7:$W$2000, 2, FALSE))","v":""}]
[null,{"$f":"IF(CAD!B403=\"\", \"\", CAD!B403)","v":""},{"$f":"IF($B406=\"\", \"\", CAD!C403)","v":""},{"$f":"IF($B406=\"\", \"\",VLOOKUP($B406, CAD!$D$7:$E$2000, 2, FALSE))","v":""},{"$f":"IF($B406=\"\", \"\",VLOOKUP($B406, CAD!$F$7:$G$2000, 2, FALSE))","v":""},{"$f":"IF($B406=\"\", \"\",VLOOKUP($B406, CAD!$H$7:$I$2000, 2, FALSE))","v":""},{"$f":"IF($B406=\"\", \"\",VLOOKUP($B406, CAD!$J$7:$K$2000, 2, FALSE))","v":""},{"$f":"IF($B406=\"\", \"\", VLOOKUP($B406, CAD!$L$7:$M$2000, 2, FALSE))","v":""},{"$f":"IF($B406=\"\", \"\", VLOOKUP($B406, CAD!$N$7:$O$2000, 2, FALSE))","v":""},{"$f":"IF($B406=\"\", \"\", VLOOKUP($B406, CAD!$P$7:$Q$2000, 2, FALSE))","v":""},{"$f":"IF($B406=\"\", \"\", VLOOKUP($B406, CAD!$R$7:$S$2000, 2, FALSE))","v":""},{"$f":"IF($B406=\"\", \"\", VLOOKUP($B406, CAD!$T$7:$U$2000, 2, FALSE))","v":""},{"$f":"IF($B406=\"\", \"\", VLOOKUP($B406, CAD!$V$7:$W$2000, 2, FALSE))","v":""}]
[null,{"$f":"IF(CAD!B404=\"\", \"\", CAD!B404)","v":""},{"$f":"IF($B407=\"\", \"\", CAD!C404)","v":""},{"$f":"IF($B407=\"\", \"\",VLOOKUP($B407, CAD!$D$7:$E$2000, 2, FALSE))","v":""},{"$f":"IF($B407=\"\", \"\",VLOOKUP($B407, CAD!$F$7:$G$2000, 2, FALSE))","v":""},{"$f":"IF($B407=\"\", \"\",VLOOKUP($B407, CAD!$H$7:$I$2000, 2, FALSE))","v":""},{"$f":"IF($B407=\"\", \"\",VLOOKUP($B407, CAD!$J$7:$K$2000, 2, FALSE))","v":""},{"$f":"IF($B407=\"\", \"\", VLOOKUP($B407, CAD!$L$7:$M$2000, 2, FALSE))","v":""},{"$f":"IF($B407=\"\", \"\", VLOOKUP($B407, CAD!$N$7:$O$2000, 2, FALSE))","v":""},{"$f":"IF($B407=\"\", \"\", VLOOKUP($B407, CAD!$P$7:$Q$2000, 2, FALSE))","v":""},{"$f":"IF($B407=\"\", \"\", VLOOKUP($B407, CAD!$R$7:$S$2000, 2, FALSE))","v":""},{"$f":"IF($B407=\"\", \"\", VLOOKUP($B407, CAD!$T$7:$U$2000, 2, FALSE))","v":""},{"$f":"IF($B407=\"\", \"\", VLOOKUP($B407, CAD!$V$7:$W$2000, 2, FALSE))","v":""}]
[null,{"$f":"IF(CAD!B405=\"\", \"\", CAD!B405)","v":""},{"$f":"IF($B408=\"\", \"\", CAD!C405)","v":""},{"$f":"IF($B408=\"\", \"\",VLOOKUP($B408, CAD!$D$7:$E$2000, 2, FALSE))","v":""},{"$f":"IF($B408=\"\", \"\",VLOOKUP($B408, CAD!$F$7:$G$2000, 2, FALSE))","v":""},{"$f":"IF($B408=\"\", \"\",VLOOKUP($B408, CAD!$H$7:$I$2000, 2, FALSE))","v":""},{"$f":"IF($B408=\"\", \"\",VLOOKUP($B408, CAD!$J$7:$K$2000, 2, FALSE))","v":""},{"$f":"IF($B408=\"\", \"\", VLOOKUP($B408, CAD!$L$7:$M$2000, 2, FALSE))","v":""},{"$f":"IF($B408=\"\", \"\", VLOOKUP($B408, CAD!$N$7:$O$2000, 2, FALSE))","v":""},{"$f":"IF($B408=\"\", \"\", VLOOKUP($B408, CAD!$P$7:$Q$2000, 2, FALSE))","v":""},{"$f":"IF($B408=\"\", \"\", VLOOKUP($B408, CAD!$R$7:$S$2000, 2, FALSE))","v":""},{"$f":"IF($B408=\"\", \"\", VLOOKUP($B408, CAD!$T$7:$U$2000, 2, FALSE))","v":""},{"$f":"IF($B408=\"\", \"\", VLOOKUP($B408, CAD!$V$7:$W$2000, 2, FALSE))","v":""}]
[null,{"$f":"IF(CAD!B406=\"\", \"\", CAD!B406)","v":""},{"$f":"IF($B409=\"\", \"\", CAD!C406)","v":""},{"$f":"IF($B409=\"\", \"\",VLOOKUP($B409, CAD!$D$7:$E$2000, 2, FALSE))","v":""},{"$f":"IF($B409=\"\", \"\",VLOOKUP($B409, CAD!$F$7:$G$2000, 2, FALSE))","v":""},{"$f":"IF($B409=\"\", \"\",VLOOKUP($B409, CAD!$H$7:$I$2000, 2, FALSE))","v":""},{"$f":"IF($B409=\"\", \"\",VLOOKUP($B409, CAD!$J$7:$K$2000, 2, FALSE))","v":""},{"$f":"IF($B409=\"\", \"\", VLOOKUP($B409, CAD!$L$7:$M$2000, 2, FALSE))","v":""},{"$f":"IF($B409=\"\", \"\", VLOOKUP($B409, CAD!$N$7:$O$2000, 2, FALSE))","v":""},{"$f":"IF($B409=\"\", \"\", VLOOKUP($B409, CAD!$P$7:$Q$2000, 2, FALSE))","v":""},{"$f":"IF($B409=\"\", \"\", VLOOKUP($B409, CAD!$R$7:$S$2000, 2, FALSE))","v":""},{"$f":"IF($B409=\"\", \"\", VLOOKUP($B409, CAD!$T$7:$U$2000, 2, FALSE))","v":""},{"$f":"IF($B409=\"\", \"\", VLOOKUP($B409, CAD!$V$7:$W$2000, 2, FALSE))","v":""}]
[null,{"$f":"IF(CAD!B407=\"\", \"\", CAD!B407)","v":""},{"$f":"IF($B410=\"\", \"\", CAD!C407)","v":""},{"$f":"IF($B410=\"\", \"\",VLOOKUP($B410, CAD!$D$7:$E$2000, 2, FALSE))","v":""},{"$f":"IF($B410=\"\", \"\",VLOOKUP($B410, CAD!$F$7:$G$2000, 2, FALSE))","v":""},{"$f":"IF($B410=\"\", \"\",VLOOKUP($B410, CAD!$H$7:$I$2000, 2, FALSE))","v":""},{"$f":"IF($B410=\"\", \"\",VLOOKUP($B410, CAD!$J$7:$K$2000, 2, FALSE))","v":""},{"$f":"IF($B410=\"\", \"\", VLOOKUP($B410, CAD!$L$7:$M$2000, 2, FALSE))","v":""},{"$f":"IF($B410=\"\", \"\", VLOOKUP($B410, CAD!$N$7:$O$2000, 2, FALSE))","v":""},{"$f":"IF($B410=\"\", \"\", VLOOKUP($B410, CAD!$P$7:$Q$2000, 2, FALSE))","v":""},{"$f":"IF($B410=\"\", \"\", VLOOKUP($B410, CAD!$R$7:$S$2000, 2, FALSE))","v":""},{"$f":"IF($B410=\"\", \"\", VLOOKUP($B410, CAD!$T$7:$U$2000, 2, FALSE))","v":""},{"$f":"IF($B410=\"\", \"\", VLOOKUP($B410, CAD!$V$7:$W$2000, 2, FALSE))","v":""}]
[null,{"$f":"IF(CAD!B408=\"\", \"\", CAD!B408)","v":""},{"$f":"IF($B411=\"\", \"\", CAD!C408)","v":""},{"$f":"IF($B411=\"\", \"\",VLOOKUP($B411, CAD!$D$7:$E$2000, 2, FALSE))","v":""},{"$f":"IF($B411=\"\", \"\",VLOOKUP($B411, CAD!$F$7:$G$2000, 2, FALSE))","v":""},{"$f":"IF($B411=\"\", \"\",VLOOKUP($B411, CAD!$H$7:$I$2000, 2, FALSE))","v":""},{"$f":"IF($B411=\"\", \"\",VLOOKUP($B411, CAD!$J$7:$K$2000, 2, FALSE))","v":""},{"$f":"IF($B411=\"\", \"\", VLOOKUP($B411, CAD!$L$7:$M$2000, 2, FALSE))","v":""},{"$f":"IF($B411=\"\", \"\", VLOOKUP($B411, CAD!$N$7:$O$2000, 2, FALSE))","v":""},{"$f":"IF($B411=\"\", \"\", VLOOKUP($B411, CAD!$P$7:$Q$2000, 2, FALSE))","v":""},{"$f":"IF($B411=\"\", \"\", VLOOKUP($B411, CAD!$R$7:$S$2000, 2, FALSE))","v":""},{"$f":"IF($B411=\"\", \"\", VLOOKUP($B411, CAD!$T$7:$U$2000, 2, FALSE))","v":""},{"$f":"IF($B411=\"\", \"\", VLOOKUP($B411, CAD!$V$7:$W$2000, 2, FALSE))","v":""}]
[null,{"$f":"IF(CAD!B409=\"\", \"\", CAD!B409)","v":""},{"$f":"IF($B412=\"\", \"\", CAD!C409)","v":""},{"$f":"IF($B412=\"\", \"\",VLOOKUP($B412, CAD!$D$7:$E$2000, 2, FALSE))","v":""},{"$f":"IF($B412=\"\", \"\",VLOOKUP($B412, CAD!$F$7:$G$2000, 2, FALSE))","v":""},{"$f":"IF($B412=\"\", \"\",VLOOKUP($B412, CAD!$H$7:$I$2000, 2, FALSE))","v":""},{"$f":"IF($B412=\"\", \"\",VLOOKUP($B412, CAD!$J$7:$K$2000, 2, FALSE))","v":""},{"$f":"IF($B412=\"\", \"\", VLOOKUP($B412, CAD!$L$7:$M$2000, 2, FALSE))","v":""},{"$f":"IF($B412=\"\", \"\", VLOOKUP($B412, CAD!$N$7:$O$2000, 2, FALSE))","v":""},{"$f":"IF($B412=\"\", \"\", VLOOKUP($B412, CAD!$P$7:$Q$2000, 2, FALSE))","v":""},{"$f":"IF($B412=\"\", \"\", VLOOKUP($B412, CAD!$R$7:$S$2000, 2, FALSE))","v":""},{"$f":"IF($B412=\"\", \"\", VLOOKUP($B412, CAD!$T$7:$U$2000, 2, FALSE))","v":""},{"$f":"IF($B412=\"\", \"\", VLOOKUP($B412, CAD!$V$7:$W$2000, 2, FALSE))","v":""}]
[null,{"$f":"IF(CAD!B410=\"\", \"\", CAD!B410)","v":""},{"$f":"IF($B413=\"\", \"\", CAD!C410)","v":""},{"$f":"IF($B413=\"\", \"\",VLOOKUP($B413, CAD!$D$7:$E$2000, 2, FALSE))","v":""},{"$f":"IF($B413=\"\", \"\",VLOOKUP($B413, CAD!$F$7:$G$2000, 2, FALSE))","v":""},{"$f":"IF($B413=\"\", \"\",VLOOKUP($B413, CAD!$H$7:$I$2000, 2, FALSE))","v":""},{"$f":"IF($B413=\"\", \"\",VLOOKUP($B413, CAD!$J$7:$K$2000, 2, FALSE))","v":""},{"$f":"IF($B413=\"\", \"\", VLOOKUP($B413, CAD!$L$7:$M$2000, 2, FALSE))","v":""},{"$f":"IF($B413=\"\", \"\", VLOOKUP($B413, CAD!$N$7:$O$2000, 2, FALSE))","v":""},{"$f":"IF($B413=\"\", \"\", VLOOKUP($B413, CAD!$P$7:$Q$2000, 2, FALSE))","v":""},{"$f":"IF($B413=\"\", \"\", VLOOKUP($B413, CAD!$R$7:$S$2000, 2, FALSE))","v":""},{"$f":"IF($B413=\"\", \"\", VLOOKUP($B413, CAD!$T$7:$U$2000, 2, FALSE))","v":""},{"$f":"IF($B413=\"\", \"\", VLOOKUP($B413, CAD!$V$7:$W$2000, 2, FALSE))","v":""}]
[null,{"$f":"IF(CAD!B411=\"\", \"\", CAD!B411)","v":""},{"$f":"IF($B414=\"\", \"\", CAD!C411)","v":""},{"$f":"IF($B414=\"\", \"\",VLOOKUP($B414, CAD!$D$7:$E$2000, 2, FALSE))","v":""},{"$f":"IF($B414=\"\", \"\",VLOOKUP($B414, CAD!$F$7:$G$2000, 2, FALSE))","v":""},{"$f":"IF($B414=\"\", \"\",VLOOKUP($B414, CAD!$H$7:$I$2000, 2, FALSE))","v":""},{"$f":"IF($B414=\"\", \"\",VLOOKUP($B414, CAD!$J$7:$K$2000, 2, FALSE))","v":""},{"$f":"IF($B414=\"\", \"\", VLOOKUP($B414, CAD!$L$7:$M$2000, 2, FALSE))","v":""},{"$f":"IF($B414=\"\", \"\", VLOOKUP($B414, CAD!$N$7:$O$2000, 2, FALSE))","v":""},{"$f":"IF($B414=\"\", \"\", VLOOKUP($B414, CAD!$P$7:$Q$2000, 2, FALSE))","v":""},{"$f":"IF($B414=\"\", \"\", VLOOKUP($B414, CAD!$R$7:$S$2000, 2, FALSE))","v":""},{"$f":"IF($B414=\"\", \"\", VLOOKUP($B414, CAD!$T$7:$U$2000, 2, FALSE))","v":""},{"$f":"IF($B414=\"\", \"\", VLOOKUP($B414, CAD!$V$7:$W$2000, 2, FALSE))","v":""}]
[null,{"$f":"IF(CAD!B412=\"\", \"\", CAD!B412)","v":""},{"$f":"IF($B415=\"\", \"\", CAD!C412)","v":""},{"$f":"IF($B415=\"\", \"\",VLOOKUP($B415, CAD!$D$7:$E$2000, 2, FALSE))","v":""},{"$f":"IF($B415=\"\", \"\",VLOOKUP($B415, CAD!$F$7:$G$2000, 2, FALSE))","v":""},{"$f":"IF($B415=\"\", \"\",VLOOKUP($B415, CAD!$H$7:$I$2000, 2, FALSE))","v":""},{"$f":"IF($B415=\"\", \"\",VLOOKUP($B415, CAD!$J$7:$K$2000, 2, FALSE))","v":""},{"$f":"IF($B415=\"\", \"\", VLOOKUP($B415, CAD!$L$7:$M$2000, 2, FALSE))","v":""},{"$f":"IF($B415=\"\", \"\", VLOOKUP($B415, CAD!$N$7:$O$2000, 2, FALSE))","v":""},{"$f":"IF($B415=\"\", \"\", VLOOKUP($B415, CAD!$P$7:$Q$2000, 2, FALSE))","v":""},{"$f":"IF($B415=\"\", \"\", VLOOKUP($B415, CAD!$R$7:$S$2000, 2, FALSE))","v":""},{"$f":"IF($B415=\"\", \"\", VLOOKUP($B415, CAD!$T$7:$U$2000, 2, FALSE))","v":""},{"$f":"IF($B415=\"\", \"\", VLOOKUP($B415, CAD!$V$7:$W$2000, 2, FALSE))","v":""}]
[null,{"$f":"IF(CAD!B413=\"\", \"\", CAD!B413)","v":""},{"$f":"IF($B416=\"\", \"\", CAD!C413)","v":""},{"$f":"IF($B416=\"\", \"\",VLOOKUP($B416, CAD!$D$7:$E$2000, 2, FALSE))","v":""},{"$f":"IF($B416=\"\", \"\",VLOOKUP($B416, CAD!$F$7:$G$2000, 2, FALSE))","v":""},{"$f":"IF($B416=\"\", \"\",VLOOKUP($B416, CAD!$H$7:$I$2000, 2, FALSE))","v":""},{"$f":"IF($B416=\"\", \"\",VLOOKUP($B416, CAD!$J$7:$K$2000, 2, FALSE))","v":""},{"$f":"IF($B416=\"\", \"\", VLOOKUP($B416, CAD!$L$7:$M$2000, 2, FALSE))","v":""},{"$f":"IF($B416=\"\", \"\", VLOOKUP($B416, CAD!$N$7:$O$2000, 2, FALSE))","v":""},{"$f":"IF($B416=\"\", \"\", VLOOKUP($B416, CAD!$P$7:$Q$2000, 2, FALSE))","v":""},{"$f":"IF($B416=\"\", \"\", VLOOKUP($B416, CAD!$R$7:$S$2000, 2, FALSE))","v":""},{"$f":"IF($B416=\"\", \"\", VLOOKUP($B416, CAD!$T$7:$U$2000, 2, FALSE))","v":""},{"$f":"IF($B416=\"\", \"\", VLOOKUP($B416, CAD!$V$7:$W$2000, 2, FALSE))","v":""}]
[null,{"$f":"IF(CAD!B414=\"\", \"\", CAD!B414)","v":""},{"$f":"IF($B417=\"\", \"\", CAD!C414)","v":""},{"$f":"IF($B417=\"\", \"\",VLOOKUP($B417, CAD!$D$7:$E$2000, 2, FALSE))","v":""},{"$f":"IF($B417=\"\", \"\",VLOOKUP($B417, CAD!$F$7:$G$2000, 2, FALSE))","v":""},{"$f":"IF($B417=\"\", \"\",VLOOKUP($B417, CAD!$H$7:$I$2000, 2, FALSE))","v":""},{"$f":"IF($B417=\"\", \"\",VLOOKUP($B417, CAD!$J$7:$K$2000, 2, FALSE))","v":""},{"$f":"IF($B417=\"\", \"\", VLOOKUP($B417, CAD!$L$7:$M$2000, 2, FALSE))","v":""},{"$f":"IF($B417=\"\", \"\", VLOOKUP($B417, CAD!$N$7:$O$2000, 2, FALSE))","v":""},{"$f":"IF($B417=\"\", \"\", VLOOKUP($B417, CAD!$P$7:$Q$2000, 2, FALSE))","v":""},{"$f":"IF($B417=\"\", \"\", VLOOKUP($B417, CAD!$R$7:$S$2000, 2, FALSE))","v":""},{"$f":"IF($B417=\"\", \"\", VLOOKUP($B417, CAD!$T$7:$U$2000, 2, FALSE))","v":""},{"$f":"IF($B417=\"\", \"\", VLOOKUP($B417, CAD!$V$7:$W$2000, 2, FALSE))","v":""}]
[null,{"$f":"IF(CAD!B415=\"\", \"\", CAD!B415)","v":""},{"$f":"IF($B418=\"\", \"\", CAD!C415)","v":""},{"$f":"IF($B418=\"\", \"\",VLOOKUP($B418, CAD!$D$7:$E$2000, 2, FALSE))","v":""},{"$f":"IF($B418=\"\", \"\",VLOOKUP($B418, CAD!$F$7:$G$2000, 2, FALSE))","v":""},{"$f":"IF($B418=\"\", \"\",VLOOKUP($B418, CAD!$H$7:$I$2000, 2, FALSE))","v":""},{"$f":"IF($B418=\"\", \"\",VLOOKUP($B418, CAD!$J$7:$K$2000, 2, FALSE))","v":""},{"$f":"IF($B418=\"\", \"\", VLOOKUP($B418, CAD!$L$7:$M$2000, 2, FALSE))","v":""},{"$f":"IF($B418=\"\", \"\", VLOOKUP($B418, CAD!$N$7:$O$2000, 2, FALSE))","v":""},{"$f":"IF($B418=\"\", \"\", VLOOKUP($B418, CAD!$P$7:$Q$2000, 2, FALSE))","v":""},{"$f":"IF($B418=\"\", \"\", VLOOKUP($B418, CAD!$R$7:$S$2000, 2, FALSE))","v":""},{"$f":"IF($B418=\"\", \"\", VLOOKUP($B418, CAD!$T$7:$U$2000, 2, FALSE))","v":""},{"$f":"IF($B418=\"\", \"\", VLOOKUP($B418, CAD!$V$7:$W$2000, 2, FALSE))","v":""}]
[null,{"$f":"IF(CAD!B416=\"\", \"\", CAD!B416)","v":""},{"$f":"IF($B419=\"\", \"\", CAD!C416)","v":""},{"$f":"IF($B419=\"\", \"\",VLOOKUP($B419, CAD!$D$7:$E$2000, 2, FALSE))","v":""},{"$f":"IF($B419=\"\", \"\",VLOOKUP($B419, CAD!$F$7:$G$2000, 2, FALSE))","v":""},{"$f":"IF($B419=\"\", \"\",VLOOKUP($B419, CAD!$H$7:$I$2000, 2, FALSE))","v":""},{"$f":"IF($B419=\"\", \"\",VLOOKUP($B419, CAD!$J$7:$K$2000, 2, FALSE))","v":""},{"$f":"IF($B419=\"\", \"\", VLOOKUP($B419, CAD!$L$7:$M$2000, 2, FALSE))","v":""},{"$f":"IF($B419=\"\", \"\", VLOOKUP($B419, CAD!$N$7:$O$2000, 2, FALSE))","v":""},{"$f":"IF($B419=\"\", \"\", VLOOKUP($B419, CAD!$P$7:$Q$2000, 2, FALSE))","v":""},{"$f":"IF($B419=\"\", \"\", VLOOKUP($B419, CAD!$R$7:$S$2000, 2, FALSE))","v":""},{"$f":"IF($B419=\"\", \"\", VLOOKUP($B419, CAD!$T$7:$U$2000, 2, FALSE))","v":""},{"$f":"IF($B419=\"\", \"\", VLOOKUP($B419, CAD!$V$7:$W$2000, 2, FALSE))","v":""}]
[null,{"$f":"IF(CAD!B417=\"\", \"\", CAD!B417)","v":""},{"$f":"IF($B420=\"\", \"\", CAD!C417)","v":""},{"$f":"IF($B420=\"\", \"\",VLOOKUP($B420, CAD!$D$7:$E$2000, 2, FALSE))","v":""},{"$f":"IF($B420=\"\", \"\",VLOOKUP($B420, CAD!$F$7:$G$2000, 2, FALSE))","v":""},{"$f":"IF($B420=\"\", \"\",VLOOKUP($B420, CAD!$H$7:$I$2000, 2, FALSE))","v":""},{"$f":"IF($B420=\"\", \"\",VLOOKUP($B420, CAD!$J$7:$K$2000, 2, FALSE))","v":""},{"$f":"IF($B420=\"\", \"\", VLOOKUP($B420, CAD!$L$7:$M$2000, 2, FALSE))","v":""},{"$f":"IF($B420=\"\", \"\", VLOOKUP($B420, CAD!$N$7:$O$2000, 2, FALSE))","v":""},{"$f":"IF($B420=\"\", \"\", VLOOKUP($B420, CAD!$P$7:$Q$2000, 2, FALSE))","v":""},{"$f":"IF($B420=\"\", \"\", VLOOKUP($B420, CAD!$R$7:$S$2000, 2, FALSE))","v":""},{"$f":"IF($B420=\"\", \"\", VLOOKUP($B420, CAD!$T$7:$U$2000, 2, FALSE))","v":""},{"$f":"IF($B420=\"\", \"\", VLOOKUP($B420, CAD!$V$7:$W$2000, 2, FALSE))","v":""}]
[null,{"$f":"IF(CAD!B418=\"\", \"\", CAD!B418)","v":""},{"$f":"IF($B421=\"\", \"\", CAD!C418)","v":""},{"$f":"IF($B421=\"\", \"\",VLOOKUP($B421, CAD!$D$7:$E$2000, 2, FALSE))","v":""},{"$f":"IF($B421=\"\", \"\",VLOOKUP($B421, CAD!$F$7:$G$2000, 2, FALSE))","v":""},{"$f":"IF($B421=\"\", \"\",VLOOKUP($B421, CAD!$H$7:$I$2000, 2, FALSE))","v":""},{"$f":"IF($B421=\"\", \"\",VLOOKUP($B421, CAD!$J$7:$K$2000, 2, FALSE))","v":""},{"$f":"IF($B421=\"\", \"\", VLOOKUP($B421, CAD!$L$7:$M$2000, 2, FALSE))","v":""},{"$f":"IF($B421=\"\", \"\", VLOOKUP($B421, CAD!$N$7:$O$2000, 2, FALSE))","v":""},{"$f":"IF($B421=\"\", \"\", VLOOKUP($B421, CAD!$P$7:$Q$2000, 2, FALSE))","v":""},{"$f":"IF($B421=\"\", \"\", VLOOKUP($B421, CAD!$R$7:$S$2000, 2, FALSE))","v":""},{"$f":"IF($B421=\"\", \"\", VLOOKUP($B421, CAD!$T$7:$U$2000, 2, FALSE))","v":""},{"$f":"IF($B421=\"\", \"\", VLOOKUP($B421, CAD!$V$7:$W$2000, 2, FALSE))","v":""}]
[null,{"$f":"IF(CAD!B419=\"\", \"\", CAD!B419)","v":""},{"$f":"IF($B422=\"\", \"\", CAD!C419)","v":""},{"$f":"IF($B422=\"\", \"\",VLOOKUP($B422, CAD!$D$7:$E$2000, 2, FALSE))","v":""},{"$f":"IF($B422=\"\", \"\",VLOOKUP($B422, CAD!$F$7:$G$2000, 2, FALSE))","v":""},{"$f":"IF($B422=\"\", \"\",VLOOKUP($B422, CAD!$H$7:$I$2000, 2, FALSE))","v":""},{"$f":"IF($B422=\"\", \"\",VLOOKUP($B422, CAD!$J$7:$K$2000, 2, FALSE))","v":""},{"$f":"IF($B422=\"\", \"\", VLOOKUP($B422, CAD!$L$7:$M$2000, 2, FALSE))","v":""},{"$f":"IF($B422=\"\", \"\", VLOOKUP($B422, CAD!$N$7:$O$2000, 2, FALSE))","v":""},{"$f":"IF($B422=\"\", \"\", VLOOKUP($B422, CAD!$P$7:$Q$2000, 2, FALSE))","v":""},{"$f":"IF($B422=\"\", \"\", VLOOKUP($B422, CAD!$R$7:$S$2000, 2, FALSE))","v":""},{"$f":"IF($B422=\"\", \"\", VLOOKUP($B422, CAD!$T$7:$U$2000, 2, FALSE))","v":""},{"$f":"IF($B422=\"\", \"\", VLOOKUP($B422, CAD!$V$7:$W$2000, 2, FALSE))","v":""}]
[null,{"$f":"IF(CAD!B420=\"\", \"\", CAD!B420)","v":""},{"$f":"IF($B423=\"\", \"\", CAD!C420)","v":""},{"$f":"IF($B423=\"\", \"\",VLOOKUP($B423, CAD!$D$7:$E$2000, 2, FALSE))","v":""},{"$f":"IF($B423=\"\", \"\",VLOOKUP($B423, CAD!$F$7:$G$2000, 2, FALSE))","v":""},{"$f":"IF($B423=\"\", \"\",VLOOKUP($B423, CAD!$H$7:$I$2000, 2, FALSE))","v":""},{"$f":"IF($B423=\"\", \"\",VLOOKUP($B423, CAD!$J$7:$K$2000, 2, FALSE))","v":""},{"$f":"IF($B423=\"\", \"\", VLOOKUP($B423, CAD!$L$7:$M$2000, 2, FALSE))","v":""},{"$f":"IF($B423=\"\", \"\", VLOOKUP($B423, CAD!$N$7:$O$2000, 2, FALSE))","v":""},{"$f":"IF($B423=\"\", \"\", VLOOKUP($B423, CAD!$P$7:$Q$2000, 2, FALSE))","v":""},{"$f":"IF($B423=\"\", \"\", VLOOKUP($B423, CAD!$R$7:$S$2000, 2, FALSE))","v":""},{"$f":"IF($B423=\"\", \"\", VLOOKUP($B423, CAD!$T$7:$U$2000, 2, FALSE))","v":""},{"$f":"IF($B423=\"\", \"\", VLOOKUP($B423, CAD!$V$7:$W$2000, 2, FALSE))","v":""}]
[null,{"$f":"IF(CAD!B421=\"\", \"\", CAD!B421)","v":""},{"$f":"IF($B424=\"\", \"\", CAD!C421)","v":""},{"$f":"IF($B424=\"\", \"\",VLOOKUP($B424, CAD!$D$7:$E$2000, 2, FALSE))","v":""},{"$f":"IF($B424=\"\", \"\",VLOOKUP($B424, CAD!$F$7:$G$2000, 2, FALSE))","v":""},{"$f":"IF($B424=\"\", \"\",VLOOKUP($B424, CAD!$H$7:$I$2000, 2, FALSE))","v":""},{"$f":"IF($B424=\"\", \"\",VLOOKUP($B424, CAD!$J$7:$K$2000, 2, FALSE))","v":""},{"$f":"IF($B424=\"\", \"\", VLOOKUP($B424, CAD!$L$7:$M$2000, 2, FALSE))","v":""},{"$f":"IF($B424=\"\", \"\", VLOOKUP($B424, CAD!$N$7:$O$2000, 2, FALSE))","v":""},{"$f":"IF($B424=\"\", \"\", VLOOKUP($B424, CAD!$P$7:$Q$2000, 2, FALSE))","v":""},{"$f":"IF($B424=\"\", \"\", VLOOKUP($B424, CAD!$R$7:$S$2000, 2, FALSE))","v":""},{"$f":"IF($B424=\"\", \"\", VLOOKUP($B424, CAD!$T$7:$U$2000, 2, FALSE))","v":""},{"$f":"IF($B424=\"\", \"\", VLOOKUP($B424, CAD!$V$7:$W$2000, 2, FALSE))","v":""}]
[null,{"$f":"IF(CAD!B422=\"\", \"\", CAD!B422)","v":""},{"$f":"IF($B425=\"\", \"\", CAD!C422)","v":""},{"$f":"IF($B425=\"\", \"\",VLOOKUP($B425, CAD!$D$7:$E$2000, 2, FALSE))","v":""},{"$f":"IF($B425=\"\", \"\",VLOOKUP($B425, CAD!$F$7:$G$2000, 2, FALSE))","v":""},{"$f":"IF($B425=\"\", \"\",VLOOKUP($B425, CAD!$H$7:$I$2000, 2, FALSE))","v":""},{"$f":"IF($B425=\"\", \"\",VLOOKUP($B425, CAD!$J$7:$K$2000, 2, FALSE))","v":""},{"$f":"IF($B425=\"\", \"\", VLOOKUP($B425, CAD!$L$7:$M$2000, 2, FALSE))","v":""},{"$f":"IF($B425=\"\", \"\", VLOOKUP($B425, CAD!$N$7:$O$2000, 2, FALSE))","v":""},{"$f":"IF($B425=\"\", \"\", VLOOKUP($B425, CAD!$P$7:$Q$2000, 2, FALSE))","v":""},{"$f":"IF($B425=\"\", \"\", VLOOKUP($B425, CAD!$R$7:$S$2000, 2, FALSE))","v":""},{"$f":"IF($B425=\"\", \"\", VLOOKUP($B425, CAD!$T$7:$U$2000, 2, FALSE))","v":""},{"$f":"IF($B425=\"\", \"\", VLOOKUP($B425, CAD!$V$7:$W$2000, 2, FALSE))","v":""}]
[null,{"$f":"IF(CAD!B423=\"\", \"\", CAD!B423)","v":""},{"$f":"IF($B426=\"\", \"\", CAD!C423)","v":""},{"$f":"IF($B426=\"\", \"\",VLOOKUP($B426, CAD!$D$7:$E$2000, 2, FALSE))","v":""},{"$f":"IF($B426=\"\", \"\",VLOOKUP($B426, CAD!$F$7:$G$2000, 2, FALSE))","v":""},{"$f":"IF($B426=\"\", \"\",VLOOKUP($B426, CAD!$H$7:$I$2000, 2, FALSE))","v":""},{"$f":"IF($B426=\"\", \"\",VLOOKUP($B426, CAD!$J$7:$K$2000, 2, FALSE))","v":""},{"$f":"IF($B426=\"\", \"\", VLOOKUP($B426, CAD!$L$7:$M$2000, 2, FALSE))","v":""},{"$f":"IF($B426=\"\", \"\", VLOOKUP($B426, CAD!$N$7:$O$2000, 2, FALSE))","v":""},{"$f":"IF($B426=\"\", \"\", VLOOKUP($B426, CAD!$P$7:$Q$2000, 2, FALSE))","v":""},{"$f":"IF($B426=\"\", \"\", VLOOKUP($B426, CAD!$R$7:$S$2000, 2, FALSE))","v":""},{"$f":"IF($B426=\"\", \"\", VLOOKUP($B426, CAD!$T$7:$U$2000, 2, FALSE))","v":""},{"$f":"IF($B426=\"\", \"\", VLOOKUP($B426, CAD!$V$7:$W$2000, 2, FALSE))","v":""}]
[null,{"$f":"IF(CAD!B424=\"\", \"\", CAD!B424)","v":""},{"$f":"IF($B427=\"\", \"\", CAD!C424)","v":""},{"$f":"IF($B427=\"\", \"\",VLOOKUP($B427, CAD!$D$7:$E$2000, 2, FALSE))","v":""},{"$f":"IF($B427=\"\", \"\",VLOOKUP($B427, CAD!$F$7:$G$2000, 2, FALSE))","v":""},{"$f":"IF($B427=\"\", \"\",VLOOKUP($B427, CAD!$H$7:$I$2000, 2, FALSE))","v":""},{"$f":"IF($B427=\"\", \"\",VLOOKUP($B427, CAD!$J$7:$K$2000, 2, FALSE))","v":""},{"$f":"IF($B427=\"\", \"\", VLOOKUP($B427, CAD!$L$7:$M$2000, 2, FALSE))","v":""},{"$f":"IF($B427=\"\", \"\", VLOOKUP($B427, CAD!$N$7:$O$2000, 2, FALSE))","v":""},{"$f":"IF($B427=\"\", \"\", VLOOKUP($B427, CAD!$P$7:$Q$2000, 2, FALSE))","v":""},{"$f":"IF($B427=\"\", \"\", VLOOKUP($B427, CAD!$R$7:$S$2000, 2, FALSE))","v":""},{"$f":"IF($B427=\"\", \"\", VLOOKUP($B427, CAD!$T$7:$U$2000, 2, FALSE))","v":""},{"$f":"IF($B427=\"\", \"\", VLOOKUP($B427, CAD!$V$7:$W$2000, 2, FALSE))","v":""}]
[null,{"$f":"IF(CAD!B425=\"\", \"\", CAD!B425)","v":""},{"$f":"IF($B428=\"\", \"\", CAD!C425)","v":""},{"$f":"IF($B428=\"\", \"\",VLOOKUP($B428, CAD!$D$7:$E$2000, 2, FALSE))","v":""},{"$f":"IF($B428=\"\", \"\",VLOOKUP($B428, CAD!$F$7:$G$2000, 2, FALSE))","v":""},{"$f":"IF($B428=\"\", \"\",VLOOKUP($B428, CAD!$H$7:$I$2000, 2, FALSE))","v":""},{"$f":"IF($B428=\"\", \"\",VLOOKUP($B428, CAD!$J$7:$K$2000, 2, FALSE))","v":""},{"$f":"IF($B428=\"\", \"\", VLOOKUP($B428, CAD!$L$7:$M$2000, 2, FALSE))","v":""},{"$f":"IF($B428=\"\", \"\", VLOOKUP($B428, CAD!$N$7:$O$2000, 2, FALSE))","v":""},{"$f":"IF($B428=\"\", \"\", VLOOKUP($B428, CAD!$P$7:$Q$2000, 2, FALSE))","v":""},{"$f":"IF($B428=\"\", \"\", VLOOKUP($B428, CAD!$R$7:$S$2000, 2, FALSE))","v":""},{"$f":"IF($B428=\"\", \"\", VLOOKUP($B428, CAD!$T$7:$U$2000, 2, FALSE))","v":""},{"$f":"IF($B428=\"\", \"\", VLOOKUP($B428, CAD!$V$7:$W$2000, 2, FALSE))","v":""}]
[null,{"$f":"IF(CAD!B426=\"\", \"\", CAD!B426)","v":""},{"$f":"IF($B429=\"\", \"\", CAD!C426)","v":""},{"$f":"IF($B429=\"\", \"\",VLOOKUP($B429, CAD!$D$7:$E$2000, 2, FALSE))","v":""},{"$f":"IF($B429=\"\", \"\",VLOOKUP($B429, CAD!$F$7:$G$2000, 2, FALSE))","v":""},{"$f":"IF($B429=\"\", \"\",VLOOKUP($B429, CAD!$H$7:$I$2000, 2, FALSE))","v":""},{"$f":"IF($B429=\"\", \"\",VLOOKUP($B429, CAD!$J$7:$K$2000, 2, FALSE))","v":""},{"$f":"IF($B429=\"\", \"\", VLOOKUP($B429, CAD!$L$7:$M$2000, 2, FALSE))","v":""},{"$f":"IF($B429=\"\", \"\", VLOOKUP($B429, CAD!$N$7:$O$2000, 2, FALSE))","v":""},{"$f":"IF($B429=\"\", \"\", VLOOKUP($B429, CAD!$P$7:$Q$2000, 2, FALSE))","v":""},{"$f":"IF($B429=\"\", \"\", VLOOKUP($B429, CAD!$R$7:$S$2000, 2, FALSE))","v":""},{"$f":"IF($B429=\"\", \"\", VLOOKUP($B429, CAD!$T$7:$U$2000, 2, FALSE))","v":""},{"$f":"IF($B429=\"\", \"\", VLOOKUP($B429, CAD!$V$7:$W$2000, 2, FALSE))","v":""}]
[null,{"$f":"IF(CAD!B427=\"\", \"\", CAD!B427)","v":""},{"$f":"IF($B430=\"\", \"\", CAD!C427)","v":""},{"$f":"IF($B430=\"\", \"\",VLOOKUP($B430, CAD!$D$7:$E$2000, 2, FALSE))","v":""},{"$f":"IF($B430=\"\", \"\",VLOOKUP($B430, CAD!$F$7:$G$2000, 2, FALSE))","v":""},{"$f":"IF($B430=\"\", \"\",VLOOKUP($B430, CAD!$H$7:$I$2000, 2, FALSE))","v":""},{"$f":"IF($B430=\"\", \"\",VLOOKUP($B430, CAD!$J$7:$K$2000, 2, FALSE))","v":""},{"$f":"IF($B430=\"\", \"\", VLOOKUP($B430, CAD!$L$7:$M$2000, 2, FALSE))","v":""},{"$f":"IF($B430=\"\", \"\", VLOOKUP($B430, CAD!$N$7:$O$2000, 2, FALSE))","v":""},{"$f":"IF($B430=\"\", \"\", VLOOKUP($B430, CAD!$P$7:$Q$2000, 2, FALSE))","v":""},{"$f":"IF($B430=\"\", \"\", VLOOKUP($B430, CAD!$R$7:$S$2000, 2, FALSE))","v":""},{"$f":"IF($B430=\"\", \"\", VLOOKUP($B430, CAD!$T$7:$U$2000, 2, FALSE))","v":""},{"$f":"IF($B430=\"\", \"\", VLOOKUP($B430, CAD!$V$7:$W$2000, 2, FALSE))","v":""}]
[null,{"$f":"IF(CAD!B428=\"\", \"\", CAD!B428)","v":""},{"$f":"IF($B431=\"\", \"\", CAD!C428)","v":""},{"$f":"IF($B431=\"\", \"\",VLOOKUP($B431, CAD!$D$7:$E$2000, 2, FALSE))","v":""},{"$f":"IF($B431=\"\", \"\",VLOOKUP($B431, CAD!$F$7:$G$2000, 2, FALSE))","v":""},{"$f":"IF($B431=\"\", \"\",VLOOKUP($B431, CAD!$H$7:$I$2000, 2, FALSE))","v":""},{"$f":"IF($B431=\"\", \"\",VLOOKUP($B431, CAD!$J$7:$K$2000, 2, FALSE))","v":""},{"$f":"IF($B431=\"\", \"\", VLOOKUP($B431, CAD!$L$7:$M$2000, 2, FALSE))","v":""},{"$f":"IF($B431=\"\", \"\", VLOOKUP($B431, CAD!$N$7:$O$2000, 2, FALSE))","v":""},{"$f":"IF($B431=\"\", \"\", VLOOKUP($B431, CAD!$P$7:$Q$2000, 2, FALSE))","v":""},{"$f":"IF($B431=\"\", \"\", VLOOKUP($B431, CAD!$R$7:$S$2000, 2, FALSE))","v":""},{"$f":"IF($B431=\"\", \"\", VLOOKUP($B431, CAD!$T$7:$U$2000, 2, FALSE))","v":""},{"$f":"IF($B431=\"\", \"\", VLOOKUP($B431, CAD!$V$7:$W$2000, 2, FALSE))","v":""}]
[null,{"$f":"IF(CAD!B429=\"\", \"\", CAD!B429)","v":""},{"$f":"IF($B432=\"\", \"\", CAD!C429)","v":""},{"$f":"IF($B432=\"\", \"\",VLOOKUP($B432, CAD!$D$7:$E$2000, 2, FALSE))","v":""},{"$f":"IF($B432=\"\", \"\",VLOOKUP($B432, CAD!$F$7:$G$2000, 2, FALSE))","v":""},{"$f":"IF($B432=\"\", \"\",VLOOKUP($B432, CAD!$H$7:$I$2000, 2, FALSE))","v":""},{"$f":"IF($B432=\"\", \"\",VLOOKUP($B432, CAD!$J$7:$K$2000, 2, FALSE))","v":""},{"$f":"IF($B432=\"\", \"\", VLOOKUP($B432, CAD!$L$7:$M$2000, 2, FALSE))","v":""},{"$f":"IF($B432=\"\", \"\", VLOOKUP($B432, CAD!$N$7:$O$2000, 2, FALSE))","v":""},{"$f":"IF($B432=\"\", \"\", VLOOKUP($B432, CAD!$P$7:$Q$2000, 2, FALSE))","v":""},{"$f":"IF($B432=\"\", \"\", VLOOKUP($B432, CAD!$R$7:$S$2000, 2, FALSE))","v":""},{"$f":"IF($B432=\"\", \"\", VLOOKUP($B432, CAD!$T$7:$U$2000, 2, FALSE))","v":""},{"$f":"IF($B432=\"\", \"\", VLOOKUP($B432, CAD!$V$7:$W$2000, 2, FALSE))","v":""}]
[null,{"$f":"IF(CAD!B430=\"\", \"\", CAD!B430)","v":""},{"$f":"IF($B433=\"\", \"\", CAD!C430)","v":""},{"$f":"IF($B433=\"\", \"\",VLOOKUP($B433, CAD!$D$7:$E$2000, 2, FALSE))","v":""},{"$f":"IF($B433=\"\", \"\",VLOOKUP($B433, CAD!$F$7:$G$2000, 2, FALSE))","v":""},{"$f":"IF($B433=\"\", \"\",VLOOKUP($B433, CAD!$H$7:$I$2000, 2, FALSE))","v":""},{"$f":"IF($B433=\"\", \"\",VLOOKUP($B433, CAD!$J$7:$K$2000, 2, FALSE))","v":""},{"$f":"IF($B433=\"\", \"\", VLOOKUP($B433, CAD!$L$7:$M$2000, 2, FALSE))","v":""},{"$f":"IF($B433=\"\", \"\", VLOOKUP($B433, CAD!$N$7:$O$2000, 2, FALSE))","v":""},{"$f":"IF($B433=\"\", \"\", VLOOKUP($B433, CAD!$P$7:$Q$2000, 2, FALSE))","v":""},{"$f":"IF($B433=\"\", \"\", VLOOKUP($B433, CAD!$R$7:$S$2000, 2, FALSE))","v":""},{"$f":"IF($B433=\"\", \"\", VLOOKUP($B433, CAD!$T$7:$U$2000, 2, FALSE))","v":""},{"$f":"IF($B433=\"\", \"\", VLOOKUP($B433, CAD!$V$7:$W$2000, 2, FALSE))","v":""}]
[null,{"$f":"IF(CAD!B431=\"\", \"\", CAD!B431)","v":""},{"$f":"IF($B434=\"\", \"\", CAD!C431)","v":""},{"$f":"IF($B434=\"\", \"\",VLOOKUP($B434, CAD!$D$7:$E$2000, 2, FALSE))","v":""},{"$f":"IF($B434=\"\", \"\",VLOOKUP($B434, CAD!$F$7:$G$2000, 2, FALSE))","v":""},{"$f":"IF($B434=\"\", \"\",VLOOKUP($B434, CAD!$H$7:$I$2000, 2, FALSE))","v":""},{"$f":"IF($B434=\"\", \"\",VLOOKUP($B434, CAD!$J$7:$K$2000, 2, FALSE))","v":""},{"$f":"IF($B434=\"\", \"\", VLOOKUP($B434, CAD!$L$7:$M$2000, 2, FALSE))","v":""},{"$f":"IF($B434=\"\", \"\", VLOOKUP($B434, CAD!$N$7:$O$2000, 2, FALSE))","v":""},{"$f":"IF($B434=\"\", \"\", VLOOKUP($B434, CAD!$P$7:$Q$2000, 2, FALSE))","v":""},{"$f":"IF($B434=\"\", \"\", VLOOKUP($B434, CAD!$R$7:$S$2000, 2, FALSE))","v":""},{"$f":"IF($B434=\"\", \"\", VLOOKUP($B434, CAD!$T$7:$U$2000, 2, FALSE))","v":""},{"$f":"IF($B434=\"\", \"\", VLOOKUP($B434, CAD!$V$7:$W$2000, 2, FALSE))","v":""}]
[null,{"$f":"IF(CAD!B432=\"\", \"\", CAD!B432)","v":""},{"$f":"IF($B435=\"\", \"\", CAD!C432)","v":""},{"$f":"IF($B435=\"\", \"\",VLOOKUP($B435, CAD!$D$7:$E$2000, 2, FALSE))","v":""},{"$f":"IF($B435=\"\", \"\",VLOOKUP($B435, CAD!$F$7:$G$2000, 2, FALSE))","v":""},{"$f":"IF($B435=\"\", \"\",VLOOKUP($B435, CAD!$H$7:$I$2000, 2, FALSE))","v":""},{"$f":"IF($B435=\"\", \"\",VLOOKUP($B435, CAD!$J$7:$K$2000, 2, FALSE))","v":""},{"$f":"IF($B435=\"\", \"\", VLOOKUP($B435, CAD!$L$7:$M$2000, 2, FALSE))","v":""},{"$f":"IF($B435=\"\", \"\", VLOOKUP($B435, CAD!$N$7:$O$2000, 2, FALSE))","v":""},{"$f":"IF($B435=\"\", \"\", VLOOKUP($B435, CAD!$P$7:$Q$2000, 2, FALSE))","v":""},{"$f":"IF($B435=\"\", \"\", VLOOKUP($B435, CAD!$R$7:$S$2000, 2, FALSE))","v":""},{"$f":"IF($B435=\"\", \"\", VLOOKUP($B435, CAD!$T$7:$U$2000, 2, FALSE))","v":""},{"$f":"IF($B435=\"\", \"\", VLOOKUP($B435, CAD!$V$7:$W$2000, 2, FALSE))","v":""}]
[null,{"$f":"IF(CAD!B433=\"\", \"\", CAD!B433)","v":""},{"$f":"IF($B436=\"\", \"\", CAD!C433)","v":""},{"$f":"IF($B436=\"\", \"\",VLOOKUP($B436, CAD!$D$7:$E$2000, 2, FALSE))","v":""},{"$f":"IF($B436=\"\", \"\",VLOOKUP($B436, CAD!$F$7:$G$2000, 2, FALSE))","v":""},{"$f":"IF($B436=\"\", \"\",VLOOKUP($B436, CAD!$H$7:$I$2000, 2, FALSE))","v":""},{"$f":"IF($B436=\"\", \"\",VLOOKUP($B436, CAD!$J$7:$K$2000, 2, FALSE))","v":""},{"$f":"IF($B436=\"\", \"\", VLOOKUP($B436, CAD!$L$7:$M$2000, 2, FALSE))","v":""},{"$f":"IF($B436=\"\", \"\", VLOOKUP($B436, CAD!$N$7:$O$2000, 2, FALSE))","v":""},{"$f":"IF($B436=\"\", \"\", VLOOKUP($B436, CAD!$P$7:$Q$2000, 2, FALSE))","v":""},{"$f":"IF($B436=\"\", \"\", VLOOKUP($B436, CAD!$R$7:$S$2000, 2, FALSE))","v":""},{"$f":"IF($B436=\"\", \"\", VLOOKUP($B436, CAD!$T$7:$U$2000, 2, FALSE))","v":""},{"$f":"IF($B436=\"\", \"\", VLOOKUP($B436, CAD!$V$7:$W$2000, 2, FALSE))","v":""}]
[null,{"$f":"IF(CAD!B434=\"\", \"\", CAD!B434)","v":""},{"$f":"IF($B437=\"\", \"\", CAD!C434)","v":""},{"$f":"IF($B437=\"\", \"\",VLOOKUP($B437, CAD!$D$7:$E$2000, 2, FALSE))","v":""},{"$f":"IF($B437=\"\", \"\",VLOOKUP($B437, CAD!$F$7:$G$2000, 2, FALSE))","v":""},{"$f":"IF($B437=\"\", \"\",VLOOKUP($B437, CAD!$H$7:$I$2000, 2, FALSE))","v":""},{"$f":"IF($B437=\"\", \"\",VLOOKUP($B437, CAD!$J$7:$K$2000, 2, FALSE))","v":""},{"$f":"IF($B437=\"\", \"\", VLOOKUP($B437, CAD!$L$7:$M$2000, 2, FALSE))","v":""},{"$f":"IF($B437=\"\", \"\", VLOOKUP($B437, CAD!$N$7:$O$2000, 2, FALSE))","v":""},{"$f":"IF($B437=\"\", \"\", VLOOKUP($B437, CAD!$P$7:$Q$2000, 2, FALSE))","v":""},{"$f":"IF($B437=\"\", \"\", VLOOKUP($B437, CAD!$R$7:$S$2000, 2, FALSE))","v":""},{"$f":"IF($B437=\"\", \"\", VLOOKUP($B437, CAD!$T$7:$U$2000, 2, FALSE))","v":""},{"$f":"IF($B437=\"\", \"\", VLOOKUP($B437, CAD!$V$7:$W$2000, 2, FALSE))","v":""}]
[null,{"$f":"IF(CAD!B435=\"\", \"\", CAD!B435)","v":""},{"$f":"IF($B438=\"\", \"\", CAD!C435)","v":""},{"$f":"IF($B438=\"\", \"\",VLOOKUP($B438, CAD!$D$7:$E$2000, 2, FALSE))","v":""},{"$f":"IF($B438=\"\", \"\",VLOOKUP($B438, CAD!$F$7:$G$2000, 2, FALSE))","v":""},{"$f":"IF($B438=\"\", \"\",VLOOKUP($B438, CAD!$H$7:$I$2000, 2, FALSE))","v":""},{"$f":"IF($B438=\"\", \"\",VLOOKUP($B438, CAD!$J$7:$K$2000, 2, FALSE))","v":""},{"$f":"IF($B438=\"\", \"\", VLOOKUP($B438, CAD!$L$7:$M$2000, 2, FALSE))","v":""},{"$f":"IF($B438=\"\", \"\", VLOOKUP($B438, CAD!$N$7:$O$2000, 2, FALSE))","v":""},{"$f":"IF($B438=\"\", \"\", VLOOKUP($B438, CAD!$P$7:$Q$2000, 2, FALSE))","v":""},{"$f":"IF($B438=\"\", \"\", VLOOKUP($B438, CAD!$R$7:$S$2000, 2, FALSE))","v":""},{"$f":"IF($B438=\"\", \"\", VLOOKUP($B438, CAD!$T$7:$U$2000, 2, FALSE))","v":""},{"$f":"IF($B438=\"\", \"\", VLOOKUP($B438, CAD!$V$7:$W$2000, 2, FALSE))","v":""}]
[null,{"$f":"IF(CAD!B436=\"\", \"\", CAD!B436)","v":""},{"$f":"IF($B439=\"\", \"\", CAD!C436)","v":""},{"$f":"IF($B439=\"\", \"\",VLOOKUP($B439, CAD!$D$7:$E$2000, 2, FALSE))","v":""},{"$f":"IF($B439=\"\", \"\",VLOOKUP($B439, CAD!$F$7:$G$2000, 2, FALSE))","v":""},{"$f":"IF($B439=\"\", \"\",VLOOKUP($B439, CAD!$H$7:$I$2000, 2, FALSE))","v":""},{"$f":"IF($B439=\"\", \"\",VLOOKUP($B439, CAD!$J$7:$K$2000, 2, FALSE))","v":""},{"$f":"IF($B439=\"\", \"\", VLOOKUP($B439, CAD!$L$7:$M$2000, 2, FALSE))","v":""},{"$f":"IF($B439=\"\", \"\", VLOOKUP($B439, CAD!$N$7:$O$2000, 2, FALSE))","v":""},{"$f":"IF($B439=\"\", \"\", VLOOKUP($B439, CAD!$P$7:$Q$2000, 2, FALSE))","v":""},{"$f":"IF($B439=\"\", \"\", VLOOKUP($B439, CAD!$R$7:$S$2000, 2, FALSE))","v":""},{"$f":"IF($B439=\"\", \"\", VLOOKUP($B439, CAD!$T$7:$U$2000, 2, FALSE))","v":""},{"$f":"IF($B439=\"\", \"\", VLOOKUP($B439, CAD!$V$7:$W$2000, 2, FALSE))","v":""}]
[null,{"$f":"IF(CAD!B437=\"\", \"\", CAD!B437)","v":""},{"$f":"IF($B440=\"\", \"\", CAD!C437)","v":""},{"$f":"IF($B440=\"\", \"\",VLOOKUP($B440, CAD!$D$7:$E$2000, 2, FALSE))","v":""},{"$f":"IF($B440=\"\", \"\",VLOOKUP($B440, CAD!$F$7:$G$2000, 2, FALSE))","v":""},{"$f":"IF($B440=\"\", \"\",VLOOKUP($B440, CAD!$H$7:$I$2000, 2, FALSE))","v":""},{"$f":"IF($B440=\"\", \"\",VLOOKUP($B440, CAD!$J$7:$K$2000, 2, FALSE))","v":""},{"$f":"IF($B440=\"\", \"\", VLOOKUP($B440, CAD!$L$7:$M$2000, 2, FALSE))","v":""},{"$f":"IF($B440=\"\", \"\", VLOOKUP($B440, CAD!$N$7:$O$2000, 2, FALSE))","v":""},{"$f":"IF($B440=\"\", \"\", VLOOKUP($B440, CAD!$P$7:$Q$2000, 2, FALSE))","v":""},{"$f":"IF($B440=\"\", \"\", VLOOKUP($B440, CAD!$R$7:$S$2000, 2, FALSE))","v":""},{"$f":"IF($B440=\"\", \"\", VLOOKUP($B440, CAD!$T$7:$U$2000, 2, FALSE))","v":""},{"$f":"IF($B440=\"\", \"\", VLOOKUP($B440, CAD!$V$7:$W$2000, 2, FALSE))","v":""}]
[null,{"$f":"IF(CAD!B438=\"\", \"\", CAD!B438)","v":""},{"$f":"IF($B441=\"\", \"\", CAD!C438)","v":""},{"$f":"IF($B441=\"\", \"\",VLOOKUP($B441, CAD!$D$7:$E$2000, 2, FALSE))","v":""},{"$f":"IF($B441=\"\", \"\",VLOOKUP($B441, CAD!$F$7:$G$2000, 2, FALSE))","v":""},{"$f":"IF($B441=\"\", \"\",VLOOKUP($B441, CAD!$H$7:$I$2000, 2, FALSE))","v":""},{"$f":"IF($B441=\"\", \"\",VLOOKUP($B441, CAD!$J$7:$K$2000, 2, FALSE))","v":""},{"$f":"IF($B441=\"\", \"\", VLOOKUP($B441, CAD!$L$7:$M$2000, 2, FALSE))","v":""},{"$f":"IF($B441=\"\", \"\", VLOOKUP($B441, CAD!$N$7:$O$2000, 2, FALSE))","v":""},{"$f":"IF($B441=\"\", \"\", VLOOKUP($B441, CAD!$P$7:$Q$2000, 2, FALSE))","v":""},{"$f":"IF($B441=\"\", \"\", VLOOKUP($B441, CAD!$R$7:$S$2000, 2, FALSE))","v":""},{"$f":"IF($B441=\"\", \"\", VLOOKUP($B441, CAD!$T$7:$U$2000, 2, FALSE))","v":""},{"$f":"IF($B441=\"\", \"\", VLOOKUP($B441, CAD!$V$7:$W$2000, 2, FALSE))","v":""}]
[null,{"$f":"IF(CAD!B439=\"\", \"\", CAD!B439)","v":""},{"$f":"IF($B442=\"\", \"\", CAD!C439)","v":""},{"$f":"IF($B442=\"\", \"\",VLOOKUP($B442, CAD!$D$7:$E$2000, 2, FALSE))","v":""},{"$f":"IF($B442=\"\", \"\",VLOOKUP($B442, CAD!$F$7:$G$2000, 2, FALSE))","v":""},{"$f":"IF($B442=\"\", \"\",VLOOKUP($B442, CAD!$H$7:$I$2000, 2, FALSE))","v":""},{"$f":"IF($B442=\"\", \"\",VLOOKUP($B442, CAD!$J$7:$K$2000, 2, FALSE))","v":""},{"$f":"IF($B442=\"\", \"\", VLOOKUP($B442, CAD!$L$7:$M$2000, 2, FALSE))","v":""},{"$f":"IF($B442=\"\", \"\", VLOOKUP($B442, CAD!$N$7:$O$2000, 2, FALSE))","v":""},{"$f":"IF($B442=\"\", \"\", VLOOKUP($B442, CAD!$P$7:$Q$2000, 2, FALSE))","v":""},{"$f":"IF($B442=\"\", \"\", VLOOKUP($B442, CAD!$R$7:$S$2000, 2, FALSE))","v":""},{"$f":"IF($B442=\"\", \"\", VLOOKUP($B442, CAD!$T$7:$U$2000, 2, FALSE))","v":""},{"$f":"IF($B442=\"\", \"\", VLOOKUP($B442, CAD!$V$7:$W$2000, 2, FALSE))","v":""}]
[null,{"$f":"IF(CAD!B440=\"\", \"\", CAD!B440)","v":""},{"$f":"IF($B443=\"\", \"\", CAD!C440)","v":""},{"$f":"IF($B443=\"\", \"\",VLOOKUP($B443, CAD!$D$7:$E$2000, 2, FALSE))","v":""},{"$f":"IF($B443=\"\", \"\",VLOOKUP($B443, CAD!$F$7:$G$2000, 2, FALSE))","v":""},{"$f":"IF($B443=\"\", \"\",VLOOKUP($B443, CAD!$H$7:$I$2000, 2, FALSE))","v":""},{"$f":"IF($B443=\"\", \"\",VLOOKUP($B443, CAD!$J$7:$K$2000, 2, FALSE))","v":""},{"$f":"IF($B443=\"\", \"\", VLOOKUP($B443, CAD!$L$7:$M$2000, 2, FALSE))","v":""},{"$f":"IF($B443=\"\", \"\", VLOOKUP($B443, CAD!$N$7:$O$2000, 2, FALSE))","v":""},{"$f":"IF($B443=\"\", \"\", VLOOKUP($B443, CAD!$P$7:$Q$2000, 2, FALSE))","v":""},{"$f":"IF($B443=\"\", \"\", VLOOKUP($B443, CAD!$R$7:$S$2000, 2, FALSE))","v":""},{"$f":"IF($B443=\"\", \"\", VLOOKUP($B443, CAD!$T$7:$U$2000, 2, FALSE))","v":""},{"$f":"IF($B443=\"\", \"\", VLOOKUP($B443, CAD!$V$7:$W$2000, 2, FALSE))","v":""}]
[null,{"$f":"IF(CAD!B441=\"\", \"\", CAD!B441)","v":""},{"$f":"IF($B444=\"\", \"\", CAD!C441)","v":""},{"$f":"IF($B444=\"\", \"\",VLOOKUP($B444, CAD!$D$7:$E$2000, 2, FALSE))","v":""},{"$f":"IF($B444=\"\", \"\",VLOOKUP($B444, CAD!$F$7:$G$2000, 2, FALSE))","v":""},{"$f":"IF($B444=\"\", \"\",VLOOKUP($B444, CAD!$H$7:$I$2000, 2, FALSE))","v":""},{"$f":"IF($B444=\"\", \"\",VLOOKUP($B444, CAD!$J$7:$K$2000, 2, FALSE))","v":""},{"$f":"IF($B444=\"\", \"\", VLOOKUP($B444, CAD!$L$7:$M$2000, 2, FALSE))","v":""},{"$f":"IF($B444=\"\", \"\", VLOOKUP($B444, CAD!$N$7:$O$2000, 2, FALSE))","v":""},{"$f":"IF($B444=\"\", \"\", VLOOKUP($B444, CAD!$P$7:$Q$2000, 2, FALSE))","v":""},{"$f":"IF($B444=\"\", \"\", VLOOKUP($B444, CAD!$R$7:$S$2000, 2, FALSE))","v":""},{"$f":"IF($B444=\"\", \"\", VLOOKUP($B444, CAD!$T$7:$U$2000, 2, FALSE))","v":""},{"$f":"IF($B444=\"\", \"\", VLOOKUP($B444, CAD!$V$7:$W$2000, 2, FALSE))","v":""}]
[null,{"$f":"IF(CAD!B442=\"\", \"\", CAD!B442)","v":""},{"$f":"IF($B445=\"\", \"\", CAD!C442)","v":""},{"$f":"IF($B445=\"\", \"\",VLOOKUP($B445, CAD!$D$7:$E$2000, 2, FALSE))","v":""},{"$f":"IF($B445=\"\", \"\",VLOOKUP($B445, CAD!$F$7:$G$2000, 2, FALSE))","v":""},{"$f":"IF($B445=\"\", \"\",VLOOKUP($B445, CAD!$H$7:$I$2000, 2, FALSE))","v":""},{"$f":"IF($B445=\"\", \"\",VLOOKUP($B445, CAD!$J$7:$K$2000, 2, FALSE))","v":""},{"$f":"IF($B445=\"\", \"\", VLOOKUP($B445, CAD!$L$7:$M$2000, 2, FALSE))","v":""},{"$f":"IF($B445=\"\", \"\", VLOOKUP($B445, CAD!$N$7:$O$2000, 2, FALSE))","v":""},{"$f":"IF($B445=\"\", \"\", VLOOKUP($B445, CAD!$P$7:$Q$2000, 2, FALSE))","v":""},{"$f":"IF($B445=\"\", \"\", VLOOKUP($B445, CAD!$R$7:$S$2000, 2, FALSE))","v":""},{"$f":"IF($B445=\"\", \"\", VLOOKUP($B445, CAD!$T$7:$U$2000, 2, FALSE))","v":""},{"$f":"IF($B445=\"\", \"\", VLOOKUP($B445, CAD!$V$7:$W$2000, 2, FALSE))","v":""}]
[null,{"$f":"IF(CAD!B443=\"\", \"\", CAD!B443)","v":""},{"$f":"IF($B446=\"\", \"\", CAD!C443)","v":""},{"$f":"IF($B446=\"\", \"\",VLOOKUP($B446, CAD!$D$7:$E$2000, 2, FALSE))","v":""},{"$f":"IF($B446=\"\", \"\",VLOOKUP($B446, CAD!$F$7:$G$2000, 2, FALSE))","v":""},{"$f":"IF($B446=\"\", \"\",VLOOKUP($B446, CAD!$H$7:$I$2000, 2, FALSE))","v":""},{"$f":"IF($B446=\"\", \"\",VLOOKUP($B446, CAD!$J$7:$K$2000, 2, FALSE))","v":""},{"$f":"IF($B446=\"\", \"\", VLOOKUP($B446, CAD!$L$7:$M$2000, 2, FALSE))","v":""},{"$f":"IF($B446=\"\", \"\", VLOOKUP($B446, CAD!$N$7:$O$2000, 2, FALSE))","v":""},{"$f":"IF($B446=\"\", \"\", VLOOKUP($B446, CAD!$P$7:$Q$2000, 2, FALSE))","v":""},{"$f":"IF($B446=\"\", \"\", VLOOKUP($B446, CAD!$R$7:$S$2000, 2, FALSE))","v":""},{"$f":"IF($B446=\"\", \"\", VLOOKUP($B446, CAD!$T$7:$U$2000, 2, FALSE))","v":""},{"$f":"IF($B446=\"\", \"\", VLOOKUP($B446, CAD!$V$7:$W$2000, 2, FALSE))","v":""}]
[null,{"$f":"IF(CAD!B444=\"\", \"\", CAD!B444)","v":""},{"$f":"IF($B447=\"\", \"\", CAD!C444)","v":""},{"$f":"IF($B447=\"\", \"\",VLOOKUP($B447, CAD!$D$7:$E$2000, 2, FALSE))","v":""},{"$f":"IF($B447=\"\", \"\",VLOOKUP($B447, CAD!$F$7:$G$2000, 2, FALSE))","v":""},{"$f":"IF($B447=\"\", \"\",VLOOKUP($B447, CAD!$H$7:$I$2000, 2, FALSE))","v":""},{"$f":"IF($B447=\"\", \"\",VLOOKUP($B447, CAD!$J$7:$K$2000, 2, FALSE))","v":""},{"$f":"IF($B447=\"\", \"\", VLOOKUP($B447, CAD!$L$7:$M$2000, 2, FALSE))","v":""},{"$f":"IF($B447=\"\", \"\", VLOOKUP($B447, CAD!$N$7:$O$2000, 2, FALSE))","v":""},{"$f":"IF($B447=\"\", \"\", VLOOKUP($B447, CAD!$P$7:$Q$2000, 2, FALSE))","v":""},{"$f":"IF($B447=\"\", \"\", VLOOKUP($B447, CAD!$R$7:$S$2000, 2, FALSE))","v":""},{"$f":"IF($B447=\"\", \"\", VLOOKUP($B447, CAD!$T$7:$U$2000, 2, FALSE))","v":""},{"$f":"IF($B447=\"\", \"\", VLOOKUP($B447, CAD!$V$7:$W$2000, 2, FALSE))","v":""}]
[null,{"$f":"IF(CAD!B445=\"\", \"\", CAD!B445)","v":""},{"$f":"IF($B448=\"\", \"\", CAD!C445)","v":""},{"$f":"IF($B448=\"\", \"\",VLOOKUP($B448, CAD!$D$7:$E$2000, 2, FALSE))","v":""},{"$f":"IF($B448=\"\", \"\",VLOOKUP($B448, CAD!$F$7:$G$2000, 2, FALSE))","v":""},{"$f":"IF($B448=\"\", \"\",VLOOKUP($B448, CAD!$H$7:$I$2000, 2, FALSE))","v":""},{"$f":"IF($B448=\"\", \"\",VLOOKUP($B448, CAD!$J$7:$K$2000, 2, FALSE))","v":""},{"$f":"IF($B448=\"\", \"\", VLOOKUP($B448, CAD!$L$7:$M$2000, 2, FALSE))","v":""},{"$f":"IF($B448=\"\", \"\", VLOOKUP($B448, CAD!$N$7:$O$2000, 2, FALSE))","v":""},{"$f":"IF($B448=\"\", \"\", VLOOKUP($B448, CAD!$P$7:$Q$2000, 2, FALSE))","v":""},{"$f":"IF($B448=\"\", \"\", VLOOKUP($B448, CAD!$R$7:$S$2000, 2, FALSE))","v":""},{"$f":"IF($B448=\"\", \"\", VLOOKUP($B448, CAD!$T$7:$U$2000, 2, FALSE))","v":""},{"$f":"IF($B448=\"\", \"\", VLOOKUP($B448, CAD!$V$7:$W$2000, 2, FALSE))","v":""}]
[null,{"$f":"IF(CAD!B446=\"\", \"\", CAD!B446)","v":""},{"$f":"IF($B449=\"\", \"\", CAD!C446)","v":""},{"$f":"IF($B449=\"\", \"\",VLOOKUP($B449, CAD!$D$7:$E$2000, 2, FALSE))","v":""},{"$f":"IF($B449=\"\", \"\",VLOOKUP($B449, CAD!$F$7:$G$2000, 2, FALSE))","v":""},{"$f":"IF($B449=\"\", \"\",VLOOKUP($B449, CAD!$H$7:$I$2000, 2, FALSE))","v":""},{"$f":"IF($B449=\"\", \"\",VLOOKUP($B449, CAD!$J$7:$K$2000, 2, FALSE))","v":""},{"$f":"IF($B449=\"\", \"\", VLOOKUP($B449, CAD!$L$7:$M$2000, 2, FALSE))","v":""},{"$f":"IF($B449=\"\", \"\", VLOOKUP($B449, CAD!$N$7:$O$2000, 2, FALSE))","v":""},{"$f":"IF($B449=\"\", \"\", VLOOKUP($B449, CAD!$P$7:$Q$2000, 2, FALSE))","v":""},{"$f":"IF($B449=\"\", \"\", VLOOKUP($B449, CAD!$R$7:$S$2000, 2, FALSE))","v":""},{"$f":"IF($B449=\"\", \"\", VLOOKUP($B449, CAD!$T$7:$U$2000, 2, FALSE))","v":""},{"$f":"IF($B449=\"\", \"\", VLOOKUP($B449, CAD!$V$7:$W$2000, 2, FALSE))","v":""}]
[null,{"$f":"IF(CAD!B447=\"\", \"\", CAD!B447)","v":""},{"$f":"IF($B450=\"\", \"\", CAD!C447)","v":""},{"$f":"IF($B450=\"\", \"\",VLOOKUP($B450, CAD!$D$7:$E$2000, 2, FALSE))","v":""},{"$f":"IF($B450=\"\", \"\",VLOOKUP($B450, CAD!$F$7:$G$2000, 2, FALSE))","v":""},{"$f":"IF($B450=\"\", \"\",VLOOKUP($B450, CAD!$H$7:$I$2000, 2, FALSE))","v":""},{"$f":"IF($B450=\"\", \"\",VLOOKUP($B450, CAD!$J$7:$K$2000, 2, FALSE))","v":""},{"$f":"IF($B450=\"\", \"\", VLOOKUP($B450, CAD!$L$7:$M$2000, 2, FALSE))","v":""},{"$f":"IF($B450=\"\", \"\", VLOOKUP($B450, CAD!$N$7:$O$2000, 2, FALSE))","v":""},{"$f":"IF($B450=\"\", \"\", VLOOKUP($B450, CAD!$P$7:$Q$2000, 2, FALSE))","v":""},{"$f":"IF($B450=\"\", \"\", VLOOKUP($B450, CAD!$R$7:$S$2000, 2, FALSE))","v":""},{"$f":"IF($B450=\"\", \"\", VLOOKUP($B450, CAD!$T$7:$U$2000, 2, FALSE))","v":""},{"$f":"IF($B450=\"\", \"\", VLOOKUP($B450, CAD!$V$7:$W$2000, 2, FALSE))","v":""}]
[null,{"$f":"IF(CAD!B448=\"\", \"\", CAD!B448)","v":""},{"$f":"IF($B451=\"\", \"\", CAD!C448)","v":""},{"$f":"IF($B451=\"\", \"\",VLOOKUP($B451, CAD!$D$7:$E$2000, 2, FALSE))","v":""},{"$f":"IF($B451=\"\", \"\",VLOOKUP($B451, CAD!$F$7:$G$2000, 2, FALSE))","v":""},{"$f":"IF($B451=\"\", \"\",VLOOKUP($B451, CAD!$H$7:$I$2000, 2, FALSE))","v":""},{"$f":"IF($B451=\"\", \"\",VLOOKUP($B451, CAD!$J$7:$K$2000, 2, FALSE))","v":""},{"$f":"IF($B451=\"\", \"\", VLOOKUP($B451, CAD!$L$7:$M$2000, 2, FALSE))","v":""},{"$f":"IF($B451=\"\", \"\", VLOOKUP($B451, CAD!$N$7:$O$2000, 2, FALSE))","v":""},{"$f":"IF($B451=\"\", \"\", VLOOKUP($B451, CAD!$P$7:$Q$2000, 2, FALSE))","v":""},{"$f":"IF($B451=\"\", \"\", VLOOKUP($B451, CAD!$R$7:$S$2000, 2, FALSE))","v":""},{"$f":"IF($B451=\"\", \"\", VLOOKUP($B451, CAD!$T$7:$U$2000, 2, FALSE))","v":""},{"$f":"IF($B451=\"\", \"\", VLOOKUP($B451, CAD!$V$7:$W$2000, 2, FALSE))","v":""}]
[null,{"$f":"IF(CAD!B449=\"\", \"\", CAD!B449)","v":""},{"$f":"IF($B452=\"\", \"\", CAD!C449)","v":""},{"$f":"IF($B452=\"\", \"\",VLOOKUP($B452, CAD!$D$7:$E$2000, 2, FALSE))","v":""},{"$f":"IF($B452=\"\", \"\",VLOOKUP($B452, CAD!$F$7:$G$2000, 2, FALSE))","v":""},{"$f":"IF($B452=\"\", \"\",VLOOKUP($B452, CAD!$H$7:$I$2000, 2, FALSE))","v":""},{"$f":"IF($B452=\"\", \"\",VLOOKUP($B452, CAD!$J$7:$K$2000, 2, FALSE))","v":""},{"$f":"IF($B452=\"\", \"\", VLOOKUP($B452, CAD!$L$7:$M$2000, 2, FALSE))","v":""},{"$f":"IF($B452=\"\", \"\", VLOOKUP($B452, CAD!$N$7:$O$2000, 2, FALSE))","v":""},{"$f":"IF($B452=\"\", \"\", VLOOKUP($B452, CAD!$P$7:$Q$2000, 2, FALSE))","v":""},{"$f":"IF($B452=\"\", \"\", VLOOKUP($B452, CAD!$R$7:$S$2000, 2, FALSE))","v":""},{"$f":"IF($B452=\"\", \"\", VLOOKUP($B452, CAD!$T$7:$U$2000, 2, FALSE))","v":""},{"$f":"IF($B452=\"\", \"\", VLOOKUP($B452, CAD!$V$7:$W$2000, 2, FALSE))","v":""}]
[null,{"$f":"IF(CAD!B450=\"\", \"\", CAD!B450)","v":""},{"$f":"IF($B453=\"\", \"\", CAD!C450)","v":""},{"$f":"IF($B453=\"\", \"\",VLOOKUP($B453, CAD!$D$7:$E$2000, 2, FALSE))","v":""},{"$f":"IF($B453=\"\", \"\",VLOOKUP($B453, CAD!$F$7:$G$2000, 2, FALSE))","v":""},{"$f":"IF($B453=\"\", \"\",VLOOKUP($B453, CAD!$H$7:$I$2000, 2, FALSE))","v":""},{"$f":"IF($B453=\"\", \"\",VLOOKUP($B453, CAD!$J$7:$K$2000, 2, FALSE))","v":""},{"$f":"IF($B453=\"\", \"\", VLOOKUP($B453, CAD!$L$7:$M$2000, 2, FALSE))","v":""},{"$f":"IF($B453=\"\", \"\", VLOOKUP($B453, CAD!$N$7:$O$2000, 2, FALSE))","v":""},{"$f":"IF($B453=\"\", \"\", VLOOKUP($B453, CAD!$P$7:$Q$2000, 2, FALSE))","v":""},{"$f":"IF($B453=\"\", \"\", VLOOKUP($B453, CAD!$R$7:$S$2000, 2, FALSE))","v":""},{"$f":"IF($B453=\"\", \"\", VLOOKUP($B453, CAD!$T$7:$U$2000, 2, FALSE))","v":""},{"$f":"IF($B453=\"\", \"\", VLOOKUP($B453, CAD!$V$7:$W$2000, 2, FALSE))","v":""}]
[null,{"$f":"IF(CAD!B451=\"\", \"\", CAD!B451)","v":""},{"$f":"IF($B454=\"\", \"\", CAD!C451)","v":""},{"$f":"IF($B454=\"\", \"\",VLOOKUP($B454, CAD!$D$7:$E$2000, 2, FALSE))","v":""},{"$f":"IF($B454=\"\", \"\",VLOOKUP($B454, CAD!$F$7:$G$2000, 2, FALSE))","v":""},{"$f":"IF($B454=\"\", \"\",VLOOKUP($B454, CAD!$H$7:$I$2000, 2, FALSE))","v":""},{"$f":"IF($B454=\"\", \"\",VLOOKUP($B454, CAD!$J$7:$K$2000, 2, FALSE))","v":""},{"$f":"IF($B454=\"\", \"\", VLOOKUP($B454, CAD!$L$7:$M$2000, 2, FALSE))","v":""},{"$f":"IF($B454=\"\", \"\", VLOOKUP($B454, CAD!$N$7:$O$2000, 2, FALSE))","v":""},{"$f":"IF($B454=\"\", \"\", VLOOKUP($B454, CAD!$P$7:$Q$2000, 2, FALSE))","v":""},{"$f":"IF($B454=\"\", \"\", VLOOKUP($B454, CAD!$R$7:$S$2000, 2, FALSE))","v":""},{"$f":"IF($B454=\"\", \"\", VLOOKUP($B454, CAD!$T$7:$U$2000, 2, FALSE))","v":""},{"$f":"IF($B454=\"\", \"\", VLOOKUP($B454, CAD!$V$7:$W$2000, 2, FALSE))","v":""}]
[null,{"$f":"IF(CAD!B452=\"\", \"\", CAD!B452)","v":""},{"$f":"IF($B455=\"\", \"\", CAD!C452)","v":""},{"$f":"IF($B455=\"\", \"\",VLOOKUP($B455, CAD!$D$7:$E$2000, 2, FALSE))","v":""},{"$f":"IF($B455=\"\", \"\",VLOOKUP($B455, CAD!$F$7:$G$2000, 2, FALSE))","v":""},{"$f":"IF($B455=\"\", \"\",VLOOKUP($B455, CAD!$H$7:$I$2000, 2, FALSE))","v":""},{"$f":"IF($B455=\"\", \"\",VLOOKUP($B455, CAD!$J$7:$K$2000, 2, FALSE))","v":""},{"$f":"IF($B455=\"\", \"\", VLOOKUP($B455, CAD!$L$7:$M$2000, 2, FALSE))","v":""},{"$f":"IF($B455=\"\", \"\", VLOOKUP($B455, CAD!$N$7:$O$2000, 2, FALSE))","v":""},{"$f":"IF($B455=\"\", \"\", VLOOKUP($B455, CAD!$P$7:$Q$2000, 2, FALSE))","v":""},{"$f":"IF($B455=\"\", \"\", VLOOKUP($B455, CAD!$R$7:$S$2000, 2, FALSE))","v":""},{"$f":"IF($B455=\"\", \"\", VLOOKUP($B455, CAD!$T$7:$U$2000, 2, FALSE))","v":""},{"$f":"IF($B455=\"\", \"\", VLOOKUP($B455, CAD!$V$7:$W$2000, 2, FALSE))","v":""}]
[null,{"$f":"IF(CAD!B453=\"\", \"\", CAD!B453)","v":""},{"$f":"IF($B456=\"\", \"\", CAD!C453)","v":""},{"$f":"IF($B456=\"\", \"\",VLOOKUP($B456, CAD!$D$7:$E$2000, 2, FALSE))","v":""},{"$f":"IF($B456=\"\", \"\",VLOOKUP($B456, CAD!$F$7:$G$2000, 2, FALSE))","v":""},{"$f":"IF($B456=\"\", \"\",VLOOKUP($B456, CAD!$H$7:$I$2000, 2, FALSE))","v":""},{"$f":"IF($B456=\"\", \"\",VLOOKUP($B456, CAD!$J$7:$K$2000, 2, FALSE))","v":""},{"$f":"IF($B456=\"\", \"\", VLOOKUP($B456, CAD!$L$7:$M$2000, 2, FALSE))","v":""},{"$f":"IF($B456=\"\", \"\", VLOOKUP($B456, CAD!$N$7:$O$2000, 2, FALSE))","v":""},{"$f":"IF($B456=\"\", \"\", VLOOKUP($B456, CAD!$P$7:$Q$2000, 2, FALSE))","v":""},{"$f":"IF($B456=\"\", \"\", VLOOKUP($B456, CAD!$R$7:$S$2000, 2, FALSE))","v":""},{"$f":"IF($B456=\"\", \"\", VLOOKUP($B456, CAD!$T$7:$U$2000, 2, FALSE))","v":""},{"$f":"IF($B456=\"\", \"\", VLOOKUP($B456, CAD!$V$7:$W$2000, 2, FALSE))","v":""}]
[null,{"$f":"IF(CAD!B454=\"\", \"\", CAD!B454)","v":""},{"$f":"IF($B457=\"\", \"\", CAD!C454)","v":""},{"$f":"IF($B457=\"\", \"\",VLOOKUP($B457, CAD!$D$7:$E$2000, 2, FALSE))","v":""},{"$f":"IF($B457=\"\", \"\",VLOOKUP($B457, CAD!$F$7:$G$2000, 2, FALSE))","v":""},{"$f":"IF($B457=\"\", \"\",VLOOKUP($B457, CAD!$H$7:$I$2000, 2, FALSE))","v":""},{"$f":"IF($B457=\"\", \"\",VLOOKUP($B457, CAD!$J$7:$K$2000, 2, FALSE))","v":""},{"$f":"IF($B457=\"\", \"\", VLOOKUP($B457, CAD!$L$7:$M$2000, 2, FALSE))","v":""},{"$f":"IF($B457=\"\", \"\", VLOOKUP($B457, CAD!$N$7:$O$2000, 2, FALSE))","v":""},{"$f":"IF($B457=\"\", \"\", VLOOKUP($B457, CAD!$P$7:$Q$2000, 2, FALSE))","v":""},{"$f":"IF($B457=\"\", \"\", VLOOKUP($B457, CAD!$R$7:$S$2000, 2, FALSE))","v":""},{"$f":"IF($B457=\"\", \"\", VLOOKUP($B457, CAD!$T$7:$U$2000, 2, FALSE))","v":""},{"$f":"IF($B457=\"\", \"\", VLOOKUP($B457, CAD!$V$7:$W$2000, 2, FALSE))","v":""}]
[null,{"$f":"IF(CAD!B455=\"\", \"\", CAD!B455)","v":""},{"$f":"IF($B458=\"\", \"\", CAD!C455)","v":""},{"$f":"IF($B458=\"\", \"\",VLOOKUP($B458, CAD!$D$7:$E$2000, 2, FALSE))","v":""},{"$f":"IF($B458=\"\", \"\",VLOOKUP($B458, CAD!$F$7:$G$2000, 2, FALSE))","v":""},{"$f":"IF($B458=\"\", \"\",VLOOKUP($B458, CAD!$H$7:$I$2000, 2, FALSE))","v":""},{"$f":"IF($B458=\"\", \"\",VLOOKUP($B458, CAD!$J$7:$K$2000, 2, FALSE))","v":""},{"$f":"IF($B458=\"\", \"\", VLOOKUP($B458, CAD!$L$7:$M$2000, 2, FALSE))","v":""},{"$f":"IF($B458=\"\", \"\", VLOOKUP($B458, CAD!$N$7:$O$2000, 2, FALSE))","v":""},{"$f":"IF($B458=\"\", \"\", VLOOKUP($B458, CAD!$P$7:$Q$2000, 2, FALSE))","v":""},{"$f":"IF($B458=\"\", \"\", VLOOKUP($B458, CAD!$R$7:$S$2000, 2, FALSE))","v":""},{"$f":"IF($B458=\"\", \"\", VLOOKUP($B458, CAD!$T$7:$U$2000, 2, FALSE))","v":""},{"$f":"IF($B458=\"\", \"\", VLOOKUP($B458, CAD!$V$7:$W$2000, 2, FALSE))","v":""}]
[null,{"$f":"IF(CAD!B456=\"\", \"\", CAD!B456)","v":""},{"$f":"IF($B459=\"\", \"\", CAD!C456)","v":""},{"$f":"IF($B459=\"\", \"\",VLOOKUP($B459, CAD!$D$7:$E$2000, 2, FALSE))","v":""},{"$f":"IF($B459=\"\", \"\",VLOOKUP($B459, CAD!$F$7:$G$2000, 2, FALSE))","v":""},{"$f":"IF($B459=\"\", \"\",VLOOKUP($B459, CAD!$H$7:$I$2000, 2, FALSE))","v":""},{"$f":"IF($B459=\"\", \"\",VLOOKUP($B459, CAD!$J$7:$K$2000, 2, FALSE))","v":""},{"$f":"IF($B459=\"\", \"\", VLOOKUP($B459, CAD!$L$7:$M$2000, 2, FALSE))","v":""},{"$f":"IF($B459=\"\", \"\", VLOOKUP($B459, CAD!$N$7:$O$2000, 2, FALSE))","v":""},{"$f":"IF($B459=\"\", \"\", VLOOKUP($B459, CAD!$P$7:$Q$2000, 2, FALSE))","v":""},{"$f":"IF($B459=\"\", \"\", VLOOKUP($B459, CAD!$R$7:$S$2000, 2, FALSE))","v":""},{"$f":"IF($B459=\"\", \"\", VLOOKUP($B459, CAD!$T$7:$U$2000, 2, FALSE))","v":""},{"$f":"IF($B459=\"\", \"\", VLOOKUP($B459, CAD!$V$7:$W$2000, 2, FALSE))","v":""}]
[null,{"$f":"IF(CAD!B457=\"\", \"\", CAD!B457)","v":""},{"$f":"IF($B460=\"\", \"\", CAD!C457)","v":""},{"$f":"IF($B460=\"\", \"\",VLOOKUP($B460, CAD!$D$7:$E$2000, 2, FALSE))","v":""},{"$f":"IF($B460=\"\", \"\",VLOOKUP($B460, CAD!$F$7:$G$2000, 2, FALSE))","v":""},{"$f":"IF($B460=\"\", \"\",VLOOKUP($B460, CAD!$H$7:$I$2000, 2, FALSE))","v":""},{"$f":"IF($B460=\"\", \"\",VLOOKUP($B460, CAD!$J$7:$K$2000, 2, FALSE))","v":""},{"$f":"IF($B460=\"\", \"\", VLOOKUP($B460, CAD!$L$7:$M$2000, 2, FALSE))","v":""},{"$f":"IF($B460=\"\", \"\", VLOOKUP($B460, CAD!$N$7:$O$2000, 2, FALSE))","v":""},{"$f":"IF($B460=\"\", \"\", VLOOKUP($B460, CAD!$P$7:$Q$2000, 2, FALSE))","v":""},{"$f":"IF($B460=\"\", \"\", VLOOKUP($B460, CAD!$R$7:$S$2000, 2, FALSE))","v":""},{"$f":"IF($B460=\"\", \"\", VLOOKUP($B460, CAD!$T$7:$U$2000, 2, FALSE))","v":""},{"$f":"IF($B460=\"\", \"\", VLOOKUP($B460, CAD!$V$7:$W$2000, 2, FALSE))","v":""}]
[null,{"$f":"IF(CAD!B458=\"\", \"\", CAD!B458)","v":""},{"$f":"IF($B461=\"\", \"\", CAD!C458)","v":""},{"$f":"IF($B461=\"\", \"\",VLOOKUP($B461, CAD!$D$7:$E$2000, 2, FALSE))","v":""},{"$f":"IF($B461=\"\", \"\",VLOOKUP($B461, CAD!$F$7:$G$2000, 2, FALSE))","v":""},{"$f":"IF($B461=\"\", \"\",VLOOKUP($B461, CAD!$H$7:$I$2000, 2, FALSE))","v":""},{"$f":"IF($B461=\"\", \"\",VLOOKUP($B461, CAD!$J$7:$K$2000, 2, FALSE))","v":""},{"$f":"IF($B461=\"\", \"\", VLOOKUP($B461, CAD!$L$7:$M$2000, 2, FALSE))","v":""},{"$f":"IF($B461=\"\", \"\", VLOOKUP($B461, CAD!$N$7:$O$2000, 2, FALSE))","v":""},{"$f":"IF($B461=\"\", \"\", VLOOKUP($B461, CAD!$P$7:$Q$2000, 2, FALSE))","v":""},{"$f":"IF($B461=\"\", \"\", VLOOKUP($B461, CAD!$R$7:$S$2000, 2, FALSE))","v":""},{"$f":"IF($B461=\"\", \"\", VLOOKUP($B461, CAD!$T$7:$U$2000, 2, FALSE))","v":""},{"$f":"IF($B461=\"\", \"\", VLOOKUP($B461, CAD!$V$7:$W$2000, 2, FALSE))","v":""}]
[null,{"$f":"IF(CAD!B459=\"\", \"\", CAD!B459)","v":""},{"$f":"IF($B462=\"\", \"\", CAD!C459)","v":""},{"$f":"IF($B462=\"\", \"\",VLOOKUP($B462, CAD!$D$7:$E$2000, 2, FALSE))","v":""},{"$f":"IF($B462=\"\", \"\",VLOOKUP($B462, CAD!$F$7:$G$2000, 2, FALSE))","v":""},{"$f":"IF($B462=\"\", \"\",VLOOKUP($B462, CAD!$H$7:$I$2000, 2, FALSE))","v":""},{"$f":"IF($B462=\"\", \"\",VLOOKUP($B462, CAD!$J$7:$K$2000, 2, FALSE))","v":""},{"$f":"IF($B462=\"\", \"\", VLOOKUP($B462, CAD!$L$7:$M$2000, 2, FALSE))","v":""},{"$f":"IF($B462=\"\", \"\", VLOOKUP($B462, CAD!$N$7:$O$2000, 2, FALSE))","v":""},{"$f":"IF($B462=\"\", \"\", VLOOKUP($B462, CAD!$P$7:$Q$2000, 2, FALSE))","v":""},{"$f":"IF($B462=\"\", \"\", VLOOKUP($B462, CAD!$R$7:$S$2000, 2, FALSE))","v":""},{"$f":"IF($B462=\"\", \"\", VLOOKUP($B462, CAD!$T$7:$U$2000, 2, FALSE))","v":""},{"$f":"IF($B462=\"\", \"\", VLOOKUP($B462, CAD!$V$7:$W$2000, 2, FALSE))","v":""}]
[null,{"$f":"IF(CAD!B460=\"\", \"\", CAD!B460)","v":""},{"$f":"IF($B463=\"\", \"\", CAD!C460)","v":""},{"$f":"IF($B463=\"\", \"\",VLOOKUP($B463, CAD!$D$7:$E$2000, 2, FALSE))","v":""},{"$f":"IF($B463=\"\", \"\",VLOOKUP($B463, CAD!$F$7:$G$2000, 2, FALSE))","v":""},{"$f":"IF($B463=\"\", \"\",VLOOKUP($B463, CAD!$H$7:$I$2000, 2, FALSE))","v":""},{"$f":"IF($B463=\"\", \"\",VLOOKUP($B463, CAD!$J$7:$K$2000, 2, FALSE))","v":""},{"$f":"IF($B463=\"\", \"\", VLOOKUP($B463, CAD!$L$7:$M$2000, 2, FALSE))","v":""},{"$f":"IF($B463=\"\", \"\", VLOOKUP($B463, CAD!$N$7:$O$2000, 2, FALSE))","v":""},{"$f":"IF($B463=\"\", \"\", VLOOKUP($B463, CAD!$P$7:$Q$2000, 2, FALSE))","v":""},{"$f":"IF($B463=\"\", \"\", VLOOKUP($B463, CAD!$R$7:$S$2000, 2, FALSE))","v":""},{"$f":"IF($B463=\"\", \"\", VLOOKUP($B463, CAD!$T$7:$U$2000, 2, FALSE))","v":""},{"$f":"IF($B463=\"\", \"\", VLOOKUP($B463, CAD!$V$7:$W$2000, 2, FALSE))","v":""}]
[null,{"$f":"IF(CAD!B461=\"\", \"\", CAD!B461)","v":""},{"$f":"IF($B464=\"\", \"\", CAD!C461)","v":""},{"$f":"IF($B464=\"\", \"\",VLOOKUP($B464, CAD!$D$7:$E$2000, 2, FALSE))","v":""},{"$f":"IF($B464=\"\", \"\",VLOOKUP($B464, CAD!$F$7:$G$2000, 2, FALSE))","v":""},{"$f":"IF($B464=\"\", \"\",VLOOKUP($B464, CAD!$H$7:$I$2000, 2, FALSE))","v":""},{"$f":"IF($B464=\"\", \"\",VLOOKUP($B464, CAD!$J$7:$K$2000, 2, FALSE))","v":""},{"$f":"IF($B464=\"\", \"\", VLOOKUP($B464, CAD!$L$7:$M$2000, 2, FALSE))","v":""},{"$f":"IF($B464=\"\", \"\", VLOOKUP($B464, CAD!$N$7:$O$2000, 2, FALSE))","v":""},{"$f":"IF($B464=\"\", \"\", VLOOKUP($B464, CAD!$P$7:$Q$2000, 2, FALSE))","v":""},{"$f":"IF($B464=\"\", \"\", VLOOKUP($B464, CAD!$R$7:$S$2000, 2, FALSE))","v":""},{"$f":"IF($B464=\"\", \"\", VLOOKUP($B464, CAD!$T$7:$U$2000, 2, FALSE))","v":""},{"$f":"IF($B464=\"\", \"\", VLOOKUP($B464, CAD!$V$7:$W$2000, 2, FALSE))","v":""}]
[null,{"$f":"IF(CAD!B462=\"\", \"\", CAD!B462)","v":""},{"$f":"IF($B465=\"\", \"\", CAD!C462)","v":""},{"$f":"IF($B465=\"\", \"\",VLOOKUP($B465, CAD!$D$7:$E$2000, 2, FALSE))","v":""},{"$f":"IF($B465=\"\", \"\",VLOOKUP($B465, CAD!$F$7:$G$2000, 2, FALSE))","v":""},{"$f":"IF($B465=\"\", \"\",VLOOKUP($B465, CAD!$H$7:$I$2000, 2, FALSE))","v":""},{"$f":"IF($B465=\"\", \"\",VLOOKUP($B465, CAD!$J$7:$K$2000, 2, FALSE))","v":""},{"$f":"IF($B465=\"\", \"\", VLOOKUP($B465, CAD!$L$7:$M$2000, 2, FALSE))","v":""},{"$f":"IF($B465=\"\", \"\", VLOOKUP($B465, CAD!$N$7:$O$2000, 2, FALSE))","v":""},{"$f":"IF($B465=\"\", \"\", VLOOKUP($B465, CAD!$P$7:$Q$2000, 2, FALSE))","v":""},{"$f":"IF($B465=\"\", \"\", VLOOKUP($B465, CAD!$R$7:$S$2000, 2, FALSE))","v":""},{"$f":"IF($B465=\"\", \"\", VLOOKUP($B465, CAD!$T$7:$U$2000, 2, FALSE))","v":""},{"$f":"IF($B465=\"\", \"\", VLOOKUP($B465, CAD!$V$7:$W$2000, 2, FALSE))","v":""}]
[null,{"$f":"IF(CAD!B463=\"\", \"\", CAD!B463)","v":""},{"$f":"IF($B466=\"\", \"\", CAD!C463)","v":""},{"$f":"IF($B466=\"\", \"\",VLOOKUP($B466, CAD!$D$7:$E$2000, 2, FALSE))","v":""},{"$f":"IF($B466=\"\", \"\",VLOOKUP($B466, CAD!$F$7:$G$2000, 2, FALSE))","v":""},{"$f":"IF($B466=\"\", \"\",VLOOKUP($B466, CAD!$H$7:$I$2000, 2, FALSE))","v":""},{"$f":"IF($B466=\"\", \"\",VLOOKUP($B466, CAD!$J$7:$K$2000, 2, FALSE))","v":""},{"$f":"IF($B466=\"\", \"\", VLOOKUP($B466, CAD!$L$7:$M$2000, 2, FALSE))","v":""},{"$f":"IF($B466=\"\", \"\", VLOOKUP($B466, CAD!$N$7:$O$2000, 2, FALSE))","v":""},{"$f":"IF($B466=\"\", \"\", VLOOKUP($B466, CAD!$P$7:$Q$2000, 2, FALSE))","v":""},{"$f":"IF($B466=\"\", \"\", VLOOKUP($B466, CAD!$R$7:$S$2000, 2, FALSE))","v":""},{"$f":"IF($B466=\"\", \"\", VLOOKUP($B466, CAD!$T$7:$U$2000, 2, FALSE))","v":""},{"$f":"IF($B466=\"\", \"\", VLOOKUP($B466, CAD!$V$7:$W$2000, 2, FALSE))","v":""}]
[null,{"$f":"IF(CAD!B464=\"\", \"\", CAD!B464)","v":""},{"$f":"IF($B467=\"\", \"\", CAD!C464)","v":""},{"$f":"IF($B467=\"\", \"\",VLOOKUP($B467, CAD!$D$7:$E$2000, 2, FALSE))","v":""},{"$f":"IF($B467=\"\", \"\",VLOOKUP($B467, CAD!$F$7:$G$2000, 2, FALSE))","v":""},{"$f":"IF($B467=\"\", \"\",VLOOKUP($B467, CAD!$H$7:$I$2000, 2, FALSE))","v":""},{"$f":"IF($B467=\"\", \"\",VLOOKUP($B467, CAD!$J$7:$K$2000, 2, FALSE))","v":""},{"$f":"IF($B467=\"\", \"\", VLOOKUP($B467, CAD!$L$7:$M$2000, 2, FALSE))","v":""},{"$f":"IF($B467=\"\", \"\", VLOOKUP($B467, CAD!$N$7:$O$2000, 2, FALSE))","v":""},{"$f":"IF($B467=\"\", \"\", VLOOKUP($B467, CAD!$P$7:$Q$2000, 2, FALSE))","v":""},{"$f":"IF($B467=\"\", \"\", VLOOKUP($B467, CAD!$R$7:$S$2000, 2, FALSE))","v":""},{"$f":"IF($B467=\"\", \"\", VLOOKUP($B467, CAD!$T$7:$U$2000, 2, FALSE))","v":""},{"$f":"IF($B467=\"\", \"\", VLOOKUP($B467, CAD!$V$7:$W$2000, 2, FALSE))","v":""}]
[null,{"$f":"IF(CAD!B465=\"\", \"\", CAD!B465)","v":""},{"$f":"IF($B468=\"\", \"\", CAD!C465)","v":""},{"$f":"IF($B468=\"\", \"\",VLOOKUP($B468, CAD!$D$7:$E$2000, 2, FALSE))","v":""},{"$f":"IF($B468=\"\", \"\",VLOOKUP($B468, CAD!$F$7:$G$2000, 2, FALSE))","v":""},{"$f":"IF($B468=\"\", \"\",VLOOKUP($B468, CAD!$H$7:$I$2000, 2, FALSE))","v":""},{"$f":"IF($B468=\"\", \"\",VLOOKUP($B468, CAD!$J$7:$K$2000, 2, FALSE))","v":""},{"$f":"IF($B468=\"\", \"\", VLOOKUP($B468, CAD!$L$7:$M$2000, 2, FALSE))","v":""},{"$f":"IF($B468=\"\", \"\", VLOOKUP($B468, CAD!$N$7:$O$2000, 2, FALSE))","v":""},{"$f":"IF($B468=\"\", \"\", VLOOKUP($B468, CAD!$P$7:$Q$2000, 2, FALSE))","v":""},{"$f":"IF($B468=\"\", \"\", VLOOKUP($B468, CAD!$R$7:$S$2000, 2, FALSE))","v":""},{"$f":"IF($B468=\"\", \"\", VLOOKUP($B468, CAD!$T$7:$U$2000, 2, FALSE))","v":""},{"$f":"IF($B468=\"\", \"\", VLOOKUP($B468, CAD!$V$7:$W$2000, 2, FALSE))","v":""}]
[null,{"$f":"IF(CAD!B466=\"\", \"\", CAD!B466)","v":""},{"$f":"IF($B469=\"\", \"\", CAD!C466)","v":""},{"$f":"IF($B469=\"\", \"\",VLOOKUP($B469, CAD!$D$7:$E$2000, 2, FALSE))","v":""},{"$f":"IF($B469=\"\", \"\",VLOOKUP($B469, CAD!$F$7:$G$2000, 2, FALSE))","v":""},{"$f":"IF($B469=\"\", \"\",VLOOKUP($B469, CAD!$H$7:$I$2000, 2, FALSE))","v":""},{"$f":"IF($B469=\"\", \"\",VLOOKUP($B469, CAD!$J$7:$K$2000, 2, FALSE))","v":""},{"$f":"IF($B469=\"\", \"\", VLOOKUP($B469, CAD!$L$7:$M$2000, 2, FALSE))","v":""},{"$f":"IF($B469=\"\", \"\", VLOOKUP($B469, CAD!$N$7:$O$2000, 2, FALSE))","v":""},{"$f":"IF($B469=\"\", \"\", VLOOKUP($B469, CAD!$P$7:$Q$2000, 2, FALSE))","v":""},{"$f":"IF($B469=\"\", \"\", VLOOKUP($B469, CAD!$R$7:$S$2000, 2, FALSE))","v":""},{"$f":"IF($B469=\"\", \"\", VLOOKUP($B469, CAD!$T$7:$U$2000, 2, FALSE))","v":""},{"$f":"IF($B469=\"\", \"\", VLOOKUP($B469, CAD!$V$7:$W$2000, 2, FALSE))","v":""}]
[null,{"$f":"IF(CAD!B467=\"\", \"\", CAD!B467)","v":""},{"$f":"IF($B470=\"\", \"\", CAD!C467)","v":""},{"$f":"IF($B470=\"\", \"\",VLOOKUP($B470, CAD!$D$7:$E$2000, 2, FALSE))","v":""},{"$f":"IF($B470=\"\", \"\",VLOOKUP($B470, CAD!$F$7:$G$2000, 2, FALSE))","v":""},{"$f":"IF($B470=\"\", \"\",VLOOKUP($B470, CAD!$H$7:$I$2000, 2, FALSE))","v":""},{"$f":"IF($B470=\"\", \"\",VLOOKUP($B470, CAD!$J$7:$K$2000, 2, FALSE))","v":""},{"$f":"IF($B470=\"\", \"\", VLOOKUP($B470, CAD!$L$7:$M$2000, 2, FALSE))","v":""},{"$f":"IF($B470=\"\", \"\", VLOOKUP($B470, CAD!$N$7:$O$2000, 2, FALSE))","v":""},{"$f":"IF($B470=\"\", \"\", VLOOKUP($B470, CAD!$P$7:$Q$2000, 2, FALSE))","v":""},{"$f":"IF($B470=\"\", \"\", VLOOKUP($B470, CAD!$R$7:$S$2000, 2, FALSE))","v":""},{"$f":"IF($B470=\"\", \"\", VLOOKUP($B470, CAD!$T$7:$U$2000, 2, FALSE))","v":""},{"$f":"IF($B470=\"\", \"\", VLOOKUP($B470, CAD!$V$7:$W$2000, 2, FALSE))","v":""}]
[null,{"$f":"IF(CAD!B468=\"\", \"\", CAD!B468)","v":""},{"$f":"IF($B471=\"\", \"\", CAD!C468)","v":""},{"$f":"IF($B471=\"\", \"\",VLOOKUP($B471, CAD!$D$7:$E$2000, 2, FALSE))","v":""},{"$f":"IF($B471=\"\", \"\",VLOOKUP($B471, CAD!$F$7:$G$2000, 2, FALSE))","v":""},{"$f":"IF($B471=\"\", \"\",VLOOKUP($B471, CAD!$H$7:$I$2000, 2, FALSE))","v":""},{"$f":"IF($B471=\"\", \"\",VLOOKUP($B471, CAD!$J$7:$K$2000, 2, FALSE))","v":""},{"$f":"IF($B471=\"\", \"\", VLOOKUP($B471, CAD!$L$7:$M$2000, 2, FALSE))","v":""},{"$f":"IF($B471=\"\", \"\", VLOOKUP($B471, CAD!$N$7:$O$2000, 2, FALSE))","v":""},{"$f":"IF($B471=\"\", \"\", VLOOKUP($B471, CAD!$P$7:$Q$2000, 2, FALSE))","v":""},{"$f":"IF($B471=\"\", \"\", VLOOKUP($B471, CAD!$R$7:$S$2000, 2, FALSE))","v":""},{"$f":"IF($B471=\"\", \"\", VLOOKUP($B471, CAD!$T$7:$U$2000, 2, FALSE))","v":""},{"$f":"IF($B471=\"\", \"\", VLOOKUP($B471, CAD!$V$7:$W$2000, 2, FALSE))","v":""}]
[null,{"$f":"IF(CAD!B469=\"\", \"\", CAD!B469)","v":""},{"$f":"IF($B472=\"\", \"\", CAD!C469)","v":""},{"$f":"IF($B472=\"\", \"\",VLOOKUP($B472, CAD!$D$7:$E$2000, 2, FALSE))","v":""},{"$f":"IF($B472=\"\", \"\",VLOOKUP($B472, CAD!$F$7:$G$2000, 2, FALSE))","v":""},{"$f":"IF($B472=\"\", \"\",VLOOKUP($B472, CAD!$H$7:$I$2000, 2, FALSE))","v":""},{"$f":"IF($B472=\"\", \"\",VLOOKUP($B472, CAD!$J$7:$K$2000, 2, FALSE))","v":""},{"$f":"IF($B472=\"\", \"\", VLOOKUP($B472, CAD!$L$7:$M$2000, 2, FALSE))","v":""},{"$f":"IF($B472=\"\", \"\", VLOOKUP($B472, CAD!$N$7:$O$2000, 2, FALSE))","v":""},{"$f":"IF($B472=\"\", \"\", VLOOKUP($B472, CAD!$P$7:$Q$2000, 2, FALSE))","v":""},{"$f":"IF($B472=\"\", \"\", VLOOKUP($B472, CAD!$R$7:$S$2000, 2, FALSE))","v":""},{"$f":"IF($B472=\"\", \"\", VLOOKUP($B472, CAD!$T$7:$U$2000, 2, FALSE))","v":""},{"$f":"IF($B472=\"\", \"\", VLOOKUP($B472, CAD!$V$7:$W$2000, 2, FALSE))","v":""}]
[null,{"$f":"IF(CAD!B470=\"\", \"\", CAD!B470)","v":""},{"$f":"IF($B473=\"\", \"\", CAD!C470)","v":""},{"$f":"IF($B473=\"\", \"\",VLOOKUP($B473, CAD!$D$7:$E$2000, 2, FALSE))","v":""},{"$f":"IF($B473=\"\", \"\",VLOOKUP($B473, CAD!$F$7:$G$2000, 2, FALSE))","v":""},{"$f":"IF($B473=\"\", \"\",VLOOKUP($B473, CAD!$H$7:$I$2000, 2, FALSE))","v":""},{"$f":"IF($B473=\"\", \"\",VLOOKUP($B473, CAD!$J$7:$K$2000, 2, FALSE))","v":""},{"$f":"IF($B473=\"\", \"\", VLOOKUP($B473, CAD!$L$7:$M$2000, 2, FALSE))","v":""},{"$f":"IF($B473=\"\", \"\", VLOOKUP($B473, CAD!$N$7:$O$2000, 2, FALSE))","v":""},{"$f":"IF($B473=\"\", \"\", VLOOKUP($B473, CAD!$P$7:$Q$2000, 2, FALSE))","v":""},{"$f":"IF($B473=\"\", \"\", VLOOKUP($B473, CAD!$R$7:$S$2000, 2, FALSE))","v":""},{"$f":"IF($B473=\"\", \"\", VLOOKUP($B473, CAD!$T$7:$U$2000, 2, FALSE))","v":""},{"$f":"IF($B473=\"\", \"\", VLOOKUP($B473, CAD!$V$7:$W$2000, 2, FALSE))","v":""}]
[null,{"$f":"IF(CAD!B471=\"\", \"\", CAD!B471)","v":""},{"$f":"IF($B474=\"\", \"\", CAD!C471)","v":""},{"$f":"IF($B474=\"\", \"\",VLOOKUP($B474, CAD!$D$7:$E$2000, 2, FALSE))","v":""},{"$f":"IF($B474=\"\", \"\",VLOOKUP($B474, CAD!$F$7:$G$2000, 2, FALSE))","v":""},{"$f":"IF($B474=\"\", \"\",VLOOKUP($B474, CAD!$H$7:$I$2000, 2, FALSE))","v":""},{"$f":"IF($B474=\"\", \"\",VLOOKUP($B474, CAD!$J$7:$K$2000, 2, FALSE))","v":""},{"$f":"IF($B474=\"\", \"\", VLOOKUP($B474, CAD!$L$7:$M$2000, 2, FALSE))","v":""},{"$f":"IF($B474=\"\", \"\", VLOOKUP($B474, CAD!$N$7:$O$2000, 2, FALSE))","v":""},{"$f":"IF($B474=\"\", \"\", VLOOKUP($B474, CAD!$P$7:$Q$2000, 2, FALSE))","v":""},{"$f":"IF($B474=\"\", \"\", VLOOKUP($B474, CAD!$R$7:$S$2000, 2, FALSE))","v":""},{"$f":"IF($B474=\"\", \"\", VLOOKUP($B474, CAD!$T$7:$U$2000, 2, FALSE))","v":""},{"$f":"IF($B474=\"\", \"\", VLOOKUP($B474, CAD!$V$7:$W$2000, 2, FALSE))","v":""}]
[null,{"$f":"IF(CAD!B472=\"\", \"\", CAD!B472)","v":""},{"$f":"IF($B475=\"\", \"\", CAD!C472)","v":""},{"$f":"IF($B475=\"\", \"\",VLOOKUP($B475, CAD!$D$7:$E$2000, 2, FALSE))","v":""},{"$f":"IF($B475=\"\", \"\",VLOOKUP($B475, CAD!$F$7:$G$2000, 2, FALSE))","v":""},{"$f":"IF($B475=\"\", \"\",VLOOKUP($B475, CAD!$H$7:$I$2000, 2, FALSE))","v":""},{"$f":"IF($B475=\"\", \"\",VLOOKUP($B475, CAD!$J$7:$K$2000, 2, FALSE))","v":""},{"$f":"IF($B475=\"\", \"\", VLOOKUP($B475, CAD!$L$7:$M$2000, 2, FALSE))","v":""},{"$f":"IF($B475=\"\", \"\", VLOOKUP($B475, CAD!$N$7:$O$2000, 2, FALSE))","v":""},{"$f":"IF($B475=\"\", \"\", VLOOKUP($B475, CAD!$P$7:$Q$2000, 2, FALSE))","v":""},{"$f":"IF($B475=\"\", \"\", VLOOKUP($B475, CAD!$R$7:$S$2000, 2, FALSE))","v":""},{"$f":"IF($B475=\"\", \"\", VLOOKUP($B475, CAD!$T$7:$U$2000, 2, FALSE))","v":""},{"$f":"IF($B475=\"\", \"\", VLOOKUP($B475, CAD!$V$7:$W$2000, 2, FALSE))","v":""}]
[null,{"$f":"IF(CAD!B473=\"\", \"\", CAD!B473)","v":""},{"$f":"IF($B476=\"\", \"\", CAD!C473)","v":""},{"$f":"IF($B476=\"\", \"\",VLOOKUP($B476, CAD!$D$7:$E$2000, 2, FALSE))","v":""},{"$f":"IF($B476=\"\", \"\",VLOOKUP($B476, CAD!$F$7:$G$2000, 2, FALSE))","v":""},{"$f":"IF($B476=\"\", \"\",VLOOKUP($B476, CAD!$H$7:$I$2000, 2, FALSE))","v":""},{"$f":"IF($B476=\"\", \"\",VLOOKUP($B476, CAD!$J$7:$K$2000, 2, FALSE))","v":""},{"$f":"IF($B476=\"\", \"\", VLOOKUP($B476, CAD!$L$7:$M$2000, 2, FALSE))","v":""},{"$f":"IF($B476=\"\", \"\", VLOOKUP($B476, CAD!$N$7:$O$2000, 2, FALSE))","v":""},{"$f":"IF($B476=\"\", \"\", VLOOKUP($B476, CAD!$P$7:$Q$2000, 2, FALSE))","v":""},{"$f":"IF($B476=\"\", \"\", VLOOKUP($B476, CAD!$R$7:$S$2000, 2, FALSE))","v":""},{"$f":"IF($B476=\"\", \"\", VLOOKUP($B476, CAD!$T$7:$U$2000, 2, FALSE))","v":""},{"$f":"IF($B476=\"\", \"\", VLOOKUP($B476, CAD!$V$7:$W$2000, 2, FALSE))","v":""}]
[null,{"$f":"IF(CAD!B474=\"\", \"\", CAD!B474)","v":""},{"$f":"IF($B477=\"\", \"\", CAD!C474)","v":""},{"$f":"IF($B477=\"\", \"\",VLOOKUP($B477, CAD!$D$7:$E$2000, 2, FALSE))","v":""},{"$f":"IF($B477=\"\", \"\",VLOOKUP($B477, CAD!$F$7:$G$2000, 2, FALSE))","v":""},{"$f":"IF($B477=\"\", \"\",VLOOKUP($B477, CAD!$H$7:$I$2000, 2, FALSE))","v":""},{"$f":"IF($B477=\"\", \"\",VLOOKUP($B477, CAD!$J$7:$K$2000, 2, FALSE))","v":""},{"$f":"IF($B477=\"\", \"\", VLOOKUP($B477, CAD!$L$7:$M$2000, 2, FALSE))","v":""},{"$f":"IF($B477=\"\", \"\", VLOOKUP($B477, CAD!$N$7:$O$2000, 2, FALSE))","v":""},{"$f":"IF($B477=\"\", \"\", VLOOKUP($B477, CAD!$P$7:$Q$2000, 2, FALSE))","v":""},{"$f":"IF($B477=\"\", \"\", VLOOKUP($B477, CAD!$R$7:$S$2000, 2, FALSE))","v":""},{"$f":"IF($B477=\"\", \"\", VLOOKUP($B477, CAD!$T$7:$U$2000, 2, FALSE))","v":""},{"$f":"IF($B477=\"\", \"\", VLOOKUP($B477, CAD!$V$7:$W$2000, 2, FALSE))","v":""}]
[null,{"$f":"IF(CAD!B475=\"\", \"\", CAD!B475)","v":""},{"$f":"IF($B478=\"\", \"\", CAD!C475)","v":""},{"$f":"IF($B478=\"\", \"\",VLOOKUP($B478, CAD!$D$7:$E$2000, 2, FALSE))","v":""},{"$f":"IF($B478=\"\", \"\",VLOOKUP($B478, CAD!$F$7:$G$2000, 2, FALSE))","v":""},{"$f":"IF($B478=\"\", \"\",VLOOKUP($B478, CAD!$H$7:$I$2000, 2, FALSE))","v":""},{"$f":"IF($B478=\"\", \"\",VLOOKUP($B478, CAD!$J$7:$K$2000, 2, FALSE))","v":""},{"$f":"IF($B478=\"\", \"\", VLOOKUP($B478, CAD!$L$7:$M$2000, 2, FALSE))","v":""},{"$f":"IF($B478=\"\", \"\", VLOOKUP($B478, CAD!$N$7:$O$2000, 2, FALSE))","v":""},{"$f":"IF($B478=\"\", \"\", VLOOKUP($B478, CAD!$P$7:$Q$2000, 2, FALSE))","v":""},{"$f":"IF($B478=\"\", \"\", VLOOKUP($B478, CAD!$R$7:$S$2000, 2, FALSE))","v":""},{"$f":"IF($B478=\"\", \"\", VLOOKUP($B478, CAD!$T$7:$U$2000, 2, FALSE))","v":""},{"$f":"IF($B478=\"\", \"\", VLOOKUP($B478, CAD!$V$7:$W$2000, 2, FALSE))","v":""}]
[null,{"$f":"IF(CAD!B476=\"\", \"\", CAD!B476)","v":""},{"$f":"IF($B479=\"\", \"\", CAD!C476)","v":""},{"$f":"IF($B479=\"\", \"\",VLOOKUP($B479, CAD!$D$7:$E$2000, 2, FALSE))","v":""},{"$f":"IF($B479=\"\", \"\",VLOOKUP($B479, CAD!$F$7:$G$2000, 2, FALSE))","v":""},{"$f":"IF($B479=\"\", \"\",VLOOKUP($B479, CAD!$H$7:$I$2000, 2, FALSE))","v":""},{"$f":"IF($B479=\"\", \"\",VLOOKUP($B479, CAD!$J$7:$K$2000, 2, FALSE))","v":""},{"$f":"IF($B479=\"\", \"\", VLOOKUP($B479, CAD!$L$7:$M$2000, 2, FALSE))","v":""},{"$f":"IF($B479=\"\", \"\", VLOOKUP($B479, CAD!$N$7:$O$2000, 2, FALSE))","v":""},{"$f":"IF($B479=\"\", \"\", VLOOKUP($B479, CAD!$P$7:$Q$2000, 2, FALSE))","v":""},{"$f":"IF($B479=\"\", \"\", VLOOKUP($B479, CAD!$R$7:$S$2000, 2, FALSE))","v":""},{"$f":"IF($B479=\"\", \"\", VLOOKUP($B479, CAD!$T$7:$U$2000, 2, FALSE))","v":""},{"$f":"IF($B479=\"\", \"\", VLOOKUP($B479, CAD!$V$7:$W$2000, 2, FALSE))","v":""}]
[null,{"$f":"IF(CAD!B477=\"\", \"\", CAD!B477)","v":""},{"$f":"IF($B480=\"\", \"\", CAD!C477)","v":""},{"$f":"IF($B480=\"\", \"\",VLOOKUP($B480, CAD!$D$7:$E$2000, 2, FALSE))","v":""},{"$f":"IF($B480=\"\", \"\",VLOOKUP($B480, CAD!$F$7:$G$2000, 2, FALSE))","v":""},{"$f":"IF($B480=\"\", \"\",VLOOKUP($B480, CAD!$H$7:$I$2000, 2, FALSE))","v":""},{"$f":"IF($B480=\"\", \"\",VLOOKUP($B480, CAD!$J$7:$K$2000, 2, FALSE))","v":""},{"$f":"IF($B480=\"\", \"\", VLOOKUP($B480, CAD!$L$7:$M$2000, 2, FALSE))","v":""},{"$f":"IF($B480=\"\", \"\", VLOOKUP($B480, CAD!$N$7:$O$2000, 2, FALSE))","v":""},{"$f":"IF($B480=\"\", \"\", VLOOKUP($B480, CAD!$P$7:$Q$2000, 2, FALSE))","v":""},{"$f":"IF($B480=\"\", \"\", VLOOKUP($B480, CAD!$R$7:$S$2000, 2, FALSE))","v":""},{"$f":"IF($B480=\"\", \"\", VLOOKUP($B480, CAD!$T$7:$U$2000, 2, FALSE))","v":""},{"$f":"IF($B480=\"\", \"\", VLOOKUP($B480, CAD!$V$7:$W$2000, 2, FALSE))","v":""}]
[null,{"$f":"IF(CAD!B478=\"\", \"\", CAD!B478)","v":""},{"$f":"IF($B481=\"\", \"\", CAD!C478)","v":""},{"$f":"IF($B481=\"\", \"\",VLOOKUP($B481, CAD!$D$7:$E$2000, 2, FALSE))","v":""},{"$f":"IF($B481=\"\", \"\",VLOOKUP($B481, CAD!$F$7:$G$2000, 2, FALSE))","v":""},{"$f":"IF($B481=\"\", \"\",VLOOKUP($B481, CAD!$H$7:$I$2000, 2, FALSE))","v":""},{"$f":"IF($B481=\"\", \"\",VLOOKUP($B481, CAD!$J$7:$K$2000, 2, FALSE))","v":""},{"$f":"IF($B481=\"\", \"\", VLOOKUP($B481, CAD!$L$7:$M$2000, 2, FALSE))","v":""},{"$f":"IF($B481=\"\", \"\", VLOOKUP($B481, CAD!$N$7:$O$2000, 2, FALSE))","v":""},{"$f":"IF($B481=\"\", \"\", VLOOKUP($B481, CAD!$P$7:$Q$2000, 2, FALSE))","v":""},{"$f":"IF($B481=\"\", \"\", VLOOKUP($B481, CAD!$R$7:$S$2000, 2, FALSE))","v":""},{"$f":"IF($B481=\"\", \"\", VLOOKUP($B481, CAD!$T$7:$U$2000, 2, FALSE))","v":""},{"$f":"IF($B481=\"\", \"\", VLOOKUP($B481, CAD!$V$7:$W$2000, 2, FALSE))","v":""}]
[null,{"$f":"IF(CAD!B479=\"\", \"\", CAD!B479)","v":""},{"$f":"IF($B482=\"\", \"\", CAD!C479)","v":""},{"$f":"IF($B482=\"\", \"\",VLOOKUP($B482, CAD!$D$7:$E$2000, 2, FALSE))","v":""},{"$f":"IF($B482=\"\", \"\",VLOOKUP($B482, CAD!$F$7:$G$2000, 2, FALSE))","v":""},{"$f":"IF($B482=\"\", \"\",VLOOKUP($B482, CAD!$H$7:$I$2000, 2, FALSE))","v":""},{"$f":"IF($B482=\"\", \"\",VLOOKUP($B482, CAD!$J$7:$K$2000, 2, FALSE))","v":""},{"$f":"IF($B482=\"\", \"\", VLOOKUP($B482, CAD!$L$7:$M$2000, 2, FALSE))","v":""},{"$f":"IF($B482=\"\", \"\", VLOOKUP($B482, CAD!$N$7:$O$2000, 2, FALSE))","v":""},{"$f":"IF($B482=\"\", \"\", VLOOKUP($B482, CAD!$P$7:$Q$2000, 2, FALSE))","v":""},{"$f":"IF($B482=\"\", \"\", VLOOKUP($B482, CAD!$R$7:$S$2000, 2, FALSE))","v":""},{"$f":"IF($B482=\"\", \"\", VLOOKUP($B482, CAD!$T$7:$U$2000, 2, FALSE))","v":""},{"$f":"IF($B482=\"\", \"\", VLOOKUP($B482, CAD!$V$7:$W$2000, 2, FALSE))","v":""}]
[null,{"$f":"IF(CAD!B480=\"\", \"\", CAD!B480)","v":""},{"$f":"IF($B483=\"\", \"\", CAD!C480)","v":""},{"$f":"IF($B483=\"\", \"\",VLOOKUP($B483, CAD!$D$7:$E$2000, 2, FALSE))","v":""},{"$f":"IF($B483=\"\", \"\",VLOOKUP($B483, CAD!$F$7:$G$2000, 2, FALSE))","v":""},{"$f":"IF($B483=\"\", \"\",VLOOKUP($B483, CAD!$H$7:$I$2000, 2, FALSE))","v":""},{"$f":"IF($B483=\"\", \"\",VLOOKUP($B483, CAD!$J$7:$K$2000, 2, FALSE))","v":""},{"$f":"IF($B483=\"\", \"\", VLOOKUP($B483, CAD!$L$7:$M$2000, 2, FALSE))","v":""},{"$f":"IF($B483=\"\", \"\", VLOOKUP($B483, CAD!$N$7:$O$2000, 2, FALSE))","v":""},{"$f":"IF($B483=\"\", \"\", VLOOKUP($B483, CAD!$P$7:$Q$2000, 2, FALSE))","v":""},{"$f":"IF($B483=\"\", \"\", VLOOKUP($B483, CAD!$R$7:$S$2000, 2, FALSE))","v":""},{"$f":"IF($B483=\"\", \"\", VLOOKUP($B483, CAD!$T$7:$U$2000, 2, FALSE))","v":""},{"$f":"IF($B483=\"\", \"\", VLOOKUP($B483, CAD!$V$7:$W$2000, 2, FALSE))","v":""}]
[null,{"$f":"IF(CAD!B481=\"\", \"\", CAD!B481)","v":""},{"$f":"IF($B484=\"\", \"\", CAD!C481)","v":""},{"$f":"IF($B484=\"\", \"\",VLOOKUP($B484, CAD!$D$7:$E$2000, 2, FALSE))","v":""},{"$f":"IF($B484=\"\", \"\",VLOOKUP($B484, CAD!$F$7:$G$2000, 2, FALSE))","v":""},{"$f":"IF($B484=\"\", \"\",VLOOKUP($B484, CAD!$H$7:$I$2000, 2, FALSE))","v":""},{"$f":"IF($B484=\"\", \"\",VLOOKUP($B484, CAD!$J$7:$K$2000, 2, FALSE))","v":""},{"$f":"IF($B484=\"\", \"\", VLOOKUP($B484, CAD!$L$7:$M$2000, 2, FALSE))","v":""},{"$f":"IF($B484=\"\", \"\", VLOOKUP($B484, CAD!$N$7:$O$2000, 2, FALSE))","v":""},{"$f":"IF($B484=\"\", \"\", VLOOKUP($B484, CAD!$P$7:$Q$2000, 2, FALSE))","v":""},{"$f":"IF($B484=\"\", \"\", VLOOKUP($B484, CAD!$R$7:$S$2000, 2, FALSE))","v":""},{"$f":"IF($B484=\"\", \"\", VLOOKUP($B484, CAD!$T$7:$U$2000, 2, FALSE))","v":""},{"$f":"IF($B484=\"\", \"\", VLOOKUP($B484, CAD!$V$7:$W$2000, 2, FALSE))","v":""}]
[null,{"$f":"IF(CAD!B482=\"\", \"\", CAD!B482)","v":""},{"$f":"IF($B485=\"\", \"\", CAD!C482)","v":""},{"$f":"IF($B485=\"\", \"\",VLOOKUP($B485, CAD!$D$7:$E$2000, 2, FALSE))","v":""},{"$f":"IF($B485=\"\", \"\",VLOOKUP($B485, CAD!$F$7:$G$2000, 2, FALSE))","v":""},{"$f":"IF($B485=\"\", \"\",VLOOKUP($B485, CAD!$H$7:$I$2000, 2, FALSE))","v":""},{"$f":"IF($B485=\"\", \"\",VLOOKUP($B485, CAD!$J$7:$K$2000, 2, FALSE))","v":""},{"$f":"IF($B485=\"\", \"\", VLOOKUP($B485, CAD!$L$7:$M$2000, 2, FALSE))","v":""},{"$f":"IF($B485=\"\", \"\", VLOOKUP($B485, CAD!$N$7:$O$2000, 2, FALSE))","v":""},{"$f":"IF($B485=\"\", \"\", VLOOKUP($B485, CAD!$P$7:$Q$2000, 2, FALSE))","v":""},{"$f":"IF($B485=\"\", \"\", VLOOKUP($B485, CAD!$R$7:$S$2000, 2, FALSE))","v":""},{"$f":"IF($B485=\"\", \"\", VLOOKUP($B485, CAD!$T$7:$U$2000, 2, FALSE))","v":""},{"$f":"IF($B485=\"\", \"\", VLOOKUP($B485, CAD!$V$7:$W$2000, 2, FALSE))","v":""}]
[null,{"$f":"IF(CAD!B483=\"\", \"\", CAD!B483)","v":""},{"$f":"IF($B486=\"\", \"\", CAD!C483)","v":""},{"$f":"IF($B486=\"\", \"\",VLOOKUP($B486, CAD!$D$7:$E$2000, 2, FALSE))","v":""},{"$f":"IF($B486=\"\", \"\",VLOOKUP($B486, CAD!$F$7:$G$2000, 2, FALSE))","v":""},{"$f":"IF($B486=\"\", \"\",VLOOKUP($B486, CAD!$H$7:$I$2000, 2, FALSE))","v":""},{"$f":"IF($B486=\"\", \"\",VLOOKUP($B486, CAD!$J$7:$K$2000, 2, FALSE))","v":""},{"$f":"IF($B486=\"\", \"\", VLOOKUP($B486, CAD!$L$7:$M$2000, 2, FALSE))","v":""},{"$f":"IF($B486=\"\", \"\", VLOOKUP($B486, CAD!$N$7:$O$2000, 2, FALSE))","v":""},{"$f":"IF($B486=\"\", \"\", VLOOKUP($B486, CAD!$P$7:$Q$2000, 2, FALSE))","v":""},{"$f":"IF($B486=\"\", \"\", VLOOKUP($B486, CAD!$R$7:$S$2000, 2, FALSE))","v":""},{"$f":"IF($B486=\"\", \"\", VLOOKUP($B486, CAD!$T$7:$U$2000, 2, FALSE))","v":""},{"$f":"IF($B486=\"\", \"\", VLOOKUP($B486, CAD!$V$7:$W$2000, 2, FALSE))","v":""}]
[null,{"$f":"IF(CAD!B484=\"\", \"\", CAD!B484)","v":""},{"$f":"IF($B487=\"\", \"\", CAD!C484)","v":""},{"$f":"IF($B487=\"\", \"\",VLOOKUP($B487, CAD!$D$7:$E$2000, 2, FALSE))","v":""},{"$f":"IF($B487=\"\", \"\",VLOOKUP($B487, CAD!$F$7:$G$2000, 2, FALSE))","v":""},{"$f":"IF($B487=\"\", \"\",VLOOKUP($B487, CAD!$H$7:$I$2000, 2, FALSE))","v":""},{"$f":"IF($B487=\"\", \"\",VLOOKUP($B487, CAD!$J$7:$K$2000, 2, FALSE))","v":""},{"$f":"IF($B487=\"\", \"\", VLOOKUP($B487, CAD!$L$7:$M$2000, 2, FALSE))","v":""},{"$f":"IF($B487=\"\", \"\", VLOOKUP($B487, CAD!$N$7:$O$2000, 2, FALSE))","v":""},{"$f":"IF($B487=\"\", \"\", VLOOKUP($B487, CAD!$P$7:$Q$2000, 2, FALSE))","v":""},{"$f":"IF($B487=\"\", \"\", VLOOKUP($B487, CAD!$R$7:$S$2000, 2, FALSE))","v":""},{"$f":"IF($B487=\"\", \"\", VLOOKUP($B487, CAD!$T$7:$U$2000, 2, FALSE))","v":""},{"$f":"IF($B487=\"\", \"\", VLOOKUP($B487, CAD!$V$7:$W$2000, 2, FALSE))","v":""}]
[null,{"$f":"IF(CAD!B485=\"\", \"\", CAD!B485)","v":""},{"$f":"IF($B488=\"\", \"\", CAD!C485)","v":""},{"$f":"IF($B488=\"\", \"\",VLOOKUP($B488, CAD!$D$7:$E$2000, 2, FALSE))","v":""},{"$f":"IF($B488=\"\", \"\",VLOOKUP($B488, CAD!$F$7:$G$2000, 2, FALSE))","v":""},{"$f":"IF($B488=\"\", \"\",VLOOKUP($B488, CAD!$H$7:$I$2000, 2, FALSE))","v":""},{"$f":"IF($B488=\"\", \"\",VLOOKUP($B488, CAD!$J$7:$K$2000, 2, FALSE))","v":""},{"$f":"IF($B488=\"\", \"\", VLOOKUP($B488, CAD!$L$7:$M$2000, 2, FALSE))","v":""},{"$f":"IF($B488=\"\", \"\", VLOOKUP($B488, CAD!$N$7:$O$2000, 2, FALSE))","v":""},{"$f":"IF($B488=\"\", \"\", VLOOKUP($B488, CAD!$P$7:$Q$2000, 2, FALSE))","v":""},{"$f":"IF($B488=\"\", \"\", VLOOKUP($B488, CAD!$R$7:$S$2000, 2, FALSE))","v":""},{"$f":"IF($B488=\"\", \"\", VLOOKUP($B488, CAD!$T$7:$U$2000, 2, FALSE))","v":""},{"$f":"IF($B488=\"\", \"\", VLOOKUP($B488, CAD!$V$7:$W$2000, 2, FALSE))","v":""}]
[null,{"$f":"IF(CAD!B486=\"\", \"\", CAD!B486)","v":""},{"$f":"IF($B489=\"\", \"\", CAD!C486)","v":""},{"$f":"IF($B489=\"\", \"\",VLOOKUP($B489, CAD!$D$7:$E$2000, 2, FALSE))","v":""},{"$f":"IF($B489=\"\", \"\",VLOOKUP($B489, CAD!$F$7:$G$2000, 2, FALSE))","v":""},{"$f":"IF($B489=\"\", \"\",VLOOKUP($B489, CAD!$H$7:$I$2000, 2, FALSE))","v":""},{"$f":"IF($B489=\"\", \"\",VLOOKUP($B489, CAD!$J$7:$K$2000, 2, FALSE))","v":""},{"$f":"IF($B489=\"\", \"\", VLOOKUP($B489, CAD!$L$7:$M$2000, 2, FALSE))","v":""},{"$f":"IF($B489=\"\", \"\", VLOOKUP($B489, CAD!$N$7:$O$2000, 2, FALSE))","v":""},{"$f":"IF($B489=\"\", \"\", VLOOKUP($B489, CAD!$P$7:$Q$2000, 2, FALSE))","v":""},{"$f":"IF($B489=\"\", \"\", VLOOKUP($B489, CAD!$R$7:$S$2000, 2, FALSE))","v":""},{"$f":"IF($B489=\"\", \"\", VLOOKUP($B489, CAD!$T$7:$U$2000, 2, FALSE))","v":""},{"$f":"IF($B489=\"\", \"\", VLOOKUP($B489, CAD!$V$7:$W$2000, 2, FALSE))","v":""}]
[null,{"$f":"IF(CAD!B487=\"\", \"\", CAD!B487)","v":""},{"$f":"IF($B490=\"\", \"\", CAD!C487)","v":""},{"$f":"IF($B490=\"\", \"\",VLOOKUP($B490, CAD!$D$7:$E$2000, 2, FALSE))","v":""},{"$f":"IF($B490=\"\", \"\",VLOOKUP($B490, CAD!$F$7:$G$2000, 2, FALSE))","v":""},{"$f":"IF($B490=\"\", \"\",VLOOKUP($B490, CAD!$H$7:$I$2000, 2, FALSE))","v":""},{"$f":"IF($B490=\"\", \"\",VLOOKUP($B490, CAD!$J$7:$K$2000, 2, FALSE))","v":""},{"$f":"IF($B490=\"\", \"\", VLOOKUP($B490, CAD!$L$7:$M$2000, 2, FALSE))","v":""},{"$f":"IF($B490=\"\", \"\", VLOOKUP($B490, CAD!$N$7:$O$2000, 2, FALSE))","v":""},{"$f":"IF($B490=\"\", \"\", VLOOKUP($B490, CAD!$P$7:$Q$2000, 2, FALSE))","v":""},{"$f":"IF($B490=\"\", \"\", VLOOKUP($B490, CAD!$R$7:$S$2000, 2, FALSE))","v":""},{"$f":"IF($B490=\"\", \"\", VLOOKUP($B490, CAD!$T$7:$U$2000, 2, FALSE))","v":""},{"$f":"IF($B490=\"\", \"\", VLOOKUP($B490, CAD!$V$7:$W$2000, 2, FALSE))","v":""}]
[null,{"$f":"IF(CAD!B488=\"\", \"\", CAD!B488)","v":""},{"$f":"IF($B491=\"\", \"\", CAD!C488)","v":""},{"$f":"IF($B491=\"\", \"\",VLOOKUP($B491, CAD!$D$7:$E$2000, 2, FALSE))","v":""},{"$f":"IF($B491=\"\", \"\",VLOOKUP($B491, CAD!$F$7:$G$2000, 2, FALSE))","v":""},{"$f":"IF($B491=\"\", \"\",VLOOKUP($B491, CAD!$H$7:$I$2000, 2, FALSE))","v":""},{"$f":"IF($B491=\"\", \"\",VLOOKUP($B491, CAD!$J$7:$K$2000, 2, FALSE))","v":""},{"$f":"IF($B491=\"\", \"\", VLOOKUP($B491, CAD!$L$7:$M$2000, 2, FALSE))","v":""},{"$f":"IF($B491=\"\", \"\", VLOOKUP($B491, CAD!$N$7:$O$2000, 2, FALSE))","v":""},{"$f":"IF($B491=\"\", \"\", VLOOKUP($B491, CAD!$P$7:$Q$2000, 2, FALSE))","v":""},{"$f":"IF($B491=\"\", \"\", VLOOKUP($B491, CAD!$R$7:$S$2000, 2, FALSE))","v":""},{"$f":"IF($B491=\"\", \"\", VLOOKUP($B491, CAD!$T$7:$U$2000, 2, FALSE))","v":""},{"$f":"IF($B491=\"\", \"\", VLOOKUP($B491, CAD!$V$7:$W$2000, 2, FALSE))","v":""}]
[null,{"$f":"IF(CAD!B489=\"\", \"\", CAD!B489)","v":""},{"$f":"IF($B492=\"\", \"\", CAD!C489)","v":""},{"$f":"IF($B492=\"\", \"\",VLOOKUP($B492, CAD!$D$7:$E$2000, 2, FALSE))","v":""},{"$f":"IF($B492=\"\", \"\",VLOOKUP($B492, CAD!$F$7:$G$2000, 2, FALSE))","v":""},{"$f":"IF($B492=\"\", \"\",VLOOKUP($B492, CAD!$H$7:$I$2000, 2, FALSE))","v":""},{"$f":"IF($B492=\"\", \"\",VLOOKUP($B492, CAD!$J$7:$K$2000, 2, FALSE))","v":""},{"$f":"IF($B492=\"\", \"\", VLOOKUP($B492, CAD!$L$7:$M$2000, 2, FALSE))","v":""},{"$f":"IF($B492=\"\", \"\", VLOOKUP($B492, CAD!$N$7:$O$2000, 2, FALSE))","v":""},{"$f":"IF($B492=\"\", \"\", VLOOKUP($B492, CAD!$P$7:$Q$2000, 2, FALSE))","v":""},{"$f":"IF($B492=\"\", \"\", VLOOKUP($B492, CAD!$R$7:$S$2000, 2, FALSE))","v":""},{"$f":"IF($B492=\"\", \"\", VLOOKUP($B492, CAD!$T$7:$U$2000, 2, FALSE))","v":""},{"$f":"IF($B492=\"\", \"\", VLOOKUP($B492, CAD!$V$7:$W$2000, 2, FALSE))","v":""}]
[null,{"$f":"IF(CAD!B490=\"\", \"\", CAD!B490)","v":""},{"$f":"IF($B493=\"\", \"\", CAD!C490)","v":""},{"$f":"IF($B493=\"\", \"\",VLOOKUP($B493, CAD!$D$7:$E$2000, 2, FALSE))","v":""},{"$f":"IF($B493=\"\", \"\",VLOOKUP($B493, CAD!$F$7:$G$2000, 2, FALSE))","v":""},{"$f":"IF($B493=\"\", \"\",VLOOKUP($B493, CAD!$H$7:$I$2000, 2, FALSE))","v":""},{"$f":"IF($B493=\"\", \"\",VLOOKUP($B493, CAD!$J$7:$K$2000, 2, FALSE))","v":""},{"$f":"IF($B493=\"\", \"\", VLOOKUP($B493, CAD!$L$7:$M$2000, 2, FALSE))","v":""},{"$f":"IF($B493=\"\", \"\", VLOOKUP($B493, CAD!$N$7:$O$2000, 2, FALSE))","v":""},{"$f":"IF($B493=\"\", \"\", VLOOKUP($B493, CAD!$P$7:$Q$2000, 2, FALSE))","v":""},{"$f":"IF($B493=\"\", \"\", VLOOKUP($B493, CAD!$R$7:$S$2000, 2, FALSE))","v":""},{"$f":"IF($B493=\"\", \"\", VLOOKUP($B493, CAD!$T$7:$U$2000, 2, FALSE))","v":""},{"$f":"IF($B493=\"\", \"\", VLOOKUP($B493, CAD!$V$7:$W$2000, 2, FALSE))","v":""}]
[null,{"$f":"IF(CAD!B491=\"\", \"\", CAD!B491)","v":""},{"$f":"IF($B494=\"\", \"\", CAD!C491)","v":""},{"$f":"IF($B494=\"\", \"\",VLOOKUP($B494, CAD!$D$7:$E$2000, 2, FALSE))","v":""},{"$f":"IF($B494=\"\", \"\",VLOOKUP($B494, CAD!$F$7:$G$2000, 2, FALSE))","v":""},{"$f":"IF($B494=\"\", \"\",VLOOKUP($B494, CAD!$H$7:$I$2000, 2, FALSE))","v":""},{"$f":"IF($B494=\"\", \"\",VLOOKUP($B494, CAD!$J$7:$K$2000, 2, FALSE))","v":""},{"$f":"IF($B494=\"\", \"\", VLOOKUP($B494, CAD!$L$7:$M$2000, 2, FALSE))","v":""},{"$f":"IF($B494=\"\", \"\", VLOOKUP($B494, CAD!$N$7:$O$2000, 2, FALSE))","v":""},{"$f":"IF($B494=\"\", \"\", VLOOKUP($B494, CAD!$P$7:$Q$2000, 2, FALSE))","v":""},{"$f":"IF($B494=\"\", \"\", VLOOKUP($B494, CAD!$R$7:$S$2000, 2, FALSE))","v":""},{"$f":"IF($B494=\"\", \"\", VLOOKUP($B494, CAD!$T$7:$U$2000, 2, FALSE))","v":""},{"$f":"IF($B494=\"\", \"\", VLOOKUP($B494, CAD!$V$7:$W$2000, 2, FALSE))","v":""}]
[null,{"$f":"IF(CAD!B492=\"\", \"\", CAD!B492)","v":""},{"$f":"IF($B495=\"\", \"\", CAD!C492)","v":""},{"$f":"IF($B495=\"\", \"\",VLOOKUP($B495, CAD!$D$7:$E$2000, 2, FALSE))","v":""},{"$f":"IF($B495=\"\", \"\",VLOOKUP($B495, CAD!$F$7:$G$2000, 2, FALSE))","v":""},{"$f":"IF($B495=\"\", \"\",VLOOKUP($B495, CAD!$H$7:$I$2000, 2, FALSE))","v":""},{"$f":"IF($B495=\"\", \"\",VLOOKUP($B495, CAD!$J$7:$K$2000, 2, FALSE))","v":""},{"$f":"IF($B495=\"\", \"\", VLOOKUP($B495, CAD!$L$7:$M$2000, 2, FALSE))","v":""},{"$f":"IF($B495=\"\", \"\", VLOOKUP($B495, CAD!$N$7:$O$2000, 2, FALSE))","v":""},{"$f":"IF($B495=\"\", \"\", VLOOKUP($B495, CAD!$P$7:$Q$2000, 2, FALSE))","v":""},{"$f":"IF($B495=\"\", \"\", VLOOKUP($B495, CAD!$R$7:$S$2000, 2, FALSE))","v":""},{"$f":"IF($B495=\"\", \"\", VLOOKUP($B495, CAD!$T$7:$U$2000, 2, FALSE))","v":""},{"$f":"IF($B495=\"\", \"\", VLOOKUP($B495, CAD!$V$7:$W$2000, 2, FALSE))","v":""}]
[null,{"$f":"IF(CAD!B493=\"\", \"\", CAD!B493)","v":""},{"$f":"IF($B496=\"\", \"\", CAD!C493)","v":""},{"$f":"IF($B496=\"\", \"\",VLOOKUP($B496, CAD!$D$7:$E$2000, 2, FALSE))","v":""},{"$f":"IF($B496=\"\", \"\",VLOOKUP($B496, CAD!$F$7:$G$2000, 2, FALSE))","v":""},{"$f":"IF($B496=\"\", \"\",VLOOKUP($B496, CAD!$H$7:$I$2000, 2, FALSE))","v":""},{"$f":"IF($B496=\"\", \"\",VLOOKUP($B496, CAD!$J$7:$K$2000, 2, FALSE))","v":""},{"$f":"IF($B496=\"\", \"\", VLOOKUP($B496, CAD!$L$7:$M$2000, 2, FALSE))","v":""},{"$f":"IF($B496=\"\", \"\", VLOOKUP($B496, CAD!$N$7:$O$2000, 2, FALSE))","v":""},{"$f":"IF($B496=\"\", \"\", VLOOKUP($B496, CAD!$P$7:$Q$2000, 2, FALSE))","v":""},{"$f":"IF($B496=\"\", \"\", VLOOKUP($B496, CAD!$R$7:$S$2000, 2, FALSE))","v":""},{"$f":"IF($B496=\"\", \"\", VLOOKUP($B496, CAD!$T$7:$U$2000, 2, FALSE))","v":""},{"$f":"IF($B496=\"\", \"\", VLOOKUP($B496, CAD!$V$7:$W$2000, 2, FALSE))","v":""}]
[null,{"$f":"IF(CAD!B494=\"\", \"\", CAD!B494)","v":""},{"$f":"IF($B497=\"\", \"\", CAD!C494)","v":""},{"$f":"IF($B497=\"\", \"\",VLOOKUP($B497, CAD!$D$7:$E$2000, 2, FALSE))","v":""},{"$f":"IF($B497=\"\", \"\",VLOOKUP($B497, CAD!$F$7:$G$2000, 2, FALSE))","v":""},{"$f":"IF($B497=\"\", \"\",VLOOKUP($B497, CAD!$H$7:$I$2000, 2, FALSE))","v":""},{"$f":"IF($B497=\"\", \"\",VLOOKUP($B497, CAD!$J$7:$K$2000, 2, FALSE))","v":""},{"$f":"IF($B497=\"\", \"\", VLOOKUP($B497, CAD!$L$7:$M$2000, 2, FALSE))","v":""},{"$f":"IF($B497=\"\", \"\", VLOOKUP($B497, CAD!$N$7:$O$2000, 2, FALSE))","v":""},{"$f":"IF($B497=\"\", \"\", VLOOKUP($B497, CAD!$P$7:$Q$2000, 2, FALSE))","v":""},{"$f":"IF($B497=\"\", \"\", VLOOKUP($B497, CAD!$R$7:$S$2000, 2, FALSE))","v":""},{"$f":"IF($B497=\"\", \"\", VLOOKUP($B497, CAD!$T$7:$U$2000, 2, FALSE))","v":""},{"$f":"IF($B497=\"\", \"\", VLOOKUP($B497, CAD!$V$7:$W$2000, 2, FALSE))","v":""}]
[null,{"$f":"IF(CAD!B495=\"\", \"\", CAD!B495)","v":""},{"$f":"IF($B498=\"\", \"\", CAD!C495)","v":""},{"$f":"IF($B498=\"\", \"\",VLOOKUP($B498, CAD!$D$7:$E$2000, 2, FALSE))","v":""},{"$f":"IF($B498=\"\", \"\",VLOOKUP($B498, CAD!$F$7:$G$2000, 2, FALSE))","v":""},{"$f":"IF($B498=\"\", \"\",VLOOKUP($B498, CAD!$H$7:$I$2000, 2, FALSE))","v":""},{"$f":"IF($B498=\"\", \"\",VLOOKUP($B498, CAD!$J$7:$K$2000, 2, FALSE))","v":""},{"$f":"IF($B498=\"\", \"\", VLOOKUP($B498, CAD!$L$7:$M$2000, 2, FALSE))","v":""},{"$f":"IF($B498=\"\", \"\", VLOOKUP($B498, CAD!$N$7:$O$2000, 2, FALSE))","v":""},{"$f":"IF($B498=\"\", \"\", VLOOKUP($B498, CAD!$P$7:$Q$2000, 2, FALSE))","v":""},{"$f":"IF($B498=\"\", \"\", VLOOKUP($B498, CAD!$R$7:$S$2000, 2, FALSE))","v":""},{"$f":"IF($B498=\"\", \"\", VLOOKUP($B498, CAD!$T$7:$U$2000, 2, FALSE))","v":""},{"$f":"IF($B498=\"\", \"\", VLOOKUP($B498, CAD!$V$7:$W$2000, 2, FALSE))","v":""}]
[null,{"$f":"IF(CAD!B496=\"\", \"\", CAD!B496)","v":""},{"$f":"IF($B499=\"\", \"\", CAD!C496)","v":""},{"$f":"IF($B499=\"\", \"\",VLOOKUP($B499, CAD!$D$7:$E$2000, 2, FALSE))","v":""},{"$f":"IF($B499=\"\", \"\",VLOOKUP($B499, CAD!$F$7:$G$2000, 2, FALSE))","v":""},{"$f":"IF($B499=\"\", \"\",VLOOKUP($B499, CAD!$H$7:$I$2000, 2, FALSE))","v":""},{"$f":"IF($B499=\"\", \"\",VLOOKUP($B499, CAD!$J$7:$K$2000, 2, FALSE))","v":""},{"$f":"IF($B499=\"\", \"\", VLOOKUP($B499, CAD!$L$7:$M$2000, 2, FALSE))","v":""},{"$f":"IF($B499=\"\", \"\", VLOOKUP($B499, CAD!$N$7:$O$2000, 2, FALSE))","v":""},{"$f":"IF($B499=\"\", \"\", VLOOKUP($B499, CAD!$P$7:$Q$2000, 2, FALSE))","v":""},{"$f":"IF($B499=\"\", \"\", VLOOKUP($B499, CAD!$R$7:$S$2000, 2, FALSE))","v":""},{"$f":"IF($B499=\"\", \"\", VLOOKUP($B499, CAD!$T$7:$U$2000, 2, FALSE))","v":""},{"$f":"IF($B499=\"\", \"\", VLOOKUP($B499, CAD!$V$7:$W$2000, 2, FALSE))","v":""}]
[null,{"$f":"IF(CAD!B497=\"\", \"\", CAD!B497)","v":""},{"$f":"IF($B500=\"\", \"\", CAD!C497)","v":""},{"$f":"IF($B500=\"\", \"\",VLOOKUP($B500, CAD!$D$7:$E$2000, 2, FALSE))","v":""},{"$f":"IF($B500=\"\", \"\",VLOOKUP($B500, CAD!$F$7:$G$2000, 2, FALSE))","v":""},{"$f":"IF($B500=\"\", \"\",VLOOKUP($B500, CAD!$H$7:$I$2000, 2, FALSE))","v":""},{"$f":"IF($B500=\"\", \"\",VLOOKUP($B500, CAD!$J$7:$K$2000, 2, FALSE))","v":""},{"$f":"IF($B500=\"\", \"\", VLOOKUP($B500, CAD!$L$7:$M$2000, 2, FALSE))","v":""},{"$f":"IF($B500=\"\", \"\", VLOOKUP($B500, CAD!$N$7:$O$2000, 2, FALSE))","v":""},{"$f":"IF($B500=\"\", \"\", VLOOKUP($B500, CAD!$P$7:$Q$2000, 2, FALSE))","v":""},{"$f":"IF($B500=\"\", \"\", VLOOKUP($B500, CAD!$R$7:$S$2000, 2, FALSE))","v":""},{"$f":"IF($B500=\"\", \"\", VLOOKUP($B500, CAD!$T$7:$U$2000, 2, FALSE))","v":""},{"$f":"IF($B500=\"\", \"\", VLOOKUP($B500, CAD!$V$7:$W$2000, 2, FALSE))","v":""}]
[null,{"$f":"IF(CAD!B498=\"\", \"\", CAD!B498)","v":""},{"$f":"IF($B501=\"\", \"\", CAD!C498)","v":""},{"$f":"IF($B501=\"\", \"\",VLOOKUP($B501, CAD!$D$7:$E$2000, 2, FALSE))","v":""},{"$f":"IF($B501=\"\", \"\",VLOOKUP($B501, CAD!$F$7:$G$2000, 2, FALSE))","v":""},{"$f":"IF($B501=\"\", \"\",VLOOKUP($B501, CAD!$H$7:$I$2000, 2, FALSE))","v":""},{"$f":"IF($B501=\"\", \"\",VLOOKUP($B501, CAD!$J$7:$K$2000, 2, FALSE))","v":""},{"$f":"IF($B501=\"\", \"\", VLOOKUP($B501, CAD!$L$7:$M$2000, 2, FALSE))","v":""},{"$f":"IF($B501=\"\", \"\", VLOOKUP($B501, CAD!$N$7:$O$2000, 2, FALSE))","v":""},{"$f":"IF($B501=\"\", \"\", VLOOKUP($B501, CAD!$P$7:$Q$2000, 2, FALSE))","v":""},{"$f":"IF($B501=\"\", \"\", VLOOKUP($B501, CAD!$R$7:$S$2000, 2, FALSE))","v":""},{"$f":"IF($B501=\"\", \"\", VLOOKUP($B501, CAD!$T$7:$U$2000, 2, FALSE))","v":""},{"$f":"IF($B501=\"\", \"\", VLOOKUP($B501, CAD!$V$7:$W$2000, 2, FALSE))","v":""}]
[null,{"$f":"IF(CAD!B499=\"\", \"\", CAD!B499)","v":""},{"$f":"IF($B502=\"\", \"\", CAD!C499)","v":""},{"$f":"IF($B502=\"\", \"\",VLOOKUP($B502, CAD!$D$7:$E$2000, 2, FALSE))","v":""},{"$f":"IF($B502=\"\", \"\",VLOOKUP($B502, CAD!$F$7:$G$2000, 2, FALSE))","v":""},{"$f":"IF($B502=\"\", \"\",VLOOKUP($B502, CAD!$H$7:$I$2000, 2, FALSE))","v":""},{"$f":"IF($B502=\"\", \"\",VLOOKUP($B502, CAD!$J$7:$K$2000, 2, FALSE))","v":""},{"$f":"IF($B502=\"\", \"\", VLOOKUP($B502, CAD!$L$7:$M$2000, 2, FALSE))","v":""},{"$f":"IF($B502=\"\", \"\", VLOOKUP($B502, CAD!$N$7:$O$2000, 2, FALSE))","v":""},{"$f":"IF($B502=\"\", \"\", VLOOKUP($B502, CAD!$P$7:$Q$2000, 2, FALSE))","v":""},{"$f":"IF($B502=\"\", \"\", VLOOKUP($B502, CAD!$R$7:$S$2000, 2, FALSE))","v":""},{"$f":"IF($B502=\"\", \"\", VLOOKUP($B502, CAD!$T$7:$U$2000, 2, FALSE))","v":""},{"$f":"IF($B502=\"\", \"\", VLOOKUP($B502, CAD!$V$7:$W$2000, 2, FALSE))","v":""}]
[null,{"$f":"IF(CAD!B500=\"\", \"\", CAD!B500)","v":""},{"$f":"IF($B503=\"\", \"\", CAD!C500)","v":""},{"$f":"IF($B503=\"\", \"\",VLOOKUP($B503, CAD!$D$7:$E$2000, 2, FALSE))","v":""},{"$f":"IF($B503=\"\", \"\",VLOOKUP($B503, CAD!$F$7:$G$2000, 2, FALSE))","v":""},{"$f":"IF($B503=\"\", \"\",VLOOKUP($B503, CAD!$H$7:$I$2000, 2, FALSE))","v":""},{"$f":"IF($B503=\"\", \"\",VLOOKUP($B503, CAD!$J$7:$K$2000, 2, FALSE))","v":""},{"$f":"IF($B503=\"\", \"\", VLOOKUP($B503, CAD!$L$7:$M$2000, 2, FALSE))","v":""},{"$f":"IF($B503=\"\", \"\", VLOOKUP($B503, CAD!$N$7:$O$2000, 2, FALSE))","v":""},{"$f":"IF($B503=\"\", \"\", VLOOKUP($B503, CAD!$P$7:$Q$2000, 2, FALSE))","v":""},{"$f":"IF($B503=\"\", \"\", VLOOKUP($B503, CAD!$R$7:$S$2000, 2, FALSE))","v":""},{"$f":"IF($B503=\"\", \"\", VLOOKUP($B503, CAD!$T$7:$U$2000, 2, FALSE))","v":""},{"$f":"IF($B503=\"\", \"\", VLOOKUP($B503, CAD!$V$7:$W$2000, 2, FALSE))","v":""}]
[null,{"$f":"IF(CAD!B501=\"\", \"\", CAD!B501)","v":""},{"$f":"IF($B504=\"\", \"\", CAD!C501)","v":""},{"$f":"IF($B504=\"\", \"\",VLOOKUP($B504, CAD!$D$7:$E$2000, 2, FALSE))","v":""},{"$f":"IF($B504=\"\", \"\",VLOOKUP($B504, CAD!$F$7:$G$2000, 2, FALSE))","v":""},{"$f":"IF($B504=\"\", \"\",VLOOKUP($B504, CAD!$H$7:$I$2000, 2, FALSE))","v":""},{"$f":"IF($B504=\"\", \"\",VLOOKUP($B504, CAD!$J$7:$K$2000, 2, FALSE))","v":""},{"$f":"IF($B504=\"\", \"\", VLOOKUP($B504, CAD!$L$7:$M$2000, 2, FALSE))","v":""},{"$f":"IF($B504=\"\", \"\", VLOOKUP($B504, CAD!$N$7:$O$2000, 2, FALSE))","v":""},{"$f":"IF($B504=\"\", \"\", VLOOKUP($B504, CAD!$P$7:$Q$2000, 2, FALSE))","v":""},{"$f":"IF($B504=\"\", \"\", VLOOKUP($B504, CAD!$R$7:$S$2000, 2, FALSE))","v":""},{"$f":"IF($B504=\"\", \"\", VLOOKUP($B504, CAD!$T$7:$U$2000, 2, FALSE))","v":""},{"$f":"IF($B504=\"\", \"\", VLOOKUP($B504, CAD!$V$7:$W$2000, 2, FALSE))","v":""}]
[null,{"$f":"IF(CAD!B502=\"\", \"\", CAD!B502)","v":""},{"$f":"IF($B505=\"\", \"\", CAD!C502)","v":""},{"$f":"IF($B505=\"\", \"\",VLOOKUP($B505, CAD!$D$7:$E$2000, 2, FALSE))","v":""},{"$f":"IF($B505=\"\", \"\",VLOOKUP($B505, CAD!$F$7:$G$2000, 2, FALSE))","v":""},{"$f":"IF($B505=\"\", \"\",VLOOKUP($B505, CAD!$H$7:$I$2000, 2, FALSE))","v":""},{"$f":"IF($B505=\"\", \"\",VLOOKUP($B505, CAD!$J$7:$K$2000, 2, FALSE))","v":""},{"$f":"IF($B505=\"\", \"\", VLOOKUP($B505, CAD!$L$7:$M$2000, 2, FALSE))","v":""},{"$f":"IF($B505=\"\", \"\", VLOOKUP($B505, CAD!$N$7:$O$2000, 2, FALSE))","v":""},{"$f":"IF($B505=\"\", \"\", VLOOKUP($B505, CAD!$P$7:$Q$2000, 2, FALSE))","v":""},{"$f":"IF($B505=\"\", \"\", VLOOKUP($B505, CAD!$R$7:$S$2000, 2, FALSE))","v":""},{"$f":"IF($B505=\"\", \"\", VLOOKUP($B505, CAD!$T$7:$U$2000, 2, FALSE))","v":""},{"$f":"IF($B505=\"\", \"\", VLOOKUP($B505, CAD!$V$7:$W$2000, 2, FALSE))","v":""}]
[null,{"$f":"IF(CAD!B503=\"\", \"\", CAD!B503)","v":""},{"$f":"IF($B506=\"\", \"\", CAD!C503)","v":""},{"$f":"IF($B506=\"\", \"\",VLOOKUP($B506, CAD!$D$7:$E$2000, 2, FALSE))","v":""},{"$f":"IF($B506=\"\", \"\",VLOOKUP($B506, CAD!$F$7:$G$2000, 2, FALSE))","v":""},{"$f":"IF($B506=\"\", \"\",VLOOKUP($B506, CAD!$H$7:$I$2000, 2, FALSE))","v":""},{"$f":"IF($B506=\"\", \"\",VLOOKUP($B506, CAD!$J$7:$K$2000, 2, FALSE))","v":""},{"$f":"IF($B506=\"\", \"\", VLOOKUP($B506, CAD!$L$7:$M$2000, 2, FALSE))","v":""},{"$f":"IF($B506=\"\", \"\", VLOOKUP($B506, CAD!$N$7:$O$2000, 2, FALSE))","v":""},{"$f":"IF($B506=\"\", \"\", VLOOKUP($B506, CAD!$P$7:$Q$2000, 2, FALSE))","v":""},{"$f":"IF($B506=\"\", \"\", VLOOKUP($B506, CAD!$R$7:$S$2000, 2, FALSE))","v":""},{"$f":"IF($B506=\"\", \"\", VLOOKUP($B506, CAD!$T$7:$U$2000, 2, FALSE))","v":""},{"$f":"IF($B506=\"\", \"\", VLOOKUP($B506, CAD!$V$7:$W$2000, 2, FALSE))","v":""}]
[null,{"$f":"IF(CAD!B504=\"\", \"\", CAD!B504)","v":""},{"$f":"IF($B507=\"\", \"\", CAD!C504)","v":""},{"$f":"IF($B507=\"\", \"\",VLOOKUP($B507, CAD!$D$7:$E$2000, 2, FALSE))","v":""},{"$f":"IF($B507=\"\", \"\",VLOOKUP($B507, CAD!$F$7:$G$2000, 2, FALSE))","v":""},{"$f":"IF($B507=\"\", \"\",VLOOKUP($B507, CAD!$H$7:$I$2000, 2, FALSE))","v":""},{"$f":"IF($B507=\"\", \"\",VLOOKUP($B507, CAD!$J$7:$K$2000, 2, FALSE))","v":""},{"$f":"IF($B507=\"\", \"\", VLOOKUP($B507, CAD!$L$7:$M$2000, 2, FALSE))","v":""},{"$f":"IF($B507=\"\", \"\", VLOOKUP($B507, CAD!$N$7:$O$2000, 2, FALSE))","v":""},{"$f":"IF($B507=\"\", \"\", VLOOKUP($B507, CAD!$P$7:$Q$2000, 2, FALSE))","v":""},{"$f":"IF($B507=\"\", \"\", VLOOKUP($B507, CAD!$R$7:$S$2000, 2, FALSE))","v":""},{"$f":"IF($B507=\"\", \"\", VLOOKUP($B507, CAD!$T$7:$U$2000, 2, FALSE))","v":""},{"$f":"IF($B507=\"\", \"\", VLOOKUP($B507, CAD!$V$7:$W$2000, 2, FALSE))","v":""}]
[null,{"$f":"IF(CAD!B505=\"\", \"\", CAD!B505)","v":""},{"$f":"IF($B508=\"\", \"\", CAD!C505)","v":""},{"$f":"IF($B508=\"\", \"\",VLOOKUP($B508, CAD!$D$7:$E$2000, 2, FALSE))","v":""},{"$f":"IF($B508=\"\", \"\",VLOOKUP($B508, CAD!$F$7:$G$2000, 2, FALSE))","v":""},{"$f":"IF($B508=\"\", \"\",VLOOKUP($B508, CAD!$H$7:$I$2000, 2, FALSE))","v":""},{"$f":"IF($B508=\"\", \"\",VLOOKUP($B508, CAD!$J$7:$K$2000, 2, FALSE))","v":""},{"$f":"IF($B508=\"\", \"\", VLOOKUP($B508, CAD!$L$7:$M$2000, 2, FALSE))","v":""},{"$f":"IF($B508=\"\", \"\", VLOOKUP($B508, CAD!$N$7:$O$2000, 2, FALSE))","v":""},{"$f":"IF($B508=\"\", \"\", VLOOKUP($B508, CAD!$P$7:$Q$2000, 2, FALSE))","v":""},{"$f":"IF($B508=\"\", \"\", VLOOKUP($B508, CAD!$R$7:$S$2000, 2, FALSE))","v":""},{"$f":"IF($B508=\"\", \"\", VLOOKUP($B508, CAD!$T$7:$U$2000, 2, FALSE))","v":""},{"$f":"IF($B508=\"\", \"\", VLOOKUP($B508, CAD!$V$7:$W$2000, 2, FALSE))","v":""}]
[null,{"$f":"IF(CAD!B506=\"\", \"\", CAD!B506)","v":""},{"$f":"IF($B509=\"\", \"\", CAD!C506)","v":""},{"$f":"IF($B509=\"\", \"\",VLOOKUP($B509, CAD!$D$7:$E$2000, 2, FALSE))","v":""},{"$f":"IF($B509=\"\", \"\",VLOOKUP($B509, CAD!$F$7:$G$2000, 2, FALSE))","v":""},{"$f":"IF($B509=\"\", \"\",VLOOKUP($B509, CAD!$H$7:$I$2000, 2, FALSE))","v":""},{"$f":"IF($B509=\"\", \"\",VLOOKUP($B509, CAD!$J$7:$K$2000, 2, FALSE))","v":""},{"$f":"IF($B509=\"\", \"\", VLOOKUP($B509, CAD!$L$7:$M$2000, 2, FALSE))","v":""},{"$f":"IF($B509=\"\", \"\", VLOOKUP($B509, CAD!$N$7:$O$2000, 2, FALSE))","v":""},{"$f":"IF($B509=\"\", \"\", VLOOKUP($B509, CAD!$P$7:$Q$2000, 2, FALSE))","v":""},{"$f":"IF($B509=\"\", \"\", VLOOKUP($B509, CAD!$R$7:$S$2000, 2, FALSE))","v":""},{"$f":"IF($B509=\"\", \"\", VLOOKUP($B509, CAD!$T$7:$U$2000, 2, FALSE))","v":""},{"$f":"IF($B509=\"\", \"\", VLOOKUP($B509, CAD!$V$7:$W$2000, 2, FALSE))","v":""}]
[null,{"$f":"IF(CAD!B507=\"\", \"\", CAD!B507)","v":""},{"$f":"IF($B510=\"\", \"\", CAD!C507)","v":""},{"$f":"IF($B510=\"\", \"\",VLOOKUP($B510, CAD!$D$7:$E$2000, 2, FALSE))","v":""},{"$f":"IF($B510=\"\", \"\",VLOOKUP($B510, CAD!$F$7:$G$2000, 2, FALSE))","v":""},{"$f":"IF($B510=\"\", \"\",VLOOKUP($B510, CAD!$H$7:$I$2000, 2, FALSE))","v":""},{"$f":"IF($B510=\"\", \"\",VLOOKUP($B510, CAD!$J$7:$K$2000, 2, FALSE))","v":""},{"$f":"IF($B510=\"\", \"\", VLOOKUP($B510, CAD!$L$7:$M$2000, 2, FALSE))","v":""},{"$f":"IF($B510=\"\", \"\", VLOOKUP($B510, CAD!$N$7:$O$2000, 2, FALSE))","v":""},{"$f":"IF($B510=\"\", \"\", VLOOKUP($B510, CAD!$P$7:$Q$2000, 2, FALSE))","v":""},{"$f":"IF($B510=\"\", \"\", VLOOKUP($B510, CAD!$R$7:$S$2000, 2, FALSE))","v":""},{"$f":"IF($B510=\"\", \"\", VLOOKUP($B510, CAD!$T$7:$U$2000, 2, FALSE))","v":""},{"$f":"IF($B510=\"\", \"\", VLOOKUP($B510, CAD!$V$7:$W$2000, 2, FALSE))","v":""}]
[null,{"$f":"IF(CAD!B508=\"\", \"\", CAD!B508)","v":""},{"$f":"IF($B511=\"\", \"\", CAD!C508)","v":""},{"$f":"IF($B511=\"\", \"\",VLOOKUP($B511, CAD!$D$7:$E$2000, 2, FALSE))","v":""},{"$f":"IF($B511=\"\", \"\",VLOOKUP($B511, CAD!$F$7:$G$2000, 2, FALSE))","v":""},{"$f":"IF($B511=\"\", \"\",VLOOKUP($B511, CAD!$H$7:$I$2000, 2, FALSE))","v":""},{"$f":"IF($B511=\"\", \"\",VLOOKUP($B511, CAD!$J$7:$K$2000, 2, FALSE))","v":""},{"$f":"IF($B511=\"\", \"\", VLOOKUP($B511, CAD!$L$7:$M$2000, 2, FALSE))","v":""},{"$f":"IF($B511=\"\", \"\", VLOOKUP($B511, CAD!$N$7:$O$2000, 2, FALSE))","v":""},{"$f":"IF($B511=\"\", \"\", VLOOKUP($B511, CAD!$P$7:$Q$2000, 2, FALSE))","v":""},{"$f":"IF($B511=\"\", \"\", VLOOKUP($B511, CAD!$R$7:$S$2000, 2, FALSE))","v":""},{"$f":"IF($B511=\"\", \"\", VLOOKUP($B511, CAD!$T$7:$U$2000, 2, FALSE))","v":""},{"$f":"IF($B511=\"\", \"\", VLOOKUP($B511, CAD!$V$7:$W$2000, 2, FALSE))","v":""}]
[null,{"$f":"IF(CAD!B509=\"\", \"\", CAD!B509)","v":""},{"$f":"IF($B512=\"\", \"\", CAD!C509)","v":""},{"$f":"IF($B512=\"\", \"\",VLOOKUP($B512, CAD!$D$7:$E$2000, 2, FALSE))","v":""},{"$f":"IF($B512=\"\", \"\",VLOOKUP($B512, CAD!$F$7:$G$2000, 2, FALSE))","v":""},{"$f":"IF($B512=\"\", \"\",VLOOKUP($B512, CAD!$H$7:$I$2000, 2, FALSE))","v":""},{"$f":"IF($B512=\"\", \"\",VLOOKUP($B512, CAD!$J$7:$K$2000, 2, FALSE))","v":""},{"$f":"IF($B512=\"\", \"\", VLOOKUP($B512, CAD!$L$7:$M$2000, 2, FALSE))","v":""},{"$f":"IF($B512=\"\", \"\", VLOOKUP($B512, CAD!$N$7:$O$2000, 2, FALSE))","v":""},{"$f":"IF($B512=\"\", \"\", VLOOKUP($B512, CAD!$P$7:$Q$2000, 2, FALSE))","v":""},{"$f":"IF($B512=\"\", \"\", VLOOKUP($B512, CAD!$R$7:$S$2000, 2, FALSE))","v":""},{"$f":"IF($B512=\"\", \"\", VLOOKUP($B512, CAD!$T$7:$U$2000, 2, FALSE))","v":""},{"$f":"IF($B512=\"\", \"\", VLOOKUP($B512, CAD!$V$7:$W$2000, 2, FALSE))","v":""}]
[null,{"$f":"IF(CAD!B510=\"\", \"\", CAD!B510)","v":""},{"$f":"IF($B513=\"\", \"\", CAD!C510)","v":""},{"$f":"IF($B513=\"\", \"\",VLOOKUP($B513, CAD!$D$7:$E$2000, 2, FALSE))","v":""},{"$f":"IF($B513=\"\", \"\",VLOOKUP($B513, CAD!$F$7:$G$2000, 2, FALSE))","v":""},{"$f":"IF($B513=\"\", \"\",VLOOKUP($B513, CAD!$H$7:$I$2000, 2, FALSE))","v":""},{"$f":"IF($B513=\"\", \"\",VLOOKUP($B513, CAD!$J$7:$K$2000, 2, FALSE))","v":""},{"$f":"IF($B513=\"\", \"\", VLOOKUP($B513, CAD!$L$7:$M$2000, 2, FALSE))","v":""},{"$f":"IF($B513=\"\", \"\", VLOOKUP($B513, CAD!$N$7:$O$2000, 2, FALSE))","v":""},{"$f":"IF($B513=\"\", \"\", VLOOKUP($B513, CAD!$P$7:$Q$2000, 2, FALSE))","v":""},{"$f":"IF($B513=\"\", \"\", VLOOKUP($B513, CAD!$R$7:$S$2000, 2, FALSE))","v":""},{"$f":"IF($B513=\"\", \"\", VLOOKUP($B513, CAD!$T$7:$U$2000, 2, FALSE))","v":""},{"$f":"IF($B513=\"\", \"\", VLOOKUP($B513, CAD!$V$7:$W$2000, 2, FALSE))","v":""}]
[null,{"$f":"IF(CAD!B511=\"\", \"\", CAD!B511)","v":""},{"$f":"IF($B514=\"\", \"\", CAD!C511)","v":""},{"$f":"IF($B514=\"\", \"\",VLOOKUP($B514, CAD!$D$7:$E$2000, 2, FALSE))","v":""},{"$f":"IF($B514=\"\", \"\",VLOOKUP($B514, CAD!$F$7:$G$2000, 2, FALSE))","v":""},{"$f":"IF($B514=\"\", \"\",VLOOKUP($B514, CAD!$H$7:$I$2000, 2, FALSE))","v":""},{"$f":"IF($B514=\"\", \"\",VLOOKUP($B514, CAD!$J$7:$K$2000, 2, FALSE))","v":""},{"$f":"IF($B514=\"\", \"\", VLOOKUP($B514, CAD!$L$7:$M$2000, 2, FALSE))","v":""},{"$f":"IF($B514=\"\", \"\", VLOOKUP($B514, CAD!$N$7:$O$2000, 2, FALSE))","v":""},{"$f":"IF($B514=\"\", \"\", VLOOKUP($B514, CAD!$P$7:$Q$2000, 2, FALSE))","v":""},{"$f":"IF($B514=\"\", \"\", VLOOKUP($B514, CAD!$R$7:$S$2000, 2, FALSE))","v":""},{"$f":"IF($B514=\"\", \"\", VLOOKUP($B514, CAD!$T$7:$U$2000, 2, FALSE))","v":""},{"$f":"IF($B514=\"\", \"\", VLOOKUP($B514, CAD!$V$7:$W$2000, 2, FALSE))","v":""}]
[null,{"$f":"IF(CAD!B512=\"\", \"\", CAD!B512)","v":""},{"$f":"IF($B515=\"\", \"\", CAD!C512)","v":""},{"$f":"IF($B515=\"\", \"\",VLOOKUP($B515, CAD!$D$7:$E$2000, 2, FALSE))","v":""},{"$f":"IF($B515=\"\", \"\",VLOOKUP($B515, CAD!$F$7:$G$2000, 2, FALSE))","v":""},{"$f":"IF($B515=\"\", \"\",VLOOKUP($B515, CAD!$H$7:$I$2000, 2, FALSE))","v":""},{"$f":"IF($B515=\"\", \"\",VLOOKUP($B515, CAD!$J$7:$K$2000, 2, FALSE))","v":""},{"$f":"IF($B515=\"\", \"\", VLOOKUP($B515, CAD!$L$7:$M$2000, 2, FALSE))","v":""},{"$f":"IF($B515=\"\", \"\", VLOOKUP($B515, CAD!$N$7:$O$2000, 2, FALSE))","v":""},{"$f":"IF($B515=\"\", \"\", VLOOKUP($B515, CAD!$P$7:$Q$2000, 2, FALSE))","v":""},{"$f":"IF($B515=\"\", \"\", VLOOKUP($B515, CAD!$R$7:$S$2000, 2, FALSE))","v":""},{"$f":"IF($B515=\"\", \"\", VLOOKUP($B515, CAD!$T$7:$U$2000, 2, FALSE))","v":""},{"$f":"IF($B515=\"\", \"\", VLOOKUP($B515, CAD!$V$7:$W$2000, 2, FALSE))","v":""}]
[null,{"$f":"IF(CAD!B513=\"\", \"\", CAD!B513)","v":""},{"$f":"IF($B516=\"\", \"\", CAD!C513)","v":""},{"$f":"IF($B516=\"\", \"\",VLOOKUP($B516, CAD!$D$7:$E$2000, 2, FALSE))","v":""},{"$f":"IF($B516=\"\", \"\",VLOOKUP($B516, CAD!$F$7:$G$2000, 2, FALSE))","v":""},{"$f":"IF($B516=\"\", \"\",VLOOKUP($B516, CAD!$H$7:$I$2000, 2, FALSE))","v":""},{"$f":"IF($B516=\"\", \"\",VLOOKUP($B516, CAD!$J$7:$K$2000, 2, FALSE))","v":""},{"$f":"IF($B516=\"\", \"\", VLOOKUP($B516, CAD!$L$7:$M$2000, 2, FALSE))","v":""},{"$f":"IF($B516=\"\", \"\", VLOOKUP($B516, CAD!$N$7:$O$2000, 2, FALSE))","v":""},{"$f":"IF($B516=\"\", \"\", VLOOKUP($B516, CAD!$P$7:$Q$2000, 2, FALSE))","v":""},{"$f":"IF($B516=\"\", \"\", VLOOKUP($B516, CAD!$R$7:$S$2000, 2, FALSE))","v":""},{"$f":"IF($B516=\"\", \"\", VLOOKUP($B516, CAD!$T$7:$U$2000, 2, FALSE))","v":""},{"$f":"IF($B516=\"\", \"\", VLOOKUP($B516, CAD!$V$7:$W$2000, 2, FALSE))","v":""}]
[null,{"$f":"IF(CAD!B514=\"\", \"\", CAD!B514)","v":""},{"$f":"IF($B517=\"\", \"\", CAD!C514)","v":""},{"$f":"IF($B517=\"\", \"\",VLOOKUP($B517, CAD!$D$7:$E$2000, 2, FALSE))","v":""},{"$f":"IF($B517=\"\", \"\",VLOOKUP($B517, CAD!$F$7:$G$2000, 2, FALSE))","v":""},{"$f":"IF($B517=\"\", \"\",VLOOKUP($B517, CAD!$H$7:$I$2000, 2, FALSE))","v":""},{"$f":"IF($B517=\"\", \"\",VLOOKUP($B517, CAD!$J$7:$K$2000, 2, FALSE))","v":""},{"$f":"IF($B517=\"\", \"\", VLOOKUP($B517, CAD!$L$7:$M$2000, 2, FALSE))","v":""},{"$f":"IF($B517=\"\", \"\", VLOOKUP($B517, CAD!$N$7:$O$2000, 2, FALSE))","v":""},{"$f":"IF($B517=\"\", \"\", VLOOKUP($B517, CAD!$P$7:$Q$2000, 2, FALSE))","v":""},{"$f":"IF($B517=\"\", \"\", VLOOKUP($B517, CAD!$R$7:$S$2000, 2, FALSE))","v":""},{"$f":"IF($B517=\"\", \"\", VLOOKUP($B517, CAD!$T$7:$U$2000, 2, FALSE))","v":""},{"$f":"IF($B517=\"\", \"\", VLOOKUP($B517, CAD!$V$7:$W$2000, 2, FALSE))","v":""}]
[null,{"$f":"IF(CAD!B515=\"\", \"\", CAD!B515)","v":""},{"$f":"IF($B518=\"\", \"\", CAD!C515)","v":""},{"$f":"IF($B518=\"\", \"\",VLOOKUP($B518, CAD!$D$7:$E$2000, 2, FALSE))","v":""},{"$f":"IF($B518=\"\", \"\",VLOOKUP($B518, CAD!$F$7:$G$2000, 2, FALSE))","v":""},{"$f":"IF($B518=\"\", \"\",VLOOKUP($B518, CAD!$H$7:$I$2000, 2, FALSE))","v":""},{"$f":"IF($B518=\"\", \"\",VLOOKUP($B518, CAD!$J$7:$K$2000, 2, FALSE))","v":""},{"$f":"IF($B518=\"\", \"\", VLOOKUP($B518, CAD!$L$7:$M$2000, 2, FALSE))","v":""},{"$f":"IF($B518=\"\", \"\", VLOOKUP($B518, CAD!$N$7:$O$2000, 2, FALSE))","v":""},{"$f":"IF($B518=\"\", \"\", VLOOKUP($B518, CAD!$P$7:$Q$2000, 2, FALSE))","v":""},{"$f":"IF($B518=\"\", \"\", VLOOKUP($B518, CAD!$R$7:$S$2000, 2, FALSE))","v":""},{"$f":"IF($B518=\"\", \"\", VLOOKUP($B518, CAD!$T$7:$U$2000, 2, FALSE))","v":""},{"$f":"IF($B518=\"\", \"\", VLOOKUP($B518, CAD!$V$7:$W$2000, 2, FALSE))","v":""}]
[null,{"$f":"IF(CAD!B516=\"\", \"\", CAD!B516)","v":""},{"$f":"IF($B519=\"\", \"\", CAD!C516)","v":""},{"$f":"IF($B519=\"\", \"\",VLOOKUP($B519, CAD!$D$7:$E$2000, 2, FALSE))","v":""},{"$f":"IF($B519=\"\", \"\",VLOOKUP($B519, CAD!$F$7:$G$2000, 2, FALSE))","v":""},{"$f":"IF($B519=\"\", \"\",VLOOKUP($B519, CAD!$H$7:$I$2000, 2, FALSE))","v":""},{"$f":"IF($B519=\"\", \"\",VLOOKUP($B519, CAD!$J$7:$K$2000, 2, FALSE))","v":""},{"$f":"IF($B519=\"\", \"\", VLOOKUP($B519, CAD!$L$7:$M$2000, 2, FALSE))","v":""},{"$f":"IF($B519=\"\", \"\", VLOOKUP($B519, CAD!$N$7:$O$2000, 2, FALSE))","v":""},{"$f":"IF($B519=\"\", \"\", VLOOKUP($B519, CAD!$P$7:$Q$2000, 2, FALSE))","v":""},{"$f":"IF($B519=\"\", \"\", VLOOKUP($B519, CAD!$R$7:$S$2000, 2, FALSE))","v":""},{"$f":"IF($B519=\"\", \"\", VLOOKUP($B519, CAD!$T$7:$U$2000, 2, FALSE))","v":""},{"$f":"IF($B519=\"\", \"\", VLOOKUP($B519, CAD!$V$7:$W$2000, 2, FALSE))","v":""}]
[null,{"$f":"IF(CAD!B517=\"\", \"\", CAD!B517)","v":""},{"$f":"IF($B520=\"\", \"\", CAD!C517)","v":""},{"$f":"IF($B520=\"\", \"\",VLOOKUP($B520, CAD!$D$7:$E$2000, 2, FALSE))","v":""},{"$f":"IF($B520=\"\", \"\",VLOOKUP($B520, CAD!$F$7:$G$2000, 2, FALSE))","v":""},{"$f":"IF($B520=\"\", \"\",VLOOKUP($B520, CAD!$H$7:$I$2000, 2, FALSE))","v":""},{"$f":"IF($B520=\"\", \"\",VLOOKUP($B520, CAD!$J$7:$K$2000, 2, FALSE))","v":""},{"$f":"IF($B520=\"\", \"\", VLOOKUP($B520, CAD!$L$7:$M$2000, 2, FALSE))","v":""},{"$f":"IF($B520=\"\", \"\", VLOOKUP($B520, CAD!$N$7:$O$2000, 2, FALSE))","v":""},{"$f":"IF($B520=\"\", \"\", VLOOKUP($B520, CAD!$P$7:$Q$2000, 2, FALSE))","v":""},{"$f":"IF($B520=\"\", \"\", VLOOKUP($B520, CAD!$R$7:$S$2000, 2, FALSE))","v":""},{"$f":"IF($B520=\"\", \"\", VLOOKUP($B520, CAD!$T$7:$U$2000, 2, FALSE))","v":""},{"$f":"IF($B520=\"\", \"\", VLOOKUP($B520, CAD!$V$7:$W$2000, 2, FALSE))","v":""}]
[null,{"$f":"IF(CAD!B518=\"\", \"\", CAD!B518)","v":""},{"$f":"IF($B521=\"\", \"\", CAD!C518)","v":""},{"$f":"IF($B521=\"\", \"\",VLOOKUP($B521, CAD!$D$7:$E$2000, 2, FALSE))","v":""},{"$f":"IF($B521=\"\", \"\",VLOOKUP($B521, CAD!$F$7:$G$2000, 2, FALSE))","v":""},{"$f":"IF($B521=\"\", \"\",VLOOKUP($B521, CAD!$H$7:$I$2000, 2, FALSE))","v":""},{"$f":"IF($B521=\"\", \"\",VLOOKUP($B521, CAD!$J$7:$K$2000, 2, FALSE))","v":""},{"$f":"IF($B521=\"\", \"\", VLOOKUP($B521, CAD!$L$7:$M$2000, 2, FALSE))","v":""},{"$f":"IF($B521=\"\", \"\", VLOOKUP($B521, CAD!$N$7:$O$2000, 2, FALSE))","v":""},{"$f":"IF($B521=\"\", \"\", VLOOKUP($B521, CAD!$P$7:$Q$2000, 2, FALSE))","v":""},{"$f":"IF($B521=\"\", \"\", VLOOKUP($B521, CAD!$R$7:$S$2000, 2, FALSE))","v":""},{"$f":"IF($B521=\"\", \"\", VLOOKUP($B521, CAD!$T$7:$U$2000, 2, FALSE))","v":""},{"$f":"IF($B521=\"\", \"\", VLOOKUP($B521, CAD!$V$7:$W$2000, 2, FALSE))","v":""}]
[null,{"$f":"IF(CAD!B519=\"\", \"\", CAD!B519)","v":""},{"$f":"IF($B522=\"\", \"\", CAD!C519)","v":""},{"$f":"IF($B522=\"\", \"\",VLOOKUP($B522, CAD!$D$7:$E$2000, 2, FALSE))","v":""},{"$f":"IF($B522=\"\", \"\",VLOOKUP($B522, CAD!$F$7:$G$2000, 2, FALSE))","v":""},{"$f":"IF($B522=\"\", \"\",VLOOKUP($B522, CAD!$H$7:$I$2000, 2, FALSE))","v":""},{"$f":"IF($B522=\"\", \"\",VLOOKUP($B522, CAD!$J$7:$K$2000, 2, FALSE))","v":""},{"$f":"IF($B522=\"\", \"\", VLOOKUP($B522, CAD!$L$7:$M$2000, 2, FALSE))","v":""},{"$f":"IF($B522=\"\", \"\", VLOOKUP($B522, CAD!$N$7:$O$2000, 2, FALSE))","v":""},{"$f":"IF($B522=\"\", \"\", VLOOKUP($B522, CAD!$P$7:$Q$2000, 2, FALSE))","v":""},{"$f":"IF($B522=\"\", \"\", VLOOKUP($B522, CAD!$R$7:$S$2000, 2, FALSE))","v":""},{"$f":"IF($B522=\"\", \"\", VLOOKUP($B522, CAD!$T$7:$U$2000, 2, FALSE))","v":""},{"$f":"IF($B522=\"\", \"\", VLOOKUP($B522, CAD!$V$7:$W$2000, 2, FALSE))","v":""}]
[null,{"$f":"IF(CAD!B520=\"\", \"\", CAD!B520)","v":""},{"$f":"IF($B523=\"\", \"\", CAD!C520)","v":""},{"$f":"IF($B523=\"\", \"\",VLOOKUP($B523, CAD!$D$7:$E$2000, 2, FALSE))","v":""},{"$f":"IF($B523=\"\", \"\",VLOOKUP($B523, CAD!$F$7:$G$2000, 2, FALSE))","v":""},{"$f":"IF($B523=\"\", \"\",VLOOKUP($B523, CAD!$H$7:$I$2000, 2, FALSE))","v":""},{"$f":"IF($B523=\"\", \"\",VLOOKUP($B523, CAD!$J$7:$K$2000, 2, FALSE))","v":""},{"$f":"IF($B523=\"\", \"\", VLOOKUP($B523, CAD!$L$7:$M$2000, 2, FALSE))","v":""},{"$f":"IF($B523=\"\", \"\", VLOOKUP($B523, CAD!$N$7:$O$2000, 2, FALSE))","v":""},{"$f":"IF($B523=\"\", \"\", VLOOKUP($B523, CAD!$P$7:$Q$2000, 2, FALSE))","v":""},{"$f":"IF($B523=\"\", \"\", VLOOKUP($B523, CAD!$R$7:$S$2000, 2, FALSE))","v":""},{"$f":"IF($B523=\"\", \"\", VLOOKUP($B523, CAD!$T$7:$U$2000, 2, FALSE))","v":""},{"$f":"IF($B523=\"\", \"\", VLOOKUP($B523, CAD!$V$7:$W$2000, 2, FALSE))","v":""}]
[null,{"$f":"IF(CAD!B521=\"\", \"\", CAD!B521)","v":""},{"$f":"IF($B524=\"\", \"\", CAD!C521)","v":""},{"$f":"IF($B524=\"\", \"\",VLOOKUP($B524, CAD!$D$7:$E$2000, 2, FALSE))","v":""},{"$f":"IF($B524=\"\", \"\",VLOOKUP($B524, CAD!$F$7:$G$2000, 2, FALSE))","v":""},{"$f":"IF($B524=\"\", \"\",VLOOKUP($B524, CAD!$H$7:$I$2000, 2, FALSE))","v":""},{"$f":"IF($B524=\"\", \"\",VLOOKUP($B524, CAD!$J$7:$K$2000, 2, FALSE))","v":""},{"$f":"IF($B524=\"\", \"\", VLOOKUP($B524, CAD!$L$7:$M$2000, 2, FALSE))","v":""},{"$f":"IF($B524=\"\", \"\", VLOOKUP($B524, CAD!$N$7:$O$2000, 2, FALSE))","v":""},{"$f":"IF($B524=\"\", \"\", VLOOKUP($B524, CAD!$P$7:$Q$2000, 2, FALSE))","v":""},{"$f":"IF($B524=\"\", \"\", VLOOKUP($B524, CAD!$R$7:$S$2000, 2, FALSE))","v":""},{"$f":"IF($B524=\"\", \"\", VLOOKUP($B524, CAD!$T$7:$U$2000, 2, FALSE))","v":""},{"$f":"IF($B524=\"\", \"\", VLOOKUP($B524, CAD!$V$7:$W$2000, 2, FALSE))","v":""}]
[null,{"$f":"IF(CAD!B522=\"\", \"\", CAD!B522)","v":""},{"$f":"IF($B525=\"\", \"\", CAD!C522)","v":""},{"$f":"IF($B525=\"\", \"\",VLOOKUP($B525, CAD!$D$7:$E$2000, 2, FALSE))","v":""},{"$f":"IF($B525=\"\", \"\",VLOOKUP($B525, CAD!$F$7:$G$2000, 2, FALSE))","v":""},{"$f":"IF($B525=\"\", \"\",VLOOKUP($B525, CAD!$H$7:$I$2000, 2, FALSE))","v":""},{"$f":"IF($B525=\"\", \"\",VLOOKUP($B525, CAD!$J$7:$K$2000, 2, FALSE))","v":""},{"$f":"IF($B525=\"\", \"\", VLOOKUP($B525, CAD!$L$7:$M$2000, 2, FALSE))","v":""},{"$f":"IF($B525=\"\", \"\", VLOOKUP($B525, CAD!$N$7:$O$2000, 2, FALSE))","v":""},{"$f":"IF($B525=\"\", \"\", VLOOKUP($B525, CAD!$P$7:$Q$2000, 2, FALSE))","v":""},{"$f":"IF($B525=\"\", \"\", VLOOKUP($B525, CAD!$R$7:$S$2000, 2, FALSE))","v":""},{"$f":"IF($B525=\"\", \"\", VLOOKUP($B525, CAD!$T$7:$U$2000, 2, FALSE))","v":""},{"$f":"IF($B525=\"\", \"\", VLOOKUP($B525, CAD!$V$7:$W$2000, 2, FALSE))","v":""}]
[null,{"$f":"IF(CAD!B523=\"\", \"\", CAD!B523)","v":""},{"$f":"IF($B526=\"\", \"\", CAD!C523)","v":""},{"$f":"IF($B526=\"\", \"\",VLOOKUP($B526, CAD!$D$7:$E$2000, 2, FALSE))","v":""},{"$f":"IF($B526=\"\", \"\",VLOOKUP($B526, CAD!$F$7:$G$2000, 2, FALSE))","v":""},{"$f":"IF($B526=\"\", \"\",VLOOKUP($B526, CAD!$H$7:$I$2000, 2, FALSE))","v":""},{"$f":"IF($B526=\"\", \"\",VLOOKUP($B526, CAD!$J$7:$K$2000, 2, FALSE))","v":""},{"$f":"IF($B526=\"\", \"\", VLOOKUP($B526, CAD!$L$7:$M$2000, 2, FALSE))","v":""},{"$f":"IF($B526=\"\", \"\", VLOOKUP($B526, CAD!$N$7:$O$2000, 2, FALSE))","v":""},{"$f":"IF($B526=\"\", \"\", VLOOKUP($B526, CAD!$P$7:$Q$2000, 2, FALSE))","v":""},{"$f":"IF($B526=\"\", \"\", VLOOKUP($B526, CAD!$R$7:$S$2000, 2, FALSE))","v":""},{"$f":"IF($B526=\"\", \"\", VLOOKUP($B526, CAD!$T$7:$U$2000, 2, FALSE))","v":""},{"$f":"IF($B526=\"\", \"\", VLOOKUP($B526, CAD!$V$7:$W$2000, 2, FALSE))","v":""}]
[null,{"$f":"IF(CAD!B524=\"\", \"\", CAD!B524)","v":""},{"$f":"IF($B527=\"\", \"\", CAD!C524)","v":""},{"$f":"IF($B527=\"\", \"\",VLOOKUP($B527, CAD!$D$7:$E$2000, 2, FALSE))","v":""},{"$f":"IF($B527=\"\", \"\",VLOOKUP($B527, CAD!$F$7:$G$2000, 2, FALSE))","v":""},{"$f":"IF($B527=\"\", \"\",VLOOKUP($B527, CAD!$H$7:$I$2000, 2, FALSE))","v":""},{"$f":"IF($B527=\"\", \"\",VLOOKUP($B527, CAD!$J$7:$K$2000, 2, FALSE))","v":""},{"$f":"IF($B527=\"\", \"\", VLOOKUP($B527, CAD!$L$7:$M$2000, 2, FALSE))","v":""},{"$f":"IF($B527=\"\", \"\", VLOOKUP($B527, CAD!$N$7:$O$2000, 2, FALSE))","v":""},{"$f":"IF($B527=\"\", \"\", VLOOKUP($B527, CAD!$P$7:$Q$2000, 2, FALSE))","v":""},{"$f":"IF($B527=\"\", \"\", VLOOKUP($B527, CAD!$R$7:$S$2000, 2, FALSE))","v":""},{"$f":"IF($B527=\"\", \"\", VLOOKUP($B527, CAD!$T$7:$U$2000, 2, FALSE))","v":""},{"$f":"IF($B527=\"\", \"\", VLOOKUP($B527, CAD!$V$7:$W$2000, 2, FALSE))","v":""}]
[null,{"$f":"IF(CAD!B525=\"\", \"\", CAD!B525)","v":""},{"$f":"IF($B528=\"\", \"\", CAD!C525)","v":""},{"$f":"IF($B528=\"\", \"\",VLOOKUP($B528, CAD!$D$7:$E$2000, 2, FALSE))","v":""},{"$f":"IF($B528=\"\", \"\",VLOOKUP($B528, CAD!$F$7:$G$2000, 2, FALSE))","v":""},{"$f":"IF($B528=\"\", \"\",VLOOKUP($B528, CAD!$H$7:$I$2000, 2, FALSE))","v":""},{"$f":"IF($B528=\"\", \"\",VLOOKUP($B528, CAD!$J$7:$K$2000, 2, FALSE))","v":""},{"$f":"IF($B528=\"\", \"\", VLOOKUP($B528, CAD!$L$7:$M$2000, 2, FALSE))","v":""},{"$f":"IF($B528=\"\", \"\", VLOOKUP($B528, CAD!$N$7:$O$2000, 2, FALSE))","v":""},{"$f":"IF($B528=\"\", \"\", VLOOKUP($B528, CAD!$P$7:$Q$2000, 2, FALSE))","v":""},{"$f":"IF($B528=\"\", \"\", VLOOKUP($B528, CAD!$R$7:$S$2000, 2, FALSE))","v":""},{"$f":"IF($B528=\"\", \"\", VLOOKUP($B528, CAD!$T$7:$U$2000, 2, FALSE))","v":""},{"$f":"IF($B528=\"\", \"\", VLOOKUP($B528, CAD!$V$7:$W$2000, 2, FALSE))","v":""}]
[null,{"$f":"IF(CAD!B526=\"\", \"\", CAD!B526)","v":""},{"$f":"IF($B529=\"\", \"\", CAD!C526)","v":""},{"$f":"IF($B529=\"\", \"\",VLOOKUP($B529, CAD!$D$7:$E$2000, 2, FALSE))","v":""},{"$f":"IF($B529=\"\", \"\",VLOOKUP($B529, CAD!$F$7:$G$2000, 2, FALSE))","v":""},{"$f":"IF($B529=\"\", \"\",VLOOKUP($B529, CAD!$H$7:$I$2000, 2, FALSE))","v":""},{"$f":"IF($B529=\"\", \"\",VLOOKUP($B529, CAD!$J$7:$K$2000, 2, FALSE))","v":""},{"$f":"IF($B529=\"\", \"\", VLOOKUP($B529, CAD!$L$7:$M$2000, 2, FALSE))","v":""},{"$f":"IF($B529=\"\", \"\", VLOOKUP($B529, CAD!$N$7:$O$2000, 2, FALSE))","v":""},{"$f":"IF($B529=\"\", \"\", VLOOKUP($B529, CAD!$P$7:$Q$2000, 2, FALSE))","v":""},{"$f":"IF($B529=\"\", \"\", VLOOKUP($B529, CAD!$R$7:$S$2000, 2, FALSE))","v":""},{"$f":"IF($B529=\"\", \"\", VLOOKUP($B529, CAD!$T$7:$U$2000, 2, FALSE))","v":""},{"$f":"IF($B529=\"\", \"\", VLOOKUP($B529, CAD!$V$7:$W$2000, 2, FALSE))","v":""}]
[null,{"$f":"IF(CAD!B527=\"\", \"\", CAD!B527)","v":""},{"$f":"IF($B530=\"\", \"\", CAD!C527)","v":""},{"$f":"IF($B530=\"\", \"\",VLOOKUP($B530, CAD!$D$7:$E$2000, 2, FALSE))","v":""},{"$f":"IF($B530=\"\", \"\",VLOOKUP($B530, CAD!$F$7:$G$2000, 2, FALSE))","v":""},{"$f":"IF($B530=\"\", \"\",VLOOKUP($B530, CAD!$H$7:$I$2000, 2, FALSE))","v":""},{"$f":"IF($B530=\"\", \"\",VLOOKUP($B530, CAD!$J$7:$K$2000, 2, FALSE))","v":""},{"$f":"IF($B530=\"\", \"\", VLOOKUP($B530, CAD!$L$7:$M$2000, 2, FALSE))","v":""},{"$f":"IF($B530=\"\", \"\", VLOOKUP($B530, CAD!$N$7:$O$2000, 2, FALSE))","v":""},{"$f":"IF($B530=\"\", \"\", VLOOKUP($B530, CAD!$P$7:$Q$2000, 2, FALSE))","v":""},{"$f":"IF($B530=\"\", \"\", VLOOKUP($B530, CAD!$R$7:$S$2000, 2, FALSE))","v":""},{"$f":"IF($B530=\"\", \"\", VLOOKUP($B530, CAD!$T$7:$U$2000, 2, FALSE))","v":""},{"$f":"IF($B530=\"\", \"\", VLOOKUP($B530, CAD!$V$7:$W$2000, 2, FALSE))","v":""}]
[null,{"$f":"IF(CAD!B528=\"\", \"\", CAD!B528)","v":""},{"$f":"IF($B531=\"\", \"\", CAD!C528)","v":""},{"$f":"IF($B531=\"\", \"\",VLOOKUP($B531, CAD!$D$7:$E$2000, 2, FALSE))","v":""},{"$f":"IF($B531=\"\", \"\",VLOOKUP($B531, CAD!$F$7:$G$2000, 2, FALSE))","v":""},{"$f":"IF($B531=\"\", \"\",VLOOKUP($B531, CAD!$H$7:$I$2000, 2, FALSE))","v":""},{"$f":"IF($B531=\"\", \"\",VLOOKUP($B531, CAD!$J$7:$K$2000, 2, FALSE))","v":""},{"$f":"IF($B531=\"\", \"\", VLOOKUP($B531, CAD!$L$7:$M$2000, 2, FALSE))","v":""},{"$f":"IF($B531=\"\", \"\", VLOOKUP($B531, CAD!$N$7:$O$2000, 2, FALSE))","v":""},{"$f":"IF($B531=\"\", \"\", VLOOKUP($B531, CAD!$P$7:$Q$2000, 2, FALSE))","v":""},{"$f":"IF($B531=\"\", \"\", VLOOKUP($B531, CAD!$R$7:$S$2000, 2, FALSE))","v":""},{"$f":"IF($B531=\"\", \"\", VLOOKUP($B531, CAD!$T$7:$U$2000, 2, FALSE))","v":""},{"$f":"IF($B531=\"\", \"\", VLOOKUP($B531, CAD!$V$7:$W$2000, 2, FALSE))","v":""}]
[null,{"$f":"IF(CAD!B529=\"\", \"\", CAD!B529)","v":""},{"$f":"IF($B532=\"\", \"\", CAD!C529)","v":""},{"$f":"IF($B532=\"\", \"\",VLOOKUP($B532, CAD!$D$7:$E$2000, 2, FALSE))","v":""},{"$f":"IF($B532=\"\", \"\",VLOOKUP($B532, CAD!$F$7:$G$2000, 2, FALSE))","v":""},{"$f":"IF($B532=\"\", \"\",VLOOKUP($B532, CAD!$H$7:$I$2000, 2, FALSE))","v":""},{"$f":"IF($B532=\"\", \"\",VLOOKUP($B532, CAD!$J$7:$K$2000, 2, FALSE))","v":""},{"$f":"IF($B532=\"\", \"\", VLOOKUP($B532, CAD!$L$7:$M$2000, 2, FALSE))","v":""},{"$f":"IF($B532=\"\", \"\", VLOOKUP($B532, CAD!$N$7:$O$2000, 2, FALSE))","v":""},{"$f":"IF($B532=\"\", \"\", VLOOKUP($B532, CAD!$P$7:$Q$2000, 2, FALSE))","v":""},{"$f":"IF($B532=\"\", \"\", VLOOKUP($B532, CAD!$R$7:$S$2000, 2, FALSE))","v":""},{"$f":"IF($B532=\"\", \"\", VLOOKUP($B532, CAD!$T$7:$U$2000, 2, FALSE))","v":""},{"$f":"IF($B532=\"\", \"\", VLOOKUP($B532, CAD!$V$7:$W$2000, 2, FALSE))","v":""}]
[null,{"$f":"IF(CAD!B530=\"\", \"\", CAD!B530)","v":""},{"$f":"IF($B533=\"\", \"\", CAD!C530)","v":""},{"$f":"IF($B533=\"\", \"\",VLOOKUP($B533, CAD!$D$7:$E$2000, 2, FALSE))","v":""},{"$f":"IF($B533=\"\", \"\",VLOOKUP($B533, CAD!$F$7:$G$2000, 2, FALSE))","v":""},{"$f":"IF($B533=\"\", \"\",VLOOKUP($B533, CAD!$H$7:$I$2000, 2, FALSE))","v":""},{"$f":"IF($B533=\"\", \"\",VLOOKUP($B533, CAD!$J$7:$K$2000, 2, FALSE))","v":""},{"$f":"IF($B533=\"\", \"\", VLOOKUP($B533, CAD!$L$7:$M$2000, 2, FALSE))","v":""},{"$f":"IF($B533=\"\", \"\", VLOOKUP($B533, CAD!$N$7:$O$2000, 2, FALSE))","v":""},{"$f":"IF($B533=\"\", \"\", VLOOKUP($B533, CAD!$P$7:$Q$2000, 2, FALSE))","v":""},{"$f":"IF($B533=\"\", \"\", VLOOKUP($B533, CAD!$R$7:$S$2000, 2, FALSE))","v":""},{"$f":"IF($B533=\"\", \"\", VLOOKUP($B533, CAD!$T$7:$U$2000, 2, FALSE))","v":""},{"$f":"IF($B533=\"\", \"\", VLOOKUP($B533, CAD!$V$7:$W$2000, 2, FALSE))","v":""}]
[null,{"$f":"IF(CAD!B531=\"\", \"\", CAD!B531)","v":""},{"$f":"IF($B534=\"\", \"\", CAD!C531)","v":""},{"$f":"IF($B534=\"\", \"\",VLOOKUP($B534, CAD!$D$7:$E$2000, 2, FALSE))","v":""},{"$f":"IF($B534=\"\", \"\",VLOOKUP($B534, CAD!$F$7:$G$2000, 2, FALSE))","v":""},{"$f":"IF($B534=\"\", \"\",VLOOKUP($B534, CAD!$H$7:$I$2000, 2, FALSE))","v":""},{"$f":"IF($B534=\"\", \"\",VLOOKUP($B534, CAD!$J$7:$K$2000, 2, FALSE))","v":""},{"$f":"IF($B534=\"\", \"\", VLOOKUP($B534, CAD!$L$7:$M$2000, 2, FALSE))","v":""},{"$f":"IF($B534=\"\", \"\", VLOOKUP($B534, CAD!$N$7:$O$2000, 2, FALSE))","v":""},{"$f":"IF($B534=\"\", \"\", VLOOKUP($B534, CAD!$P$7:$Q$2000, 2, FALSE))","v":""},{"$f":"IF($B534=\"\", \"\", VLOOKUP($B534, CAD!$R$7:$S$2000, 2, FALSE))","v":""},{"$f":"IF($B534=\"\", \"\", VLOOKUP($B534, CAD!$T$7:$U$2000, 2, FALSE))","v":""},{"$f":"IF($B534=\"\", \"\", VLOOKUP($B534, CAD!$V$7:$W$2000, 2, FALSE))","v":""}]
[null,{"$f":"IF(CAD!B532=\"\", \"\", CAD!B532)","v":""},{"$f":"IF($B535=\"\", \"\", CAD!C532)","v":""},{"$f":"IF($B535=\"\", \"\",VLOOKUP($B535, CAD!$D$7:$E$2000, 2, FALSE))","v":""},{"$f":"IF($B535=\"\", \"\",VLOOKUP($B535, CAD!$F$7:$G$2000, 2, FALSE))","v":""},{"$f":"IF($B535=\"\", \"\",VLOOKUP($B535, CAD!$H$7:$I$2000, 2, FALSE))","v":""},{"$f":"IF($B535=\"\", \"\",VLOOKUP($B535, CAD!$J$7:$K$2000, 2, FALSE))","v":""},{"$f":"IF($B535=\"\", \"\", VLOOKUP($B535, CAD!$L$7:$M$2000, 2, FALSE))","v":""},{"$f":"IF($B535=\"\", \"\", VLOOKUP($B535, CAD!$N$7:$O$2000, 2, FALSE))","v":""},{"$f":"IF($B535=\"\", \"\", VLOOKUP($B535, CAD!$P$7:$Q$2000, 2, FALSE))","v":""},{"$f":"IF($B535=\"\", \"\", VLOOKUP($B535, CAD!$R$7:$S$2000, 2, FALSE))","v":""},{"$f":"IF($B535=\"\", \"\", VLOOKUP($B535, CAD!$T$7:$U$2000, 2, FALSE))","v":""},{"$f":"IF($B535=\"\", \"\", VLOOKUP($B535, CAD!$V$7:$W$2000, 2, FALSE))","v":""}]
[null,{"$f":"IF(CAD!B533=\"\", \"\", CAD!B533)","v":""},{"$f":"IF($B536=\"\", \"\", CAD!C533)","v":""},{"$f":"IF($B536=\"\", \"\",VLOOKUP($B536, CAD!$D$7:$E$2000, 2, FALSE))","v":""},{"$f":"IF($B536=\"\", \"\",VLOOKUP($B536, CAD!$F$7:$G$2000, 2, FALSE))","v":""},{"$f":"IF($B536=\"\", \"\",VLOOKUP($B536, CAD!$H$7:$I$2000, 2, FALSE))","v":""},{"$f":"IF($B536=\"\", \"\",VLOOKUP($B536, CAD!$J$7:$K$2000, 2, FALSE))","v":""},{"$f":"IF($B536=\"\", \"\", VLOOKUP($B536, CAD!$L$7:$M$2000, 2, FALSE))","v":""},{"$f":"IF($B536=\"\", \"\", VLOOKUP($B536, CAD!$N$7:$O$2000, 2, FALSE))","v":""},{"$f":"IF($B536=\"\", \"\", VLOOKUP($B536, CAD!$P$7:$Q$2000, 2, FALSE))","v":""},{"$f":"IF($B536=\"\", \"\", VLOOKUP($B536, CAD!$R$7:$S$2000, 2, FALSE))","v":""},{"$f":"IF($B536=\"\", \"\", VLOOKUP($B536, CAD!$T$7:$U$2000, 2, FALSE))","v":""},{"$f":"IF($B536=\"\", \"\", VLOOKUP($B536, CAD!$V$7:$W$2000, 2, FALSE))","v":""}]
[null,{"$f":"IF(CAD!B534=\"\", \"\", CAD!B534)","v":""},{"$f":"IF($B537=\"\", \"\", CAD!C534)","v":""},{"$f":"IF($B537=\"\", \"\",VLOOKUP($B537, CAD!$D$7:$E$2000, 2, FALSE))","v":""},{"$f":"IF($B537=\"\", \"\",VLOOKUP($B537, CAD!$F$7:$G$2000, 2, FALSE))","v":""},{"$f":"IF($B537=\"\", \"\",VLOOKUP($B537, CAD!$H$7:$I$2000, 2, FALSE))","v":""},{"$f":"IF($B537=\"\", \"\",VLOOKUP($B537, CAD!$J$7:$K$2000, 2, FALSE))","v":""},{"$f":"IF($B537=\"\", \"\", VLOOKUP($B537, CAD!$L$7:$M$2000, 2, FALSE))","v":""},{"$f":"IF($B537=\"\", \"\", VLOOKUP($B537, CAD!$N$7:$O$2000, 2, FALSE))","v":""},{"$f":"IF($B537=\"\", \"\", VLOOKUP($B537, CAD!$P$7:$Q$2000, 2, FALSE))","v":""},{"$f":"IF($B537=\"\", \"\", VLOOKUP($B537, CAD!$R$7:$S$2000, 2, FALSE))","v":""},{"$f":"IF($B537=\"\", \"\", VLOOKUP($B537, CAD!$T$7:$U$2000, 2, FALSE))","v":""},{"$f":"IF($B537=\"\", \"\", VLOOKUP($B537, CAD!$V$7:$W$2000, 2, FALSE))","v":""}]
[null,{"$f":"IF(CAD!B535=\"\", \"\", CAD!B535)","v":""},{"$f":"IF($B538=\"\", \"\", CAD!C535)","v":""},{"$f":"IF($B538=\"\", \"\",VLOOKUP($B538, CAD!$D$7:$E$2000, 2, FALSE))","v":""},{"$f":"IF($B538=\"\", \"\",VLOOKUP($B538, CAD!$F$7:$G$2000, 2, FALSE))","v":""},{"$f":"IF($B538=\"\", \"\",VLOOKUP($B538, CAD!$H$7:$I$2000, 2, FALSE))","v":""},{"$f":"IF($B538=\"\", \"\",VLOOKUP($B538, CAD!$J$7:$K$2000, 2, FALSE))","v":""},{"$f":"IF($B538=\"\", \"\", VLOOKUP($B538, CAD!$L$7:$M$2000, 2, FALSE))","v":""},{"$f":"IF($B538=\"\", \"\", VLOOKUP($B538, CAD!$N$7:$O$2000, 2, FALSE))","v":""},{"$f":"IF($B538=\"\", \"\", VLOOKUP($B538, CAD!$P$7:$Q$2000, 2, FALSE))","v":""},{"$f":"IF($B538=\"\", \"\", VLOOKUP($B538, CAD!$R$7:$S$2000, 2, FALSE))","v":""},{"$f":"IF($B538=\"\", \"\", VLOOKUP($B538, CAD!$T$7:$U$2000, 2, FALSE))","v":""},{"$f":"IF($B538=\"\", \"\", VLOOKUP($B538, CAD!$V$7:$W$2000, 2, FALSE))","v":""}]
[null,{"$f":"IF(CAD!B536=\"\", \"\", CAD!B536)","v":""},{"$f":"IF($B539=\"\", \"\", CAD!C536)","v":""},{"$f":"IF($B539=\"\", \"\",VLOOKUP($B539, CAD!$D$7:$E$2000, 2, FALSE))","v":""},{"$f":"IF($B539=\"\", \"\",VLOOKUP($B539, CAD!$F$7:$G$2000, 2, FALSE))","v":""},{"$f":"IF($B539=\"\", \"\",VLOOKUP($B539, CAD!$H$7:$I$2000, 2, FALSE))","v":""},{"$f":"IF($B539=\"\", \"\",VLOOKUP($B539, CAD!$J$7:$K$2000, 2, FALSE))","v":""},{"$f":"IF($B539=\"\", \"\", VLOOKUP($B539, CAD!$L$7:$M$2000, 2, FALSE))","v":""},{"$f":"IF($B539=\"\", \"\", VLOOKUP($B539, CAD!$N$7:$O$2000, 2, FALSE))","v":""},{"$f":"IF($B539=\"\", \"\", VLOOKUP($B539, CAD!$P$7:$Q$2000, 2, FALSE))","v":""},{"$f":"IF($B539=\"\", \"\", VLOOKUP($B539, CAD!$R$7:$S$2000, 2, FALSE))","v":""},{"$f":"IF($B539=\"\", \"\", VLOOKUP($B539, CAD!$T$7:$U$2000, 2, FALSE))","v":""},{"$f":"IF($B539=\"\", \"\", VLOOKUP($B539, CAD!$V$7:$W$2000, 2, FALSE))","v":""}]
[null,{"$f":"IF(CAD!B537=\"\", \"\", CAD!B537)","v":""},{"$f":"IF($B540=\"\", \"\", CAD!C537)","v":""},{"$f":"IF($B540=\"\", \"\",VLOOKUP($B540, CAD!$D$7:$E$2000, 2, FALSE))","v":""},{"$f":"IF($B540=\"\", \"\",VLOOKUP($B540, CAD!$F$7:$G$2000, 2, FALSE))","v":""},{"$f":"IF($B540=\"\", \"\",VLOOKUP($B540, CAD!$H$7:$I$2000, 2, FALSE))","v":""},{"$f":"IF($B540=\"\", \"\",VLOOKUP($B540, CAD!$J$7:$K$2000, 2, FALSE))","v":""},{"$f":"IF($B540=\"\", \"\", VLOOKUP($B540, CAD!$L$7:$M$2000, 2, FALSE))","v":""},{"$f":"IF($B540=\"\", \"\", VLOOKUP($B540, CAD!$N$7:$O$2000, 2, FALSE))","v":""},{"$f":"IF($B540=\"\", \"\", VLOOKUP($B540, CAD!$P$7:$Q$2000, 2, FALSE))","v":""},{"$f":"IF($B540=\"\", \"\", VLOOKUP($B540, CAD!$R$7:$S$2000, 2, FALSE))","v":""},{"$f":"IF($B540=\"\", \"\", VLOOKUP($B540, CAD!$T$7:$U$2000, 2, FALSE))","v":""},{"$f":"IF($B540=\"\", \"\", VLOOKUP($B540, CAD!$V$7:$W$2000, 2, FALSE))","v":""}]
[null,{"$f":"IF(CAD!B538=\"\", \"\", CAD!B538)","v":""},{"$f":"IF($B541=\"\", \"\", CAD!C538)","v":""},{"$f":"IF($B541=\"\", \"\",VLOOKUP($B541, CAD!$D$7:$E$2000, 2, FALSE))","v":""},{"$f":"IF($B541=\"\", \"\",VLOOKUP($B541, CAD!$F$7:$G$2000, 2, FALSE))","v":""},{"$f":"IF($B541=\"\", \"\",VLOOKUP($B541, CAD!$H$7:$I$2000, 2, FALSE))","v":""},{"$f":"IF($B541=\"\", \"\",VLOOKUP($B541, CAD!$J$7:$K$2000, 2, FALSE))","v":""},{"$f":"IF($B541=\"\", \"\", VLOOKUP($B541, CAD!$L$7:$M$2000, 2, FALSE))","v":""},{"$f":"IF($B541=\"\", \"\", VLOOKUP($B541, CAD!$N$7:$O$2000, 2, FALSE))","v":""},{"$f":"IF($B541=\"\", \"\", VLOOKUP($B541, CAD!$P$7:$Q$2000, 2, FALSE))","v":""},{"$f":"IF($B541=\"\", \"\", VLOOKUP($B541, CAD!$R$7:$S$2000, 2, FALSE))","v":""},{"$f":"IF($B541=\"\", \"\", VLOOKUP($B541, CAD!$T$7:$U$2000, 2, FALSE))","v":""},{"$f":"IF($B541=\"\", \"\", VLOOKUP($B541, CAD!$V$7:$W$2000, 2, FALSE))","v":""}]
[null,{"$f":"IF(CAD!B539=\"\", \"\", CAD!B539)","v":""},{"$f":"IF($B542=\"\", \"\", CAD!C539)","v":""},{"$f":"IF($B542=\"\", \"\",VLOOKUP($B542, CAD!$D$7:$E$2000, 2, FALSE))","v":""},{"$f":"IF($B542=\"\", \"\",VLOOKUP($B542, CAD!$F$7:$G$2000, 2, FALSE))","v":""},{"$f":"IF($B542=\"\", \"\",VLOOKUP($B542, CAD!$H$7:$I$2000, 2, FALSE))","v":""},{"$f":"IF($B542=\"\", \"\",VLOOKUP($B542, CAD!$J$7:$K$2000, 2, FALSE))","v":""},{"$f":"IF($B542=\"\", \"\", VLOOKUP($B542, CAD!$L$7:$M$2000, 2, FALSE))","v":""},{"$f":"IF($B542=\"\", \"\", VLOOKUP($B542, CAD!$N$7:$O$2000, 2, FALSE))","v":""},{"$f":"IF($B542=\"\", \"\", VLOOKUP($B542, CAD!$P$7:$Q$2000, 2, FALSE))","v":""},{"$f":"IF($B542=\"\", \"\", VLOOKUP($B542, CAD!$R$7:$S$2000, 2, FALSE))","v":""},{"$f":"IF($B542=\"\", \"\", VLOOKUP($B542, CAD!$T$7:$U$2000, 2, FALSE))","v":""},{"$f":"IF($B542=\"\", \"\", VLOOKUP($B542, CAD!$V$7:$W$2000, 2, FALSE))","v":""}]
[null,{"$f":"IF(CAD!B540=\"\", \"\", CAD!B540)","v":""},{"$f":"IF($B543=\"\", \"\", CAD!C540)","v":""},{"$f":"IF($B543=\"\", \"\",VLOOKUP($B543, CAD!$D$7:$E$2000, 2, FALSE))","v":""},{"$f":"IF($B543=\"\", \"\",VLOOKUP($B543, CAD!$F$7:$G$2000, 2, FALSE))","v":""},{"$f":"IF($B543=\"\", \"\",VLOOKUP($B543, CAD!$H$7:$I$2000, 2, FALSE))","v":""},{"$f":"IF($B543=\"\", \"\",VLOOKUP($B543, CAD!$J$7:$K$2000, 2, FALSE))","v":""},{"$f":"IF($B543=\"\", \"\", VLOOKUP($B543, CAD!$L$7:$M$2000, 2, FALSE))","v":""},{"$f":"IF($B543=\"\", \"\", VLOOKUP($B543, CAD!$N$7:$O$2000, 2, FALSE))","v":""},{"$f":"IF($B543=\"\", \"\", VLOOKUP($B543, CAD!$P$7:$Q$2000, 2, FALSE))","v":""},{"$f":"IF($B543=\"\", \"\", VLOOKUP($B543, CAD!$R$7:$S$2000, 2, FALSE))","v":""},{"$f":"IF($B543=\"\", \"\", VLOOKUP($B543, CAD!$T$7:$U$2000, 2, FALSE))","v":""},{"$f":"IF($B543=\"\", \"\", VLOOKUP($B543, CAD!$V$7:$W$2000, 2, FALSE))","v":""}]
[null,{"$f":"IF(CAD!B541=\"\", \"\", CAD!B541)","v":""},{"$f":"IF($B544=\"\", \"\", CAD!C541)","v":""},{"$f":"IF($B544=\"\", \"\",VLOOKUP($B544, CAD!$D$7:$E$2000, 2, FALSE))","v":""},{"$f":"IF($B544=\"\", \"\",VLOOKUP($B544, CAD!$F$7:$G$2000, 2, FALSE))","v":""},{"$f":"IF($B544=\"\", \"\",VLOOKUP($B544, CAD!$H$7:$I$2000, 2, FALSE))","v":""},{"$f":"IF($B544=\"\", \"\",VLOOKUP($B544, CAD!$J$7:$K$2000, 2, FALSE))","v":""},{"$f":"IF($B544=\"\", \"\", VLOOKUP($B544, CAD!$L$7:$M$2000, 2, FALSE))","v":""},{"$f":"IF($B544=\"\", \"\", VLOOKUP($B544, CAD!$N$7:$O$2000, 2, FALSE))","v":""},{"$f":"IF($B544=\"\", \"\", VLOOKUP($B544, CAD!$P$7:$Q$2000, 2, FALSE))","v":""},{"$f":"IF($B544=\"\", \"\", VLOOKUP($B544, CAD!$R$7:$S$2000, 2, FALSE))","v":""},{"$f":"IF($B544=\"\", \"\", VLOOKUP($B544, CAD!$T$7:$U$2000, 2, FALSE))","v":""},{"$f":"IF($B544=\"\", \"\", VLOOKUP($B544, CAD!$V$7:$W$2000, 2, FALSE))","v":""}]
[null,{"$f":"IF(CAD!B542=\"\", \"\", CAD!B542)","v":""},{"$f":"IF($B545=\"\", \"\", CAD!C542)","v":""},{"$f":"IF($B545=\"\", \"\",VLOOKUP($B545, CAD!$D$7:$E$2000, 2, FALSE))","v":""},{"$f":"IF($B545=\"\", \"\",VLOOKUP($B545, CAD!$F$7:$G$2000, 2, FALSE))","v":""},{"$f":"IF($B545=\"\", \"\",VLOOKUP($B545, CAD!$H$7:$I$2000, 2, FALSE))","v":""},{"$f":"IF($B545=\"\", \"\",VLOOKUP($B545, CAD!$J$7:$K$2000, 2, FALSE))","v":""},{"$f":"IF($B545=\"\", \"\", VLOOKUP($B545, CAD!$L$7:$M$2000, 2, FALSE))","v":""},{"$f":"IF($B545=\"\", \"\", VLOOKUP($B545, CAD!$N$7:$O$2000, 2, FALSE))","v":""},{"$f":"IF($B545=\"\", \"\", VLOOKUP($B545, CAD!$P$7:$Q$2000, 2, FALSE))","v":""},{"$f":"IF($B545=\"\", \"\", VLOOKUP($B545, CAD!$R$7:$S$2000, 2, FALSE))","v":""},{"$f":"IF($B545=\"\", \"\", VLOOKUP($B545, CAD!$T$7:$U$2000, 2, FALSE))","v":""},{"$f":"IF($B545=\"\", \"\", VLOOKUP($B545, CAD!$V$7:$W$2000, 2, FALSE))","v":""}]
[null,{"$f":"IF(CAD!B543=\"\", \"\", CAD!B543)","v":""},{"$f":"IF($B546=\"\", \"\", CAD!C543)","v":""},{"$f":"IF($B546=\"\", \"\",VLOOKUP($B546, CAD!$D$7:$E$2000, 2, FALSE))","v":""},{"$f":"IF($B546=\"\", \"\",VLOOKUP($B546, CAD!$F$7:$G$2000, 2, FALSE))","v":""},{"$f":"IF($B546=\"\", \"\",VLOOKUP($B546, CAD!$H$7:$I$2000, 2, FALSE))","v":""},{"$f":"IF($B546=\"\", \"\",VLOOKUP($B546, CAD!$J$7:$K$2000, 2, FALSE))","v":""},{"$f":"IF($B546=\"\", \"\", VLOOKUP($B546, CAD!$L$7:$M$2000, 2, FALSE))","v":""},{"$f":"IF($B546=\"\", \"\", VLOOKUP($B546, CAD!$N$7:$O$2000, 2, FALSE))","v":""},{"$f":"IF($B546=\"\", \"\", VLOOKUP($B546, CAD!$P$7:$Q$2000, 2, FALSE))","v":""},{"$f":"IF($B546=\"\", \"\", VLOOKUP($B546, CAD!$R$7:$S$2000, 2, FALSE))","v":""},{"$f":"IF($B546=\"\", \"\", VLOOKUP($B546, CAD!$T$7:$U$2000, 2, FALSE))","v":""},{"$f":"IF($B546=\"\", \"\", VLOOKUP($B546, CAD!$V$7:$W$2000, 2, FALSE))","v":""}]
[null,{"$f":"IF(CAD!B544=\"\", \"\", CAD!B544)","v":""},{"$f":"IF($B547=\"\", \"\", CAD!C544)","v":""},{"$f":"IF($B547=\"\", \"\",VLOOKUP($B547, CAD!$D$7:$E$2000, 2, FALSE))","v":""},{"$f":"IF($B547=\"\", \"\",VLOOKUP($B547, CAD!$F$7:$G$2000, 2, FALSE))","v":""},{"$f":"IF($B547=\"\", \"\",VLOOKUP($B547, CAD!$H$7:$I$2000, 2, FALSE))","v":""},{"$f":"IF($B547=\"\", \"\",VLOOKUP($B547, CAD!$J$7:$K$2000, 2, FALSE))","v":""},{"$f":"IF($B547=\"\", \"\", VLOOKUP($B547, CAD!$L$7:$M$2000, 2, FALSE))","v":""},{"$f":"IF($B547=\"\", \"\", VLOOKUP($B547, CAD!$N$7:$O$2000, 2, FALSE))","v":""},{"$f":"IF($B547=\"\", \"\", VLOOKUP($B547, CAD!$P$7:$Q$2000, 2, FALSE))","v":""},{"$f":"IF($B547=\"\", \"\", VLOOKUP($B547, CAD!$R$7:$S$2000, 2, FALSE))","v":""},{"$f":"IF($B547=\"\", \"\", VLOOKUP($B547, CAD!$T$7:$U$2000, 2, FALSE))","v":""},{"$f":"IF($B547=\"\", \"\", VLOOKUP($B547, CAD!$V$7:$W$2000, 2, FALSE))","v":""}]
[null,{"$f":"IF(CAD!B545=\"\", \"\", CAD!B545)","v":""},{"$f":"IF($B548=\"\", \"\", CAD!C545)","v":""},{"$f":"IF($B548=\"\", \"\",VLOOKUP($B548, CAD!$D$7:$E$2000, 2, FALSE))","v":""},{"$f":"IF($B548=\"\", \"\",VLOOKUP($B548, CAD!$F$7:$G$2000, 2, FALSE))","v":""},{"$f":"IF($B548=\"\", \"\",VLOOKUP($B548, CAD!$H$7:$I$2000, 2, FALSE))","v":""},{"$f":"IF($B548=\"\", \"\",VLOOKUP($B548, CAD!$J$7:$K$2000, 2, FALSE))","v":""},{"$f":"IF($B548=\"\", \"\", VLOOKUP($B548, CAD!$L$7:$M$2000, 2, FALSE))","v":""},{"$f":"IF($B548=\"\", \"\", VLOOKUP($B548, CAD!$N$7:$O$2000, 2, FALSE))","v":""},{"$f":"IF($B548=\"\", \"\", VLOOKUP($B548, CAD!$P$7:$Q$2000, 2, FALSE))","v":""},{"$f":"IF($B548=\"\", \"\", VLOOKUP($B548, CAD!$R$7:$S$2000, 2, FALSE))","v":""},{"$f":"IF($B548=\"\", \"\", VLOOKUP($B548, CAD!$T$7:$U$2000, 2, FALSE))","v":""},{"$f":"IF($B548=\"\", \"\", VLOOKUP($B548, CAD!$V$7:$W$2000, 2, FALSE))","v":""}]
[null,{"$f":"IF(CAD!B546=\"\", \"\", CAD!B546)","v":""},{"$f":"IF($B549=\"\", \"\", CAD!C546)","v":""},{"$f":"IF($B549=\"\", \"\",VLOOKUP($B549, CAD!$D$7:$E$2000, 2, FALSE))","v":""},{"$f":"IF($B549=\"\", \"\",VLOOKUP($B549, CAD!$F$7:$G$2000, 2, FALSE))","v":""},{"$f":"IF($B549=\"\", \"\",VLOOKUP($B549, CAD!$H$7:$I$2000, 2, FALSE))","v":""},{"$f":"IF($B549=\"\", \"\",VLOOKUP($B549, CAD!$J$7:$K$2000, 2, FALSE))","v":""},{"$f":"IF($B549=\"\", \"\", VLOOKUP($B549, CAD!$L$7:$M$2000, 2, FALSE))","v":""},{"$f":"IF($B549=\"\", \"\", VLOOKUP($B549, CAD!$N$7:$O$2000, 2, FALSE))","v":""},{"$f":"IF($B549=\"\", \"\", VLOOKUP($B549, CAD!$P$7:$Q$2000, 2, FALSE))","v":""},{"$f":"IF($B549=\"\", \"\", VLOOKUP($B549, CAD!$R$7:$S$2000, 2, FALSE))","v":""},{"$f":"IF($B549=\"\", \"\", VLOOKUP($B549, CAD!$T$7:$U$2000, 2, FALSE))","v":""},{"$f":"IF($B549=\"\", \"\", VLOOKUP($B549, CAD!$V$7:$W$2000, 2, FALSE))","v":""}]
[null,{"$f":"IF(CAD!B547=\"\", \"\", CAD!B547)","v":""},{"$f":"IF($B550=\"\", \"\", CAD!C547)","v":""},{"$f":"IF($B550=\"\", \"\",VLOOKUP($B550, CAD!$D$7:$E$2000, 2, FALSE))","v":""},{"$f":"IF($B550=\"\", \"\",VLOOKUP($B550, CAD!$F$7:$G$2000, 2, FALSE))","v":""},{"$f":"IF($B550=\"\", \"\",VLOOKUP($B550, CAD!$H$7:$I$2000, 2, FALSE))","v":""},{"$f":"IF($B550=\"\", \"\",VLOOKUP($B550, CAD!$J$7:$K$2000, 2, FALSE))","v":""},{"$f":"IF($B550=\"\", \"\", VLOOKUP($B550, CAD!$L$7:$M$2000, 2, FALSE))","v":""},{"$f":"IF($B550=\"\", \"\", VLOOKUP($B550, CAD!$N$7:$O$2000, 2, FALSE))","v":""},{"$f":"IF($B550=\"\", \"\", VLOOKUP($B550, CAD!$P$7:$Q$2000, 2, FALSE))","v":""},{"$f":"IF($B550=\"\", \"\", VLOOKUP($B550, CAD!$R$7:$S$2000, 2, FALSE))","v":""},{"$f":"IF($B550=\"\", \"\", VLOOKUP($B550, CAD!$T$7:$U$2000, 2, FALSE))","v":""},{"$f":"IF($B550=\"\", \"\", VLOOKUP($B550, CAD!$V$7:$W$2000, 2, FALSE))","v":""}]
[null,{"$f":"IF(CAD!B548=\"\", \"\", CAD!B548)","v":""},{"$f":"IF($B551=\"\", \"\", CAD!C548)","v":""},{"$f":"IF($B551=\"\", \"\",VLOOKUP($B551, CAD!$D$7:$E$2000, 2, FALSE))","v":""},{"$f":"IF($B551=\"\", \"\",VLOOKUP($B551, CAD!$F$7:$G$2000, 2, FALSE))","v":""},{"$f":"IF($B551=\"\", \"\",VLOOKUP($B551, CAD!$H$7:$I$2000, 2, FALSE))","v":""},{"$f":"IF($B551=\"\", \"\",VLOOKUP($B551, CAD!$J$7:$K$2000, 2, FALSE))","v":""},{"$f":"IF($B551=\"\", \"\", VLOOKUP($B551, CAD!$L$7:$M$2000, 2, FALSE))","v":""},{"$f":"IF($B551=\"\", \"\", VLOOKUP($B551, CAD!$N$7:$O$2000, 2, FALSE))","v":""},{"$f":"IF($B551=\"\", \"\", VLOOKUP($B551, CAD!$P$7:$Q$2000, 2, FALSE))","v":""},{"$f":"IF($B551=\"\", \"\", VLOOKUP($B551, CAD!$R$7:$S$2000, 2, FALSE))","v":""},{"$f":"IF($B551=\"\", \"\", VLOOKUP($B551, CAD!$T$7:$U$2000, 2, FALSE))","v":""},{"$f":"IF($B551=\"\", \"\", VLOOKUP($B551, CAD!$V$7:$W$2000, 2, FALSE))","v":""}]
[null,{"$f":"IF(CAD!B549=\"\", \"\", CAD!B549)","v":""},{"$f":"IF($B552=\"\", \"\", CAD!C549)","v":""},{"$f":"IF($B552=\"\", \"\",VLOOKUP($B552, CAD!$D$7:$E$2000, 2, FALSE))","v":""},{"$f":"IF($B552=\"\", \"\",VLOOKUP($B552, CAD!$F$7:$G$2000, 2, FALSE))","v":""},{"$f":"IF($B552=\"\", \"\",VLOOKUP($B552, CAD!$H$7:$I$2000, 2, FALSE))","v":""},{"$f":"IF($B552=\"\", \"\",VLOOKUP($B552, CAD!$J$7:$K$2000, 2, FALSE))","v":""},{"$f":"IF($B552=\"\", \"\", VLOOKUP($B552, CAD!$L$7:$M$2000, 2, FALSE))","v":""},{"$f":"IF($B552=\"\", \"\", VLOOKUP($B552, CAD!$N$7:$O$2000, 2, FALSE))","v":""},{"$f":"IF($B552=\"\", \"\", VLOOKUP($B552, CAD!$P$7:$Q$2000, 2, FALSE))","v":""},{"$f":"IF($B552=\"\", \"\", VLOOKUP($B552, CAD!$R$7:$S$2000, 2, FALSE))","v":""},{"$f":"IF($B552=\"\", \"\", VLOOKUP($B552, CAD!$T$7:$U$2000, 2, FALSE))","v":""},{"$f":"IF($B552=\"\", \"\", VLOOKUP($B552, CAD!$V$7:$W$2000, 2, FALSE))","v":""}]
[null,{"$f":"IF(CAD!B550=\"\", \"\", CAD!B550)","v":""},{"$f":"IF($B553=\"\", \"\", CAD!C550)","v":""},{"$f":"IF($B553=\"\", \"\",VLOOKUP($B553, CAD!$D$7:$E$2000, 2, FALSE))","v":""},{"$f":"IF($B553=\"\", \"\",VLOOKUP($B553, CAD!$F$7:$G$2000, 2, FALSE))","v":""},{"$f":"IF($B553=\"\", \"\",VLOOKUP($B553, CAD!$H$7:$I$2000, 2, FALSE))","v":""},{"$f":"IF($B553=\"\", \"\",VLOOKUP($B553, CAD!$J$7:$K$2000, 2, FALSE))","v":""},{"$f":"IF($B553=\"\", \"\", VLOOKUP($B553, CAD!$L$7:$M$2000, 2, FALSE))","v":""},{"$f":"IF($B553=\"\", \"\", VLOOKUP($B553, CAD!$N$7:$O$2000, 2, FALSE))","v":""},{"$f":"IF($B553=\"\", \"\", VLOOKUP($B553, CAD!$P$7:$Q$2000, 2, FALSE))","v":""},{"$f":"IF($B553=\"\", \"\", VLOOKUP($B553, CAD!$R$7:$S$2000, 2, FALSE))","v":""},{"$f":"IF($B553=\"\", \"\", VLOOKUP($B553, CAD!$T$7:$U$2000, 2, FALSE))","v":""},{"$f":"IF($B553=\"\", \"\", VLOOKUP($B553, CAD!$V$7:$W$2000, 2, FALSE))","v":""}]
[null,{"$f":"IF(CAD!B551=\"\", \"\", CAD!B551)","v":""},{"$f":"IF($B554=\"\", \"\", CAD!C551)","v":""},{"$f":"IF($B554=\"\", \"\",VLOOKUP($B554, CAD!$D$7:$E$2000, 2, FALSE))","v":""},{"$f":"IF($B554=\"\", \"\",VLOOKUP($B554, CAD!$F$7:$G$2000, 2, FALSE))","v":""},{"$f":"IF($B554=\"\", \"\",VLOOKUP($B554, CAD!$H$7:$I$2000, 2, FALSE))","v":""},{"$f":"IF($B554=\"\", \"\",VLOOKUP($B554, CAD!$J$7:$K$2000, 2, FALSE))","v":""},{"$f":"IF($B554=\"\", \"\", VLOOKUP($B554, CAD!$L$7:$M$2000, 2, FALSE))","v":""},{"$f":"IF($B554=\"\", \"\", VLOOKUP($B554, CAD!$N$7:$O$2000, 2, FALSE))","v":""},{"$f":"IF($B554=\"\", \"\", VLOOKUP($B554, CAD!$P$7:$Q$2000, 2, FALSE))","v":""},{"$f":"IF($B554=\"\", \"\", VLOOKUP($B554, CAD!$R$7:$S$2000, 2, FALSE))","v":""},{"$f":"IF($B554=\"\", \"\", VLOOKUP($B554, CAD!$T$7:$U$2000, 2, FALSE))","v":""},{"$f":"IF($B554=\"\", \"\", VLOOKUP($B554, CAD!$V$7:$W$2000, 2, FALSE))","v":""}]
[null,{"$f":"IF(CAD!B552=\"\", \"\", CAD!B552)","v":""},{"$f":"IF($B555=\"\", \"\", CAD!C552)","v":""},{"$f":"IF($B555=\"\", \"\",VLOOKUP($B555, CAD!$D$7:$E$2000, 2, FALSE))","v":""},{"$f":"IF($B555=\"\", \"\",VLOOKUP($B555, CAD!$F$7:$G$2000, 2, FALSE))","v":""},{"$f":"IF($B555=\"\", \"\",VLOOKUP($B555, CAD!$H$7:$I$2000, 2, FALSE))","v":""},{"$f":"IF($B555=\"\", \"\",VLOOKUP($B555, CAD!$J$7:$K$2000, 2, FALSE))","v":""},{"$f":"IF($B555=\"\", \"\", VLOOKUP($B555, CAD!$L$7:$M$2000, 2, FALSE))","v":""},{"$f":"IF($B555=\"\", \"\", VLOOKUP($B555, CAD!$N$7:$O$2000, 2, FALSE))","v":""},{"$f":"IF($B555=\"\", \"\", VLOOKUP($B555, CAD!$P$7:$Q$2000, 2, FALSE))","v":""},{"$f":"IF($B555=\"\", \"\", VLOOKUP($B555, CAD!$R$7:$S$2000, 2, FALSE))","v":""},{"$f":"IF($B555=\"\", \"\", VLOOKUP($B555, CAD!$T$7:$U$2000, 2, FALSE))","v":""},{"$f":"IF($B555=\"\", \"\", VLOOKUP($B555, CAD!$V$7:$W$2000, 2, FALSE))","v":""}]
[null,{"$f":"IF(CAD!B553=\"\", \"\", CAD!B553)","v":""},{"$f":"IF($B556=\"\", \"\", CAD!C553)","v":""},{"$f":"IF($B556=\"\", \"\",VLOOKUP($B556, CAD!$D$7:$E$2000, 2, FALSE))","v":""},{"$f":"IF($B556=\"\", \"\",VLOOKUP($B556, CAD!$F$7:$G$2000, 2, FALSE))","v":""},{"$f":"IF($B556=\"\", \"\",VLOOKUP($B556, CAD!$H$7:$I$2000, 2, FALSE))","v":""},{"$f":"IF($B556=\"\", \"\",VLOOKUP($B556, CAD!$J$7:$K$2000, 2, FALSE))","v":""},{"$f":"IF($B556=\"\", \"\", VLOOKUP($B556, CAD!$L$7:$M$2000, 2, FALSE))","v":""},{"$f":"IF($B556=\"\", \"\", VLOOKUP($B556, CAD!$N$7:$O$2000, 2, FALSE))","v":""},{"$f":"IF($B556=\"\", \"\", VLOOKUP($B556, CAD!$P$7:$Q$2000, 2, FALSE))","v":""},{"$f":"IF($B556=\"\", \"\", VLOOKUP($B556, CAD!$R$7:$S$2000, 2, FALSE))","v":""},{"$f":"IF($B556=\"\", \"\", VLOOKUP($B556, CAD!$T$7:$U$2000, 2, FALSE))","v":""},{"$f":"IF($B556=\"\", \"\", VLOOKUP($B556, CAD!$V$7:$W$2000, 2, FALSE))","v":""}]
[null,{"$f":"IF(CAD!B554=\"\", \"\", CAD!B554)","v":""},{"$f":"IF($B557=\"\", \"\", CAD!C554)","v":""},{"$f":"IF($B557=\"\", \"\",VLOOKUP($B557, CAD!$D$7:$E$2000, 2, FALSE))","v":""},{"$f":"IF($B557=\"\", \"\",VLOOKUP($B557, CAD!$F$7:$G$2000, 2, FALSE))","v":""},{"$f":"IF($B557=\"\", \"\",VLOOKUP($B557, CAD!$H$7:$I$2000, 2, FALSE))","v":""},{"$f":"IF($B557=\"\", \"\",VLOOKUP($B557, CAD!$J$7:$K$2000, 2, FALSE))","v":""},{"$f":"IF($B557=\"\", \"\", VLOOKUP($B557, CAD!$L$7:$M$2000, 2, FALSE))","v":""},{"$f":"IF($B557=\"\", \"\", VLOOKUP($B557, CAD!$N$7:$O$2000, 2, FALSE))","v":""},{"$f":"IF($B557=\"\", \"\", VLOOKUP($B557, CAD!$P$7:$Q$2000, 2, FALSE))","v":""},{"$f":"IF($B557=\"\", \"\", VLOOKUP($B557, CAD!$R$7:$S$2000, 2, FALSE))","v":""},{"$f":"IF($B557=\"\", \"\", VLOOKUP($B557, CAD!$T$7:$U$2000, 2, FALSE))","v":""},{"$f":"IF($B557=\"\", \"\", VLOOKUP($B557, CAD!$V$7:$W$2000, 2, FALSE))","v":""}]
[null,{"$f":"IF(CAD!B555=\"\", \"\", CAD!B555)","v":""},{"$f":"IF($B558=\"\", \"\", CAD!C555)","v":""},{"$f":"IF($B558=\"\", \"\",VLOOKUP($B558, CAD!$D$7:$E$2000, 2, FALSE))","v":""},{"$f":"IF($B558=\"\", \"\",VLOOKUP($B558, CAD!$F$7:$G$2000, 2, FALSE))","v":""},{"$f":"IF($B558=\"\", \"\",VLOOKUP($B558, CAD!$H$7:$I$2000, 2, FALSE))","v":""},{"$f":"IF($B558=\"\", \"\",VLOOKUP($B558, CAD!$J$7:$K$2000, 2, FALSE))","v":""},{"$f":"IF($B558=\"\", \"\", VLOOKUP($B558, CAD!$L$7:$M$2000, 2, FALSE))","v":""},{"$f":"IF($B558=\"\", \"\", VLOOKUP($B558, CAD!$N$7:$O$2000, 2, FALSE))","v":""},{"$f":"IF($B558=\"\", \"\", VLOOKUP($B558, CAD!$P$7:$Q$2000, 2, FALSE))","v":""},{"$f":"IF($B558=\"\", \"\", VLOOKUP($B558, CAD!$R$7:$S$2000, 2, FALSE))","v":""},{"$f":"IF($B558=\"\", \"\", VLOOKUP($B558, CAD!$T$7:$U$2000, 2, FALSE))","v":""},{"$f":"IF($B558=\"\", \"\", VLOOKUP($B558, CAD!$V$7:$W$2000, 2, FALSE))","v":""}]
[null,{"$f":"IF(CAD!B556=\"\", \"\", CAD!B556)","v":""},{"$f":"IF($B559=\"\", \"\", CAD!C556)","v":""},{"$f":"IF($B559=\"\", \"\",VLOOKUP($B559, CAD!$D$7:$E$2000, 2, FALSE))","v":""},{"$f":"IF($B559=\"\", \"\",VLOOKUP($B559, CAD!$F$7:$G$2000, 2, FALSE))","v":""},{"$f":"IF($B559=\"\", \"\",VLOOKUP($B559, CAD!$H$7:$I$2000, 2, FALSE))","v":""},{"$f":"IF($B559=\"\", \"\",VLOOKUP($B559, CAD!$J$7:$K$2000, 2, FALSE))","v":""},{"$f":"IF($B559=\"\", \"\", VLOOKUP($B559, CAD!$L$7:$M$2000, 2, FALSE))","v":""},{"$f":"IF($B559=\"\", \"\", VLOOKUP($B559, CAD!$N$7:$O$2000, 2, FALSE))","v":""},{"$f":"IF($B559=\"\", \"\", VLOOKUP($B559, CAD!$P$7:$Q$2000, 2, FALSE))","v":""},{"$f":"IF($B559=\"\", \"\", VLOOKUP($B559, CAD!$R$7:$S$2000, 2, FALSE))","v":""},{"$f":"IF($B559=\"\", \"\", VLOOKUP($B559, CAD!$T$7:$U$2000, 2, FALSE))","v":""},{"$f":"IF($B559=\"\", \"\", VLOOKUP($B559, CAD!$V$7:$W$2000, 2, FALSE))","v":""}]
[null,{"$f":"IF(CAD!B557=\"\", \"\", CAD!B557)","v":""},{"$f":"IF($B560=\"\", \"\", CAD!C557)","v":""},{"$f":"IF($B560=\"\", \"\",VLOOKUP($B560, CAD!$D$7:$E$2000, 2, FALSE))","v":""},{"$f":"IF($B560=\"\", \"\",VLOOKUP($B560, CAD!$F$7:$G$2000, 2, FALSE))","v":""},{"$f":"IF($B560=\"\", \"\",VLOOKUP($B560, CAD!$H$7:$I$2000, 2, FALSE))","v":""},{"$f":"IF($B560=\"\", \"\",VLOOKUP($B560, CAD!$J$7:$K$2000, 2, FALSE))","v":""},{"$f":"IF($B560=\"\", \"\", VLOOKUP($B560, CAD!$L$7:$M$2000, 2, FALSE))","v":""},{"$f":"IF($B560=\"\", \"\", VLOOKUP($B560, CAD!$N$7:$O$2000, 2, FALSE))","v":""},{"$f":"IF($B560=\"\", \"\", VLOOKUP($B560, CAD!$P$7:$Q$2000, 2, FALSE))","v":""},{"$f":"IF($B560=\"\", \"\", VLOOKUP($B560, CAD!$R$7:$S$2000, 2, FALSE))","v":""},{"$f":"IF($B560=\"\", \"\", VLOOKUP($B560, CAD!$T$7:$U$2000, 2, FALSE))","v":""},{"$f":"IF($B560=\"\", \"\", VLOOKUP($B560, CAD!$V$7:$W$2000, 2, FALSE))","v":""}]
[null,{"$f":"IF(CAD!B558=\"\", \"\", CAD!B558)","v":""},{"$f":"IF($B561=\"\", \"\", CAD!C558)","v":""},{"$f":"IF($B561=\"\", \"\",VLOOKUP($B561, CAD!$D$7:$E$2000, 2, FALSE))","v":""},{"$f":"IF($B561=\"\", \"\",VLOOKUP($B561, CAD!$F$7:$G$2000, 2, FALSE))","v":""},{"$f":"IF($B561=\"\", \"\",VLOOKUP($B561, CAD!$H$7:$I$2000, 2, FALSE))","v":""},{"$f":"IF($B561=\"\", \"\",VLOOKUP($B561, CAD!$J$7:$K$2000, 2, FALSE))","v":""},{"$f":"IF($B561=\"\", \"\", VLOOKUP($B561, CAD!$L$7:$M$2000, 2, FALSE))","v":""},{"$f":"IF($B561=\"\", \"\", VLOOKUP($B561, CAD!$N$7:$O$2000, 2, FALSE))","v":""},{"$f":"IF($B561=\"\", \"\", VLOOKUP($B561, CAD!$P$7:$Q$2000, 2, FALSE))","v":""},{"$f":"IF($B561=\"\", \"\", VLOOKUP($B561, CAD!$R$7:$S$2000, 2, FALSE))","v":""},{"$f":"IF($B561=\"\", \"\", VLOOKUP($B561, CAD!$T$7:$U$2000, 2, FALSE))","v":""},{"$f":"IF($B561=\"\", \"\", VLOOKUP($B561, CAD!$V$7:$W$2000, 2, FALSE))","v":""}]
[null,{"$f":"IF(CAD!B559=\"\", \"\", CAD!B559)","v":""},{"$f":"IF($B562=\"\", \"\", CAD!C559)","v":""},{"$f":"IF($B562=\"\", \"\",VLOOKUP($B562, CAD!$D$7:$E$2000, 2, FALSE))","v":""},{"$f":"IF($B562=\"\", \"\",VLOOKUP($B562, CAD!$F$7:$G$2000, 2, FALSE))","v":""},{"$f":"IF($B562=\"\", \"\",VLOOKUP($B562, CAD!$H$7:$I$2000, 2, FALSE))","v":""},{"$f":"IF($B562=\"\", \"\",VLOOKUP($B562, CAD!$J$7:$K$2000, 2, FALSE))","v":""},{"$f":"IF($B562=\"\", \"\", VLOOKUP($B562, CAD!$L$7:$M$2000, 2, FALSE))","v":""},{"$f":"IF($B562=\"\", \"\", VLOOKUP($B562, CAD!$N$7:$O$2000, 2, FALSE))","v":""},{"$f":"IF($B562=\"\", \"\", VLOOKUP($B562, CAD!$P$7:$Q$2000, 2, FALSE))","v":""},{"$f":"IF($B562=\"\", \"\", VLOOKUP($B562, CAD!$R$7:$S$2000, 2, FALSE))","v":""},{"$f":"IF($B562=\"\", \"\", VLOOKUP($B562, CAD!$T$7:$U$2000, 2, FALSE))","v":""},{"$f":"IF($B562=\"\", \"\", VLOOKUP($B562, CAD!$V$7:$W$2000, 2, FALSE))","v":""}]
[null,{"$f":"IF(CAD!B560=\"\", \"\", CAD!B560)","v":""},{"$f":"IF($B563=\"\", \"\", CAD!C560)","v":""},{"$f":"IF($B563=\"\", \"\",VLOOKUP($B563, CAD!$D$7:$E$2000, 2, FALSE))","v":""},{"$f":"IF($B563=\"\", \"\",VLOOKUP($B563, CAD!$F$7:$G$2000, 2, FALSE))","v":""},{"$f":"IF($B563=\"\", \"\",VLOOKUP($B563, CAD!$H$7:$I$2000, 2, FALSE))","v":""},{"$f":"IF($B563=\"\", \"\",VLOOKUP($B563, CAD!$J$7:$K$2000, 2, FALSE))","v":""},{"$f":"IF($B563=\"\", \"\", VLOOKUP($B563, CAD!$L$7:$M$2000, 2, FALSE))","v":""},{"$f":"IF($B563=\"\", \"\", VLOOKUP($B563, CAD!$N$7:$O$2000, 2, FALSE))","v":""},{"$f":"IF($B563=\"\", \"\", VLOOKUP($B563, CAD!$P$7:$Q$2000, 2, FALSE))","v":""},{"$f":"IF($B563=\"\", \"\", VLOOKUP($B563, CAD!$R$7:$S$2000, 2, FALSE))","v":""},{"$f":"IF($B563=\"\", \"\", VLOOKUP($B563, CAD!$T$7:$U$2000, 2, FALSE))","v":""},{"$f":"IF($B563=\"\", \"\", VLOOKUP($B563, CAD!$V$7:$W$2000, 2, FALSE))","v":""}]
[null,{"$f":"IF(CAD!B561=\"\", \"\", CAD!B561)","v":""},{"$f":"IF($B564=\"\", \"\", CAD!C561)","v":""},{"$f":"IF($B564=\"\", \"\",VLOOKUP($B564, CAD!$D$7:$E$2000, 2, FALSE))","v":""},{"$f":"IF($B564=\"\", \"\",VLOOKUP($B564, CAD!$F$7:$G$2000, 2, FALSE))","v":""},{"$f":"IF($B564=\"\", \"\",VLOOKUP($B564, CAD!$H$7:$I$2000, 2, FALSE))","v":""},{"$f":"IF($B564=\"\", \"\",VLOOKUP($B564, CAD!$J$7:$K$2000, 2, FALSE))","v":""},{"$f":"IF($B564=\"\", \"\", VLOOKUP($B564, CAD!$L$7:$M$2000, 2, FALSE))","v":""},{"$f":"IF($B564=\"\", \"\", VLOOKUP($B564, CAD!$N$7:$O$2000, 2, FALSE))","v":""},{"$f":"IF($B564=\"\", \"\", VLOOKUP($B564, CAD!$P$7:$Q$2000, 2, FALSE))","v":""},{"$f":"IF($B564=\"\", \"\", VLOOKUP($B564, CAD!$R$7:$S$2000, 2, FALSE))","v":""},{"$f":"IF($B564=\"\", \"\", VLOOKUP($B564, CAD!$T$7:$U$2000, 2, FALSE))","v":""},{"$f":"IF($B564=\"\", \"\", VLOOKUP($B564, CAD!$V$7:$W$2000, 2, FALSE))","v":""}]
[null,{"$f":"IF(CAD!B562=\"\", \"\", CAD!B562)","v":""},{"$f":"IF($B565=\"\", \"\", CAD!C562)","v":""},{"$f":"IF($B565=\"\", \"\",VLOOKUP($B565, CAD!$D$7:$E$2000, 2, FALSE))","v":""},{"$f":"IF($B565=\"\", \"\",VLOOKUP($B565, CAD!$F$7:$G$2000, 2, FALSE))","v":""},{"$f":"IF($B565=\"\", \"\",VLOOKUP($B565, CAD!$H$7:$I$2000, 2, FALSE))","v":""},{"$f":"IF($B565=\"\", \"\",VLOOKUP($B565, CAD!$J$7:$K$2000, 2, FALSE))","v":""},{"$f":"IF($B565=\"\", \"\", VLOOKUP($B565, CAD!$L$7:$M$2000, 2, FALSE))","v":""},{"$f":"IF($B565=\"\", \"\", VLOOKUP($B565, CAD!$N$7:$O$2000, 2, FALSE))","v":""},{"$f":"IF($B565=\"\", \"\", VLOOKUP($B565, CAD!$P$7:$Q$2000, 2, FALSE))","v":""},{"$f":"IF($B565=\"\", \"\", VLOOKUP($B565, CAD!$R$7:$S$2000, 2, FALSE))","v":""},{"$f":"IF($B565=\"\", \"\", VLOOKUP($B565, CAD!$T$7:$U$2000, 2, FALSE))","v":""},{"$f":"IF($B565=\"\", \"\", VLOOKUP($B565, CAD!$V$7:$W$2000, 2, FALSE))","v":""}]
[null,{"$f":"IF(CAD!B563=\"\", \"\", CAD!B563)","v":""},{"$f":"IF($B566=\"\", \"\", CAD!C563)","v":""},{"$f":"IF($B566=\"\", \"\",VLOOKUP($B566, CAD!$D$7:$E$2000, 2, FALSE))","v":""},{"$f":"IF($B566=\"\", \"\",VLOOKUP($B566, CAD!$F$7:$G$2000, 2, FALSE))","v":""},{"$f":"IF($B566=\"\", \"\",VLOOKUP($B566, CAD!$H$7:$I$2000, 2, FALSE))","v":""},{"$f":"IF($B566=\"\", \"\",VLOOKUP($B566, CAD!$J$7:$K$2000, 2, FALSE))","v":""},{"$f":"IF($B566=\"\", \"\", VLOOKUP($B566, CAD!$L$7:$M$2000, 2, FALSE))","v":""},{"$f":"IF($B566=\"\", \"\", VLOOKUP($B566, CAD!$N$7:$O$2000, 2, FALSE))","v":""},{"$f":"IF($B566=\"\", \"\", VLOOKUP($B566, CAD!$P$7:$Q$2000, 2, FALSE))","v":""},{"$f":"IF($B566=\"\", \"\", VLOOKUP($B566, CAD!$R$7:$S$2000, 2, FALSE))","v":""},{"$f":"IF($B566=\"\", \"\", VLOOKUP($B566, CAD!$T$7:$U$2000, 2, FALSE))","v":""},{"$f":"IF($B566=\"\", \"\", VLOOKUP($B566, CAD!$V$7:$W$2000, 2, FALSE))","v":""}]
[null,{"$f":"IF(CAD!B564=\"\", \"\", CAD!B564)","v":""},{"$f":"IF($B567=\"\", \"\", CAD!C564)","v":""},{"$f":"IF($B567=\"\", \"\",VLOOKUP($B567, CAD!$D$7:$E$2000, 2, FALSE))","v":""},{"$f":"IF($B567=\"\", \"\",VLOOKUP($B567, CAD!$F$7:$G$2000, 2, FALSE))","v":""},{"$f":"IF($B567=\"\", \"\",VLOOKUP($B567, CAD!$H$7:$I$2000, 2, FALSE))","v":""},{"$f":"IF($B567=\"\", \"\",VLOOKUP($B567, CAD!$J$7:$K$2000, 2, FALSE))","v":""},{"$f":"IF($B567=\"\", \"\", VLOOKUP($B567, CAD!$L$7:$M$2000, 2, FALSE))","v":""},{"$f":"IF($B567=\"\", \"\", VLOOKUP($B567, CAD!$N$7:$O$2000, 2, FALSE))","v":""},{"$f":"IF($B567=\"\", \"\", VLOOKUP($B567, CAD!$P$7:$Q$2000, 2, FALSE))","v":""},{"$f":"IF($B567=\"\", \"\", VLOOKUP($B567, CAD!$R$7:$S$2000, 2, FALSE))","v":""},{"$f":"IF($B567=\"\", \"\", VLOOKUP($B567, CAD!$T$7:$U$2000, 2, FALSE))","v":""},{"$f":"IF($B567=\"\", \"\", VLOOKUP($B567, CAD!$V$7:$W$2000, 2, FALSE))","v":""}]
[null,{"$f":"IF(CAD!B565=\"\", \"\", CAD!B565)","v":""},{"$f":"IF($B568=\"\", \"\", CAD!C565)","v":""},{"$f":"IF($B568=\"\", \"\",VLOOKUP($B568, CAD!$D$7:$E$2000, 2, FALSE))","v":""},{"$f":"IF($B568=\"\", \"\",VLOOKUP($B568, CAD!$F$7:$G$2000, 2, FALSE))","v":""},{"$f":"IF($B568=\"\", \"\",VLOOKUP($B568, CAD!$H$7:$I$2000, 2, FALSE))","v":""},{"$f":"IF($B568=\"\", \"\",VLOOKUP($B568, CAD!$J$7:$K$2000, 2, FALSE))","v":""},{"$f":"IF($B568=\"\", \"\", VLOOKUP($B568, CAD!$L$7:$M$2000, 2, FALSE))","v":""},{"$f":"IF($B568=\"\", \"\", VLOOKUP($B568, CAD!$N$7:$O$2000, 2, FALSE))","v":""},{"$f":"IF($B568=\"\", \"\", VLOOKUP($B568, CAD!$P$7:$Q$2000, 2, FALSE))","v":""},{"$f":"IF($B568=\"\", \"\", VLOOKUP($B568, CAD!$R$7:$S$2000, 2, FALSE))","v":""},{"$f":"IF($B568=\"\", \"\", VLOOKUP($B568, CAD!$T$7:$U$2000, 2, FALSE))","v":""},{"$f":"IF($B568=\"\", \"\", VLOOKUP($B568, CAD!$V$7:$W$2000, 2, FALSE))","v":""}]
[null,{"$f":"IF(CAD!B566=\"\", \"\", CAD!B566)","v":""},{"$f":"IF($B569=\"\", \"\", CAD!C566)","v":""},{"$f":"IF($B569=\"\", \"\",VLOOKUP($B569, CAD!$D$7:$E$2000, 2, FALSE))","v":""},{"$f":"IF($B569=\"\", \"\",VLOOKUP($B569, CAD!$F$7:$G$2000, 2, FALSE))","v":""},{"$f":"IF($B569=\"\", \"\",VLOOKUP($B569, CAD!$H$7:$I$2000, 2, FALSE))","v":""},{"$f":"IF($B569=\"\", \"\",VLOOKUP($B569, CAD!$J$7:$K$2000, 2, FALSE))","v":""},{"$f":"IF($B569=\"\", \"\", VLOOKUP($B569, CAD!$L$7:$M$2000, 2, FALSE))","v":""},{"$f":"IF($B569=\"\", \"\", VLOOKUP($B569, CAD!$N$7:$O$2000, 2, FALSE))","v":""},{"$f":"IF($B569=\"\", \"\", VLOOKUP($B569, CAD!$P$7:$Q$2000, 2, FALSE))","v":""},{"$f":"IF($B569=\"\", \"\", VLOOKUP($B569, CAD!$R$7:$S$2000, 2, FALSE))","v":""},{"$f":"IF($B569=\"\", \"\", VLOOKUP($B569, CAD!$T$7:$U$2000, 2, FALSE))","v":""},{"$f":"IF($B569=\"\", \"\", VLOOKUP($B569, CAD!$V$7:$W$2000, 2, FALSE))","v":""}]
[null,{"$f":"IF(CAD!B567=\"\", \"\", CAD!B567)","v":""},{"$f":"IF($B570=\"\", \"\", CAD!C567)","v":""},{"$f":"IF($B570=\"\", \"\",VLOOKUP($B570, CAD!$D$7:$E$2000, 2, FALSE))","v":""},{"$f":"IF($B570=\"\", \"\",VLOOKUP($B570, CAD!$F$7:$G$2000, 2, FALSE))","v":""},{"$f":"IF($B570=\"\", \"\",VLOOKUP($B570, CAD!$H$7:$I$2000, 2, FALSE))","v":""},{"$f":"IF($B570=\"\", \"\",VLOOKUP($B570, CAD!$J$7:$K$2000, 2, FALSE))","v":""},{"$f":"IF($B570=\"\", \"\", VLOOKUP($B570, CAD!$L$7:$M$2000, 2, FALSE))","v":""},{"$f":"IF($B570=\"\", \"\", VLOOKUP($B570, CAD!$N$7:$O$2000, 2, FALSE))","v":""},{"$f":"IF($B570=\"\", \"\", VLOOKUP($B570, CAD!$P$7:$Q$2000, 2, FALSE))","v":""},{"$f":"IF($B570=\"\", \"\", VLOOKUP($B570, CAD!$R$7:$S$2000, 2, FALSE))","v":""},{"$f":"IF($B570=\"\", \"\", VLOOKUP($B570, CAD!$T$7:$U$2000, 2, FALSE))","v":""},{"$f":"IF($B570=\"\", \"\", VLOOKUP($B570, CAD!$V$7:$W$2000, 2, FALSE))","v":""}]
[null,{"$f":"IF(CAD!B568=\"\", \"\", CAD!B568)","v":""},{"$f":"IF($B571=\"\", \"\", CAD!C568)","v":""},{"$f":"IF($B571=\"\", \"\",VLOOKUP($B571, CAD!$D$7:$E$2000, 2, FALSE))","v":""},{"$f":"IF($B571=\"\", \"\",VLOOKUP($B571, CAD!$F$7:$G$2000, 2, FALSE))","v":""},{"$f":"IF($B571=\"\", \"\",VLOOKUP($B571, CAD!$H$7:$I$2000, 2, FALSE))","v":""},{"$f":"IF($B571=\"\", \"\",VLOOKUP($B571, CAD!$J$7:$K$2000, 2, FALSE))","v":""},{"$f":"IF($B571=\"\", \"\", VLOOKUP($B571, CAD!$L$7:$M$2000, 2, FALSE))","v":""},{"$f":"IF($B571=\"\", \"\", VLOOKUP($B571, CAD!$N$7:$O$2000, 2, FALSE))","v":""},{"$f":"IF($B571=\"\", \"\", VLOOKUP($B571, CAD!$P$7:$Q$2000, 2, FALSE))","v":""},{"$f":"IF($B571=\"\", \"\", VLOOKUP($B571, CAD!$R$7:$S$2000, 2, FALSE))","v":""},{"$f":"IF($B571=\"\", \"\", VLOOKUP($B571, CAD!$T$7:$U$2000, 2, FALSE))","v":""},{"$f":"IF($B571=\"\", \"\", VLOOKUP($B571, CAD!$V$7:$W$2000, 2, FALSE))","v":""}]
[null,{"$f":"IF(CAD!B569=\"\", \"\", CAD!B569)","v":""},{"$f":"IF($B572=\"\", \"\", CAD!C569)","v":""},{"$f":"IF($B572=\"\", \"\",VLOOKUP($B572, CAD!$D$7:$E$2000, 2, FALSE))","v":""},{"$f":"IF($B572=\"\", \"\",VLOOKUP($B572, CAD!$F$7:$G$2000, 2, FALSE))","v":""},{"$f":"IF($B572=\"\", \"\",VLOOKUP($B572, CAD!$H$7:$I$2000, 2, FALSE))","v":""},{"$f":"IF($B572=\"\", \"\",VLOOKUP($B572, CAD!$J$7:$K$2000, 2, FALSE))","v":""},{"$f":"IF($B572=\"\", \"\", VLOOKUP($B572, CAD!$L$7:$M$2000, 2, FALSE))","v":""},{"$f":"IF($B572=\"\", \"\", VLOOKUP($B572, CAD!$N$7:$O$2000, 2, FALSE))","v":""},{"$f":"IF($B572=\"\", \"\", VLOOKUP($B572, CAD!$P$7:$Q$2000, 2, FALSE))","v":""},{"$f":"IF($B572=\"\", \"\", VLOOKUP($B572, CAD!$R$7:$S$2000, 2, FALSE))","v":""},{"$f":"IF($B572=\"\", \"\", VLOOKUP($B572, CAD!$T$7:$U$2000, 2, FALSE))","v":""},{"$f":"IF($B572=\"\", \"\", VLOOKUP($B572, CAD!$V$7:$W$2000, 2, FALSE))","v":""}]
[null,{"$f":"IF(CAD!B570=\"\", \"\", CAD!B570)","v":""},{"$f":"IF($B573=\"\", \"\", CAD!C570)","v":""},{"$f":"IF($B573=\"\", \"\",VLOOKUP($B573, CAD!$D$7:$E$2000, 2, FALSE))","v":""},{"$f":"IF($B573=\"\", \"\",VLOOKUP($B573, CAD!$F$7:$G$2000, 2, FALSE))","v":""},{"$f":"IF($B573=\"\", \"\",VLOOKUP($B573, CAD!$H$7:$I$2000, 2, FALSE))","v":""},{"$f":"IF($B573=\"\", \"\",VLOOKUP($B573, CAD!$J$7:$K$2000, 2, FALSE))","v":""},{"$f":"IF($B573=\"\", \"\", VLOOKUP($B573, CAD!$L$7:$M$2000, 2, FALSE))","v":""},{"$f":"IF($B573=\"\", \"\", VLOOKUP($B573, CAD!$N$7:$O$2000, 2, FALSE))","v":""},{"$f":"IF($B573=\"\", \"\", VLOOKUP($B573, CAD!$P$7:$Q$2000, 2, FALSE))","v":""},{"$f":"IF($B573=\"\", \"\", VLOOKUP($B573, CAD!$R$7:$S$2000, 2, FALSE))","v":""},{"$f":"IF($B573=\"\", \"\", VLOOKUP($B573, CAD!$T$7:$U$2000, 2, FALSE))","v":""},{"$f":"IF($B573=\"\", \"\", VLOOKUP($B573, CAD!$V$7:$W$2000, 2, FALSE))","v":""}]
[null,{"$f":"IF(CAD!B571=\"\", \"\", CAD!B571)","v":""},{"$f":"IF($B574=\"\", \"\", CAD!C571)","v":""},{"$f":"IF($B574=\"\", \"\",VLOOKUP($B574, CAD!$D$7:$E$2000, 2, FALSE))","v":""},{"$f":"IF($B574=\"\", \"\",VLOOKUP($B574, CAD!$F$7:$G$2000, 2, FALSE))","v":""},{"$f":"IF($B574=\"\", \"\",VLOOKUP($B574, CAD!$H$7:$I$2000, 2, FALSE))","v":""},{"$f":"IF($B574=\"\", \"\",VLOOKUP($B574, CAD!$J$7:$K$2000, 2, FALSE))","v":""},{"$f":"IF($B574=\"\", \"\", VLOOKUP($B574, CAD!$L$7:$M$2000, 2, FALSE))","v":""},{"$f":"IF($B574=\"\", \"\", VLOOKUP($B574, CAD!$N$7:$O$2000, 2, FALSE))","v":""},{"$f":"IF($B574=\"\", \"\", VLOOKUP($B574, CAD!$P$7:$Q$2000, 2, FALSE))","v":""},{"$f":"IF($B574=\"\", \"\", VLOOKUP($B574, CAD!$R$7:$S$2000, 2, FALSE))","v":""},{"$f":"IF($B574=\"\", \"\", VLOOKUP($B574, CAD!$T$7:$U$2000, 2, FALSE))","v":""},{"$f":"IF($B574=\"\", \"\", VLOOKUP($B574, CAD!$V$7:$W$2000, 2, FALSE))","v":""}]
[null,{"$f":"IF(CAD!B572=\"\", \"\", CAD!B572)","v":""},{"$f":"IF($B575=\"\", \"\", CAD!C572)","v":""},{"$f":"IF($B575=\"\", \"\",VLOOKUP($B575, CAD!$D$7:$E$2000, 2, FALSE))","v":""},{"$f":"IF($B575=\"\", \"\",VLOOKUP($B575, CAD!$F$7:$G$2000, 2, FALSE))","v":""},{"$f":"IF($B575=\"\", \"\",VLOOKUP($B575, CAD!$H$7:$I$2000, 2, FALSE))","v":""},{"$f":"IF($B575=\"\", \"\",VLOOKUP($B575, CAD!$J$7:$K$2000, 2, FALSE))","v":""},{"$f":"IF($B575=\"\", \"\", VLOOKUP($B575, CAD!$L$7:$M$2000, 2, FALSE))","v":""},{"$f":"IF($B575=\"\", \"\", VLOOKUP($B575, CAD!$N$7:$O$2000, 2, FALSE))","v":""},{"$f":"IF($B575=\"\", \"\", VLOOKUP($B575, CAD!$P$7:$Q$2000, 2, FALSE))","v":""},{"$f":"IF($B575=\"\", \"\", VLOOKUP($B575, CAD!$R$7:$S$2000, 2, FALSE))","v":""},{"$f":"IF($B575=\"\", \"\", VLOOKUP($B575, CAD!$T$7:$U$2000, 2, FALSE))","v":""},{"$f":"IF($B575=\"\", \"\", VLOOKUP($B575, CAD!$V$7:$W$2000, 2, FALSE))","v":""}]
[null,{"$f":"IF(CAD!B573=\"\", \"\", CAD!B573)","v":""},{"$f":"IF($B576=\"\", \"\", CAD!C573)","v":""},{"$f":"IF($B576=\"\", \"\",VLOOKUP($B576, CAD!$D$7:$E$2000, 2, FALSE))","v":""},{"$f":"IF($B576=\"\", \"\",VLOOKUP($B576, CAD!$F$7:$G$2000, 2, FALSE))","v":""},{"$f":"IF($B576=\"\", \"\",VLOOKUP($B576, CAD!$H$7:$I$2000, 2, FALSE))","v":""},{"$f":"IF($B576=\"\", \"\",VLOOKUP($B576, CAD!$J$7:$K$2000, 2, FALSE))","v":""},{"$f":"IF($B576=\"\", \"\", VLOOKUP($B576, CAD!$L$7:$M$2000, 2, FALSE))","v":""},{"$f":"IF($B576=\"\", \"\", VLOOKUP($B576, CAD!$N$7:$O$2000, 2, FALSE))","v":""},{"$f":"IF($B576=\"\", \"\", VLOOKUP($B576, CAD!$P$7:$Q$2000, 2, FALSE))","v":""},{"$f":"IF($B576=\"\", \"\", VLOOKUP($B576, CAD!$R$7:$S$2000, 2, FALSE))","v":""},{"$f":"IF($B576=\"\", \"\", VLOOKUP($B576, CAD!$T$7:$U$2000, 2, FALSE))","v":""},{"$f":"IF($B576=\"\", \"\", VLOOKUP($B576, CAD!$V$7:$W$2000, 2, FALSE))","v":""}]
[null,{"$f":"IF(CAD!B574=\"\", \"\", CAD!B574)","v":""},{"$f":"IF($B577=\"\", \"\", CAD!C574)","v":""},{"$f":"IF($B577=\"\", \"\",VLOOKUP($B577, CAD!$D$7:$E$2000, 2, FALSE))","v":""},{"$f":"IF($B577=\"\", \"\",VLOOKUP($B577, CAD!$F$7:$G$2000, 2, FALSE))","v":""},{"$f":"IF($B577=\"\", \"\",VLOOKUP($B577, CAD!$H$7:$I$2000, 2, FALSE))","v":""},{"$f":"IF($B577=\"\", \"\",VLOOKUP($B577, CAD!$J$7:$K$2000, 2, FALSE))","v":""},{"$f":"IF($B577=\"\", \"\", VLOOKUP($B577, CAD!$L$7:$M$2000, 2, FALSE))","v":""},{"$f":"IF($B577=\"\", \"\", VLOOKUP($B577, CAD!$N$7:$O$2000, 2, FALSE))","v":""},{"$f":"IF($B577=\"\", \"\", VLOOKUP($B577, CAD!$P$7:$Q$2000, 2, FALSE))","v":""},{"$f":"IF($B577=\"\", \"\", VLOOKUP($B577, CAD!$R$7:$S$2000, 2, FALSE))","v":""},{"$f":"IF($B577=\"\", \"\", VLOOKUP($B577, CAD!$T$7:$U$2000, 2, FALSE))","v":""},{"$f":"IF($B577=\"\", \"\", VLOOKUP($B577, CAD!$V$7:$W$2000, 2, FALSE))","v":""}]
[null,{"$f":"IF(CAD!B575=\"\", \"\", CAD!B575)","v":""},{"$f":"IF($B578=\"\", \"\", CAD!C575)","v":""},{"$f":"IF($B578=\"\", \"\",VLOOKUP($B578, CAD!$D$7:$E$2000, 2, FALSE))","v":""},{"$f":"IF($B578=\"\", \"\",VLOOKUP($B578, CAD!$F$7:$G$2000, 2, FALSE))","v":""},{"$f":"IF($B578=\"\", \"\",VLOOKUP($B578, CAD!$H$7:$I$2000, 2, FALSE))","v":""},{"$f":"IF($B578=\"\", \"\",VLOOKUP($B578, CAD!$J$7:$K$2000, 2, FALSE))","v":""},{"$f":"IF($B578=\"\", \"\", VLOOKUP($B578, CAD!$L$7:$M$2000, 2, FALSE))","v":""},{"$f":"IF($B578=\"\", \"\", VLOOKUP($B578, CAD!$N$7:$O$2000, 2, FALSE))","v":""},{"$f":"IF($B578=\"\", \"\", VLOOKUP($B578, CAD!$P$7:$Q$2000, 2, FALSE))","v":""},{"$f":"IF($B578=\"\", \"\", VLOOKUP($B578, CAD!$R$7:$S$2000, 2, FALSE))","v":""},{"$f":"IF($B578=\"\", \"\", VLOOKUP($B578, CAD!$T$7:$U$2000, 2, FALSE))","v":""},{"$f":"IF($B578=\"\", \"\", VLOOKUP($B578, CAD!$V$7:$W$2000, 2, FALSE))","v":""}]
[null,{"$f":"IF(CAD!B576=\"\", \"\", CAD!B576)","v":""},{"$f":"IF($B579=\"\", \"\", CAD!C576)","v":""},{"$f":"IF($B579=\"\", \"\",VLOOKUP($B579, CAD!$D$7:$E$2000, 2, FALSE))","v":""},{"$f":"IF($B579=\"\", \"\",VLOOKUP($B579, CAD!$F$7:$G$2000, 2, FALSE))","v":""},{"$f":"IF($B579=\"\", \"\",VLOOKUP($B579, CAD!$H$7:$I$2000, 2, FALSE))","v":""},{"$f":"IF($B579=\"\", \"\",VLOOKUP($B579, CAD!$J$7:$K$2000, 2, FALSE))","v":""},{"$f":"IF($B579=\"\", \"\", VLOOKUP($B579, CAD!$L$7:$M$2000, 2, FALSE))","v":""},{"$f":"IF($B579=\"\", \"\", VLOOKUP($B579, CAD!$N$7:$O$2000, 2, FALSE))","v":""},{"$f":"IF($B579=\"\", \"\", VLOOKUP($B579, CAD!$P$7:$Q$2000, 2, FALSE))","v":""},{"$f":"IF($B579=\"\", \"\", VLOOKUP($B579, CAD!$R$7:$S$2000, 2, FALSE))","v":""},{"$f":"IF($B579=\"\", \"\", VLOOKUP($B579, CAD!$T$7:$U$2000, 2, FALSE))","v":""},{"$f":"IF($B579=\"\", \"\", VLOOKUP($B579, CAD!$V$7:$W$2000, 2, FALSE))","v":""}]
[null,{"$f":"IF(CAD!B577=\"\", \"\", CAD!B577)","v":""},{"$f":"IF($B580=\"\", \"\", CAD!C577)","v":""},{"$f":"IF($B580=\"\", \"\",VLOOKUP($B580, CAD!$D$7:$E$2000, 2, FALSE))","v":""},{"$f":"IF($B580=\"\", \"\",VLOOKUP($B580, CAD!$F$7:$G$2000, 2, FALSE))","v":""},{"$f":"IF($B580=\"\", \"\",VLOOKUP($B580, CAD!$H$7:$I$2000, 2, FALSE))","v":""},{"$f":"IF($B580=\"\", \"\",VLOOKUP($B580, CAD!$J$7:$K$2000, 2, FALSE))","v":""},{"$f":"IF($B580=\"\", \"\", VLOOKUP($B580, CAD!$L$7:$M$2000, 2, FALSE))","v":""},{"$f":"IF($B580=\"\", \"\", VLOOKUP($B580, CAD!$N$7:$O$2000, 2, FALSE))","v":""},{"$f":"IF($B580=\"\", \"\", VLOOKUP($B580, CAD!$P$7:$Q$2000, 2, FALSE))","v":""},{"$f":"IF($B580=\"\", \"\", VLOOKUP($B580, CAD!$R$7:$S$2000, 2, FALSE))","v":""},{"$f":"IF($B580=\"\", \"\", VLOOKUP($B580, CAD!$T$7:$U$2000, 2, FALSE))","v":""},{"$f":"IF($B580=\"\", \"\", VLOOKUP($B580, CAD!$V$7:$W$2000, 2, FALSE))","v":""}]
[null,{"$f":"IF(CAD!B578=\"\", \"\", CAD!B578)","v":""},{"$f":"IF($B581=\"\", \"\", CAD!C578)","v":""},{"$f":"IF($B581=\"\", \"\",VLOOKUP($B581, CAD!$D$7:$E$2000, 2, FALSE))","v":""},{"$f":"IF($B581=\"\", \"\",VLOOKUP($B581, CAD!$F$7:$G$2000, 2, FALSE))","v":""},{"$f":"IF($B581=\"\", \"\",VLOOKUP($B581, CAD!$H$7:$I$2000, 2, FALSE))","v":""},{"$f":"IF($B581=\"\", \"\",VLOOKUP($B581, CAD!$J$7:$K$2000, 2, FALSE))","v":""},{"$f":"IF($B581=\"\", \"\", VLOOKUP($B581, CAD!$L$7:$M$2000, 2, FALSE))","v":""},{"$f":"IF($B581=\"\", \"\", VLOOKUP($B581, CAD!$N$7:$O$2000, 2, FALSE))","v":""},{"$f":"IF($B581=\"\", \"\", VLOOKUP($B581, CAD!$P$7:$Q$2000, 2, FALSE))","v":""},{"$f":"IF($B581=\"\", \"\", VLOOKUP($B581, CAD!$R$7:$S$2000, 2, FALSE))","v":""},{"$f":"IF($B581=\"\", \"\", VLOOKUP($B581, CAD!$T$7:$U$2000, 2, FALSE))","v":""},{"$f":"IF($B581=\"\", \"\", VLOOKUP($B581, CAD!$V$7:$W$2000, 2, FALSE))","v":""}]
[null,{"$f":"IF(CAD!B579=\"\", \"\", CAD!B579)","v":""},{"$f":"IF($B582=\"\", \"\", CAD!C579)","v":""},{"$f":"IF($B582=\"\", \"\",VLOOKUP($B582, CAD!$D$7:$E$2000, 2, FALSE))","v":""},{"$f":"IF($B582=\"\", \"\",VLOOKUP($B582, CAD!$F$7:$G$2000, 2, FALSE))","v":""},{"$f":"IF($B582=\"\", \"\",VLOOKUP($B582, CAD!$H$7:$I$2000, 2, FALSE))","v":""},{"$f":"IF($B582=\"\", \"\",VLOOKUP($B582, CAD!$J$7:$K$2000, 2, FALSE))","v":""},{"$f":"IF($B582=\"\", \"\", VLOOKUP($B582, CAD!$L$7:$M$2000, 2, FALSE))","v":""},{"$f":"IF($B582=\"\", \"\", VLOOKUP($B582, CAD!$N$7:$O$2000, 2, FALSE))","v":""},{"$f":"IF($B582=\"\", \"\", VLOOKUP($B582, CAD!$P$7:$Q$2000, 2, FALSE))","v":""},{"$f":"IF($B582=\"\", \"\", VLOOKUP($B582, CAD!$R$7:$S$2000, 2, FALSE))","v":""},{"$f":"IF($B582=\"\", \"\", VLOOKUP($B582, CAD!$T$7:$U$2000, 2, FALSE))","v":""},{"$f":"IF($B582=\"\", \"\", VLOOKUP($B582, CAD!$V$7:$W$2000, 2, FALSE))","v":""}]
[null,{"$f":"IF(CAD!B580=\"\", \"\", CAD!B580)","v":""},{"$f":"IF($B583=\"\", \"\", CAD!C580)","v":""},{"$f":"IF($B583=\"\", \"\",VLOOKUP($B583, CAD!$D$7:$E$2000, 2, FALSE))","v":""},{"$f":"IF($B583=\"\", \"\",VLOOKUP($B583, CAD!$F$7:$G$2000, 2, FALSE))","v":""},{"$f":"IF($B583=\"\", \"\",VLOOKUP($B583, CAD!$H$7:$I$2000, 2, FALSE))","v":""},{"$f":"IF($B583=\"\", \"\",VLOOKUP($B583, CAD!$J$7:$K$2000, 2, FALSE))","v":""},{"$f":"IF($B583=\"\", \"\", VLOOKUP($B583, CAD!$L$7:$M$2000, 2, FALSE))","v":""},{"$f":"IF($B583=\"\", \"\", VLOOKUP($B583, CAD!$N$7:$O$2000, 2, FALSE))","v":""},{"$f":"IF($B583=\"\", \"\", VLOOKUP($B583, CAD!$P$7:$Q$2000, 2, FALSE))","v":""},{"$f":"IF($B583=\"\", \"\", VLOOKUP($B583, CAD!$R$7:$S$2000, 2, FALSE))","v":""},{"$f":"IF($B583=\"\", \"\", VLOOKUP($B583, CAD!$T$7:$U$2000, 2, FALSE))","v":""},{"$f":"IF($B583=\"\", \"\", VLOOKUP($B583, CAD!$V$7:$W$2000, 2, FALSE))","v":""}]
[null,{"$f":"IF(CAD!B581=\"\", \"\", CAD!B581)","v":""},{"$f":"IF($B584=\"\", \"\", CAD!C581)","v":""},{"$f":"IF($B584=\"\", \"\",VLOOKUP($B584, CAD!$D$7:$E$2000, 2, FALSE))","v":""},{"$f":"IF($B584=\"\", \"\",VLOOKUP($B584, CAD!$F$7:$G$2000, 2, FALSE))","v":""},{"$f":"IF($B584=\"\", \"\",VLOOKUP($B584, CAD!$H$7:$I$2000, 2, FALSE))","v":""},{"$f":"IF($B584=\"\", \"\",VLOOKUP($B584, CAD!$J$7:$K$2000, 2, FALSE))","v":""},{"$f":"IF($B584=\"\", \"\", VLOOKUP($B584, CAD!$L$7:$M$2000, 2, FALSE))","v":""},{"$f":"IF($B584=\"\", \"\", VLOOKUP($B584, CAD!$N$7:$O$2000, 2, FALSE))","v":""},{"$f":"IF($B584=\"\", \"\", VLOOKUP($B584, CAD!$P$7:$Q$2000, 2, FALSE))","v":""},{"$f":"IF($B584=\"\", \"\", VLOOKUP($B584, CAD!$R$7:$S$2000, 2, FALSE))","v":""},{"$f":"IF($B584=\"\", \"\", VLOOKUP($B584, CAD!$T$7:$U$2000, 2, FALSE))","v":""},{"$f":"IF($B584=\"\", \"\", VLOOKUP($B584, CAD!$V$7:$W$2000, 2, FALSE))","v":""}]
[null,{"$f":"IF(CAD!B582=\"\", \"\", CAD!B582)","v":""},{"$f":"IF($B585=\"\", \"\", CAD!C582)","v":""},{"$f":"IF($B585=\"\", \"\",VLOOKUP($B585, CAD!$D$7:$E$2000, 2, FALSE))","v":""},{"$f":"IF($B585=\"\", \"\",VLOOKUP($B585, CAD!$F$7:$G$2000, 2, FALSE))","v":""},{"$f":"IF($B585=\"\", \"\",VLOOKUP($B585, CAD!$H$7:$I$2000, 2, FALSE))","v":""},{"$f":"IF($B585=\"\", \"\",VLOOKUP($B585, CAD!$J$7:$K$2000, 2, FALSE))","v":""},{"$f":"IF($B585=\"\", \"\", VLOOKUP($B585, CAD!$L$7:$M$2000, 2, FALSE))","v":""},{"$f":"IF($B585=\"\", \"\", VLOOKUP($B585, CAD!$N$7:$O$2000, 2, FALSE))","v":""},{"$f":"IF($B585=\"\", \"\", VLOOKUP($B585, CAD!$P$7:$Q$2000, 2, FALSE))","v":""},{"$f":"IF($B585=\"\", \"\", VLOOKUP($B585, CAD!$R$7:$S$2000, 2, FALSE))","v":""},{"$f":"IF($B585=\"\", \"\", VLOOKUP($B585, CAD!$T$7:$U$2000, 2, FALSE))","v":""},{"$f":"IF($B585=\"\", \"\", VLOOKUP($B585, CAD!$V$7:$W$2000, 2, FALSE))","v":""}]
[null,{"$f":"IF(CAD!B583=\"\", \"\", CAD!B583)","v":""},{"$f":"IF($B586=\"\", \"\", CAD!C583)","v":""},{"$f":"IF($B586=\"\", \"\",VLOOKUP($B586, CAD!$D$7:$E$2000, 2, FALSE))","v":""},{"$f":"IF($B586=\"\", \"\",VLOOKUP($B586, CAD!$F$7:$G$2000, 2, FALSE))","v":""},{"$f":"IF($B586=\"\", \"\",VLOOKUP($B586, CAD!$H$7:$I$2000, 2, FALSE))","v":""},{"$f":"IF($B586=\"\", \"\",VLOOKUP($B586, CAD!$J$7:$K$2000, 2, FALSE))","v":""},{"$f":"IF($B586=\"\", \"\", VLOOKUP($B586, CAD!$L$7:$M$2000, 2, FALSE))","v":""},{"$f":"IF($B586=\"\", \"\", VLOOKUP($B586, CAD!$N$7:$O$2000, 2, FALSE))","v":""},{"$f":"IF($B586=\"\", \"\", VLOOKUP($B586, CAD!$P$7:$Q$2000, 2, FALSE))","v":""},{"$f":"IF($B586=\"\", \"\", VLOOKUP($B586, CAD!$R$7:$S$2000, 2, FALSE))","v":""},{"$f":"IF($B586=\"\", \"\", VLOOKUP($B586, CAD!$T$7:$U$2000, 2, FALSE))","v":""},{"$f":"IF($B586=\"\", \"\", VLOOKUP($B586, CAD!$V$7:$W$2000, 2, FALSE))","v":""}]
[null,{"$f":"IF(CAD!B584=\"\", \"\", CAD!B584)","v":""},{"$f":"IF($B587=\"\", \"\", CAD!C584)","v":""},{"$f":"IF($B587=\"\", \"\",VLOOKUP($B587, CAD!$D$7:$E$2000, 2, FALSE))","v":""},{"$f":"IF($B587=\"\", \"\",VLOOKUP($B587, CAD!$F$7:$G$2000, 2, FALSE))","v":""},{"$f":"IF($B587=\"\", \"\",VLOOKUP($B587, CAD!$H$7:$I$2000, 2, FALSE))","v":""},{"$f":"IF($B587=\"\", \"\",VLOOKUP($B587, CAD!$J$7:$K$2000, 2, FALSE))","v":""},{"$f":"IF($B587=\"\", \"\", VLOOKUP($B587, CAD!$L$7:$M$2000, 2, FALSE))","v":""},{"$f":"IF($B587=\"\", \"\", VLOOKUP($B587, CAD!$N$7:$O$2000, 2, FALSE))","v":""},{"$f":"IF($B587=\"\", \"\", VLOOKUP($B587, CAD!$P$7:$Q$2000, 2, FALSE))","v":""},{"$f":"IF($B587=\"\", \"\", VLOOKUP($B587, CAD!$R$7:$S$2000, 2, FALSE))","v":""},{"$f":"IF($B587=\"\", \"\", VLOOKUP($B587, CAD!$T$7:$U$2000, 2, FALSE))","v":""},{"$f":"IF($B587=\"\", \"\", VLOOKUP($B587, CAD!$V$7:$W$2000, 2, FALSE))","v":""}]
[null,{"$f":"IF(CAD!B585=\"\", \"\", CAD!B585)","v":""},{"$f":"IF($B588=\"\", \"\", CAD!C585)","v":""},{"$f":"IF($B588=\"\", \"\",VLOOKUP($B588, CAD!$D$7:$E$2000, 2, FALSE))","v":""},{"$f":"IF($B588=\"\", \"\",VLOOKUP($B588, CAD!$F$7:$G$2000, 2, FALSE))","v":""},{"$f":"IF($B588=\"\", \"\",VLOOKUP($B588, CAD!$H$7:$I$2000, 2, FALSE))","v":""},{"$f":"IF($B588=\"\", \"\",VLOOKUP($B588, CAD!$J$7:$K$2000, 2, FALSE))","v":""},{"$f":"IF($B588=\"\", \"\", VLOOKUP($B588, CAD!$L$7:$M$2000, 2, FALSE))","v":""},{"$f":"IF($B588=\"\", \"\", VLOOKUP($B588, CAD!$N$7:$O$2000, 2, FALSE))","v":""},{"$f":"IF($B588=\"\", \"\", VLOOKUP($B588, CAD!$P$7:$Q$2000, 2, FALSE))","v":""},{"$f":"IF($B588=\"\", \"\", VLOOKUP($B588, CAD!$R$7:$S$2000, 2, FALSE))","v":""},{"$f":"IF($B588=\"\", \"\", VLOOKUP($B588, CAD!$T$7:$U$2000, 2, FALSE))","v":""},{"$f":"IF($B588=\"\", \"\", VLOOKUP($B588, CAD!$V$7:$W$2000, 2, FALSE))","v":""}]
[null,{"$f":"IF(CAD!B586=\"\", \"\", CAD!B586)","v":""},{"$f":"IF($B589=\"\", \"\", CAD!C586)","v":""},{"$f":"IF($B589=\"\", \"\",VLOOKUP($B589, CAD!$D$7:$E$2000, 2, FALSE))","v":""},{"$f":"IF($B589=\"\", \"\",VLOOKUP($B589, CAD!$F$7:$G$2000, 2, FALSE))","v":""},{"$f":"IF($B589=\"\", \"\",VLOOKUP($B589, CAD!$H$7:$I$2000, 2, FALSE))","v":""},{"$f":"IF($B589=\"\", \"\",VLOOKUP($B589, CAD!$J$7:$K$2000, 2, FALSE))","v":""},{"$f":"IF($B589=\"\", \"\", VLOOKUP($B589, CAD!$L$7:$M$2000, 2, FALSE))","v":""},{"$f":"IF($B589=\"\", \"\", VLOOKUP($B589, CAD!$N$7:$O$2000, 2, FALSE))","v":""},{"$f":"IF($B589=\"\", \"\", VLOOKUP($B589, CAD!$P$7:$Q$2000, 2, FALSE))","v":""},{"$f":"IF($B589=\"\", \"\", VLOOKUP($B589, CAD!$R$7:$S$2000, 2, FALSE))","v":""},{"$f":"IF($B589=\"\", \"\", VLOOKUP($B589, CAD!$T$7:$U$2000, 2, FALSE))","v":""},{"$f":"IF($B589=\"\", \"\", VLOOKUP($B589, CAD!$V$7:$W$2000, 2, FALSE))","v":""}]
[null,{"$f":"IF(CAD!B587=\"\", \"\", CAD!B587)","v":""},{"$f":"IF($B590=\"\", \"\", CAD!C587)","v":""},{"$f":"IF($B590=\"\", \"\",VLOOKUP($B590, CAD!$D$7:$E$2000, 2, FALSE))","v":""},{"$f":"IF($B590=\"\", \"\",VLOOKUP($B590, CAD!$F$7:$G$2000, 2, FALSE))","v":""},{"$f":"IF($B590=\"\", \"\",VLOOKUP($B590, CAD!$H$7:$I$2000, 2, FALSE))","v":""},{"$f":"IF($B590=\"\", \"\",VLOOKUP($B590, CAD!$J$7:$K$2000, 2, FALSE))","v":""},{"$f":"IF($B590=\"\", \"\", VLOOKUP($B590, CAD!$L$7:$M$2000, 2, FALSE))","v":""},{"$f":"IF($B590=\"\", \"\", VLOOKUP($B590, CAD!$N$7:$O$2000, 2, FALSE))","v":""},{"$f":"IF($B590=\"\", \"\", VLOOKUP($B590, CAD!$P$7:$Q$2000, 2, FALSE))","v":""},{"$f":"IF($B590=\"\", \"\", VLOOKUP($B590, CAD!$R$7:$S$2000, 2, FALSE))","v":""},{"$f":"IF($B590=\"\", \"\", VLOOKUP($B590, CAD!$T$7:$U$2000, 2, FALSE))","v":""},{"$f":"IF($B590=\"\", \"\", VLOOKUP($B590, CAD!$V$7:$W$2000, 2, FALSE))","v":""}]
[null,{"$f":"IF(CAD!B588=\"\", \"\", CAD!B588)","v":""},{"$f":"IF($B591=\"\", \"\", CAD!C588)","v":""},{"$f":"IF($B591=\"\", \"\",VLOOKUP($B591, CAD!$D$7:$E$2000, 2, FALSE))","v":""},{"$f":"IF($B591=\"\", \"\",VLOOKUP($B591, CAD!$F$7:$G$2000, 2, FALSE))","v":""},{"$f":"IF($B591=\"\", \"\",VLOOKUP($B591, CAD!$H$7:$I$2000, 2, FALSE))","v":""},{"$f":"IF($B591=\"\", \"\",VLOOKUP($B591, CAD!$J$7:$K$2000, 2, FALSE))","v":""},{"$f":"IF($B591=\"\", \"\", VLOOKUP($B591, CAD!$L$7:$M$2000, 2, FALSE))","v":""},{"$f":"IF($B591=\"\", \"\", VLOOKUP($B591, CAD!$N$7:$O$2000, 2, FALSE))","v":""},{"$f":"IF($B591=\"\", \"\", VLOOKUP($B591, CAD!$P$7:$Q$2000, 2, FALSE))","v":""},{"$f":"IF($B591=\"\", \"\", VLOOKUP($B591, CAD!$R$7:$S$2000, 2, FALSE))","v":""},{"$f":"IF($B591=\"\", \"\", VLOOKUP($B591, CAD!$T$7:$U$2000, 2, FALSE))","v":""},{"$f":"IF($B591=\"\", \"\", VLOOKUP($B591, CAD!$V$7:$W$2000, 2, FALSE))","v":""}]
[null,{"$f":"IF(CAD!B589=\"\", \"\", CAD!B589)","v":""},{"$f":"IF($B592=\"\", \"\", CAD!C589)","v":""},{"$f":"IF($B592=\"\", \"\",VLOOKUP($B592, CAD!$D$7:$E$2000, 2, FALSE))","v":""},{"$f":"IF($B592=\"\", \"\",VLOOKUP($B592, CAD!$F$7:$G$2000, 2, FALSE))","v":""},{"$f":"IF($B592=\"\", \"\",VLOOKUP($B592, CAD!$H$7:$I$2000, 2, FALSE))","v":""},{"$f":"IF($B592=\"\", \"\",VLOOKUP($B592, CAD!$J$7:$K$2000, 2, FALSE))","v":""},{"$f":"IF($B592=\"\", \"\", VLOOKUP($B592, CAD!$L$7:$M$2000, 2, FALSE))","v":""},{"$f":"IF($B592=\"\", \"\", VLOOKUP($B592, CAD!$N$7:$O$2000, 2, FALSE))","v":""},{"$f":"IF($B592=\"\", \"\", VLOOKUP($B592, CAD!$P$7:$Q$2000, 2, FALSE))","v":""},{"$f":"IF($B592=\"\", \"\", VLOOKUP($B592, CAD!$R$7:$S$2000, 2, FALSE))","v":""},{"$f":"IF($B592=\"\", \"\", VLOOKUP($B592, CAD!$T$7:$U$2000, 2, FALSE))","v":""},{"$f":"IF($B592=\"\", \"\", VLOOKUP($B592, CAD!$V$7:$W$2000, 2, FALSE))","v":""}]
[null,{"$f":"IF(CAD!B590=\"\", \"\", CAD!B590)","v":""},{"$f":"IF($B593=\"\", \"\", CAD!C590)","v":""},{"$f":"IF($B593=\"\", \"\",VLOOKUP($B593, CAD!$D$7:$E$2000, 2, FALSE))","v":""},{"$f":"IF($B593=\"\", \"\",VLOOKUP($B593, CAD!$F$7:$G$2000, 2, FALSE))","v":""},{"$f":"IF($B593=\"\", \"\",VLOOKUP($B593, CAD!$H$7:$I$2000, 2, FALSE))","v":""},{"$f":"IF($B593=\"\", \"\",VLOOKUP($B593, CAD!$J$7:$K$2000, 2, FALSE))","v":""},{"$f":"IF($B593=\"\", \"\", VLOOKUP($B593, CAD!$L$7:$M$2000, 2, FALSE))","v":""},{"$f":"IF($B593=\"\", \"\", VLOOKUP($B593, CAD!$N$7:$O$2000, 2, FALSE))","v":""},{"$f":"IF($B593=\"\", \"\", VLOOKUP($B593, CAD!$P$7:$Q$2000, 2, FALSE))","v":""},{"$f":"IF($B593=\"\", \"\", VLOOKUP($B593, CAD!$R$7:$S$2000, 2, FALSE))","v":""},{"$f":"IF($B593=\"\", \"\", VLOOKUP($B593, CAD!$T$7:$U$2000, 2, FALSE))","v":""},{"$f":"IF($B593=\"\", \"\", VLOOKUP($B593, CAD!$V$7:$W$2000, 2, FALSE))","v":""}]
[null,{"$f":"IF(CAD!B591=\"\", \"\", CAD!B591)","v":""},{"$f":"IF($B594=\"\", \"\", CAD!C591)","v":""},{"$f":"IF($B594=\"\", \"\",VLOOKUP($B594, CAD!$D$7:$E$2000, 2, FALSE))","v":""},{"$f":"IF($B594=\"\", \"\",VLOOKUP($B594, CAD!$F$7:$G$2000, 2, FALSE))","v":""},{"$f":"IF($B594=\"\", \"\",VLOOKUP($B594, CAD!$H$7:$I$2000, 2, FALSE))","v":""},{"$f":"IF($B594=\"\", \"\",VLOOKUP($B594, CAD!$J$7:$K$2000, 2, FALSE))","v":""},{"$f":"IF($B594=\"\", \"\", VLOOKUP($B594, CAD!$L$7:$M$2000, 2, FALSE))","v":""},{"$f":"IF($B594=\"\", \"\", VLOOKUP($B594, CAD!$N$7:$O$2000, 2, FALSE))","v":""},{"$f":"IF($B594=\"\", \"\", VLOOKUP($B594, CAD!$P$7:$Q$2000, 2, FALSE))","v":""},{"$f":"IF($B594=\"\", \"\", VLOOKUP($B594, CAD!$R$7:$S$2000, 2, FALSE))","v":""},{"$f":"IF($B594=\"\", \"\", VLOOKUP($B594, CAD!$T$7:$U$2000, 2, FALSE))","v":""},{"$f":"IF($B594=\"\", \"\", VLOOKUP($B594, CAD!$V$7:$W$2000, 2, FALSE))","v":""}]
[null,{"$f":"IF(CAD!B592=\"\", \"\", CAD!B592)","v":""},{"$f":"IF($B595=\"\", \"\", CAD!C592)","v":""},{"$f":"IF($B595=\"\", \"\",VLOOKUP($B595, CAD!$D$7:$E$2000, 2, FALSE))","v":""},{"$f":"IF($B595=\"\", \"\",VLOOKUP($B595, CAD!$F$7:$G$2000, 2, FALSE))","v":""},{"$f":"IF($B595=\"\", \"\",VLOOKUP($B595, CAD!$H$7:$I$2000, 2, FALSE))","v":""},{"$f":"IF($B595=\"\", \"\",VLOOKUP($B595, CAD!$J$7:$K$2000, 2, FALSE))","v":""},{"$f":"IF($B595=\"\", \"\", VLOOKUP($B595, CAD!$L$7:$M$2000, 2, FALSE))","v":""},{"$f":"IF($B595=\"\", \"\", VLOOKUP($B595, CAD!$N$7:$O$2000, 2, FALSE))","v":""},{"$f":"IF($B595=\"\", \"\", VLOOKUP($B595, CAD!$P$7:$Q$2000, 2, FALSE))","v":""},{"$f":"IF($B595=\"\", \"\", VLOOKUP($B595, CAD!$R$7:$S$2000, 2, FALSE))","v":""},{"$f":"IF($B595=\"\", \"\", VLOOKUP($B595, CAD!$T$7:$U$2000, 2, FALSE))","v":""},{"$f":"IF($B595=\"\", \"\", VLOOKUP($B595, CAD!$V$7:$W$2000, 2, FALSE))","v":""}]
[null,{"$f":"IF(CAD!B593=\"\", \"\", CAD!B593)","v":""},{"$f":"IF($B596=\"\", \"\", CAD!C593)","v":""},{"$f":"IF($B596=\"\", \"\",VLOOKUP($B596, CAD!$D$7:$E$2000, 2, FALSE))","v":""},{"$f":"IF($B596=\"\", \"\",VLOOKUP($B596, CAD!$F$7:$G$2000, 2, FALSE))","v":""},{"$f":"IF($B596=\"\", \"\",VLOOKUP($B596, CAD!$H$7:$I$2000, 2, FALSE))","v":""},{"$f":"IF($B596=\"\", \"\",VLOOKUP($B596, CAD!$J$7:$K$2000, 2, FALSE))","v":""},{"$f":"IF($B596=\"\", \"\", VLOOKUP($B596, CAD!$L$7:$M$2000, 2, FALSE))","v":""},{"$f":"IF($B596=\"\", \"\", VLOOKUP($B596, CAD!$N$7:$O$2000, 2, FALSE))","v":""},{"$f":"IF($B596=\"\", \"\", VLOOKUP($B596, CAD!$P$7:$Q$2000, 2, FALSE))","v":""},{"$f":"IF($B596=\"\", \"\", VLOOKUP($B596, CAD!$R$7:$S$2000, 2, FALSE))","v":""},{"$f":"IF($B596=\"\", \"\", VLOOKUP($B596, CAD!$T$7:$U$2000, 2, FALSE))","v":""},{"$f":"IF($B596=\"\", \"\", VLOOKUP($B596, CAD!$V$7:$W$2000, 2, FALSE))","v":""}]
[null,{"$f":"IF(CAD!B594=\"\", \"\", CAD!B594)","v":""},{"$f":"IF($B597=\"\", \"\", CAD!C594)","v":""},{"$f":"IF($B597=\"\", \"\",VLOOKUP($B597, CAD!$D$7:$E$2000, 2, FALSE))","v":""},{"$f":"IF($B597=\"\", \"\",VLOOKUP($B597, CAD!$F$7:$G$2000, 2, FALSE))","v":""},{"$f":"IF($B597=\"\", \"\",VLOOKUP($B597, CAD!$H$7:$I$2000, 2, FALSE))","v":""},{"$f":"IF($B597=\"\", \"\",VLOOKUP($B597, CAD!$J$7:$K$2000, 2, FALSE))","v":""},{"$f":"IF($B597=\"\", \"\", VLOOKUP($B597, CAD!$L$7:$M$2000, 2, FALSE))","v":""},{"$f":"IF($B597=\"\", \"\", VLOOKUP($B597, CAD!$N$7:$O$2000, 2, FALSE))","v":""},{"$f":"IF($B597=\"\", \"\", VLOOKUP($B597, CAD!$P$7:$Q$2000, 2, FALSE))","v":""},{"$f":"IF($B597=\"\", \"\", VLOOKUP($B597, CAD!$R$7:$S$2000, 2, FALSE))","v":""},{"$f":"IF($B597=\"\", \"\", VLOOKUP($B597, CAD!$T$7:$U$2000, 2, FALSE))","v":""},{"$f":"IF($B597=\"\", \"\", VLOOKUP($B597, CAD!$V$7:$W$2000, 2, FALSE))","v":""}]
[null,{"$f":"IF(CAD!B595=\"\", \"\", CAD!B595)","v":""},{"$f":"IF($B598=\"\", \"\", CAD!C595)","v":""},{"$f":"IF($B598=\"\", \"\",VLOOKUP($B598, CAD!$D$7:$E$2000, 2, FALSE))","v":""},{"$f":"IF($B598=\"\", \"\",VLOOKUP($B598, CAD!$F$7:$G$2000, 2, FALSE))","v":""},{"$f":"IF($B598=\"\", \"\",VLOOKUP($B598, CAD!$H$7:$I$2000, 2, FALSE))","v":""},{"$f":"IF($B598=\"\", \"\",VLOOKUP($B598, CAD!$J$7:$K$2000, 2, FALSE))","v":""},{"$f":"IF($B598=\"\", \"\", VLOOKUP($B598, CAD!$L$7:$M$2000, 2, FALSE))","v":""},{"$f":"IF($B598=\"\", \"\", VLOOKUP($B598, CAD!$N$7:$O$2000, 2, FALSE))","v":""},{"$f":"IF($B598=\"\", \"\", VLOOKUP($B598, CAD!$P$7:$Q$2000, 2, FALSE))","v":""},{"$f":"IF($B598=\"\", \"\", VLOOKUP($B598, CAD!$R$7:$S$2000, 2, FALSE))","v":""},{"$f":"IF($B598=\"\", \"\", VLOOKUP($B598, CAD!$T$7:$U$2000, 2, FALSE))","v":""},{"$f":"IF($B598=\"\", \"\", VLOOKUP($B598, CAD!$V$7:$W$2000, 2, FALSE))","v":""}]
[null,{"$f":"IF(CAD!B596=\"\", \"\", CAD!B596)","v":""},{"$f":"IF($B599=\"\", \"\", CAD!C596)","v":""},{"$f":"IF($B599=\"\", \"\",VLOOKUP($B599, CAD!$D$7:$E$2000, 2, FALSE))","v":""},{"$f":"IF($B599=\"\", \"\",VLOOKUP($B599, CAD!$F$7:$G$2000, 2, FALSE))","v":""},{"$f":"IF($B599=\"\", \"\",VLOOKUP($B599, CAD!$H$7:$I$2000, 2, FALSE))","v":""},{"$f":"IF($B599=\"\", \"\",VLOOKUP($B599, CAD!$J$7:$K$2000, 2, FALSE))","v":""},{"$f":"IF($B599=\"\", \"\", VLOOKUP($B599, CAD!$L$7:$M$2000, 2, FALSE))","v":""},{"$f":"IF($B599=\"\", \"\", VLOOKUP($B599, CAD!$N$7:$O$2000, 2, FALSE))","v":""},{"$f":"IF($B599=\"\", \"\", VLOOKUP($B599, CAD!$P$7:$Q$2000, 2, FALSE))","v":""},{"$f":"IF($B599=\"\", \"\", VLOOKUP($B599, CAD!$R$7:$S$2000, 2, FALSE))","v":""},{"$f":"IF($B599=\"\", \"\", VLOOKUP($B599, CAD!$T$7:$U$2000, 2, FALSE))","v":""},{"$f":"IF($B599=\"\", \"\", VLOOKUP($B599, CAD!$V$7:$W$2000, 2, FALSE))","v":""}]
[null,{"$f":"IF(CAD!B597=\"\", \"\", CAD!B597)","v":""},{"$f":"IF($B600=\"\", \"\", CAD!C597)","v":""},{"$f":"IF($B600=\"\", \"\",VLOOKUP($B600, CAD!$D$7:$E$2000, 2, FALSE))","v":""},{"$f":"IF($B600=\"\", \"\",VLOOKUP($B600, CAD!$F$7:$G$2000, 2, FALSE))","v":""},{"$f":"IF($B600=\"\", \"\",VLOOKUP($B600, CAD!$H$7:$I$2000, 2, FALSE))","v":""},{"$f":"IF($B600=\"\", \"\",VLOOKUP($B600, CAD!$J$7:$K$2000, 2, FALSE))","v":""},{"$f":"IF($B600=\"\", \"\", VLOOKUP($B600, CAD!$L$7:$M$2000, 2, FALSE))","v":""},{"$f":"IF($B600=\"\", \"\", VLOOKUP($B600, CAD!$N$7:$O$2000, 2, FALSE))","v":""},{"$f":"IF($B600=\"\", \"\", VLOOKUP($B600, CAD!$P$7:$Q$2000, 2, FALSE))","v":""},{"$f":"IF($B600=\"\", \"\", VLOOKUP($B600, CAD!$R$7:$S$2000, 2, FALSE))","v":""},{"$f":"IF($B600=\"\", \"\", VLOOKUP($B600, CAD!$T$7:$U$2000, 2, FALSE))","v":""},{"$f":"IF($B600=\"\", \"\", VLOOKUP($B600, CAD!$V$7:$W$2000, 2, FALSE))","v":""}]
[null,{"$f":"IF(CAD!B598=\"\", \"\", CAD!B598)","v":""},{"$f":"IF($B601=\"\", \"\", CAD!C598)","v":""},{"$f":"IF($B601=\"\", \"\",VLOOKUP($B601, CAD!$D$7:$E$2000, 2, FALSE))","v":""},{"$f":"IF($B601=\"\", \"\",VLOOKUP($B601, CAD!$F$7:$G$2000, 2, FALSE))","v":""},{"$f":"IF($B601=\"\", \"\",VLOOKUP($B601, CAD!$H$7:$I$2000, 2, FALSE))","v":""},{"$f":"IF($B601=\"\", \"\",VLOOKUP($B601, CAD!$J$7:$K$2000, 2, FALSE))","v":""},{"$f":"IF($B601=\"\", \"\", VLOOKUP($B601, CAD!$L$7:$M$2000, 2, FALSE))","v":""},{"$f":"IF($B601=\"\", \"\", VLOOKUP($B601, CAD!$N$7:$O$2000, 2, FALSE))","v":""},{"$f":"IF($B601=\"\", \"\", VLOOKUP($B601, CAD!$P$7:$Q$2000, 2, FALSE))","v":""},{"$f":"IF($B601=\"\", \"\", VLOOKUP($B601, CAD!$R$7:$S$2000, 2, FALSE))","v":""},{"$f":"IF($B601=\"\", \"\", VLOOKUP($B601, CAD!$T$7:$U$2000, 2, FALSE))","v":""},{"$f":"IF($B601=\"\", \"\", VLOOKUP($B601, CAD!$V$7:$W$2000, 2, FALSE))","v":""}]
[null,{"$f":"IF(CAD!B599=\"\", \"\", CAD!B599)","v":""},{"$f":"IF($B602=\"\", \"\", CAD!C599)","v":""},{"$f":"IF($B602=\"\", \"\",VLOOKUP($B602, CAD!$D$7:$E$2000, 2, FALSE))","v":""},{"$f":"IF($B602=\"\", \"\",VLOOKUP($B602, CAD!$F$7:$G$2000, 2, FALSE))","v":""},{"$f":"IF($B602=\"\", \"\",VLOOKUP($B602, CAD!$H$7:$I$2000, 2, FALSE))","v":""},{"$f":"IF($B602=\"\", \"\",VLOOKUP($B602, CAD!$J$7:$K$2000, 2, FALSE))","v":""},{"$f":"IF($B602=\"\", \"\", VLOOKUP($B602, CAD!$L$7:$M$2000, 2, FALSE))","v":""},{"$f":"IF($B602=\"\", \"\", VLOOKUP($B602, CAD!$N$7:$O$2000, 2, FALSE))","v":""},{"$f":"IF($B602=\"\", \"\", VLOOKUP($B602, CAD!$P$7:$Q$2000, 2, FALSE))","v":""},{"$f":"IF($B602=\"\", \"\", VLOOKUP($B602, CAD!$R$7:$S$2000, 2, FALSE))","v":""},{"$f":"IF($B602=\"\", \"\", VLOOKUP($B602, CAD!$T$7:$U$2000, 2, FALSE))","v":""},{"$f":"IF($B602=\"\", \"\", VLOOKUP($B602, CAD!$V$7:$W$2000, 2, FALSE))","v":""}]
[null,{"$f":"IF(CAD!B600=\"\", \"\", CAD!B600)","v":""},{"$f":"IF($B603=\"\", \"\", CAD!C600)","v":""},{"$f":"IF($B603=\"\", \"\",VLOOKUP($B603, CAD!$D$7:$E$2000, 2, FALSE))","v":""},{"$f":"IF($B603=\"\", \"\",VLOOKUP($B603, CAD!$F$7:$G$2000, 2, FALSE))","v":""},{"$f":"IF($B603=\"\", \"\",VLOOKUP($B603, CAD!$H$7:$I$2000, 2, FALSE))","v":""},{"$f":"IF($B603=\"\", \"\",VLOOKUP($B603, CAD!$J$7:$K$2000, 2, FALSE))","v":""},{"$f":"IF($B603=\"\", \"\", VLOOKUP($B603, CAD!$L$7:$M$2000, 2, FALSE))","v":""},{"$f":"IF($B603=\"\", \"\", VLOOKUP($B603, CAD!$N$7:$O$2000, 2, FALSE))","v":""},{"$f":"IF($B603=\"\", \"\", VLOOKUP($B603, CAD!$P$7:$Q$2000, 2, FALSE))","v":""},{"$f":"IF($B603=\"\", \"\", VLOOKUP($B603, CAD!$R$7:$S$2000, 2, FALSE))","v":""},{"$f":"IF($B603=\"\", \"\", VLOOKUP($B603, CAD!$T$7:$U$2000, 2, FALSE))","v":""},{"$f":"IF($B603=\"\", \"\", VLOOKUP($B603, CAD!$V$7:$W$2000, 2, FALSE))","v":""}]
[null,{"$f":"IF(CAD!B601=\"\", \"\", CAD!B601)","v":""},{"$f":"IF($B604=\"\", \"\", CAD!C601)","v":""},{"$f":"IF($B604=\"\", \"\",VLOOKUP($B604, CAD!$D$7:$E$2000, 2, FALSE))","v":""},{"$f":"IF($B604=\"\", \"\",VLOOKUP($B604, CAD!$F$7:$G$2000, 2, FALSE))","v":""},{"$f":"IF($B604=\"\", \"\",VLOOKUP($B604, CAD!$H$7:$I$2000, 2, FALSE))","v":""},{"$f":"IF($B604=\"\", \"\",VLOOKUP($B604, CAD!$J$7:$K$2000, 2, FALSE))","v":""},{"$f":"IF($B604=\"\", \"\", VLOOKUP($B604, CAD!$L$7:$M$2000, 2, FALSE))","v":""},{"$f":"IF($B604=\"\", \"\", VLOOKUP($B604, CAD!$N$7:$O$2000, 2, FALSE))","v":""},{"$f":"IF($B604=\"\", \"\", VLOOKUP($B604, CAD!$P$7:$Q$2000, 2, FALSE))","v":""},{"$f":"IF($B604=\"\", \"\", VLOOKUP($B604, CAD!$R$7:$S$2000, 2, FALSE))","v":""},{"$f":"IF($B604=\"\", \"\", VLOOKUP($B604, CAD!$T$7:$U$2000, 2, FALSE))","v":""},{"$f":"IF($B604=\"\", \"\", VLOOKUP($B604, CAD!$V$7:$W$2000, 2, FALSE))","v":""}]
[null,{"$f":"IF(CAD!B602=\"\", \"\", CAD!B602)","v":""},{"$f":"IF($B605=\"\", \"\", CAD!C602)","v":""},{"$f":"IF($B605=\"\", \"\",VLOOKUP($B605, CAD!$D$7:$E$2000, 2, FALSE))","v":""},{"$f":"IF($B605=\"\", \"\",VLOOKUP($B605, CAD!$F$7:$G$2000, 2, FALSE))","v":""},{"$f":"IF($B605=\"\", \"\",VLOOKUP($B605, CAD!$H$7:$I$2000, 2, FALSE))","v":""},{"$f":"IF($B605=\"\", \"\",VLOOKUP($B605, CAD!$J$7:$K$2000, 2, FALSE))","v":""},{"$f":"IF($B605=\"\", \"\", VLOOKUP($B605, CAD!$L$7:$M$2000, 2, FALSE))","v":""},{"$f":"IF($B605=\"\", \"\", VLOOKUP($B605, CAD!$N$7:$O$2000, 2, FALSE))","v":""},{"$f":"IF($B605=\"\", \"\", VLOOKUP($B605, CAD!$P$7:$Q$2000, 2, FALSE))","v":""},{"$f":"IF($B605=\"\", \"\", VLOOKUP($B605, CAD!$R$7:$S$2000, 2, FALSE))","v":""},{"$f":"IF($B605=\"\", \"\", VLOOKUP($B605, CAD!$T$7:$U$2000, 2, FALSE))","v":""},{"$f":"IF($B605=\"\", \"\", VLOOKUP($B605, CAD!$V$7:$W$2000, 2, FALSE))","v":""}]
[null,{"$f":"IF(CAD!B603=\"\", \"\", CAD!B603)","v":""},{"$f":"IF($B606=\"\", \"\", CAD!C603)","v":""},{"$f":"IF($B606=\"\", \"\",VLOOKUP($B606, CAD!$D$7:$E$2000, 2, FALSE))","v":""},{"$f":"IF($B606=\"\", \"\",VLOOKUP($B606, CAD!$F$7:$G$2000, 2, FALSE))","v":""},{"$f":"IF($B606=\"\", \"\",VLOOKUP($B606, CAD!$H$7:$I$2000, 2, FALSE))","v":""},{"$f":"IF($B606=\"\", \"\",VLOOKUP($B606, CAD!$J$7:$K$2000, 2, FALSE))","v":""},{"$f":"IF($B606=\"\", \"\", VLOOKUP($B606, CAD!$L$7:$M$2000, 2, FALSE))","v":""},{"$f":"IF($B606=\"\", \"\", VLOOKUP($B606, CAD!$N$7:$O$2000, 2, FALSE))","v":""},{"$f":"IF($B606=\"\", \"\", VLOOKUP($B606, CAD!$P$7:$Q$2000, 2, FALSE))","v":""},{"$f":"IF($B606=\"\", \"\", VLOOKUP($B606, CAD!$R$7:$S$2000, 2, FALSE))","v":""},{"$f":"IF($B606=\"\", \"\", VLOOKUP($B606, CAD!$T$7:$U$2000, 2, FALSE))","v":""},{"$f":"IF($B606=\"\", \"\", VLOOKUP($B606, CAD!$V$7:$W$2000, 2, FALSE))","v":""}]
[null,{"$f":"IF(CAD!B604=\"\", \"\", CAD!B604)","v":""},{"$f":"IF($B607=\"\", \"\", CAD!C604)","v":""},{"$f":"IF($B607=\"\", \"\",VLOOKUP($B607, CAD!$D$7:$E$2000, 2, FALSE))","v":""},{"$f":"IF($B607=\"\", \"\",VLOOKUP($B607, CAD!$F$7:$G$2000, 2, FALSE))","v":""},{"$f":"IF($B607=\"\", \"\",VLOOKUP($B607, CAD!$H$7:$I$2000, 2, FALSE))","v":""},{"$f":"IF($B607=\"\", \"\",VLOOKUP($B607, CAD!$J$7:$K$2000, 2, FALSE))","v":""},{"$f":"IF($B607=\"\", \"\", VLOOKUP($B607, CAD!$L$7:$M$2000, 2, FALSE))","v":""},{"$f":"IF($B607=\"\", \"\", VLOOKUP($B607, CAD!$N$7:$O$2000, 2, FALSE))","v":""},{"$f":"IF($B607=\"\", \"\", VLOOKUP($B607, CAD!$P$7:$Q$2000, 2, FALSE))","v":""},{"$f":"IF($B607=\"\", \"\", VLOOKUP($B607, CAD!$R$7:$S$2000, 2, FALSE))","v":""},{"$f":"IF($B607=\"\", \"\", VLOOKUP($B607, CAD!$T$7:$U$2000, 2, FALSE))","v":""},{"$f":"IF($B607=\"\", \"\", VLOOKUP($B607, CAD!$V$7:$W$2000, 2, FALSE))","v":""}]
[null,{"$f":"IF(CAD!B605=\"\", \"\", CAD!B605)","v":""},{"$f":"IF($B608=\"\", \"\", CAD!C605)","v":""},{"$f":"IF($B608=\"\", \"\",VLOOKUP($B608, CAD!$D$7:$E$2000, 2, FALSE))","v":""},{"$f":"IF($B608=\"\", \"\",VLOOKUP($B608, CAD!$F$7:$G$2000, 2, FALSE))","v":""},{"$f":"IF($B608=\"\", \"\",VLOOKUP($B608, CAD!$H$7:$I$2000, 2, FALSE))","v":""},{"$f":"IF($B608=\"\", \"\",VLOOKUP($B608, CAD!$J$7:$K$2000, 2, FALSE))","v":""},{"$f":"IF($B608=\"\", \"\", VLOOKUP($B608, CAD!$L$7:$M$2000, 2, FALSE))","v":""},{"$f":"IF($B608=\"\", \"\", VLOOKUP($B608, CAD!$N$7:$O$2000, 2, FALSE))","v":""},{"$f":"IF($B608=\"\", \"\", VLOOKUP($B608, CAD!$P$7:$Q$2000, 2, FALSE))","v":""},{"$f":"IF($B608=\"\", \"\", VLOOKUP($B608, CAD!$R$7:$S$2000, 2, FALSE))","v":""},{"$f":"IF($B608=\"\", \"\", VLOOKUP($B608, CAD!$T$7:$U$2000, 2, FALSE))","v":""},{"$f":"IF($B608=\"\", \"\", VLOOKUP($B608, CAD!$V$7:$W$2000, 2, FALSE))","v":""}]
[null,{"$f":"IF(CAD!B606=\"\", \"\", CAD!B606)","v":""},{"$f":"IF($B609=\"\", \"\", CAD!C606)","v":""},{"$f":"IF($B609=\"\", \"\",VLOOKUP($B609, CAD!$D$7:$E$2000, 2, FALSE))","v":""},{"$f":"IF($B609=\"\", \"\",VLOOKUP($B609, CAD!$F$7:$G$2000, 2, FALSE))","v":""},{"$f":"IF($B609=\"\", \"\",VLOOKUP($B609, CAD!$H$7:$I$2000, 2, FALSE))","v":""},{"$f":"IF($B609=\"\", \"\",VLOOKUP($B609, CAD!$J$7:$K$2000, 2, FALSE))","v":""},{"$f":"IF($B609=\"\", \"\", VLOOKUP($B609, CAD!$L$7:$M$2000, 2, FALSE))","v":""},{"$f":"IF($B609=\"\", \"\", VLOOKUP($B609, CAD!$N$7:$O$2000, 2, FALSE))","v":""},{"$f":"IF($B609=\"\", \"\", VLOOKUP($B609, CAD!$P$7:$Q$2000, 2, FALSE))","v":""},{"$f":"IF($B609=\"\", \"\", VLOOKUP($B609, CAD!$R$7:$S$2000, 2, FALSE))","v":""},{"$f":"IF($B609=\"\", \"\", VLOOKUP($B609, CAD!$T$7:$U$2000, 2, FALSE))","v":""},{"$f":"IF($B609=\"\", \"\", VLOOKUP($B609, CAD!$V$7:$W$2000, 2, FALSE))","v":""}]
[null,{"$f":"IF(CAD!B607=\"\", \"\", CAD!B607)","v":""},{"$f":"IF($B610=\"\", \"\", CAD!C607)","v":""},{"$f":"IF($B610=\"\", \"\",VLOOKUP($B610, CAD!$D$7:$E$2000, 2, FALSE))","v":""},{"$f":"IF($B610=\"\", \"\",VLOOKUP($B610, CAD!$F$7:$G$2000, 2, FALSE))","v":""},{"$f":"IF($B610=\"\", \"\",VLOOKUP($B610, CAD!$H$7:$I$2000, 2, FALSE))","v":""},{"$f":"IF($B610=\"\", \"\",VLOOKUP($B610, CAD!$J$7:$K$2000, 2, FALSE))","v":""},{"$f":"IF($B610=\"\", \"\", VLOOKUP($B610, CAD!$L$7:$M$2000, 2, FALSE))","v":""},{"$f":"IF($B610=\"\", \"\", VLOOKUP($B610, CAD!$N$7:$O$2000, 2, FALSE))","v":""},{"$f":"IF($B610=\"\", \"\", VLOOKUP($B610, CAD!$P$7:$Q$2000, 2, FALSE))","v":""},{"$f":"IF($B610=\"\", \"\", VLOOKUP($B610, CAD!$R$7:$S$2000, 2, FALSE))","v":""},{"$f":"IF($B610=\"\", \"\", VLOOKUP($B610, CAD!$T$7:$U$2000, 2, FALSE))","v":""},{"$f":"IF($B610=\"\", \"\", VLOOKUP($B610, CAD!$V$7:$W$2000, 2, FALSE))","v":""}]
[null,{"$f":"IF(CAD!B608=\"\", \"\", CAD!B608)","v":""},{"$f":"IF($B611=\"\", \"\", CAD!C608)","v":""},{"$f":"IF($B611=\"\", \"\",VLOOKUP($B611, CAD!$D$7:$E$2000, 2, FALSE))","v":""},{"$f":"IF($B611=\"\", \"\",VLOOKUP($B611, CAD!$F$7:$G$2000, 2, FALSE))","v":""},{"$f":"IF($B611=\"\", \"\",VLOOKUP($B611, CAD!$H$7:$I$2000, 2, FALSE))","v":""},{"$f":"IF($B611=\"\", \"\",VLOOKUP($B611, CAD!$J$7:$K$2000, 2, FALSE))","v":""},{"$f":"IF($B611=\"\", \"\", VLOOKUP($B611, CAD!$L$7:$M$2000, 2, FALSE))","v":""},{"$f":"IF($B611=\"\", \"\", VLOOKUP($B611, CAD!$N$7:$O$2000, 2, FALSE))","v":""},{"$f":"IF($B611=\"\", \"\", VLOOKUP($B611, CAD!$P$7:$Q$2000, 2, FALSE))","v":""},{"$f":"IF($B611=\"\", \"\", VLOOKUP($B611, CAD!$R$7:$S$2000, 2, FALSE))","v":""},{"$f":"IF($B611=\"\", \"\", VLOOKUP($B611, CAD!$T$7:$U$2000, 2, FALSE))","v":""},{"$f":"IF($B611=\"\", \"\", VLOOKUP($B611, CAD!$V$7:$W$2000, 2, FALSE))","v":""}]
[null,{"$f":"IF(CAD!B609=\"\", \"\", CAD!B609)","v":""},{"$f":"IF($B612=\"\", \"\", CAD!C609)","v":""},{"$f":"IF($B612=\"\", \"\",VLOOKUP($B612, CAD!$D$7:$E$2000, 2, FALSE))","v":""},{"$f":"IF($B612=\"\", \"\",VLOOKUP($B612, CAD!$F$7:$G$2000, 2, FALSE))","v":""},{"$f":"IF($B612=\"\", \"\",VLOOKUP($B612, CAD!$H$7:$I$2000, 2, FALSE))","v":""},{"$f":"IF($B612=\"\", \"\",VLOOKUP($B612, CAD!$J$7:$K$2000, 2, FALSE))","v":""},{"$f":"IF($B612=\"\", \"\", VLOOKUP($B612, CAD!$L$7:$M$2000, 2, FALSE))","v":""},{"$f":"IF($B612=\"\", \"\", VLOOKUP($B612, CAD!$N$7:$O$2000, 2, FALSE))","v":""},{"$f":"IF($B612=\"\", \"\", VLOOKUP($B612, CAD!$P$7:$Q$2000, 2, FALSE))","v":""},{"$f":"IF($B612=\"\", \"\", VLOOKUP($B612, CAD!$R$7:$S$2000, 2, FALSE))","v":""},{"$f":"IF($B612=\"\", \"\", VLOOKUP($B612, CAD!$T$7:$U$2000, 2, FALSE))","v":""},{"$f":"IF($B612=\"\", \"\", VLOOKUP($B612, CAD!$V$7:$W$2000, 2, FALSE))","v":""}]
[null,{"$f":"IF(CAD!B610=\"\", \"\", CAD!B610)","v":""},{"$f":"IF($B613=\"\", \"\", CAD!C610)","v":""},{"$f":"IF($B613=\"\", \"\",VLOOKUP($B613, CAD!$D$7:$E$2000, 2, FALSE))","v":""},{"$f":"IF($B613=\"\", \"\",VLOOKUP($B613, CAD!$F$7:$G$2000, 2, FALSE))","v":""},{"$f":"IF($B613=\"\", \"\",VLOOKUP($B613, CAD!$H$7:$I$2000, 2, FALSE))","v":""},{"$f":"IF($B613=\"\", \"\",VLOOKUP($B613, CAD!$J$7:$K$2000, 2, FALSE))","v":""},{"$f":"IF($B613=\"\", \"\", VLOOKUP($B613, CAD!$L$7:$M$2000, 2, FALSE))","v":""},{"$f":"IF($B613=\"\", \"\", VLOOKUP($B613, CAD!$N$7:$O$2000, 2, FALSE))","v":""},{"$f":"IF($B613=\"\", \"\", VLOOKUP($B613, CAD!$P$7:$Q$2000, 2, FALSE))","v":""},{"$f":"IF($B613=\"\", \"\", VLOOKUP($B613, CAD!$R$7:$S$2000, 2, FALSE))","v":""},{"$f":"IF($B613=\"\", \"\", VLOOKUP($B613, CAD!$T$7:$U$2000, 2, FALSE))","v":""},{"$f":"IF($B613=\"\", \"\", VLOOKUP($B613, CAD!$V$7:$W$2000, 2, FALSE))","v":""}]
[null,{"$f":"IF(CAD!B611=\"\", \"\", CAD!B611)","v":""},{"$f":"IF($B614=\"\", \"\", CAD!C611)","v":""},{"$f":"IF($B614=\"\", \"\",VLOOKUP($B614, CAD!$D$7:$E$2000, 2, FALSE))","v":""},{"$f":"IF($B614=\"\", \"\",VLOOKUP($B614, CAD!$F$7:$G$2000, 2, FALSE))","v":""},{"$f":"IF($B614=\"\", \"\",VLOOKUP($B614, CAD!$H$7:$I$2000, 2, FALSE))","v":""},{"$f":"IF($B614=\"\", \"\",VLOOKUP($B614, CAD!$J$7:$K$2000, 2, FALSE))","v":""},{"$f":"IF($B614=\"\", \"\", VLOOKUP($B614, CAD!$L$7:$M$2000, 2, FALSE))","v":""},{"$f":"IF($B614=\"\", \"\", VLOOKUP($B614, CAD!$N$7:$O$2000, 2, FALSE))","v":""},{"$f":"IF($B614=\"\", \"\", VLOOKUP($B614, CAD!$P$7:$Q$2000, 2, FALSE))","v":""},{"$f":"IF($B614=\"\", \"\", VLOOKUP($B614, CAD!$R$7:$S$2000, 2, FALSE))","v":""},{"$f":"IF($B614=\"\", \"\", VLOOKUP($B614, CAD!$T$7:$U$2000, 2, FALSE))","v":""},{"$f":"IF($B614=\"\", \"\", VLOOKUP($B614, CAD!$V$7:$W$2000, 2, FALSE))","v":""}]
[null,{"$f":"IF(CAD!B612=\"\", \"\", CAD!B612)","v":""},{"$f":"IF($B615=\"\", \"\", CAD!C612)","v":""},{"$f":"IF($B615=\"\", \"\",VLOOKUP($B615, CAD!$D$7:$E$2000, 2, FALSE))","v":""},{"$f":"IF($B615=\"\", \"\",VLOOKUP($B615, CAD!$F$7:$G$2000, 2, FALSE))","v":""},{"$f":"IF($B615=\"\", \"\",VLOOKUP($B615, CAD!$H$7:$I$2000, 2, FALSE))","v":""},{"$f":"IF($B615=\"\", \"\",VLOOKUP($B615, CAD!$J$7:$K$2000, 2, FALSE))","v":""},{"$f":"IF($B615=\"\", \"\", VLOOKUP($B615, CAD!$L$7:$M$2000, 2, FALSE))","v":""},{"$f":"IF($B615=\"\", \"\", VLOOKUP($B615, CAD!$N$7:$O$2000, 2, FALSE))","v":""},{"$f":"IF($B615=\"\", \"\", VLOOKUP($B615, CAD!$P$7:$Q$2000, 2, FALSE))","v":""},{"$f":"IF($B615=\"\", \"\", VLOOKUP($B615, CAD!$R$7:$S$2000, 2, FALSE))","v":""},{"$f":"IF($B615=\"\", \"\", VLOOKUP($B615, CAD!$T$7:$U$2000, 2, FALSE))","v":""},{"$f":"IF($B615=\"\", \"\", VLOOKUP($B615, CAD!$V$7:$W$2000, 2, FALSE))","v":""}]
[null,{"$f":"IF(CAD!B613=\"\", \"\", CAD!B613)","v":""},{"$f":"IF($B616=\"\", \"\", CAD!C613)","v":""},{"$f":"IF($B616=\"\", \"\",VLOOKUP($B616, CAD!$D$7:$E$2000, 2, FALSE))","v":""},{"$f":"IF($B616=\"\", \"\",VLOOKUP($B616, CAD!$F$7:$G$2000, 2, FALSE))","v":""},{"$f":"IF($B616=\"\", \"\",VLOOKUP($B616, CAD!$H$7:$I$2000, 2, FALSE))","v":""},{"$f":"IF($B616=\"\", \"\",VLOOKUP($B616, CAD!$J$7:$K$2000, 2, FALSE))","v":""},{"$f":"IF($B616=\"\", \"\", VLOOKUP($B616, CAD!$L$7:$M$2000, 2, FALSE))","v":""},{"$f":"IF($B616=\"\", \"\", VLOOKUP($B616, CAD!$N$7:$O$2000, 2, FALSE))","v":""},{"$f":"IF($B616=\"\", \"\", VLOOKUP($B616, CAD!$P$7:$Q$2000, 2, FALSE))","v":""},{"$f":"IF($B616=\"\", \"\", VLOOKUP($B616, CAD!$R$7:$S$2000, 2, FALSE))","v":""},{"$f":"IF($B616=\"\", \"\", VLOOKUP($B616, CAD!$T$7:$U$2000, 2, FALSE))","v":""},{"$f":"IF($B616=\"\", \"\", VLOOKUP($B616, CAD!$V$7:$W$2000, 2, FALSE))","v":""}]
[null,{"$f":"IF(CAD!B614=\"\", \"\", CAD!B614)","v":""},{"$f":"IF($B617=\"\", \"\", CAD!C614)","v":""},{"$f":"IF($B617=\"\", \"\",VLOOKUP($B617, CAD!$D$7:$E$2000, 2, FALSE))","v":""},{"$f":"IF($B617=\"\", \"\",VLOOKUP($B617, CAD!$F$7:$G$2000, 2, FALSE))","v":""},{"$f":"IF($B617=\"\", \"\",VLOOKUP($B617, CAD!$H$7:$I$2000, 2, FALSE))","v":""},{"$f":"IF($B617=\"\", \"\",VLOOKUP($B617, CAD!$J$7:$K$2000, 2, FALSE))","v":""},{"$f":"IF($B617=\"\", \"\", VLOOKUP($B617, CAD!$L$7:$M$2000, 2, FALSE))","v":""},{"$f":"IF($B617=\"\", \"\", VLOOKUP($B617, CAD!$N$7:$O$2000, 2, FALSE))","v":""},{"$f":"IF($B617=\"\", \"\", VLOOKUP($B617, CAD!$P$7:$Q$2000, 2, FALSE))","v":""},{"$f":"IF($B617=\"\", \"\", VLOOKUP($B617, CAD!$R$7:$S$2000, 2, FALSE))","v":""},{"$f":"IF($B617=\"\", \"\", VLOOKUP($B617, CAD!$T$7:$U$2000, 2, FALSE))","v":""},{"$f":"IF($B617=\"\", \"\", VLOOKUP($B617, CAD!$V$7:$W$2000, 2, FALSE))","v":""}]
[null,{"$f":"IF(CAD!B615=\"\", \"\", CAD!B615)","v":""},{"$f":"IF($B618=\"\", \"\", CAD!C615)","v":""},{"$f":"IF($B618=\"\", \"\",VLOOKUP($B618, CAD!$D$7:$E$2000, 2, FALSE))","v":""},{"$f":"IF($B618=\"\", \"\",VLOOKUP($B618, CAD!$F$7:$G$2000, 2, FALSE))","v":""},{"$f":"IF($B618=\"\", \"\",VLOOKUP($B618, CAD!$H$7:$I$2000, 2, FALSE))","v":""},{"$f":"IF($B618=\"\", \"\",VLOOKUP($B618, CAD!$J$7:$K$2000, 2, FALSE))","v":""},{"$f":"IF($B618=\"\", \"\", VLOOKUP($B618, CAD!$L$7:$M$2000, 2, FALSE))","v":""},{"$f":"IF($B618=\"\", \"\", VLOOKUP($B618, CAD!$N$7:$O$2000, 2, FALSE))","v":""},{"$f":"IF($B618=\"\", \"\", VLOOKUP($B618, CAD!$P$7:$Q$2000, 2, FALSE))","v":""},{"$f":"IF($B618=\"\", \"\", VLOOKUP($B618, CAD!$R$7:$S$2000, 2, FALSE))","v":""},{"$f":"IF($B618=\"\", \"\", VLOOKUP($B618, CAD!$T$7:$U$2000, 2, FALSE))","v":""},{"$f":"IF($B618=\"\", \"\", VLOOKUP($B618, CAD!$V$7:$W$2000, 2, FALSE))","v":""}]
[null,{"$f":"IF(CAD!B616=\"\", \"\", CAD!B616)","v":""},{"$f":"IF($B619=\"\", \"\", CAD!C616)","v":""},{"$f":"IF($B619=\"\", \"\",VLOOKUP($B619, CAD!$D$7:$E$2000, 2, FALSE))","v":""},{"$f":"IF($B619=\"\", \"\",VLOOKUP($B619, CAD!$F$7:$G$2000, 2, FALSE))","v":""},{"$f":"IF($B619=\"\", \"\",VLOOKUP($B619, CAD!$H$7:$I$2000, 2, FALSE))","v":""},{"$f":"IF($B619=\"\", \"\",VLOOKUP($B619, CAD!$J$7:$K$2000, 2, FALSE))","v":""},{"$f":"IF($B619=\"\", \"\", VLOOKUP($B619, CAD!$L$7:$M$2000, 2, FALSE))","v":""},{"$f":"IF($B619=\"\", \"\", VLOOKUP($B619, CAD!$N$7:$O$2000, 2, FALSE))","v":""},{"$f":"IF($B619=\"\", \"\", VLOOKUP($B619, CAD!$P$7:$Q$2000, 2, FALSE))","v":""},{"$f":"IF($B619=\"\", \"\", VLOOKUP($B619, CAD!$R$7:$S$2000, 2, FALSE))","v":""},{"$f":"IF($B619=\"\", \"\", VLOOKUP($B619, CAD!$T$7:$U$2000, 2, FALSE))","v":""},{"$f":"IF($B619=\"\", \"\", VLOOKUP($B619, CAD!$V$7:$W$2000, 2, FALSE))","v":""}]
[null,{"$f":"IF(CAD!B617=\"\", \"\", CAD!B617)","v":""},{"$f":"IF($B620=\"\", \"\", CAD!C617)","v":""},{"$f":"IF($B620=\"\", \"\",VLOOKUP($B620, CAD!$D$7:$E$2000, 2, FALSE))","v":""},{"$f":"IF($B620=\"\", \"\",VLOOKUP($B620, CAD!$F$7:$G$2000, 2, FALSE))","v":""},{"$f":"IF($B620=\"\", \"\",VLOOKUP($B620, CAD!$H$7:$I$2000, 2, FALSE))","v":""},{"$f":"IF($B620=\"\", \"\",VLOOKUP($B620, CAD!$J$7:$K$2000, 2, FALSE))","v":""},{"$f":"IF($B620=\"\", \"\", VLOOKUP($B620, CAD!$L$7:$M$2000, 2, FALSE))","v":""},{"$f":"IF($B620=\"\", \"\", VLOOKUP($B620, CAD!$N$7:$O$2000, 2, FALSE))","v":""},{"$f":"IF($B620=\"\", \"\", VLOOKUP($B620, CAD!$P$7:$Q$2000, 2, FALSE))","v":""},{"$f":"IF($B620=\"\", \"\", VLOOKUP($B620, CAD!$R$7:$S$2000, 2, FALSE))","v":""},{"$f":"IF($B620=\"\", \"\", VLOOKUP($B620, CAD!$T$7:$U$2000, 2, FALSE))","v":""},{"$f":"IF($B620=\"\", \"\", VLOOKUP($B620, CAD!$V$7:$W$2000, 2, FALSE))","v":""}]
[null,{"$f":"IF(CAD!B618=\"\", \"\", CAD!B618)","v":""},{"$f":"IF($B621=\"\", \"\", CAD!C618)","v":""},{"$f":"IF($B621=\"\", \"\",VLOOKUP($B621, CAD!$D$7:$E$2000, 2, FALSE))","v":""},{"$f":"IF($B621=\"\", \"\",VLOOKUP($B621, CAD!$F$7:$G$2000, 2, FALSE))","v":""},{"$f":"IF($B621=\"\", \"\",VLOOKUP($B621, CAD!$H$7:$I$2000, 2, FALSE))","v":""},{"$f":"IF($B621=\"\", \"\",VLOOKUP($B621, CAD!$J$7:$K$2000, 2, FALSE))","v":""},{"$f":"IF($B621=\"\", \"\", VLOOKUP($B621, CAD!$L$7:$M$2000, 2, FALSE))","v":""},{"$f":"IF($B621=\"\", \"\", VLOOKUP($B621, CAD!$N$7:$O$2000, 2, FALSE))","v":""},{"$f":"IF($B621=\"\", \"\", VLOOKUP($B621, CAD!$P$7:$Q$2000, 2, FALSE))","v":""},{"$f":"IF($B621=\"\", \"\", VLOOKUP($B621, CAD!$R$7:$S$2000, 2, FALSE))","v":""},{"$f":"IF($B621=\"\", \"\", VLOOKUP($B621, CAD!$T$7:$U$2000, 2, FALSE))","v":""},{"$f":"IF($B621=\"\", \"\", VLOOKUP($B621, CAD!$V$7:$W$2000, 2, FALSE))","v":""}]
[null,{"$f":"IF(CAD!B619=\"\", \"\", CAD!B619)","v":""},{"$f":"IF($B622=\"\", \"\", CAD!C619)","v":""},{"$f":"IF($B622=\"\", \"\",VLOOKUP($B622, CAD!$D$7:$E$2000, 2, FALSE))","v":""},{"$f":"IF($B622=\"\", \"\",VLOOKUP($B622, CAD!$F$7:$G$2000, 2, FALSE))","v":""},{"$f":"IF($B622=\"\", \"\",VLOOKUP($B622, CAD!$H$7:$I$2000, 2, FALSE))","v":""},{"$f":"IF($B622=\"\", \"\",VLOOKUP($B622, CAD!$J$7:$K$2000, 2, FALSE))","v":""},{"$f":"IF($B622=\"\", \"\", VLOOKUP($B622, CAD!$L$7:$M$2000, 2, FALSE))","v":""},{"$f":"IF($B622=\"\", \"\", VLOOKUP($B622, CAD!$N$7:$O$2000, 2, FALSE))","v":""},{"$f":"IF($B622=\"\", \"\", VLOOKUP($B622, CAD!$P$7:$Q$2000, 2, FALSE))","v":""},{"$f":"IF($B622=\"\", \"\", VLOOKUP($B622, CAD!$R$7:$S$2000, 2, FALSE))","v":""},{"$f":"IF($B622=\"\", \"\", VLOOKUP($B622, CAD!$T$7:$U$2000, 2, FALSE))","v":""},{"$f":"IF($B622=\"\", \"\", VLOOKUP($B622, CAD!$V$7:$W$2000, 2, FALSE))","v":""}]
[null,{"$f":"IF(CAD!B620=\"\", \"\", CAD!B620)","v":""},{"$f":"IF($B623=\"\", \"\", CAD!C620)","v":""},{"$f":"IF($B623=\"\", \"\",VLOOKUP($B623, CAD!$D$7:$E$2000, 2, FALSE))","v":""},{"$f":"IF($B623=\"\", \"\",VLOOKUP($B623, CAD!$F$7:$G$2000, 2, FALSE))","v":""},{"$f":"IF($B623=\"\", \"\",VLOOKUP($B623, CAD!$H$7:$I$2000, 2, FALSE))","v":""},{"$f":"IF($B623=\"\", \"\",VLOOKUP($B623, CAD!$J$7:$K$2000, 2, FALSE))","v":""},{"$f":"IF($B623=\"\", \"\", VLOOKUP($B623, CAD!$L$7:$M$2000, 2, FALSE))","v":""},{"$f":"IF($B623=\"\", \"\", VLOOKUP($B623, CAD!$N$7:$O$2000, 2, FALSE))","v":""},{"$f":"IF($B623=\"\", \"\", VLOOKUP($B623, CAD!$P$7:$Q$2000, 2, FALSE))","v":""},{"$f":"IF($B623=\"\", \"\", VLOOKUP($B623, CAD!$R$7:$S$2000, 2, FALSE))","v":""},{"$f":"IF($B623=\"\", \"\", VLOOKUP($B623, CAD!$T$7:$U$2000, 2, FALSE))","v":""},{"$f":"IF($B623=\"\", \"\", VLOOKUP($B623, CAD!$V$7:$W$2000, 2, FALSE))","v":""}]
[null,{"$f":"IF(CAD!B621=\"\", \"\", CAD!B621)","v":""},{"$f":"IF($B624=\"\", \"\", CAD!C621)","v":""},{"$f":"IF($B624=\"\", \"\",VLOOKUP($B624, CAD!$D$7:$E$2000, 2, FALSE))","v":""},{"$f":"IF($B624=\"\", \"\",VLOOKUP($B624, CAD!$F$7:$G$2000, 2, FALSE))","v":""},{"$f":"IF($B624=\"\", \"\",VLOOKUP($B624, CAD!$H$7:$I$2000, 2, FALSE))","v":""},{"$f":"IF($B624=\"\", \"\",VLOOKUP($B624, CAD!$J$7:$K$2000, 2, FALSE))","v":""},{"$f":"IF($B624=\"\", \"\", VLOOKUP($B624, CAD!$L$7:$M$2000, 2, FALSE))","v":""},{"$f":"IF($B624=\"\", \"\", VLOOKUP($B624, CAD!$N$7:$O$2000, 2, FALSE))","v":""},{"$f":"IF($B624=\"\", \"\", VLOOKUP($B624, CAD!$P$7:$Q$2000, 2, FALSE))","v":""},{"$f":"IF($B624=\"\", \"\", VLOOKUP($B624, CAD!$R$7:$S$2000, 2, FALSE))","v":""},{"$f":"IF($B624=\"\", \"\", VLOOKUP($B624, CAD!$T$7:$U$2000, 2, FALSE))","v":""},{"$f":"IF($B624=\"\", \"\", VLOOKUP($B624, CAD!$V$7:$W$2000, 2, FALSE))","v":""}]
[null,{"$f":"IF(CAD!B622=\"\", \"\", CAD!B622)","v":""},{"$f":"IF($B625=\"\", \"\", CAD!C622)","v":""},{"$f":"IF($B625=\"\", \"\",VLOOKUP($B625, CAD!$D$7:$E$2000, 2, FALSE))","v":""},{"$f":"IF($B625=\"\", \"\",VLOOKUP($B625, CAD!$F$7:$G$2000, 2, FALSE))","v":""},{"$f":"IF($B625=\"\", \"\",VLOOKUP($B625, CAD!$H$7:$I$2000, 2, FALSE))","v":""},{"$f":"IF($B625=\"\", \"\",VLOOKUP($B625, CAD!$J$7:$K$2000, 2, FALSE))","v":""},{"$f":"IF($B625=\"\", \"\", VLOOKUP($B625, CAD!$L$7:$M$2000, 2, FALSE))","v":""},{"$f":"IF($B625=\"\", \"\", VLOOKUP($B625, CAD!$N$7:$O$2000, 2, FALSE))","v":""},{"$f":"IF($B625=\"\", \"\", VLOOKUP($B625, CAD!$P$7:$Q$2000, 2, FALSE))","v":""},{"$f":"IF($B625=\"\", \"\", VLOOKUP($B625, CAD!$R$7:$S$2000, 2, FALSE))","v":""},{"$f":"IF($B625=\"\", \"\", VLOOKUP($B625, CAD!$T$7:$U$2000, 2, FALSE))","v":""},{"$f":"IF($B625=\"\", \"\", VLOOKUP($B625, CAD!$V$7:$W$2000, 2, FALSE))","v":""}]
[null,{"$f":"IF(CAD!B623=\"\", \"\", CAD!B623)","v":""},{"$f":"IF($B626=\"\", \"\", CAD!C623)","v":""},{"$f":"IF($B626=\"\", \"\",VLOOKUP($B626, CAD!$D$7:$E$2000, 2, FALSE))","v":""},{"$f":"IF($B626=\"\", \"\",VLOOKUP($B626, CAD!$F$7:$G$2000, 2, FALSE))","v":""},{"$f":"IF($B626=\"\", \"\",VLOOKUP($B626, CAD!$H$7:$I$2000, 2, FALSE))","v":""},{"$f":"IF($B626=\"\", \"\",VLOOKUP($B626, CAD!$J$7:$K$2000, 2, FALSE))","v":""},{"$f":"IF($B626=\"\", \"\", VLOOKUP($B626, CAD!$L$7:$M$2000, 2, FALSE))","v":""},{"$f":"IF($B626=\"\", \"\", VLOOKUP($B626, CAD!$N$7:$O$2000, 2, FALSE))","v":""},{"$f":"IF($B626=\"\", \"\", VLOOKUP($B626, CAD!$P$7:$Q$2000, 2, FALSE))","v":""},{"$f":"IF($B626=\"\", \"\", VLOOKUP($B626, CAD!$R$7:$S$2000, 2, FALSE))","v":""},{"$f":"IF($B626=\"\", \"\", VLOOKUP($B626, CAD!$T$7:$U$2000, 2, FALSE))","v":""},{"$f":"IF($B626=\"\", \"\", VLOOKUP($B626, CAD!$V$7:$W$2000, 2, FALSE))","v":""}]
[null,{"$f":"IF(CAD!B624=\"\", \"\", CAD!B624)","v":""},{"$f":"IF($B627=\"\", \"\", CAD!C624)","v":""},{"$f":"IF($B627=\"\", \"\",VLOOKUP($B627, CAD!$D$7:$E$2000, 2, FALSE))","v":""},{"$f":"IF($B627=\"\", \"\",VLOOKUP($B627, CAD!$F$7:$G$2000, 2, FALSE))","v":""},{"$f":"IF($B627=\"\", \"\",VLOOKUP($B627, CAD!$H$7:$I$2000, 2, FALSE))","v":""},{"$f":"IF($B627=\"\", \"\",VLOOKUP($B627, CAD!$J$7:$K$2000, 2, FALSE))","v":""},{"$f":"IF($B627=\"\", \"\", VLOOKUP($B627, CAD!$L$7:$M$2000, 2, FALSE))","v":""},{"$f":"IF($B627=\"\", \"\", VLOOKUP($B627, CAD!$N$7:$O$2000, 2, FALSE))","v":""},{"$f":"IF($B627=\"\", \"\", VLOOKUP($B627, CAD!$P$7:$Q$2000, 2, FALSE))","v":""},{"$f":"IF($B627=\"\", \"\", VLOOKUP($B627, CAD!$R$7:$S$2000, 2, FALSE))","v":""},{"$f":"IF($B627=\"\", \"\", VLOOKUP($B627, CAD!$T$7:$U$2000, 2, FALSE))","v":""},{"$f":"IF($B627=\"\", \"\", VLOOKUP($B627, CAD!$V$7:$W$2000, 2, FALSE))","v":""}]
[null,{"$f":"IF(CAD!B625=\"\", \"\", CAD!B625)","v":""},{"$f":"IF($B628=\"\", \"\", CAD!C625)","v":""},{"$f":"IF($B628=\"\", \"\",VLOOKUP($B628, CAD!$D$7:$E$2000, 2, FALSE))","v":""},{"$f":"IF($B628=\"\", \"\",VLOOKUP($B628, CAD!$F$7:$G$2000, 2, FALSE))","v":""},{"$f":"IF($B628=\"\", \"\",VLOOKUP($B628, CAD!$H$7:$I$2000, 2, FALSE))","v":""},{"$f":"IF($B628=\"\", \"\",VLOOKUP($B628, CAD!$J$7:$K$2000, 2, FALSE))","v":""},{"$f":"IF($B628=\"\", \"\", VLOOKUP($B628, CAD!$L$7:$M$2000, 2, FALSE))","v":""},{"$f":"IF($B628=\"\", \"\", VLOOKUP($B628, CAD!$N$7:$O$2000, 2, FALSE))","v":""},{"$f":"IF($B628=\"\", \"\", VLOOKUP($B628, CAD!$P$7:$Q$2000, 2, FALSE))","v":""},{"$f":"IF($B628=\"\", \"\", VLOOKUP($B628, CAD!$R$7:$S$2000, 2, FALSE))","v":""},{"$f":"IF($B628=\"\", \"\", VLOOKUP($B628, CAD!$T$7:$U$2000, 2, FALSE))","v":""},{"$f":"IF($B628=\"\", \"\", VLOOKUP($B628, CAD!$V$7:$W$2000, 2, FALSE))","v":""}]
[null,{"$f":"IF(CAD!B626=\"\", \"\", CAD!B626)","v":""},{"$f":"IF($B629=\"\", \"\", CAD!C626)","v":""},{"$f":"IF($B629=\"\", \"\",VLOOKUP($B629, CAD!$D$7:$E$2000, 2, FALSE))","v":""},{"$f":"IF($B629=\"\", \"\",VLOOKUP($B629, CAD!$F$7:$G$2000, 2, FALSE))","v":""},{"$f":"IF($B629=\"\", \"\",VLOOKUP($B629, CAD!$H$7:$I$2000, 2, FALSE))","v":""},{"$f":"IF($B629=\"\", \"\",VLOOKUP($B629, CAD!$J$7:$K$2000, 2, FALSE))","v":""},{"$f":"IF($B629=\"\", \"\", VLOOKUP($B629, CAD!$L$7:$M$2000, 2, FALSE))","v":""},{"$f":"IF($B629=\"\", \"\", VLOOKUP($B629, CAD!$N$7:$O$2000, 2, FALSE))","v":""},{"$f":"IF($B629=\"\", \"\", VLOOKUP($B629, CAD!$P$7:$Q$2000, 2, FALSE))","v":""},{"$f":"IF($B629=\"\", \"\", VLOOKUP($B629, CAD!$R$7:$S$2000, 2, FALSE))","v":""},{"$f":"IF($B629=\"\", \"\", VLOOKUP($B629, CAD!$T$7:$U$2000, 2, FALSE))","v":""},{"$f":"IF($B629=\"\", \"\", VLOOKUP($B629, CAD!$V$7:$W$2000, 2, FALSE))","v":""}]
[null,{"$f":"IF(CAD!B627=\"\", \"\", CAD!B627)","v":""},{"$f":"IF($B630=\"\", \"\", CAD!C627)","v":""},{"$f":"IF($B630=\"\", \"\",VLOOKUP($B630, CAD!$D$7:$E$2000, 2, FALSE))","v":""},{"$f":"IF($B630=\"\", \"\",VLOOKUP($B630, CAD!$F$7:$G$2000, 2, FALSE))","v":""},{"$f":"IF($B630=\"\", \"\",VLOOKUP($B630, CAD!$H$7:$I$2000, 2, FALSE))","v":""},{"$f":"IF($B630=\"\", \"\",VLOOKUP($B630, CAD!$J$7:$K$2000, 2, FALSE))","v":""},{"$f":"IF($B630=\"\", \"\", VLOOKUP($B630, CAD!$L$7:$M$2000, 2, FALSE))","v":""},{"$f":"IF($B630=\"\", \"\", VLOOKUP($B630, CAD!$N$7:$O$2000, 2, FALSE))","v":""},{"$f":"IF($B630=\"\", \"\", VLOOKUP($B630, CAD!$P$7:$Q$2000, 2, FALSE))","v":""},{"$f":"IF($B630=\"\", \"\", VLOOKUP($B630, CAD!$R$7:$S$2000, 2, FALSE))","v":""},{"$f":"IF($B630=\"\", \"\", VLOOKUP($B630, CAD!$T$7:$U$2000, 2, FALSE))","v":""},{"$f":"IF($B630=\"\", \"\", VLOOKUP($B630, CAD!$V$7:$W$2000, 2, FALSE))","v":""}]
[null,{"$f":"IF(CAD!B628=\"\", \"\", CAD!B628)","v":""},{"$f":"IF($B631=\"\", \"\", CAD!C628)","v":""},{"$f":"IF($B631=\"\", \"\",VLOOKUP($B631, CAD!$D$7:$E$2000, 2, FALSE))","v":""},{"$f":"IF($B631=\"\", \"\",VLOOKUP($B631, CAD!$F$7:$G$2000, 2, FALSE))","v":""},{"$f":"IF($B631=\"\", \"\",VLOOKUP($B631, CAD!$H$7:$I$2000, 2, FALSE))","v":""},{"$f":"IF($B631=\"\", \"\",VLOOKUP($B631, CAD!$J$7:$K$2000, 2, FALSE))","v":""},{"$f":"IF($B631=\"\", \"\", VLOOKUP($B631, CAD!$L$7:$M$2000, 2, FALSE))","v":""},{"$f":"IF($B631=\"\", \"\", VLOOKUP($B631, CAD!$N$7:$O$2000, 2, FALSE))","v":""},{"$f":"IF($B631=\"\", \"\", VLOOKUP($B631, CAD!$P$7:$Q$2000, 2, FALSE))","v":""},{"$f":"IF($B631=\"\", \"\", VLOOKUP($B631, CAD!$R$7:$S$2000, 2, FALSE))","v":""},{"$f":"IF($B631=\"\", \"\", VLOOKUP($B631, CAD!$T$7:$U$2000, 2, FALSE))","v":""},{"$f":"IF($B631=\"\", \"\", VLOOKUP($B631, CAD!$V$7:$W$2000, 2, FALSE))","v":""}]
[null,{"$f":"IF(CAD!B629=\"\", \"\", CAD!B629)","v":""},{"$f":"IF($B632=\"\", \"\", CAD!C629)","v":""},{"$f":"IF($B632=\"\", \"\",VLOOKUP($B632, CAD!$D$7:$E$2000, 2, FALSE))","v":""},{"$f":"IF($B632=\"\", \"\",VLOOKUP($B632, CAD!$F$7:$G$2000, 2, FALSE))","v":""},{"$f":"IF($B632=\"\", \"\",VLOOKUP($B632, CAD!$H$7:$I$2000, 2, FALSE))","v":""},{"$f":"IF($B632=\"\", \"\",VLOOKUP($B632, CAD!$J$7:$K$2000, 2, FALSE))","v":""},{"$f":"IF($B632=\"\", \"\", VLOOKUP($B632, CAD!$L$7:$M$2000, 2, FALSE))","v":""},{"$f":"IF($B632=\"\", \"\", VLOOKUP($B632, CAD!$N$7:$O$2000, 2, FALSE))","v":""},{"$f":"IF($B632=\"\", \"\", VLOOKUP($B632, CAD!$P$7:$Q$2000, 2, FALSE))","v":""},{"$f":"IF($B632=\"\", \"\", VLOOKUP($B632, CAD!$R$7:$S$2000, 2, FALSE))","v":""},{"$f":"IF($B632=\"\", \"\", VLOOKUP($B632, CAD!$T$7:$U$2000, 2, FALSE))","v":""},{"$f":"IF($B632=\"\", \"\", VLOOKUP($B632, CAD!$V$7:$W$2000, 2, FALSE))","v":""}]
[null,{"$f":"IF(CAD!B630=\"\", \"\", CAD!B630)","v":""},{"$f":"IF($B633=\"\", \"\", CAD!C630)","v":""},{"$f":"IF($B633=\"\", \"\",VLOOKUP($B633, CAD!$D$7:$E$2000, 2, FALSE))","v":""},{"$f":"IF($B633=\"\", \"\",VLOOKUP($B633, CAD!$F$7:$G$2000, 2, FALSE))","v":""},{"$f":"IF($B633=\"\", \"\",VLOOKUP($B633, CAD!$H$7:$I$2000, 2, FALSE))","v":""},{"$f":"IF($B633=\"\", \"\",VLOOKUP($B633, CAD!$J$7:$K$2000, 2, FALSE))","v":""},{"$f":"IF($B633=\"\", \"\", VLOOKUP($B633, CAD!$L$7:$M$2000, 2, FALSE))","v":""},{"$f":"IF($B633=\"\", \"\", VLOOKUP($B633, CAD!$N$7:$O$2000, 2, FALSE))","v":""},{"$f":"IF($B633=\"\", \"\", VLOOKUP($B633, CAD!$P$7:$Q$2000, 2, FALSE))","v":""},{"$f":"IF($B633=\"\", \"\", VLOOKUP($B633, CAD!$R$7:$S$2000, 2, FALSE))","v":""},{"$f":"IF($B633=\"\", \"\", VLOOKUP($B633, CAD!$T$7:$U$2000, 2, FALSE))","v":""},{"$f":"IF($B633=\"\", \"\", VLOOKUP($B633, CAD!$V$7:$W$2000, 2, FALSE))","v":""}]
[null,{"$f":"IF(CAD!B631=\"\", \"\", CAD!B631)","v":""},{"$f":"IF($B634=\"\", \"\", CAD!C631)","v":""},{"$f":"IF($B634=\"\", \"\",VLOOKUP($B634, CAD!$D$7:$E$2000, 2, FALSE))","v":""},{"$f":"IF($B634=\"\", \"\",VLOOKUP($B634, CAD!$F$7:$G$2000, 2, FALSE))","v":""},{"$f":"IF($B634=\"\", \"\",VLOOKUP($B634, CAD!$H$7:$I$2000, 2, FALSE))","v":""},{"$f":"IF($B634=\"\", \"\",VLOOKUP($B634, CAD!$J$7:$K$2000, 2, FALSE))","v":""},{"$f":"IF($B634=\"\", \"\", VLOOKUP($B634, CAD!$L$7:$M$2000, 2, FALSE))","v":""},{"$f":"IF($B634=\"\", \"\", VLOOKUP($B634, CAD!$N$7:$O$2000, 2, FALSE))","v":""},{"$f":"IF($B634=\"\", \"\", VLOOKUP($B634, CAD!$P$7:$Q$2000, 2, FALSE))","v":""},{"$f":"IF($B634=\"\", \"\", VLOOKUP($B634, CAD!$R$7:$S$2000, 2, FALSE))","v":""},{"$f":"IF($B634=\"\", \"\", VLOOKUP($B634, CAD!$T$7:$U$2000, 2, FALSE))","v":""},{"$f":"IF($B634=\"\", \"\", VLOOKUP($B634, CAD!$V$7:$W$2000, 2, FALSE))","v":""}]
[null,{"$f":"IF(CAD!B632=\"\", \"\", CAD!B632)","v":""},{"$f":"IF($B635=\"\", \"\", CAD!C632)","v":""},{"$f":"IF($B635=\"\", \"\",VLOOKUP($B635, CAD!$D$7:$E$2000, 2, FALSE))","v":""},{"$f":"IF($B635=\"\", \"\",VLOOKUP($B635, CAD!$F$7:$G$2000, 2, FALSE))","v":""},{"$f":"IF($B635=\"\", \"\",VLOOKUP($B635, CAD!$H$7:$I$2000, 2, FALSE))","v":""},{"$f":"IF($B635=\"\", \"\",VLOOKUP($B635, CAD!$J$7:$K$2000, 2, FALSE))","v":""},{"$f":"IF($B635=\"\", \"\", VLOOKUP($B635, CAD!$L$7:$M$2000, 2, FALSE))","v":""},{"$f":"IF($B635=\"\", \"\", VLOOKUP($B635, CAD!$N$7:$O$2000, 2, FALSE))","v":""},{"$f":"IF($B635=\"\", \"\", VLOOKUP($B635, CAD!$P$7:$Q$2000, 2, FALSE))","v":""},{"$f":"IF($B635=\"\", \"\", VLOOKUP($B635, CAD!$R$7:$S$2000, 2, FALSE))","v":""},{"$f":"IF($B635=\"\", \"\", VLOOKUP($B635, CAD!$T$7:$U$2000, 2, FALSE))","v":""},{"$f":"IF($B635=\"\", \"\", VLOOKUP($B635, CAD!$V$7:$W$2000, 2, FALSE))","v":""}]
[null,{"$f":"IF(CAD!B633=\"\", \"\", CAD!B633)","v":""},{"$f":"IF($B636=\"\", \"\", CAD!C633)","v":""},{"$f":"IF($B636=\"\", \"\",VLOOKUP($B636, CAD!$D$7:$E$2000, 2, FALSE))","v":""},{"$f":"IF($B636=\"\", \"\",VLOOKUP($B636, CAD!$F$7:$G$2000, 2, FALSE))","v":""},{"$f":"IF($B636=\"\", \"\",VLOOKUP($B636, CAD!$H$7:$I$2000, 2, FALSE))","v":""},{"$f":"IF($B636=\"\", \"\",VLOOKUP($B636, CAD!$J$7:$K$2000, 2, FALSE))","v":""},{"$f":"IF($B636=\"\", \"\", VLOOKUP($B636, CAD!$L$7:$M$2000, 2, FALSE))","v":""},{"$f":"IF($B636=\"\", \"\", VLOOKUP($B636, CAD!$N$7:$O$2000, 2, FALSE))","v":""},{"$f":"IF($B636=\"\", \"\", VLOOKUP($B636, CAD!$P$7:$Q$2000, 2, FALSE))","v":""},{"$f":"IF($B636=\"\", \"\", VLOOKUP($B636, CAD!$R$7:$S$2000, 2, FALSE))","v":""},{"$f":"IF($B636=\"\", \"\", VLOOKUP($B636, CAD!$T$7:$U$2000, 2, FALSE))","v":""},{"$f":"IF($B636=\"\", \"\", VLOOKUP($B636, CAD!$V$7:$W$2000, 2, FALSE))","v":""}]
[null,{"$f":"IF(CAD!B634=\"\", \"\", CAD!B634)","v":""},{"$f":"IF($B637=\"\", \"\", CAD!C634)","v":""},{"$f":"IF($B637=\"\", \"\",VLOOKUP($B637, CAD!$D$7:$E$2000, 2, FALSE))","v":""},{"$f":"IF($B637=\"\", \"\",VLOOKUP($B637, CAD!$F$7:$G$2000, 2, FALSE))","v":""},{"$f":"IF($B637=\"\", \"\",VLOOKUP($B637, CAD!$H$7:$I$2000, 2, FALSE))","v":""},{"$f":"IF($B637=\"\", \"\",VLOOKUP($B637, CAD!$J$7:$K$2000, 2, FALSE))","v":""},{"$f":"IF($B637=\"\", \"\", VLOOKUP($B637, CAD!$L$7:$M$2000, 2, FALSE))","v":""},{"$f":"IF($B637=\"\", \"\", VLOOKUP($B637, CAD!$N$7:$O$2000, 2, FALSE))","v":""},{"$f":"IF($B637=\"\", \"\", VLOOKUP($B637, CAD!$P$7:$Q$2000, 2, FALSE))","v":""},{"$f":"IF($B637=\"\", \"\", VLOOKUP($B637, CAD!$R$7:$S$2000, 2, FALSE))","v":""},{"$f":"IF($B637=\"\", \"\", VLOOKUP($B637, CAD!$T$7:$U$2000, 2, FALSE))","v":""},{"$f":"IF($B637=\"\", \"\", VLOOKUP($B637, CAD!$V$7:$W$2000, 2, FALSE))","v":""}]
[null,{"$f":"IF(CAD!B635=\"\", \"\", CAD!B635)","v":""},{"$f":"IF($B638=\"\", \"\", CAD!C635)","v":""},{"$f":"IF($B638=\"\", \"\",VLOOKUP($B638, CAD!$D$7:$E$2000, 2, FALSE))","v":""},{"$f":"IF($B638=\"\", \"\",VLOOKUP($B638, CAD!$F$7:$G$2000, 2, FALSE))","v":""},{"$f":"IF($B638=\"\", \"\",VLOOKUP($B638, CAD!$H$7:$I$2000, 2, FALSE))","v":""},{"$f":"IF($B638=\"\", \"\",VLOOKUP($B638, CAD!$J$7:$K$2000, 2, FALSE))","v":""},{"$f":"IF($B638=\"\", \"\", VLOOKUP($B638, CAD!$L$7:$M$2000, 2, FALSE))","v":""},{"$f":"IF($B638=\"\", \"\", VLOOKUP($B638, CAD!$N$7:$O$2000, 2, FALSE))","v":""},{"$f":"IF($B638=\"\", \"\", VLOOKUP($B638, CAD!$P$7:$Q$2000, 2, FALSE))","v":""},{"$f":"IF($B638=\"\", \"\", VLOOKUP($B638, CAD!$R$7:$S$2000, 2, FALSE))","v":""},{"$f":"IF($B638=\"\", \"\", VLOOKUP($B638, CAD!$T$7:$U$2000, 2, FALSE))","v":""},{"$f":"IF($B638=\"\", \"\", VLOOKUP($B638, CAD!$V$7:$W$2000, 2, FALSE))","v":""}]
[null,{"$f":"IF(CAD!B636=\"\", \"\", CAD!B636)","v":""},{"$f":"IF($B639=\"\", \"\", CAD!C636)","v":""},{"$f":"IF($B639=\"\", \"\",VLOOKUP($B639, CAD!$D$7:$E$2000, 2, FALSE))","v":""},{"$f":"IF($B639=\"\", \"\",VLOOKUP($B639, CAD!$F$7:$G$2000, 2, FALSE))","v":""},{"$f":"IF($B639=\"\", \"\",VLOOKUP($B639, CAD!$H$7:$I$2000, 2, FALSE))","v":""},{"$f":"IF($B639=\"\", \"\",VLOOKUP($B639, CAD!$J$7:$K$2000, 2, FALSE))","v":""},{"$f":"IF($B639=\"\", \"\", VLOOKUP($B639, CAD!$L$7:$M$2000, 2, FALSE))","v":""},{"$f":"IF($B639=\"\", \"\", VLOOKUP($B639, CAD!$N$7:$O$2000, 2, FALSE))","v":""},{"$f":"IF($B639=\"\", \"\", VLOOKUP($B639, CAD!$P$7:$Q$2000, 2, FALSE))","v":""},{"$f":"IF($B639=\"\", \"\", VLOOKUP($B639, CAD!$R$7:$S$2000, 2, FALSE))","v":""},{"$f":"IF($B639=\"\", \"\", VLOOKUP($B639, CAD!$T$7:$U$2000, 2, FALSE))","v":""},{"$f":"IF($B639=\"\", \"\", VLOOKUP($B639, CAD!$V$7:$W$2000, 2, FALSE))","v":""}]
[null,{"$f":"IF(CAD!B637=\"\", \"\", CAD!B637)","v":""},{"$f":"IF($B640=\"\", \"\", CAD!C637)","v":""},{"$f":"IF($B640=\"\", \"\",VLOOKUP($B640, CAD!$D$7:$E$2000, 2, FALSE))","v":""},{"$f":"IF($B640=\"\", \"\",VLOOKUP($B640, CAD!$F$7:$G$2000, 2, FALSE))","v":""},{"$f":"IF($B640=\"\", \"\",VLOOKUP($B640, CAD!$H$7:$I$2000, 2, FALSE))","v":""},{"$f":"IF($B640=\"\", \"\",VLOOKUP($B640, CAD!$J$7:$K$2000, 2, FALSE))","v":""},{"$f":"IF($B640=\"\", \"\", VLOOKUP($B640, CAD!$L$7:$M$2000, 2, FALSE))","v":""},{"$f":"IF($B640=\"\", \"\", VLOOKUP($B640, CAD!$N$7:$O$2000, 2, FALSE))","v":""},{"$f":"IF($B640=\"\", \"\", VLOOKUP($B640, CAD!$P$7:$Q$2000, 2, FALSE))","v":""},{"$f":"IF($B640=\"\", \"\", VLOOKUP($B640, CAD!$R$7:$S$2000, 2, FALSE))","v":""},{"$f":"IF($B640=\"\", \"\", VLOOKUP($B640, CAD!$T$7:$U$2000, 2, FALSE))","v":""},{"$f":"IF($B640=\"\", \"\", VLOOKUP($B640, CAD!$V$7:$W$2000, 2, FALSE))","v":""}]
[null,{"$f":"IF(CAD!B638=\"\", \"\", CAD!B638)","v":""},{"$f":"IF($B641=\"\", \"\", CAD!C638)","v":""},{"$f":"IF($B641=\"\", \"\",VLOOKUP($B641, CAD!$D$7:$E$2000, 2, FALSE))","v":""},{"$f":"IF($B641=\"\", \"\",VLOOKUP($B641, CAD!$F$7:$G$2000, 2, FALSE))","v":""},{"$f":"IF($B641=\"\", \"\",VLOOKUP($B641, CAD!$H$7:$I$2000, 2, FALSE))","v":""},{"$f":"IF($B641=\"\", \"\",VLOOKUP($B641, CAD!$J$7:$K$2000, 2, FALSE))","v":""},{"$f":"IF($B641=\"\", \"\", VLOOKUP($B641, CAD!$L$7:$M$2000, 2, FALSE))","v":""},{"$f":"IF($B641=\"\", \"\", VLOOKUP($B641, CAD!$N$7:$O$2000, 2, FALSE))","v":""},{"$f":"IF($B641=\"\", \"\", VLOOKUP($B641, CAD!$P$7:$Q$2000, 2, FALSE))","v":""},{"$f":"IF($B641=\"\", \"\", VLOOKUP($B641, CAD!$R$7:$S$2000, 2, FALSE))","v":""},{"$f":"IF($B641=\"\", \"\", VLOOKUP($B641, CAD!$T$7:$U$2000, 2, FALSE))","v":""},{"$f":"IF($B641=\"\", \"\", VLOOKUP($B641, CAD!$V$7:$W$2000, 2, FALSE))","v":""}]
[null,{"$f":"IF(CAD!B639=\"\", \"\", CAD!B639)","v":""},{"$f":"IF($B642=\"\", \"\", CAD!C639)","v":""},{"$f":"IF($B642=\"\", \"\",VLOOKUP($B642, CAD!$D$7:$E$2000, 2, FALSE))","v":""},{"$f":"IF($B642=\"\", \"\",VLOOKUP($B642, CAD!$F$7:$G$2000, 2, FALSE))","v":""},{"$f":"IF($B642=\"\", \"\",VLOOKUP($B642, CAD!$H$7:$I$2000, 2, FALSE))","v":""},{"$f":"IF($B642=\"\", \"\",VLOOKUP($B642, CAD!$J$7:$K$2000, 2, FALSE))","v":""},{"$f":"IF($B642=\"\", \"\", VLOOKUP($B642, CAD!$L$7:$M$2000, 2, FALSE))","v":""},{"$f":"IF($B642=\"\", \"\", VLOOKUP($B642, CAD!$N$7:$O$2000, 2, FALSE))","v":""},{"$f":"IF($B642=\"\", \"\", VLOOKUP($B642, CAD!$P$7:$Q$2000, 2, FALSE))","v":""},{"$f":"IF($B642=\"\", \"\", VLOOKUP($B642, CAD!$R$7:$S$2000, 2, FALSE))","v":""},{"$f":"IF($B642=\"\", \"\", VLOOKUP($B642, CAD!$T$7:$U$2000, 2, FALSE))","v":""},{"$f":"IF($B642=\"\", \"\", VLOOKUP($B642, CAD!$V$7:$W$2000, 2, FALSE))","v":""}]
[null,{"$f":"IF(CAD!B640=\"\", \"\", CAD!B640)","v":""},{"$f":"IF($B643=\"\", \"\", CAD!C640)","v":""},{"$f":"IF($B643=\"\", \"\",VLOOKUP($B643, CAD!$D$7:$E$2000, 2, FALSE))","v":""},{"$f":"IF($B643=\"\", \"\",VLOOKUP($B643, CAD!$F$7:$G$2000, 2, FALSE))","v":""},{"$f":"IF($B643=\"\", \"\",VLOOKUP($B643, CAD!$H$7:$I$2000, 2, FALSE))","v":""},{"$f":"IF($B643=\"\", \"\",VLOOKUP($B643, CAD!$J$7:$K$2000, 2, FALSE))","v":""},{"$f":"IF($B643=\"\", \"\", VLOOKUP($B643, CAD!$L$7:$M$2000, 2, FALSE))","v":""},{"$f":"IF($B643=\"\", \"\", VLOOKUP($B643, CAD!$N$7:$O$2000, 2, FALSE))","v":""},{"$f":"IF($B643=\"\", \"\", VLOOKUP($B643, CAD!$P$7:$Q$2000, 2, FALSE))","v":""},{"$f":"IF($B643=\"\", \"\", VLOOKUP($B643, CAD!$R$7:$S$2000, 2, FALSE))","v":""},{"$f":"IF($B643=\"\", \"\", VLOOKUP($B643, CAD!$T$7:$U$2000, 2, FALSE))","v":""},{"$f":"IF($B643=\"\", \"\", VLOOKUP($B643, CAD!$V$7:$W$2000, 2, FALSE))","v":""}]
[null,{"$f":"IF(CAD!B641=\"\", \"\", CAD!B641)","v":""},{"$f":"IF($B644=\"\", \"\", CAD!C641)","v":""},{"$f":"IF($B644=\"\", \"\",VLOOKUP($B644, CAD!$D$7:$E$2000, 2, FALSE))","v":""},{"$f":"IF($B644=\"\", \"\",VLOOKUP($B644, CAD!$F$7:$G$2000, 2, FALSE))","v":""},{"$f":"IF($B644=\"\", \"\",VLOOKUP($B644, CAD!$H$7:$I$2000, 2, FALSE))","v":""},{"$f":"IF($B644=\"\", \"\",VLOOKUP($B644, CAD!$J$7:$K$2000, 2, FALSE))","v":""},{"$f":"IF($B644=\"\", \"\", VLOOKUP($B644, CAD!$L$7:$M$2000, 2, FALSE))","v":""},{"$f":"IF($B644=\"\", \"\", VLOOKUP($B644, CAD!$N$7:$O$2000, 2, FALSE))","v":""},{"$f":"IF($B644=\"\", \"\", VLOOKUP($B644, CAD!$P$7:$Q$2000, 2, FALSE))","v":""},{"$f":"IF($B644=\"\", \"\", VLOOKUP($B644, CAD!$R$7:$S$2000, 2, FALSE))","v":""},{"$f":"IF($B644=\"\", \"\", VLOOKUP($B644, CAD!$T$7:$U$2000, 2, FALSE))","v":""},{"$f":"IF($B644=\"\", \"\", VLOOKUP($B644, CAD!$V$7:$W$2000, 2, FALSE))","v":""}]
[null,{"$f":"IF(CAD!B642=\"\", \"\", CAD!B642)","v":""},{"$f":"IF($B645=\"\", \"\", CAD!C642)","v":""},{"$f":"IF($B645=\"\", \"\",VLOOKUP($B645, CAD!$D$7:$E$2000, 2, FALSE))","v":""},{"$f":"IF($B645=\"\", \"\",VLOOKUP($B645, CAD!$F$7:$G$2000, 2, FALSE))","v":""},{"$f":"IF($B645=\"\", \"\",VLOOKUP($B645, CAD!$H$7:$I$2000, 2, FALSE))","v":""},{"$f":"IF($B645=\"\", \"\",VLOOKUP($B645, CAD!$J$7:$K$2000, 2, FALSE))","v":""},{"$f":"IF($B645=\"\", \"\", VLOOKUP($B645, CAD!$L$7:$M$2000, 2, FALSE))","v":""},{"$f":"IF($B645=\"\", \"\", VLOOKUP($B645, CAD!$N$7:$O$2000, 2, FALSE))","v":""},{"$f":"IF($B645=\"\", \"\", VLOOKUP($B645, CAD!$P$7:$Q$2000, 2, FALSE))","v":""},{"$f":"IF($B645=\"\", \"\", VLOOKUP($B645, CAD!$R$7:$S$2000, 2, FALSE))","v":""},{"$f":"IF($B645=\"\", \"\", VLOOKUP($B645, CAD!$T$7:$U$2000, 2, FALSE))","v":""},{"$f":"IF($B645=\"\", \"\", VLOOKUP($B645, CAD!$V$7:$W$2000, 2, FALSE))","v":""}]
[null,{"$f":"IF(CAD!B643=\"\", \"\", CAD!B643)","v":""},{"$f":"IF($B646=\"\", \"\", CAD!C643)","v":""},{"$f":"IF($B646=\"\", \"\",VLOOKUP($B646, CAD!$D$7:$E$2000, 2, FALSE))","v":""},{"$f":"IF($B646=\"\", \"\",VLOOKUP($B646, CAD!$F$7:$G$2000, 2, FALSE))","v":""},{"$f":"IF($B646=\"\", \"\",VLOOKUP($B646, CAD!$H$7:$I$2000, 2, FALSE))","v":""},{"$f":"IF($B646=\"\", \"\",VLOOKUP($B646, CAD!$J$7:$K$2000, 2, FALSE))","v":""},{"$f":"IF($B646=\"\", \"\", VLOOKUP($B646, CAD!$L$7:$M$2000, 2, FALSE))","v":""},{"$f":"IF($B646=\"\", \"\", VLOOKUP($B646, CAD!$N$7:$O$2000, 2, FALSE))","v":""},{"$f":"IF($B646=\"\", \"\", VLOOKUP($B646, CAD!$P$7:$Q$2000, 2, FALSE))","v":""},{"$f":"IF($B646=\"\", \"\", VLOOKUP($B646, CAD!$R$7:$S$2000, 2, FALSE))","v":""},{"$f":"IF($B646=\"\", \"\", VLOOKUP($B646, CAD!$T$7:$U$2000, 2, FALSE))","v":""},{"$f":"IF($B646=\"\", \"\", VLOOKUP($B646, CAD!$V$7:$W$2000, 2, FALSE))","v":""}]
[null,{"$f":"IF(CAD!B644=\"\", \"\", CAD!B644)","v":""},{"$f":"IF($B647=\"\", \"\", CAD!C644)","v":""},{"$f":"IF($B647=\"\", \"\",VLOOKUP($B647, CAD!$D$7:$E$2000, 2, FALSE))","v":""},{"$f":"IF($B647=\"\", \"\",VLOOKUP($B647, CAD!$F$7:$G$2000, 2, FALSE))","v":""},{"$f":"IF($B647=\"\", \"\",VLOOKUP($B647, CAD!$H$7:$I$2000, 2, FALSE))","v":""},{"$f":"IF($B647=\"\", \"\",VLOOKUP($B647, CAD!$J$7:$K$2000, 2, FALSE))","v":""},{"$f":"IF($B647=\"\", \"\", VLOOKUP($B647, CAD!$L$7:$M$2000, 2, FALSE))","v":""},{"$f":"IF($B647=\"\", \"\", VLOOKUP($B647, CAD!$N$7:$O$2000, 2, FALSE))","v":""},{"$f":"IF($B647=\"\", \"\", VLOOKUP($B647, CAD!$P$7:$Q$2000, 2, FALSE))","v":""},{"$f":"IF($B647=\"\", \"\", VLOOKUP($B647, CAD!$R$7:$S$2000, 2, FALSE))","v":""},{"$f":"IF($B647=\"\", \"\", VLOOKUP($B647, CAD!$T$7:$U$2000, 2, FALSE))","v":""},{"$f":"IF($B647=\"\", \"\", VLOOKUP($B647, CAD!$V$7:$W$2000, 2, FALSE))","v":""}]
[null,{"$f":"IF(CAD!B645=\"\", \"\", CAD!B645)","v":""},{"$f":"IF($B648=\"\", \"\", CAD!C645)","v":""},{"$f":"IF($B648=\"\", \"\",VLOOKUP($B648, CAD!$D$7:$E$2000, 2, FALSE))","v":""},{"$f":"IF($B648=\"\", \"\",VLOOKUP($B648, CAD!$F$7:$G$2000, 2, FALSE))","v":""},{"$f":"IF($B648=\"\", \"\",VLOOKUP($B648, CAD!$H$7:$I$2000, 2, FALSE))","v":""},{"$f":"IF($B648=\"\", \"\",VLOOKUP($B648, CAD!$J$7:$K$2000, 2, FALSE))","v":""},{"$f":"IF($B648=\"\", \"\", VLOOKUP($B648, CAD!$L$7:$M$2000, 2, FALSE))","v":""},{"$f":"IF($B648=\"\", \"\", VLOOKUP($B648, CAD!$N$7:$O$2000, 2, FALSE))","v":""},{"$f":"IF($B648=\"\", \"\", VLOOKUP($B648, CAD!$P$7:$Q$2000, 2, FALSE))","v":""},{"$f":"IF($B648=\"\", \"\", VLOOKUP($B648, CAD!$R$7:$S$2000, 2, FALSE))","v":""},{"$f":"IF($B648=\"\", \"\", VLOOKUP($B648, CAD!$T$7:$U$2000, 2, FALSE))","v":""},{"$f":"IF($B648=\"\", \"\", VLOOKUP($B648, CAD!$V$7:$W$2000, 2, FALSE))","v":""}]
[null,{"$f":"IF(CAD!B646=\"\", \"\", CAD!B646)","v":""},{"$f":"IF($B649=\"\", \"\", CAD!C646)","v":""},{"$f":"IF($B649=\"\", \"\",VLOOKUP($B649, CAD!$D$7:$E$2000, 2, FALSE))","v":""},{"$f":"IF($B649=\"\", \"\",VLOOKUP($B649, CAD!$F$7:$G$2000, 2, FALSE))","v":""},{"$f":"IF($B649=\"\", \"\",VLOOKUP($B649, CAD!$H$7:$I$2000, 2, FALSE))","v":""},{"$f":"IF($B649=\"\", \"\",VLOOKUP($B649, CAD!$J$7:$K$2000, 2, FALSE))","v":""},{"$f":"IF($B649=\"\", \"\", VLOOKUP($B649, CAD!$L$7:$M$2000, 2, FALSE))","v":""},{"$f":"IF($B649=\"\", \"\", VLOOKUP($B649, CAD!$N$7:$O$2000, 2, FALSE))","v":""},{"$f":"IF($B649=\"\", \"\", VLOOKUP($B649, CAD!$P$7:$Q$2000, 2, FALSE))","v":""},{"$f":"IF($B649=\"\", \"\", VLOOKUP($B649, CAD!$R$7:$S$2000, 2, FALSE))","v":""},{"$f":"IF($B649=\"\", \"\", VLOOKUP($B649, CAD!$T$7:$U$2000, 2, FALSE))","v":""},{"$f":"IF($B649=\"\", \"\", VLOOKUP($B649, CAD!$V$7:$W$2000, 2, FALSE))","v":""}]
[null,{"$f":"IF(CAD!B647=\"\", \"\", CAD!B647)","v":""},{"$f":"IF($B650=\"\", \"\", CAD!C647)","v":""},{"$f":"IF($B650=\"\", \"\",VLOOKUP($B650, CAD!$D$7:$E$2000, 2, FALSE))","v":""},{"$f":"IF($B650=\"\", \"\",VLOOKUP($B650, CAD!$F$7:$G$2000, 2, FALSE))","v":""},{"$f":"IF($B650=\"\", \"\",VLOOKUP($B650, CAD!$H$7:$I$2000, 2, FALSE))","v":""},{"$f":"IF($B650=\"\", \"\",VLOOKUP($B650, CAD!$J$7:$K$2000, 2, FALSE))","v":""},{"$f":"IF($B650=\"\", \"\", VLOOKUP($B650, CAD!$L$7:$M$2000, 2, FALSE))","v":""},{"$f":"IF($B650=\"\", \"\", VLOOKUP($B650, CAD!$N$7:$O$2000, 2, FALSE))","v":""},{"$f":"IF($B650=\"\", \"\", VLOOKUP($B650, CAD!$P$7:$Q$2000, 2, FALSE))","v":""},{"$f":"IF($B650=\"\", \"\", VLOOKUP($B650, CAD!$R$7:$S$2000, 2, FALSE))","v":""},{"$f":"IF($B650=\"\", \"\", VLOOKUP($B650, CAD!$T$7:$U$2000, 2, FALSE))","v":""},{"$f":"IF($B650=\"\", \"\", VLOOKUP($B650, CAD!$V$7:$W$2000, 2, FALSE))","v":""}]
[null,{"$f":"IF(CAD!B648=\"\", \"\", CAD!B648)","v":""},{"$f":"IF($B651=\"\", \"\", CAD!C648)","v":""},{"$f":"IF($B651=\"\", \"\",VLOOKUP($B651, CAD!$D$7:$E$2000, 2, FALSE))","v":""},{"$f":"IF($B651=\"\", \"\",VLOOKUP($B651, CAD!$F$7:$G$2000, 2, FALSE))","v":""},{"$f":"IF($B651=\"\", \"\",VLOOKUP($B651, CAD!$H$7:$I$2000, 2, FALSE))","v":""},{"$f":"IF($B651=\"\", \"\",VLOOKUP($B651, CAD!$J$7:$K$2000, 2, FALSE))","v":""},{"$f":"IF($B651=\"\", \"\", VLOOKUP($B651, CAD!$L$7:$M$2000, 2, FALSE))","v":""},{"$f":"IF($B651=\"\", \"\", VLOOKUP($B651, CAD!$N$7:$O$2000, 2, FALSE))","v":""},{"$f":"IF($B651=\"\", \"\", VLOOKUP($B651, CAD!$P$7:$Q$2000, 2, FALSE))","v":""},{"$f":"IF($B651=\"\", \"\", VLOOKUP($B651, CAD!$R$7:$S$2000, 2, FALSE))","v":""},{"$f":"IF($B651=\"\", \"\", VLOOKUP($B651, CAD!$T$7:$U$2000, 2, FALSE))","v":""},{"$f":"IF($B651=\"\", \"\", VLOOKUP($B651, CAD!$V$7:$W$2000, 2, FALSE))","v":""}]
[null,{"$f":"IF(CAD!B649=\"\", \"\", CAD!B649)","v":""},{"$f":"IF($B652=\"\", \"\", CAD!C649)","v":""},{"$f":"IF($B652=\"\", \"\",VLOOKUP($B652, CAD!$D$7:$E$2000, 2, FALSE))","v":""},{"$f":"IF($B652=\"\", \"\",VLOOKUP($B652, CAD!$F$7:$G$2000, 2, FALSE))","v":""},{"$f":"IF($B652=\"\", \"\",VLOOKUP($B652, CAD!$H$7:$I$2000, 2, FALSE))","v":""},{"$f":"IF($B652=\"\", \"\",VLOOKUP($B652, CAD!$J$7:$K$2000, 2, FALSE))","v":""},{"$f":"IF($B652=\"\", \"\", VLOOKUP($B652, CAD!$L$7:$M$2000, 2, FALSE))","v":""},{"$f":"IF($B652=\"\", \"\", VLOOKUP($B652, CAD!$N$7:$O$2000, 2, FALSE))","v":""},{"$f":"IF($B652=\"\", \"\", VLOOKUP($B652, CAD!$P$7:$Q$2000, 2, FALSE))","v":""},{"$f":"IF($B652=\"\", \"\", VLOOKUP($B652, CAD!$R$7:$S$2000, 2, FALSE))","v":""},{"$f":"IF($B652=\"\", \"\", VLOOKUP($B652, CAD!$T$7:$U$2000, 2, FALSE))","v":""},{"$f":"IF($B652=\"\", \"\", VLOOKUP($B652, CAD!$V$7:$W$2000, 2, FALSE))","v":""}]
[null,{"$f":"IF(CAD!B650=\"\", \"\", CAD!B650)","v":""},{"$f":"IF($B653=\"\", \"\", CAD!C650)","v":""},{"$f":"IF($B653=\"\", \"\",VLOOKUP($B653, CAD!$D$7:$E$2000, 2, FALSE))","v":""},{"$f":"IF($B653=\"\", \"\",VLOOKUP($B653, CAD!$F$7:$G$2000, 2, FALSE))","v":""},{"$f":"IF($B653=\"\", \"\",VLOOKUP($B653, CAD!$H$7:$I$2000, 2, FALSE))","v":""},{"$f":"IF($B653=\"\", \"\",VLOOKUP($B653, CAD!$J$7:$K$2000, 2, FALSE))","v":""},{"$f":"IF($B653=\"\", \"\", VLOOKUP($B653, CAD!$L$7:$M$2000, 2, FALSE))","v":""},{"$f":"IF($B653=\"\", \"\", VLOOKUP($B653, CAD!$N$7:$O$2000, 2, FALSE))","v":""},{"$f":"IF($B653=\"\", \"\", VLOOKUP($B653, CAD!$P$7:$Q$2000, 2, FALSE))","v":""},{"$f":"IF($B653=\"\", \"\", VLOOKUP($B653, CAD!$R$7:$S$2000, 2, FALSE))","v":""},{"$f":"IF($B653=\"\", \"\", VLOOKUP($B653, CAD!$T$7:$U$2000, 2, FALSE))","v":""},{"$f":"IF($B653=\"\", \"\", VLOOKUP($B653, CAD!$V$7:$W$2000, 2, FALSE))","v":""}]
[null,{"$f":"IF(CAD!B651=\"\", \"\", CAD!B651)","v":""},{"$f":"IF($B654=\"\", \"\", CAD!C651)","v":""},{"$f":"IF($B654=\"\", \"\",VLOOKUP($B654, CAD!$D$7:$E$2000, 2, FALSE))","v":""},{"$f":"IF($B654=\"\", \"\",VLOOKUP($B654, CAD!$F$7:$G$2000, 2, FALSE))","v":""},{"$f":"IF($B654=\"\", \"\",VLOOKUP($B654, CAD!$H$7:$I$2000, 2, FALSE))","v":""},{"$f":"IF($B654=\"\", \"\",VLOOKUP($B654, CAD!$J$7:$K$2000, 2, FALSE))","v":""},{"$f":"IF($B654=\"\", \"\", VLOOKUP($B654, CAD!$L$7:$M$2000, 2, FALSE))","v":""},{"$f":"IF($B654=\"\", \"\", VLOOKUP($B654, CAD!$N$7:$O$2000, 2, FALSE))","v":""},{"$f":"IF($B654=\"\", \"\", VLOOKUP($B654, CAD!$P$7:$Q$2000, 2, FALSE))","v":""},{"$f":"IF($B654=\"\", \"\", VLOOKUP($B654, CAD!$R$7:$S$2000, 2, FALSE))","v":""},{"$f":"IF($B654=\"\", \"\", VLOOKUP($B654, CAD!$T$7:$U$2000, 2, FALSE))","v":""},{"$f":"IF($B654=\"\", \"\", VLOOKUP($B654, CAD!$V$7:$W$2000, 2, FALSE))","v":""}]
[null,{"$f":"IF(CAD!B652=\"\", \"\", CAD!B652)","v":""},{"$f":"IF($B655=\"\", \"\", CAD!C652)","v":""},{"$f":"IF($B655=\"\", \"\",VLOOKUP($B655, CAD!$D$7:$E$2000, 2, FALSE))","v":""},{"$f":"IF($B655=\"\", \"\",VLOOKUP($B655, CAD!$F$7:$G$2000, 2, FALSE))","v":""},{"$f":"IF($B655=\"\", \"\",VLOOKUP($B655, CAD!$H$7:$I$2000, 2, FALSE))","v":""},{"$f":"IF($B655=\"\", \"\",VLOOKUP($B655, CAD!$J$7:$K$2000, 2, FALSE))","v":""},{"$f":"IF($B655=\"\", \"\", VLOOKUP($B655, CAD!$L$7:$M$2000, 2, FALSE))","v":""},{"$f":"IF($B655=\"\", \"\", VLOOKUP($B655, CAD!$N$7:$O$2000, 2, FALSE))","v":""},{"$f":"IF($B655=\"\", \"\", VLOOKUP($B655, CAD!$P$7:$Q$2000, 2, FALSE))","v":""},{"$f":"IF($B655=\"\", \"\", VLOOKUP($B655, CAD!$R$7:$S$2000, 2, FALSE))","v":""},{"$f":"IF($B655=\"\", \"\", VLOOKUP($B655, CAD!$T$7:$U$2000, 2, FALSE))","v":""},{"$f":"IF($B655=\"\", \"\", VLOOKUP($B655, CAD!$V$7:$W$2000, 2, FALSE))","v":""}]
[null,{"$f":"IF(CAD!B653=\"\", \"\", CAD!B653)","v":""},{"$f":"IF($B656=\"\", \"\", CAD!C653)","v":""},{"$f":"IF($B656=\"\", \"\",VLOOKUP($B656, CAD!$D$7:$E$2000, 2, FALSE))","v":""},{"$f":"IF($B656=\"\", \"\",VLOOKUP($B656, CAD!$F$7:$G$2000, 2, FALSE))","v":""},{"$f":"IF($B656=\"\", \"\",VLOOKUP($B656, CAD!$H$7:$I$2000, 2, FALSE))","v":""},{"$f":"IF($B656=\"\", \"\",VLOOKUP($B656, CAD!$J$7:$K$2000, 2, FALSE))","v":""},{"$f":"IF($B656=\"\", \"\", VLOOKUP($B656, CAD!$L$7:$M$2000, 2, FALSE))","v":""},{"$f":"IF($B656=\"\", \"\", VLOOKUP($B656, CAD!$N$7:$O$2000, 2, FALSE))","v":""},{"$f":"IF($B656=\"\", \"\", VLOOKUP($B656, CAD!$P$7:$Q$2000, 2, FALSE))","v":""},{"$f":"IF($B656=\"\", \"\", VLOOKUP($B656, CAD!$R$7:$S$2000, 2, FALSE))","v":""},{"$f":"IF($B656=\"\", \"\", VLOOKUP($B656, CAD!$T$7:$U$2000, 2, FALSE))","v":""},{"$f":"IF($B656=\"\", \"\", VLOOKUP($B656, CAD!$V$7:$W$2000, 2, FALSE))","v":""}]
[null,{"$f":"IF(CAD!B654=\"\", \"\", CAD!B654)","v":""},{"$f":"IF($B657=\"\", \"\", CAD!C654)","v":""},{"$f":"IF($B657=\"\", \"\",VLOOKUP($B657, CAD!$D$7:$E$2000, 2, FALSE))","v":""},{"$f":"IF($B657=\"\", \"\",VLOOKUP($B657, CAD!$F$7:$G$2000, 2, FALSE))","v":""},{"$f":"IF($B657=\"\", \"\",VLOOKUP($B657, CAD!$H$7:$I$2000, 2, FALSE))","v":""},{"$f":"IF($B657=\"\", \"\",VLOOKUP($B657, CAD!$J$7:$K$2000, 2, FALSE))","v":""},{"$f":"IF($B657=\"\", \"\", VLOOKUP($B657, CAD!$L$7:$M$2000, 2, FALSE))","v":""},{"$f":"IF($B657=\"\", \"\", VLOOKUP($B657, CAD!$N$7:$O$2000, 2, FALSE))","v":""},{"$f":"IF($B657=\"\", \"\", VLOOKUP($B657, CAD!$P$7:$Q$2000, 2, FALSE))","v":""},{"$f":"IF($B657=\"\", \"\", VLOOKUP($B657, CAD!$R$7:$S$2000, 2, FALSE))","v":""},{"$f":"IF($B657=\"\", \"\", VLOOKUP($B657, CAD!$T$7:$U$2000, 2, FALSE))","v":""},{"$f":"IF($B657=\"\", \"\", VLOOKUP($B657, CAD!$V$7:$W$2000, 2, FALSE))","v":""}]
[null,{"$f":"IF(CAD!B655=\"\", \"\", CAD!B655)","v":""},{"$f":"IF($B658=\"\", \"\", CAD!C655)","v":""},{"$f":"IF($B658=\"\", \"\",VLOOKUP($B658, CAD!$D$7:$E$2000, 2, FALSE))","v":""},{"$f":"IF($B658=\"\", \"\",VLOOKUP($B658, CAD!$F$7:$G$2000, 2, FALSE))","v":""},{"$f":"IF($B658=\"\", \"\",VLOOKUP($B658, CAD!$H$7:$I$2000, 2, FALSE))","v":""},{"$f":"IF($B658=\"\", \"\",VLOOKUP($B658, CAD!$J$7:$K$2000, 2, FALSE))","v":""},{"$f":"IF($B658=\"\", \"\", VLOOKUP($B658, CAD!$L$7:$M$2000, 2, FALSE))","v":""},{"$f":"IF($B658=\"\", \"\", VLOOKUP($B658, CAD!$N$7:$O$2000, 2, FALSE))","v":""},{"$f":"IF($B658=\"\", \"\", VLOOKUP($B658, CAD!$P$7:$Q$2000, 2, FALSE))","v":""},{"$f":"IF($B658=\"\", \"\", VLOOKUP($B658, CAD!$R$7:$S$2000, 2, FALSE))","v":""},{"$f":"IF($B658=\"\", \"\", VLOOKUP($B658, CAD!$T$7:$U$2000, 2, FALSE))","v":""},{"$f":"IF($B658=\"\", \"\", VLOOKUP($B658, CAD!$V$7:$W$2000, 2, FALSE))","v":""}]
[null,{"$f":"IF(CAD!B656=\"\", \"\", CAD!B656)","v":""},{"$f":"IF($B659=\"\", \"\", CAD!C656)","v":""},{"$f":"IF($B659=\"\", \"\",VLOOKUP($B659, CAD!$D$7:$E$2000, 2, FALSE))","v":""},{"$f":"IF($B659=\"\", \"\",VLOOKUP($B659, CAD!$F$7:$G$2000, 2, FALSE))","v":""},{"$f":"IF($B659=\"\", \"\",VLOOKUP($B659, CAD!$H$7:$I$2000, 2, FALSE))","v":""},{"$f":"IF($B659=\"\", \"\",VLOOKUP($B659, CAD!$J$7:$K$2000, 2, FALSE))","v":""},{"$f":"IF($B659=\"\", \"\", VLOOKUP($B659, CAD!$L$7:$M$2000, 2, FALSE))","v":""},{"$f":"IF($B659=\"\", \"\", VLOOKUP($B659, CAD!$N$7:$O$2000, 2, FALSE))","v":""},{"$f":"IF($B659=\"\", \"\", VLOOKUP($B659, CAD!$P$7:$Q$2000, 2, FALSE))","v":""},{"$f":"IF($B659=\"\", \"\", VLOOKUP($B659, CAD!$R$7:$S$2000, 2, FALSE))","v":""},{"$f":"IF($B659=\"\", \"\", VLOOKUP($B659, CAD!$T$7:$U$2000, 2, FALSE))","v":""},{"$f":"IF($B659=\"\", \"\", VLOOKUP($B659, CAD!$V$7:$W$2000, 2, FALSE))","v":""}]
[null,{"$f":"IF(CAD!B657=\"\", \"\", CAD!B657)","v":""},{"$f":"IF($B660=\"\", \"\", CAD!C657)","v":""},{"$f":"IF($B660=\"\", \"\",VLOOKUP($B660, CAD!$D$7:$E$2000, 2, FALSE))","v":""},{"$f":"IF($B660=\"\", \"\",VLOOKUP($B660, CAD!$F$7:$G$2000, 2, FALSE))","v":""},{"$f":"IF($B660=\"\", \"\",VLOOKUP($B660, CAD!$H$7:$I$2000, 2, FALSE))","v":""},{"$f":"IF($B660=\"\", \"\",VLOOKUP($B660, CAD!$J$7:$K$2000, 2, FALSE))","v":""},{"$f":"IF($B660=\"\", \"\", VLOOKUP($B660, CAD!$L$7:$M$2000, 2, FALSE))","v":""},{"$f":"IF($B660=\"\", \"\", VLOOKUP($B660, CAD!$N$7:$O$2000, 2, FALSE))","v":""},{"$f":"IF($B660=\"\", \"\", VLOOKUP($B660, CAD!$P$7:$Q$2000, 2, FALSE))","v":""},{"$f":"IF($B660=\"\", \"\", VLOOKUP($B660, CAD!$R$7:$S$2000, 2, FALSE))","v":""},{"$f":"IF($B660=\"\", \"\", VLOOKUP($B660, CAD!$T$7:$U$2000, 2, FALSE))","v":""},{"$f":"IF($B660=\"\", \"\", VLOOKUP($B660, CAD!$V$7:$W$2000, 2, FALSE))","v":""}]
[null,{"$f":"IF(CAD!B658=\"\", \"\", CAD!B658)","v":""},{"$f":"IF($B661=\"\", \"\", CAD!C658)","v":""},{"$f":"IF($B661=\"\", \"\",VLOOKUP($B661, CAD!$D$7:$E$2000, 2, FALSE))","v":""},{"$f":"IF($B661=\"\", \"\",VLOOKUP($B661, CAD!$F$7:$G$2000, 2, FALSE))","v":""},{"$f":"IF($B661=\"\", \"\",VLOOKUP($B661, CAD!$H$7:$I$2000, 2, FALSE))","v":""},{"$f":"IF($B661=\"\", \"\",VLOOKUP($B661, CAD!$J$7:$K$2000, 2, FALSE))","v":""},{"$f":"IF($B661=\"\", \"\", VLOOKUP($B661, CAD!$L$7:$M$2000, 2, FALSE))","v":""},{"$f":"IF($B661=\"\", \"\", VLOOKUP($B661, CAD!$N$7:$O$2000, 2, FALSE))","v":""},{"$f":"IF($B661=\"\", \"\", VLOOKUP($B661, CAD!$P$7:$Q$2000, 2, FALSE))","v":""},{"$f":"IF($B661=\"\", \"\", VLOOKUP($B661, CAD!$R$7:$S$2000, 2, FALSE))","v":""},{"$f":"IF($B661=\"\", \"\", VLOOKUP($B661, CAD!$T$7:$U$2000, 2, FALSE))","v":""},{"$f":"IF($B661=\"\", \"\", VLOOKUP($B661, CAD!$V$7:$W$2000, 2, FALSE))","v":""}]
[null,{"$f":"IF(CAD!B659=\"\", \"\", CAD!B659)","v":""},{"$f":"IF($B662=\"\", \"\", CAD!C659)","v":""},{"$f":"IF($B662=\"\", \"\",VLOOKUP($B662, CAD!$D$7:$E$2000, 2, FALSE))","v":""},{"$f":"IF($B662=\"\", \"\",VLOOKUP($B662, CAD!$F$7:$G$2000, 2, FALSE))","v":""},{"$f":"IF($B662=\"\", \"\",VLOOKUP($B662, CAD!$H$7:$I$2000, 2, FALSE))","v":""},{"$f":"IF($B662=\"\", \"\",VLOOKUP($B662, CAD!$J$7:$K$2000, 2, FALSE))","v":""},{"$f":"IF($B662=\"\", \"\", VLOOKUP($B662, CAD!$L$7:$M$2000, 2, FALSE))","v":""},{"$f":"IF($B662=\"\", \"\", VLOOKUP($B662, CAD!$N$7:$O$2000, 2, FALSE))","v":""},{"$f":"IF($B662=\"\", \"\", VLOOKUP($B662, CAD!$P$7:$Q$2000, 2, FALSE))","v":""},{"$f":"IF($B662=\"\", \"\", VLOOKUP($B662, CAD!$R$7:$S$2000, 2, FALSE))","v":""},{"$f":"IF($B662=\"\", \"\", VLOOKUP($B662, CAD!$T$7:$U$2000, 2, FALSE))","v":""},{"$f":"IF($B662=\"\", \"\", VLOOKUP($B662, CAD!$V$7:$W$2000, 2, FALSE))","v":""}]
[null,{"$f":"IF(CAD!B660=\"\", \"\", CAD!B660)","v":""},{"$f":"IF($B663=\"\", \"\", CAD!C660)","v":""},{"$f":"IF($B663=\"\", \"\",VLOOKUP($B663, CAD!$D$7:$E$2000, 2, FALSE))","v":""},{"$f":"IF($B663=\"\", \"\",VLOOKUP($B663, CAD!$F$7:$G$2000, 2, FALSE))","v":""},{"$f":"IF($B663=\"\", \"\",VLOOKUP($B663, CAD!$H$7:$I$2000, 2, FALSE))","v":""},{"$f":"IF($B663=\"\", \"\",VLOOKUP($B663, CAD!$J$7:$K$2000, 2, FALSE))","v":""},{"$f":"IF($B663=\"\", \"\", VLOOKUP($B663, CAD!$L$7:$M$2000, 2, FALSE))","v":""},{"$f":"IF($B663=\"\", \"\", VLOOKUP($B663, CAD!$N$7:$O$2000, 2, FALSE))","v":""},{"$f":"IF($B663=\"\", \"\", VLOOKUP($B663, CAD!$P$7:$Q$2000, 2, FALSE))","v":""},{"$f":"IF($B663=\"\", \"\", VLOOKUP($B663, CAD!$R$7:$S$2000, 2, FALSE))","v":""},{"$f":"IF($B663=\"\", \"\", VLOOKUP($B663, CAD!$T$7:$U$2000, 2, FALSE))","v":""},{"$f":"IF($B663=\"\", \"\", VLOOKUP($B663, CAD!$V$7:$W$2000, 2, FALSE))","v":""}]
[null,{"$f":"IF(CAD!B661=\"\", \"\", CAD!B661)","v":""},{"$f":"IF($B664=\"\", \"\", CAD!C661)","v":""},{"$f":"IF($B664=\"\", \"\",VLOOKUP($B664, CAD!$D$7:$E$2000, 2, FALSE))","v":""},{"$f":"IF($B664=\"\", \"\",VLOOKUP($B664, CAD!$F$7:$G$2000, 2, FALSE))","v":""},{"$f":"IF($B664=\"\", \"\",VLOOKUP($B664, CAD!$H$7:$I$2000, 2, FALSE))","v":""},{"$f":"IF($B664=\"\", \"\",VLOOKUP($B664, CAD!$J$7:$K$2000, 2, FALSE))","v":""},{"$f":"IF($B664=\"\", \"\", VLOOKUP($B664, CAD!$L$7:$M$2000, 2, FALSE))","v":""},{"$f":"IF($B664=\"\", \"\", VLOOKUP($B664, CAD!$N$7:$O$2000, 2, FALSE))","v":""},{"$f":"IF($B664=\"\", \"\", VLOOKUP($B664, CAD!$P$7:$Q$2000, 2, FALSE))","v":""},{"$f":"IF($B664=\"\", \"\", VLOOKUP($B664, CAD!$R$7:$S$2000, 2, FALSE))","v":""},{"$f":"IF($B664=\"\", \"\", VLOOKUP($B664, CAD!$T$7:$U$2000, 2, FALSE))","v":""},{"$f":"IF($B664=\"\", \"\", VLOOKUP($B664, CAD!$V$7:$W$2000, 2, FALSE))","v":""}]
[null,{"$f":"IF(CAD!B662=\"\", \"\", CAD!B662)","v":""},{"$f":"IF($B665=\"\", \"\", CAD!C662)","v":""},{"$f":"IF($B665=\"\", \"\",VLOOKUP($B665, CAD!$D$7:$E$2000, 2, FALSE))","v":""},{"$f":"IF($B665=\"\", \"\",VLOOKUP($B665, CAD!$F$7:$G$2000, 2, FALSE))","v":""},{"$f":"IF($B665=\"\", \"\",VLOOKUP($B665, CAD!$H$7:$I$2000, 2, FALSE))","v":""},{"$f":"IF($B665=\"\", \"\",VLOOKUP($B665, CAD!$J$7:$K$2000, 2, FALSE))","v":""},{"$f":"IF($B665=\"\", \"\", VLOOKUP($B665, CAD!$L$7:$M$2000, 2, FALSE))","v":""},{"$f":"IF($B665=\"\", \"\", VLOOKUP($B665, CAD!$N$7:$O$2000, 2, FALSE))","v":""},{"$f":"IF($B665=\"\", \"\", VLOOKUP($B665, CAD!$P$7:$Q$2000, 2, FALSE))","v":""},{"$f":"IF($B665=\"\", \"\", VLOOKUP($B665, CAD!$R$7:$S$2000, 2, FALSE))","v":""},{"$f":"IF($B665=\"\", \"\", VLOOKUP($B665, CAD!$T$7:$U$2000, 2, FALSE))","v":""},{"$f":"IF($B665=\"\", \"\", VLOOKUP($B665, CAD!$V$7:$W$2000, 2, FALSE))","v":""}]
[null,{"$f":"IF(CAD!B663=\"\", \"\", CAD!B663)","v":""},{"$f":"IF($B666=\"\", \"\", CAD!C663)","v":""},{"$f":"IF($B666=\"\", \"\",VLOOKUP($B666, CAD!$D$7:$E$2000, 2, FALSE))","v":""},{"$f":"IF($B666=\"\", \"\",VLOOKUP($B666, CAD!$F$7:$G$2000, 2, FALSE))","v":""},{"$f":"IF($B666=\"\", \"\",VLOOKUP($B666, CAD!$H$7:$I$2000, 2, FALSE))","v":""},{"$f":"IF($B666=\"\", \"\",VLOOKUP($B666, CAD!$J$7:$K$2000, 2, FALSE))","v":""},{"$f":"IF($B666=\"\", \"\", VLOOKUP($B666, CAD!$L$7:$M$2000, 2, FALSE))","v":""},{"$f":"IF($B666=\"\", \"\", VLOOKUP($B666, CAD!$N$7:$O$2000, 2, FALSE))","v":""},{"$f":"IF($B666=\"\", \"\", VLOOKUP($B666, CAD!$P$7:$Q$2000, 2, FALSE))","v":""},{"$f":"IF($B666=\"\", \"\", VLOOKUP($B666, CAD!$R$7:$S$2000, 2, FALSE))","v":""},{"$f":"IF($B666=\"\", \"\", VLOOKUP($B666, CAD!$T$7:$U$2000, 2, FALSE))","v":""},{"$f":"IF($B666=\"\", \"\", VLOOKUP($B666, CAD!$V$7:$W$2000, 2, FALSE))","v":""}]
[null,{"$f":"IF(CAD!B664=\"\", \"\", CAD!B664)","v":""},{"$f":"IF($B667=\"\", \"\", CAD!C664)","v":""},{"$f":"IF($B667=\"\", \"\",VLOOKUP($B667, CAD!$D$7:$E$2000, 2, FALSE))","v":""},{"$f":"IF($B667=\"\", \"\",VLOOKUP($B667, CAD!$F$7:$G$2000, 2, FALSE))","v":""},{"$f":"IF($B667=\"\", \"\",VLOOKUP($B667, CAD!$H$7:$I$2000, 2, FALSE))","v":""},{"$f":"IF($B667=\"\", \"\",VLOOKUP($B667, CAD!$J$7:$K$2000, 2, FALSE))","v":""},{"$f":"IF($B667=\"\", \"\", VLOOKUP($B667, CAD!$L$7:$M$2000, 2, FALSE))","v":""},{"$f":"IF($B667=\"\", \"\", VLOOKUP($B667, CAD!$N$7:$O$2000, 2, FALSE))","v":""},{"$f":"IF($B667=\"\", \"\", VLOOKUP($B667, CAD!$P$7:$Q$2000, 2, FALSE))","v":""},{"$f":"IF($B667=\"\", \"\", VLOOKUP($B667, CAD!$R$7:$S$2000, 2, FALSE))","v":""},{"$f":"IF($B667=\"\", \"\", VLOOKUP($B667, CAD!$T$7:$U$2000, 2, FALSE))","v":""},{"$f":"IF($B667=\"\", \"\", VLOOKUP($B667, CAD!$V$7:$W$2000, 2, FALSE))","v":""}]
[null,{"$f":"IF(CAD!B665=\"\", \"\", CAD!B665)","v":""},{"$f":"IF($B668=\"\", \"\", CAD!C665)","v":""},{"$f":"IF($B668=\"\", \"\",VLOOKUP($B668, CAD!$D$7:$E$2000, 2, FALSE))","v":""},{"$f":"IF($B668=\"\", \"\",VLOOKUP($B668, CAD!$F$7:$G$2000, 2, FALSE))","v":""},{"$f":"IF($B668=\"\", \"\",VLOOKUP($B668, CAD!$H$7:$I$2000, 2, FALSE))","v":""},{"$f":"IF($B668=\"\", \"\",VLOOKUP($B668, CAD!$J$7:$K$2000, 2, FALSE))","v":""},{"$f":"IF($B668=\"\", \"\", VLOOKUP($B668, CAD!$L$7:$M$2000, 2, FALSE))","v":""},{"$f":"IF($B668=\"\", \"\", VLOOKUP($B668, CAD!$N$7:$O$2000, 2, FALSE))","v":""},{"$f":"IF($B668=\"\", \"\", VLOOKUP($B668, CAD!$P$7:$Q$2000, 2, FALSE))","v":""},{"$f":"IF($B668=\"\", \"\", VLOOKUP($B668, CAD!$R$7:$S$2000, 2, FALSE))","v":""},{"$f":"IF($B668=\"\", \"\", VLOOKUP($B668, CAD!$T$7:$U$2000, 2, FALSE))","v":""},{"$f":"IF($B668=\"\", \"\", VLOOKUP($B668, CAD!$V$7:$W$2000, 2, FALSE))","v":""}]
[null,{"$f":"IF(CAD!B666=\"\", \"\", CAD!B666)","v":""},{"$f":"IF($B669=\"\", \"\", CAD!C666)","v":""},{"$f":"IF($B669=\"\", \"\",VLOOKUP($B669, CAD!$D$7:$E$2000, 2, FALSE))","v":""},{"$f":"IF($B669=\"\", \"\",VLOOKUP($B669, CAD!$F$7:$G$2000, 2, FALSE))","v":""},{"$f":"IF($B669=\"\", \"\",VLOOKUP($B669, CAD!$H$7:$I$2000, 2, FALSE))","v":""},{"$f":"IF($B669=\"\", \"\",VLOOKUP($B669, CAD!$J$7:$K$2000, 2, FALSE))","v":""},{"$f":"IF($B669=\"\", \"\", VLOOKUP($B669, CAD!$L$7:$M$2000, 2, FALSE))","v":""},{"$f":"IF($B669=\"\", \"\", VLOOKUP($B669, CAD!$N$7:$O$2000, 2, FALSE))","v":""},{"$f":"IF($B669=\"\", \"\", VLOOKUP($B669, CAD!$P$7:$Q$2000, 2, FALSE))","v":""},{"$f":"IF($B669=\"\", \"\", VLOOKUP($B669, CAD!$R$7:$S$2000, 2, FALSE))","v":""},{"$f":"IF($B669=\"\", \"\", VLOOKUP($B669, CAD!$T$7:$U$2000, 2, FALSE))","v":""},{"$f":"IF($B669=\"\", \"\", VLOOKUP($B669, CAD!$V$7:$W$2000, 2, FALSE))","v":""}]
[null,{"$f":"IF(CAD!B667=\"\", \"\", CAD!B667)","v":""},{"$f":"IF($B670=\"\", \"\", CAD!C667)","v":""},{"$f":"IF($B670=\"\", \"\",VLOOKUP($B670, CAD!$D$7:$E$2000, 2, FALSE))","v":""},{"$f":"IF($B670=\"\", \"\",VLOOKUP($B670, CAD!$F$7:$G$2000, 2, FALSE))","v":""},{"$f":"IF($B670=\"\", \"\",VLOOKUP($B670, CAD!$H$7:$I$2000, 2, FALSE))","v":""},{"$f":"IF($B670=\"\", \"\",VLOOKUP($B670, CAD!$J$7:$K$2000, 2, FALSE))","v":""},{"$f":"IF($B670=\"\", \"\", VLOOKUP($B670, CAD!$L$7:$M$2000, 2, FALSE))","v":""},{"$f":"IF($B670=\"\", \"\", VLOOKUP($B670, CAD!$N$7:$O$2000, 2, FALSE))","v":""},{"$f":"IF($B670=\"\", \"\", VLOOKUP($B670, CAD!$P$7:$Q$2000, 2, FALSE))","v":""},{"$f":"IF($B670=\"\", \"\", VLOOKUP($B670, CAD!$R$7:$S$2000, 2, FALSE))","v":""},{"$f":"IF($B670=\"\", \"\", VLOOKUP($B670, CAD!$T$7:$U$2000, 2, FALSE))","v":""},{"$f":"IF($B670=\"\", \"\", VLOOKUP($B670, CAD!$V$7:$W$2000, 2, FALSE))","v":""}]
[null,{"$f":"IF(CAD!B668=\"\", \"\", CAD!B668)","v":""},{"$f":"IF($B671=\"\", \"\", CAD!C668)","v":""},{"$f":"IF($B671=\"\", \"\",VLOOKUP($B671, CAD!$D$7:$E$2000, 2, FALSE))","v":""},{"$f":"IF($B671=\"\", \"\",VLOOKUP($B671, CAD!$F$7:$G$2000, 2, FALSE))","v":""},{"$f":"IF($B671=\"\", \"\",VLOOKUP($B671, CAD!$H$7:$I$2000, 2, FALSE))","v":""},{"$f":"IF($B671=\"\", \"\",VLOOKUP($B671, CAD!$J$7:$K$2000, 2, FALSE))","v":""},{"$f":"IF($B671=\"\", \"\", VLOOKUP($B671, CAD!$L$7:$M$2000, 2, FALSE))","v":""},{"$f":"IF($B671=\"\", \"\", VLOOKUP($B671, CAD!$N$7:$O$2000, 2, FALSE))","v":""},{"$f":"IF($B671=\"\", \"\", VLOOKUP($B671, CAD!$P$7:$Q$2000, 2, FALSE))","v":""},{"$f":"IF($B671=\"\", \"\", VLOOKUP($B671, CAD!$R$7:$S$2000, 2, FALSE))","v":""},{"$f":"IF($B671=\"\", \"\", VLOOKUP($B671, CAD!$T$7:$U$2000, 2, FALSE))","v":""},{"$f":"IF($B671=\"\", \"\", VLOOKUP($B671, CAD!$V$7:$W$2000, 2, FALSE))","v":""}]
[null,{"$f":"IF(CAD!B669=\"\", \"\", CAD!B669)","v":""},{"$f":"IF($B672=\"\", \"\", CAD!C669)","v":""},{"$f":"IF($B672=\"\", \"\",VLOOKUP($B672, CAD!$D$7:$E$2000, 2, FALSE))","v":""},{"$f":"IF($B672=\"\", \"\",VLOOKUP($B672, CAD!$F$7:$G$2000, 2, FALSE))","v":""},{"$f":"IF($B672=\"\", \"\",VLOOKUP($B672, CAD!$H$7:$I$2000, 2, FALSE))","v":""},{"$f":"IF($B672=\"\", \"\",VLOOKUP($B672, CAD!$J$7:$K$2000, 2, FALSE))","v":""},{"$f":"IF($B672=\"\", \"\", VLOOKUP($B672, CAD!$L$7:$M$2000, 2, FALSE))","v":""},{"$f":"IF($B672=\"\", \"\", VLOOKUP($B672, CAD!$N$7:$O$2000, 2, FALSE))","v":""},{"$f":"IF($B672=\"\", \"\", VLOOKUP($B672, CAD!$P$7:$Q$2000, 2, FALSE))","v":""},{"$f":"IF($B672=\"\", \"\", VLOOKUP($B672, CAD!$R$7:$S$2000, 2, FALSE))","v":""},{"$f":"IF($B672=\"\", \"\", VLOOKUP($B672, CAD!$T$7:$U$2000, 2, FALSE))","v":""},{"$f":"IF($B672=\"\", \"\", VLOOKUP($B672, CAD!$V$7:$W$2000, 2, FALSE))","v":""}]
[null,{"$f":"IF(CAD!B670=\"\", \"\", CAD!B670)","v":""},{"$f":"IF($B673=\"\", \"\", CAD!C670)","v":""},{"$f":"IF($B673=\"\", \"\",VLOOKUP($B673, CAD!$D$7:$E$2000, 2, FALSE))","v":""},{"$f":"IF($B673=\"\", \"\",VLOOKUP($B673, CAD!$F$7:$G$2000, 2, FALSE))","v":""},{"$f":"IF($B673=\"\", \"\",VLOOKUP($B673, CAD!$H$7:$I$2000, 2, FALSE))","v":""},{"$f":"IF($B673=\"\", \"\",VLOOKUP($B673, CAD!$J$7:$K$2000, 2, FALSE))","v":""},{"$f":"IF($B673=\"\", \"\", VLOOKUP($B673, CAD!$L$7:$M$2000, 2, FALSE))","v":""},{"$f":"IF($B673=\"\", \"\", VLOOKUP($B673, CAD!$N$7:$O$2000, 2, FALSE))","v":""},{"$f":"IF($B673=\"\", \"\", VLOOKUP($B673, CAD!$P$7:$Q$2000, 2, FALSE))","v":""},{"$f":"IF($B673=\"\", \"\", VLOOKUP($B673, CAD!$R$7:$S$2000, 2, FALSE))","v":""},{"$f":"IF($B673=\"\", \"\", VLOOKUP($B673, CAD!$T$7:$U$2000, 2, FALSE))","v":""},{"$f":"IF($B673=\"\", \"\", VLOOKUP($B673, CAD!$V$7:$W$2000, 2, FALSE))","v":""}]
[null,{"$f":"IF(CAD!B671=\"\", \"\", CAD!B671)","v":""},{"$f":"IF($B674=\"\", \"\", CAD!C671)","v":""},{"$f":"IF($B674=\"\", \"\",VLOOKUP($B674, CAD!$D$7:$E$2000, 2, FALSE))","v":""},{"$f":"IF($B674=\"\", \"\",VLOOKUP($B674, CAD!$F$7:$G$2000, 2, FALSE))","v":""},{"$f":"IF($B674=\"\", \"\",VLOOKUP($B674, CAD!$H$7:$I$2000, 2, FALSE))","v":""},{"$f":"IF($B674=\"\", \"\",VLOOKUP($B674, CAD!$J$7:$K$2000, 2, FALSE))","v":""},{"$f":"IF($B674=\"\", \"\", VLOOKUP($B674, CAD!$L$7:$M$2000, 2, FALSE))","v":""},{"$f":"IF($B674=\"\", \"\", VLOOKUP($B674, CAD!$N$7:$O$2000, 2, FALSE))","v":""},{"$f":"IF($B674=\"\", \"\", VLOOKUP($B674, CAD!$P$7:$Q$2000, 2, FALSE))","v":""},{"$f":"IF($B674=\"\", \"\", VLOOKUP($B674, CAD!$R$7:$S$2000, 2, FALSE))","v":""},{"$f":"IF($B674=\"\", \"\", VLOOKUP($B674, CAD!$T$7:$U$2000, 2, FALSE))","v":""},{"$f":"IF($B674=\"\", \"\", VLOOKUP($B674, CAD!$V$7:$W$2000, 2, FALSE))","v":""}]
[null,{"$f":"IF(CAD!B672=\"\", \"\", CAD!B672)","v":""},{"$f":"IF($B675=\"\", \"\", CAD!C672)","v":""},{"$f":"IF($B675=\"\", \"\",VLOOKUP($B675, CAD!$D$7:$E$2000, 2, FALSE))","v":""},{"$f":"IF($B675=\"\", \"\",VLOOKUP($B675, CAD!$F$7:$G$2000, 2, FALSE))","v":""},{"$f":"IF($B675=\"\", \"\",VLOOKUP($B675, CAD!$H$7:$I$2000, 2, FALSE))","v":""},{"$f":"IF($B675=\"\", \"\",VLOOKUP($B675, CAD!$J$7:$K$2000, 2, FALSE))","v":""},{"$f":"IF($B675=\"\", \"\", VLOOKUP($B675, CAD!$L$7:$M$2000, 2, FALSE))","v":""},{"$f":"IF($B675=\"\", \"\", VLOOKUP($B675, CAD!$N$7:$O$2000, 2, FALSE))","v":""},{"$f":"IF($B675=\"\", \"\", VLOOKUP($B675, CAD!$P$7:$Q$2000, 2, FALSE))","v":""},{"$f":"IF($B675=\"\", \"\", VLOOKUP($B675, CAD!$R$7:$S$2000, 2, FALSE))","v":""},{"$f":"IF($B675=\"\", \"\", VLOOKUP($B675, CAD!$T$7:$U$2000, 2, FALSE))","v":""},{"$f":"IF($B675=\"\", \"\", VLOOKUP($B675, CAD!$V$7:$W$2000, 2, FALSE))","v":""}]
[null,{"$f":"IF(CAD!B673=\"\", \"\", CAD!B673)","v":""},{"$f":"IF($B676=\"\", \"\", CAD!C673)","v":""},{"$f":"IF($B676=\"\", \"\",VLOOKUP($B676, CAD!$D$7:$E$2000, 2, FALSE))","v":""},{"$f":"IF($B676=\"\", \"\",VLOOKUP($B676, CAD!$F$7:$G$2000, 2, FALSE))","v":""},{"$f":"IF($B676=\"\", \"\",VLOOKUP($B676, CAD!$H$7:$I$2000, 2, FALSE))","v":""},{"$f":"IF($B676=\"\", \"\",VLOOKUP($B676, CAD!$J$7:$K$2000, 2, FALSE))","v":""},{"$f":"IF($B676=\"\", \"\", VLOOKUP($B676, CAD!$L$7:$M$2000, 2, FALSE))","v":""},{"$f":"IF($B676=\"\", \"\", VLOOKUP($B676, CAD!$N$7:$O$2000, 2, FALSE))","v":""},{"$f":"IF($B676=\"\", \"\", VLOOKUP($B676, CAD!$P$7:$Q$2000, 2, FALSE))","v":""},{"$f":"IF($B676=\"\", \"\", VLOOKUP($B676, CAD!$R$7:$S$2000, 2, FALSE))","v":""},{"$f":"IF($B676=\"\", \"\", VLOOKUP($B676, CAD!$T$7:$U$2000, 2, FALSE))","v":""},{"$f":"IF($B676=\"\", \"\", VLOOKUP($B676, CAD!$V$7:$W$2000, 2, FALSE))","v":""}]
[null,{"$f":"IF(CAD!B674=\"\", \"\", CAD!B674)","v":""},{"$f":"IF($B677=\"\", \"\", CAD!C674)","v":""},{"$f":"IF($B677=\"\", \"\",VLOOKUP($B677, CAD!$D$7:$E$2000, 2, FALSE))","v":""},{"$f":"IF($B677=\"\", \"\",VLOOKUP($B677, CAD!$F$7:$G$2000, 2, FALSE))","v":""},{"$f":"IF($B677=\"\", \"\",VLOOKUP($B677, CAD!$H$7:$I$2000, 2, FALSE))","v":""},{"$f":"IF($B677=\"\", \"\",VLOOKUP($B677, CAD!$J$7:$K$2000, 2, FALSE))","v":""},{"$f":"IF($B677=\"\", \"\", VLOOKUP($B677, CAD!$L$7:$M$2000, 2, FALSE))","v":""},{"$f":"IF($B677=\"\", \"\", VLOOKUP($B677, CAD!$N$7:$O$2000, 2, FALSE))","v":""},{"$f":"IF($B677=\"\", \"\", VLOOKUP($B677, CAD!$P$7:$Q$2000, 2, FALSE))","v":""},{"$f":"IF($B677=\"\", \"\", VLOOKUP($B677, CAD!$R$7:$S$2000, 2, FALSE))","v":""},{"$f":"IF($B677=\"\", \"\", VLOOKUP($B677, CAD!$T$7:$U$2000, 2, FALSE))","v":""},{"$f":"IF($B677=\"\", \"\", VLOOKUP($B677, CAD!$V$7:$W$2000, 2, FALSE))","v":""}]
[null,{"$f":"IF(CAD!B675=\"\", \"\", CAD!B675)","v":""},{"$f":"IF($B678=\"\", \"\", CAD!C675)","v":""},{"$f":"IF($B678=\"\", \"\",VLOOKUP($B678, CAD!$D$7:$E$2000, 2, FALSE))","v":""},{"$f":"IF($B678=\"\", \"\",VLOOKUP($B678, CAD!$F$7:$G$2000, 2, FALSE))","v":""},{"$f":"IF($B678=\"\", \"\",VLOOKUP($B678, CAD!$H$7:$I$2000, 2, FALSE))","v":""},{"$f":"IF($B678=\"\", \"\",VLOOKUP($B678, CAD!$J$7:$K$2000, 2, FALSE))","v":""},{"$f":"IF($B678=\"\", \"\", VLOOKUP($B678, CAD!$L$7:$M$2000, 2, FALSE))","v":""},{"$f":"IF($B678=\"\", \"\", VLOOKUP($B678, CAD!$N$7:$O$2000, 2, FALSE))","v":""},{"$f":"IF($B678=\"\", \"\", VLOOKUP($B678, CAD!$P$7:$Q$2000, 2, FALSE))","v":""},{"$f":"IF($B678=\"\", \"\", VLOOKUP($B678, CAD!$R$7:$S$2000, 2, FALSE))","v":""},{"$f":"IF($B678=\"\", \"\", VLOOKUP($B678, CAD!$T$7:$U$2000, 2, FALSE))","v":""},{"$f":"IF($B678=\"\", \"\", VLOOKUP($B678, CAD!$V$7:$W$2000, 2, FALSE))","v":""}]
[null,{"$f":"IF(CAD!B676=\"\", \"\", CAD!B676)","v":""},{"$f":"IF($B679=\"\", \"\", CAD!C676)","v":""},{"$f":"IF($B679=\"\", \"\",VLOOKUP($B679, CAD!$D$7:$E$2000, 2, FALSE))","v":""},{"$f":"IF($B679=\"\", \"\",VLOOKUP($B679, CAD!$F$7:$G$2000, 2, FALSE))","v":""},{"$f":"IF($B679=\"\", \"\",VLOOKUP($B679, CAD!$H$7:$I$2000, 2, FALSE))","v":""},{"$f":"IF($B679=\"\", \"\",VLOOKUP($B679, CAD!$J$7:$K$2000, 2, FALSE))","v":""},{"$f":"IF($B679=\"\", \"\", VLOOKUP($B679, CAD!$L$7:$M$2000, 2, FALSE))","v":""},{"$f":"IF($B679=\"\", \"\", VLOOKUP($B679, CAD!$N$7:$O$2000, 2, FALSE))","v":""},{"$f":"IF($B679=\"\", \"\", VLOOKUP($B679, CAD!$P$7:$Q$2000, 2, FALSE))","v":""},{"$f":"IF($B679=\"\", \"\", VLOOKUP($B679, CAD!$R$7:$S$2000, 2, FALSE))","v":""},{"$f":"IF($B679=\"\", \"\", VLOOKUP($B679, CAD!$T$7:$U$2000, 2, FALSE))","v":""},{"$f":"IF($B679=\"\", \"\", VLOOKUP($B679, CAD!$V$7:$W$2000, 2, FALSE))","v":""}]
[null,{"$f":"IF(CAD!B677=\"\", \"\", CAD!B677)","v":""},{"$f":"IF($B680=\"\", \"\", CAD!C677)","v":""},{"$f":"IF($B680=\"\", \"\",VLOOKUP($B680, CAD!$D$7:$E$2000, 2, FALSE))","v":""},{"$f":"IF($B680=\"\", \"\",VLOOKUP($B680, CAD!$F$7:$G$2000, 2, FALSE))","v":""},{"$f":"IF($B680=\"\", \"\",VLOOKUP($B680, CAD!$H$7:$I$2000, 2, FALSE))","v":""},{"$f":"IF($B680=\"\", \"\",VLOOKUP($B680, CAD!$J$7:$K$2000, 2, FALSE))","v":""},{"$f":"IF($B680=\"\", \"\", VLOOKUP($B680, CAD!$L$7:$M$2000, 2, FALSE))","v":""},{"$f":"IF($B680=\"\", \"\", VLOOKUP($B680, CAD!$N$7:$O$2000, 2, FALSE))","v":""},{"$f":"IF($B680=\"\", \"\", VLOOKUP($B680, CAD!$P$7:$Q$2000, 2, FALSE))","v":""},{"$f":"IF($B680=\"\", \"\", VLOOKUP($B680, CAD!$R$7:$S$2000, 2, FALSE))","v":""},{"$f":"IF($B680=\"\", \"\", VLOOKUP($B680, CAD!$T$7:$U$2000, 2, FALSE))","v":""},{"$f":"IF($B680=\"\", \"\", VLOOKUP($B680, CAD!$V$7:$W$2000, 2, FALSE))","v":""}]
[null,{"$f":"IF(CAD!B678=\"\", \"\", CAD!B678)","v":""},{"$f":"IF($B681=\"\", \"\", CAD!C678)","v":""},{"$f":"IF($B681=\"\", \"\",VLOOKUP($B681, CAD!$D$7:$E$2000, 2, FALSE))","v":""},{"$f":"IF($B681=\"\", \"\",VLOOKUP($B681, CAD!$F$7:$G$2000, 2, FALSE))","v":""},{"$f":"IF($B681=\"\", \"\",VLOOKUP($B681, CAD!$H$7:$I$2000, 2, FALSE))","v":""},{"$f":"IF($B681=\"\", \"\",VLOOKUP($B681, CAD!$J$7:$K$2000, 2, FALSE))","v":""},{"$f":"IF($B681=\"\", \"\", VLOOKUP($B681, CAD!$L$7:$M$2000, 2, FALSE))","v":""},{"$f":"IF($B681=\"\", \"\", VLOOKUP($B681, CAD!$N$7:$O$2000, 2, FALSE))","v":""},{"$f":"IF($B681=\"\", \"\", VLOOKUP($B681, CAD!$P$7:$Q$2000, 2, FALSE))","v":""},{"$f":"IF($B681=\"\", \"\", VLOOKUP($B681, CAD!$R$7:$S$2000, 2, FALSE))","v":""},{"$f":"IF($B681=\"\", \"\", VLOOKUP($B681, CAD!$T$7:$U$2000, 2, FALSE))","v":""},{"$f":"IF($B681=\"\", \"\", VLOOKUP($B681, CAD!$V$7:$W$2000, 2, FALSE))","v":""}]
[null,{"$f":"IF(CAD!B679=\"\", \"\", CAD!B679)","v":""},{"$f":"IF($B682=\"\", \"\", CAD!C679)","v":""},{"$f":"IF($B682=\"\", \"\",VLOOKUP($B682, CAD!$D$7:$E$2000, 2, FALSE))","v":""},{"$f":"IF($B682=\"\", \"\",VLOOKUP($B682, CAD!$F$7:$G$2000, 2, FALSE))","v":""},{"$f":"IF($B682=\"\", \"\",VLOOKUP($B682, CAD!$H$7:$I$2000, 2, FALSE))","v":""},{"$f":"IF($B682=\"\", \"\",VLOOKUP($B682, CAD!$J$7:$K$2000, 2, FALSE))","v":""},{"$f":"IF($B682=\"\", \"\", VLOOKUP($B682, CAD!$L$7:$M$2000, 2, FALSE))","v":""},{"$f":"IF($B682=\"\", \"\", VLOOKUP($B682, CAD!$N$7:$O$2000, 2, FALSE))","v":""},{"$f":"IF($B682=\"\", \"\", VLOOKUP($B682, CAD!$P$7:$Q$2000, 2, FALSE))","v":""},{"$f":"IF($B682=\"\", \"\", VLOOKUP($B682, CAD!$R$7:$S$2000, 2, FALSE))","v":""},{"$f":"IF($B682=\"\", \"\", VLOOKUP($B682, CAD!$T$7:$U$2000, 2, FALSE))","v":""},{"$f":"IF($B682=\"\", \"\", VLOOKUP($B682, CAD!$V$7:$W$2000, 2, FALSE))","v":""}]
[null,{"$f":"IF(CAD!B680=\"\", \"\", CAD!B680)","v":""},{"$f":"IF($B683=\"\", \"\", CAD!C680)","v":""},{"$f":"IF($B683=\"\", \"\",VLOOKUP($B683, CAD!$D$7:$E$2000, 2, FALSE))","v":""},{"$f":"IF($B683=\"\", \"\",VLOOKUP($B683, CAD!$F$7:$G$2000, 2, FALSE))","v":""},{"$f":"IF($B683=\"\", \"\",VLOOKUP($B683, CAD!$H$7:$I$2000, 2, FALSE))","v":""},{"$f":"IF($B683=\"\", \"\",VLOOKUP($B683, CAD!$J$7:$K$2000, 2, FALSE))","v":""},{"$f":"IF($B683=\"\", \"\", VLOOKUP($B683, CAD!$L$7:$M$2000, 2, FALSE))","v":""},{"$f":"IF($B683=\"\", \"\", VLOOKUP($B683, CAD!$N$7:$O$2000, 2, FALSE))","v":""},{"$f":"IF($B683=\"\", \"\", VLOOKUP($B683, CAD!$P$7:$Q$2000, 2, FALSE))","v":""},{"$f":"IF($B683=\"\", \"\", VLOOKUP($B683, CAD!$R$7:$S$2000, 2, FALSE))","v":""},{"$f":"IF($B683=\"\", \"\", VLOOKUP($B683, CAD!$T$7:$U$2000, 2, FALSE))","v":""},{"$f":"IF($B683=\"\", \"\", VLOOKUP($B683, CAD!$V$7:$W$2000, 2, FALSE))","v":""}]
[null,{"$f":"IF(CAD!B681=\"\", \"\", CAD!B681)","v":""},{"$f":"IF($B684=\"\", \"\", CAD!C681)","v":""},{"$f":"IF($B684=\"\", \"\",VLOOKUP($B684, CAD!$D$7:$E$2000, 2, FALSE))","v":""},{"$f":"IF($B684=\"\", \"\",VLOOKUP($B684, CAD!$F$7:$G$2000, 2, FALSE))","v":""},{"$f":"IF($B684=\"\", \"\",VLOOKUP($B684, CAD!$H$7:$I$2000, 2, FALSE))","v":""},{"$f":"IF($B684=\"\", \"\",VLOOKUP($B684, CAD!$J$7:$K$2000, 2, FALSE))","v":""},{"$f":"IF($B684=\"\", \"\", VLOOKUP($B684, CAD!$L$7:$M$2000, 2, FALSE))","v":""},{"$f":"IF($B684=\"\", \"\", VLOOKUP($B684, CAD!$N$7:$O$2000, 2, FALSE))","v":""},{"$f":"IF($B684=\"\", \"\", VLOOKUP($B684, CAD!$P$7:$Q$2000, 2, FALSE))","v":""},{"$f":"IF($B684=\"\", \"\", VLOOKUP($B684, CAD!$R$7:$S$2000, 2, FALSE))","v":""},{"$f":"IF($B684=\"\", \"\", VLOOKUP($B684, CAD!$T$7:$U$2000, 2, FALSE))","v":""},{"$f":"IF($B684=\"\", \"\", VLOOKUP($B684, CAD!$V$7:$W$2000, 2, FALSE))","v":""}]
[null,{"$f":"IF(CAD!B682=\"\", \"\", CAD!B682)","v":""},{"$f":"IF($B685=\"\", \"\", CAD!C682)","v":""},{"$f":"IF($B685=\"\", \"\",VLOOKUP($B685, CAD!$D$7:$E$2000, 2, FALSE))","v":""},{"$f":"IF($B685=\"\", \"\",VLOOKUP($B685, CAD!$F$7:$G$2000, 2, FALSE))","v":""},{"$f":"IF($B685=\"\", \"\",VLOOKUP($B685, CAD!$H$7:$I$2000, 2, FALSE))","v":""},{"$f":"IF($B685=\"\", \"\",VLOOKUP($B685, CAD!$J$7:$K$2000, 2, FALSE))","v":""},{"$f":"IF($B685=\"\", \"\", VLOOKUP($B685, CAD!$L$7:$M$2000, 2, FALSE))","v":""},{"$f":"IF($B685=\"\", \"\", VLOOKUP($B685, CAD!$N$7:$O$2000, 2, FALSE))","v":""},{"$f":"IF($B685=\"\", \"\", VLOOKUP($B685, CAD!$P$7:$Q$2000, 2, FALSE))","v":""},{"$f":"IF($B685=\"\", \"\", VLOOKUP($B685, CAD!$R$7:$S$2000, 2, FALSE))","v":""},{"$f":"IF($B685=\"\", \"\", VLOOKUP($B685, CAD!$T$7:$U$2000, 2, FALSE))","v":""},{"$f":"IF($B685=\"\", \"\", VLOOKUP($B685, CAD!$V$7:$W$2000, 2, FALSE))","v":""}]
[null,{"$f":"IF(CAD!B683=\"\", \"\", CAD!B683)","v":""},{"$f":"IF($B686=\"\", \"\", CAD!C683)","v":""},{"$f":"IF($B686=\"\", \"\",VLOOKUP($B686, CAD!$D$7:$E$2000, 2, FALSE))","v":""},{"$f":"IF($B686=\"\", \"\",VLOOKUP($B686, CAD!$F$7:$G$2000, 2, FALSE))","v":""},{"$f":"IF($B686=\"\", \"\",VLOOKUP($B686, CAD!$H$7:$I$2000, 2, FALSE))","v":""},{"$f":"IF($B686=\"\", \"\",VLOOKUP($B686, CAD!$J$7:$K$2000, 2, FALSE))","v":""},{"$f":"IF($B686=\"\", \"\", VLOOKUP($B686, CAD!$L$7:$M$2000, 2, FALSE))","v":""},{"$f":"IF($B686=\"\", \"\", VLOOKUP($B686, CAD!$N$7:$O$2000, 2, FALSE))","v":""},{"$f":"IF($B686=\"\", \"\", VLOOKUP($B686, CAD!$P$7:$Q$2000, 2, FALSE))","v":""},{"$f":"IF($B686=\"\", \"\", VLOOKUP($B686, CAD!$R$7:$S$2000, 2, FALSE))","v":""},{"$f":"IF($B686=\"\", \"\", VLOOKUP($B686, CAD!$T$7:$U$2000, 2, FALSE))","v":""},{"$f":"IF($B686=\"\", \"\", VLOOKUP($B686, CAD!$V$7:$W$2000, 2, FALSE))","v":""}]
[null,{"$f":"IF(CAD!B684=\"\", \"\", CAD!B684)","v":""},{"$f":"IF($B687=\"\", \"\", CAD!C684)","v":""},{"$f":"IF($B687=\"\", \"\",VLOOKUP($B687, CAD!$D$7:$E$2000, 2, FALSE))","v":""},{"$f":"IF($B687=\"\", \"\",VLOOKUP($B687, CAD!$F$7:$G$2000, 2, FALSE))","v":""},{"$f":"IF($B687=\"\", \"\",VLOOKUP($B687, CAD!$H$7:$I$2000, 2, FALSE))","v":""},{"$f":"IF($B687=\"\", \"\",VLOOKUP($B687, CAD!$J$7:$K$2000, 2, FALSE))","v":""},{"$f":"IF($B687=\"\", \"\", VLOOKUP($B687, CAD!$L$7:$M$2000, 2, FALSE))","v":""},{"$f":"IF($B687=\"\", \"\", VLOOKUP($B687, CAD!$N$7:$O$2000, 2, FALSE))","v":""},{"$f":"IF($B687=\"\", \"\", VLOOKUP($B687, CAD!$P$7:$Q$2000, 2, FALSE))","v":""},{"$f":"IF($B687=\"\", \"\", VLOOKUP($B687, CAD!$R$7:$S$2000, 2, FALSE))","v":""},{"$f":"IF($B687=\"\", \"\", VLOOKUP($B687, CAD!$T$7:$U$2000, 2, FALSE))","v":""},{"$f":"IF($B687=\"\", \"\", VLOOKUP($B687, CAD!$V$7:$W$2000, 2, FALSE))","v":""}]
[null,{"$f":"IF(CAD!B685=\"\", \"\", CAD!B685)","v":""},{"$f":"IF($B688=\"\", \"\", CAD!C685)","v":""},{"$f":"IF($B688=\"\", \"\",VLOOKUP($B688, CAD!$D$7:$E$2000, 2, FALSE))","v":""},{"$f":"IF($B688=\"\", \"\",VLOOKUP($B688, CAD!$F$7:$G$2000, 2, FALSE))","v":""},{"$f":"IF($B688=\"\", \"\",VLOOKUP($B688, CAD!$H$7:$I$2000, 2, FALSE))","v":""},{"$f":"IF($B688=\"\", \"\",VLOOKUP($B688, CAD!$J$7:$K$2000, 2, FALSE))","v":""},{"$f":"IF($B688=\"\", \"\", VLOOKUP($B688, CAD!$L$7:$M$2000, 2, FALSE))","v":""},{"$f":"IF($B688=\"\", \"\", VLOOKUP($B688, CAD!$N$7:$O$2000, 2, FALSE))","v":""},{"$f":"IF($B688=\"\", \"\", VLOOKUP($B688, CAD!$P$7:$Q$2000, 2, FALSE))","v":""},{"$f":"IF($B688=\"\", \"\", VLOOKUP($B688, CAD!$R$7:$S$2000, 2, FALSE))","v":""},{"$f":"IF($B688=\"\", \"\", VLOOKUP($B688, CAD!$T$7:$U$2000, 2, FALSE))","v":""},{"$f":"IF($B688=\"\", \"\", VLOOKUP($B688, CAD!$V$7:$W$2000, 2, FALSE))","v":""}]
[null,{"$f":"IF(CAD!B686=\"\", \"\", CAD!B686)","v":""},{"$f":"IF($B689=\"\", \"\", CAD!C686)","v":""},{"$f":"IF($B689=\"\", \"\",VLOOKUP($B689, CAD!$D$7:$E$2000, 2, FALSE))","v":""},{"$f":"IF($B689=\"\", \"\",VLOOKUP($B689, CAD!$F$7:$G$2000, 2, FALSE))","v":""},{"$f":"IF($B689=\"\", \"\",VLOOKUP($B689, CAD!$H$7:$I$2000, 2, FALSE))","v":""},{"$f":"IF($B689=\"\", \"\",VLOOKUP($B689, CAD!$J$7:$K$2000, 2, FALSE))","v":""},{"$f":"IF($B689=\"\", \"\", VLOOKUP($B689, CAD!$L$7:$M$2000, 2, FALSE))","v":""},{"$f":"IF($B689=\"\", \"\", VLOOKUP($B689, CAD!$N$7:$O$2000, 2, FALSE))","v":""},{"$f":"IF($B689=\"\", \"\", VLOOKUP($B689, CAD!$P$7:$Q$2000, 2, FALSE))","v":""},{"$f":"IF($B689=\"\", \"\", VLOOKUP($B689, CAD!$R$7:$S$2000, 2, FALSE))","v":""},{"$f":"IF($B689=\"\", \"\", VLOOKUP($B689, CAD!$T$7:$U$2000, 2, FALSE))","v":""},{"$f":"IF($B689=\"\", \"\", VLOOKUP($B689, CAD!$V$7:$W$2000, 2, FALSE))","v":""}]
[null,{"$f":"IF(CAD!B687=\"\", \"\", CAD!B687)","v":""},{"$f":"IF($B690=\"\", \"\", CAD!C687)","v":""},{"$f":"IF($B690=\"\", \"\",VLOOKUP($B690, CAD!$D$7:$E$2000, 2, FALSE))","v":""},{"$f":"IF($B690=\"\", \"\",VLOOKUP($B690, CAD!$F$7:$G$2000, 2, FALSE))","v":""},{"$f":"IF($B690=\"\", \"\",VLOOKUP($B690, CAD!$H$7:$I$2000, 2, FALSE))","v":""},{"$f":"IF($B690=\"\", \"\",VLOOKUP($B690, CAD!$J$7:$K$2000, 2, FALSE))","v":""},{"$f":"IF($B690=\"\", \"\", VLOOKUP($B690, CAD!$L$7:$M$2000, 2, FALSE))","v":""},{"$f":"IF($B690=\"\", \"\", VLOOKUP($B690, CAD!$N$7:$O$2000, 2, FALSE))","v":""},{"$f":"IF($B690=\"\", \"\", VLOOKUP($B690, CAD!$P$7:$Q$2000, 2, FALSE))","v":""},{"$f":"IF($B690=\"\", \"\", VLOOKUP($B690, CAD!$R$7:$S$2000, 2, FALSE))","v":""},{"$f":"IF($B690=\"\", \"\", VLOOKUP($B690, CAD!$T$7:$U$2000, 2, FALSE))","v":""},{"$f":"IF($B690=\"\", \"\", VLOOKUP($B690, CAD!$V$7:$W$2000, 2, FALSE))","v":""}]
[null,{"$f":"IF(CAD!B688=\"\", \"\", CAD!B688)","v":""},{"$f":"IF($B691=\"\", \"\", CAD!C688)","v":""},{"$f":"IF($B691=\"\", \"\",VLOOKUP($B691, CAD!$D$7:$E$2000, 2, FALSE))","v":""},{"$f":"IF($B691=\"\", \"\",VLOOKUP($B691, CAD!$F$7:$G$2000, 2, FALSE))","v":""},{"$f":"IF($B691=\"\", \"\",VLOOKUP($B691, CAD!$H$7:$I$2000, 2, FALSE))","v":""},{"$f":"IF($B691=\"\", \"\",VLOOKUP($B691, CAD!$J$7:$K$2000, 2, FALSE))","v":""},{"$f":"IF($B691=\"\", \"\", VLOOKUP($B691, CAD!$L$7:$M$2000, 2, FALSE))","v":""},{"$f":"IF($B691=\"\", \"\", VLOOKUP($B691, CAD!$N$7:$O$2000, 2, FALSE))","v":""},{"$f":"IF($B691=\"\", \"\", VLOOKUP($B691, CAD!$P$7:$Q$2000, 2, FALSE))","v":""},{"$f":"IF($B691=\"\", \"\", VLOOKUP($B691, CAD!$R$7:$S$2000, 2, FALSE))","v":""},{"$f":"IF($B691=\"\", \"\", VLOOKUP($B691, CAD!$T$7:$U$2000, 2, FALSE))","v":""},{"$f":"IF($B691=\"\", \"\", VLOOKUP($B691, CAD!$V$7:$W$2000, 2, FALSE))","v":""}]
[null,{"$f":"IF(CAD!B689=\"\", \"\", CAD!B689)","v":""},{"$f":"IF($B692=\"\", \"\", CAD!C689)","v":""},{"$f":"IF($B692=\"\", \"\",VLOOKUP($B692, CAD!$D$7:$E$2000, 2, FALSE))","v":""},{"$f":"IF($B692=\"\", \"\",VLOOKUP($B692, CAD!$F$7:$G$2000, 2, FALSE))","v":""},{"$f":"IF($B692=\"\", \"\",VLOOKUP($B692, CAD!$H$7:$I$2000, 2, FALSE))","v":""},{"$f":"IF($B692=\"\", \"\",VLOOKUP($B692, CAD!$J$7:$K$2000, 2, FALSE))","v":""},{"$f":"IF($B692=\"\", \"\", VLOOKUP($B692, CAD!$L$7:$M$2000, 2, FALSE))","v":""},{"$f":"IF($B692=\"\", \"\", VLOOKUP($B692, CAD!$N$7:$O$2000, 2, FALSE))","v":""},{"$f":"IF($B692=\"\", \"\", VLOOKUP($B692, CAD!$P$7:$Q$2000, 2, FALSE))","v":""},{"$f":"IF($B692=\"\", \"\", VLOOKUP($B692, CAD!$R$7:$S$2000, 2, FALSE))","v":""},{"$f":"IF($B692=\"\", \"\", VLOOKUP($B692, CAD!$T$7:$U$2000, 2, FALSE))","v":""},{"$f":"IF($B692=\"\", \"\", VLOOKUP($B692, CAD!$V$7:$W$2000, 2, FALSE))","v":""}]
[null,{"$f":"IF(CAD!B690=\"\", \"\", CAD!B690)","v":""},{"$f":"IF($B693=\"\", \"\", CAD!C690)","v":""},{"$f":"IF($B693=\"\", \"\",VLOOKUP($B693, CAD!$D$7:$E$2000, 2, FALSE))","v":""},{"$f":"IF($B693=\"\", \"\",VLOOKUP($B693, CAD!$F$7:$G$2000, 2, FALSE))","v":""},{"$f":"IF($B693=\"\", \"\",VLOOKUP($B693, CAD!$H$7:$I$2000, 2, FALSE))","v":""},{"$f":"IF($B693=\"\", \"\",VLOOKUP($B693, CAD!$J$7:$K$2000, 2, FALSE))","v":""},{"$f":"IF($B693=\"\", \"\", VLOOKUP($B693, CAD!$L$7:$M$2000, 2, FALSE))","v":""},{"$f":"IF($B693=\"\", \"\", VLOOKUP($B693, CAD!$N$7:$O$2000, 2, FALSE))","v":""},{"$f":"IF($B693=\"\", \"\", VLOOKUP($B693, CAD!$P$7:$Q$2000, 2, FALSE))","v":""},{"$f":"IF($B693=\"\", \"\", VLOOKUP($B693, CAD!$R$7:$S$2000, 2, FALSE))","v":""},{"$f":"IF($B693=\"\", \"\", VLOOKUP($B693, CAD!$T$7:$U$2000, 2, FALSE))","v":""},{"$f":"IF($B693=\"\", \"\", VLOOKUP($B693, CAD!$V$7:$W$2000, 2, FALSE))","v":""}]
[null,{"$f":"IF(CAD!B691=\"\", \"\", CAD!B691)","v":""},{"$f":"IF($B694=\"\", \"\", CAD!C691)","v":""},{"$f":"IF($B694=\"\", \"\",VLOOKUP($B694, CAD!$D$7:$E$2000, 2, FALSE))","v":""},{"$f":"IF($B694=\"\", \"\",VLOOKUP($B694, CAD!$F$7:$G$2000, 2, FALSE))","v":""},{"$f":"IF($B694=\"\", \"\",VLOOKUP($B694, CAD!$H$7:$I$2000, 2, FALSE))","v":""},{"$f":"IF($B694=\"\", \"\",VLOOKUP($B694, CAD!$J$7:$K$2000, 2, FALSE))","v":""},{"$f":"IF($B694=\"\", \"\", VLOOKUP($B694, CAD!$L$7:$M$2000, 2, FALSE))","v":""},{"$f":"IF($B694=\"\", \"\", VLOOKUP($B694, CAD!$N$7:$O$2000, 2, FALSE))","v":""},{"$f":"IF($B694=\"\", \"\", VLOOKUP($B694, CAD!$P$7:$Q$2000, 2, FALSE))","v":""},{"$f":"IF($B694=\"\", \"\", VLOOKUP($B694, CAD!$R$7:$S$2000, 2, FALSE))","v":""},{"$f":"IF($B694=\"\", \"\", VLOOKUP($B694, CAD!$T$7:$U$2000, 2, FALSE))","v":""},{"$f":"IF($B694=\"\", \"\", VLOOKUP($B694, CAD!$V$7:$W$2000, 2, FALSE))","v":""}]
[null,{"$f":"IF(CAD!B692=\"\", \"\", CAD!B692)","v":""},{"$f":"IF($B695=\"\", \"\", CAD!C692)","v":""},{"$f":"IF($B695=\"\", \"\",VLOOKUP($B695, CAD!$D$7:$E$2000, 2, FALSE))","v":""},{"$f":"IF($B695=\"\", \"\",VLOOKUP($B695, CAD!$F$7:$G$2000, 2, FALSE))","v":""},{"$f":"IF($B695=\"\", \"\",VLOOKUP($B695, CAD!$H$7:$I$2000, 2, FALSE))","v":""},{"$f":"IF($B695=\"\", \"\",VLOOKUP($B695, CAD!$J$7:$K$2000, 2, FALSE))","v":""},{"$f":"IF($B695=\"\", \"\", VLOOKUP($B695, CAD!$L$7:$M$2000, 2, FALSE))","v":""},{"$f":"IF($B695=\"\", \"\", VLOOKUP($B695, CAD!$N$7:$O$2000, 2, FALSE))","v":""},{"$f":"IF($B695=\"\", \"\", VLOOKUP($B695, CAD!$P$7:$Q$2000, 2, FALSE))","v":""},{"$f":"IF($B695=\"\", \"\", VLOOKUP($B695, CAD!$R$7:$S$2000, 2, FALSE))","v":""},{"$f":"IF($B695=\"\", \"\", VLOOKUP($B695, CAD!$T$7:$U$2000, 2, FALSE))","v":""},{"$f":"IF($B695=\"\", \"\", VLOOKUP($B695, CAD!$V$7:$W$2000, 2, FALSE))","v":""}]
[null,{"$f":"IF(CAD!B693=\"\", \"\", CAD!B693)","v":""},{"$f":"IF($B696=\"\", \"\", CAD!C693)","v":""},{"$f":"IF($B696=\"\", \"\",VLOOKUP($B696, CAD!$D$7:$E$2000, 2, FALSE))","v":""},{"$f":"IF($B696=\"\", \"\",VLOOKUP($B696, CAD!$F$7:$G$2000, 2, FALSE))","v":""},{"$f":"IF($B696=\"\", \"\",VLOOKUP($B696, CAD!$H$7:$I$2000, 2, FALSE))","v":""},{"$f":"IF($B696=\"\", \"\",VLOOKUP($B696, CAD!$J$7:$K$2000, 2, FALSE))","v":""},{"$f":"IF($B696=\"\", \"\", VLOOKUP($B696, CAD!$L$7:$M$2000, 2, FALSE))","v":""},{"$f":"IF($B696=\"\", \"\", VLOOKUP($B696, CAD!$N$7:$O$2000, 2, FALSE))","v":""},{"$f":"IF($B696=\"\", \"\", VLOOKUP($B696, CAD!$P$7:$Q$2000, 2, FALSE))","v":""},{"$f":"IF($B696=\"\", \"\", VLOOKUP($B696, CAD!$R$7:$S$2000, 2, FALSE))","v":""},{"$f":"IF($B696=\"\", \"\", VLOOKUP($B696, CAD!$T$7:$U$2000, 2, FALSE))","v":""},{"$f":"IF($B696=\"\", \"\", VLOOKUP($B696, CAD!$V$7:$W$2000, 2, FALSE))","v":""}]
[null,{"$f":"IF(CAD!B694=\"\", \"\", CAD!B694)","v":""},{"$f":"IF($B697=\"\", \"\", CAD!C694)","v":""},{"$f":"IF($B697=\"\", \"\",VLOOKUP($B697, CAD!$D$7:$E$2000, 2, FALSE))","v":""},{"$f":"IF($B697=\"\", \"\",VLOOKUP($B697, CAD!$F$7:$G$2000, 2, FALSE))","v":""},{"$f":"IF($B697=\"\", \"\",VLOOKUP($B697, CAD!$H$7:$I$2000, 2, FALSE))","v":""},{"$f":"IF($B697=\"\", \"\",VLOOKUP($B697, CAD!$J$7:$K$2000, 2, FALSE))","v":""},{"$f":"IF($B697=\"\", \"\", VLOOKUP($B697, CAD!$L$7:$M$2000, 2, FALSE))","v":""},{"$f":"IF($B697=\"\", \"\", VLOOKUP($B697, CAD!$N$7:$O$2000, 2, FALSE))","v":""},{"$f":"IF($B697=\"\", \"\", VLOOKUP($B697, CAD!$P$7:$Q$2000, 2, FALSE))","v":""},{"$f":"IF($B697=\"\", \"\", VLOOKUP($B697, CAD!$R$7:$S$2000, 2, FALSE))","v":""},{"$f":"IF($B697=\"\", \"\", VLOOKUP($B697, CAD!$T$7:$U$2000, 2, FALSE))","v":""},{"$f":"IF($B697=\"\", \"\", VLOOKUP($B697, CAD!$V$7:$W$2000, 2, FALSE))","v":""}]
[null,{"$f":"IF(CAD!B695=\"\", \"\", CAD!B695)","v":""},{"$f":"IF($B698=\"\", \"\", CAD!C695)","v":""},{"$f":"IF($B698=\"\", \"\",VLOOKUP($B698, CAD!$D$7:$E$2000, 2, FALSE))","v":""},{"$f":"IF($B698=\"\", \"\",VLOOKUP($B698, CAD!$F$7:$G$2000, 2, FALSE))","v":""},{"$f":"IF($B698=\"\", \"\",VLOOKUP($B698, CAD!$H$7:$I$2000, 2, FALSE))","v":""},{"$f":"IF($B698=\"\", \"\",VLOOKUP($B698, CAD!$J$7:$K$2000, 2, FALSE))","v":""},{"$f":"IF($B698=\"\", \"\", VLOOKUP($B698, CAD!$L$7:$M$2000, 2, FALSE))","v":""},{"$f":"IF($B698=\"\", \"\", VLOOKUP($B698, CAD!$N$7:$O$2000, 2, FALSE))","v":""},{"$f":"IF($B698=\"\", \"\", VLOOKUP($B698, CAD!$P$7:$Q$2000, 2, FALSE))","v":""},{"$f":"IF($B698=\"\", \"\", VLOOKUP($B698, CAD!$R$7:$S$2000, 2, FALSE))","v":""},{"$f":"IF($B698=\"\", \"\", VLOOKUP($B698, CAD!$T$7:$U$2000, 2, FALSE))","v":""},{"$f":"IF($B698=\"\", \"\", VLOOKUP($B698, CAD!$V$7:$W$2000, 2, FALSE))","v":""}]
[null,{"$f":"IF(CAD!B696=\"\", \"\", CAD!B696)","v":""},{"$f":"IF($B699=\"\", \"\", CAD!C696)","v":""},{"$f":"IF($B699=\"\", \"\",VLOOKUP($B699, CAD!$D$7:$E$2000, 2, FALSE))","v":""},{"$f":"IF($B699=\"\", \"\",VLOOKUP($B699, CAD!$F$7:$G$2000, 2, FALSE))","v":""},{"$f":"IF($B699=\"\", \"\",VLOOKUP($B699, CAD!$H$7:$I$2000, 2, FALSE))","v":""},{"$f":"IF($B699=\"\", \"\",VLOOKUP($B699, CAD!$J$7:$K$2000, 2, FALSE))","v":""},{"$f":"IF($B699=\"\", \"\", VLOOKUP($B699, CAD!$L$7:$M$2000, 2, FALSE))","v":""},{"$f":"IF($B699=\"\", \"\", VLOOKUP($B699, CAD!$N$7:$O$2000, 2, FALSE))","v":""},{"$f":"IF($B699=\"\", \"\", VLOOKUP($B699, CAD!$P$7:$Q$2000, 2, FALSE))","v":""},{"$f":"IF($B699=\"\", \"\", VLOOKUP($B699, CAD!$R$7:$S$2000, 2, FALSE))","v":""},{"$f":"IF($B699=\"\", \"\", VLOOKUP($B699, CAD!$T$7:$U$2000, 2, FALSE))","v":""},{"$f":"IF($B699=\"\", \"\", VLOOKUP($B699, CAD!$V$7:$W$2000, 2, FALSE))","v":""}]
[null,{"$f":"IF(CAD!B697=\"\", \"\", CAD!B697)","v":""},{"$f":"IF($B700=\"\", \"\", CAD!C697)","v":""},{"$f":"IF($B700=\"\", \"\",VLOOKUP($B700, CAD!$D$7:$E$2000, 2, FALSE))","v":""},{"$f":"IF($B700=\"\", \"\",VLOOKUP($B700, CAD!$F$7:$G$2000, 2, FALSE))","v":""},{"$f":"IF($B700=\"\", \"\",VLOOKUP($B700, CAD!$H$7:$I$2000, 2, FALSE))","v":""},{"$f":"IF($B700=\"\", \"\",VLOOKUP($B700, CAD!$J$7:$K$2000, 2, FALSE))","v":""},{"$f":"IF($B700=\"\", \"\", VLOOKUP($B700, CAD!$L$7:$M$2000, 2, FALSE))","v":""},{"$f":"IF($B700=\"\", \"\", VLOOKUP($B700, CAD!$N$7:$O$2000, 2, FALSE))","v":""},{"$f":"IF($B700=\"\", \"\", VLOOKUP($B700, CAD!$P$7:$Q$2000, 2, FALSE))","v":""},{"$f":"IF($B700=\"\", \"\", VLOOKUP($B700, CAD!$R$7:$S$2000, 2, FALSE))","v":""},{"$f":"IF($B700=\"\", \"\", VLOOKUP($B700, CAD!$T$7:$U$2000, 2, FALSE))","v":""},{"$f":"IF($B700=\"\", \"\", VLOOKUP($B700, CAD!$V$7:$W$2000, 2, FALSE))","v":""}]
[null,{"$f":"IF(CAD!B698=\"\", \"\", CAD!B698)","v":""},{"$f":"IF($B701=\"\", \"\", CAD!C698)","v":""},{"$f":"IF($B701=\"\", \"\",VLOOKUP($B701, CAD!$D$7:$E$2000, 2, FALSE))","v":""},{"$f":"IF($B701=\"\", \"\",VLOOKUP($B701, CAD!$F$7:$G$2000, 2, FALSE))","v":""},{"$f":"IF($B701=\"\", \"\",VLOOKUP($B701, CAD!$H$7:$I$2000, 2, FALSE))","v":""},{"$f":"IF($B701=\"\", \"\",VLOOKUP($B701, CAD!$J$7:$K$2000, 2, FALSE))","v":""},{"$f":"IF($B701=\"\", \"\", VLOOKUP($B701, CAD!$L$7:$M$2000, 2, FALSE))","v":""},{"$f":"IF($B701=\"\", \"\", VLOOKUP($B701, CAD!$N$7:$O$2000, 2, FALSE))","v":""},{"$f":"IF($B701=\"\", \"\", VLOOKUP($B701, CAD!$P$7:$Q$2000, 2, FALSE))","v":""},{"$f":"IF($B701=\"\", \"\", VLOOKUP($B701, CAD!$R$7:$S$2000, 2, FALSE))","v":""},{"$f":"IF($B701=\"\", \"\", VLOOKUP($B701, CAD!$T$7:$U$2000, 2, FALSE))","v":""},{"$f":"IF($B701=\"\", \"\", VLOOKUP($B701, CAD!$V$7:$W$2000, 2, FALSE))","v":""}]
[null,{"$f":"IF(CAD!B699=\"\", \"\", CAD!B699)","v":""},{"$f":"IF($B702=\"\", \"\", CAD!C699)","v":""},{"$f":"IF($B702=\"\", \"\",VLOOKUP($B702, CAD!$D$7:$E$2000, 2, FALSE))","v":""},{"$f":"IF($B702=\"\", \"\",VLOOKUP($B702, CAD!$F$7:$G$2000, 2, FALSE))","v":""},{"$f":"IF($B702=\"\", \"\",VLOOKUP($B702, CAD!$H$7:$I$2000, 2, FALSE))","v":""},{"$f":"IF($B702=\"\", \"\",VLOOKUP($B702, CAD!$J$7:$K$2000, 2, FALSE))","v":""},{"$f":"IF($B702=\"\", \"\", VLOOKUP($B702, CAD!$L$7:$M$2000, 2, FALSE))","v":""},{"$f":"IF($B702=\"\", \"\", VLOOKUP($B702, CAD!$N$7:$O$2000, 2, FALSE))","v":""},{"$f":"IF($B702=\"\", \"\", VLOOKUP($B702, CAD!$P$7:$Q$2000, 2, FALSE))","v":""},{"$f":"IF($B702=\"\", \"\", VLOOKUP($B702, CAD!$R$7:$S$2000, 2, FALSE))","v":""},{"$f":"IF($B702=\"\", \"\", VLOOKUP($B702, CAD!$T$7:$U$2000, 2, FALSE))","v":""},{"$f":"IF($B702=\"\", \"\", VLOOKUP($B702, CAD!$V$7:$W$2000, 2, FALSE))","v":""}]
[null,{"$f":"IF(CAD!B700=\"\", \"\", CAD!B700)","v":""},{"$f":"IF($B703=\"\", \"\", CAD!C700)","v":""},{"$f":"IF($B703=\"\", \"\",VLOOKUP($B703, CAD!$D$7:$E$2000, 2, FALSE))","v":""},{"$f":"IF($B703=\"\", \"\",VLOOKUP($B703, CAD!$F$7:$G$2000, 2, FALSE))","v":""},{"$f":"IF($B703=\"\", \"\",VLOOKUP($B703, CAD!$H$7:$I$2000, 2, FALSE))","v":""},{"$f":"IF($B703=\"\", \"\",VLOOKUP($B703, CAD!$J$7:$K$2000, 2, FALSE))","v":""},{"$f":"IF($B703=\"\", \"\", VLOOKUP($B703, CAD!$L$7:$M$2000, 2, FALSE))","v":""},{"$f":"IF($B703=\"\", \"\", VLOOKUP($B703, CAD!$N$7:$O$2000, 2, FALSE))","v":""},{"$f":"IF($B703=\"\", \"\", VLOOKUP($B703, CAD!$P$7:$Q$2000, 2, FALSE))","v":""},{"$f":"IF($B703=\"\", \"\", VLOOKUP($B703, CAD!$R$7:$S$2000, 2, FALSE))","v":""},{"$f":"IF($B703=\"\", \"\", VLOOKUP($B703, CAD!$T$7:$U$2000, 2, FALSE))","v":""},{"$f":"IF($B703=\"\", \"\", VLOOKUP($B703, CAD!$V$7:$W$2000, 2, FALSE))","v":""}]
[null,{"$f":"IF(CAD!B701=\"\", \"\", CAD!B701)","v":""},{"$f":"IF($B704=\"\", \"\", CAD!C701)","v":""},{"$f":"IF($B704=\"\", \"\",VLOOKUP($B704, CAD!$D$7:$E$2000, 2, FALSE))","v":""},{"$f":"IF($B704=\"\", \"\",VLOOKUP($B704, CAD!$F$7:$G$2000, 2, FALSE))","v":""},{"$f":"IF($B704=\"\", \"\",VLOOKUP($B704, CAD!$H$7:$I$2000, 2, FALSE))","v":""},{"$f":"IF($B704=\"\", \"\",VLOOKUP($B704, CAD!$J$7:$K$2000, 2, FALSE))","v":""},{"$f":"IF($B704=\"\", \"\", VLOOKUP($B704, CAD!$L$7:$M$2000, 2, FALSE))","v":""},{"$f":"IF($B704=\"\", \"\", VLOOKUP($B704, CAD!$N$7:$O$2000, 2, FALSE))","v":""},{"$f":"IF($B704=\"\", \"\", VLOOKUP($B704, CAD!$P$7:$Q$2000, 2, FALSE))","v":""},{"$f":"IF($B704=\"\", \"\", VLOOKUP($B704, CAD!$R$7:$S$2000, 2, FALSE))","v":""},{"$f":"IF($B704=\"\", \"\", VLOOKUP($B704, CAD!$T$7:$U$2000, 2, FALSE))","v":""},{"$f":"IF($B704=\"\", \"\", VLOOKUP($B704, CAD!$V$7:$W$2000, 2, FALSE))","v":""}]
[null,{"$f":"IF(CAD!B702=\"\", \"\", CAD!B702)","v":""},{"$f":"IF($B705=\"\", \"\", CAD!C702)","v":""},{"$f":"IF($B705=\"\", \"\",VLOOKUP($B705, CAD!$D$7:$E$2000, 2, FALSE))","v":""},{"$f":"IF($B705=\"\", \"\",VLOOKUP($B705, CAD!$F$7:$G$2000, 2, FALSE))","v":""},{"$f":"IF($B705=\"\", \"\",VLOOKUP($B705, CAD!$H$7:$I$2000, 2, FALSE))","v":""},{"$f":"IF($B705=\"\", \"\",VLOOKUP($B705, CAD!$J$7:$K$2000, 2, FALSE))","v":""},{"$f":"IF($B705=\"\", \"\", VLOOKUP($B705, CAD!$L$7:$M$2000, 2, FALSE))","v":""},{"$f":"IF($B705=\"\", \"\", VLOOKUP($B705, CAD!$N$7:$O$2000, 2, FALSE))","v":""},{"$f":"IF($B705=\"\", \"\", VLOOKUP($B705, CAD!$P$7:$Q$2000, 2, FALSE))","v":""},{"$f":"IF($B705=\"\", \"\", VLOOKUP($B705, CAD!$R$7:$S$2000, 2, FALSE))","v":""},{"$f":"IF($B705=\"\", \"\", VLOOKUP($B705, CAD!$T$7:$U$2000, 2, FALSE))","v":""},{"$f":"IF($B705=\"\", \"\", VLOOKUP($B705, CAD!$V$7:$W$2000, 2, FALSE))","v":""}]
[null,{"$f":"IF(CAD!B703=\"\", \"\", CAD!B703)","v":""},{"$f":"IF($B706=\"\", \"\", CAD!C703)","v":""},{"$f":"IF($B706=\"\", \"\",VLOOKUP($B706, CAD!$D$7:$E$2000, 2, FALSE))","v":""},{"$f":"IF($B706=\"\", \"\",VLOOKUP($B706, CAD!$F$7:$G$2000, 2, FALSE))","v":""},{"$f":"IF($B706=\"\", \"\",VLOOKUP($B706, CAD!$H$7:$I$2000, 2, FALSE))","v":""},{"$f":"IF($B706=\"\", \"\",VLOOKUP($B706, CAD!$J$7:$K$2000, 2, FALSE))","v":""},{"$f":"IF($B706=\"\", \"\", VLOOKUP($B706, CAD!$L$7:$M$2000, 2, FALSE))","v":""},{"$f":"IF($B706=\"\", \"\", VLOOKUP($B706, CAD!$N$7:$O$2000, 2, FALSE))","v":""},{"$f":"IF($B706=\"\", \"\", VLOOKUP($B706, CAD!$P$7:$Q$2000, 2, FALSE))","v":""},{"$f":"IF($B706=\"\", \"\", VLOOKUP($B706, CAD!$R$7:$S$2000, 2, FALSE))","v":""},{"$f":"IF($B706=\"\", \"\", VLOOKUP($B706, CAD!$T$7:$U$2000, 2, FALSE))","v":""},{"$f":"IF($B706=\"\", \"\", VLOOKUP($B706, CAD!$V$7:$W$2000, 2, FALSE))","v":""}]
[null,{"$f":"IF(CAD!B704=\"\", \"\", CAD!B704)","v":""},{"$f":"IF($B707=\"\", \"\", CAD!C704)","v":""},{"$f":"IF($B707=\"\", \"\",VLOOKUP($B707, CAD!$D$7:$E$2000, 2, FALSE))","v":""},{"$f":"IF($B707=\"\", \"\",VLOOKUP($B707, CAD!$F$7:$G$2000, 2, FALSE))","v":""},{"$f":"IF($B707=\"\", \"\",VLOOKUP($B707, CAD!$H$7:$I$2000, 2, FALSE))","v":""},{"$f":"IF($B707=\"\", \"\",VLOOKUP($B707, CAD!$J$7:$K$2000, 2, FALSE))","v":""},{"$f":"IF($B707=\"\", \"\", VLOOKUP($B707, CAD!$L$7:$M$2000, 2, FALSE))","v":""},{"$f":"IF($B707=\"\", \"\", VLOOKUP($B707, CAD!$N$7:$O$2000, 2, FALSE))","v":""},{"$f":"IF($B707=\"\", \"\", VLOOKUP($B707, CAD!$P$7:$Q$2000, 2, FALSE))","v":""},{"$f":"IF($B707=\"\", \"\", VLOOKUP($B707, CAD!$R$7:$S$2000, 2, FALSE))","v":""},{"$f":"IF($B707=\"\", \"\", VLOOKUP($B707, CAD!$T$7:$U$2000, 2, FALSE))","v":""},{"$f":"IF($B707=\"\", \"\", VLOOKUP($B707, CAD!$V$7:$W$2000, 2, FALSE))","v":""}]
[null,{"$f":"IF(CAD!B705=\"\", \"\", CAD!B705)","v":""},{"$f":"IF($B708=\"\", \"\", CAD!C705)","v":""},{"$f":"IF($B708=\"\", \"\",VLOOKUP($B708, CAD!$D$7:$E$2000, 2, FALSE))","v":""},{"$f":"IF($B708=\"\", \"\",VLOOKUP($B708, CAD!$F$7:$G$2000, 2, FALSE))","v":""},{"$f":"IF($B708=\"\", \"\",VLOOKUP($B708, CAD!$H$7:$I$2000, 2, FALSE))","v":""},{"$f":"IF($B708=\"\", \"\",VLOOKUP($B708, CAD!$J$7:$K$2000, 2, FALSE))","v":""},{"$f":"IF($B708=\"\", \"\", VLOOKUP($B708, CAD!$L$7:$M$2000, 2, FALSE))","v":""},{"$f":"IF($B708=\"\", \"\", VLOOKUP($B708, CAD!$N$7:$O$2000, 2, FALSE))","v":""},{"$f":"IF($B708=\"\", \"\", VLOOKUP($B708, CAD!$P$7:$Q$2000, 2, FALSE))","v":""},{"$f":"IF($B708=\"\", \"\", VLOOKUP($B708, CAD!$R$7:$S$2000, 2, FALSE))","v":""},{"$f":"IF($B708=\"\", \"\", VLOOKUP($B708, CAD!$T$7:$U$2000, 2, FALSE))","v":""},{"$f":"IF($B708=\"\", \"\", VLOOKUP($B708, CAD!$V$7:$W$2000, 2, FALSE))","v":""}]
[null,{"$f":"IF(CAD!B706=\"\", \"\", CAD!B706)","v":""},{"$f":"IF($B709=\"\", \"\", CAD!C706)","v":""},{"$f":"IF($B709=\"\", \"\",VLOOKUP($B709, CAD!$D$7:$E$2000, 2, FALSE))","v":""},{"$f":"IF($B709=\"\", \"\",VLOOKUP($B709, CAD!$F$7:$G$2000, 2, FALSE))","v":""},{"$f":"IF($B709=\"\", \"\",VLOOKUP($B709, CAD!$H$7:$I$2000, 2, FALSE))","v":""},{"$f":"IF($B709=\"\", \"\",VLOOKUP($B709, CAD!$J$7:$K$2000, 2, FALSE))","v":""},{"$f":"IF($B709=\"\", \"\", VLOOKUP($B709, CAD!$L$7:$M$2000, 2, FALSE))","v":""},{"$f":"IF($B709=\"\", \"\", VLOOKUP($B709, CAD!$N$7:$O$2000, 2, FALSE))","v":""},{"$f":"IF($B709=\"\", \"\", VLOOKUP($B709, CAD!$P$7:$Q$2000, 2, FALSE))","v":""},{"$f":"IF($B709=\"\", \"\", VLOOKUP($B709, CAD!$R$7:$S$2000, 2, FALSE))","v":""},{"$f":"IF($B709=\"\", \"\", VLOOKUP($B709, CAD!$T$7:$U$2000, 2, FALSE))","v":""},{"$f":"IF($B709=\"\", \"\", VLOOKUP($B709, CAD!$V$7:$W$2000, 2, FALSE))","v":""}]
[null,{"$f":"IF(CAD!B707=\"\", \"\", CAD!B707)","v":""},{"$f":"IF($B710=\"\", \"\", CAD!C707)","v":""},{"$f":"IF($B710=\"\", \"\",VLOOKUP($B710, CAD!$D$7:$E$2000, 2, FALSE))","v":""},{"$f":"IF($B710=\"\", \"\",VLOOKUP($B710, CAD!$F$7:$G$2000, 2, FALSE))","v":""},{"$f":"IF($B710=\"\", \"\",VLOOKUP($B710, CAD!$H$7:$I$2000, 2, FALSE))","v":""},{"$f":"IF($B710=\"\", \"\",VLOOKUP($B710, CAD!$J$7:$K$2000, 2, FALSE))","v":""},{"$f":"IF($B710=\"\", \"\", VLOOKUP($B710, CAD!$L$7:$M$2000, 2, FALSE))","v":""},{"$f":"IF($B710=\"\", \"\", VLOOKUP($B710, CAD!$N$7:$O$2000, 2, FALSE))","v":""},{"$f":"IF($B710=\"\", \"\", VLOOKUP($B710, CAD!$P$7:$Q$2000, 2, FALSE))","v":""},{"$f":"IF($B710=\"\", \"\", VLOOKUP($B710, CAD!$R$7:$S$2000, 2, FALSE))","v":""},{"$f":"IF($B710=\"\", \"\", VLOOKUP($B710, CAD!$T$7:$U$2000, 2, FALSE))","v":""},{"$f":"IF($B710=\"\", \"\", VLOOKUP($B710, CAD!$V$7:$W$2000, 2, FALSE))","v":""}]
[null,{"$f":"IF(CAD!B708=\"\", \"\", CAD!B708)","v":""},{"$f":"IF($B711=\"\", \"\", CAD!C708)","v":""},{"$f":"IF($B711=\"\", \"\",VLOOKUP($B711, CAD!$D$7:$E$2000, 2, FALSE))","v":""},{"$f":"IF($B711=\"\", \"\",VLOOKUP($B711, CAD!$F$7:$G$2000, 2, FALSE))","v":""},{"$f":"IF($B711=\"\", \"\",VLOOKUP($B711, CAD!$H$7:$I$2000, 2, FALSE))","v":""},{"$f":"IF($B711=\"\", \"\",VLOOKUP($B711, CAD!$J$7:$K$2000, 2, FALSE))","v":""},{"$f":"IF($B711=\"\", \"\", VLOOKUP($B711, CAD!$L$7:$M$2000, 2, FALSE))","v":""},{"$f":"IF($B711=\"\", \"\", VLOOKUP($B711, CAD!$N$7:$O$2000, 2, FALSE))","v":""},{"$f":"IF($B711=\"\", \"\", VLOOKUP($B711, CAD!$P$7:$Q$2000, 2, FALSE))","v":""},{"$f":"IF($B711=\"\", \"\", VLOOKUP($B711, CAD!$R$7:$S$2000, 2, FALSE))","v":""},{"$f":"IF($B711=\"\", \"\", VLOOKUP($B711, CAD!$T$7:$U$2000, 2, FALSE))","v":""},{"$f":"IF($B711=\"\", \"\", VLOOKUP($B711, CAD!$V$7:$W$2000, 2, FALSE))","v":""}]
[null,{"$f":"IF(CAD!B709=\"\", \"\", CAD!B709)","v":""},{"$f":"IF($B712=\"\", \"\", CAD!C709)","v":""},{"$f":"IF($B712=\"\", \"\",VLOOKUP($B712, CAD!$D$7:$E$2000, 2, FALSE))","v":""},{"$f":"IF($B712=\"\", \"\",VLOOKUP($B712, CAD!$F$7:$G$2000, 2, FALSE))","v":""},{"$f":"IF($B712=\"\", \"\",VLOOKUP($B712, CAD!$H$7:$I$2000, 2, FALSE))","v":""},{"$f":"IF($B712=\"\", \"\",VLOOKUP($B712, CAD!$J$7:$K$2000, 2, FALSE))","v":""},{"$f":"IF($B712=\"\", \"\", VLOOKUP($B712, CAD!$L$7:$M$2000, 2, FALSE))","v":""},{"$f":"IF($B712=\"\", \"\", VLOOKUP($B712, CAD!$N$7:$O$2000, 2, FALSE))","v":""},{"$f":"IF($B712=\"\", \"\", VLOOKUP($B712, CAD!$P$7:$Q$2000, 2, FALSE))","v":""},{"$f":"IF($B712=\"\", \"\", VLOOKUP($B712, CAD!$R$7:$S$2000, 2, FALSE))","v":""},{"$f":"IF($B712=\"\", \"\", VLOOKUP($B712, CAD!$T$7:$U$2000, 2, FALSE))","v":""},{"$f":"IF($B712=\"\", \"\", VLOOKUP($B712, CAD!$V$7:$W$2000, 2, FALSE))","v":""}]
[null,{"$f":"IF(CAD!B710=\"\", \"\", CAD!B710)","v":""},{"$f":"IF($B713=\"\", \"\", CAD!C710)","v":""},{"$f":"IF($B713=\"\", \"\",VLOOKUP($B713, CAD!$D$7:$E$2000, 2, FALSE))","v":""},{"$f":"IF($B713=\"\", \"\",VLOOKUP($B713, CAD!$F$7:$G$2000, 2, FALSE))","v":""},{"$f":"IF($B713=\"\", \"\",VLOOKUP($B713, CAD!$H$7:$I$2000, 2, FALSE))","v":""},{"$f":"IF($B713=\"\", \"\",VLOOKUP($B713, CAD!$J$7:$K$2000, 2, FALSE))","v":""},{"$f":"IF($B713=\"\", \"\", VLOOKUP($B713, CAD!$L$7:$M$2000, 2, FALSE))","v":""},{"$f":"IF($B713=\"\", \"\", VLOOKUP($B713, CAD!$N$7:$O$2000, 2, FALSE))","v":""},{"$f":"IF($B713=\"\", \"\", VLOOKUP($B713, CAD!$P$7:$Q$2000, 2, FALSE))","v":""},{"$f":"IF($B713=\"\", \"\", VLOOKUP($B713, CAD!$R$7:$S$2000, 2, FALSE))","v":""},{"$f":"IF($B713=\"\", \"\", VLOOKUP($B713, CAD!$T$7:$U$2000, 2, FALSE))","v":""},{"$f":"IF($B713=\"\", \"\", VLOOKUP($B713, CAD!$V$7:$W$2000, 2, FALSE))","v":""}]
[null,{"$f":"IF(CAD!B711=\"\", \"\", CAD!B711)","v":""},{"$f":"IF($B714=\"\", \"\", CAD!C711)","v":""},{"$f":"IF($B714=\"\", \"\",VLOOKUP($B714, CAD!$D$7:$E$2000, 2, FALSE))","v":""},{"$f":"IF($B714=\"\", \"\",VLOOKUP($B714, CAD!$F$7:$G$2000, 2, FALSE))","v":""},{"$f":"IF($B714=\"\", \"\",VLOOKUP($B714, CAD!$H$7:$I$2000, 2, FALSE))","v":""},{"$f":"IF($B714=\"\", \"\",VLOOKUP($B714, CAD!$J$7:$K$2000, 2, FALSE))","v":""},{"$f":"IF($B714=\"\", \"\", VLOOKUP($B714, CAD!$L$7:$M$2000, 2, FALSE))","v":""},{"$f":"IF($B714=\"\", \"\", VLOOKUP($B714, CAD!$N$7:$O$2000, 2, FALSE))","v":""},{"$f":"IF($B714=\"\", \"\", VLOOKUP($B714, CAD!$P$7:$Q$2000, 2, FALSE))","v":""},{"$f":"IF($B714=\"\", \"\", VLOOKUP($B714, CAD!$R$7:$S$2000, 2, FALSE))","v":""},{"$f":"IF($B714=\"\", \"\", VLOOKUP($B714, CAD!$T$7:$U$2000, 2, FALSE))","v":""},{"$f":"IF($B714=\"\", \"\", VLOOKUP($B714, CAD!$V$7:$W$2000, 2, FALSE))","v":""}]
[null,{"$f":"IF(CAD!B712=\"\", \"\", CAD!B712)","v":""},{"$f":"IF($B715=\"\", \"\", CAD!C712)","v":""},{"$f":"IF($B715=\"\", \"\",VLOOKUP($B715, CAD!$D$7:$E$2000, 2, FALSE))","v":""},{"$f":"IF($B715=\"\", \"\",VLOOKUP($B715, CAD!$F$7:$G$2000, 2, FALSE))","v":""},{"$f":"IF($B715=\"\", \"\",VLOOKUP($B715, CAD!$H$7:$I$2000, 2, FALSE))","v":""},{"$f":"IF($B715=\"\", \"\",VLOOKUP($B715, CAD!$J$7:$K$2000, 2, FALSE))","v":""},{"$f":"IF($B715=\"\", \"\", VLOOKUP($B715, CAD!$L$7:$M$2000, 2, FALSE))","v":""},{"$f":"IF($B715=\"\", \"\", VLOOKUP($B715, CAD!$N$7:$O$2000, 2, FALSE))","v":""},{"$f":"IF($B715=\"\", \"\", VLOOKUP($B715, CAD!$P$7:$Q$2000, 2, FALSE))","v":""},{"$f":"IF($B715=\"\", \"\", VLOOKUP($B715, CAD!$R$7:$S$2000, 2, FALSE))","v":""},{"$f":"IF($B715=\"\", \"\", VLOOKUP($B715, CAD!$T$7:$U$2000, 2, FALSE))","v":""},{"$f":"IF($B715=\"\", \"\", VLOOKUP($B715, CAD!$V$7:$W$2000, 2, FALSE))","v":""}]
[null,{"$f":"IF(CAD!B713=\"\", \"\", CAD!B713)","v":""},{"$f":"IF($B716=\"\", \"\", CAD!C713)","v":""},{"$f":"IF($B716=\"\", \"\",VLOOKUP($B716, CAD!$D$7:$E$2000, 2, FALSE))","v":""},{"$f":"IF($B716=\"\", \"\",VLOOKUP($B716, CAD!$F$7:$G$2000, 2, FALSE))","v":""},{"$f":"IF($B716=\"\", \"\",VLOOKUP($B716, CAD!$H$7:$I$2000, 2, FALSE))","v":""},{"$f":"IF($B716=\"\", \"\",VLOOKUP($B716, CAD!$J$7:$K$2000, 2, FALSE))","v":""},{"$f":"IF($B716=\"\", \"\", VLOOKUP($B716, CAD!$L$7:$M$2000, 2, FALSE))","v":""},{"$f":"IF($B716=\"\", \"\", VLOOKUP($B716, CAD!$N$7:$O$2000, 2, FALSE))","v":""},{"$f":"IF($B716=\"\", \"\", VLOOKUP($B716, CAD!$P$7:$Q$2000, 2, FALSE))","v":""},{"$f":"IF($B716=\"\", \"\", VLOOKUP($B716, CAD!$R$7:$S$2000, 2, FALSE))","v":""},{"$f":"IF($B716=\"\", \"\", VLOOKUP($B716, CAD!$T$7:$U$2000, 2, FALSE))","v":""},{"$f":"IF($B716=\"\", \"\", VLOOKUP($B716, CAD!$V$7:$W$2000, 2, FALSE))","v":""}]
[null,{"$f":"IF(CAD!B714=\"\", \"\", CAD!B714)","v":""},{"$f":"IF($B717=\"\", \"\", CAD!C714)","v":""},{"$f":"IF($B717=\"\", \"\",VLOOKUP($B717, CAD!$D$7:$E$2000, 2, FALSE))","v":""},{"$f":"IF($B717=\"\", \"\",VLOOKUP($B717, CAD!$F$7:$G$2000, 2, FALSE))","v":""},{"$f":"IF($B717=\"\", \"\",VLOOKUP($B717, CAD!$H$7:$I$2000, 2, FALSE))","v":""},{"$f":"IF($B717=\"\", \"\",VLOOKUP($B717, CAD!$J$7:$K$2000, 2, FALSE))","v":""},{"$f":"IF($B717=\"\", \"\", VLOOKUP($B717, CAD!$L$7:$M$2000, 2, FALSE))","v":""},{"$f":"IF($B717=\"\", \"\", VLOOKUP($B717, CAD!$N$7:$O$2000, 2, FALSE))","v":""},{"$f":"IF($B717=\"\", \"\", VLOOKUP($B717, CAD!$P$7:$Q$2000, 2, FALSE))","v":""},{"$f":"IF($B717=\"\", \"\", VLOOKUP($B717, CAD!$R$7:$S$2000, 2, FALSE))","v":""},{"$f":"IF($B717=\"\", \"\", VLOOKUP($B717, CAD!$T$7:$U$2000, 2, FALSE))","v":""},{"$f":"IF($B717=\"\", \"\", VLOOKUP($B717, CAD!$V$7:$W$2000, 2, FALSE))","v":""}]
[null,{"$f":"IF(CAD!B715=\"\", \"\", CAD!B715)","v":""},{"$f":"IF($B718=\"\", \"\", CAD!C715)","v":""},{"$f":"IF($B718=\"\", \"\",VLOOKUP($B718, CAD!$D$7:$E$2000, 2, FALSE))","v":""},{"$f":"IF($B718=\"\", \"\",VLOOKUP($B718, CAD!$F$7:$G$2000, 2, FALSE))","v":""},{"$f":"IF($B718=\"\", \"\",VLOOKUP($B718, CAD!$H$7:$I$2000, 2, FALSE))","v":""},{"$f":"IF($B718=\"\", \"\",VLOOKUP($B718, CAD!$J$7:$K$2000, 2, FALSE))","v":""},{"$f":"IF($B718=\"\", \"\", VLOOKUP($B718, CAD!$L$7:$M$2000, 2, FALSE))","v":""},{"$f":"IF($B718=\"\", \"\", VLOOKUP($B718, CAD!$N$7:$O$2000, 2, FALSE))","v":""},{"$f":"IF($B718=\"\", \"\", VLOOKUP($B718, CAD!$P$7:$Q$2000, 2, FALSE))","v":""},{"$f":"IF($B718=\"\", \"\", VLOOKUP($B718, CAD!$R$7:$S$2000, 2, FALSE))","v":""},{"$f":"IF($B718=\"\", \"\", VLOOKUP($B718, CAD!$T$7:$U$2000, 2, FALSE))","v":""},{"$f":"IF($B718=\"\", \"\", VLOOKUP($B718, CAD!$V$7:$W$2000, 2, FALSE))","v":""}]
[null,{"$f":"IF(CAD!B716=\"\", \"\", CAD!B716)","v":""},{"$f":"IF($B719=\"\", \"\", CAD!C716)","v":""},{"$f":"IF($B719=\"\", \"\",VLOOKUP($B719, CAD!$D$7:$E$2000, 2, FALSE))","v":""},{"$f":"IF($B719=\"\", \"\",VLOOKUP($B719, CAD!$F$7:$G$2000, 2, FALSE))","v":""},{"$f":"IF($B719=\"\", \"\",VLOOKUP($B719, CAD!$H$7:$I$2000, 2, FALSE))","v":""},{"$f":"IF($B719=\"\", \"\",VLOOKUP($B719, CAD!$J$7:$K$2000, 2, FALSE))","v":""},{"$f":"IF($B719=\"\", \"\", VLOOKUP($B719, CAD!$L$7:$M$2000, 2, FALSE))","v":""},{"$f":"IF($B719=\"\", \"\", VLOOKUP($B719, CAD!$N$7:$O$2000, 2, FALSE))","v":""},{"$f":"IF($B719=\"\", \"\", VLOOKUP($B719, CAD!$P$7:$Q$2000, 2, FALSE))","v":""},{"$f":"IF($B719=\"\", \"\", VLOOKUP($B719, CAD!$R$7:$S$2000, 2, FALSE))","v":""},{"$f":"IF($B719=\"\", \"\", VLOOKUP($B719, CAD!$T$7:$U$2000, 2, FALSE))","v":""},{"$f":"IF($B719=\"\", \"\", VLOOKUP($B719, CAD!$V$7:$W$2000, 2, FALSE))","v":""}]
[null,{"$f":"IF(CAD!B717=\"\", \"\", CAD!B717)","v":""},{"$f":"IF($B720=\"\", \"\", CAD!C717)","v":""},{"$f":"IF($B720=\"\", \"\",VLOOKUP($B720, CAD!$D$7:$E$2000, 2, FALSE))","v":""},{"$f":"IF($B720=\"\", \"\",VLOOKUP($B720, CAD!$F$7:$G$2000, 2, FALSE))","v":""},{"$f":"IF($B720=\"\", \"\",VLOOKUP($B720, CAD!$H$7:$I$2000, 2, FALSE))","v":""},{"$f":"IF($B720=\"\", \"\",VLOOKUP($B720, CAD!$J$7:$K$2000, 2, FALSE))","v":""},{"$f":"IF($B720=\"\", \"\", VLOOKUP($B720, CAD!$L$7:$M$2000, 2, FALSE))","v":""},{"$f":"IF($B720=\"\", \"\", VLOOKUP($B720, CAD!$N$7:$O$2000, 2, FALSE))","v":""},{"$f":"IF($B720=\"\", \"\", VLOOKUP($B720, CAD!$P$7:$Q$2000, 2, FALSE))","v":""},{"$f":"IF($B720=\"\", \"\", VLOOKUP($B720, CAD!$R$7:$S$2000, 2, FALSE))","v":""},{"$f":"IF($B720=\"\", \"\", VLOOKUP($B720, CAD!$T$7:$U$2000, 2, FALSE))","v":""},{"$f":"IF($B720=\"\", \"\", VLOOKUP($B720, CAD!$V$7:$W$2000, 2, FALSE))","v":""}]
[null,{"$f":"IF(CAD!B718=\"\", \"\", CAD!B718)","v":""},{"$f":"IF($B721=\"\", \"\", CAD!C718)","v":""},{"$f":"IF($B721=\"\", \"\",VLOOKUP($B721, CAD!$D$7:$E$2000, 2, FALSE))","v":""},{"$f":"IF($B721=\"\", \"\",VLOOKUP($B721, CAD!$F$7:$G$2000, 2, FALSE))","v":""},{"$f":"IF($B721=\"\", \"\",VLOOKUP($B721, CAD!$H$7:$I$2000, 2, FALSE))","v":""},{"$f":"IF($B721=\"\", \"\",VLOOKUP($B721, CAD!$J$7:$K$2000, 2, FALSE))","v":""},{"$f":"IF($B721=\"\", \"\", VLOOKUP($B721, CAD!$L$7:$M$2000, 2, FALSE))","v":""},{"$f":"IF($B721=\"\", \"\", VLOOKUP($B721, CAD!$N$7:$O$2000, 2, FALSE))","v":""},{"$f":"IF($B721=\"\", \"\", VLOOKUP($B721, CAD!$P$7:$Q$2000, 2, FALSE))","v":""},{"$f":"IF($B721=\"\", \"\", VLOOKUP($B721, CAD!$R$7:$S$2000, 2, FALSE))","v":""},{"$f":"IF($B721=\"\", \"\", VLOOKUP($B721, CAD!$T$7:$U$2000, 2, FALSE))","v":""},{"$f":"IF($B721=\"\", \"\", VLOOKUP($B721, CAD!$V$7:$W$2000, 2, FALSE))","v":""}]
[null,{"$f":"IF(CAD!B719=\"\", \"\", CAD!B719)","v":""},{"$f":"IF($B722=\"\", \"\", CAD!C719)","v":""},{"$f":"IF($B722=\"\", \"\",VLOOKUP($B722, CAD!$D$7:$E$2000, 2, FALSE))","v":""},{"$f":"IF($B722=\"\", \"\",VLOOKUP($B722, CAD!$F$7:$G$2000, 2, FALSE))","v":""},{"$f":"IF($B722=\"\", \"\",VLOOKUP($B722, CAD!$H$7:$I$2000, 2, FALSE))","v":""},{"$f":"IF($B722=\"\", \"\",VLOOKUP($B722, CAD!$J$7:$K$2000, 2, FALSE))","v":""},{"$f":"IF($B722=\"\", \"\", VLOOKUP($B722, CAD!$L$7:$M$2000, 2, FALSE))","v":""},{"$f":"IF($B722=\"\", \"\", VLOOKUP($B722, CAD!$N$7:$O$2000, 2, FALSE))","v":""},{"$f":"IF($B722=\"\", \"\", VLOOKUP($B722, CAD!$P$7:$Q$2000, 2, FALSE))","v":""},{"$f":"IF($B722=\"\", \"\", VLOOKUP($B722, CAD!$R$7:$S$2000, 2, FALSE))","v":""},{"$f":"IF($B722=\"\", \"\", VLOOKUP($B722, CAD!$T$7:$U$2000, 2, FALSE))","v":""},{"$f":"IF($B722=\"\", \"\", VLOOKUP($B722, CAD!$V$7:$W$2000, 2, FALSE))","v":""}]
[null,{"$f":"IF(CAD!B720=\"\", \"\", CAD!B720)","v":""},{"$f":"IF($B723=\"\", \"\", CAD!C720)","v":""},{"$f":"IF($B723=\"\", \"\",VLOOKUP($B723, CAD!$D$7:$E$2000, 2, FALSE))","v":""},{"$f":"IF($B723=\"\", \"\",VLOOKUP($B723, CAD!$F$7:$G$2000, 2, FALSE))","v":""},{"$f":"IF($B723=\"\", \"\",VLOOKUP($B723, CAD!$H$7:$I$2000, 2, FALSE))","v":""},{"$f":"IF($B723=\"\", \"\",VLOOKUP($B723, CAD!$J$7:$K$2000, 2, FALSE))","v":""},{"$f":"IF($B723=\"\", \"\", VLOOKUP($B723, CAD!$L$7:$M$2000, 2, FALSE))","v":""},{"$f":"IF($B723=\"\", \"\", VLOOKUP($B723, CAD!$N$7:$O$2000, 2, FALSE))","v":""},{"$f":"IF($B723=\"\", \"\", VLOOKUP($B723, CAD!$P$7:$Q$2000, 2, FALSE))","v":""},{"$f":"IF($B723=\"\", \"\", VLOOKUP($B723, CAD!$R$7:$S$2000, 2, FALSE))","v":""},{"$f":"IF($B723=\"\", \"\", VLOOKUP($B723, CAD!$T$7:$U$2000, 2, FALSE))","v":""},{"$f":"IF($B723=\"\", \"\", VLOOKUP($B723, CAD!$V$7:$W$2000, 2, FALSE))","v":""}]
[null,{"$f":"IF(CAD!B721=\"\", \"\", CAD!B721)","v":""},{"$f":"IF($B724=\"\", \"\", CAD!C721)","v":""},{"$f":"IF($B724=\"\", \"\",VLOOKUP($B724, CAD!$D$7:$E$2000, 2, FALSE))","v":""},{"$f":"IF($B724=\"\", \"\",VLOOKUP($B724, CAD!$F$7:$G$2000, 2, FALSE))","v":""},{"$f":"IF($B724=\"\", \"\",VLOOKUP($B724, CAD!$H$7:$I$2000, 2, FALSE))","v":""},{"$f":"IF($B724=\"\", \"\",VLOOKUP($B724, CAD!$J$7:$K$2000, 2, FALSE))","v":""},{"$f":"IF($B724=\"\", \"\", VLOOKUP($B724, CAD!$L$7:$M$2000, 2, FALSE))","v":""},{"$f":"IF($B724=\"\", \"\", VLOOKUP($B724, CAD!$N$7:$O$2000, 2, FALSE))","v":""},{"$f":"IF($B724=\"\", \"\", VLOOKUP($B724, CAD!$P$7:$Q$2000, 2, FALSE))","v":""},{"$f":"IF($B724=\"\", \"\", VLOOKUP($B724, CAD!$R$7:$S$2000, 2, FALSE))","v":""},{"$f":"IF($B724=\"\", \"\", VLOOKUP($B724, CAD!$T$7:$U$2000, 2, FALSE))","v":""},{"$f":"IF($B724=\"\", \"\", VLOOKUP($B724, CAD!$V$7:$W$2000, 2, FALSE))","v":""}]
[null,{"$f":"IF(CAD!B722=\"\", \"\", CAD!B722)","v":""},{"$f":"IF($B725=\"\", \"\", CAD!C722)","v":""},{"$f":"IF($B725=\"\", \"\",VLOOKUP($B725, CAD!$D$7:$E$2000, 2, FALSE))","v":""},{"$f":"IF($B725=\"\", \"\",VLOOKUP($B725, CAD!$F$7:$G$2000, 2, FALSE))","v":""},{"$f":"IF($B725=\"\", \"\",VLOOKUP($B725, CAD!$H$7:$I$2000, 2, FALSE))","v":""},{"$f":"IF($B725=\"\", \"\",VLOOKUP($B725, CAD!$J$7:$K$2000, 2, FALSE))","v":""},{"$f":"IF($B725=\"\", \"\", VLOOKUP($B725, CAD!$L$7:$M$2000, 2, FALSE))","v":""},{"$f":"IF($B725=\"\", \"\", VLOOKUP($B725, CAD!$N$7:$O$2000, 2, FALSE))","v":""},{"$f":"IF($B725=\"\", \"\", VLOOKUP($B725, CAD!$P$7:$Q$2000, 2, FALSE))","v":""},{"$f":"IF($B725=\"\", \"\", VLOOKUP($B725, CAD!$R$7:$S$2000, 2, FALSE))","v":""},{"$f":"IF($B725=\"\", \"\", VLOOKUP($B725, CAD!$T$7:$U$2000, 2, FALSE))","v":""},{"$f":"IF($B725=\"\", \"\", VLOOKUP($B725, CAD!$V$7:$W$2000, 2, FALSE))","v":""}]
[null,{"$f":"IF(CAD!B723=\"\", \"\", CAD!B723)","v":""},{"$f":"IF($B726=\"\", \"\", CAD!C723)","v":""},{"$f":"IF($B726=\"\", \"\",VLOOKUP($B726, CAD!$D$7:$E$2000, 2, FALSE))","v":""},{"$f":"IF($B726=\"\", \"\",VLOOKUP($B726, CAD!$F$7:$G$2000, 2, FALSE))","v":""},{"$f":"IF($B726=\"\", \"\",VLOOKUP($B726, CAD!$H$7:$I$2000, 2, FALSE))","v":""},{"$f":"IF($B726=\"\", \"\",VLOOKUP($B726, CAD!$J$7:$K$2000, 2, FALSE))","v":""},{"$f":"IF($B726=\"\", \"\", VLOOKUP($B726, CAD!$L$7:$M$2000, 2, FALSE))","v":""},{"$f":"IF($B726=\"\", \"\", VLOOKUP($B726, CAD!$N$7:$O$2000, 2, FALSE))","v":""},{"$f":"IF($B726=\"\", \"\", VLOOKUP($B726, CAD!$P$7:$Q$2000, 2, FALSE))","v":""},{"$f":"IF($B726=\"\", \"\", VLOOKUP($B726, CAD!$R$7:$S$2000, 2, FALSE))","v":""},{"$f":"IF($B726=\"\", \"\", VLOOKUP($B726, CAD!$T$7:$U$2000, 2, FALSE))","v":""},{"$f":"IF($B726=\"\", \"\", VLOOKUP($B726, CAD!$V$7:$W$2000, 2, FALSE))","v":""}]
[null,{"$f":"IF(CAD!B724=\"\", \"\", CAD!B724)","v":""},{"$f":"IF($B727=\"\", \"\", CAD!C724)","v":""},{"$f":"IF($B727=\"\", \"\",VLOOKUP($B727, CAD!$D$7:$E$2000, 2, FALSE))","v":""},{"$f":"IF($B727=\"\", \"\",VLOOKUP($B727, CAD!$F$7:$G$2000, 2, FALSE))","v":""},{"$f":"IF($B727=\"\", \"\",VLOOKUP($B727, CAD!$H$7:$I$2000, 2, FALSE))","v":""},{"$f":"IF($B727=\"\", \"\",VLOOKUP($B727, CAD!$J$7:$K$2000, 2, FALSE))","v":""},{"$f":"IF($B727=\"\", \"\", VLOOKUP($B727, CAD!$L$7:$M$2000, 2, FALSE))","v":""},{"$f":"IF($B727=\"\", \"\", VLOOKUP($B727, CAD!$N$7:$O$2000, 2, FALSE))","v":""},{"$f":"IF($B727=\"\", \"\", VLOOKUP($B727, CAD!$P$7:$Q$2000, 2, FALSE))","v":""},{"$f":"IF($B727=\"\", \"\", VLOOKUP($B727, CAD!$R$7:$S$2000, 2, FALSE))","v":""},{"$f":"IF($B727=\"\", \"\", VLOOKUP($B727, CAD!$T$7:$U$2000, 2, FALSE))","v":""},{"$f":"IF($B727=\"\", \"\", VLOOKUP($B727, CAD!$V$7:$W$2000, 2, FALSE))","v":""}]
[null,{"$f":"IF(CAD!B725=\"\", \"\", CAD!B725)","v":""},{"$f":"IF($B728=\"\", \"\", CAD!C725)","v":""},{"$f":"IF($B728=\"\", \"\",VLOOKUP($B728, CAD!$D$7:$E$2000, 2, FALSE))","v":""},{"$f":"IF($B728=\"\", \"\",VLOOKUP($B728, CAD!$F$7:$G$2000, 2, FALSE))","v":""},{"$f":"IF($B728=\"\", \"\",VLOOKUP($B728, CAD!$H$7:$I$2000, 2, FALSE))","v":""},{"$f":"IF($B728=\"\", \"\",VLOOKUP($B728, CAD!$J$7:$K$2000, 2, FALSE))","v":""},{"$f":"IF($B728=\"\", \"\", VLOOKUP($B728, CAD!$L$7:$M$2000, 2, FALSE))","v":""},{"$f":"IF($B728=\"\", \"\", VLOOKUP($B728, CAD!$N$7:$O$2000, 2, FALSE))","v":""},{"$f":"IF($B728=\"\", \"\", VLOOKUP($B728, CAD!$P$7:$Q$2000, 2, FALSE))","v":""},{"$f":"IF($B728=\"\", \"\", VLOOKUP($B728, CAD!$R$7:$S$2000, 2, FALSE))","v":""},{"$f":"IF($B728=\"\", \"\", VLOOKUP($B728, CAD!$T$7:$U$2000, 2, FALSE))","v":""},{"$f":"IF($B728=\"\", \"\", VLOOKUP($B728, CAD!$V$7:$W$2000, 2, FALSE))","v":""}]
[null,{"$f":"IF(CAD!B726=\"\", \"\", CAD!B726)","v":""},{"$f":"IF($B729=\"\", \"\", CAD!C726)","v":""},{"$f":"IF($B729=\"\", \"\",VLOOKUP($B729, CAD!$D$7:$E$2000, 2, FALSE))","v":""},{"$f":"IF($B729=\"\", \"\",VLOOKUP($B729, CAD!$F$7:$G$2000, 2, FALSE))","v":""},{"$f":"IF($B729=\"\", \"\",VLOOKUP($B729, CAD!$H$7:$I$2000, 2, FALSE))","v":""},{"$f":"IF($B729=\"\", \"\",VLOOKUP($B729, CAD!$J$7:$K$2000, 2, FALSE))","v":""},{"$f":"IF($B729=\"\", \"\", VLOOKUP($B729, CAD!$L$7:$M$2000, 2, FALSE))","v":""},{"$f":"IF($B729=\"\", \"\", VLOOKUP($B729, CAD!$N$7:$O$2000, 2, FALSE))","v":""},{"$f":"IF($B729=\"\", \"\", VLOOKUP($B729, CAD!$P$7:$Q$2000, 2, FALSE))","v":""},{"$f":"IF($B729=\"\", \"\", VLOOKUP($B729, CAD!$R$7:$S$2000, 2, FALSE))","v":""},{"$f":"IF($B729=\"\", \"\", VLOOKUP($B729, CAD!$T$7:$U$2000, 2, FALSE))","v":""},{"$f":"IF($B729=\"\", \"\", VLOOKUP($B729, CAD!$V$7:$W$2000, 2, FALSE))","v":""}]
[null,{"$f":"IF(CAD!B727=\"\", \"\", CAD!B727)","v":""},{"$f":"IF($B730=\"\", \"\", CAD!C727)","v":""},{"$f":"IF($B730=\"\", \"\",VLOOKUP($B730, CAD!$D$7:$E$2000, 2, FALSE))","v":""},{"$f":"IF($B730=\"\", \"\",VLOOKUP($B730, CAD!$F$7:$G$2000, 2, FALSE))","v":""},{"$f":"IF($B730=\"\", \"\",VLOOKUP($B730, CAD!$H$7:$I$2000, 2, FALSE))","v":""},{"$f":"IF($B730=\"\", \"\",VLOOKUP($B730, CAD!$J$7:$K$2000, 2, FALSE))","v":""},{"$f":"IF($B730=\"\", \"\", VLOOKUP($B730, CAD!$L$7:$M$2000, 2, FALSE))","v":""},{"$f":"IF($B730=\"\", \"\", VLOOKUP($B730, CAD!$N$7:$O$2000, 2, FALSE))","v":""},{"$f":"IF($B730=\"\", \"\", VLOOKUP($B730, CAD!$P$7:$Q$2000, 2, FALSE))","v":""},{"$f":"IF($B730=\"\", \"\", VLOOKUP($B730, CAD!$R$7:$S$2000, 2, FALSE))","v":""},{"$f":"IF($B730=\"\", \"\", VLOOKUP($B730, CAD!$T$7:$U$2000, 2, FALSE))","v":""},{"$f":"IF($B730=\"\", \"\", VLOOKUP($B730, CAD!$V$7:$W$2000, 2, FALSE))","v":""}]
[null,{"$f":"IF(CAD!B728=\"\", \"\", CAD!B728)","v":""},{"$f":"IF($B731=\"\", \"\", CAD!C728)","v":""},{"$f":"IF($B731=\"\", \"\",VLOOKUP($B731, CAD!$D$7:$E$2000, 2, FALSE))","v":""},{"$f":"IF($B731=\"\", \"\",VLOOKUP($B731, CAD!$F$7:$G$2000, 2, FALSE))","v":""},{"$f":"IF($B731=\"\", \"\",VLOOKUP($B731, CAD!$H$7:$I$2000, 2, FALSE))","v":""},{"$f":"IF($B731=\"\", \"\",VLOOKUP($B731, CAD!$J$7:$K$2000, 2, FALSE))","v":""},{"$f":"IF($B731=\"\", \"\", VLOOKUP($B731, CAD!$L$7:$M$2000, 2, FALSE))","v":""},{"$f":"IF($B731=\"\", \"\", VLOOKUP($B731, CAD!$N$7:$O$2000, 2, FALSE))","v":""},{"$f":"IF($B731=\"\", \"\", VLOOKUP($B731, CAD!$P$7:$Q$2000, 2, FALSE))","v":""},{"$f":"IF($B731=\"\", \"\", VLOOKUP($B731, CAD!$R$7:$S$2000, 2, FALSE))","v":""},{"$f":"IF($B731=\"\", \"\", VLOOKUP($B731, CAD!$T$7:$U$2000, 2, FALSE))","v":""},{"$f":"IF($B731=\"\", \"\", VLOOKUP($B731, CAD!$V$7:$W$2000, 2, FALSE))","v":""}]
[null,{"$f":"IF(CAD!B729=\"\", \"\", CAD!B729)","v":""},{"$f":"IF($B732=\"\", \"\", CAD!C729)","v":""},{"$f":"IF($B732=\"\", \"\",VLOOKUP($B732, CAD!$D$7:$E$2000, 2, FALSE))","v":""},{"$f":"IF($B732=\"\", \"\",VLOOKUP($B732, CAD!$F$7:$G$2000, 2, FALSE))","v":""},{"$f":"IF($B732=\"\", \"\",VLOOKUP($B732, CAD!$H$7:$I$2000, 2, FALSE))","v":""},{"$f":"IF($B732=\"\", \"\",VLOOKUP($B732, CAD!$J$7:$K$2000, 2, FALSE))","v":""},{"$f":"IF($B732=\"\", \"\", VLOOKUP($B732, CAD!$L$7:$M$2000, 2, FALSE))","v":""},{"$f":"IF($B732=\"\", \"\", VLOOKUP($B732, CAD!$N$7:$O$2000, 2, FALSE))","v":""},{"$f":"IF($B732=\"\", \"\", VLOOKUP($B732, CAD!$P$7:$Q$2000, 2, FALSE))","v":""},{"$f":"IF($B732=\"\", \"\", VLOOKUP($B732, CAD!$R$7:$S$2000, 2, FALSE))","v":""},{"$f":"IF($B732=\"\", \"\", VLOOKUP($B732, CAD!$T$7:$U$2000, 2, FALSE))","v":""},{"$f":"IF($B732=\"\", \"\", VLOOKUP($B732, CAD!$V$7:$W$2000, 2, FALSE))","v":""}]
[null,{"$f":"IF(CAD!B730=\"\", \"\", CAD!B730)","v":""},{"$f":"IF($B733=\"\", \"\", CAD!C730)","v":""},{"$f":"IF($B733=\"\", \"\",VLOOKUP($B733, CAD!$D$7:$E$2000, 2, FALSE))","v":""},{"$f":"IF($B733=\"\", \"\",VLOOKUP($B733, CAD!$F$7:$G$2000, 2, FALSE))","v":""},{"$f":"IF($B733=\"\", \"\",VLOOKUP($B733, CAD!$H$7:$I$2000, 2, FALSE))","v":""},{"$f":"IF($B733=\"\", \"\",VLOOKUP($B733, CAD!$J$7:$K$2000, 2, FALSE))","v":""},{"$f":"IF($B733=\"\", \"\", VLOOKUP($B733, CAD!$L$7:$M$2000, 2, FALSE))","v":""},{"$f":"IF($B733=\"\", \"\", VLOOKUP($B733, CAD!$N$7:$O$2000, 2, FALSE))","v":""},{"$f":"IF($B733=\"\", \"\", VLOOKUP($B733, CAD!$P$7:$Q$2000, 2, FALSE))","v":""},{"$f":"IF($B733=\"\", \"\", VLOOKUP($B733, CAD!$R$7:$S$2000, 2, FALSE))","v":""},{"$f":"IF($B733=\"\", \"\", VLOOKUP($B733, CAD!$T$7:$U$2000, 2, FALSE))","v":""},{"$f":"IF($B733=\"\", \"\", VLOOKUP($B733, CAD!$V$7:$W$2000, 2, FALSE))","v":""}]
[null,{"$f":"IF(CAD!B731=\"\", \"\", CAD!B731)","v":""},{"$f":"IF($B734=\"\", \"\", CAD!C731)","v":""},{"$f":"IF($B734=\"\", \"\",VLOOKUP($B734, CAD!$D$7:$E$2000, 2, FALSE))","v":""},{"$f":"IF($B734=\"\", \"\",VLOOKUP($B734, CAD!$F$7:$G$2000, 2, FALSE))","v":""},{"$f":"IF($B734=\"\", \"\",VLOOKUP($B734, CAD!$H$7:$I$2000, 2, FALSE))","v":""},{"$f":"IF($B734=\"\", \"\",VLOOKUP($B734, CAD!$J$7:$K$2000, 2, FALSE))","v":""},{"$f":"IF($B734=\"\", \"\", VLOOKUP($B734, CAD!$L$7:$M$2000, 2, FALSE))","v":""},{"$f":"IF($B734=\"\", \"\", VLOOKUP($B734, CAD!$N$7:$O$2000, 2, FALSE))","v":""},{"$f":"IF($B734=\"\", \"\", VLOOKUP($B734, CAD!$P$7:$Q$2000, 2, FALSE))","v":""},{"$f":"IF($B734=\"\", \"\", VLOOKUP($B734, CAD!$R$7:$S$2000, 2, FALSE))","v":""},{"$f":"IF($B734=\"\", \"\", VLOOKUP($B734, CAD!$T$7:$U$2000, 2, FALSE))","v":""},{"$f":"IF($B734=\"\", \"\", VLOOKUP($B734, CAD!$V$7:$W$2000, 2, FALSE))","v":""}]
[null,{"$f":"IF(CAD!B732=\"\", \"\", CAD!B732)","v":""},{"$f":"IF($B735=\"\", \"\", CAD!C732)","v":""},{"$f":"IF($B735=\"\", \"\",VLOOKUP($B735, CAD!$D$7:$E$2000, 2, FALSE))","v":""},{"$f":"IF($B735=\"\", \"\",VLOOKUP($B735, CAD!$F$7:$G$2000, 2, FALSE))","v":""},{"$f":"IF($B735=\"\", \"\",VLOOKUP($B735, CAD!$H$7:$I$2000, 2, FALSE))","v":""},{"$f":"IF($B735=\"\", \"\",VLOOKUP($B735, CAD!$J$7:$K$2000, 2, FALSE))","v":""},{"$f":"IF($B735=\"\", \"\", VLOOKUP($B735, CAD!$L$7:$M$2000, 2, FALSE))","v":""},{"$f":"IF($B735=\"\", \"\", VLOOKUP($B735, CAD!$N$7:$O$2000, 2, FALSE))","v":""},{"$f":"IF($B735=\"\", \"\", VLOOKUP($B735, CAD!$P$7:$Q$2000, 2, FALSE))","v":""},{"$f":"IF($B735=\"\", \"\", VLOOKUP($B735, CAD!$R$7:$S$2000, 2, FALSE))","v":""},{"$f":"IF($B735=\"\", \"\", VLOOKUP($B735, CAD!$T$7:$U$2000, 2, FALSE))","v":""},{"$f":"IF($B735=\"\", \"\", VLOOKUP($B735, CAD!$V$7:$W$2000, 2, FALSE))","v":""}]
[null,{"$f":"IF(CAD!B733=\"\", \"\", CAD!B733)","v":""},{"$f":"IF($B736=\"\", \"\", CAD!C733)","v":""},{"$f":"IF($B736=\"\", \"\",VLOOKUP($B736, CAD!$D$7:$E$2000, 2, FALSE))","v":""},{"$f":"IF($B736=\"\", \"\",VLOOKUP($B736, CAD!$F$7:$G$2000, 2, FALSE))","v":""},{"$f":"IF($B736=\"\", \"\",VLOOKUP($B736, CAD!$H$7:$I$2000, 2, FALSE))","v":""},{"$f":"IF($B736=\"\", \"\",VLOOKUP($B736, CAD!$J$7:$K$2000, 2, FALSE))","v":""},{"$f":"IF($B736=\"\", \"\", VLOOKUP($B736, CAD!$L$7:$M$2000, 2, FALSE))","v":""},{"$f":"IF($B736=\"\", \"\", VLOOKUP($B736, CAD!$N$7:$O$2000, 2, FALSE))","v":""},{"$f":"IF($B736=\"\", \"\", VLOOKUP($B736, CAD!$P$7:$Q$2000, 2, FALSE))","v":""},{"$f":"IF($B736=\"\", \"\", VLOOKUP($B736, CAD!$R$7:$S$2000, 2, FALSE))","v":""},{"$f":"IF($B736=\"\", \"\", VLOOKUP($B736, CAD!$T$7:$U$2000, 2, FALSE))","v":""},{"$f":"IF($B736=\"\", \"\", VLOOKUP($B736, CAD!$V$7:$W$2000, 2, FALSE))","v":""}]
[null,{"$f":"IF(CAD!B734=\"\", \"\", CAD!B734)","v":""},{"$f":"IF($B737=\"\", \"\", CAD!C734)","v":""},{"$f":"IF($B737=\"\", \"\",VLOOKUP($B737, CAD!$D$7:$E$2000, 2, FALSE))","v":""},{"$f":"IF($B737=\"\", \"\",VLOOKUP($B737, CAD!$F$7:$G$2000, 2, FALSE))","v":""},{"$f":"IF($B737=\"\", \"\",VLOOKUP($B737, CAD!$H$7:$I$2000, 2, FALSE))","v":""},{"$f":"IF($B737=\"\", \"\",VLOOKUP($B737, CAD!$J$7:$K$2000, 2, FALSE))","v":""},{"$f":"IF($B737=\"\", \"\", VLOOKUP($B737, CAD!$L$7:$M$2000, 2, FALSE))","v":""},{"$f":"IF($B737=\"\", \"\", VLOOKUP($B737, CAD!$N$7:$O$2000, 2, FALSE))","v":""},{"$f":"IF($B737=\"\", \"\", VLOOKUP($B737, CAD!$P$7:$Q$2000, 2, FALSE))","v":""},{"$f":"IF($B737=\"\", \"\", VLOOKUP($B737, CAD!$R$7:$S$2000, 2, FALSE))","v":""},{"$f":"IF($B737=\"\", \"\", VLOOKUP($B737, CAD!$T$7:$U$2000, 2, FALSE))","v":""},{"$f":"IF($B737=\"\", \"\", VLOOKUP($B737, CAD!$V$7:$W$2000, 2, FALSE))","v":""}]
[null,{"$f":"IF(CAD!B735=\"\", \"\", CAD!B735)","v":""},{"$f":"IF($B738=\"\", \"\", CAD!C735)","v":""},{"$f":"IF($B738=\"\", \"\",VLOOKUP($B738, CAD!$D$7:$E$2000, 2, FALSE))","v":""},{"$f":"IF($B738=\"\", \"\",VLOOKUP($B738, CAD!$F$7:$G$2000, 2, FALSE))","v":""},{"$f":"IF($B738=\"\", \"\",VLOOKUP($B738, CAD!$H$7:$I$2000, 2, FALSE))","v":""},{"$f":"IF($B738=\"\", \"\",VLOOKUP($B738, CAD!$J$7:$K$2000, 2, FALSE))","v":""},{"$f":"IF($B738=\"\", \"\", VLOOKUP($B738, CAD!$L$7:$M$2000, 2, FALSE))","v":""},{"$f":"IF($B738=\"\", \"\", VLOOKUP($B738, CAD!$N$7:$O$2000, 2, FALSE))","v":""},{"$f":"IF($B738=\"\", \"\", VLOOKUP($B738, CAD!$P$7:$Q$2000, 2, FALSE))","v":""},{"$f":"IF($B738=\"\", \"\", VLOOKUP($B738, CAD!$R$7:$S$2000, 2, FALSE))","v":""},{"$f":"IF($B738=\"\", \"\", VLOOKUP($B738, CAD!$T$7:$U$2000, 2, FALSE))","v":""},{"$f":"IF($B738=\"\", \"\", VLOOKUP($B738, CAD!$V$7:$W$2000, 2, FALSE))","v":""}]
[null,{"$f":"IF(CAD!B736=\"\", \"\", CAD!B736)","v":""},{"$f":"IF($B739=\"\", \"\", CAD!C736)","v":""},{"$f":"IF($B739=\"\", \"\",VLOOKUP($B739, CAD!$D$7:$E$2000, 2, FALSE))","v":""},{"$f":"IF($B739=\"\", \"\",VLOOKUP($B739, CAD!$F$7:$G$2000, 2, FALSE))","v":""},{"$f":"IF($B739=\"\", \"\",VLOOKUP($B739, CAD!$H$7:$I$2000, 2, FALSE))","v":""},{"$f":"IF($B739=\"\", \"\",VLOOKUP($B739, CAD!$J$7:$K$2000, 2, FALSE))","v":""},{"$f":"IF($B739=\"\", \"\", VLOOKUP($B739, CAD!$L$7:$M$2000, 2, FALSE))","v":""},{"$f":"IF($B739=\"\", \"\", VLOOKUP($B739, CAD!$N$7:$O$2000, 2, FALSE))","v":""},{"$f":"IF($B739=\"\", \"\", VLOOKUP($B739, CAD!$P$7:$Q$2000, 2, FALSE))","v":""},{"$f":"IF($B739=\"\", \"\", VLOOKUP($B739, CAD!$R$7:$S$2000, 2, FALSE))","v":""},{"$f":"IF($B739=\"\", \"\", VLOOKUP($B739, CAD!$T$7:$U$2000, 2, FALSE))","v":""},{"$f":"IF($B739=\"\", \"\", VLOOKUP($B739, CAD!$V$7:$W$2000, 2, FALSE))","v":""}]
[null,{"$f":"IF(CAD!B737=\"\", \"\", CAD!B737)","v":""},{"$f":"IF($B740=\"\", \"\", CAD!C737)","v":""},{"$f":"IF($B740=\"\", \"\",VLOOKUP($B740, CAD!$D$7:$E$2000, 2, FALSE))","v":""},{"$f":"IF($B740=\"\", \"\",VLOOKUP($B740, CAD!$F$7:$G$2000, 2, FALSE))","v":""},{"$f":"IF($B740=\"\", \"\",VLOOKUP($B740, CAD!$H$7:$I$2000, 2, FALSE))","v":""},{"$f":"IF($B740=\"\", \"\",VLOOKUP($B740, CAD!$J$7:$K$2000, 2, FALSE))","v":""},{"$f":"IF($B740=\"\", \"\", VLOOKUP($B740, CAD!$L$7:$M$2000, 2, FALSE))","v":""},{"$f":"IF($B740=\"\", \"\", VLOOKUP($B740, CAD!$N$7:$O$2000, 2, FALSE))","v":""},{"$f":"IF($B740=\"\", \"\", VLOOKUP($B740, CAD!$P$7:$Q$2000, 2, FALSE))","v":""},{"$f":"IF($B740=\"\", \"\", VLOOKUP($B740, CAD!$R$7:$S$2000, 2, FALSE))","v":""},{"$f":"IF($B740=\"\", \"\", VLOOKUP($B740, CAD!$T$7:$U$2000, 2, FALSE))","v":""},{"$f":"IF($B740=\"\", \"\", VLOOKUP($B740, CAD!$V$7:$W$2000, 2, FALSE))","v":""}]
[null,{"$f":"IF(CAD!B738=\"\", \"\", CAD!B738)","v":""},{"$f":"IF($B741=\"\", \"\", CAD!C738)","v":""},{"$f":"IF($B741=\"\", \"\",VLOOKUP($B741, CAD!$D$7:$E$2000, 2, FALSE))","v":""},{"$f":"IF($B741=\"\", \"\",VLOOKUP($B741, CAD!$F$7:$G$2000, 2, FALSE))","v":""},{"$f":"IF($B741=\"\", \"\",VLOOKUP($B741, CAD!$H$7:$I$2000, 2, FALSE))","v":""},{"$f":"IF($B741=\"\", \"\",VLOOKUP($B741, CAD!$J$7:$K$2000, 2, FALSE))","v":""},{"$f":"IF($B741=\"\", \"\", VLOOKUP($B741, CAD!$L$7:$M$2000, 2, FALSE))","v":""},{"$f":"IF($B741=\"\", \"\", VLOOKUP($B741, CAD!$N$7:$O$2000, 2, FALSE))","v":""},{"$f":"IF($B741=\"\", \"\", VLOOKUP($B741, CAD!$P$7:$Q$2000, 2, FALSE))","v":""},{"$f":"IF($B741=\"\", \"\", VLOOKUP($B741, CAD!$R$7:$S$2000, 2, FALSE))","v":""},{"$f":"IF($B741=\"\", \"\", VLOOKUP($B741, CAD!$T$7:$U$2000, 2, FALSE))","v":""},{"$f":"IF($B741=\"\", \"\", VLOOKUP($B741, CAD!$V$7:$W$2000, 2, FALSE))","v":""}]
[null,{"$f":"IF(CAD!B739=\"\", \"\", CAD!B739)","v":""},{"$f":"IF($B742=\"\", \"\", CAD!C739)","v":""},{"$f":"IF($B742=\"\", \"\",VLOOKUP($B742, CAD!$D$7:$E$2000, 2, FALSE))","v":""},{"$f":"IF($B742=\"\", \"\",VLOOKUP($B742, CAD!$F$7:$G$2000, 2, FALSE))","v":""},{"$f":"IF($B742=\"\", \"\",VLOOKUP($B742, CAD!$H$7:$I$2000, 2, FALSE))","v":""},{"$f":"IF($B742=\"\", \"\",VLOOKUP($B742, CAD!$J$7:$K$2000, 2, FALSE))","v":""},{"$f":"IF($B742=\"\", \"\", VLOOKUP($B742, CAD!$L$7:$M$2000, 2, FALSE))","v":""},{"$f":"IF($B742=\"\", \"\", VLOOKUP($B742, CAD!$N$7:$O$2000, 2, FALSE))","v":""},{"$f":"IF($B742=\"\", \"\", VLOOKUP($B742, CAD!$P$7:$Q$2000, 2, FALSE))","v":""},{"$f":"IF($B742=\"\", \"\", VLOOKUP($B742, CAD!$R$7:$S$2000, 2, FALSE))","v":""},{"$f":"IF($B742=\"\", \"\", VLOOKUP($B742, CAD!$T$7:$U$2000, 2, FALSE))","v":""},{"$f":"IF($B742=\"\", \"\", VLOOKUP($B742, CAD!$V$7:$W$2000, 2, FALSE))","v":""}]
[null,{"$f":"IF(CAD!B740=\"\", \"\", CAD!B740)","v":""},{"$f":"IF($B743=\"\", \"\", CAD!C740)","v":""},{"$f":"IF($B743=\"\", \"\",VLOOKUP($B743, CAD!$D$7:$E$2000, 2, FALSE))","v":""},{"$f":"IF($B743=\"\", \"\",VLOOKUP($B743, CAD!$F$7:$G$2000, 2, FALSE))","v":""},{"$f":"IF($B743=\"\", \"\",VLOOKUP($B743, CAD!$H$7:$I$2000, 2, FALSE))","v":""},{"$f":"IF($B743=\"\", \"\",VLOOKUP($B743, CAD!$J$7:$K$2000, 2, FALSE))","v":""},{"$f":"IF($B743=\"\", \"\", VLOOKUP($B743, CAD!$L$7:$M$2000, 2, FALSE))","v":""},{"$f":"IF($B743=\"\", \"\", VLOOKUP($B743, CAD!$N$7:$O$2000, 2, FALSE))","v":""},{"$f":"IF($B743=\"\", \"\", VLOOKUP($B743, CAD!$P$7:$Q$2000, 2, FALSE))","v":""},{"$f":"IF($B743=\"\", \"\", VLOOKUP($B743, CAD!$R$7:$S$2000, 2, FALSE))","v":""},{"$f":"IF($B743=\"\", \"\", VLOOKUP($B743, CAD!$T$7:$U$2000, 2, FALSE))","v":""},{"$f":"IF($B743=\"\", \"\", VLOOKUP($B743, CAD!$V$7:$W$2000, 2, FALSE))","v":""}]
[null,{"$f":"IF(CAD!B741=\"\", \"\", CAD!B741)","v":""},{"$f":"IF($B744=\"\", \"\", CAD!C741)","v":""},{"$f":"IF($B744=\"\", \"\",VLOOKUP($B744, CAD!$D$7:$E$2000, 2, FALSE))","v":""},{"$f":"IF($B744=\"\", \"\",VLOOKUP($B744, CAD!$F$7:$G$2000, 2, FALSE))","v":""},{"$f":"IF($B744=\"\", \"\",VLOOKUP($B744, CAD!$H$7:$I$2000, 2, FALSE))","v":""},{"$f":"IF($B744=\"\", \"\",VLOOKUP($B744, CAD!$J$7:$K$2000, 2, FALSE))","v":""},{"$f":"IF($B744=\"\", \"\", VLOOKUP($B744, CAD!$L$7:$M$2000, 2, FALSE))","v":""},{"$f":"IF($B744=\"\", \"\", VLOOKUP($B744, CAD!$N$7:$O$2000, 2, FALSE))","v":""},{"$f":"IF($B744=\"\", \"\", VLOOKUP($B744, CAD!$P$7:$Q$2000, 2, FALSE))","v":""},{"$f":"IF($B744=\"\", \"\", VLOOKUP($B744, CAD!$R$7:$S$2000, 2, FALSE))","v":""},{"$f":"IF($B744=\"\", \"\", VLOOKUP($B744, CAD!$T$7:$U$2000, 2, FALSE))","v":""},{"$f":"IF($B744=\"\", \"\", VLOOKUP($B744, CAD!$V$7:$W$2000, 2, FALSE))","v":""}]
[null,{"$f":"IF(CAD!B742=\"\", \"\", CAD!B742)","v":""},{"$f":"IF($B745=\"\", \"\", CAD!C742)","v":""},{"$f":"IF($B745=\"\", \"\",VLOOKUP($B745, CAD!$D$7:$E$2000, 2, FALSE))","v":""},{"$f":"IF($B745=\"\", \"\",VLOOKUP($B745, CAD!$F$7:$G$2000, 2, FALSE))","v":""},{"$f":"IF($B745=\"\", \"\",VLOOKUP($B745, CAD!$H$7:$I$2000, 2, FALSE))","v":""},{"$f":"IF($B745=\"\", \"\",VLOOKUP($B745, CAD!$J$7:$K$2000, 2, FALSE))","v":""},{"$f":"IF($B745=\"\", \"\", VLOOKUP($B745, CAD!$L$7:$M$2000, 2, FALSE))","v":""},{"$f":"IF($B745=\"\", \"\", VLOOKUP($B745, CAD!$N$7:$O$2000, 2, FALSE))","v":""},{"$f":"IF($B745=\"\", \"\", VLOOKUP($B745, CAD!$P$7:$Q$2000, 2, FALSE))","v":""},{"$f":"IF($B745=\"\", \"\", VLOOKUP($B745, CAD!$R$7:$S$2000, 2, FALSE))","v":""},{"$f":"IF($B745=\"\", \"\", VLOOKUP($B745, CAD!$T$7:$U$2000, 2, FALSE))","v":""},{"$f":"IF($B745=\"\", \"\", VLOOKUP($B745, CAD!$V$7:$W$2000, 2, FALSE))","v":""}]
[null,{"$f":"IF(CAD!B743=\"\", \"\", CAD!B743)","v":""},{"$f":"IF($B746=\"\", \"\", CAD!C743)","v":""},{"$f":"IF($B746=\"\", \"\",VLOOKUP($B746, CAD!$D$7:$E$2000, 2, FALSE))","v":""},{"$f":"IF($B746=\"\", \"\",VLOOKUP($B746, CAD!$F$7:$G$2000, 2, FALSE))","v":""},{"$f":"IF($B746=\"\", \"\",VLOOKUP($B746, CAD!$H$7:$I$2000, 2, FALSE))","v":""},{"$f":"IF($B746=\"\", \"\",VLOOKUP($B746, CAD!$J$7:$K$2000, 2, FALSE))","v":""},{"$f":"IF($B746=\"\", \"\", VLOOKUP($B746, CAD!$L$7:$M$2000, 2, FALSE))","v":""},{"$f":"IF($B746=\"\", \"\", VLOOKUP($B746, CAD!$N$7:$O$2000, 2, FALSE))","v":""},{"$f":"IF($B746=\"\", \"\", VLOOKUP($B746, CAD!$P$7:$Q$2000, 2, FALSE))","v":""},{"$f":"IF($B746=\"\", \"\", VLOOKUP($B746, CAD!$R$7:$S$2000, 2, FALSE))","v":""},{"$f":"IF($B746=\"\", \"\", VLOOKUP($B746, CAD!$T$7:$U$2000, 2, FALSE))","v":""},{"$f":"IF($B746=\"\", \"\", VLOOKUP($B746, CAD!$V$7:$W$2000, 2, FALSE))","v":""}]
[null,{"$f":"IF(CAD!B744=\"\", \"\", CAD!B744)","v":""},{"$f":"IF($B747=\"\", \"\", CAD!C744)","v":""},{"$f":"IF($B747=\"\", \"\",VLOOKUP($B747, CAD!$D$7:$E$2000, 2, FALSE))","v":""},{"$f":"IF($B747=\"\", \"\",VLOOKUP($B747, CAD!$F$7:$G$2000, 2, FALSE))","v":""},{"$f":"IF($B747=\"\", \"\",VLOOKUP($B747, CAD!$H$7:$I$2000, 2, FALSE))","v":""},{"$f":"IF($B747=\"\", \"\",VLOOKUP($B747, CAD!$J$7:$K$2000, 2, FALSE))","v":""},{"$f":"IF($B747=\"\", \"\", VLOOKUP($B747, CAD!$L$7:$M$2000, 2, FALSE))","v":""},{"$f":"IF($B747=\"\", \"\", VLOOKUP($B747, CAD!$N$7:$O$2000, 2, FALSE))","v":""},{"$f":"IF($B747=\"\", \"\", VLOOKUP($B747, CAD!$P$7:$Q$2000, 2, FALSE))","v":""},{"$f":"IF($B747=\"\", \"\", VLOOKUP($B747, CAD!$R$7:$S$2000, 2, FALSE))","v":""},{"$f":"IF($B747=\"\", \"\", VLOOKUP($B747, CAD!$T$7:$U$2000, 2, FALSE))","v":""},{"$f":"IF($B747=\"\", \"\", VLOOKUP($B747, CAD!$V$7:$W$2000, 2, FALSE))","v":""}]
[null,{"$f":"IF(CAD!B745=\"\", \"\", CAD!B745)","v":""},{"$f":"IF($B748=\"\", \"\", CAD!C745)","v":""},{"$f":"IF($B748=\"\", \"\",VLOOKUP($B748, CAD!$D$7:$E$2000, 2, FALSE))","v":""},{"$f":"IF($B748=\"\", \"\",VLOOKUP($B748, CAD!$F$7:$G$2000, 2, FALSE))","v":""},{"$f":"IF($B748=\"\", \"\",VLOOKUP($B748, CAD!$H$7:$I$2000, 2, FALSE))","v":""},{"$f":"IF($B748=\"\", \"\",VLOOKUP($B748, CAD!$J$7:$K$2000, 2, FALSE))","v":""},{"$f":"IF($B748=\"\", \"\", VLOOKUP($B748, CAD!$L$7:$M$2000, 2, FALSE))","v":""},{"$f":"IF($B748=\"\", \"\", VLOOKUP($B748, CAD!$N$7:$O$2000, 2, FALSE))","v":""},{"$f":"IF($B748=\"\", \"\", VLOOKUP($B748, CAD!$P$7:$Q$2000, 2, FALSE))","v":""},{"$f":"IF($B748=\"\", \"\", VLOOKUP($B748, CAD!$R$7:$S$2000, 2, FALSE))","v":""},{"$f":"IF($B748=\"\", \"\", VLOOKUP($B748, CAD!$T$7:$U$2000, 2, FALSE))","v":""},{"$f":"IF($B748=\"\", \"\", VLOOKUP($B748, CAD!$V$7:$W$2000, 2, FALSE))","v":""}]
[null,{"$f":"IF(CAD!B746=\"\", \"\", CAD!B746)","v":""},{"$f":"IF($B749=\"\", \"\", CAD!C746)","v":""},{"$f":"IF($B749=\"\", \"\",VLOOKUP($B749, CAD!$D$7:$E$2000, 2, FALSE))","v":""},{"$f":"IF($B749=\"\", \"\",VLOOKUP($B749, CAD!$F$7:$G$2000, 2, FALSE))","v":""},{"$f":"IF($B749=\"\", \"\",VLOOKUP($B749, CAD!$H$7:$I$2000, 2, FALSE))","v":""},{"$f":"IF($B749=\"\", \"\",VLOOKUP($B749, CAD!$J$7:$K$2000, 2, FALSE))","v":""},{"$f":"IF($B749=\"\", \"\", VLOOKUP($B749, CAD!$L$7:$M$2000, 2, FALSE))","v":""},{"$f":"IF($B749=\"\", \"\", VLOOKUP($B749, CAD!$N$7:$O$2000, 2, FALSE))","v":""},{"$f":"IF($B749=\"\", \"\", VLOOKUP($B749, CAD!$P$7:$Q$2000, 2, FALSE))","v":""},{"$f":"IF($B749=\"\", \"\", VLOOKUP($B749, CAD!$R$7:$S$2000, 2, FALSE))","v":""},{"$f":"IF($B749=\"\", \"\", VLOOKUP($B749, CAD!$T$7:$U$2000, 2, FALSE))","v":""},{"$f":"IF($B749=\"\", \"\", VLOOKUP($B749, CAD!$V$7:$W$2000, 2, FALSE))","v":""}]
[null,{"$f":"IF(CAD!B747=\"\", \"\", CAD!B747)","v":""},{"$f":"IF($B750=\"\", \"\", CAD!C747)","v":""},{"$f":"IF($B750=\"\", \"\",VLOOKUP($B750, CAD!$D$7:$E$2000, 2, FALSE))","v":""},{"$f":"IF($B750=\"\", \"\",VLOOKUP($B750, CAD!$F$7:$G$2000, 2, FALSE))","v":""},{"$f":"IF($B750=\"\", \"\",VLOOKUP($B750, CAD!$H$7:$I$2000, 2, FALSE))","v":""},{"$f":"IF($B750=\"\", \"\",VLOOKUP($B750, CAD!$J$7:$K$2000, 2, FALSE))","v":""},{"$f":"IF($B750=\"\", \"\", VLOOKUP($B750, CAD!$L$7:$M$2000, 2, FALSE))","v":""},{"$f":"IF($B750=\"\", \"\", VLOOKUP($B750, CAD!$N$7:$O$2000, 2, FALSE))","v":""},{"$f":"IF($B750=\"\", \"\", VLOOKUP($B750, CAD!$P$7:$Q$2000, 2, FALSE))","v":""},{"$f":"IF($B750=\"\", \"\", VLOOKUP($B750, CAD!$R$7:$S$2000, 2, FALSE))","v":""},{"$f":"IF($B750=\"\", \"\", VLOOKUP($B750, CAD!$T$7:$U$2000, 2, FALSE))","v":""},{"$f":"IF($B750=\"\", \"\", VLOOKUP($B750, CAD!$V$7:$W$2000, 2, FALSE))","v":""}]
[null,{"$f":"IF(CAD!B748=\"\", \"\", CAD!B748)","v":""},{"$f":"IF($B751=\"\", \"\", CAD!C748)","v":""},{"$f":"IF($B751=\"\", \"\",VLOOKUP($B751, CAD!$D$7:$E$2000, 2, FALSE))","v":""},{"$f":"IF($B751=\"\", \"\",VLOOKUP($B751, CAD!$F$7:$G$2000, 2, FALSE))","v":""},{"$f":"IF($B751=\"\", \"\",VLOOKUP($B751, CAD!$H$7:$I$2000, 2, FALSE))","v":""},{"$f":"IF($B751=\"\", \"\",VLOOKUP($B751, CAD!$J$7:$K$2000, 2, FALSE))","v":""},{"$f":"IF($B751=\"\", \"\", VLOOKUP($B751, CAD!$L$7:$M$2000, 2, FALSE))","v":""},{"$f":"IF($B751=\"\", \"\", VLOOKUP($B751, CAD!$N$7:$O$2000, 2, FALSE))","v":""},{"$f":"IF($B751=\"\", \"\", VLOOKUP($B751, CAD!$P$7:$Q$2000, 2, FALSE))","v":""},{"$f":"IF($B751=\"\", \"\", VLOOKUP($B751, CAD!$R$7:$S$2000, 2, FALSE))","v":""},{"$f":"IF($B751=\"\", \"\", VLOOKUP($B751, CAD!$T$7:$U$2000, 2, FALSE))","v":""},{"$f":"IF($B751=\"\", \"\", VLOOKUP($B751, CAD!$V$7:$W$2000, 2, FALSE))","v":""}]
[null,{"$f":"IF(CAD!B749=\"\", \"\", CAD!B749)","v":""},{"$f":"IF($B752=\"\", \"\", CAD!C749)","v":""},{"$f":"IF($B752=\"\", \"\",VLOOKUP($B752, CAD!$D$7:$E$2000, 2, FALSE))","v":""},{"$f":"IF($B752=\"\", \"\",VLOOKUP($B752, CAD!$F$7:$G$2000, 2, FALSE))","v":""},{"$f":"IF($B752=\"\", \"\",VLOOKUP($B752, CAD!$H$7:$I$2000, 2, FALSE))","v":""},{"$f":"IF($B752=\"\", \"\",VLOOKUP($B752, CAD!$J$7:$K$2000, 2, FALSE))","v":""},{"$f":"IF($B752=\"\", \"\", VLOOKUP($B752, CAD!$L$7:$M$2000, 2, FALSE))","v":""},{"$f":"IF($B752=\"\", \"\", VLOOKUP($B752, CAD!$N$7:$O$2000, 2, FALSE))","v":""},{"$f":"IF($B752=\"\", \"\", VLOOKUP($B752, CAD!$P$7:$Q$2000, 2, FALSE))","v":""},{"$f":"IF($B752=\"\", \"\", VLOOKUP($B752, CAD!$R$7:$S$2000, 2, FALSE))","v":""},{"$f":"IF($B752=\"\", \"\", VLOOKUP($B752, CAD!$T$7:$U$2000, 2, FALSE))","v":""},{"$f":"IF($B752=\"\", \"\", VLOOKUP($B752, CAD!$V$7:$W$2000, 2, FALSE))","v":""}]
[null,{"$f":"IF(CAD!B750=\"\", \"\", CAD!B750)","v":""},{"$f":"IF($B753=\"\", \"\", CAD!C750)","v":""},{"$f":"IF($B753=\"\", \"\",VLOOKUP($B753, CAD!$D$7:$E$2000, 2, FALSE))","v":""},{"$f":"IF($B753=\"\", \"\",VLOOKUP($B753, CAD!$F$7:$G$2000, 2, FALSE))","v":""},{"$f":"IF($B753=\"\", \"\",VLOOKUP($B753, CAD!$H$7:$I$2000, 2, FALSE))","v":""},{"$f":"IF($B753=\"\", \"\",VLOOKUP($B753, CAD!$J$7:$K$2000, 2, FALSE))","v":""},{"$f":"IF($B753=\"\", \"\", VLOOKUP($B753, CAD!$L$7:$M$2000, 2, FALSE))","v":""},{"$f":"IF($B753=\"\", \"\", VLOOKUP($B753, CAD!$N$7:$O$2000, 2, FALSE))","v":""},{"$f":"IF($B753=\"\", \"\", VLOOKUP($B753, CAD!$P$7:$Q$2000, 2, FALSE))","v":""},{"$f":"IF($B753=\"\", \"\", VLOOKUP($B753, CAD!$R$7:$S$2000, 2, FALSE))","v":""},{"$f":"IF($B753=\"\", \"\", VLOOKUP($B753, CAD!$T$7:$U$2000, 2, FALSE))","v":""},{"$f":"IF($B753=\"\", \"\", VLOOKUP($B753, CAD!$V$7:$W$2000, 2, FALSE))","v":""},null,null,null,null,null,null,null,null,null,null,null,null,null,{"$f":" IF(#REF!=\"\", \"\",#REF!)","v":{"$error":"#REF!"}},{"$f":" IF($AA753=\"\", \"\",#REF!)","v":{"$error":"#REF!"}},{"$f":"IF($AA753=\"\", \"\", VLOOKUP($AA753,#REF!, 2, FALSE))","v":{"$error":"#REF!"}},{"$f":"IF($AA753=\"\", \"\", VLOOKUP($AA753,#REF!, 2, FALSE))","v":{"$error":"#REF!"}},{"$f":"IF($AA753=\"\", \"\", VLOOKUP($AA753,#REF!, 2, FALSE))","v":{"$error":"#REF!"}},{"$f":"IF($AA753=\"\", \"\", VLOOKUP($AA753,#REF!, 2, FALSE))","v":{"$error":"#REF!"}}]
[null,{"$f":"IF(CAD!B751=\"\", \"\", CAD!B751)","v":""},{"$f":"IF($B754=\"\", \"\", CAD!C751)","v":""},{"$f":"IF($B754=\"\", \"\",VLOOKUP($B754, CAD!$D$7:$E$2000, 2, FALSE))","v":""},{"$f":"IF($B754=\"\", \"\",VLOOKUP($B754, CAD!$F$7:$G$2000, 2, FALSE))","v":""},{"$f":"IF($B754=\"\", \"\",VLOOKUP($B754, CAD!$H$7:$I$2000, 2, FALSE))","v":""},{"$f":"IF($B754=\"\", \"\",VLOOKUP($B754, CAD!$J$7:$K$2000, 2, FALSE))","v":""},{"$f":"IF($B754=\"\", \"\", VLOOKUP($B754, CAD!$L$7:$M$2000, 2, FALSE))","v":""},{"$f":"IF($B754=\"\", \"\", VLOOKUP($B754, CAD!$N$7:$O$2000, 2, FALSE))","v":""},{"$f":"IF($B754=\"\", \"\", VLOOKUP($B754, CAD!$P$7:$Q$2000, 2, FALSE))","v":""},{"$f":"IF($B754=\"\", \"\", VLOOKUP($B754, CAD!$R$7:$S$2000, 2, FALSE))","v":""},{"$f":"IF($B754=\"\", \"\", VLOOKUP($B754, CAD!$T$7:$U$2000, 2, FALSE))","v":""},{"$f":"IF($B754=\"\", \"\", VLOOKUP($B754, CAD!$V$7:$W$2000, 2, FALSE))","v":""},null,null,null,null,null,null,null,null,null,null,null,null,null,{"$f":" IF(#REF!=\"\", \"\",#REF!)","v":{"$error":"#REF!"}},{"$f":" IF($AA754=\"\", \"\",#REF!)","v":{"$error":"#REF!"}},{"$f":"IF($AA754=\"\", \"\", VLOOKUP($AA754,#REF!, 2, FALSE))","v":{"$error":"#REF!"}},{"$f":"IF($AA754=\"\", \"\", VLOOKUP($AA754,#REF!, 2, FALSE))","v":{"$error":"#REF!"}},{"$f":"IF($AA754=\"\", \"\", VLOOKUP($AA754,#REF!, 2, FALSE))","v":{"$error":"#REF!"}},{"$f":"IF($AA754=\"\", \"\", VLOOKUP($AA754,#REF!, 2, FALSE))","v":{"$error":"#REF!"}}]
[null,{"$f":"IF(CAD!B752=\"\", \"\", CAD!B752)","v":""},{"$f":"IF($B755=\"\", \"\", CAD!C752)","v":""},{"$f":"IF($B755=\"\", \"\",VLOOKUP($B755, CAD!$D$7:$E$2000, 2, FALSE))","v":""},{"$f":"IF($B755=\"\", \"\",VLOOKUP($B755, CAD!$F$7:$G$2000, 2, FALSE))","v":""},{"$f":"IF($B755=\"\", \"\",VLOOKUP($B755, CAD!$H$7:$I$2000, 2, FALSE))","v":""},{"$f":"IF($B755=\"\", \"\",VLOOKUP($B755, CAD!$J$7:$K$2000, 2, FALSE))","v":""},{"$f":"IF($B755=\"\", \"\", VLOOKUP($B755, CAD!$L$7:$M$2000, 2, FALSE))","v":""},{"$f":"IF($B755=\"\", \"\", VLOOKUP($B755, CAD!$N$7:$O$2000, 2, FALSE))","v":""},{"$f":"IF($B755=\"\", \"\", VLOOKUP($B755, CAD!$P$7:$Q$2000, 2, FALSE))","v":""},{"$f":"IF($B755=\"\", \"\", VLOOKUP($B755, CAD!$R$7:$S$2000, 2, FALSE))","v":""},{"$f":"IF($B755=\"\", \"\", VLOOKUP($B755, CAD!$T$7:$U$2000, 2, FALSE))","v":""},{"$f":"IF($B755=\"\", \"\", VLOOKUP($B755, CAD!$V$7:$W$2000, 2, FALSE))","v":""},null,null,null,null,null,null,null,null,null,null,null,null,null,{"$f":" IF(#REF!=\"\", \"\",#REF!)","v":{"$error":"#REF!"}},{"$f":" IF($AA755=\"\", \"\",#REF!)","v":{"$error":"#REF!"}},{"$f":"IF($AA755=\"\", \"\", VLOOKUP($AA755,#REF!, 2, FALSE))","v":{"$error":"#REF!"}},{"$f":"IF($AA755=\"\", \"\", VLOOKUP($AA755,#REF!, 2, FALSE))","v":{"$error":"#REF!"}},{"$f":"IF($AA755=\"\", \"\", VLOOKUP($AA755,#REF!, 2, FALSE))","v":{"$error":"#REF!"}},{"$f":"IF($AA755=\"\", \"\", VLOOKUP($AA755,#REF!, 2, FALSE))","v":{"$error":"#REF!"}}]
[null,{"$f":"IF(CAD!B753=\"\", \"\", CAD!B753)","v":""},{"$f":"IF($B756=\"\", \"\", CAD!C753)","v":""},{"$f":"IF($B756=\"\", \"\",VLOOKUP($B756, CAD!$D$7:$E$2000, 2, FALSE))","v":""},{"$f":"IF($B756=\"\", \"\",VLOOKUP($B756, CAD!$F$7:$G$2000, 2, FALSE))","v":""},{"$f":"IF($B756=\"\", \"\",VLOOKUP($B756, CAD!$H$7:$I$2000, 2, FALSE))","v":""},{"$f":"IF($B756=\"\", \"\",VLOOKUP($B756, CAD!$J$7:$K$2000, 2, FALSE))","v":""},{"$f":"IF($B756=\"\", \"\", VLOOKUP($B756, CAD!$L$7:$M$2000, 2, FALSE))","v":""},{"$f":"IF($B756=\"\", \"\", VLOOKUP($B756, CAD!$N$7:$O$2000, 2, FALSE))","v":""},{"$f":"IF($B756=\"\", \"\", VLOOKUP($B756, CAD!$P$7:$Q$2000, 2, FALSE))","v":""},{"$f":"IF($B756=\"\", \"\", VLOOKUP($B756, CAD!$R$7:$S$2000, 2, FALSE))","v":""},{"$f":"IF($B756=\"\", \"\", VLOOKUP($B756, CAD!$T$7:$U$2000, 2, FALSE))","v":""},{"$f":"IF($B756=\"\", \"\", VLOOKUP($B756, CAD!$V$7:$W$2000, 2, FALSE))","v":""},null,null,null,null,null,null,null,null,null,null,null,null,null,{"$f":" IF(#REF!=\"\", \"\",#REF!)","v":{"$error":"#REF!"}},{"$f":" IF($AA756=\"\", \"\",#REF!)","v":{"$error":"#REF!"}},{"$f":"IF($AA756=\"\", \"\", VLOOKUP($AA756,#REF!, 2, FALSE))","v":{"$error":"#REF!"}},{"$f":"IF($AA756=\"\", \"\", VLOOKUP($AA756,#REF!, 2, FALSE))","v":{"$error":"#REF!"}},{"$f":"IF($AA756=\"\", \"\", VLOOKUP($AA756,#REF!, 2, FALSE))","v":{"$error":"#REF!"}},{"$f":"IF($AA756=\"\", \"\", VLOOKUP($AA756,#REF!, 2, FALSE))","v":{"$error":"#REF!"}}]
[null,{"$f":"IF(CAD!B754=\"\", \"\", CAD!B754)","v":""},{"$f":"IF($B757=\"\", \"\", CAD!C754)","v":""},{"$f":"IF($B757=\"\", \"\",VLOOKUP($B757, CAD!$D$7:$E$2000, 2, FALSE))","v":""},{"$f":"IF($B757=\"\", \"\",VLOOKUP($B757, CAD!$F$7:$G$2000, 2, FALSE))","v":""},{"$f":"IF($B757=\"\", \"\",VLOOKUP($B757, CAD!$H$7:$I$2000, 2, FALSE))","v":""},{"$f":"IF($B757=\"\", \"\",VLOOKUP($B757, CAD!$J$7:$K$2000, 2, FALSE))","v":""},{"$f":"IF($B757=\"\", \"\", VLOOKUP($B757, CAD!$L$7:$M$2000, 2, FALSE))","v":""},{"$f":"IF($B757=\"\", \"\", VLOOKUP($B757, CAD!$N$7:$O$2000, 2, FALSE))","v":""},{"$f":"IF($B757=\"\", \"\", VLOOKUP($B757, CAD!$P$7:$Q$2000, 2, FALSE))","v":""},{"$f":"IF($B757=\"\", \"\", VLOOKUP($B757, CAD!$R$7:$S$2000, 2, FALSE))","v":""},{"$f":"IF($B757=\"\", \"\", VLOOKUP($B757, CAD!$T$7:$U$2000, 2, FALSE))","v":""},{"$f":"IF($B757=\"\", \"\", VLOOKUP($B757, CAD!$V$7:$W$2000, 2, FALSE))","v":""},null,null,null,null,null,null,null,null,null,null,null,null,null,{"$f":" IF(#REF!=\"\", \"\",#REF!)","v":{"$error":"#REF!"}},{"$f":" IF($AA757=\"\", \"\",#REF!)","v":{"$error":"#REF!"}},{"$f":"IF($AA757=\"\", \"\", VLOOKUP($AA757,#REF!, 2, FALSE))","v":{"$error":"#REF!"}},{"$f":"IF($AA757=\"\", \"\", VLOOKUP($AA757,#REF!, 2, FALSE))","v":{"$error":"#REF!"}},{"$f":"IF($AA757=\"\", \"\", VLOOKUP($AA757,#REF!, 2, FALSE))","v":{"$error":"#REF!"}},{"$f":"IF($AA757=\"\", \"\", VLOOKUP($AA757,#REF!, 2, FALSE))","v":{"$error":"#REF!"}}]
[null,{"$f":"IF(CAD!B755=\"\", \"\", CAD!B755)","v":""},{"$f":"IF($B758=\"\", \"\", CAD!C755)","v":""},{"$f":"IF($B758=\"\", \"\",VLOOKUP($B758, CAD!$D$7:$E$2000, 2, FALSE))","v":""},{"$f":"IF($B758=\"\", \"\",VLOOKUP($B758, CAD!$F$7:$G$2000, 2, FALSE))","v":""},{"$f":"IF($B758=\"\", \"\",VLOOKUP($B758, CAD!$H$7:$I$2000, 2, FALSE))","v":""},{"$f":"IF($B758=\"\", \"\",VLOOKUP($B758, CAD!$J$7:$K$2000, 2, FALSE))","v":""},{"$f":"IF($B758=\"\", \"\", VLOOKUP($B758, CAD!$L$7:$M$2000, 2, FALSE))","v":""},{"$f":"IF($B758=\"\", \"\", VLOOKUP($B758, CAD!$N$7:$O$2000, 2, FALSE))","v":""},{"$f":"IF($B758=\"\", \"\", VLOOKUP($B758, CAD!$P$7:$Q$2000, 2, FALSE))","v":""},{"$f":"IF($B758=\"\", \"\", VLOOKUP($B758, CAD!$R$7:$S$2000, 2, FALSE))","v":""},{"$f":"IF($B758=\"\", \"\", VLOOKUP($B758, CAD!$T$7:$U$2000, 2, FALSE))","v":""},{"$f":"IF($B758=\"\", \"\", VLOOKUP($B758, CAD!$V$7:$W$2000, 2, FALSE))","v":""},null,null,null,null,null,null,null,null,null,null,null,null,null,{"$f":" IF(#REF!=\"\", \"\",#REF!)","v":{"$error":"#REF!"}},{"$f":" IF($AA758=\"\", \"\",#REF!)","v":{"$error":"#REF!"}},{"$f":"IF($AA758=\"\", \"\", VLOOKUP($AA758,#REF!, 2, FALSE))","v":{"$error":"#REF!"}},{"$f":"IF($AA758=\"\", \"\", VLOOKUP($AA758,#REF!, 2, FALSE))","v":{"$error":"#REF!"}},{"$f":"IF($AA758=\"\", \"\", VLOOKUP($AA758,#REF!, 2, FALSE))","v":{"$error":"#REF!"}},{"$f":"IF($AA758=\"\", \"\", VLOOKUP($AA758,#REF!, 2, FALSE))","v":{"$error":"#REF!"}}]
[null,{"$f":"IF(CAD!B756=\"\", \"\", CAD!B756)","v":""},{"$f":"IF($B759=\"\", \"\", CAD!C756)","v":""},{"$f":"IF($B759=\"\", \"\",VLOOKUP($B759, CAD!$D$7:$E$2000, 2, FALSE))","v":""},{"$f":"IF($B759=\"\", \"\",VLOOKUP($B759, CAD!$F$7:$G$2000, 2, FALSE))","v":""},{"$f":"IF($B759=\"\", \"\",VLOOKUP($B759, CAD!$H$7:$I$2000, 2, FALSE))","v":""},{"$f":"IF($B759=\"\", \"\",VLOOKUP($B759, CAD!$J$7:$K$2000, 2, FALSE))","v":""},{"$f":"IF($B759=\"\", \"\", VLOOKUP($B759, CAD!$L$7:$M$2000, 2, FALSE))","v":""},{"$f":"IF($B759=\"\", \"\", VLOOKUP($B759, CAD!$N$7:$O$2000, 2, FALSE))","v":""},{"$f":"IF($B759=\"\", \"\", VLOOKUP($B759, CAD!$P$7:$Q$2000, 2, FALSE))","v":""},{"$f":"IF($B759=\"\", \"\", VLOOKUP($B759, CAD!$R$7:$S$2000, 2, FALSE))","v":""},{"$f":"IF($B759=\"\", \"\", VLOOKUP($B759, CAD!$T$7:$U$2000, 2, FALSE))","v":""},{"$f":"IF($B759=\"\", \"\", VLOOKUP($B759, CAD!$V$7:$W$2000, 2, FALSE))","v":""},null,null,null,null,null,null,null,null,null,null,null,null,null,{"$f":" IF(#REF!=\"\", \"\",#REF!)","v":{"$error":"#REF!"}},{"$f":" IF($AA759=\"\", \"\",#REF!)","v":{"$error":"#REF!"}},{"$f":"IF($AA759=\"\", \"\", VLOOKUP($AA759,#REF!, 2, FALSE))","v":{"$error":"#REF!"}},{"$f":"IF($AA759=\"\", \"\", VLOOKUP($AA759,#REF!, 2, FALSE))","v":{"$error":"#REF!"}},{"$f":"IF($AA759=\"\", \"\", VLOOKUP($AA759,#REF!, 2, FALSE))","v":{"$error":"#REF!"}},{"$f":"IF($AA759=\"\", \"\", VLOOKUP($AA759,#REF!, 2, FALSE))","v":{"$error":"#REF!"}}]
[null,{"$f":"IF(CAD!B757=\"\", \"\", CAD!B757)","v":""},{"$f":"IF($B760=\"\", \"\", CAD!C757)","v":""},{"$f":"IF($B760=\"\", \"\",VLOOKUP($B760, CAD!$D$7:$E$2000, 2, FALSE))","v":""},{"$f":"IF($B760=\"\", \"\",VLOOKUP($B760, CAD!$F$7:$G$2000, 2, FALSE))","v":""},{"$f":"IF($B760=\"\", \"\",VLOOKUP($B760, CAD!$H$7:$I$2000, 2, FALSE))","v":""},{"$f":"IF($B760=\"\", \"\",VLOOKUP($B760, CAD!$J$7:$K$2000, 2, FALSE))","v":""},{"$f":"IF($B760=\"\", \"\", VLOOKUP($B760, CAD!$L$7:$M$2000, 2, FALSE))","v":""},{"$f":"IF($B760=\"\", \"\", VLOOKUP($B760, CAD!$N$7:$O$2000, 2, FALSE))","v":""},{"$f":"IF($B760=\"\", \"\", VLOOKUP($B760, CAD!$P$7:$Q$2000, 2, FALSE))","v":""},{"$f":"IF($B760=\"\", \"\", VLOOKUP($B760, CAD!$R$7:$S$2000, 2, FALSE))","v":""},{"$f":"IF($B760=\"\", \"\", VLOOKUP($B760, CAD!$T$7:$U$2000, 2, FALSE))","v":""},{"$f":"IF($B760=\"\", \"\", VLOOKUP($B760, CAD!$V$7:$W$2000, 2, FALSE))","v":""},null,null,null,null,null,null,null,null,null,null,null,null,null,{"$f":" IF(#REF!=\"\", \"\",#REF!)","v":{"$error":"#REF!"}},{"$f":" IF($AA760=\"\", \"\",#REF!)","v":{"$error":"#REF!"}},{"$f":"IF($AA760=\"\", \"\", VLOOKUP($AA760,#REF!, 2, FALSE))","v":{"$error":"#REF!"}},{"$f":"IF($AA760=\"\", \"\", VLOOKUP($AA760,#REF!, 2, FALSE))","v":{"$error":"#REF!"}},{"$f":"IF($AA760=\"\", \"\", VLOOKUP($AA760,#REF!, 2, FALSE))","v":{"$error":"#REF!"}},{"$f":"IF($AA760=\"\", \"\", VLOOKUP($AA760,#REF!, 2, FALSE))","v":{"$error":"#REF!"}}]
[null,{"$f":"IF(CAD!B758=\"\", \"\", CAD!B758)","v":""},{"$f":"IF($B761=\"\", \"\", CAD!C758)","v":""},{"$f":"IF($B761=\"\", \"\",VLOOKUP($B761, CAD!$D$7:$E$2000, 2, FALSE))","v":""},{"$f":"IF($B761=\"\", \"\",VLOOKUP($B761, CAD!$F$7:$G$2000, 2, FALSE))","v":""},{"$f":"IF($B761=\"\", \"\",VLOOKUP($B761, CAD!$H$7:$I$2000, 2, FALSE))","v":""},{"$f":"IF($B761=\"\", \"\",VLOOKUP($B761, CAD!$J$7:$K$2000, 2, FALSE))","v":""},{"$f":"IF($B761=\"\", \"\", VLOOKUP($B761, CAD!$L$7:$M$2000, 2, FALSE))","v":""},{"$f":"IF($B761=\"\", \"\", VLOOKUP($B761, CAD!$N$7:$O$2000, 2, FALSE))","v":""},{"$f":"IF($B761=\"\", \"\", VLOOKUP($B761, CAD!$P$7:$Q$2000, 2, FALSE))","v":""},{"$f":"IF($B761=\"\", \"\", VLOOKUP($B761, CAD!$R$7:$S$2000, 2, FALSE))","v":""},{"$f":"IF($B761=\"\", \"\", VLOOKUP($B761, CAD!$T$7:$U$2000, 2, FALSE))","v":""},{"$f":"IF($B761=\"\", \"\", VLOOKUP($B761, CAD!$V$7:$W$2000, 2, FALSE))","v":""},null,null,null,null,null,null,null,null,null,null,null,null,null,{"$f":" IF(#REF!=\"\", \"\",#REF!)","v":{"$error":"#REF!"}},{"$f":" IF($AA761=\"\", \"\",#REF!)","v":{"$error":"#REF!"}},{"$f":"IF($AA761=\"\", \"\", VLOOKUP($AA761,#REF!, 2, FALSE))","v":{"$error":"#REF!"}},{"$f":"IF($AA761=\"\", \"\", VLOOKUP($AA761,#REF!, 2, FALSE))","v":{"$error":"#REF!"}},{"$f":"IF($AA761=\"\", \"\", VLOOKUP($AA761,#REF!, 2, FALSE))","v":{"$error":"#REF!"}},{"$f":"IF($AA761=\"\", \"\", VLOOKUP($AA761,#REF!, 2, FALSE))","v":{"$error":"#REF!"}}]
[null,{"$f":"IF(CAD!B759=\"\", \"\", CAD!B759)","v":""},{"$f":"IF($B762=\"\", \"\", CAD!C759)","v":""},{"$f":"IF($B762=\"\", \"\",VLOOKUP($B762, CAD!$D$7:$E$2000, 2, FALSE))","v":""},{"$f":"IF($B762=\"\", \"\",VLOOKUP($B762, CAD!$F$7:$G$2000, 2, FALSE))","v":""},{"$f":"IF($B762=\"\", \"\",VLOOKUP($B762, CAD!$H$7:$I$2000, 2, FALSE))","v":""},{"$f":"IF($B762=\"\", \"\",VLOOKUP($B762, CAD!$J$7:$K$2000, 2, FALSE))","v":""},{"$f":"IF($B762=\"\", \"\", VLOOKUP($B762, CAD!$L$7:$M$2000, 2, FALSE))","v":""},{"$f":"IF($B762=\"\", \"\", VLOOKUP($B762, CAD!$N$7:$O$2000, 2, FALSE))","v":""},{"$f":"IF($B762=\"\", \"\", VLOOKUP($B762, CAD!$P$7:$Q$2000, 2, FALSE))","v":""},{"$f":"IF($B762=\"\", \"\", VLOOKUP($B762, CAD!$R$7:$S$2000, 2, FALSE))","v":""},{"$f":"IF($B762=\"\", \"\", VLOOKUP($B762, CAD!$T$7:$U$2000, 2, FALSE))","v":""},{"$f":"IF($B762=\"\", \"\", VLOOKUP($B762, CAD!$V$7:$W$2000, 2, FALSE))","v":""},null,null,null,null,null,null,null,null,null,null,null,null,null,{"$f":" IF(#REF!=\"\", \"\",#REF!)","v":{"$error":"#REF!"}},{"$f":" IF($AA762=\"\", \"\",#REF!)","v":{"$error":"#REF!"}},{"$f":"IF($AA762=\"\", \"\", VLOOKUP($AA762,#REF!, 2, FALSE))","v":{"$error":"#REF!"}},{"$f":"IF($AA762=\"\", \"\", VLOOKUP($AA762,#REF!, 2, FALSE))","v":{"$error":"#REF!"}},{"$f":"IF($AA762=\"\", \"\", VLOOKUP($AA762,#REF!, 2, FALSE))","v":{"$error":"#REF!"}},{"$f":"IF($AA762=\"\", \"\", VLOOKUP($AA762,#REF!, 2, FALSE))","v":{"$error":"#REF!"}}]
[null,{"$f":"IF(CAD!B760=\"\", \"\", CAD!B760)","v":""},{"$f":"IF($B763=\"\", \"\", CAD!C760)","v":""},{"$f":"IF($B763=\"\", \"\",VLOOKUP($B763, CAD!$D$7:$E$2000, 2, FALSE))","v":""},{"$f":"IF($B763=\"\", \"\",VLOOKUP($B763, CAD!$F$7:$G$2000, 2, FALSE))","v":""},{"$f":"IF($B763=\"\", \"\",VLOOKUP($B763, CAD!$H$7:$I$2000, 2, FALSE))","v":""},{"$f":"IF($B763=\"\", \"\",VLOOKUP($B763, CAD!$J$7:$K$2000, 2, FALSE))","v":""},{"$f":"IF($B763=\"\", \"\", VLOOKUP($B763, CAD!$L$7:$M$2000, 2, FALSE))","v":""},{"$f":"IF($B763=\"\", \"\", VLOOKUP($B763, CAD!$N$7:$O$2000, 2, FALSE))","v":""},{"$f":"IF($B763=\"\", \"\", VLOOKUP($B763, CAD!$P$7:$Q$2000, 2, FALSE))","v":""},{"$f":"IF($B763=\"\", \"\", VLOOKUP($B763, CAD!$R$7:$S$2000, 2, FALSE))","v":""},{"$f":"IF($B763=\"\", \"\", VLOOKUP($B763, CAD!$T$7:$U$2000, 2, FALSE))","v":""},{"$f":"IF($B763=\"\", \"\", VLOOKUP($B763, CAD!$V$7:$W$2000, 2, FALSE))","v":""},null,null,null,null,null,null,null,null,null,null,null,null,null,{"$f":" IF(#REF!=\"\", \"\",#REF!)","v":{"$error":"#REF!"}},{"$f":" IF($AA763=\"\", \"\",#REF!)","v":{"$error":"#REF!"}},{"$f":"IF($AA763=\"\", \"\", VLOOKUP($AA763,#REF!, 2, FALSE))","v":{"$error":"#REF!"}},{"$f":"IF($AA763=\"\", \"\", VLOOKUP($AA763,#REF!, 2, FALSE))","v":{"$error":"#REF!"}},{"$f":"IF($AA763=\"\", \"\", VLOOKUP($AA763,#REF!, 2, FALSE))","v":{"$error":"#REF!"}},{"$f":"IF($AA763=\"\", \"\", VLOOKUP($AA763,#REF!, 2, FALSE))","v":{"$error":"#REF!"}}]
[null,{"$f":"IF(CAD!B761=\"\", \"\", CAD!B761)","v":""},{"$f":"IF($B764=\"\", \"\", CAD!C761)","v":""},{"$f":"IF($B764=\"\", \"\",VLOOKUP($B764, CAD!$D$7:$E$2000, 2, FALSE))","v":""},{"$f":"IF($B764=\"\", \"\",VLOOKUP($B764, CAD!$F$7:$G$2000, 2, FALSE))","v":""},{"$f":"IF($B764=\"\", \"\",VLOOKUP($B764, CAD!$H$7:$I$2000, 2, FALSE))","v":""},{"$f":"IF($B764=\"\", \"\",VLOOKUP($B764, CAD!$J$7:$K$2000, 2, FALSE))","v":""},{"$f":"IF($B764=\"\", \"\", VLOOKUP($B764, CAD!$L$7:$M$2000, 2, FALSE))","v":""},{"$f":"IF($B764=\"\", \"\", VLOOKUP($B764, CAD!$N$7:$O$2000, 2, FALSE))","v":""},{"$f":"IF($B764=\"\", \"\", VLOOKUP($B764, CAD!$P$7:$Q$2000, 2, FALSE))","v":""},{"$f":"IF($B764=\"\", \"\", VLOOKUP($B764, CAD!$R$7:$S$2000, 2, FALSE))","v":""},{"$f":"IF($B764=\"\", \"\", VLOOKUP($B764, CAD!$T$7:$U$2000, 2, FALSE))","v":""},{"$f":"IF($B764=\"\", \"\", VLOOKUP($B764, CAD!$V$7:$W$2000, 2, FALSE))","v":""},null,null,null,null,null,null,null,null,null,null,null,null,null,{"$f":" IF(#REF!=\"\", \"\",#REF!)","v":{"$error":"#REF!"}},{"$f":" IF($AA764=\"\", \"\",#REF!)","v":{"$error":"#REF!"}},{"$f":"IF($AA764=\"\", \"\", VLOOKUP($AA764,#REF!, 2, FALSE))","v":{"$error":"#REF!"}},{"$f":"IF($AA764=\"\", \"\", VLOOKUP($AA764,#REF!, 2, FALSE))","v":{"$error":"#REF!"}},{"$f":"IF($AA764=\"\", \"\", VLOOKUP($AA764,#REF!, 2, FALSE))","v":{"$error":"#REF!"}},{"$f":"IF($AA764=\"\", \"\", VLOOKUP($AA764,#REF!, 2, FALSE))","v":{"$error":"#REF!"}}]
[null,{"$f":"IF(CAD!B762=\"\", \"\", CAD!B762)","v":""},{"$f":"IF($B765=\"\", \"\", CAD!C762)","v":""},{"$f":"IF($B765=\"\", \"\",VLOOKUP($B765, CAD!$D$7:$E$2000, 2, FALSE))","v":""},{"$f":"IF($B765=\"\", \"\",VLOOKUP($B765, CAD!$F$7:$G$2000, 2, FALSE))","v":""},{"$f":"IF($B765=\"\", \"\",VLOOKUP($B765, CAD!$H$7:$I$2000, 2, FALSE))","v":""},{"$f":"IF($B765=\"\", \"\",VLOOKUP($B765, CAD!$J$7:$K$2000, 2, FALSE))","v":""},{"$f":"IF($B765=\"\", \"\", VLOOKUP($B765, CAD!$L$7:$M$2000, 2, FALSE))","v":""},{"$f":"IF($B765=\"\", \"\", VLOOKUP($B765, CAD!$N$7:$O$2000, 2, FALSE))","v":""},{"$f":"IF($B765=\"\", \"\", VLOOKUP($B765, CAD!$P$7:$Q$2000, 2, FALSE))","v":""},{"$f":"IF($B765=\"\", \"\", VLOOKUP($B765, CAD!$R$7:$S$2000, 2, FALSE))","v":""},{"$f":"IF($B765=\"\", \"\", VLOOKUP($B765, CAD!$T$7:$U$2000, 2, FALSE))","v":""},{"$f":"IF($B765=\"\", \"\", VLOOKUP($B765, CAD!$V$7:$W$2000, 2, FALSE))","v":""},null,null,null,null,null,null,null,null,null,null,null,null,null,{"$f":" IF(#REF!=\"\", \"\",#REF!)","v":{"$error":"#REF!"}},{"$f":" IF($AA765=\"\", \"\",#REF!)","v":{"$error":"#REF!"}},{"$f":"IF($AA765=\"\", \"\", VLOOKUP($AA765,#REF!, 2, FALSE))","v":{"$error":"#REF!"}},{"$f":"IF($AA765=\"\", \"\", VLOOKUP($AA765,#REF!, 2, FALSE))","v":{"$error":"#REF!"}},{"$f":"IF($AA765=\"\", \"\", VLOOKUP($AA765,#REF!, 2, FALSE))","v":{"$error":"#REF!"}},{"$f":"IF($AA765=\"\", \"\", VLOOKUP($AA765,#REF!, 2, FALSE))","v":{"$error":"#REF!"}}]
[null,{"$f":"IF(CAD!B763=\"\", \"\", CAD!B763)","v":""},{"$f":"IF($B766=\"\", \"\", CAD!C763)","v":""},{"$f":"IF($B766=\"\", \"\",VLOOKUP($B766, CAD!$D$7:$E$2000, 2, FALSE))","v":""},{"$f":"IF($B766=\"\", \"\",VLOOKUP($B766, CAD!$F$7:$G$2000, 2, FALSE))","v":""},{"$f":"IF($B766=\"\", \"\",VLOOKUP($B766, CAD!$H$7:$I$2000, 2, FALSE))","v":""},{"$f":"IF($B766=\"\", \"\",VLOOKUP($B766, CAD!$J$7:$K$2000, 2, FALSE))","v":""},{"$f":"IF($B766=\"\", \"\", VLOOKUP($B766, CAD!$L$7:$M$2000, 2, FALSE))","v":""},{"$f":"IF($B766=\"\", \"\", VLOOKUP($B766, CAD!$N$7:$O$2000, 2, FALSE))","v":""},{"$f":"IF($B766=\"\", \"\", VLOOKUP($B766, CAD!$P$7:$Q$2000, 2, FALSE))","v":""},{"$f":"IF($B766=\"\", \"\", VLOOKUP($B766, CAD!$R$7:$S$2000, 2, FALSE))","v":""},{"$f":"IF($B766=\"\", \"\", VLOOKUP($B766, CAD!$T$7:$U$2000, 2, FALSE))","v":""},{"$f":"IF($B766=\"\", \"\", VLOOKUP($B766, CAD!$V$7:$W$2000, 2, FALSE))","v":""},null,null,null,null,null,null,null,null,null,null,null,null,null,{"$f":" IF(#REF!=\"\", \"\",#REF!)","v":{"$error":"#REF!"}},{"$f":" IF($AA766=\"\", \"\",#REF!)","v":{"$error":"#REF!"}},{"$f":"IF($AA766=\"\", \"\", VLOOKUP($AA766,#REF!, 2, FALSE))","v":{"$error":"#REF!"}},{"$f":"IF($AA766=\"\", \"\", VLOOKUP($AA766,#REF!, 2, FALSE))","v":{"$error":"#REF!"}},{"$f":"IF($AA766=\"\", \"\", VLOOKUP($AA766,#REF!, 2, FALSE))","v":{"$error":"#REF!"}},{"$f":"IF($AA766=\"\", \"\", VLOOKUP($AA766,#REF!, 2, FALSE))","v":{"$error":"#REF!"}}]
[null,{"$f":"IF(CAD!B764=\"\", \"\", CAD!B764)","v":""},{"$f":"IF($B767=\"\", \"\", CAD!C764)","v":""},{"$f":"IF($B767=\"\", \"\",VLOOKUP($B767, CAD!$D$7:$E$2000, 2, FALSE))","v":""},{"$f":"IF($B767=\"\", \"\",VLOOKUP($B767, CAD!$F$7:$G$2000, 2, FALSE))","v":""},{"$f":"IF($B767=\"\", \"\",VLOOKUP($B767, CAD!$H$7:$I$2000, 2, FALSE))","v":""},{"$f":"IF($B767=\"\", \"\",VLOOKUP($B767, CAD!$J$7:$K$2000, 2, FALSE))","v":""},{"$f":"IF($B767=\"\", \"\", VLOOKUP($B767, CAD!$L$7:$M$2000, 2, FALSE))","v":""},{"$f":"IF($B767=\"\", \"\", VLOOKUP($B767, CAD!$N$7:$O$2000, 2, FALSE))","v":""},{"$f":"IF($B767=\"\", \"\", VLOOKUP($B767, CAD!$P$7:$Q$2000, 2, FALSE))","v":""},{"$f":"IF($B767=\"\", \"\", VLOOKUP($B767, CAD!$R$7:$S$2000, 2, FALSE))","v":""},{"$f":"IF($B767=\"\", \"\", VLOOKUP($B767, CAD!$T$7:$U$2000, 2, FALSE))","v":""},{"$f":"IF($B767=\"\", \"\", VLOOKUP($B767, CAD!$V$7:$W$2000, 2, FALSE))","v":""},null,null,null,null,null,null,null,null,null,null,null,null,null,{"$f":" IF(#REF!=\"\", \"\",#REF!)","v":{"$error":"#REF!"}},{"$f":" IF($AA767=\"\", \"\",#REF!)","v":{"$error":"#REF!"}},{"$f":"IF($AA767=\"\", \"\", VLOOKUP($AA767,#REF!, 2, FALSE))","v":{"$error":"#REF!"}},{"$f":"IF($AA767=\"\", \"\", VLOOKUP($AA767,#REF!, 2, FALSE))","v":{"$error":"#REF!"}},{"$f":"IF($AA767=\"\", \"\", VLOOKUP($AA767,#REF!, 2, FALSE))","v":{"$error":"#REF!"}},{"$f":"IF($AA767=\"\", \"\", VLOOKUP($AA767,#REF!, 2, FALSE))","v":{"$error":"#REF!"}}]
[null,{"$f":"IF(CAD!B765=\"\", \"\", CAD!B765)","v":""},{"$f":"IF($B768=\"\", \"\", CAD!C765)","v":""},{"$f":"IF($B768=\"\", \"\",VLOOKUP($B768, CAD!$D$7:$E$2000, 2, FALSE))","v":""},{"$f":"IF($B768=\"\", \"\",VLOOKUP($B768, CAD!$F$7:$G$2000, 2, FALSE))","v":""},{"$f":"IF($B768=\"\", \"\",VLOOKUP($B768, CAD!$H$7:$I$2000, 2, FALSE))","v":""},{"$f":"IF($B768=\"\", \"\",VLOOKUP($B768, CAD!$J$7:$K$2000, 2, FALSE))","v":""},{"$f":"IF($B768=\"\", \"\", VLOOKUP($B768, CAD!$L$7:$M$2000, 2, FALSE))","v":""},{"$f":"IF($B768=\"\", \"\", VLOOKUP($B768, CAD!$N$7:$O$2000, 2, FALSE))","v":""},{"$f":"IF($B768=\"\", \"\", VLOOKUP($B768, CAD!$P$7:$Q$2000, 2, FALSE))","v":""},{"$f":"IF($B768=\"\", \"\", VLOOKUP($B768, CAD!$R$7:$S$2000, 2, FALSE))","v":""},{"$f":"IF($B768=\"\", \"\", VLOOKUP($B768, CAD!$T$7:$U$2000, 2, FALSE))","v":""},{"$f":"IF($B768=\"\", \"\", VLOOKUP($B768, CAD!$V$7:$W$2000, 2, FALSE))","v":""},null,null,null,null,null,null,null,null,null,null,null,null,null,{"$f":" IF(#REF!=\"\", \"\",#REF!)","v":{"$error":"#REF!"}},{"$f":" IF($AA768=\"\", \"\",#REF!)","v":{"$error":"#REF!"}},{"$f":"IF($AA768=\"\", \"\", VLOOKUP($AA768,#REF!, 2, FALSE))","v":{"$error":"#REF!"}},{"$f":"IF($AA768=\"\", \"\", VLOOKUP($AA768,#REF!, 2, FALSE))","v":{"$error":"#REF!"}},{"$f":"IF($AA768=\"\", \"\", VLOOKUP($AA768,#REF!, 2, FALSE))","v":{"$error":"#REF!"}},{"$f":"IF($AA768=\"\", \"\", VLOOKUP($AA768,#REF!, 2, FALSE))","v":{"$error":"#REF!"}}]
[null,{"$f":"IF(CAD!B766=\"\", \"\", CAD!B766)","v":""},{"$f":"IF($B769=\"\", \"\", CAD!C766)","v":""},{"$f":"IF($B769=\"\", \"\",VLOOKUP($B769, CAD!$D$7:$E$2000, 2, FALSE))","v":""},{"$f":"IF($B769=\"\", \"\",VLOOKUP($B769, CAD!$F$7:$G$2000, 2, FALSE))","v":""},{"$f":"IF($B769=\"\", \"\",VLOOKUP($B769, CAD!$H$7:$I$2000, 2, FALSE))","v":""},{"$f":"IF($B769=\"\", \"\",VLOOKUP($B769, CAD!$J$7:$K$2000, 2, FALSE))","v":""},{"$f":"IF($B769=\"\", \"\", VLOOKUP($B769, CAD!$L$7:$M$2000, 2, FALSE))","v":""},{"$f":"IF($B769=\"\", \"\", VLOOKUP($B769, CAD!$N$7:$O$2000, 2, FALSE))","v":""},{"$f":"IF($B769=\"\", \"\", VLOOKUP($B769, CAD!$P$7:$Q$2000, 2, FALSE))","v":""},{"$f":"IF($B769=\"\", \"\", VLOOKUP($B769, CAD!$R$7:$S$2000, 2, FALSE))","v":""},{"$f":"IF($B769=\"\", \"\", VLOOKUP($B769, CAD!$T$7:$U$2000, 2, FALSE))","v":""},{"$f":"IF($B769=\"\", \"\", VLOOKUP($B769, CAD!$V$7:$W$2000, 2, FALSE))","v":""},null,null,null,null,null,null,null,null,null,null,null,null,null,{"$f":" IF(#REF!=\"\", \"\",#REF!)","v":{"$error":"#REF!"}},{"$f":" IF($AA769=\"\", \"\",#REF!)","v":{"$error":"#REF!"}},{"$f":"IF($AA769=\"\", \"\", VLOOKUP($AA769,#REF!, 2, FALSE))","v":{"$error":"#REF!"}},{"$f":"IF($AA769=\"\", \"\", VLOOKUP($AA769,#REF!, 2, FALSE))","v":{"$error":"#REF!"}},{"$f":"IF($AA769=\"\", \"\", VLOOKUP($AA769,#REF!, 2, FALSE))","v":{"$error":"#REF!"}},{"$f":"IF($AA769=\"\", \"\", VLOOKUP($AA769,#REF!, 2, FALSE))","v":{"$error":"#REF!"}}]
[null,{"$f":"IF(CAD!B767=\"\", \"\", CAD!B767)","v":""},{"$f":"IF($B770=\"\", \"\", CAD!C767)","v":""},{"$f":"IF($B770=\"\", \"\",VLOOKUP($B770, CAD!$D$7:$E$2000, 2, FALSE))","v":""},{"$f":"IF($B770=\"\", \"\",VLOOKUP($B770, CAD!$F$7:$G$2000, 2, FALSE))","v":""},{"$f":"IF($B770=\"\", \"\",VLOOKUP($B770, CAD!$H$7:$I$2000, 2, FALSE))","v":""},{"$f":"IF($B770=\"\", \"\",VLOOKUP($B770, CAD!$J$7:$K$2000, 2, FALSE))","v":""},{"$f":"IF($B770=\"\", \"\", VLOOKUP($B770, CAD!$L$7:$M$2000, 2, FALSE))","v":""},{"$f":"IF($B770=\"\", \"\", VLOOKUP($B770, CAD!$N$7:$O$2000, 2, FALSE))","v":""},{"$f":"IF($B770=\"\", \"\", VLOOKUP($B770, CAD!$P$7:$Q$2000, 2, FALSE))","v":""},{"$f":"IF($B770=\"\", \"\", VLOOKUP($B770, CAD!$R$7:$S$2000, 2, FALSE))","v":""},{"$f":"IF($B770=\"\", \"\", VLOOKUP($B770, CAD!$T$7:$U$2000, 2, FALSE))","v":""},{"$f":"IF($B770=\"\", \"\", VLOOKUP($B770, CAD!$V$7:$W$2000, 2, FALSE))","v":""},null,null,null,null,null,null,null,null,null,null,null,null,null,{"$f":" IF(#REF!=\"\", \"\",#REF!)","v":{"$error":"#REF!"}},{"$f":" IF($AA770=\"\", \"\",#REF!)","v":{"$error":"#REF!"}},{"$f":"IF($AA770=\"\", \"\", VLOOKUP($AA770,#REF!, 2, FALSE))","v":{"$error":"#REF!"}},{"$f":"IF($AA770=\"\", \"\", VLOOKUP($AA770,#REF!, 2, FALSE))","v":{"$error":"#REF!"}},{"$f":"IF($AA770=\"\", \"\", VLOOKUP($AA770,#REF!, 2, FALSE))","v":{"$error":"#REF!"}},{"$f":"IF($AA770=\"\", \"\", VLOOKUP($AA770,#REF!, 2, FALSE))","v":{"$error":"#REF!"}}]
[null,{"$f":"IF(CAD!B768=\"\", \"\", CAD!B768)","v":""},{"$f":"IF($B771=\"\", \"\", CAD!C768)","v":""},{"$f":"IF($B771=\"\", \"\",VLOOKUP($B771, CAD!$D$7:$E$2000, 2, FALSE))","v":""},{"$f":"IF($B771=\"\", \"\",VLOOKUP($B771, CAD!$F$7:$G$2000, 2, FALSE))","v":""},{"$f":"IF($B771=\"\", \"\",VLOOKUP($B771, CAD!$H$7:$I$2000, 2, FALSE))","v":""},{"$f":"IF($B771=\"\", \"\",VLOOKUP($B771, CAD!$J$7:$K$2000, 2, FALSE))","v":""},{"$f":"IF($B771=\"\", \"\", VLOOKUP($B771, CAD!$L$7:$M$2000, 2, FALSE))","v":""},{"$f":"IF($B771=\"\", \"\", VLOOKUP($B771, CAD!$N$7:$O$2000, 2, FALSE))","v":""},{"$f":"IF($B771=\"\", \"\", VLOOKUP($B771, CAD!$P$7:$Q$2000, 2, FALSE))","v":""},{"$f":"IF($B771=\"\", \"\", VLOOKUP($B771, CAD!$R$7:$S$2000, 2, FALSE))","v":""},{"$f":"IF($B771=\"\", \"\", VLOOKUP($B771, CAD!$T$7:$U$2000, 2, FALSE))","v":""},{"$f":"IF($B771=\"\", \"\", VLOOKUP($B771, CAD!$V$7:$W$2000, 2, FALSE))","v":""},null,null,null,null,null,null,null,null,null,null,null,null,null,{"$f":" IF(#REF!=\"\", \"\",#REF!)","v":{"$error":"#REF!"}},{"$f":" IF($AA771=\"\", \"\",#REF!)","v":{"$error":"#REF!"}},{"$f":"IF($AA771=\"\", \"\", VLOOKUP($AA771,#REF!, 2, FALSE))","v":{"$error":"#REF!"}},{"$f":"IF($AA771=\"\", \"\", VLOOKUP($AA771,#REF!, 2, FALSE))","v":{"$error":"#REF!"}},{"$f":"IF($AA771=\"\", \"\", VLOOKUP($AA771,#REF!, 2, FALSE))","v":{"$error":"#REF!"}},{"$f":"IF($AA771=\"\", \"\", VLOOKUP($AA771,#REF!, 2, FALSE))","v":{"$error":"#REF!"}}]
[null,{"$f":"IF(CAD!B769=\"\", \"\", CAD!B769)","v":""},{"$f":"IF($B772=\"\", \"\", CAD!C769)","v":""},{"$f":"IF($B772=\"\", \"\",VLOOKUP($B772, CAD!$D$7:$E$2000, 2, FALSE))","v":""},{"$f":"IF($B772=\"\", \"\",VLOOKUP($B772, CAD!$F$7:$G$2000, 2, FALSE))","v":""},{"$f":"IF($B772=\"\", \"\",VLOOKUP($B772, CAD!$H$7:$I$2000, 2, FALSE))","v":""},{"$f":"IF($B772=\"\", \"\",VLOOKUP($B772, CAD!$J$7:$K$2000, 2, FALSE))","v":""},{"$f":"IF($B772=\"\", \"\", VLOOKUP($B772, CAD!$L$7:$M$2000, 2, FALSE))","v":""},{"$f":"IF($B772=\"\", \"\", VLOOKUP($B772, CAD!$N$7:$O$2000, 2, FALSE))","v":""},{"$f":"IF($B772=\"\", \"\", VLOOKUP($B772, CAD!$P$7:$Q$2000, 2, FALSE))","v":""},{"$f":"IF($B772=\"\", \"\", VLOOKUP($B772, CAD!$R$7:$S$2000, 2, FALSE))","v":""},{"$f":"IF($B772=\"\", \"\", VLOOKUP($B772, CAD!$T$7:$U$2000, 2, FALSE))","v":""},{"$f":"IF($B772=\"\", \"\", VLOOKUP($B772, CAD!$V$7:$W$2000, 2, FALSE))","v":""},null,null,null,null,null,null,null,null,null,null,null,null,null,{"$f":" IF(#REF!=\"\", \"\",#REF!)","v":{"$error":"#REF!"}},{"$f":" IF($AA772=\"\", \"\",#REF!)","v":{"$error":"#REF!"}},{"$f":"IF($AA772=\"\", \"\", VLOOKUP($AA772,#REF!, 2, FALSE))","v":{"$error":"#REF!"}},{"$f":"IF($AA772=\"\", \"\", VLOOKUP($AA772,#REF!, 2, FALSE))","v":{"$error":"#REF!"}},{"$f":"IF($AA772=\"\", \"\", VLOOKUP($AA772,#REF!, 2, FALSE))","v":{"$error":"#REF!"}},{"$f":"IF($AA772=\"\", \"\", VLOOKUP($AA772,#REF!, 2, FALSE))","v":{"$error":"#REF!"}}]
[null,{"$f":"IF(CAD!B770=\"\", \"\", CAD!B770)","v":""},{"$f":"IF($B773=\"\", \"\", CAD!C770)","v":""},{"$f":"IF($B773=\"\", \"\",VLOOKUP($B773, CAD!$D$7:$E$2000, 2, FALSE))","v":""},{"$f":"IF($B773=\"\", \"\",VLOOKUP($B773, CAD!$F$7:$G$2000, 2, FALSE))","v":""},{"$f":"IF($B773=\"\", \"\",VLOOKUP($B773, CAD!$H$7:$I$2000, 2, FALSE))","v":""},{"$f":"IF($B773=\"\", \"\",VLOOKUP($B773, CAD!$J$7:$K$2000, 2, FALSE))","v":""},{"$f":"IF($B773=\"\", \"\", VLOOKUP($B773, CAD!$L$7:$M$2000, 2, FALSE))","v":""},{"$f":"IF($B773=\"\", \"\", VLOOKUP($B773, CAD!$N$7:$O$2000, 2, FALSE))","v":""},{"$f":"IF($B773=\"\", \"\", VLOOKUP($B773, CAD!$P$7:$Q$2000, 2, FALSE))","v":""},{"$f":"IF($B773=\"\", \"\", VLOOKUP($B773, CAD!$R$7:$S$2000, 2, FALSE))","v":""},{"$f":"IF($B773=\"\", \"\", VLOOKUP($B773, CAD!$T$7:$U$2000, 2, FALSE))","v":""},{"$f":"IF($B773=\"\", \"\", VLOOKUP($B773, CAD!$V$7:$W$2000, 2, FALSE))","v":""},null,null,null,null,null,null,null,null,null,null,null,null,null,{"$f":" IF(#REF!=\"\", \"\",#REF!)","v":{"$error":"#REF!"}},{"$f":" IF($AA773=\"\", \"\",#REF!)","v":{"$error":"#REF!"}},{"$f":"IF($AA773=\"\", \"\", VLOOKUP($AA773,#REF!, 2, FALSE))","v":{"$error":"#REF!"}},{"$f":"IF($AA773=\"\", \"\", VLOOKUP($AA773,#REF!, 2, FALSE))","v":{"$error":"#REF!"}},{"$f":"IF($AA773=\"\", \"\", VLOOKUP($AA773,#REF!, 2, FALSE))","v":{"$error":"#REF!"}},{"$f":"IF($AA773=\"\", \"\", VLOOKUP($AA773,#REF!, 2, FALSE))","v":{"$error":"#REF!"}}]
[null,{"$f":"IF(CAD!B771=\"\", \"\", CAD!B771)","v":""},{"$f":"IF($B774=\"\", \"\", CAD!C771)","v":""},{"$f":"IF($B774=\"\", \"\",VLOOKUP($B774, CAD!$D$7:$E$2000, 2, FALSE))","v":""},{"$f":"IF($B774=\"\", \"\",VLOOKUP($B774, CAD!$F$7:$G$2000, 2, FALSE))","v":""},{"$f":"IF($B774=\"\", \"\",VLOOKUP($B774, CAD!$H$7:$I$2000, 2, FALSE))","v":""},{"$f":"IF($B774=\"\", \"\",VLOOKUP($B774, CAD!$J$7:$K$2000, 2, FALSE))","v":""},{"$f":"IF($B774=\"\", \"\", VLOOKUP($B774, CAD!$L$7:$M$2000, 2, FALSE))","v":""},{"$f":"IF($B774=\"\", \"\", VLOOKUP($B774, CAD!$N$7:$O$2000, 2, FALSE))","v":""},{"$f":"IF($B774=\"\", \"\", VLOOKUP($B774, CAD!$P$7:$Q$2000, 2, FALSE))","v":""},{"$f":"IF($B774=\"\", \"\", VLOOKUP($B774, CAD!$R$7:$S$2000, 2, FALSE))","v":""},{"$f":"IF($B774=\"\", \"\", VLOOKUP($B774, CAD!$T$7:$U$2000, 2, FALSE))","v":""},{"$f":"IF($B774=\"\", \"\", VLOOKUP($B774, CAD!$V$7:$W$2000, 2, FALSE))","v":""},null,null,null,null,null,null,null,null,null,null,null,null,null,{"$f":" IF(#REF!=\"\", \"\",#REF!)","v":{"$error":"#REF!"}},{"$f":" IF($AA774=\"\", \"\",#REF!)","v":{"$error":"#REF!"}},{"$f":"IF($AA774=\"\", \"\", VLOOKUP($AA774,#REF!, 2, FALSE))","v":{"$error":"#REF!"}},{"$f":"IF($AA774=\"\", \"\", VLOOKUP($AA774,#REF!, 2, FALSE))","v":{"$error":"#REF!"}},{"$f":"IF($AA774=\"\", \"\", VLOOKUP($AA774,#REF!, 2, FALSE))","v":{"$error":"#REF!"}},{"$f":"IF($AA774=\"\", \"\", VLOOKUP($AA774,#REF!, 2, FALSE))","v":{"$error":"#REF!"}}]
[null,{"$f":"IF(CAD!B772=\"\", \"\", CAD!B772)","v":""},{"$f":"IF($B775=\"\", \"\", CAD!C772)","v":""},{"$f":"IF($B775=\"\", \"\",VLOOKUP($B775, CAD!$D$7:$E$2000, 2, FALSE))","v":""},{"$f":"IF($B775=\"\", \"\",VLOOKUP($B775, CAD!$F$7:$G$2000, 2, FALSE))","v":""},{"$f":"IF($B775=\"\", \"\",VLOOKUP($B775, CAD!$H$7:$I$2000, 2, FALSE))","v":""},{"$f":"IF($B775=\"\", \"\",VLOOKUP($B775, CAD!$J$7:$K$2000, 2, FALSE))","v":""},{"$f":"IF($B775=\"\", \"\", VLOOKUP($B775, CAD!$L$7:$M$2000, 2, FALSE))","v":""},{"$f":"IF($B775=\"\", \"\", VLOOKUP($B775, CAD!$N$7:$O$2000, 2, FALSE))","v":""},{"$f":"IF($B775=\"\", \"\", VLOOKUP($B775, CAD!$P$7:$Q$2000, 2, FALSE))","v":""},{"$f":"IF($B775=\"\", \"\", VLOOKUP($B775, CAD!$R$7:$S$2000, 2, FALSE))","v":""},{"$f":"IF($B775=\"\", \"\", VLOOKUP($B775, CAD!$T$7:$U$2000, 2, FALSE))","v":""},{"$f":"IF($B775=\"\", \"\", VLOOKUP($B775, CAD!$V$7:$W$2000, 2, FALSE))","v":""},null,null,null,null,null,null,null,null,null,null,null,null,null,{"$f":" IF(#REF!=\"\", \"\",#REF!)","v":{"$error":"#REF!"}},{"$f":" IF($AA775=\"\", \"\",#REF!)","v":{"$error":"#REF!"}},{"$f":"IF($AA775=\"\", \"\", VLOOKUP($AA775,#REF!, 2, FALSE))","v":{"$error":"#REF!"}},{"$f":"IF($AA775=\"\", \"\", VLOOKUP($AA775,#REF!, 2, FALSE))","v":{"$error":"#REF!"}},{"$f":"IF($AA775=\"\", \"\", VLOOKUP($AA775,#REF!, 2, FALSE))","v":{"$error":"#REF!"}},{"$f":"IF($AA775=\"\", \"\", VLOOKUP($AA775,#REF!, 2, FALSE))","v":{"$error":"#REF!"}}]
[null,{"$f":"IF(CAD!B773=\"\", \"\", CAD!B773)","v":""},{"$f":"IF($B776=\"\", \"\", CAD!C773)","v":""},{"$f":"IF($B776=\"\", \"\",VLOOKUP($B776, CAD!$D$7:$E$2000, 2, FALSE))","v":""},{"$f":"IF($B776=\"\", \"\",VLOOKUP($B776, CAD!$F$7:$G$2000, 2, FALSE))","v":""},{"$f":"IF($B776=\"\", \"\",VLOOKUP($B776, CAD!$H$7:$I$2000, 2, FALSE))","v":""},{"$f":"IF($B776=\"\", \"\",VLOOKUP($B776, CAD!$J$7:$K$2000, 2, FALSE))","v":""},{"$f":"IF($B776=\"\", \"\", VLOOKUP($B776, CAD!$L$7:$M$2000, 2, FALSE))","v":""},{"$f":"IF($B776=\"\", \"\", VLOOKUP($B776, CAD!$N$7:$O$2000, 2, FALSE))","v":""},{"$f":"IF($B776=\"\", \"\", VLOOKUP($B776, CAD!$P$7:$Q$2000, 2, FALSE))","v":""},{"$f":"IF($B776=\"\", \"\", VLOOKUP($B776, CAD!$R$7:$S$2000, 2, FALSE))","v":""},{"$f":"IF($B776=\"\", \"\", VLOOKUP($B776, CAD!$T$7:$U$2000, 2, FALSE))","v":""},{"$f":"IF($B776=\"\", \"\", VLOOKUP($B776, CAD!$V$7:$W$2000, 2, FALSE))","v":""},null,null,null,null,null,null,null,null,null,null,null,null,null,{"$f":" IF(#REF!=\"\", \"\",#REF!)","v":{"$error":"#REF!"}},{"$f":" IF($AA776=\"\", \"\",#REF!)","v":{"$error":"#REF!"}},{"$f":"IF($AA776=\"\", \"\", VLOOKUP($AA776,#REF!, 2, FALSE))","v":{"$error":"#REF!"}},{"$f":"IF($AA776=\"\", \"\", VLOOKUP($AA776,#REF!, 2, FALSE))","v":{"$error":"#REF!"}},{"$f":"IF($AA776=\"\", \"\", VLOOKUP($AA776,#REF!, 2, FALSE))","v":{"$error":"#REF!"}},{"$f":"IF($AA776=\"\", \"\", VLOOKUP($AA776,#REF!, 2, FALSE))","v":{"$error":"#REF!"}}]
[null,{"$f":"IF(CAD!B774=\"\", \"\", CAD!B774)","v":""},{"$f":"IF($B777=\"\", \"\", CAD!C774)","v":""},{"$f":"IF($B777=\"\", \"\",VLOOKUP($B777, CAD!$D$7:$E$2000, 2, FALSE))","v":""},{"$f":"IF($B777=\"\", \"\",VLOOKUP($B777, CAD!$F$7:$G$2000, 2, FALSE))","v":""},{"$f":"IF($B777=\"\", \"\",VLOOKUP($B777, CAD!$H$7:$I$2000, 2, FALSE))","v":""},{"$f":"IF($B777=\"\", \"\",VLOOKUP($B777, CAD!$J$7:$K$2000, 2, FALSE))","v":""},{"$f":"IF($B777=\"\", \"\", VLOOKUP($B777, CAD!$L$7:$M$2000, 2, FALSE))","v":""},{"$f":"IF($B777=\"\", \"\", VLOOKUP($B777, CAD!$N$7:$O$2000, 2, FALSE))","v":""},{"$f":"IF($B777=\"\", \"\", VLOOKUP($B777, CAD!$P$7:$Q$2000, 2, FALSE))","v":""},{"$f":"IF($B777=\"\", \"\", VLOOKUP($B777, CAD!$R$7:$S$2000, 2, FALSE))","v":""},{"$f":"IF($B777=\"\", \"\", VLOOKUP($B777, CAD!$T$7:$U$2000, 2, FALSE))","v":""},{"$f":"IF($B777=\"\", \"\", VLOOKUP($B777, CAD!$V$7:$W$2000, 2, FALSE))","v":""},null,null,null,null,null,null,null,null,null,null,null,null,null,{"$f":" IF(#REF!=\"\", \"\",#REF!)","v":{"$error":"#REF!"}},{"$f":" IF($AA777=\"\", \"\",#REF!)","v":{"$error":"#REF!"}},{"$f":"IF($AA777=\"\", \"\", VLOOKUP($AA777,#REF!, 2, FALSE))","v":{"$error":"#REF!"}},{"$f":"IF($AA777=\"\", \"\", VLOOKUP($AA777,#REF!, 2, FALSE))","v":{"$error":"#REF!"}},{"$f":"IF($AA777=\"\", \"\", VLOOKUP($AA777,#REF!, 2, FALSE))","v":{"$error":"#REF!"}},{"$f":"IF($AA777=\"\", \"\", VLOOKUP($AA777,#REF!, 2, FALSE))","v":{"$error":"#REF!"}}]
[null,{"$f":"IF(CAD!B775=\"\", \"\", CAD!B775)","v":""},{"$f":"IF($B778=\"\", \"\", CAD!C775)","v":""},{"$f":"IF($B778=\"\", \"\",VLOOKUP($B778, CAD!$D$7:$E$2000, 2, FALSE))","v":""},{"$f":"IF($B778=\"\", \"\",VLOOKUP($B778, CAD!$F$7:$G$2000, 2, FALSE))","v":""},{"$f":"IF($B778=\"\", \"\",VLOOKUP($B778, CAD!$H$7:$I$2000, 2, FALSE))","v":""},{"$f":"IF($B778=\"\", \"\",VLOOKUP($B778, CAD!$J$7:$K$2000, 2, FALSE))","v":""},{"$f":"IF($B778=\"\", \"\", VLOOKUP($B778, CAD!$L$7:$M$2000, 2, FALSE))","v":""},{"$f":"IF($B778=\"\", \"\", VLOOKUP($B778, CAD!$N$7:$O$2000, 2, FALSE))","v":""},{"$f":"IF($B778=\"\", \"\", VLOOKUP($B778, CAD!$P$7:$Q$2000, 2, FALSE))","v":""},{"$f":"IF($B778=\"\", \"\", VLOOKUP($B778, CAD!$R$7:$S$2000, 2, FALSE))","v":""},{"$f":"IF($B778=\"\", \"\", VLOOKUP($B778, CAD!$T$7:$U$2000, 2, FALSE))","v":""},{"$f":"IF($B778=\"\", \"\", VLOOKUP($B778, CAD!$V$7:$W$2000, 2, FALSE))","v":""},null,null,null,null,null,null,null,null,null,null,null,null,null,{"$f":" IF(#REF!=\"\", \"\",#REF!)","v":{"$error":"#REF!"}},{"$f":" IF($AA778=\"\", \"\",#REF!)","v":{"$error":"#REF!"}},{"$f":"IF($AA778=\"\", \"\", VLOOKUP($AA778,#REF!, 2, FALSE))","v":{"$error":"#REF!"}},{"$f":"IF($AA778=\"\", \"\", VLOOKUP($AA778,#REF!, 2, FALSE))","v":{"$error":"#REF!"}},{"$f":"IF($AA778=\"\", \"\", VLOOKUP($AA778,#REF!, 2, FALSE))","v":{"$error":"#REF!"}},{"$f":"IF($AA778=\"\", \"\", VLOOKUP($AA778,#REF!, 2, FALSE))","v":{"$error":"#REF!"}}]
[null,{"$f":"IF(CAD!B776=\"\", \"\", CAD!B776)","v":""},{"$f":"IF($B779=\"\", \"\", CAD!C776)","v":""},{"$f":"IF($B779=\"\", \"\",VLOOKUP($B779, CAD!$D$7:$E$2000, 2, FALSE))","v":""},{"$f":"IF($B779=\"\", \"\",VLOOKUP($B779, CAD!$F$7:$G$2000, 2, FALSE))","v":""},{"$f":"IF($B779=\"\", \"\",VLOOKUP($B779, CAD!$H$7:$I$2000, 2, FALSE))","v":""},{"$f":"IF($B779=\"\", \"\",VLOOKUP($B779, CAD!$J$7:$K$2000, 2, FALSE))","v":""},{"$f":"IF($B779=\"\", \"\", VLOOKUP($B779, CAD!$L$7:$M$2000, 2, FALSE))","v":""},{"$f":"IF($B779=\"\", \"\", VLOOKUP($B779, CAD!$N$7:$O$2000, 2, FALSE))","v":""},{"$f":"IF($B779=\"\", \"\", VLOOKUP($B779, CAD!$P$7:$Q$2000, 2, FALSE))","v":""},{"$f":"IF($B779=\"\", \"\", VLOOKUP($B779, CAD!$R$7:$S$2000, 2, FALSE))","v":""},{"$f":"IF($B779=\"\", \"\", VLOOKUP($B779, CAD!$T$7:$U$2000, 2, FALSE))","v":""},{"$f":"IF($B779=\"\", \"\", VLOOKUP($B779, CAD!$V$7:$W$2000, 2, FALSE))","v":""},null,null,null,null,null,null,null,null,null,null,null,null,null,{"$f":" IF(#REF!=\"\", \"\",#REF!)","v":{"$error":"#REF!"}},{"$f":" IF($AA779=\"\", \"\",#REF!)","v":{"$error":"#REF!"}},{"$f":"IF($AA779=\"\", \"\", VLOOKUP($AA779,#REF!, 2, FALSE))","v":{"$error":"#REF!"}},{"$f":"IF($AA779=\"\", \"\", VLOOKUP($AA779,#REF!, 2, FALSE))","v":{"$error":"#REF!"}},{"$f":"IF($AA779=\"\", \"\", VLOOKUP($AA779,#REF!, 2, FALSE))","v":{"$error":"#REF!"}},{"$f":"IF($AA779=\"\", \"\", VLOOKUP($AA779,#REF!, 2, FALSE))","v":{"$error":"#REF!"}}]
[null,{"$f":"IF(CAD!B777=\"\", \"\", CAD!B777)","v":""},{"$f":"IF($B780=\"\", \"\", CAD!C777)","v":""},{"$f":"IF($B780=\"\", \"\",VLOOKUP($B780, CAD!$D$7:$E$2000, 2, FALSE))","v":""},{"$f":"IF($B780=\"\", \"\",VLOOKUP($B780, CAD!$F$7:$G$2000, 2, FALSE))","v":""},{"$f":"IF($B780=\"\", \"\",VLOOKUP($B780, CAD!$H$7:$I$2000, 2, FALSE))","v":""},{"$f":"IF($B780=\"\", \"\",VLOOKUP($B780, CAD!$J$7:$K$2000, 2, FALSE))","v":""},{"$f":"IF($B780=\"\", \"\", VLOOKUP($B780, CAD!$L$7:$M$2000, 2, FALSE))","v":""},{"$f":"IF($B780=\"\", \"\", VLOOKUP($B780, CAD!$N$7:$O$2000, 2, FALSE))","v":""},{"$f":"IF($B780=\"\", \"\", VLOOKUP($B780, CAD!$P$7:$Q$2000, 2, FALSE))","v":""},{"$f":"IF($B780=\"\", \"\", VLOOKUP($B780, CAD!$R$7:$S$2000, 2, FALSE))","v":""},{"$f":"IF($B780=\"\", \"\", VLOOKUP($B780, CAD!$T$7:$U$2000, 2, FALSE))","v":""},{"$f":"IF($B780=\"\", \"\", VLOOKUP($B780, CAD!$V$7:$W$2000, 2, FALSE))","v":""},null,null,null,null,null,null,null,null,null,null,null,null,null,{"$f":" IF(#REF!=\"\", \"\",#REF!)","v":{"$error":"#REF!"}},{"$f":" IF($AA780=\"\", \"\",#REF!)","v":{"$error":"#REF!"}},{"$f":"IF($AA780=\"\", \"\", VLOOKUP($AA780,#REF!, 2, FALSE))","v":{"$error":"#REF!"}},{"$f":"IF($AA780=\"\", \"\", VLOOKUP($AA780,#REF!, 2, FALSE))","v":{"$error":"#REF!"}},{"$f":"IF($AA780=\"\", \"\", VLOOKUP($AA780,#REF!, 2, FALSE))","v":{"$error":"#REF!"}},{"$f":"IF($AA780=\"\", \"\", VLOOKUP($AA780,#REF!, 2, FALSE))","v":{"$error":"#REF!"}}]
[null,{"$f":"IF(CAD!B778=\"\", \"\", CAD!B778)","v":""},{"$f":"IF($B781=\"\", \"\", CAD!C778)","v":""},{"$f":"IF($B781=\"\", \"\",VLOOKUP($B781, CAD!$D$7:$E$2000, 2, FALSE))","v":""},{"$f":"IF($B781=\"\", \"\",VLOOKUP($B781, CAD!$F$7:$G$2000, 2, FALSE))","v":""},{"$f":"IF($B781=\"\", \"\",VLOOKUP($B781, CAD!$H$7:$I$2000, 2, FALSE))","v":""},{"$f":"IF($B781=\"\", \"\",VLOOKUP($B781, CAD!$J$7:$K$2000, 2, FALSE))","v":""},{"$f":"IF($B781=\"\", \"\", VLOOKUP($B781, CAD!$L$7:$M$2000, 2, FALSE))","v":""},{"$f":"IF($B781=\"\", \"\", VLOOKUP($B781, CAD!$N$7:$O$2000, 2, FALSE))","v":""},{"$f":"IF($B781=\"\", \"\", VLOOKUP($B781, CAD!$P$7:$Q$2000, 2, FALSE))","v":""},{"$f":"IF($B781=\"\", \"\", VLOOKUP($B781, CAD!$R$7:$S$2000, 2, FALSE))","v":""},{"$f":"IF($B781=\"\", \"\", VLOOKUP($B781, CAD!$T$7:$U$2000, 2, FALSE))","v":""},{"$f":"IF($B781=\"\", \"\", VLOOKUP($B781, CAD!$V$7:$W$2000, 2, FALSE))","v":""},null,null,null,null,null,null,null,null,null,null,null,null,null,{"$f":" IF(#REF!=\"\", \"\",#REF!)","v":{"$error":"#REF!"}},{"$f":" IF($AA781=\"\", \"\",#REF!)","v":{"$error":"#REF!"}},{"$f":"IF($AA781=\"\", \"\", VLOOKUP($AA781,#REF!, 2, FALSE))","v":{"$error":"#REF!"}},{"$f":"IF($AA781=\"\", \"\", VLOOKUP($AA781,#REF!, 2, FALSE))","v":{"$error":"#REF!"}},{"$f":"IF($AA781=\"\", \"\", VLOOKUP($AA781,#REF!, 2, FALSE))","v":{"$error":"#REF!"}},{"$f":"IF($AA781=\"\", \"\", VLOOKUP($AA781,#REF!, 2, FALSE))","v":{"$error":"#REF!"}}]
[null,{"$f":"IF(CAD!B779=\"\", \"\", CAD!B779)","v":""},{"$f":"IF($B782=\"\", \"\", CAD!C779)","v":""},{"$f":"IF($B782=\"\", \"\",VLOOKUP($B782, CAD!$D$7:$E$2000, 2, FALSE))","v":""},{"$f":"IF($B782=\"\", \"\",VLOOKUP($B782, CAD!$F$7:$G$2000, 2, FALSE))","v":""},{"$f":"IF($B782=\"\", \"\",VLOOKUP($B782, CAD!$H$7:$I$2000, 2, FALSE))","v":""},{"$f":"IF($B782=\"\", \"\",VLOOKUP($B782, CAD!$J$7:$K$2000, 2, FALSE))","v":""},{"$f":"IF($B782=\"\", \"\", VLOOKUP($B782, CAD!$L$7:$M$2000, 2, FALSE))","v":""},{"$f":"IF($B782=\"\", \"\", VLOOKUP($B782, CAD!$N$7:$O$2000, 2, FALSE))","v":""},{"$f":"IF($B782=\"\", \"\", VLOOKUP($B782, CAD!$P$7:$Q$2000, 2, FALSE))","v":""},{"$f":"IF($B782=\"\", \"\", VLOOKUP($B782, CAD!$R$7:$S$2000, 2, FALSE))","v":""},{"$f":"IF($B782=\"\", \"\", VLOOKUP($B782, CAD!$T$7:$U$2000, 2, FALSE))","v":""},{"$f":"IF($B782=\"\", \"\", VLOOKUP($B782, CAD!$V$7:$W$2000, 2, FALSE))","v":""},null,null,null,null,null,null,null,null,null,null,null,null,null,{"$f":" IF(#REF!=\"\", \"\",#REF!)","v":{"$error":"#REF!"}},{"$f":" IF($AA782=\"\", \"\",#REF!)","v":{"$error":"#REF!"}},{"$f":"IF($AA782=\"\", \"\", VLOOKUP($AA782,#REF!, 2, FALSE))","v":{"$error":"#REF!"}},{"$f":"IF($AA782=\"\", \"\", VLOOKUP($AA782,#REF!, 2, FALSE))","v":{"$error":"#REF!"}},{"$f":"IF($AA782=\"\", \"\", VLOOKUP($AA782,#REF!, 2, FALSE))","v":{"$error":"#REF!"}},{"$f":"IF($AA782=\"\", \"\", VLOOKUP($AA782,#REF!, 2, FALSE))","v":{"$error":"#REF!"}}]
[null,{"$f":"IF(CAD!B780=\"\", \"\", CAD!B780)","v":""},{"$f":"IF($B783=\"\", \"\", CAD!C780)","v":""},{"$f":"IF($B783=\"\", \"\",VLOOKUP($B783, CAD!$D$7:$E$2000, 2, FALSE))","v":""},{"$f":"IF($B783=\"\", \"\",VLOOKUP($B783, CAD!$F$7:$G$2000, 2, FALSE))","v":""},{"$f":"IF($B783=\"\", \"\",VLOOKUP($B783, CAD!$H$7:$I$2000, 2, FALSE))","v":""},{"$f":"IF($B783=\"\", \"\",VLOOKUP($B783, CAD!$J$7:$K$2000, 2, FALSE))","v":""},{"$f":"IF($B783=\"\", \"\", VLOOKUP($B783, CAD!$L$7:$M$2000, 2, FALSE))","v":""},{"$f":"IF($B783=\"\", \"\", VLOOKUP($B783, CAD!$N$7:$O$2000, 2, FALSE))","v":""},{"$f":"IF($B783=\"\", \"\", VLOOKUP($B783, CAD!$P$7:$Q$2000, 2, FALSE))","v":""},{"$f":"IF($B783=\"\", \"\", VLOOKUP($B783, CAD!$R$7:$S$2000, 2, FALSE))","v":""},{"$f":"IF($B783=\"\", \"\", VLOOKUP($B783, CAD!$T$7:$U$2000, 2, FALSE))","v":""},{"$f":"IF($B783=\"\", \"\", VLOOKUP($B783, CAD!$V$7:$W$2000, 2, FALSE))","v":""},null,null,null,null,null,null,null,null,null,null,null,null,null,{"$f":" IF(#REF!=\"\", \"\",#REF!)","v":{"$error":"#REF!"}},{"$f":" IF($AA783=\"\", \"\",#REF!)","v":{"$error":"#REF!"}},{"$f":"IF($AA783=\"\", \"\", VLOOKUP($AA783,#REF!, 2, FALSE))","v":{"$error":"#REF!"}},{"$f":"IF($AA783=\"\", \"\", VLOOKUP($AA783,#REF!, 2, FALSE))","v":{"$error":"#REF!"}},{"$f":"IF($AA783=\"\", \"\", VLOOKUP($AA783,#REF!, 2, FALSE))","v":{"$error":"#REF!"}},{"$f":"IF($AA783=\"\", \"\", VLOOKUP($AA783,#REF!, 2, FALSE))","v":{"$error":"#REF!"}}]
[null,{"$f":"IF(CAD!B781=\"\", \"\", CAD!B781)","v":""},{"$f":"IF($B784=\"\", \"\", CAD!C781)","v":""},{"$f":"IF($B784=\"\", \"\",VLOOKUP($B784, CAD!$D$7:$E$2000, 2, FALSE))","v":""},{"$f":"IF($B784=\"\", \"\",VLOOKUP($B784, CAD!$F$7:$G$2000, 2, FALSE))","v":""},{"$f":"IF($B784=\"\", \"\",VLOOKUP($B784, CAD!$H$7:$I$2000, 2, FALSE))","v":""},{"$f":"IF($B784=\"\", \"\",VLOOKUP($B784, CAD!$J$7:$K$2000, 2, FALSE))","v":""},{"$f":"IF($B784=\"\", \"\", VLOOKUP($B784, CAD!$L$7:$M$2000, 2, FALSE))","v":""},{"$f":"IF($B784=\"\", \"\", VLOOKUP($B784, CAD!$N$7:$O$2000, 2, FALSE))","v":""},{"$f":"IF($B784=\"\", \"\", VLOOKUP($B784, CAD!$P$7:$Q$2000, 2, FALSE))","v":""},{"$f":"IF($B784=\"\", \"\", VLOOKUP($B784, CAD!$R$7:$S$2000, 2, FALSE))","v":""},{"$f":"IF($B784=\"\", \"\", VLOOKUP($B784, CAD!$T$7:$U$2000, 2, FALSE))","v":""},{"$f":"IF($B784=\"\", \"\", VLOOKUP($B784, CAD!$V$7:$W$2000, 2, FALSE))","v":""},null,null,null,null,null,null,null,null,null,null,null,null,null,{"$f":" IF(#REF!=\"\", \"\",#REF!)","v":{"$error":"#REF!"}},{"$f":" IF($AA784=\"\", \"\",#REF!)","v":{"$error":"#REF!"}},{"$f":"IF($AA784=\"\", \"\", VLOOKUP($AA784,#REF!, 2, FALSE))","v":{"$error":"#REF!"}},{"$f":"IF($AA784=\"\", \"\", VLOOKUP($AA784,#REF!, 2, FALSE))","v":{"$error":"#REF!"}},{"$f":"IF($AA784=\"\", \"\", VLOOKUP($AA784,#REF!, 2, FALSE))","v":{"$error":"#REF!"}},{"$f":"IF($AA784=\"\", \"\", VLOOKUP($AA784,#REF!, 2, FALSE))","v":{"$error":"#REF!"}}]
[null,{"$f":"IF(CAD!B782=\"\", \"\", CAD!B782)","v":""},{"$f":"IF($B785=\"\", \"\", CAD!C782)","v":""},{"$f":"IF($B785=\"\", \"\",VLOOKUP($B785, CAD!$D$7:$E$2000, 2, FALSE))","v":""},{"$f":"IF($B785=\"\", \"\",VLOOKUP($B785, CAD!$F$7:$G$2000, 2, FALSE))","v":""},{"$f":"IF($B785=\"\", \"\",VLOOKUP($B785, CAD!$H$7:$I$2000, 2, FALSE))","v":""},{"$f":"IF($B785=\"\", \"\",VLOOKUP($B785, CAD!$J$7:$K$2000, 2, FALSE))","v":""},{"$f":"IF($B785=\"\", \"\", VLOOKUP($B785, CAD!$L$7:$M$2000, 2, FALSE))","v":""},{"$f":"IF($B785=\"\", \"\", VLOOKUP($B785, CAD!$N$7:$O$2000, 2, FALSE))","v":""},{"$f":"IF($B785=\"\", \"\", VLOOKUP($B785, CAD!$P$7:$Q$2000, 2, FALSE))","v":""},{"$f":"IF($B785=\"\", \"\", VLOOKUP($B785, CAD!$R$7:$S$2000, 2, FALSE))","v":""},{"$f":"IF($B785=\"\", \"\", VLOOKUP($B785, CAD!$T$7:$U$2000, 2, FALSE))","v":""},{"$f":"IF($B785=\"\", \"\", VLOOKUP($B785, CAD!$V$7:$W$2000, 2, FALSE))","v":""},null,null,null,null,null,null,null,null,null,null,null,null,null,{"$f":" IF(#REF!=\"\", \"\",#REF!)","v":{"$error":"#REF!"}},{"$f":" IF($AA785=\"\", \"\",#REF!)","v":{"$error":"#REF!"}},{"$f":"IF($AA785=\"\", \"\", VLOOKUP($AA785,#REF!, 2, FALSE))","v":{"$error":"#REF!"}},{"$f":"IF($AA785=\"\", \"\", VLOOKUP($AA785,#REF!, 2, FALSE))","v":{"$error":"#REF!"}},{"$f":"IF($AA785=\"\", \"\", VLOOKUP($AA785,#REF!, 2, FALSE))","v":{"$error":"#REF!"}},{"$f":"IF($AA785=\"\", \"\", VLOOKUP($AA785,#REF!, 2, FALSE))","v":{"$error":"#REF!"}}]
[null,{"$f":"IF(CAD!B783=\"\", \"\", CAD!B783)","v":""},{"$f":"IF($B786=\"\", \"\", CAD!C783)","v":""},{"$f":"IF($B786=\"\", \"\",VLOOKUP($B786, CAD!$D$7:$E$2000, 2, FALSE))","v":""},{"$f":"IF($B786=\"\", \"\",VLOOKUP($B786, CAD!$F$7:$G$2000, 2, FALSE))","v":""},{"$f":"IF($B786=\"\", \"\",VLOOKUP($B786, CAD!$H$7:$I$2000, 2, FALSE))","v":""},{"$f":"IF($B786=\"\", \"\",VLOOKUP($B786, CAD!$J$7:$K$2000, 2, FALSE))","v":""},{"$f":"IF($B786=\"\", \"\", VLOOKUP($B786, CAD!$L$7:$M$2000, 2, FALSE))","v":""},{"$f":"IF($B786=\"\", \"\", VLOOKUP($B786, CAD!$N$7:$O$2000, 2, FALSE))","v":""},{"$f":"IF($B786=\"\", \"\", VLOOKUP($B786, CAD!$P$7:$Q$2000, 2, FALSE))","v":""},{"$f":"IF($B786=\"\", \"\", VLOOKUP($B786, CAD!$R$7:$S$2000, 2, FALSE))","v":""},{"$f":"IF($B786=\"\", \"\", VLOOKUP($B786, CAD!$T$7:$U$2000, 2, FALSE))","v":""},{"$f":"IF($B786=\"\", \"\", VLOOKUP($B786, CAD!$V$7:$W$2000, 2, FALSE))","v":""},null,null,null,null,null,null,null,null,null,null,null,null,null,{"$f":" IF(#REF!=\"\", \"\",#REF!)","v":{"$error":"#REF!"}},{"$f":" IF($AA786=\"\", \"\",#REF!)","v":{"$error":"#REF!"}},{"$f":"IF($AA786=\"\", \"\", VLOOKUP($AA786,#REF!, 2, FALSE))","v":{"$error":"#REF!"}},{"$f":"IF($AA786=\"\", \"\", VLOOKUP($AA786,#REF!, 2, FALSE))","v":{"$error":"#REF!"}},{"$f":"IF($AA786=\"\", \"\", VLOOKUP($AA786,#REF!, 2, FALSE))","v":{"$error":"#REF!"}},{"$f":"IF($AA786=\"\", \"\", VLOOKUP($AA786,#REF!, 2, FALSE))","v":{"$error":"#REF!"}}]
[null,{"$f":"IF(CAD!B784=\"\", \"\", CAD!B784)","v":""},{"$f":"IF($B787=\"\", \"\", CAD!C784)","v":""},{"$f":"IF($B787=\"\", \"\",VLOOKUP($B787, CAD!$D$7:$E$2000, 2, FALSE))","v":""},{"$f":"IF($B787=\"\", \"\",VLOOKUP($B787, CAD!$F$7:$G$2000, 2, FALSE))","v":""},{"$f":"IF($B787=\"\", \"\",VLOOKUP($B787, CAD!$H$7:$I$2000, 2, FALSE))","v":""},{"$f":"IF($B787=\"\", \"\",VLOOKUP($B787, CAD!$J$7:$K$2000, 2, FALSE))","v":""},{"$f":"IF($B787=\"\", \"\", VLOOKUP($B787, CAD!$L$7:$M$2000, 2, FALSE))","v":""},{"$f":"IF($B787=\"\", \"\", VLOOKUP($B787, CAD!$N$7:$O$2000, 2, FALSE))","v":""},{"$f":"IF($B787=\"\", \"\", VLOOKUP($B787, CAD!$P$7:$Q$2000, 2, FALSE))","v":""},{"$f":"IF($B787=\"\", \"\", VLOOKUP($B787, CAD!$R$7:$S$2000, 2, FALSE))","v":""},{"$f":"IF($B787=\"\", \"\", VLOOKUP($B787, CAD!$T$7:$U$2000, 2, FALSE))","v":""},{"$f":"IF($B787=\"\", \"\", VLOOKUP($B787, CAD!$V$7:$W$2000, 2, FALSE))","v":""},null,null,null,null,null,null,null,null,null,null,null,null,null,{"$f":" IF(#REF!=\"\", \"\",#REF!)","v":{"$error":"#REF!"}},{"$f":" IF($AA787=\"\", \"\",#REF!)","v":{"$error":"#REF!"}},{"$f":"IF($AA787=\"\", \"\", VLOOKUP($AA787,#REF!, 2, FALSE))","v":{"$error":"#REF!"}},{"$f":"IF($AA787=\"\", \"\", VLOOKUP($AA787,#REF!, 2, FALSE))","v":{"$error":"#REF!"}},{"$f":"IF($AA787=\"\", \"\", VLOOKUP($AA787,#REF!, 2, FALSE))","v":{"$error":"#REF!"}},{"$f":"IF($AA787=\"\", \"\", VLOOKUP($AA787,#REF!, 2, FALSE))","v":{"$error":"#REF!"}}]
[null,{"$f":"IF(CAD!B785=\"\", \"\", CAD!B785)","v":""},{"$f":"IF($B788=\"\", \"\", CAD!C785)","v":""},{"$f":"IF($B788=\"\", \"\",VLOOKUP($B788, CAD!$D$7:$E$2000, 2, FALSE))","v":""},{"$f":"IF($B788=\"\", \"\",VLOOKUP($B788, CAD!$F$7:$G$2000, 2, FALSE))","v":""},{"$f":"IF($B788=\"\", \"\",VLOOKUP($B788, CAD!$H$7:$I$2000, 2, FALSE))","v":""},{"$f":"IF($B788=\"\", \"\",VLOOKUP($B788, CAD!$J$7:$K$2000, 2, FALSE))","v":""},{"$f":"IF($B788=\"\", \"\", VLOOKUP($B788, CAD!$L$7:$M$2000, 2, FALSE))","v":""},{"$f":"IF($B788=\"\", \"\", VLOOKUP($B788, CAD!$N$7:$O$2000, 2, FALSE))","v":""},{"$f":"IF($B788=\"\", \"\", VLOOKUP($B788, CAD!$P$7:$Q$2000, 2, FALSE))","v":""},{"$f":"IF($B788=\"\", \"\", VLOOKUP($B788, CAD!$R$7:$S$2000, 2, FALSE))","v":""},{"$f":"IF($B788=\"\", \"\", VLOOKUP($B788, CAD!$T$7:$U$2000, 2, FALSE))","v":""},{"$f":"IF($B788=\"\", \"\", VLOOKUP($B788, CAD!$V$7:$W$2000, 2, FALSE))","v":""},null,null,null,null,null,null,null,null,null,null,null,null,null,{"$f":" IF(#REF!=\"\", \"\",#REF!)","v":{"$error":"#REF!"}},{"$f":" IF($AA788=\"\", \"\",#REF!)","v":{"$error":"#REF!"}},{"$f":"IF($AA788=\"\", \"\", VLOOKUP($AA788,#REF!, 2, FALSE))","v":{"$error":"#REF!"}},{"$f":"IF($AA788=\"\", \"\", VLOOKUP($AA788,#REF!, 2, FALSE))","v":{"$error":"#REF!"}},{"$f":"IF($AA788=\"\", \"\", VLOOKUP($AA788,#REF!, 2, FALSE))","v":{"$error":"#REF!"}},{"$f":"IF($AA788=\"\", \"\", VLOOKUP($AA788,#REF!, 2, FALSE))","v":{"$error":"#REF!"}}]
[null,{"$f":"IF(CAD!B786=\"\", \"\", CAD!B786)","v":""},{"$f":"IF($B789=\"\", \"\", CAD!C786)","v":""},{"$f":"IF($B789=\"\", \"\",VLOOKUP($B789, CAD!$D$7:$E$2000, 2, FALSE))","v":""},{"$f":"IF($B789=\"\", \"\",VLOOKUP($B789, CAD!$F$7:$G$2000, 2, FALSE))","v":""},{"$f":"IF($B789=\"\", \"\",VLOOKUP($B789, CAD!$H$7:$I$2000, 2, FALSE))","v":""},{"$f":"IF($B789=\"\", \"\",VLOOKUP($B789, CAD!$J$7:$K$2000, 2, FALSE))","v":""},{"$f":"IF($B789=\"\", \"\", VLOOKUP($B789, CAD!$L$7:$M$2000, 2, FALSE))","v":""},{"$f":"IF($B789=\"\", \"\", VLOOKUP($B789, CAD!$N$7:$O$2000, 2, FALSE))","v":""},{"$f":"IF($B789=\"\", \"\", VLOOKUP($B789, CAD!$P$7:$Q$2000, 2, FALSE))","v":""},{"$f":"IF($B789=\"\", \"\", VLOOKUP($B789, CAD!$R$7:$S$2000, 2, FALSE))","v":""},{"$f":"IF($B789=\"\", \"\", VLOOKUP($B789, CAD!$T$7:$U$2000, 2, FALSE))","v":""},{"$f":"IF($B789=\"\", \"\", VLOOKUP($B789, CAD!$V$7:$W$2000, 2, FALSE))","v":""},null,null,null,null,null,null,null,null,null,null,null,null,null,{"$f":" IF(#REF!=\"\", \"\",#REF!)","v":{"$error":"#REF!"}},{"$f":" IF($AA789=\"\", \"\",#REF!)","v":{"$error":"#REF!"}},{"$f":"IF($AA789=\"\", \"\", VLOOKUP($AA789,#REF!, 2, FALSE))","v":{"$error":"#REF!"}},{"$f":"IF($AA789=\"\", \"\", VLOOKUP($AA789,#REF!, 2, FALSE))","v":{"$error":"#REF!"}},{"$f":"IF($AA789=\"\", \"\", VLOOKUP($AA789,#REF!, 2, FALSE))","v":{"$error":"#REF!"}},{"$f":"IF($AA789=\"\", \"\", VLOOKUP($AA789,#REF!, 2, FALSE))","v":{"$error":"#REF!"}}]
[null,{"$f":"IF(CAD!B787=\"\", \"\", CAD!B787)","v":""},{"$f":"IF($B790=\"\", \"\", CAD!C787)","v":""},{"$f":"IF($B790=\"\", \"\",VLOOKUP($B790, CAD!$D$7:$E$2000, 2, FALSE))","v":""},{"$f":"IF($B790=\"\", \"\",VLOOKUP($B790, CAD!$F$7:$G$2000, 2, FALSE))","v":""},{"$f":"IF($B790=\"\", \"\",VLOOKUP($B790, CAD!$H$7:$I$2000, 2, FALSE))","v":""},{"$f":"IF($B790=\"\", \"\",VLOOKUP($B790, CAD!$J$7:$K$2000, 2, FALSE))","v":""},{"$f":"IF($B790=\"\", \"\", VLOOKUP($B790, CAD!$L$7:$M$2000, 2, FALSE))","v":""},{"$f":"IF($B790=\"\", \"\", VLOOKUP($B790, CAD!$N$7:$O$2000, 2, FALSE))","v":""},{"$f":"IF($B790=\"\", \"\", VLOOKUP($B790, CAD!$P$7:$Q$2000, 2, FALSE))","v":""},{"$f":"IF($B790=\"\", \"\", VLOOKUP($B790, CAD!$R$7:$S$2000, 2, FALSE))","v":""},{"$f":"IF($B790=\"\", \"\", VLOOKUP($B790, CAD!$T$7:$U$2000, 2, FALSE))","v":""},{"$f":"IF($B790=\"\", \"\", VLOOKUP($B790, CAD!$V$7:$W$2000, 2, FALSE))","v":""},null,null,null,null,null,null,null,null,null,null,null,null,null,{"$f":" IF(#REF!=\"\", \"\",#REF!)","v":{"$error":"#REF!"}},{"$f":" IF($AA790=\"\", \"\",#REF!)","v":{"$error":"#REF!"}},{"$f":"IF($AA790=\"\", \"\", VLOOKUP($AA790,#REF!, 2, FALSE))","v":{"$error":"#REF!"}},{"$f":"IF($AA790=\"\", \"\", VLOOKUP($AA790,#REF!, 2, FALSE))","v":{"$error":"#REF!"}},{"$f":"IF($AA790=\"\", \"\", VLOOKUP($AA790,#REF!, 2, FALSE))","v":{"$error":"#REF!"}},{"$f":"IF($AA790=\"\", \"\", VLOOKUP($AA790,#REF!, 2, FALSE))","v":{"$error":"#REF!"}}]
[null,{"$f":"IF(CAD!B788=\"\", \"\", CAD!B788)","v":""},{"$f":"IF($B791=\"\", \"\", CAD!C788)","v":""},{"$f":"IF($B791=\"\", \"\",VLOOKUP($B791, CAD!$D$7:$E$2000, 2, FALSE))","v":""},{"$f":"IF($B791=\"\", \"\",VLOOKUP($B791, CAD!$F$7:$G$2000, 2, FALSE))","v":""},{"$f":"IF($B791=\"\", \"\",VLOOKUP($B791, CAD!$H$7:$I$2000, 2, FALSE))","v":""},{"$f":"IF($B791=\"\", \"\",VLOOKUP($B791, CAD!$J$7:$K$2000, 2, FALSE))","v":""},{"$f":"IF($B791=\"\", \"\", VLOOKUP($B791, CAD!$L$7:$M$2000, 2, FALSE))","v":""},{"$f":"IF($B791=\"\", \"\", VLOOKUP($B791, CAD!$N$7:$O$2000, 2, FALSE))","v":""},{"$f":"IF($B791=\"\", \"\", VLOOKUP($B791, CAD!$P$7:$Q$2000, 2, FALSE))","v":""},{"$f":"IF($B791=\"\", \"\", VLOOKUP($B791, CAD!$R$7:$S$2000, 2, FALSE))","v":""},{"$f":"IF($B791=\"\", \"\", VLOOKUP($B791, CAD!$T$7:$U$2000, 2, FALSE))","v":""},{"$f":"IF($B791=\"\", \"\", VLOOKUP($B791, CAD!$V$7:$W$2000, 2, FALSE))","v":""},null,null,null,null,null,null,null,null,null,null,null,null,null,{"$f":" IF(#REF!=\"\", \"\",#REF!)","v":{"$error":"#REF!"}},{"$f":" IF($AA791=\"\", \"\",#REF!)","v":{"$error":"#REF!"}},{"$f":"IF($AA791=\"\", \"\", VLOOKUP($AA791,#REF!, 2, FALSE))","v":{"$error":"#REF!"}},{"$f":"IF($AA791=\"\", \"\", VLOOKUP($AA791,#REF!, 2, FALSE))","v":{"$error":"#REF!"}},{"$f":"IF($AA791=\"\", \"\", VLOOKUP($AA791,#REF!, 2, FALSE))","v":{"$error":"#REF!"}},{"$f":"IF($AA791=\"\", \"\", VLOOKUP($AA791,#REF!, 2, FALSE))","v":{"$error":"#REF!"}}]
[null,{"$f":"IF(CAD!B789=\"\", \"\", CAD!B789)","v":""},{"$f":"IF($B792=\"\", \"\", CAD!C789)","v":""},{"$f":"IF($B792=\"\", \"\",VLOOKUP($B792, CAD!$D$7:$E$2000, 2, FALSE))","v":""},{"$f":"IF($B792=\"\", \"\",VLOOKUP($B792, CAD!$F$7:$G$2000, 2, FALSE))","v":""},{"$f":"IF($B792=\"\", \"\",VLOOKUP($B792, CAD!$H$7:$I$2000, 2, FALSE))","v":""},{"$f":"IF($B792=\"\", \"\",VLOOKUP($B792, CAD!$J$7:$K$2000, 2, FALSE))","v":""},{"$f":"IF($B792=\"\", \"\", VLOOKUP($B792, CAD!$L$7:$M$2000, 2, FALSE))","v":""},{"$f":"IF($B792=\"\", \"\", VLOOKUP($B792, CAD!$N$7:$O$2000, 2, FALSE))","v":""},{"$f":"IF($B792=\"\", \"\", VLOOKUP($B792, CAD!$P$7:$Q$2000, 2, FALSE))","v":""},{"$f":"IF($B792=\"\", \"\", VLOOKUP($B792, CAD!$R$7:$S$2000, 2, FALSE))","v":""},{"$f":"IF($B792=\"\", \"\", VLOOKUP($B792, CAD!$T$7:$U$2000, 2, FALSE))","v":""},{"$f":"IF($B792=\"\", \"\", VLOOKUP($B792, CAD!$V$7:$W$2000, 2, FALSE))","v":""},null,null,null,null,null,null,null,null,null,null,null,null,null,{"$f":" IF(#REF!=\"\", \"\",#REF!)","v":{"$error":"#REF!"}},{"$f":" IF($AA792=\"\", \"\",#REF!)","v":{"$error":"#REF!"}},{"$f":"IF($AA792=\"\", \"\", VLOOKUP($AA792,#REF!, 2, FALSE))","v":{"$error":"#REF!"}},{"$f":"IF($AA792=\"\", \"\", VLOOKUP($AA792,#REF!, 2, FALSE))","v":{"$error":"#REF!"}},{"$f":"IF($AA792=\"\", \"\", VLOOKUP($AA792,#REF!, 2, FALSE))","v":{"$error":"#REF!"}},{"$f":"IF($AA792=\"\", \"\", VLOOKUP($AA792,#REF!, 2, FALSE))","v":{"$error":"#REF!"}}]
[null,{"$f":"IF(CAD!B790=\"\", \"\", CAD!B790)","v":""},{"$f":"IF($B793=\"\", \"\", CAD!C790)","v":""},{"$f":"IF($B793=\"\", \"\",VLOOKUP($B793, CAD!$D$7:$E$2000, 2, FALSE))","v":""},{"$f":"IF($B793=\"\", \"\",VLOOKUP($B793, CAD!$F$7:$G$2000, 2, FALSE))","v":""},{"$f":"IF($B793=\"\", \"\",VLOOKUP($B793, CAD!$H$7:$I$2000, 2, FALSE))","v":""},{"$f":"IF($B793=\"\", \"\",VLOOKUP($B793, CAD!$J$7:$K$2000, 2, FALSE))","v":""},{"$f":"IF($B793=\"\", \"\", VLOOKUP($B793, CAD!$L$7:$M$2000, 2, FALSE))","v":""},{"$f":"IF($B793=\"\", \"\", VLOOKUP($B793, CAD!$N$7:$O$2000, 2, FALSE))","v":""},{"$f":"IF($B793=\"\", \"\", VLOOKUP($B793, CAD!$P$7:$Q$2000, 2, FALSE))","v":""},{"$f":"IF($B793=\"\", \"\", VLOOKUP($B793, CAD!$R$7:$S$2000, 2, FALSE))","v":""},{"$f":"IF($B793=\"\", \"\", VLOOKUP($B793, CAD!$T$7:$U$2000, 2, FALSE))","v":""},{"$f":"IF($B793=\"\", \"\", VLOOKUP($B793, CAD!$V$7:$W$2000, 2, FALSE))","v":""},null,null,null,null,null,null,null,null,null,null,null,null,null,{"$f":" IF(#REF!=\"\", \"\",#REF!)","v":{"$error":"#REF!"}},{"$f":" IF($AA793=\"\", \"\",#REF!)","v":{"$error":"#REF!"}},{"$f":"IF($AA793=\"\", \"\", VLOOKUP($AA793,#REF!, 2, FALSE))","v":{"$error":"#REF!"}},{"$f":"IF($AA793=\"\", \"\", VLOOKUP($AA793,#REF!, 2, FALSE))","v":{"$error":"#REF!"}},{"$f":"IF($AA793=\"\", \"\", VLOOKUP($AA793,#REF!, 2, FALSE))","v":{"$error":"#REF!"}},{"$f":"IF($AA793=\"\", \"\", VLOOKUP($AA793,#REF!, 2, FALSE))","v":{"$error":"#REF!"}}]
[null,{"$f":"IF(CAD!B791=\"\", \"\", CAD!B791)","v":""},{"$f":"IF($B794=\"\", \"\", CAD!C791)","v":""},{"$f":"IF($B794=\"\", \"\",VLOOKUP($B794, CAD!$D$7:$E$2000, 2, FALSE))","v":""},{"$f":"IF($B794=\"\", \"\",VLOOKUP($B794, CAD!$F$7:$G$2000, 2, FALSE))","v":""},{"$f":"IF($B794=\"\", \"\",VLOOKUP($B794, CAD!$H$7:$I$2000, 2, FALSE))","v":""},{"$f":"IF($B794=\"\", \"\",VLOOKUP($B794, CAD!$J$7:$K$2000, 2, FALSE))","v":""},{"$f":"IF($B794=\"\", \"\", VLOOKUP($B794, CAD!$L$7:$M$2000, 2, FALSE))","v":""},{"$f":"IF($B794=\"\", \"\", VLOOKUP($B794, CAD!$N$7:$O$2000, 2, FALSE))","v":""},{"$f":"IF($B794=\"\", \"\", VLOOKUP($B794, CAD!$P$7:$Q$2000, 2, FALSE))","v":""},{"$f":"IF($B794=\"\", \"\", VLOOKUP($B794, CAD!$R$7:$S$2000, 2, FALSE))","v":""},{"$f":"IF($B794=\"\", \"\", VLOOKUP($B794, CAD!$T$7:$U$2000, 2, FALSE))","v":""},{"$f":"IF($B794=\"\", \"\", VLOOKUP($B794, CAD!$V$7:$W$2000, 2, FALSE))","v":""},null,null,null,null,null,null,null,null,null,null,null,null,null,{"$f":" IF(#REF!=\"\", \"\",#REF!)","v":{"$error":"#REF!"}},{"$f":" IF($AA794=\"\", \"\",#REF!)","v":{"$error":"#REF!"}},{"$f":"IF($AA794=\"\", \"\", VLOOKUP($AA794,#REF!, 2, FALSE))","v":{"$error":"#REF!"}},{"$f":"IF($AA794=\"\", \"\", VLOOKUP($AA794,#REF!, 2, FALSE))","v":{"$error":"#REF!"}},{"$f":"IF($AA794=\"\", \"\", VLOOKUP($AA794,#REF!, 2, FALSE))","v":{"$error":"#REF!"}},{"$f":"IF($AA794=\"\", \"\", VLOOKUP($AA794,#REF!, 2, FALSE))","v":{"$error":"#REF!"}}]
[null,{"$f":"IF(CAD!B792=\"\", \"\", CAD!B792)","v":""},{"$f":"IF($B795=\"\", \"\", CAD!C792)","v":""},{"$f":"IF($B795=\"\", \"\",VLOOKUP($B795, CAD!$D$7:$E$2000, 2, FALSE))","v":""},{"$f":"IF($B795=\"\", \"\",VLOOKUP($B795, CAD!$F$7:$G$2000, 2, FALSE))","v":""},{"$f":"IF($B795=\"\", \"\",VLOOKUP($B795, CAD!$H$7:$I$2000, 2, FALSE))","v":""},{"$f":"IF($B795=\"\", \"\",VLOOKUP($B795, CAD!$J$7:$K$2000, 2, FALSE))","v":""},{"$f":"IF($B795=\"\", \"\", VLOOKUP($B795, CAD!$L$7:$M$2000, 2, FALSE))","v":""},{"$f":"IF($B795=\"\", \"\", VLOOKUP($B795, CAD!$N$7:$O$2000, 2, FALSE))","v":""},{"$f":"IF($B795=\"\", \"\", VLOOKUP($B795, CAD!$P$7:$Q$2000, 2, FALSE))","v":""},{"$f":"IF($B795=\"\", \"\", VLOOKUP($B795, CAD!$R$7:$S$2000, 2, FALSE))","v":""},{"$f":"IF($B795=\"\", \"\", VLOOKUP($B795, CAD!$T$7:$U$2000, 2, FALSE))","v":""},{"$f":"IF($B795=\"\", \"\", VLOOKUP($B795, CAD!$V$7:$W$2000, 2, FALSE))","v":""},null,null,null,null,null,null,null,null,null,null,null,null,null,{"$f":" IF(#REF!=\"\", \"\",#REF!)","v":{"$error":"#REF!"}},{"$f":" IF($AA795=\"\", \"\",#REF!)","v":{"$error":"#REF!"}},{"$f":"IF($AA795=\"\", \"\", VLOOKUP($AA795,#REF!, 2, FALSE))","v":{"$error":"#REF!"}},{"$f":"IF($AA795=\"\", \"\", VLOOKUP($AA795,#REF!, 2, FALSE))","v":{"$error":"#REF!"}},{"$f":"IF($AA795=\"\", \"\", VLOOKUP($AA795,#REF!, 2, FALSE))","v":{"$error":"#REF!"}},{"$f":"IF($AA795=\"\", \"\", VLOOKUP($AA795,#REF!, 2, FALSE))","v":{"$error":"#REF!"}}]
[null,{"$f":"IF(CAD!B793=\"\", \"\", CAD!B793)","v":""},{"$f":"IF($B796=\"\", \"\", CAD!C793)","v":""},{"$f":"IF($B796=\"\", \"\",VLOOKUP($B796, CAD!$D$7:$E$2000, 2, FALSE))","v":""},{"$f":"IF($B796=\"\", \"\",VLOOKUP($B796, CAD!$F$7:$G$2000, 2, FALSE))","v":""},{"$f":"IF($B796=\"\", \"\",VLOOKUP($B796, CAD!$H$7:$I$2000, 2, FALSE))","v":""},{"$f":"IF($B796=\"\", \"\",VLOOKUP($B796, CAD!$J$7:$K$2000, 2, FALSE))","v":""},{"$f":"IF($B796=\"\", \"\", VLOOKUP($B796, CAD!$L$7:$M$2000, 2, FALSE))","v":""},{"$f":"IF($B796=\"\", \"\", VLOOKUP($B796, CAD!$N$7:$O$2000, 2, FALSE))","v":""},{"$f":"IF($B796=\"\", \"\", VLOOKUP($B796, CAD!$P$7:$Q$2000, 2, FALSE))","v":""},{"$f":"IF($B796=\"\", \"\", VLOOKUP($B796, CAD!$R$7:$S$2000, 2, FALSE))","v":""},{"$f":"IF($B796=\"\", \"\", VLOOKUP($B796, CAD!$T$7:$U$2000, 2, FALSE))","v":""},{"$f":"IF($B796=\"\", \"\", VLOOKUP($B796, CAD!$V$7:$W$2000, 2, FALSE))","v":""},null,null,null,null,null,null,null,null,null,null,null,null,null,{"$f":" IF(#REF!=\"\", \"\",#REF!)","v":{"$error":"#REF!"}},{"$f":" IF($AA796=\"\", \"\",#REF!)","v":{"$error":"#REF!"}},{"$f":"IF($AA796=\"\", \"\", VLOOKUP($AA796,#REF!, 2, FALSE))","v":{"$error":"#REF!"}},{"$f":"IF($AA796=\"\", \"\", VLOOKUP($AA796,#REF!, 2, FALSE))","v":{"$error":"#REF!"}},{"$f":"IF($AA796=\"\", \"\", VLOOKUP($AA796,#REF!, 2, FALSE))","v":{"$error":"#REF!"}},{"$f":"IF($AA796=\"\", \"\", VLOOKUP($AA796,#REF!, 2, FALSE))","v":{"$error":"#REF!"}}]
[null,{"$f":"IF(CAD!B794=\"\", \"\", CAD!B794)","v":""},{"$f":"IF($B797=\"\", \"\", CAD!C794)","v":""},{"$f":"IF($B797=\"\", \"\",VLOOKUP($B797, CAD!$D$7:$E$2000, 2, FALSE))","v":""},{"$f":"IF($B797=\"\", \"\",VLOOKUP($B797, CAD!$F$7:$G$2000, 2, FALSE))","v":""},{"$f":"IF($B797=\"\", \"\",VLOOKUP($B797, CAD!$H$7:$I$2000, 2, FALSE))","v":""},{"$f":"IF($B797=\"\", \"\",VLOOKUP($B797, CAD!$J$7:$K$2000, 2, FALSE))","v":""},{"$f":"IF($B797=\"\", \"\", VLOOKUP($B797, CAD!$L$7:$M$2000, 2, FALSE))","v":""},{"$f":"IF($B797=\"\", \"\", VLOOKUP($B797, CAD!$N$7:$O$2000, 2, FALSE))","v":""},{"$f":"IF($B797=\"\", \"\", VLOOKUP($B797, CAD!$P$7:$Q$2000, 2, FALSE))","v":""},{"$f":"IF($B797=\"\", \"\", VLOOKUP($B797, CAD!$R$7:$S$2000, 2, FALSE))","v":""},{"$f":"IF($B797=\"\", \"\", VLOOKUP($B797, CAD!$T$7:$U$2000, 2, FALSE))","v":""},{"$f":"IF($B797=\"\", \"\", VLOOKUP($B797, CAD!$V$7:$W$2000, 2, FALSE))","v":""},null,null,null,null,null,null,null,null,null,null,null,null,null,{"$f":" IF(#REF!=\"\", \"\",#REF!)","v":{"$error":"#REF!"}},{"$f":" IF($AA797=\"\", \"\",#REF!)","v":{"$error":"#REF!"}},{"$f":"IF($AA797=\"\", \"\", VLOOKUP($AA797,#REF!, 2, FALSE))","v":{"$error":"#REF!"}},{"$f":"IF($AA797=\"\", \"\", VLOOKUP($AA797,#REF!, 2, FALSE))","v":{"$error":"#REF!"}},{"$f":"IF($AA797=\"\", \"\", VLOOKUP($AA797,#REF!, 2, FALSE))","v":{"$error":"#REF!"}},{"$f":"IF($AA797=\"\", \"\", VLOOKUP($AA797,#REF!, 2, FALSE))","v":{"$error":"#REF!"}}]
[null,{"$f":"IF(CAD!B795=\"\", \"\", CAD!B795)","v":""},{"$f":"IF($B798=\"\", \"\", CAD!C795)","v":""},{"$f":"IF($B798=\"\", \"\",VLOOKUP($B798, CAD!$D$7:$E$2000, 2, FALSE))","v":""},{"$f":"IF($B798=\"\", \"\",VLOOKUP($B798, CAD!$F$7:$G$2000, 2, FALSE))","v":""},{"$f":"IF($B798=\"\", \"\",VLOOKUP($B798, CAD!$H$7:$I$2000, 2, FALSE))","v":""},{"$f":"IF($B798=\"\", \"\",VLOOKUP($B798, CAD!$J$7:$K$2000, 2, FALSE))","v":""},{"$f":"IF($B798=\"\", \"\", VLOOKUP($B798, CAD!$L$7:$M$2000, 2, FALSE))","v":""},{"$f":"IF($B798=\"\", \"\", VLOOKUP($B798, CAD!$N$7:$O$2000, 2, FALSE))","v":""},{"$f":"IF($B798=\"\", \"\", VLOOKUP($B798, CAD!$P$7:$Q$2000, 2, FALSE))","v":""},{"$f":"IF($B798=\"\", \"\", VLOOKUP($B798, CAD!$R$7:$S$2000, 2, FALSE))","v":""},{"$f":"IF($B798=\"\", \"\", VLOOKUP($B798, CAD!$T$7:$U$2000, 2, FALSE))","v":""},{"$f":"IF($B798=\"\", \"\", VLOOKUP($B798, CAD!$V$7:$W$2000, 2, FALSE))","v":""},null,null,null,null,null,null,null,null,null,null,null,null,null,{"$f":" IF(#REF!=\"\", \"\",#REF!)","v":{"$error":"#REF!"}},{"$f":" IF($AA798=\"\", \"\",#REF!)","v":{"$error":"#REF!"}},{"$f":"IF($AA798=\"\", \"\", VLOOKUP($AA798,#REF!, 2, FALSE))","v":{"$error":"#REF!"}},{"$f":"IF($AA798=\"\", \"\", VLOOKUP($AA798,#REF!, 2, FALSE))","v":{"$error":"#REF!"}},{"$f":"IF($AA798=\"\", \"\", VLOOKUP($AA798,#REF!, 2, FALSE))","v":{"$error":"#REF!"}},{"$f":"IF($AA798=\"\", \"\", VLOOKUP($AA798,#REF!, 2, FALSE))","v":{"$error":"#REF!"}}]
[null,{"$f":"IF(CAD!B796=\"\", \"\", CAD!B796)","v":""},{"$f":"IF($B799=\"\", \"\", CAD!C796)","v":""},{"$f":"IF($B799=\"\", \"\",VLOOKUP($B799, CAD!$D$7:$E$2000, 2, FALSE))","v":""},{"$f":"IF($B799=\"\", \"\",VLOOKUP($B799, CAD!$F$7:$G$2000, 2, FALSE))","v":""},{"$f":"IF($B799=\"\", \"\",VLOOKUP($B799, CAD!$H$7:$I$2000, 2, FALSE))","v":""},{"$f":"IF($B799=\"\", \"\",VLOOKUP($B799, CAD!$J$7:$K$2000, 2, FALSE))","v":""},{"$f":"IF($B799=\"\", \"\", VLOOKUP($B799, CAD!$L$7:$M$2000, 2, FALSE))","v":""},{"$f":"IF($B799=\"\", \"\", VLOOKUP($B799, CAD!$N$7:$O$2000, 2, FALSE))","v":""},{"$f":"IF($B799=\"\", \"\", VLOOKUP($B799, CAD!$P$7:$Q$2000, 2, FALSE))","v":""},{"$f":"IF($B799=\"\", \"\", VLOOKUP($B799, CAD!$R$7:$S$2000, 2, FALSE))","v":""},{"$f":"IF($B799=\"\", \"\", VLOOKUP($B799, CAD!$T$7:$U$2000, 2, FALSE))","v":""},{"$f":"IF($B799=\"\", \"\", VLOOKUP($B799, CAD!$V$7:$W$2000, 2, FALSE))","v":""},null,null,null,null,null,null,null,null,null,null,null,null,null,{"$f":" IF(#REF!=\"\", \"\",#REF!)","v":{"$error":"#REF!"}},{"$f":" IF($AA799=\"\", \"\",#REF!)","v":{"$error":"#REF!"}},{"$f":"IF($AA799=\"\", \"\", VLOOKUP($AA799,#REF!, 2, FALSE))","v":{"$error":"#REF!"}},{"$f":"IF($AA799=\"\", \"\", VLOOKUP($AA799,#REF!, 2, FALSE))","v":{"$error":"#REF!"}},{"$f":"IF($AA799=\"\", \"\", VLOOKUP($AA799,#REF!, 2, FALSE))","v":{"$error":"#REF!"}},{"$f":"IF($AA799=\"\", \"\", VLOOKUP($AA799,#REF!, 2, FALSE))","v":{"$error":"#REF!"}}]
[null,{"$f":"IF(CAD!B797=\"\", \"\", CAD!B797)","v":""},{"$f":"IF($B800=\"\", \"\", CAD!C797)","v":""},{"$f":"IF($B800=\"\", \"\",VLOOKUP($B800, CAD!$D$7:$E$2000, 2, FALSE))","v":""},{"$f":"IF($B800=\"\", \"\",VLOOKUP($B800, CAD!$F$7:$G$2000, 2, FALSE))","v":""},{"$f":"IF($B800=\"\", \"\",VLOOKUP($B800, CAD!$H$7:$I$2000, 2, FALSE))","v":""},{"$f":"IF($B800=\"\", \"\",VLOOKUP($B800, CAD!$J$7:$K$2000, 2, FALSE))","v":""},{"$f":"IF($B800=\"\", \"\", VLOOKUP($B800, CAD!$L$7:$M$2000, 2, FALSE))","v":""},{"$f":"IF($B800=\"\", \"\", VLOOKUP($B800, CAD!$N$7:$O$2000, 2, FALSE))","v":""},{"$f":"IF($B800=\"\", \"\", VLOOKUP($B800, CAD!$P$7:$Q$2000, 2, FALSE))","v":""},{"$f":"IF($B800=\"\", \"\", VLOOKUP($B800, CAD!$R$7:$S$2000, 2, FALSE))","v":""},{"$f":"IF($B800=\"\", \"\", VLOOKUP($B800, CAD!$T$7:$U$2000, 2, FALSE))","v":""},{"$f":"IF($B800=\"\", \"\", VLOOKUP($B800, CAD!$V$7:$W$2000, 2, FALSE))","v":""},null,null,null,null,null,null,null,null,null,null,null,null,null,{"$f":" IF(#REF!=\"\", \"\",#REF!)","v":{"$error":"#REF!"}},{"$f":" IF($AA800=\"\", \"\",#REF!)","v":{"$error":"#REF!"}},{"$f":"IF($AA800=\"\", \"\", VLOOKUP($AA800,#REF!, 2, FALSE))","v":{"$error":"#REF!"}},{"$f":"IF($AA800=\"\", \"\", VLOOKUP($AA800,#REF!, 2, FALSE))","v":{"$error":"#REF!"}},{"$f":"IF($AA800=\"\", \"\", VLOOKUP($AA800,#REF!, 2, FALSE))","v":{"$error":"#REF!"}},{"$f":"IF($AA800=\"\", \"\", VLOOKUP($AA800,#REF!, 2, FALSE))","v":{"$error":"#REF!"}}]

{"sheet":"YLDS","index":7,"n_rows":256,"n_cols":29,"rows_kept":256,"cut":false,"hidden":false,"merged":[]}
[]
[null,"TAB: SWAPPED YIELD SERIES",null,null,"Sovereign Curves",null,null,null,null,null,null,"Base Rates"]
[]
[null,null,null,null,"C10110Y",{"$f":"COUNT(F6:F1000)","v":249},"USGG10YR",{"$f":"COUNT(H6:H1000)","v":249},"C08210Y",{"$f":"COUNT(J6:J1000)","v":249},null,"CDOR03",{"$f":"COUNT(M6:M884)","v":249},"US0003M",{"$f":"COUNT(O6:O885)","v":251},"FEDL01",{"$f":"COUNT(Q6:Q884)","v":251},"CABROVER",{"$f":"COUNT(S6:S884)","v":249},"PRIME",{"$f":"COUNT(U6:U885)","v":250},"PRIMCAN",{"$f":"COUNT(W6:W884)","v":249},"MB30",{"$f":"COUNT(Y6:Y977)","v":52},"CANMORT5",{"$f":"COUNT(AA6:AA976)","v":52},"MB301ARM",{"$f":"COUNT(AC6:AC977)","v":52}]
[null,"Series","Description",null,"Date","Last Price","Date","Last Price","Date","Last Price",null,"Date","Mid Price","Date","Ask Price","Date","Mid Price","Date","Last Price","Date","Last Price","Date","Last Price","Date","Mid Price","Date","Mid Price","Date","Mid Price"]
[null,{"$f":"E4","v":"C10110Y"},"Canadian 10-year sovereign curve",null,"2017-12-29",2.0712000000000002,"2017-12-28",2.4304999999999999,"2017-12-28",2.4434999999999998,null,"2017-12-29",1.542,"2017-12-28",1.69465,"2017-12-29",1.33,"2017-12-29",1,"2017-12-29",4.5,"2017-12-29",3.2,"2017-12-29",4.22,"2017-12-27",4.99,"2017-12-29",3.4]
[null,{"$f":"G4","v":"USGG10YR"},"US 10-year sovereign curve",null,"2017-12-28",2.0657999999999999,"2017-12-27",2.4106999999999998,"2017-12-27",2.4238,null,"2017-12-28",1.524,"2017-12-27",1.69339,"2017-12-28",1.42,"2017-12-28",1,"2017-12-28",4.5,"2017-12-28",3.2,"2017-12-22",4.25,"2017-12-20",4.99,"2017-12-22",3.56]
[null,{"$f":"I4","v":"C08210Y"},"US Treasury 10-year curve",null,"2017-12-27",2.0131000000000001,"2017-12-26",2.4756,"2017-12-26",2.4820000000000002,null,"2017-12-27",1.516,"2017-12-22",1.68577,"2017-12-27",1.42,"2017-12-27",1,"2017-12-27",4.5,"2017-12-27",3.2,"2017-12-15",4.16,"2017-12-13",4.99,"2017-12-15",3.49]
[null,{"$f":"R4","v":"CABROVER"},"Bank of Canada overnight lending rate",null,"2017-12-22",2.0535000000000001,"2017-12-22",2.4809999999999999,"2017-12-22",2.4958,null,"2017-12-22",1.508,"2017-12-21",1.6746399999999999,"2017-12-26",1.42,"2017-12-22",1,"2017-12-26",4.5,"2017-12-22",3.2,"2017-12-08",4.2,"2017-12-06",4.99,"2017-12-08",3.42]
[null,{"$f":"P4","v":"FEDL01"},"Federal Funds effective rate",null,"2017-12-21",2.0609999999999999,"2017-12-21",2.4826000000000001,"2017-12-21",2.4975000000000001,null,"2017-12-21",1.514,"2017-12-20",1.6579299999999999,"2017-12-22",1.42,"2017-12-21",1,"2017-12-22",4.5,"2017-12-21",3.2,"2017-12-01",4.1900000000000004,"2017-11-29",4.99,"2017-12-01",3.48]
[null,{"$f":"L4","v":"CDOR03"},"Canadian bankers' acceptance rate",null,"2017-12-20",2.0171000000000001,"2017-12-20",2.4969999999999999,"2017-12-20",2.5087000000000002,null,"2017-12-20",1.49,"2017-12-19",1.6420300000000001,"2017-12-21",1.42,"2017-12-20",1,"2017-12-21",4.5,"2017-12-20",3.2,"2017-11-24",4.2,"2017-11-22",4.99,"2017-11-24",3.42]
[null,{"$f":"T4","v":"PRIME"},"US Prime rate (base rate for corporate loans)",null,"2017-12-19",1.9604999999999999,"2017-12-19",2.4643999999999999,"2017-12-19",2.4672999999999998,null,"2017-12-19",1.474,"2017-12-18",1.62548,"2017-12-20",1.42,"2017-12-19",1,"2017-12-20",4.5,"2017-12-19",3.2,"2017-11-17",4.2,"2017-11-15",4.99,"2017-11-17",3.31]
[null,{"$f":"V4","v":"PRIMCAN"},"Prime rate by countyr Canada (composed of prime rates of Royal Bank, National Bank, CIBC, BMO, BNS, and TD)",null,"2017-12-18",1.8822000000000001,"2017-12-18",2.3942000000000001,"2017-12-18",2.4047999999999998,null,"2017-12-18",1.46,"2017-12-15",1.61331,"2017-12-19",1.42,"2017-12-18",1,"2017-12-19",4.5,"2017-12-18",3.2,"2017-11-10",4.18,"2017-11-08",4.99,"2017-11-10",3.41]
[null,{"$f":"AB4","v":"MB301ARM"},"MBA US 5-year adjustable rate mortgage contract rate",null,"2017-12-15",1.8593,"2017-12-15",2.3530000000000002,"2017-12-15",2.3664000000000001,null,"2017-12-15",1.452,"2017-12-14",1.60042,"2017-12-18",1.42,"2017-12-15",1,"2017-12-18",4.5,"2017-12-15",3.2,"2017-11-03",4.18,"2017-11-01",4.99,"2017-11-03",3.33]
[null,{"$f":"Z4","v":"CANMORT5"},"Bank of Canada 5-year conventional mortgage rate",null,"2017-12-14",1.9006000000000001,"2017-12-14",2.3492999999999999,"2017-12-14",2.3654999999999999,null,"2017-12-14",1.4419999999999999,"2017-12-13",1.58849,"2017-12-15",1.41,"2017-12-14",1,"2017-12-15",4.5,"2017-12-14",3.2,"2017-10-27",4.22,"2017-10-25",4.99,"2017-10-27",3.33]
[null,{"$f":"X4","v":"MB30"},"Interest rate on residential real estate loans secured by mortgage (Mortgage bankers association)",null,"2017-12-13",1.869,"2017-12-13",2.3422000000000001,"2017-12-13",2.3633999999999999,null,"2017-12-13",1.4450000000000001,"2017-12-12",1.57352,"2017-12-14",1.41,"2017-12-13",1,"2017-12-14",4.5,"2017-12-13",3.2,"2017-10-20",4.18,"2017-10-18",4.8899999999999997,"2017-10-20",3.29]
[null,null,null,null,"2017-12-12",1.8956999999999999,"2017-12-12",2.4011,"2017-12-12",2.4136000000000002,null,"2017-12-12",1.4359999999999999,"2017-12-11",1.5634699999999999,"2017-12-13",1.17,"2017-12-12",1,"2017-12-13",4.25,"2017-12-12",3.2,"2017-10-13",4.1399999999999997,"2017-10-11",4.8899999999999997,"2017-10-13",3.31]
[null,null,null,null,"2017-12-11",1.8952,"2017-12-11",2.3885999999999998,"2017-12-11",2.4007999999999998,null,"2017-12-11",1.4319999999999999,"2017-12-08",1.54878,"2017-12-12",1.17,"2017-12-11",1,"2017-12-12",4.25,"2017-12-11",3.2,"2017-10-06",4.16,"2017-10-04",4.8899999999999997,"2017-10-06",3.33]
[null,null,null,null,"2017-12-08",1.8917999999999999,"2017-12-08",2.3759999999999999,"2017-12-08",2.3902999999999999,null,"2017-12-08",1.43,"2017-12-07",1.53606,"2017-12-11",1.1599999999999999,"2017-12-08",1,"2017-12-11",4.25,"2017-12-08",3.2,"2017-09-29",4.12,"2017-09-27",4.8899999999999997,"2017-09-29",3.3]
[null,null,null,null,"2017-12-07",1.8757999999999999,"2017-12-07",2.3633999999999999,"2017-12-07",2.3738999999999999,null,"2017-12-07",1.43,"2017-12-06",1.5226299999999999,"2017-12-08",1.1599999999999999,"2017-12-07",1,"2017-12-08",4.25,"2017-12-07",3.2,"2017-09-22",4.1100000000000003,"2017-09-20",4.84,"2017-09-22",3.38]
[null,null,null,null,"2017-12-06",1.8765000000000001,"2017-12-06",2.3384999999999998,"2017-12-06",2.3454999999999999,null,"2017-12-06",1.4319999999999999,"2017-12-05",1.51532,"2017-12-07",1.1599999999999999,"2017-12-06",1,"2017-12-07",4.25,"2017-12-06",3.2,"2017-09-15",4.04,"2017-09-13",4.84,"2017-09-15",3.3]
[null,null,null,null,"2017-12-05",1.9239999999999999,"2017-12-05",2.3509000000000002,"2017-12-05",2.3719000000000001,null,"2017-12-05",1.4359999999999999,"2017-12-04",1.5084900000000001,"2017-12-06",1.1599999999999999,"2017-12-05",1,"2017-12-06",4.25,"2017-12-05",3.2,"2017-09-08",4.03,"2017-09-06",4.84,"2017-09-08",3.17]
[null,null,null,null,"2017-12-04",1.9578,"2017-12-04",2.3723000000000001,"2017-12-04",2.3892000000000002,null,"2017-12-04",1.4339999999999999,"2017-12-01",1.4946299999999999,"2017-12-05",1.1599999999999999,"2017-12-04",1,"2017-12-05",4.25,"2017-12-04",3.2,"2017-09-01",4.0599999999999996,"2017-08-30",4.84,"2017-09-01",3.14]
[null,null,null,null,"2017-12-01",1.9453,"2017-12-01",2.3614999999999999,"2017-12-01",2.3839999999999999,null,"2017-12-01",1.42,"2017-11-30",1.4873799999999999,"2017-12-04",1.1599999999999999,"2017-12-01",1,"2017-12-04",4.25,"2017-12-01",3.2,"2017-08-25",4.1100000000000003,"2017-08-23",4.84,"2017-08-25",3.26]
[null,null,null,null,"2017-11-30",1.9220999999999999,"2017-11-30",2.4097,"2017-11-30",2.4371,null,"2017-11-30",1.4079999999999999,"2017-11-29",1.4806299999999999,"2017-12-01",1.1599999999999999,"2017-11-30",1,"2017-12-01",4.25,"2017-11-30",3.2,"2017-08-18",4.12,"2017-08-16",4.84,"2017-08-18",3.27]
[null,null,null,null,"2017-11-29",1.9200999999999999,"2017-11-29",2.3881999999999999,"2017-11-29",2.3969999999999998,null,"2017-11-29",1.405,"2017-11-28",1.47882,"2017-11-30",1.07,"2017-11-29",1,"2017-11-30",4.25,"2017-11-29",3.2,"2017-08-11",4.12,"2017-08-09",4.84,"2017-08-11",3.34]
[null,null,null,null,"2017-11-28",1.877,"2017-11-28",2.3277000000000001,"2017-11-28",2.3492999999999999,null,"2017-11-28",1.405,"2017-11-27",1.47725,"2017-11-29",1.1599999999999999,"2017-11-28",1,"2017-11-29",4.25,"2017-11-28",3.2,"2017-08-04",4.1399999999999997,"2017-08-02",4.84,"2017-08-04",3.31]
[null,null,null,null,"2017-11-27",1.8969,"2017-11-27",2.3277000000000001,"2017-11-27",2.3494000000000002,null,"2017-11-27",1.4039999999999999,"2017-11-24",1.46763,"2017-11-28",1.1599999999999999,"2017-11-27",1,"2017-11-28",4.25,"2017-11-27",3.2,"2017-07-28",4.17,"2017-07-26",4.84,"2017-07-28",3.3]
[null,null,null,null,"2017-11-24",1.9139999999999999,"2017-11-24",2.3418000000000001,"2017-11-24",2.3593000000000002,null,"2017-11-24",1.4019999999999999,"2017-11-23",1.4620599999999999,"2017-11-27",1.1599999999999999,"2017-11-24",1,"2017-11-27",4.25,"2017-11-24",3.2,"2017-07-21",4.17,"2017-07-19",4.84,"2017-07-21",3.29]
[null,null,null,null,"2017-11-23",1.9205000000000001,"2017-11-22",2.3187000000000002,"2017-11-22",2.3386,null,"2017-11-23",1.4019999999999999,"2017-11-22",1.4623299999999999,"2017-11-24",1.1599999999999999,"2017-11-23",1,"2017-11-24",4.25,"2017-11-23",3.2,"2017-07-14",4.22,"2017-07-12",4.6399999999999997,"2017-07-14",3.32]
[null,null,null,null,"2017-11-22",1.9316,"2017-11-21",2.3559000000000001,"2017-11-21",2.3772000000000002,null,"2017-11-22",1.4019999999999999,"2017-11-21",1.454,"2017-11-22",1.1599999999999999,"2017-11-22",1,"2017-11-22",4.25,"2017-11-22",3.2,"2017-07-07",4.22,"2017-07-05",4.6399999999999997,"2017-07-07",3.32]
[null,null,null,null,"2017-11-21",1.9559,"2017-11-20",2.3666,"2017-11-20",2.3807,null,"2017-11-21",1.4019999999999999,"2017-11-20",1.44594,"2017-11-21",1.1599999999999999,"2017-11-21",1,"2017-11-21",4.25,"2017-11-21",3.2,"2017-06-30",4.2,"2017-06-28",4.6399999999999997,"2017-06-30",3.37]
[null,null,null,null,"2017-11-20",1.9910000000000001,"2017-11-17",2.3435000000000001,"2017-11-17",2.3601000000000001,null,"2017-11-20",1.4019999999999999,"2017-11-17",1.4406699999999999,"2017-11-20",1.1599999999999999,"2017-11-20",1,"2017-11-20",4.25,"2017-11-20",3.2,"2017-06-23",4.13,"2017-06-21",4.6399999999999997,"2017-06-23",3.31]
[null,null,null,null,"2017-11-17",1.9645999999999999,"2017-11-16",2.3753000000000002,"2017-11-16",2.3814000000000002,null,"2017-11-17",1.4019999999999999,"2017-11-16",1.43567,"2017-11-17",1.1599999999999999,"2017-11-17",1,"2017-11-17",4.25,"2017-11-17",3.2,"2017-06-16",4.13,"2017-06-14",4.6399999999999997,"2017-06-16",3.26]
[null,null,null,null,"2017-11-16",1.9930000000000001,"2017-11-15",2.3222,"2017-11-15",2.3368000000000002,null,"2017-11-16",1.4019999999999999,"2017-11-15",1.4218999999999999,"2017-11-16",1.1599999999999999,"2017-11-16",1,"2017-11-16",4.25,"2017-11-16",3.2,"2017-06-09",4.13,"2017-06-07",4.6399999999999997,"2017-06-09",3.26]
[null,null,null,null,"2017-11-15",1.9311,"2017-11-14",2.3717000000000001,"2017-11-14",2.3898000000000001,null,"2017-11-15",1.4019999999999999,"2017-11-14",1.41899,"2017-11-15",1.1599999999999999,"2017-11-15",1,"2017-11-15",4.25,"2017-11-15",3.2,"2017-06-02",4.1399999999999997,"2017-05-31",4.6399999999999997,"2017-06-02",3.19]
[null,null,null,null,"2017-11-14",1.9844999999999999,"2017-11-13",2.4055,"2017-11-13",2.4133,null,"2017-11-14",1.4019999999999999,"2017-11-13",1.4158599999999999,"2017-11-14",1.1599999999999999,"2017-11-14",1,"2017-11-14",4.25,"2017-11-14",3.2,"2017-05-26",4.17,"2017-05-24",4.6399999999999997,"2017-05-26",3.22]
[null,null,null,null,"2017-11-10",1.9984,"2017-11-10",2.3984000000000001,"2017-11-10",2.4135,null,"2017-11-10",1.4,"2017-11-10",1.41289,"2017-11-13",1.1599999999999999,"2017-11-10",1,"2017-11-13",4.25,"2017-11-10",3.2,"2017-05-19",4.17,"2017-05-17",4.6399999999999997,"2017-05-19",3.27]
[null,null,null,null,"2017-11-09",1.9622999999999999,"2017-11-09",2.3416000000000001,"2017-11-09",2.3389000000000002,null,"2017-11-09",1.4,"2017-11-09",1.41289,"2017-11-10",1.1599999999999999,"2017-11-09",1,"2017-11-10",4.25,"2017-11-09",3.2,"2017-05-12",4.2300000000000004,"2017-05-10",4.6399999999999997,"2017-05-12",3.3]
[null,null,null,null,"2017-11-08",1.9396,"2017-11-08",2.3342999999999998,"2017-11-08",2.3296000000000001,null,"2017-11-08",1.4039999999999999,"2017-11-08",1.40981,"2017-11-09",1.1599999999999999,"2017-11-08",1,"2017-11-09",4.25,"2017-11-08",3.2,"2017-05-05",4.2300000000000004,"2017-05-03",4.6399999999999997,"2017-05-05",3.36]
[null,null,null,null,"2017-11-07",1.9178999999999999,"2017-11-07",2.3144999999999998,"2017-11-07",2.3123,null,"2017-11-07",1.4079999999999999,"2017-11-07",1.4025799999999999,"2017-11-08",1.1599999999999999,"2017-11-07",1,"2017-11-08",4.25,"2017-11-07",3.2,"2017-04-28",4.2300000000000004,"2017-04-26",4.6399999999999997,"2017-04-28",3.29]
[null,null,null,null,"2017-11-06",1.9568000000000001,"2017-11-06",2.3163,"2017-11-06",2.3186,null,"2017-11-06",1.411,"2017-11-06",1.39703,"2017-11-07",1.1599999999999999,"2017-11-06",1,"2017-11-07",4.25,"2017-11-06",3.2,"2017-04-21",4.2,"2017-04-19",4.6399999999999997,"2017-04-21",3.22]
[null,null,null,null,"2017-11-03",1.9811000000000001,"2017-11-03",2.3325,"2017-11-03",2.3349000000000002,null,"2017-11-03",1.411,"2017-11-03",1.39194,"2017-11-06",1.1599999999999999,"2017-11-03",1,"2017-11-06",4.25,"2017-11-03",3.2,"2017-04-14",4.22,"2017-04-12",4.6399999999999997,"2017-04-14",3.27]
[null,null,null,null,"2017-11-02",1.9847999999999999,"2017-11-02",2.3450000000000002,"2017-11-02",2.3502000000000001,null,"2017-11-02",1.41,"2017-11-02",1.3913899999999999,"2017-11-03",1.1599999999999999,"2017-11-02",1,"2017-11-03",4.25,"2017-11-02",3.2,"2017-04-07",4.28,"2017-04-05",4.6399999999999997,"2017-04-07",3.33]
[null,null,null,null,"2017-11-01",1.9975000000000001,"2017-11-01",2.3721000000000001,"2017-11-01",2.3717000000000001,null,"2017-11-01",1.4119999999999999,"2017-11-01",1.38483,"2017-11-02",1.1599999999999999,"2017-11-01",1,"2017-11-02",4.25,"2017-11-01",3.2,"2017-03-31",4.34,"2017-03-29",4.6399999999999997,"2017-03-31",3.33]
[null,null,null,null,"2017-10-31",1.9853000000000001,"2017-10-31",2.3793000000000002,"2017-10-31",2.3780999999999999,null,"2017-10-31",1.415,"2017-10-31",1.3812199999999999,"2017-11-01",1.1599999999999999,"2017-10-31",1,"2017-11-01",4.25,"2017-10-31",3.2,"2017-03-24",4.33,"2017-03-22",4.6399999999999997,"2017-03-24",3.3]
[null,null,null,null,"2017-10-30",1.9859,"2017-10-30",2.3683999999999998,"2017-10-30",2.3700999999999999,null,"2017-10-30",1.4139999999999999,"2017-10-30",1.3767799999999999,"2017-10-31",1.07,"2017-10-30",1,"2017-10-31",4.25,"2017-10-30",3.2,"2017-03-17",4.46,"2017-03-15",4.6399999999999997,"2017-03-17",3.41]
[null,null,null,null,"2017-10-27",2.0156999999999998,"2017-10-27",2.4064000000000001,"2017-10-27",2.4211999999999998,null,"2017-10-27",1.4139999999999999,"2017-10-27",1.38009,"2017-10-30",1.1599999999999999,"2017-10-27",1,"2017-10-30",4.25,"2017-10-27",3.2,"2017-03-10",4.46,"2017-03-08",4.6399999999999997,"2017-03-10",3.45]
[null,null,null,null,"2017-10-26",2.0594999999999999,"2017-10-26",2.4609000000000001,"2017-10-26",2.4573,null,"2017-10-26",1.4139999999999999,"2017-10-26",1.3779600000000001,"2017-10-27",1.1599999999999999,"2017-10-26",1,"2017-10-27",4.25,"2017-10-26",3.2,"2017-03-03",4.3600000000000003,"2017-03-01",4.6399999999999997,"2017-03-03",3.48]
[null,null,null,null,"2017-10-25",2.0703999999999998,"2017-10-25",2.4317000000000002,"2017-10-25",2.4371,null,"2017-10-25",1.4159999999999999,"2017-10-25",1.37446,"2017-10-26",1.1599999999999999,"2017-10-25",1,"2017-10-26",4.25,"2017-10-25",3.2,"2017-02-24",4.3,"2017-02-22",4.6399999999999997,"2017-02-24",3.35]
[null,null,null,null,"2017-10-24",2.0907,"2017-10-24",2.4188999999999998,"2017-10-24",2.4156,null,"2017-10-24",1.4259999999999999,"2017-10-24",1.3706400000000001,"2017-10-25",1.1599999999999999,"2017-10-24",1,"2017-10-25",4.25,"2017-10-24",3.2,"2017-02-17",4.3600000000000003,"2017-02-15",4.6399999999999997,"2017-02-17",3.31]
[null,null,null,null,"2017-10-23",2.0573000000000001,"2017-10-23",2.3664000000000001,"2017-10-23",2.3723000000000001,null,"2017-10-23",1.4259999999999999,"2017-10-23",1.3674200000000001,"2017-10-24",1.1599999999999999,"2017-10-23",1,"2017-10-24",4.25,"2017-10-23",3.2,"2017-02-10",4.32,"2017-02-08",4.6399999999999997,"2017-02-10",3.34]
[null,null,null,null,"2017-10-20",2.0613999999999999,"2017-10-20",2.3845000000000001,"2017-10-20",2.3855,null,"2017-10-20",1.43,"2017-10-20",1.36476,"2017-10-23",1.1599999999999999,"2017-10-20",1,"2017-10-23",4.25,"2017-10-20",3.2,"2017-02-03",4.3499999999999996,"2017-02-01",4.6399999999999997,"2017-02-03",3.39]
[null,null,null,null,"2017-10-19",2.0472999999999999,"2017-10-19",2.3178000000000001,"2017-10-19",2.3224999999999998,null,"2017-10-19",1.43,"2017-10-19",1.3625,"2017-10-20",1.1599999999999999,"2017-10-19",1,"2017-10-20",4.25,"2017-10-19",3.2,"2017-01-27",4.3899999999999997,"2017-01-25",4.6399999999999997,"2017-01-27",3.33]
[null,null,null,null,"2017-10-18",2.0571999999999999,"2017-10-18",2.3464999999999998,"2017-10-18",2.3391999999999999,null,"2017-10-18",1.43,"2017-10-18",1.3626100000000001,"2017-10-19",1.1599999999999999,"2017-10-18",1,"2017-10-19",4.25,"2017-10-18",3.2,"2017-01-20",4.3499999999999996,"2017-01-18",4.6399999999999997,"2017-01-20",3.41]
[null,null,null,null,"2017-10-17",2.036,"2017-10-17",2.2997999999999998,"2017-10-17",2.3050999999999999,null,"2017-10-17",1.4259999999999999,"2017-10-17",1.3573299999999999,"2017-10-18",1.1599999999999999,"2017-10-17",1,"2017-10-18",4.25,"2017-10-17",3.2,"2017-01-13",4.2699999999999996,"2017-01-11",4.6399999999999997,"2017-01-13",3.44]
[null,null,null,null,"2017-10-16",2.0531999999999999,"2017-10-16",2.3033999999999999,"2017-10-16",2.3026,null,"2017-10-16",1.4248000000000001,"2017-10-16",1.35389,"2017-10-17",1.1599999999999999,"2017-10-16",1,"2017-10-17",4.25,"2017-10-16",3.2,"2017-01-06",4.32,"2017-01-04",4.6399999999999997,"2017-01-06",3.32]
[null,null,null,null,"2017-10-13",2.0611000000000002,"2017-10-13",2.2730000000000001,"2017-10-13",2.2823000000000002,null,"2017-10-13",1.425,"2017-10-13",1.3533299999999999,"2017-10-16",1.1599999999999999,"2017-10-13",1,"2017-10-16",4.25,"2017-10-13",3.2]
[null,null,null,null,"2017-10-12",2.1133999999999999,"2017-10-12",2.3176999999999999,"2017-10-12",2.3252999999999999,null,"2017-10-12",1.423,"2017-10-12",1.35917,"2017-10-13",1.1599999999999999,"2017-10-12",1,"2017-10-13",4.25,"2017-10-12",3.2]
[null,null,null,null,"2017-10-11",2.1333000000000002,"2017-10-11",2.3481000000000001,"2017-10-11",2.3456000000000001,null,"2017-10-11",1.4179999999999999,"2017-10-11",1.3586100000000001,"2017-10-12",1.1599999999999999,"2017-10-11",1,"2017-10-12",4.25,"2017-10-11",3.2]
[null,null,null,null,"2017-10-10",2.1480999999999999,"2017-10-10",2.3607,"2017-10-10",2.3565,null,"2017-10-10",1.4159999999999999,"2017-10-10",1.35667,"2017-10-11",1.1599999999999999,"2017-10-10",1,"2017-10-11",4.25,"2017-10-10",3.2]
[null,null,null,null,"2017-10-06",2.1576,"2017-10-06",2.3589000000000002,"2017-10-06",2.3757999999999999,null,"2017-10-06",1.4139999999999999,"2017-10-09",1.35639,"2017-10-10",1.1599999999999999,"2017-10-06",1,"2017-10-10",4.25,"2017-10-06",3.2]
[null,null,null,null,"2017-10-05",2.1343999999999999,"2017-10-05",2.3479999999999999,"2017-10-05",2.3553999999999999,null,"2017-10-05",1.4079999999999999,"2017-10-06",1.3502799999999999,"2017-10-06",1.1599999999999999,"2017-10-05",1,"2017-10-06",4.25,"2017-10-05",3.2]
[null,null,null,null,"2017-10-04",2.1541999999999999,"2017-10-04",2.3229000000000002,"2017-10-04",2.3344999999999998,null,"2017-10-04",1.4079999999999999,"2017-10-05",1.3486100000000001,"2017-10-05",1.1599999999999999,"2017-10-04",1,"2017-10-05",4.25,"2017-10-04",3.2]
[null,null,null,null,"2017-10-03",2.1551,"2017-10-03",2.3229000000000002,"2017-10-03",2.3359999999999999,null,"2017-10-03",1.411,"2017-10-04",1.34667,"2017-10-04",1.1599999999999999,"2017-10-03",1,"2017-10-04",4.25,"2017-10-03",3.2]
[null,null,null,null,"2017-10-02",2.1612,"2017-10-02",2.3408000000000002,"2017-10-02",2.3511000000000002,null,"2017-10-02",1.413,"2017-10-03",1.3425,"2017-10-03",1.1599999999999999,"2017-10-02",1,"2017-10-03",4.25,"2017-10-02",3.2]
[null,null,null,null,"2017-09-29",2.1368999999999998,"2017-09-29",2.3336000000000001,"2017-09-29",2.3429000000000002,null,"2017-09-29",1.415,"2017-10-02",1.3355600000000001,"2017-10-02",1.1599999999999999,"2017-09-29",1,"2017-10-02",4.25,"2017-09-29",3.2]
[null,null,null,null,"2017-09-28",2.1642000000000001,"2017-09-28",2.3085,"2017-09-28",2.3229000000000002,null,"2017-09-28",1.42,"2017-09-29",1.33389,"2017-09-29",1.06,"2017-09-28",1,"2017-09-29",4.25,"2017-09-28",3.2]
[null,null,null,null,"2017-09-27",2.1556000000000002,"2017-09-27",2.3102999999999998,"2017-09-27",2.3142,null,"2017-09-27",1.4339999999999999,"2017-09-28",1.335,"2017-09-28",1.1599999999999999,"2017-09-27",1,"2017-09-28",4.25,"2017-09-27",3.2]
[null,null,null,null,"2017-09-26",2.1355,"2017-09-26",2.2357,"2017-09-26",2.2429999999999999,null,"2017-09-26",1.4319999999999999,"2017-09-27",1.3327800000000001,"2017-09-27",1.1599999999999999,"2017-09-26",1,"2017-09-27",4.25,"2017-09-26",3.2]
[null,null,null,null,"2017-09-25",2.12,"2017-09-25",2.2198000000000002,"2017-09-25",2.2303000000000002,null,"2017-09-25",1.4339999999999999,"2017-09-26",1.33083,"2017-09-26",1.1599999999999999,"2017-09-25",1,"2017-09-26",4.25,"2017-09-25",3.2]
[null,null,null,null,"2017-09-22",2.1455000000000002,"2017-09-22",2.2498999999999998,"2017-09-22",2.2709999999999999,null,"2017-09-22",1.4359999999999999,"2017-09-25",1.32972,"2017-09-25",1.1599999999999999,"2017-09-22",1,"2017-09-25",4.25,"2017-09-22",3.2]
[null,null,null,null,"2017-09-21",2.1587999999999998,"2017-09-21",2.2765,"2017-09-21",2.2932999999999999,null,"2017-09-21",1.4359999999999999,"2017-09-22",1.32944,"2017-09-22",1.1599999999999999,"2017-09-21",1,"2017-09-22",4.25,"2017-09-21",3.2]
[null,null,null,null,"2017-09-20",2.1351,"2017-09-20",2.2675999999999998,"2017-09-20",2.2831000000000001,null,"2017-09-20",1.4370000000000001,"2017-09-21",1.32833,"2017-09-21",1.1599999999999999,"2017-09-20",1,"2017-09-21",4.25,"2017-09-20",3.2]
[null,null,null,null,"2017-09-19",2.1356999999999999,"2017-09-19",2.2446000000000002,"2017-09-19",2.2587000000000002,null,"2017-09-19",1.44,"2017-09-20",1.3230599999999999,"2017-09-20",1.1599999999999999,"2017-09-19",1,"2017-09-20",4.25,"2017-09-19",3.2]
[null,null,null,null,"2017-09-18",2.1040000000000001,"2017-09-18",2.2286999999999999,"2017-09-18",2.2446999999999999,null,"2017-09-18",1.45,"2017-09-19",1.3261099999999999,"2017-09-19",1.1599999999999999,"2017-09-18",1,"2017-09-19",4.25,"2017-09-18",3.2]
[null,null,null,null,"2017-09-15",2.1143000000000001,"2017-09-15",2.2023000000000001,"2017-09-15",2.2183000000000002,null,"2017-09-15",1.456,"2017-09-18",1.325,"2017-09-18",1.1599999999999999,"2017-09-15",1,"2017-09-18",4.25,"2017-09-15",3.2]
[null,null,null,null,"2017-09-14",2.0909,"2017-09-14",2.1846999999999999,"2017-09-14",2.2107000000000001,null,"2017-09-14",1.456,"2017-09-15",1.32389,"2017-09-15",1.1599999999999999,"2017-09-14",1,"2017-09-15",4.25,"2017-09-14",3.2]
[null,null,null,null,"2017-09-13",2.0966,"2017-09-13",2.1882999999999999,"2017-09-13",2.2153999999999998,null,"2017-09-13",1.456,"2017-09-14",1.32111,"2017-09-14",1.1599999999999999,"2017-09-13",1,"2017-09-14",4.25,"2017-09-13",3.2]
[null,null,null,null,"2017-09-12",2.0731000000000002,"2017-09-12",2.1671999999999998,"2017-09-12",2.1861999999999999,null,"2017-09-12",1.46,"2017-09-13",1.32,"2017-09-13",1.1599999999999999,"2017-09-12",1,"2017-09-13",4.25,"2017-09-12",3.2]
[null,null,null,null,"2017-09-11",2.0560999999999998,"2017-09-11",2.1305999999999998,"2017-09-11",2.1497999999999999,null,"2017-09-11",1.462,"2017-09-12",1.31917,"2017-09-12",1.1599999999999999,"2017-09-11",1,"2017-09-12",4.25,"2017-09-11",3.2]
[null,null,null,null,"2017-09-08",2.0228999999999999,"2017-09-08",2.0507,"2017-09-08",2.0752000000000002,null,"2017-09-08",1.464,"2017-09-11",1.31667,"2017-09-11",1.1599999999999999,"2017-09-08",1,"2017-09-11",4.25,"2017-09-08",3.2]
[null,null,null,null,"2017-09-07",1.9677,"2017-09-07",2.0387,"2017-09-07",2.0651000000000002,null,"2017-09-07",1.458,"2017-09-08",1.31033,"2017-09-08",1.1599999999999999,"2017-09-07",1,"2017-09-08",4.25,"2017-09-07",3.2]
[null,null,null,null,"2017-09-06",1.9721,"2017-09-06",2.1046,"2017-09-06",2.1253000000000002,null,"2017-09-06",1.44,"2017-09-07",1.3172200000000001,"2017-09-07",1.1599999999999999,"2017-09-06",1,"2017-09-07",4.25,"2017-09-06",2.95]
[null,null,null,null,"2017-09-05",1.8877999999999999,"2017-09-05",2.0596000000000001,"2017-09-05",2.0863999999999998,null,"2017-09-05",1.3680000000000001,"2017-09-06",1.3172200000000001,"2017-09-06",1.1599999999999999,"2017-09-05",0.75,"2017-09-06",4.25,"2017-09-05",2.95]
[null,null,null,null,"2017-09-01",1.9489000000000001,"2017-09-01",2.1657000000000002,"2017-09-01",2.1802999999999999,null,"2017-09-01",1.3440000000000001,"2017-09-05",1.3172200000000001,"2017-09-05",1.1599999999999999,"2017-09-01",0.75,"2017-09-05",4.25,"2017-09-01",2.95]
[null,null,null,null,"2017-08-31",1.8838999999999999,"2017-08-31",2.117,"2017-08-31",2.1393,null,"2017-08-31",1.32,"2017-09-04",1.3161099999999999,"2017-09-01",1.1599999999999999,"2017-08-31",0.75,"2017-09-01",4.25,"2017-08-31",2.95]
[null,null,null,null,"2017-08-30",1.8740000000000001,"2017-08-30",2.1309,"2017-08-30",2.1627999999999998,null,"2017-08-30",1.3120000000000001,"2017-09-01",1.3161099999999999,"2017-08-31",1.07,"2017-08-30",0.75,"2017-08-31",4.25,"2017-08-30",2.95]
[null,null,null,null,"2017-08-29",1.8691,"2017-08-29",2.1292,"2017-08-29",2.1518999999999999,null,"2017-08-29",1.31,"2017-08-31",1.31778,"2017-08-30",1.1599999999999999,"2017-08-29",0.75,"2017-08-30",4.25,"2017-08-29",2.95]
[null,null,null,null,"2017-08-28",1.8998999999999999,"2017-08-28",2.1570999999999998,"2017-08-28",2.1829999999999998,null,"2017-08-28",1.31,"2017-08-30",1.3161099999999999,"2017-08-29",1.1599999999999999,"2017-08-28",0.75,"2017-08-29",4.25,"2017-08-28",2.95]
[null,null,null,null,"2017-08-25",1.9089,"2017-08-25",2.1659000000000002,"2017-08-25",2.1949999999999998,null,"2017-08-25",1.306,"2017-08-29",1.31694,"2017-08-28",1.1599999999999999,"2017-08-25",0.75,"2017-08-28",4.25,"2017-08-25",2.95]
[null,null,null,null,"2017-08-24",1.9258999999999999,"2017-08-24",2.1939000000000002,"2017-08-24",2.2174,null,"2017-08-24",1.302,"2017-08-25",1.31778,"2017-08-25",1.1599999999999999,"2017-08-24",0.75,"2017-08-25",4.25,"2017-08-24",2.95]
[null,null,null,null,"2017-08-23",1.9221999999999999,"2017-08-23",2.1659999999999999,"2017-08-23",2.1917,null,"2017-08-23",1.3009999999999999,"2017-08-24",1.3172200000000001,"2017-08-24",1.1599999999999999,"2017-08-23",0.75,"2017-08-24",4.25,"2017-08-23",2.95]
[null,null,null,null,"2017-08-22",1.9588000000000001,"2017-08-22",2.2130999999999998,"2017-08-22",2.2403,null,"2017-08-22",1.302,"2017-08-23",1.3172200000000001,"2017-08-23",1.1599999999999999,"2017-08-22",0.75,"2017-08-23",4.25,"2017-08-22",2.95]
[null,null,null,null,"2017-08-21",1.9218999999999999,"2017-08-21",2.1817000000000002,"2017-08-21",2.2096,null,"2017-08-21",1.3009999999999999,"2017-08-22",1.3172200000000001,"2017-08-22",1.1599999999999999,"2017-08-21",0.75,"2017-08-22",4.25,"2017-08-21",2.95]
[null,null,null,null,"2017-08-18",1.9069,"2017-08-18",2.1939000000000002,"2017-08-18",2.2204000000000002,null,"2017-08-18",1.3009999999999999,"2017-08-21",1.3144400000000001,"2017-08-21",1.1599999999999999,"2017-08-18",0.75,"2017-08-21",4.25,"2017-08-18",2.95]
[null,null,null,null,"2017-08-17",1.8827,"2017-08-17",2.1852999999999998,"2017-08-17",2.2151999999999998,null,"2017-08-17",1.3009999999999999,"2017-08-18",1.3147200000000001,"2017-08-18",1.1599999999999999,"2017-08-17",0.75,"2017-08-18",4.25,"2017-08-17",2.95]
[null,null,null,null,"2017-08-16",1.9043000000000001,"2017-08-16",2.222,"2017-08-16",2.2599999999999998,null,"2017-08-16",1.3009999999999999,"2017-08-17",1.3163899999999999,"2017-08-17",1.1599999999999999,"2017-08-16",0.75,"2017-08-17",4.25,"2017-08-16",2.95]
[null,null,null,null,"2017-08-15",1.9375,"2017-08-15",2.2728000000000002,"2017-08-15",2.2879,null,"2017-08-15",1.3009999999999999,"2017-08-16",1.31667,"2017-08-16",1.1599999999999999,"2017-08-15",0.75,"2017-08-16",4.25,"2017-08-15",2.95]
[null,null,null,null,"2017-08-14",1.9123000000000001,"2017-08-14",2.2185000000000001,"2017-08-14",2.2502,null,"2017-08-14",1.298,"2017-08-15",1.3141700000000001,"2017-08-15",1.1599999999999999,"2017-08-14",0.75,"2017-08-15",4.25,"2017-08-14",2.95]
[null,null,null,null,"2017-08-11",1.8884000000000001,"2017-08-11",2.1888000000000001,"2017-08-11",2.2130000000000001,null,"2017-08-11",1.298,"2017-08-14",1.3141700000000001,"2017-08-14",1.1599999999999999,"2017-08-11",0.75,"2017-08-14",4.25,"2017-08-11",2.95]
[null,null,null,null,"2017-08-10",1.8866000000000001,"2017-08-10",2.1974999999999998,"2017-08-10",2.2235999999999998,null,"2017-08-10",1.298,"2017-08-11",1.3149999999999999,"2017-08-11",1.1599999999999999,"2017-08-10",0.75,"2017-08-11",4.25,"2017-08-10",2.95]
[null,null,null,null,"2017-08-09",1.9419999999999999,"2017-08-09",2.2475999999999998,"2017-08-09",2.2734000000000001,null,"2017-08-09",1.298,"2017-08-10",1.30911,"2017-08-10",1.1599999999999999,"2017-08-09",0.75,"2017-08-10",4.25,"2017-08-09",2.95]
[null,null,null,null,"2017-08-08",1.9721,"2017-08-08",2.2618999999999998,"2017-08-08",2.2976999999999999,null,"2017-08-08",1.296,"2017-08-09",1.3091699999999999,"2017-08-09",1.1599999999999999,"2017-08-08",0.75,"2017-08-09",4.25,"2017-08-08",2.95]
[null,null,null,null,"2017-08-04",1.9628000000000001,"2017-08-07",2.2530000000000001,"2017-08-07",2.2846000000000002,null,"2017-08-04",1.292,"2017-08-08",1.3094399999999999,"2017-08-08",1.1599999999999999,"2017-08-04",0.75,"2017-08-08",4.25,"2017-08-04",2.95]
[null,null,null,null,"2017-08-03",1.9339999999999999,"2017-08-04",2.262,"2017-08-04",2.2934999999999999,null,"2017-08-03",1.29,"2017-08-07",1.3113900000000001,"2017-08-07",1.1599999999999999,"2017-08-03",0.75,"2017-08-07",4.25,"2017-08-03",2.95]
[null,null,null,null,"2017-08-02",1.9748000000000001,"2017-08-03",2.2212000000000001,"2017-08-03",2.2456999999999998,null,"2017-08-02",1.288,"2017-08-04",1.3119400000000001,"2017-08-04",1.1599999999999999,"2017-08-02",0.75,"2017-08-04",4.25,"2017-08-02",2.95]
[null,null,null,null,"2017-08-01",1.9893000000000001,"2017-08-02",2.2709999999999999,"2017-08-02",2.2948,null,"2017-08-01",1.286,"2017-08-03",1.3116699999999999,"2017-08-03",1.1599999999999999,"2017-08-01",0.75,"2017-08-03",4.25,"2017-08-01",2.95]
[null,null,null,null,"2017-07-31",2.0924,"2017-08-01",2.2532000000000001,"2017-08-01",2.2814999999999999,null,"2017-07-31",1.284,"2017-08-02",1.3127800000000001,"2017-08-02",1.1599999999999999,"2017-07-31",0.75,"2017-08-02",4.25,"2017-07-31",2.95]
[null,null,null,null,"2017-07-28",2.0526,"2017-07-31",2.2942,"2017-07-31",2.3170999999999999,null,"2017-07-28",1.28,"2017-08-01",1.3105599999999999,"2017-08-01",1.1599999999999999,"2017-07-28",0.75,"2017-08-01",4.25,"2017-07-28",2.95]
[null,null,null,null,"2017-07-27",2.0337000000000001,"2017-07-28",2.2888999999999999,"2017-07-28",2.3184,null,"2017-07-27",1.268,"2017-07-31",1.3105599999999999,"2017-07-31",1.07,"2017-07-27",0.75,"2017-07-31",4.25,"2017-07-27",2.95]
[null,null,null,null,"2017-07-26",1.9967999999999999,"2017-07-27",2.3102999999999998,"2017-07-27",2.3433000000000002,null,"2017-07-26",1.264,"2017-07-28",1.3105599999999999,"2017-07-28",1.1599999999999999,"2017-07-26",0.75,"2017-07-28",4.25,"2017-07-26",2.95]
[null,null,null,null,"2017-07-25",2.0565000000000002,"2017-07-26",2.2871999999999999,"2017-07-26",2.3165,null,"2017-07-25",1.26,"2017-07-27",1.31111,"2017-07-27",1.1599999999999999,"2017-07-25",0.75,"2017-07-27",4.25,"2017-07-25",2.95]
[null,null,null,null,"2017-07-24",1.9511000000000001,"2017-07-25",2.3353999999999999,"2017-07-25",2.3551000000000002,null,"2017-07-24",1.254,"2017-07-26",1.31389,"2017-07-26",1.1599999999999999,"2017-07-24",0.75,"2017-07-26",4.25,"2017-07-24",2.95]
[null,null,null,null,"2017-07-21",1.9168000000000001,"2017-07-24",2.2551999999999999,"2017-07-24",2.2826,null,"2017-07-21",1.242,"2017-07-25",1.31667,"2017-07-25",1.1599999999999999,"2017-07-21",0.75,"2017-07-25",4.25,"2017-07-21",2.95]
[null,null,null,null,"2017-07-20",1.9219999999999999,"2017-07-21",2.2374999999999998,"2017-07-21",2.2660999999999998,null,"2017-07-20",1.2370000000000001,"2017-07-24",1.31389,"2017-07-24",1.1599999999999999,"2017-07-20",0.75,"2017-07-24",4.25,"2017-07-20",2.95]
[null,null,null,null,"2017-07-19",1.9272,"2017-07-20",2.2589000000000001,"2017-07-20",2.2925,null,"2017-07-19",1.228,"2017-07-21",1.3144400000000001,"2017-07-21",1.1599999999999999,"2017-07-19",0.75,"2017-07-21",4.25,"2017-07-19",2.95]
[null,null,null,null,"2017-07-18",1.8914,"2017-07-19",2.2696000000000001,"2017-07-19",2.2967,null,"2017-07-18",1.22,"2017-07-20",1.3125,"2017-07-20",1.1599999999999999,"2017-07-18",0.75,"2017-07-20",4.25,"2017-07-18",2.95]
[null,null,null,null,"2017-07-17",1.9218999999999999,"2017-07-18",2.2589999999999999,"2017-07-18",2.2896000000000001,null,"2017-07-17",1.214,"2017-07-19",1.30722,"2017-07-19",1.1599999999999999,"2017-07-17",0.75,"2017-07-19",4.25,"2017-07-17",2.95]
[null,null,null,null,"2017-07-14",1.9241999999999999,"2017-07-17",2.3140999999999998,"2017-07-17",2.3395999999999999,null,"2017-07-14",1.208,"2017-07-18",1.30694,"2017-07-18",1.1599999999999999,"2017-07-14",0.75,"2017-07-18",4.25,"2017-07-14",2.95]
[null,null,null,null,"2017-07-13",1.9382999999999999,"2017-07-14",2.3319000000000001,"2017-07-14",2.3521999999999998,null,"2017-07-13",1.206,"2017-07-17",1.3061100000000001,"2017-07-17",1.1599999999999999,"2017-07-13",0.75,"2017-07-17",4.25,"2017-07-13",2.95]
[null,null,null,null,"2017-07-12",1.9103000000000001,"2017-07-13",2.3443999999999998,"2017-07-13",2.3723000000000001,null,"2017-07-12",1.196,"2017-07-14",1.3036099999999999,"2017-07-14",1.1599999999999999,"2017-07-12",0.75,"2017-07-14",4.25,"2017-07-12",2.7]
[null,null,null,null,"2017-07-11",1.8915999999999999,"2017-07-12",2.3176999999999999,"2017-07-12",2.3445,null,"2017-07-11",1.1879999999999999,"2017-07-13",1.3036099999999999,"2017-07-13",1.1599999999999999,"2017-07-11",0.5,"2017-07-13",4.25,"2017-07-11",2.7]
[null,null,null,null,"2017-07-10",1.9173,"2017-07-11",2.3605,"2017-07-11",2.3837999999999999,null,"2017-07-10",1.18,"2017-07-12",1.30389,"2017-07-12",1.1599999999999999,"2017-07-10",0.5,"2017-07-12",4.25,"2017-07-10",2.7]
[null,null,null,null,"2017-07-07",1.9072,"2017-07-10",2.3730000000000002,"2017-07-10",2.4,null,"2017-07-07",1.1559999999999999,"2017-07-11",1.3035000000000001,"2017-07-11",1.1599999999999999,"2017-07-07",0.5,"2017-07-11",4.25,"2017-07-07",2.7]
[null,null,null,null,"2017-07-06",1.8593,"2017-07-07",2.3856000000000002,"2017-07-07",2.4121999999999999,null,"2017-07-06",1.1299999999999999,"2017-07-10",1.3041100000000001,"2017-07-10",1.1599999999999999,"2017-07-06",0.5,"2017-07-10",4.25,"2017-07-06",2.7]
[null,null,null,null,"2017-07-05",1.8311999999999999,"2017-07-06",2.3658999999999999,"2017-07-06",2.3908999999999998,null,"2017-07-05",1.1140000000000001,"2017-07-07",1.30522,"2017-07-07",1.1599999999999999,"2017-07-05",0.5,"2017-07-07",4.25,"2017-07-05",2.7]
[null,null,null,null,"2017-07-04",1.8729,"2017-07-05",2.3231999999999999,"2017-07-05",2.3565,null,"2017-07-04",1.0960000000000001,"2017-07-06",1.3041100000000001,"2017-07-06",1.1599999999999999,"2017-07-04",0.5,"2017-07-06",4.25,"2017-07-04",2.7]
[null,null,null,null,"2017-06-30",1.7944,"2017-07-03",2.3498999999999999,"2017-07-03",2.3746999999999998,null,"2017-06-30",1.07,"2017-07-05",1.3029999999999999,"2017-07-05",1.1599999999999999,"2017-06-30",0.5,"2017-07-05",4.25,"2017-06-30",2.7]
[null,null,null,null,"2017-06-29",1.7303999999999999,"2017-06-30",2.3037000000000001,"2017-06-30",2.3254000000000001,null,"2017-06-29",1.05,"2017-07-04",1.3021100000000001,"2017-07-03",1.1599999999999999,"2017-06-29",0.5,"2017-07-03",4.25,"2017-06-29",2.7]
[null,null,null,null,"2017-06-28",1.6454,"2017-06-29",2.2665999999999999,"2017-06-29",2.2932000000000001,null,"2017-06-28",1.016,"2017-07-03",1.3007200000000001,"2017-06-30",1.06,"2017-06-28",0.5,"2017-06-30",4.25,"2017-06-28",2.7]
[null,null,null,null,"2017-06-27",1.5947,"2017-06-28",2.2279,"2017-06-28",2.2433999999999998,null,"2017-06-27",0.97599999999999998,"2017-06-30",1.2991699999999999,"2017-06-29",1.1599999999999999,"2017-06-27",0.5,"2017-06-29",4.25,"2017-06-27",2.7]
[null,null,null,null,"2017-06-26",1.4838,"2017-06-27",2.2050999999999998,"2017-06-27",2.2294999999999998,null,"2017-06-26",0.96399999999999997,"2017-06-29",1.29861,"2017-06-28",1.1599999999999999,"2017-06-26",0.5,"2017-06-28",4.25,"2017-06-26",2.7]
[null,null,null,null,"2017-06-23",1.5019,"2017-06-26",2.137,"2017-06-26",2.1598000000000002,null,"2017-06-23",0.95499999999999996,"2017-06-28",1.2963899999999999,"2017-06-27",1.1599999999999999,"2017-06-23",0.5,"2017-06-27",4.25,"2017-06-23",2.7]
[null,null,null,null,"2017-06-22",1.5141,"2017-06-23",2.1423000000000001,"2017-06-23",2.1675,null,"2017-06-22",0.95399999999999996,"2017-06-27",1.2950600000000001,"2017-06-26",1.1599999999999999,"2017-06-22",0.5,"2017-06-26",4.25,"2017-06-22",2.7]
[null,null,null,null,"2017-06-21",1.5134000000000001,"2017-06-22",2.1476999999999999,"2017-06-22",2.1703999999999999,null,"2017-06-21",0.93500000000000005,"2017-06-26",1.2948299999999999,"2017-06-23",1.1599999999999999,"2017-06-21",0.5,"2017-06-23",4.25,"2017-06-21",2.7]
[null,null,null,null,"2017-06-20",1.5224,"2017-06-21",2.1634000000000002,"2017-06-21",2.1812,null,"2017-06-20",0.93,"2017-06-23",1.29328,"2017-06-22",1.1599999999999999,"2017-06-20",0.5,"2017-06-22",4.25,"2017-06-20",2.7]
[null,null,null,null,"2017-06-19",1.5684,"2017-06-20",2.1564999999999999,"2017-06-20",2.1819000000000002,null,"2017-06-19",0.92200000000000004,"2017-06-22",1.29556,"2017-06-21",1.1599999999999999,"2017-06-19",0.5,"2017-06-21",4.25,"2017-06-19",2.7]
[null,null,null,null,"2017-06-16",1.5381,"2017-06-19",2.1879,"2017-06-19",2.2157,null,"2017-06-16",0.91300000000000003,"2017-06-21",1.2894399999999999,"2017-06-20",1.1599999999999999,"2017-06-16",0.5,"2017-06-20",4.25,"2017-06-16",2.7]
[null,null,null,null,"2017-06-15",1.5398000000000001,"2017-06-16",2.1514000000000002,"2017-06-16",2.1804999999999999,null,"2017-06-15",0.90900000000000003,"2017-06-20",1.28722,"2017-06-19",1.1599999999999999,"2017-06-15",0.5,"2017-06-19",4.25,"2017-06-15",2.7]
[null,null,null,null,"2017-06-14",1.518,"2017-06-15",2.1637,"2017-06-15",2.1871999999999998,null,"2017-06-14",0.90200000000000002,"2017-06-19",1.2802199999999999,"2017-06-16",1.1599999999999999,"2017-06-14",0.5,"2017-06-16",4.25,"2017-06-14",2.7]
[null,null,null,null,"2017-06-13",1.5842000000000001,"2017-06-14",2.1255999999999999,"2017-06-14",2.1625999999999999,null,"2017-06-13",0.89800000000000002,"2017-06-16",1.27356,"2017-06-15",1.1599999999999999,"2017-06-13",0.5,"2017-06-15",4.25,"2017-06-13",2.7]
[null,null,null,null,"2017-06-12",1.5145,"2017-06-13",2.2109000000000001,"2017-06-13",2.2364999999999999,null,"2017-06-12",0.88800000000000001,"2017-06-15",1.2674399999999999,"2017-06-14",0.91,"2017-06-12",0.5,"2017-06-14",4,"2017-06-12",2.7]
[null,null,null,null,"2017-06-09",1.4555,"2017-06-12",2.2145000000000001,"2017-06-12",2.2412000000000001,null,"2017-06-09",0.88900000000000001,"2017-06-14",1.2503299999999999,"2017-06-13",0.91,"2017-06-09",0.5,"2017-06-13",4,"2017-06-09",2.7]
[null,null,null,null,"2017-06-08",1.4492,"2017-06-09",2.2004999999999999,"2017-06-09",2.2376999999999998,null,"2017-06-08",0.88900000000000001,"2017-06-13",1.24556,"2017-06-12",0.91,"2017-06-08",0.5,"2017-06-12",4,"2017-06-08",2.7]
[null,null,null,null,"2017-06-07",1.4358,"2017-06-08",2.1884999999999999,"2017-06-08",2.2242999999999999,null,"2017-06-07",0.89,"2017-06-12",1.2416700000000001,"2017-06-09",0.91,"2017-06-07",0.5,"2017-06-09",4,"2017-06-07",2.7]
[null,null,null,null,"2017-06-06",1.4228000000000001,"2017-06-07",2.1728999999999998,"2017-06-07",2.2061999999999999,null,"2017-06-06",0.89300000000000002,"2017-06-09",1.23644,"2017-06-08",0.91,"2017-06-06",0.5,"2017-06-08",4,"2017-06-06",2.7]
[null,null,null,null,"2017-06-05",1.4359,"2017-06-06",2.1450999999999998,"2017-06-06",2.1768000000000001,null,"2017-06-05",0.89500000000000002,"2017-06-08",1.22811,"2017-06-07",0.91,"2017-06-05",0.5,"2017-06-07",4,"2017-06-05",2.7]
[null,null,null,null,"2017-06-02",1.4197,"2017-06-05",2.1817000000000002,"2017-06-05",2.2170999999999998,null,"2017-06-02",0.89800000000000002,"2017-06-07",1.2210000000000001,"2017-06-06",0.91,"2017-06-02",0.5,"2017-06-06",4,"2017-06-02",2.7]
[null,null,null,null,"2017-06-01",1.4527000000000001,"2017-06-02",2.1591,"2017-06-02",2.1876000000000002,null,"2017-06-01",0.89900000000000002,"2017-06-06",1.2190000000000001,"2017-06-05",0.91,"2017-06-01",0.5,"2017-06-05",4,"2017-06-01",2.7]
[null,null,null,null,"2017-05-31",1.4377,"2017-06-01",2.2113999999999998,"2017-06-01",2.2515999999999998,null,"2017-05-31",0.89900000000000002,"2017-06-05",1.21956,"2017-06-02",0.91,"2017-05-31",0.5,"2017-06-02",4,"2017-05-31",2.7]
[null,null,null,null,"2017-05-30",1.4423999999999999,"2017-05-31",2.2027999999999999,"2017-05-31",2.2439,null,"2017-05-30",0.89400000000000002,"2017-06-02",1.2224999999999999,"2017-06-01",0.91,"2017-05-30",0.5,"2017-06-01",4,"2017-05-30",2.7]
[null,null,null,null,"2017-05-29",1.4359999999999999,"2017-05-30",2.2098,"2017-05-30",2.2488999999999999,null,"2017-05-29",0.89200000000000002,"2017-06-01",1.2180599999999999,"2017-05-31",0.83,"2017-05-29",0.5,"2017-05-31",4,"2017-05-29",2.7]
[null,null,null,null,"2017-05-26",1.4702999999999999,"2017-05-26",2.2465000000000002,"2017-05-26",2.2837000000000001,null,"2017-05-26",0.89,"2017-05-31",1.21,"2017-05-30",0.91,"2017-05-26",0.5,"2017-05-30",4,"2017-05-26",2.7]
[null,null,null,null,"2017-05-25",1.4784999999999999,"2017-05-25",2.2553999999999998,"2017-05-25",2.2883,null,"2017-05-25",0.88800000000000001,"2017-05-30",1.2017800000000001,"2017-05-26",0.91,"2017-05-25",0.5,"2017-05-26",4,"2017-05-25",2.7]
[null,null,null,null,"2017-05-24",1.5141,"2017-05-24",2.2502,"2017-05-24",2.2888999999999999,null,"2017-05-24",0.88600000000000001,"2017-05-26",1.2017800000000001,"2017-05-25",0.91,"2017-05-24",0.5,"2017-05-25",4,"2017-05-24",2.7]
[null,null,null,null,"2017-05-23",1.5299,"2017-05-23",2.2799,"2017-05-23",2.3227000000000002,null,"2017-05-23",0.88600000000000001,"2017-05-25",1.2003900000000001,"2017-05-24",0.91,"2017-05-23",0.5,"2017-05-24",4,"2017-05-23",2.7]
[null,null,null,null,"2017-05-19",1.5016,"2017-05-22",2.2536999999999998,"2017-05-22",2.2825000000000002,null,"2017-05-19",0.88600000000000001,"2017-05-24",1.1976100000000001,"2017-05-23",0.91,"2017-05-19",0.5,"2017-05-23",4,"2017-05-19",2.7]
[null,null,null,null,"2017-05-18",1.4782,"2017-05-19",2.2345999999999999,"2017-05-19",2.2686000000000002,null,"2017-05-18",0.88600000000000001,"2017-05-23",1.1886699999999999,"2017-05-22",0.91,"2017-05-18",0.5,"2017-05-22",4,"2017-05-18",2.7]
[null,null,null,null,"2017-05-17",1.4795,"2017-05-18",2.2294,"2017-05-18",2.2633000000000001,null,"2017-05-17",0.88600000000000001,"2017-05-22",1.1919999999999999,"2017-05-19",0.91,"2017-05-17",0.5,"2017-05-19",4,"2017-05-17",2.7]
[null,null,null,null,"2017-05-16",1.5985,"2017-05-17",2.2242999999999999,"2017-05-17",2.2544,null,"2017-05-16",0.88800000000000001,"2017-05-19",1.1864399999999999,"2017-05-18",0.91,"2017-05-16",0.5,"2017-05-18",4,"2017-05-16",2.7]
[null,null,null,null,"2017-05-15",1.623,"2017-05-16",2.3256999999999999,"2017-05-16",2.3618999999999999,null,"2017-05-15",0.88800000000000001,"2017-05-18",1.1717200000000001,"2017-05-17",0.91,"2017-05-15",0.5,"2017-05-17",4,"2017-05-15",2.7]
[null,null,null,null,"2017-05-12",1.599,"2017-05-15",2.3433000000000002,"2017-05-15",2.3816000000000002,null,"2017-05-12",0.88800000000000001,"2017-05-17",1.17839,"2017-05-16",0.91,"2017-05-12",0.5,"2017-05-16",4,"2017-05-12",2.7]
[null,null,null,null,"2017-05-11",1.6339999999999999,"2017-05-12",2.3256999999999999,"2017-05-12",2.3624999999999998,null,"2017-05-11",0.88800000000000001,"2017-05-16",1.1811700000000001,"2017-05-15",0.91,"2017-05-11",0.5,"2017-05-15",4,"2017-05-11",2.7]
[null,null,null,null,"2017-05-10",1.6638999999999999,"2017-05-11",2.3874,"2017-05-11",2.4281999999999999,null,"2017-05-10",0.88900000000000001,"2017-05-15",1.17944,"2017-05-12",0.91,"2017-05-10",0.5,"2017-05-12",4,"2017-05-10",2.7]
[null,null,null,null,"2017-05-09",1.6409,"2017-05-10",2.4140999999999999,"2017-05-10",2.4527000000000001,null,"2017-05-09",0.89500000000000002,"2017-05-12",1.1795599999999999,"2017-05-11",0.91,"2017-05-09",0.5,"2017-05-11",4,"2017-05-09",2.7]
[null,null,null,null,"2017-05-08",1.6106,"2017-05-09",2.3976999999999999,"2017-05-09",2.4310999999999998,null,"2017-05-08",0.9,"2017-05-11",1.1817800000000001,"2017-05-10",0.91,"2017-05-08",0.5,"2017-05-10",4,"2017-05-08",2.7]
[null,null,null,null,"2017-05-05",1.5717000000000001,"2017-05-08",2.3868,"2017-05-08",2.4196,null,"2017-05-05",0.90700000000000003,"2017-05-10",1.1809400000000001,"2017-05-09",0.91,"2017-05-05",0.5,"2017-05-09",4,"2017-05-05",2.7]
[null,null,null,null,"2017-05-04",1.5585,"2017-05-05",2.3487,"2017-05-05",2.3853,null,"2017-05-04",0.91200000000000003,"2017-05-09",1.1819999999999999,"2017-05-08",0.91,"2017-05-04",0.5,"2017-05-08",4,"2017-05-04",2.7]
[null,null,null,null,"2017-05-03",1.5681,"2017-05-04",2.3540999999999999,"2017-05-04",2.3858000000000001,null,"2017-05-03",0.91200000000000003,"2017-05-08",1.1845600000000001,"2017-05-05",0.91,"2017-05-03",0.5,"2017-05-05",4,"2017-05-03",2.7]
[null,null,null,null,"2017-05-02",1.5419,"2017-05-03",2.3180000000000001,"2017-05-03",2.355,null,"2017-05-02",0.91600000000000004,"2017-05-05",1.1803900000000001,"2017-05-04",0.91,"2017-05-02",0.5,"2017-05-04",4,"2017-05-02",2.7]
[null,null,null,null,"2017-05-01",1.6002000000000001,"2017-05-02",2.2803,"2017-05-02",2.3243999999999998,null,"2017-05-01",0.92400000000000004,"2017-05-04",1.1792800000000001,"2017-05-03",0.91,"2017-05-01",0.5,"2017-05-03",4,"2017-05-01",2.7]
[null,null,null,null,"2017-04-28",1.5617000000000001,"2017-05-01",2.3180000000000001,"2017-05-01",2.3548,null,"2017-04-28",0.92400000000000004,"2017-05-03",1.1712199999999999,"2017-05-02",0.91,"2017-04-28",0.5,"2017-05-02",4,"2017-04-28",2.7]
[null,null,null,null,"2017-04-27",1.6047,"2017-04-28",2.2801999999999998,"2017-04-28",2.3191999999999999,null,"2017-04-27",0.92400000000000004,"2017-05-02",1.1737200000000001,"2017-05-01",0.91,"2017-04-27",0.5,"2017-05-01",4,"2017-04-27",2.7]
[null,null,null,null,"2017-04-26",1.5962000000000001,"2017-04-27",2.2946,"2017-04-27",2.3306,null,"2017-04-26",0.92600000000000005,"2017-04-28",1.1723300000000001,"2017-04-28",0.83,"2017-04-26",0.5,"2017-04-28",4,"2017-04-26",2.7]
[null,null,null,null,"2017-04-25",1.6467000000000001,"2017-04-26",2.3035000000000001,"2017-04-26",2.3393000000000002,null,"2017-04-25",0.92600000000000005,"2017-04-27",1.1695599999999999,"2017-04-27",0.91,"2017-04-25",0.5,"2017-04-27",4,"2017-04-25",2.7]
[null,null,null,null,"2017-04-24",1.6093999999999999,"2017-04-25",2.3321999999999998,"2017-04-25",2.3729,null,"2017-04-24",0.92600000000000005,"2017-04-26",1.17178,"2017-04-26",0.91,"2017-04-24",0.5,"2017-04-26",4,"2017-04-24",2.7]
[null,null,null,null,"2017-04-21",1.581,"2017-04-24",2.2730000000000001,"2017-04-24",2.3058999999999998,null,"2017-04-21",0.92600000000000005,"2017-04-25",1.17039,"2017-04-25",0.91,"2017-04-21",0.5,"2017-04-25",4,"2017-04-21",2.7]
[null,null,null,null,"2017-04-20",1.6073,"2017-04-21",2.2480000000000002,"2017-04-21",2.2707999999999999,null,"2017-04-20",0.93400000000000005,"2017-04-24",1.1665000000000001,"2017-04-24",0.91,"2017-04-20",0.5,"2017-04-24",4,"2017-04-20",2.7]
[null,null,null,null,"2017-04-19",1.5861000000000001,"2017-04-20",2.2320000000000002,"2017-04-20",2.2768000000000002,null,"2017-04-19",0.93799999999999994,"2017-04-21",1.15622,"2017-04-21",0.91,"2017-04-19",0.5,"2017-04-21",4,"2017-04-19",2.7]
[null,null,null,null,"2017-04-18",1.5580000000000001,"2017-04-19",2.2143000000000002,"2017-04-19",2.2492999999999999,null,"2017-04-18",0.94,"2017-04-20",1.15317,"2017-04-20",0.91,"2017-04-18",0.5,"2017-04-20",4,"2017-04-18",2.7]
[null,null,null,null,"2017-04-17",1.6365000000000001,"2017-04-18",2.1682000000000001,"2017-04-18",2.2082999999999999,null,"2017-04-17",0.94099999999999995,"2017-04-19",1.15567,"2017-04-19",0.91,"2017-04-17",0.5,"2017-04-19",4,"2017-04-17",2.7]
[null,null,null,null,"2017-04-13",1.6191,"2017-04-17",2.2498,"2017-04-17",2.2888000000000002,null,"2017-04-13",0.94099999999999995,"2017-04-18",1.15622,"2017-04-18",0.91,"2017-04-13",0.5,"2017-04-18",4,"2017-04-13",2.7]
[null,null,null,null,"2017-04-12",1.6431,"2017-04-13",2.2374000000000001,"2017-04-13",2.2721,null,"2017-04-12",0.94099999999999995,"2017-04-13",1.1584399999999999,"2017-04-17",0.91,"2017-04-12",0.5,"2017-04-17",4,"2017-04-12",2.7]
[null,null,null,null,"2017-04-11",1.6717,"2017-04-12",2.2391999999999999,"2017-04-12",2.3001,null,"2017-04-11",0.94099999999999995,"2017-04-12",1.1584399999999999,"2017-04-14",0.91,"2017-04-11",0.5,"2017-04-13",4,"2017-04-11",2.7]
[null,null,null,null,"2017-04-10",1.7198,"2017-04-11",2.2961999999999998,"2017-04-11",2.3353000000000002,null,"2017-04-10",0.94099999999999995,"2017-04-11",1.1551100000000001,"2017-04-13",0.91,"2017-04-10",0.5,"2017-04-12",4,"2017-04-10",2.7]
[null,null,null,null,"2017-04-07",1.7122999999999999,"2017-04-10",2.3660999999999999,"2017-04-10",2.3965999999999998,null,"2017-04-07",0.94,"2017-04-10",1.15567,"2017-04-12",0.91,"2017-04-07",0.5,"2017-04-11",4,"2017-04-07",2.7]
[null,null,null,null,"2017-04-06",1.6745000000000001,"2017-04-07",2.3822000000000001,"2017-04-07",2.4180999999999999,null,"2017-04-06",0.94099999999999995,"2017-04-07",1.15761,"2017-04-11",0.91,"2017-04-06",0.5,"2017-04-10",4,"2017-04-06",2.7]
[null,null,null,null,"2017-04-05",1.6819999999999999,"2017-04-06",2.3408000000000002,"2017-04-06",2.3852000000000002,null,"2017-04-05",0.94099999999999995,"2017-04-06",1.1553899999999999,"2017-04-10",0.91,"2017-04-05",0.5,"2017-04-07",4,"2017-04-05",2.7]
[null,null,null,null,"2017-04-04",1.6987000000000001,"2017-04-05",2.3353999999999999,"2017-04-05",2.3729,null,"2017-04-04",0.94099999999999995,"2017-04-05",1.15039,"2017-04-07",0.91,"2017-04-04",0.5,"2017-04-06",4,"2017-04-04",2.7]
[null,null,null,null,"2017-04-03",1.6999,"2017-04-04",2.3605,"2017-04-04",2.3990999999999998,null,"2017-04-03",0.94099999999999995,"2017-04-04",1.1498299999999999,"2017-04-06",0.91,"2017-04-03",0.5,"2017-04-05",4,"2017-04-03",2.7]
[null,null,null,null,"2017-03-31",1.7564,"2017-04-03",2.3193000000000001,"2017-04-03",2.3792,null,"2017-03-31",0.94,"2017-04-03",1.1498299999999999,"2017-04-05",0.91,"2017-03-31",0.5,"2017-04-04",4,"2017-03-31",2.7]
[null,null,null,null,"2017-03-30",1.7531000000000001,"2017-03-31",2.3874,"2017-03-31",2.4456000000000002,null,"2017-03-30",0.93200000000000005,"2017-03-31",1.1495599999999999,"2017-04-04",0.91,"2017-03-30",0.5,"2017-04-03",4,"2017-03-30",2.7]
[null,null,null,null,"2017-03-29",1.718,"2017-03-30",2.4197000000000002,"2017-03-30",2.4691000000000001,null,"2017-03-29",0.93,"2017-03-30",1.14761,"2017-04-03",0.91,"2017-03-29",0.5,"2017-03-31",4,"2017-03-29",2.7]
[null,null,null,null,"2017-03-28",1.7494000000000001,"2017-03-29",2.3765000000000001,"2017-03-29",2.4291999999999998,null,"2017-03-28",0.93,"2017-03-29",1.1467799999999999,"2017-03-31",0.82,"2017-03-28",0.5,"2017-03-30",4,"2017-03-28",2.7]
[null,null,null,null,"2017-03-27",1.728,"2017-03-28",2.4178000000000002,"2017-03-28",2.4672000000000001,null,"2017-03-27",0.93,"2017-03-28",1.15222,"2017-03-30",0.91,"2017-03-27",0.5,"2017-03-29",4,"2017-03-27",2.7]
[null,null,null,null,"2017-03-24",1.7541,"2017-03-27",2.3782000000000001,"2017-03-27",2.4266000000000001,null,"2017-03-24",0.92800000000000005,"2017-03-27",1.1518900000000001,"2017-03-29",0.91,"2017-03-24",0.5,"2017-03-28",4,"2017-03-24",2.7]
[null,null,null,null,"2017-03-23",1.8055000000000001,"2017-03-24",2.4123000000000001,"2017-03-24",2.4613,null,"2017-03-23",0.92800000000000005,"2017-03-24",1.1512800000000001,"2017-03-28",0.91,"2017-03-23",0.5,"2017-03-27",4,"2017-03-23",2.7]
[null,null,null,null,"2017-03-22",1.7995000000000001,"2017-03-23",2.4194,"2017-03-23",2.4660000000000002,null,"2017-03-22",0.92600000000000005,"2017-03-23",1.15289,"2017-03-27",0.91,"2017-03-22",0.5,"2017-03-24",4,"2017-03-22",2.7]
[null,null,null,null,"2017-03-21",1.8305,"2017-03-22",2.4049999999999998,"2017-03-22",2.4521999999999999,null,"2017-03-21",0.92500000000000004,"2017-03-22",1.1567799999999999,"2017-03-24",0.91,"2017-03-21",0.5,"2017-03-23",4,"2017-03-21",2.7]
[null,null,null,null,"2017-03-20",1.8533999999999999,"2017-03-21",2.4175,"2017-03-21",2.4700000000000002,null,"2017-03-20",0.92800000000000005,"2017-03-21",1.15622,"2017-03-23",0.91,"2017-03-20",0.5,"2017-03-22",4,"2017-03-20",2.7]
[null,null,null,null,"2017-03-17",1.8831,"2017-03-20",2.4607000000000001,"2017-03-20",2.5167000000000002,null,"2017-03-17",0.92900000000000005,"2017-03-20",1.15622,"2017-03-22",0.91,"2017-03-17",0.5,"2017-03-21",4,"2017-03-17",2.7]
[null,null,null,null,"2017-03-16",1.921,"2017-03-17",2.5005000000000002,"2017-03-17",2.5484,null,"2017-03-16",0.93,"2017-03-17",1.15178,"2017-03-21",0.91,"2017-03-16",0.5,"2017-03-20",4,"2017-03-16",2.7]
[null,null,null,null,"2017-03-15",1.8797999999999999,"2017-03-16",2.5402,"2017-03-16",2.5853000000000002,null,"2017-03-15",0.93200000000000005,"2017-03-16",1.15178,"2017-03-20",0.91,"2017-03-15",0.5,"2017-03-17",4,"2017-03-15",2.7]
[null,null,null,null,"2017-03-14",1.9541999999999999,"2017-03-15",2.4929999999999999,"2017-03-15",2.5341999999999998,null,"2017-03-14",0.93300000000000005,"2017-03-15",1.1481699999999999,"2017-03-17",0.91,"2017-03-14",0.5,"2017-03-16",4,"2017-03-14",2.7]
[null,null,null,null,"2017-03-13",1.9935,"2017-03-14",2.6002000000000001,"2017-03-14",2.6509,null,"2017-03-13",0.93300000000000005,"2017-03-14",1.13733,"2017-03-16",0.91,"2017-03-13",0.5,"2017-03-15",3.75,"2017-03-13",2.7]
[null,null,null,null,"2017-03-10",1.9374,"2017-03-13",2.6257999999999999,"2017-03-13",2.6665000000000001,null,"2017-03-10",0.93500000000000005,"2017-03-13",1.1312199999999999,"2017-03-15",0.66,"2017-03-10",0.5,"2017-03-14",3.75,"2017-03-10",2.7]
[null,null,null,null,"2017-03-09",1.9262999999999999,"2017-03-10",2.5745,"2017-03-10",2.6318000000000001,null,"2017-03-09",0.93600000000000005,"2017-03-10",1.1212200000000001,"2017-03-14",0.66,"2017-03-09",0.5,"2017-03-13",3.75,"2017-03-09",2.7]
[null,null,null,null,"2017-03-08",1.9044000000000001,"2017-03-09",2.6053000000000002,"2017-03-09",2.6526000000000001,null,"2017-03-08",0.93600000000000005,"2017-03-09",1.1195600000000001,"2017-03-13",0.66,"2017-03-08",0.5,"2017-03-10",3.75,"2017-03-08",2.7]
[null,null,null,null,"2017-03-07",1.8619000000000001,"2017-03-08",2.5596999999999999,"2017-03-08",2.6093000000000002,null,"2017-03-07",0.93600000000000005,"2017-03-08",1.109,"2017-03-10",0.66,"2017-03-07",0.5,"2017-03-09",3.75,"2017-03-07",2.7]
[null,null,null,null,"2017-03-06",1.8292999999999999,"2017-03-07",2.5179,"2017-03-07",2.5691999999999999,null,"2017-03-06",0.93600000000000005,"2017-03-07",1.10622,"2017-03-09",0.66,"2017-03-06",0.5,"2017-03-08",3.75,"2017-03-06",2.7]
[null,null,null,null,"2017-03-03",1.8313999999999999,"2017-03-06",2.4996999999999998,"2017-03-06",2.5449000000000002,null,"2017-03-03",0.93799999999999994,"2017-03-06",1.10622,"2017-03-08",0.66,"2017-03-03",0.5,"2017-03-07",3.75,"2017-03-03",2.7]
[null,null,null,null,"2017-03-02",1.8283,"2017-03-03",2.4780000000000002,"2017-03-03",2.5310000000000001,null,"2017-03-02",0.94,"2017-03-03",1.1016699999999999,"2017-03-07",0.66,"2017-03-02",0.5,"2017-03-06",3.75,"2017-03-02",2.7]
[null,null,null,null,"2017-03-01",1.8173999999999999,"2017-03-02",2.4779,"2017-03-02",2.5478999999999998,null,"2017-03-01",0.94399999999999995,"2017-03-02",1.1000000000000001,"2017-03-06",0.66,"2017-03-01",0.5,"2017-03-03",3.75,"2017-03-01",2.7]
[null,null,null,null,"2017-02-28",1.7509999999999999,"2017-03-01",2.4525999999999999,"2017-03-01",2.5186000000000002,null,"2017-02-28",0.95,"2017-03-01",1.0927800000000001,"2017-03-03",0.66,"2017-02-28",0.5,"2017-03-02",3.75,"2017-02-28",2.7]
[null,null,null,null,"2017-02-27",1.7717000000000001,"2017-02-28",2.3898999999999999,"2017-02-28",2.4293999999999998,null,"2017-02-27",0.95299999999999996,"2017-02-28",1.0640000000000001,"2017-03-02",0.66,"2017-02-27",0.5,"2017-03-01",3.75,"2017-02-27",2.7]
[null,null,null,null,"2017-02-24",1.7319,"2017-02-27",2.3650000000000002,"2017-02-27",2.4283999999999999,null,"2017-02-24",0.95299999999999996,"2017-02-27",1.0545599999999999,"2017-03-01",0.66,"2017-02-24",0.5,"2017-02-28",3.75,"2017-02-24",2.7]
[null,null,null,null,"2017-02-23",1.7978000000000001,"2017-02-24",2.3117000000000001,"2017-02-24",2.3748999999999998,null,"2017-02-23",0.95299999999999996,"2017-02-24",1.054,"2017-02-28",0.56999999999999995,"2017-02-23",0.5,"2017-02-27",3.75,"2017-02-23",2.7]
[null,null,null,null,"2017-02-22",1.8331999999999999,"2017-02-23",2.3719999999999999,"2017-02-23",2.4367999999999999,null,"2017-02-22",0.95299999999999996,"2017-02-23",1.05233,"2017-02-27",0.66,"2017-02-22",0.5,"2017-02-24",3.75,"2017-02-22",2.7]
[null,null,null,null,"2017-02-21",1.8402000000000001,"2017-02-22",2.4129,"2017-02-22",2.4685999999999999,null,"2017-02-21",0.95299999999999996,"2017-02-22",1.054,"2017-02-24",0.66,"2017-02-21",0.5,"2017-02-23",3.75,"2017-02-21",2.7]
[null,null,null,null,"2017-02-17",1.8262,"2017-02-21",2.4289999999999998,"2017-02-21",2.4902000000000002,null,"2017-02-17",0.95299999999999996,"2017-02-21",1.0534399999999999,"2017-02-23",0.66,"2017-02-17",0.5,"2017-02-22",3.75,"2017-02-17",2.7]
[null,null,null,null,"2017-02-16",1.8614999999999999,"2017-02-17",2.4146000000000001,"2017-02-17",2.4777999999999998,null,"2017-02-16",0.95299999999999996,"2017-02-20",1.0501100000000001,"2017-02-22",0.66,"2017-02-16",0.5,"2017-02-21",3.75,"2017-02-16",2.7]
[null,null,null,null,"2017-02-15",1.903,"2017-02-16",2.4466999999999999,"2017-02-16",2.5131999999999999,null,"2017-02-15",0.95499999999999996,"2017-02-17",1.05233,"2017-02-21",0.66,"2017-02-15",0.5,"2017-02-17",3.75,"2017-02-15",2.7]
[null,null,null,null,"2017-02-14",1.8902000000000001,"2017-02-15",2.4931999999999999,"2017-02-15",2.5634999999999999,null,"2017-02-14",0.95499999999999996,"2017-02-16",1.0565,"2017-02-17",0.66,"2017-02-14",0.5,"2017-02-16",3.75,"2017-02-14",2.7]
[null,null,null,null,"2017-02-13",1.8535999999999999,"2017-02-14",2.4698000000000002,"2017-02-14",2.5388999999999999,null,"2017-02-13",0.95599999999999996,"2017-02-15",1.0417799999999999,"2017-02-16",0.66,"2017-02-13",0.5,"2017-02-15",3.75,"2017-02-13",2.7]
[null,null,null,null,"2017-02-10",1.8191999999999999,"2017-02-13",2.4358,"2017-02-13",2.4906000000000001,null,"2017-02-10",0.95599999999999996,"2017-02-14",1.0373300000000001,"2017-02-15",0.66,"2017-02-10",0.5,"2017-02-14",3.75,"2017-02-10",2.7]
[null,null,null,null,"2017-02-09",1.8037000000000001,"2017-02-10",2.4073000000000002,"2017-02-10",2.4685999999999999,null,"2017-02-09",0.95599999999999996,"2017-02-13",1.0389999999999999,"2017-02-14",0.66,"2017-02-09",0.5,"2017-02-13",3.75,"2017-02-09",2.7]
[null,null,null,null,"2017-02-08",1.7393000000000001,"2017-02-09",2.3948,"2017-02-09",2.4578000000000002,null,"2017-02-08",0.95699999999999996,"2017-02-10",1.0362199999999999,"2017-02-13",0.66,"2017-02-08",0.5,"2017-02-10",3.75,"2017-02-08",2.7]
[null,null,null,null,"2017-02-07",1.8104,"2017-02-08",2.3363,"2017-02-08",2.3837999999999999,null,"2017-02-07",0.95699999999999996,"2017-02-09",1.03372,"2017-02-10",0.66,"2017-02-07",0.5,"2017-02-09",3.75,"2017-02-07",2.7]
[null,null,null,null,"2017-02-06",1.8320000000000001,"2017-02-07",2.3931,"2017-02-07",2.4420999999999999,null,"2017-02-06",0.95699999999999996,"2017-02-08",1.03372,"2017-02-09",0.66,"2017-02-06",0.5,"2017-02-08",3.75,"2017-02-06",2.7]
[null,null,null,null,"2017-02-03",1.8915999999999999,"2017-02-06",2.4077000000000002,"2017-02-06",2.4657,null,"2017-02-03",0.95899999999999996,"2017-02-07",1.03817,"2017-02-08",0.66,"2017-02-03",0.5,"2017-02-07",3.75,"2017-02-03",2.7]
[null,null,null,null,"2017-02-02",1.8801000000000001,"2017-02-03",2.4647999999999999,"2017-02-03",2.5249999999999999,null,"2017-02-02",0.95899999999999996,"2017-02-06",1.03844,"2017-02-07",0.66,"2017-02-02",0.5,"2017-02-06",3.75,"2017-02-02",2.7]
[null,null,null,null,"2017-02-01",1.8879999999999999,"2017-02-02",2.4737,"2017-02-02",2.5253000000000001,null,"2017-02-01",0.96,"2017-02-03",1.034,"2017-02-06",0.66,"2017-02-01",0.5,"2017-02-03",3.75,"2017-02-01",2.7]
[null,null,null,null,"2017-01-31",1.8717999999999999,"2017-02-01",2.4699,"2017-02-01",2.5245000000000002,null,"2017-01-31",0.96,"2017-02-02",1.03372,"2017-02-03",0.66,"2017-01-31",0.5,"2017-02-02",3.75,"2017-01-31",2.7]
[null,null,null,null,"2017-01-30",1.9003000000000001,"2017-01-31",2.4531000000000001,"2017-01-31",2.5032999999999999,null,"2017-01-30",0.95699999999999996,"2017-02-01",1.0345599999999999,"2017-02-02",0.66,"2017-01-30",0.5,"2017-02-01",3.75,"2017-01-30",2.7]
[null,null,null,null,"2017-01-27",1.8947000000000001,"2017-01-30",2.4881000000000002,"2017-01-30",2.5487000000000002,null,"2017-01-27",0.95699999999999996,"2017-01-31",1.0345599999999999,"2017-02-01",0.66,"2017-01-27",0.5,"2017-01-31",3.75,"2017-01-27",2.7]
[null,null,null,null,"2017-01-26",1.9334,"2017-01-27",2.4843000000000002,"2017-01-27",2.5419,null,"2017-01-26",0.95599999999999996,"2017-01-30",1.034,"2017-01-31",0.56000000000000005,"2017-01-26",0.5,"2017-01-30",3.75,"2017-01-26",2.7]
[null,null,null,null,"2017-01-25",1.9379,"2017-01-26",2.5043000000000002,"2017-01-26",2.5541,null,"2017-01-25",0.95599999999999996,"2017-01-27",1.0389999999999999,"2017-01-30",0.66,"2017-01-25",0.5,"2017-01-27",3.75,"2017-01-25",2.7]
[null,null,null,null,"2017-01-24",1.8643000000000001,"2017-01-25",2.5116000000000001,"2017-01-25",2.5768,null,"2017-01-24",0.95399999999999996,"2017-01-26",1.0389999999999999,"2017-01-27",0.66,"2017-01-24",0.5,"2017-01-26",3.75,"2017-01-24",2.7]
[null,null,null,null,"2017-01-23",1.7927999999999999,"2017-01-24",2.4651999999999998,"2017-01-24",2.5125999999999999,null,"2017-01-23",0.95399999999999996,"2017-01-25",1.0373300000000001,"2017-01-26",0.66,"2017-01-23",0.5,"2017-01-25",3.75,"2017-01-23",2.7]
[null,null,null,null,"2017-01-20",1.8559000000000001,"2017-01-23",2.3971,"2017-01-23",2.4542999999999999,null,"2017-01-20",0.95399999999999996,"2017-01-24",1.0317799999999999,"2017-01-25",0.66,"2017-01-20",0.5,"2017-01-24",3.75,"2017-01-20",2.7]
[null,null,null,null,"2017-01-19",1.8646,"2017-01-20",2.4668000000000001,"2017-01-20",2.5213999999999999,null,"2017-01-19",0.95399999999999996,"2017-01-23",1.03789,"2017-01-24",0.66,"2017-01-19",0.5,"2017-01-23",3.75,"2017-01-19",2.7]
[null,null,null,null,"2017-01-18",1.8088,"2017-01-19",2.4739,"2017-01-19",2.5225,null,"2017-01-18",0.95599999999999996,"2017-01-20",1.0434399999999999,"2017-01-23",0.66,"2017-01-18",0.5,"2017-01-20",3.75,"2017-01-18",2.7]
[null,null,null,null,"2017-01-17",1.7686999999999999,"2017-01-18",2.4296000000000002,"2017-01-18",2.4830999999999999,null,"2017-01-17",0.95599999999999996,"2017-01-19",1.04122,"2017-01-20",0.66,"2017-01-17",0.5,"2017-01-19",3.75,"2017-01-17",2.7]
[null,null,null,null,"2017-01-16",1.7912999999999999,"2017-01-17",2.3252999999999999,"2017-01-17",2.3772000000000002,null,"2017-01-16",0.95599999999999996,"2017-01-18",1.0301100000000001,"2017-01-19",0.66,"2017-01-16",0.5,"2017-01-18",3.75,"2017-01-16",2.7]
[null,null,null,null,"2017-01-13",1.8177000000000001,"2017-01-13",2.3963999999999999,"2017-01-13",2.4453999999999998,null,"2017-01-13",0.95599999999999996,"2017-01-17",1.0248299999999999,"2017-01-18",0.66,"2017-01-13",0.5,"2017-01-17",3.75,"2017-01-13",2.7]
[null,null,null,null,"2017-01-12",1.7635000000000001,"2017-01-12",2.3631000000000002,"2017-01-12",2.4064999999999999,null,"2017-01-12",0.95199999999999996,"2017-01-16",1.02372,"2017-01-17",0.66,"2017-01-12",0.5,"2017-01-13",3.75,"2017-01-12",2.7]
[null,null,null,null,"2017-01-11",1.7863,"2017-01-11",2.3721000000000001,"2017-01-11",2.4192,null,"2017-01-11",0.95099999999999996,"2017-01-13",1.0231699999999999,"2017-01-13",0.66,"2017-01-11",0.5,"2017-01-12",3.75,"2017-01-11",2.7]
[null,null,null,null,"2017-01-10",1.7923,"2017-01-10",2.3757000000000001,"2017-01-10",2.4281000000000001,null,"2017-01-10",0.95099999999999996,"2017-01-12",1.0217799999999999,"2017-01-12",0.66,"2017-01-10",0.5,"2017-01-11",3.75,"2017-01-10",2.7]
[null,null,null,null,"2017-01-09",1.8053999999999999,"2017-01-09",2.3647,"2017-01-09",2.4222000000000001,null,"2017-01-09",0.94699999999999995,"2017-01-11",1.0217799999999999,"2017-01-11",0.66,"2017-01-09",0.5,"2017-01-10",3.75,"2017-01-09",2.7]
[null,null,null,null,"2017-01-06",1.8381000000000001,"2017-01-06",2.4192999999999998,"2017-01-06",2.4746999999999999,null,"2017-01-06",0.94499999999999995,"2017-01-10",1.01789,"2017-01-10",0.66,"2017-01-06",0.5,"2017-01-09",3.75,"2017-01-06",2.7]
[null,null,null,null,"2017-01-05",1.7768999999999999,"2017-01-05",2.3443000000000001,"2017-01-05",2.4157000000000002,null,"2017-01-05",0.94499999999999995,"2017-01-09",1.0148299999999999,"2017-01-09",0.66,"2017-01-05",0.5,"2017-01-06",3.75,"2017-01-05",2.7]
[null,null,null,null,"2017-01-04",1.8218000000000001,"2017-01-04",2.4390000000000001,"2017-01-04",2.4954999999999998,null,"2017-01-04",0.94699999999999995,"2017-01-06",1.0101100000000001,"2017-01-06",0.66,"2017-01-04",0.5,"2017-01-05",3.75,"2017-01-04",2.7]
[null,null,null,null,"2017-01-03",1.8536999999999999,"2017-01-03",2.4443999999999999,"2017-01-03",2.5099999999999998,null,"2017-01-03",0.95,"2017-01-05",1.00928,"2017-01-05",0.66,"2017-01-03",0.5,"2017-01-04",3.75,"2017-01-03",2.7]
[null,null,null,null,null,null,null,null,null,null,null,null,null,"2017-01-04",1.0051099999999999,"2017-01-04",0.66,null,null,"2017-01-03",3.75]
[null,null,null,null,null,null,null,null,null,null,null,null,null,"2017-01-03",0.99872000000000005,"2017-01-03",0.66]

{"sheet":"CAD","index":8,"n_rows":266,"n_cols":23,"rows_kept":266,"cut":false,"hidden":false,"merged":[]}
[]
[null,"TAB: CURRENCY SPOT AND FORWARD FX RATES"]
[]
[null,"CAD",null,"CAD12M",null,"CAD2Y",null,"CAD3Y",null,"CAD4Y",null,"CAD5Y",null,"CAD6Y",null,"CAD7Y",null,"CAD8Y",null,"CAD9Y",null,"CAD10Y"]
[]
[null,"Date","Last Price","Date","Last Price","Date","Last Price","Date","Last Price","Date","Last Price","Date","Last Price","Date","Last Price","Date","Last Price","Date","Last Price","Date","Last Price","Date","Last Price"]
[null,"2017-12-29",1.2571000000000001,"2017-12-29",1.25329,"2017-12-29",1.2513000000000001,"2017-12-29",1.2490300000000001,"2017-12-29",1.2489349999999999,"2017-12-29",1.2493700000000001,"2017-12-29",1.2524,"2017-12-29",1.24952,"2017-12-29",1.2500899999999999,"2017-12-28",1.249201,"2017-12-28",1.24963]
[null,"2017-12-28",1.2569999999999999,"2017-12-28",1.252556,"2017-12-28",1.2503500000000001,"2017-12-28",1.2485999999999999,"2017-12-28",1.2478800000000001,"2017-12-28",1.24756,"2017-12-28",1.2502500000000001,"2017-12-28",1.246575,"2017-12-28",1.2466999999999999,"2017-12-27",1.2534099999999999,"2017-12-27",1.2545299999999999]
[null,"2017-12-27",1.2655000000000001,"2017-12-27",1.260807,"2017-12-27",1.2584500000000001,"2017-12-27",1.256445,"2017-12-27",1.25458,"2017-12-27",1.2535499999999999,"2017-12-27",1.25535,"2017-12-27",1.251835,"2017-12-27",1.25186,"2017-12-22",1.257093,"2017-12-22",1.2587999999999999]
[null,"2017-12-26",1.2686999999999999,"2017-12-26",1.2636700000000001,"2017-12-26",1.26095,"2017-12-26",1.258265,"2017-12-26",1.25671,"2017-12-26",1.255755,"2017-12-26",1.2571829999999999,"2017-12-26",1.2542199999999999,"2017-12-26",1.25417,"2017-12-21",1.25888,"2017-12-21",1.2596400000000001]
[null,"2017-12-25",1.2726999999999999,"2017-12-25",1.2676499999999999,"2017-12-25",1.26495,"2017-12-25",1.2620800000000001,"2017-12-25",1.2601279999999999,"2017-12-25",1.2592449999999999,"2017-12-25",1.2603,"2017-12-25",1.2567200000000001,"2017-12-25",1.2569699999999999,"2017-12-20",1.2623200000000001,"2017-12-20",1.2624200000000001]
[null,"2017-12-22",1.2728999999999999,"2017-12-22",1.2678430000000001,"2017-12-22",1.2650999999999999,"2017-12-22",1.26207,"2017-12-22",1.260472,"2017-12-22",1.2594099999999999,"2017-12-22",1.25813,"2017-12-22",1.2571000000000001,"2017-12-22",1.2570950000000001,"2017-12-19",1.2645900000000001,"2017-12-19",1.2648999999999999]
[null,"2017-12-21",1.274,"2017-12-21",1.2691509999999999,"2017-12-21",1.2664500000000001,"2017-12-21",1.2645150000000001,"2017-12-21",1.2631600000000001,"2017-12-21",1.26189,"2017-12-21",1.2636000000000001,"2017-12-21",1.2592699999999999,"2017-12-21",1.2587299999999999,"2017-12-18",1.2612909999999999,"2017-12-18",1.26081]
[null,"2017-12-20",1.2835000000000001,"2017-12-20",1.2785299999999999,"2017-12-20",1.2752699999999999,"2017-12-20",1.2725,"2017-12-20",1.27027,"2017-12-20",1.26854,"2017-12-20",1.27,"2017-12-20",1.2647349999999999,"2017-12-20",1.26318,"2017-12-15",1.2623800000000001,"2017-12-15",1.2627999999999999]
[null,"2017-12-19",1.2878000000000001,"2017-12-19",1.2824180000000001,"2017-12-19",1.27868,"2017-12-19",1.27559,"2017-12-19",1.27271,"2017-12-19",1.270562,"2017-12-19",1.2716499999999999,"2017-12-19",1.2661,"2017-12-19",1.2647299999999999,"2017-12-14",1.2578609999999999,"2017-12-14",1.258043]
[null,"2017-12-18",1.2862,"2017-12-18",1.2803469999999999,"2017-12-18",1.276645,"2017-12-18",1.27325,"2017-12-18",1.2702100000000001,"2017-12-18",1.26755,"2017-12-18",1.2690999999999999,"2017-12-18",1.26373,"2017-12-18",1.2618799999999999,"2017-12-13",1.2589109999999999,"2017-12-13",1.2593190000000001]
[null,"2017-12-15",1.2866,"2017-12-15",1.280451,"2017-12-15",1.2766500000000001,"2017-12-15",1.27329,"2017-12-15",1.270165,"2017-12-15",1.267525,"2017-12-15",1.2692000000000001,"2017-12-15",1.26285,"2017-12-15",1.2623899999999999,"2017-12-12",1.2604599999999999,"2017-12-12",1.2599499999999999]
[null,"2017-12-14",1.2797000000000001,"2017-12-14",1.2739229999999999,"2017-12-14",1.2703150000000001,"2017-12-14",1.267325,"2017-12-14",1.2642599999999999,"2017-12-14",1.2619199999999999,"2017-12-14",1.2632000000000001,"2017-12-14",1.2591600000000001,"2017-12-14",1.25831,"2017-12-11",1.2616419999999999,"2017-12-11",1.2622119999999999]
[null,"2017-12-13",1.2817000000000001,"2017-12-13",1.2758929999999999,"2017-12-13",1.27169,"2017-12-13",1.2686200000000001,"2017-12-13",1.26545,"2017-12-13",1.2629999999999999,"2017-12-13",1.2641,"2017-12-13",1.259015,"2017-12-13",1.25874,"2017-12-08",1.2616879999999999,"2017-12-08",1.2616799999999999]
[null,"2017-12-12",1.2866,"2017-12-12",1.2806219999999999,"2017-12-12",1.2759750000000001,"2017-12-12",1.2723599999999999,"2017-12-12",1.2691600000000001,"2017-12-12",1.2666299999999999,"2017-12-12",1.26387,"2017-12-12",1.2621800000000001,"2017-12-12",1.2610349999999999,"2017-12-07",1.2619899999999999,"2017-12-07",1.2620899999999999]
[null,"2017-12-11",1.2856000000000001,"2017-12-11",1.2798,"2017-12-11",1.27542,"2017-12-11",1.271895,"2017-12-11",1.2686500000000001,"2017-12-11",1.2663899999999999,"2017-12-11",1.268,"2017-12-11",1.2634449999999999,"2017-12-11",1.26275,"2017-12-06",1.25901,"2017-12-06",1.2599899999999999]
[null,"2017-12-08",1.2847999999999999,"2017-12-08",1.2790729999999999,"2017-12-08",1.2748999999999999,"2017-12-08",1.2716750000000001,"2017-12-08",1.26877,"2017-12-08",1.2665500000000001,"2017-12-08",1.2660450000000001,"2017-12-08",1.2630300000000001,"2017-12-08",1.26193,"2017-12-05",1.25156,"2017-12-05",1.25282]
[null,"2017-12-07",1.2854000000000001,"2017-12-07",1.27962,"2017-12-07",1.2754000000000001,"2017-12-07",1.272143,"2017-12-07",1.269355,"2017-12-07",1.266715,"2017-12-07",1.2685999999999999,"2017-12-07",1.26335,"2017-12-07",1.262165,"2017-12-04",1.2520309999999999,"2017-12-04",1.253398]
[null,"2017-12-06",1.2788999999999999,"2017-12-06",1.2732969999999999,"2017-12-06",1.2690699999999999,"2017-12-06",1.2662500000000001,"2017-12-06",1.2637799999999999,"2017-12-06",1.2617,"2017-12-06",1.2633000000000001,"2017-12-06",1.2584500000000001,"2017-12-06",1.25728,"2017-12-01",1.2535700000000001,"2017-12-01",1.2579199999999999]
[null,"2017-12-05",1.2690999999999999,"2017-12-05",1.2641500000000001,"2017-12-05",1.2607999999999999,"2017-12-05",1.2576400000000001,"2017-12-05",1.2553399999999999,"2017-12-05",1.2537700000000001,"2017-12-05",1.2552000000000001,"2017-12-05",1.2509399999999999,"2017-12-05",1.2499899999999999,"2017-11-30",1.2660499999999999,"2017-11-30",1.2673399999999999]
[null,"2017-12-04",1.2673000000000001,"2017-12-04",1.26281,"2017-12-04",1.2597,"2017-12-04",1.25685,"2017-12-04",1.25485,"2017-12-04",1.2536499999999999,"2017-12-04",1.2547999999999999,"2017-12-04",1.25126,"2017-12-04",1.2507600000000001,"2017-11-29",1.2656499999999999,"2017-11-29",1.26708]
[null,"2017-12-01",1.2685,"2017-12-01",1.2640469999999999,"2017-12-01",1.2605599999999999,"2017-12-01",1.2577499999999999,"2017-12-01",1.25559,"2017-12-01",1.253895,"2017-12-01",1.2555000000000001,"2017-12-01",1.2520500000000001,"2017-12-01",1.2523550000000001,"2017-11-28",1.2631300000000001,"2017-11-28",1.26319]
[null,"2017-11-30",1.2897000000000001,"2017-11-30",1.283787,"2017-11-30",1.2789200000000001,"2017-11-30",1.2750250000000001,"2017-11-30",1.2721899999999999,"2017-11-30",1.26945,"2017-11-30",1.268435,"2017-11-30",1.2659100000000001,"2017-11-30",1.26515,"2017-11-27",1.2598879999999999,"2017-11-27",1.2609509999999999]
[null,"2017-11-29",1.2865,"2017-11-29",1.280869,"2017-11-29",1.2765500000000001,"2017-11-29",1.2731950000000001,"2017-11-29",1.27014,"2017-11-29",1.2682500000000001,"2017-11-29",1.2687999999999999,"2017-11-29",1.2647299999999999,"2017-11-29",1.2640400000000001,"2017-11-24",1.2530600000000001,"2017-11-24",1.25448]
[null,"2017-11-28",1.2815000000000001,"2017-11-28",1.2759259999999999,"2017-11-28",1.271736,"2017-11-28",1.2683,"2017-11-28",1.26566,"2017-11-28",1.263665,"2017-11-28",1.263425,"2017-11-28",1.26105,"2017-11-28",1.2609999999999999,"2017-11-23",1.25651,"2017-11-23",1.2574099999999999]
[null,"2017-11-27",1.2768999999999999,"2017-11-27",1.2714259999999999,"2017-11-27",1.2671730000000001,"2017-11-27",1.26461,"2017-11-27",1.262305,"2017-11-27",1.2609349999999999,"2017-11-27",1.2617,"2017-11-27",1.2587999999999999,"2017-11-27",1.2589399999999999,"2017-11-22",1.25563,"2017-11-22",1.2572399999999999]
[null,"2017-11-24",1.2712000000000001,"2017-11-24",1.2659,"2017-11-24",1.2616620000000001,"2017-11-24",1.25885,"2017-11-24",1.256537,"2017-11-24",1.25468,"2017-11-24",1.2554000000000001,"2017-11-24",1.2525500000000001,"2017-11-23",1.25722,"2017-11-21",1.261666,"2017-11-21",1.2633000000000001]
[null,"2017-11-23",1.2713000000000001,"2017-11-23",1.266103,"2017-11-23",1.2623200000000001,"2017-11-23",1.2589429999999999,"2017-11-23",1.257655,"2017-11-23",1.256375,"2017-11-23",1.2563150000000001,"2017-11-23",1.2540150000000001,"2017-11-22",1.2557100000000001,"2017-11-20",1.270729,"2017-11-20",1.2730159999999999]
[null,"2017-11-22",1.2696000000000001,"2017-11-22",1.2645489999999999,"2017-11-22",1.2608550000000001,"2017-11-22",1.2583500000000001,"2017-11-22",1.256165,"2017-11-22",1.25535,"2017-11-22",1.2557449999999999,"2017-11-22",1.2546550000000001,"2017-11-21",1.2599750000000001,"2017-11-17",1.26528,"2017-11-17",1.2674799999999999]
[null,"2017-11-21",1.2778,"2017-11-21",1.27254,"2017-11-21",1.2683,"2017-11-21",1.2648250000000001,"2017-11-21",1.2624930000000001,"2017-11-21",1.260999,"2017-11-21",1.2623,"2017-11-21",1.2599,"2017-11-20",1.2676050000000001,"2017-11-16",1.264791,"2017-11-16",1.2669809999999999]
[null,"2017-11-20",1.282,"2017-11-20",1.27701,"2017-11-20",1.27328,"2017-11-20",1.2704249999999999,"2017-11-20",1.2687250000000001,"2017-11-20",1.267655,"2017-11-20",1.267925,"2017-11-20",1.2666900000000001,"2017-11-17",1.26309,"2017-11-15",1.2666379999999999,"2017-11-15",1.2676190000000001]
[null,"2017-11-17",1.2763,"2017-11-17",1.271469,"2017-11-17",1.268157,"2017-11-17",1.2656430000000001,"2017-11-17",1.2641929999999999,"2017-11-17",1.26335,"2017-11-17",1.2649999999999999,"2017-11-17",1.26295,"2017-11-16",1.26369,"2017-11-14",1.263028,"2017-11-14",1.2650889999999999]
[null,"2017-11-16",1.2757000000000001,"2017-11-16",1.271131,"2017-11-16",1.26797,"2017-11-16",1.265787,"2017-11-16",1.2644850000000001,"2017-11-16",1.2637700000000001,"2017-11-16",1.2657,"2017-11-16",1.263657,"2017-11-15",1.26508,"2017-11-13",1.260489,"2017-11-13",1.2623500000000001]
[null,"2017-11-15",1.2764,"2017-11-15",1.271889,"2017-11-15",1.26857,"2017-11-15",1.2664500000000001,"2017-11-15",1.26522,"2017-11-15",1.2645,"2017-11-15",1.2659,"2017-11-15",1.2643,"2017-11-14",1.2617100000000001,"2017-11-10",1.2565059999999999,"2017-11-10",1.2595019999999999]
[null,"2017-11-14",1.2730999999999999,"2017-11-14",1.2686599999999999,"2017-11-14",1.26545,"2017-11-14",1.2633049999999999,"2017-11-14",1.26237,"2017-11-14",1.2615099999999999,"2017-11-14",1.2625,"2017-11-14",1.2611300000000001,"2017-11-13",1.25857,"2017-11-09",1.2656000000000001,"2017-11-09",1.2604200000000001]
[null,"2017-11-13",1.2733000000000001,"2017-11-13",1.2687999999999999,"2017-11-13",1.265485,"2017-11-13",1.26312,"2017-11-13",1.2614449999999999,"2017-11-13",1.2602,"2017-11-13",1.2614000000000001,"2017-11-13",1.2586599999999999,"2017-11-10",1.2548950000000001,"2017-11-08",1.2681,"2017-11-08",1.26396]
[null,"2017-11-10",1.2682,"2017-11-10",1.263925,"2017-11-10",1.2609269999999999,"2017-11-10",1.25892,"2017-11-10",1.25759,"2017-11-10",1.2563299999999999,"2017-11-10",1.2575000000000001,"2017-11-10",1.2550600000000001,"2017-11-09",1.2568999999999999,"2017-11-07",1.2741499999999999,"2017-11-07",1.2696940000000001]
[null,"2017-11-09",1.2683,"2017-11-09",1.2641,"2017-11-09",1.26125,"2017-11-09",1.259457,"2017-11-09",1.2582,"2017-11-09",1.25732,"2017-11-09",1.2589999999999999,"2017-11-09",1.256745,"2017-11-08",1.2607649999999999,"2017-11-06",1.268,"2017-11-06",1.26427]
[null,"2017-11-08",1.2728999999999999,"2017-11-08",1.2685109999999999,"2017-11-08",1.265225,"2017-11-08",1.2629699999999999,"2017-11-08",1.2617750000000001,"2017-11-08",1.26084,"2017-11-08",1.2611600000000001,"2017-11-08",1.26061,"2017-11-07",1.2652300000000001,"2017-11-03",1.2746999999999999,"2017-11-03",1.271828]
[null,"2017-11-07",1.2777000000000001,"2017-11-07",1.2733000000000001,"2017-11-07",1.2699499999999999,"2017-11-07",1.267415,"2017-11-07",1.2658100000000001,"2017-11-07",1.26492,"2017-11-07",1.2668999999999999,"2017-11-07",1.264505,"2017-11-06",1.2607299999999999,"2017-11-02",1.2774000000000001,"2017-11-02",1.27356]
[null,"2017-11-06",1.2704,"2017-11-06",1.2664139999999999,"2017-11-06",1.26355,"2017-11-06",1.26145,"2017-11-06",1.2605,"2017-11-06",1.2600899999999999,"2017-11-06",1.2613000000000001,"2017-11-06",1.2596400000000001,"2017-11-03",1.26844,"2017-11-01",1.282,"2017-11-01",1.279317]
[null,"2017-11-03",1.2764,"2017-11-03",1.272699,"2017-11-03",1.2702500000000001,"2017-11-03",1.2686500000000001,"2017-11-03",1.26793,"2017-11-03",1.2677,"2017-11-03",1.2696000000000001,"2017-11-03",1.26786,"2017-11-02",1.27115,"2017-10-31",1.27885,"2017-10-31",1.28146]
[null,"2017-11-02",1.2808999999999999,"2017-11-02",1.276913,"2017-11-02",1.2742800000000001,"2017-11-02",1.27261,"2017-11-02",1.27112,"2017-11-02",1.2706500000000001,"2017-11-02",1.2723,"2017-11-02",1.27016,"2017-11-01",1.2752399999999999,"2017-10-30",1.2737480000000001,"2017-10-30",1.276114]
[null,"2017-11-01",1.2865,"2017-11-01",1.2824770000000001,"2017-11-01",1.2795350000000001,"2017-11-01",1.27749,"2017-11-01",1.27654,"2017-11-01",1.2757799999999999,"2017-11-01",1.2778,"2017-11-01",1.2751650000000001,"2017-10-31",1.27616,"2017-10-27",1.2675799999999999,"2017-10-27",1.26946]
[null,"2017-10-31",1.2887999999999999,"2017-10-31",1.28477,"2017-10-31",1.28165,"2017-10-31",1.2792399999999999,"2017-10-31",1.2779199999999999,"2017-10-31",1.2766,"2017-10-31",1.2782,"2017-10-31",1.2759750000000001,"2017-10-30",1.2721800000000001,"2017-10-26",1.2711030000000001,"2017-10-26",1.27305]
[null,"2017-10-30",1.2833000000000001,"2017-10-30",1.2795799999999999,"2017-10-30",1.276605,"2017-10-30",1.2745899999999999,"2017-10-30",1.27397,"2017-10-30",1.2726,"2017-10-30",1.2743,"2017-10-30",1.2721,"2017-10-27",1.2683599999999999,"2017-10-25",1.2778499999999999,"2017-10-25",1.2688200000000001]
[null,"2017-10-27",1.2807999999999999,"2017-10-27",1.277129,"2017-10-27",1.2742,"2017-10-27",1.2722199999999999,"2017-10-27",1.2713099999999999,"2017-10-27",1.2702599999999999,"2017-10-27",1.2708999999999999,"2017-10-27",1.2677499999999999,"2017-10-26",1.2705,"2017-10-24",1.2678499999999999,"2017-10-24",1.2648299999999999]
[null,"2017-10-26",1.2847,"2017-10-26",1.2811360000000001,"2017-10-26",1.2782150000000001,"2017-10-26",1.277193,"2017-10-26",1.2740800000000001,"2017-10-26",1.27318,"2017-10-26",1.2746,"2017-10-26",1.2714099999999999,"2017-10-25",1.26847,"2017-10-23",1.2625999999999999,"2017-10-23",1.26231]
[null,"2017-10-25",1.2796000000000001,"2017-10-25",1.2763629999999999,"2017-10-25",1.273744,"2017-10-25",1.2720899999999999,"2017-10-25",1.2716400000000001,"2017-10-25",1.2701499999999999,"2017-10-25",1.2714000000000001,"2017-10-25",1.2685949999999999,"2017-10-24",1.2597799999999999,"2017-10-20",1.25644,"2017-10-20",1.26027]
[null,"2017-10-24",1.2675000000000001,"2017-10-24",1.264867,"2017-10-24",1.262745,"2017-10-24",1.2614449999999999,"2017-10-24",1.26065,"2017-10-24",1.2606850000000001,"2017-10-24",1.262,"2017-10-24",1.2599499999999999,"2017-10-23",1.2592049999999999,"2017-10-19",1.2491399999999999,"2017-10-19",1.2514400000000001]
[null,"2017-10-23",1.2646999999999999,"2017-10-23",1.2620180000000001,"2017-10-23",1.259978,"2017-10-23",1.2590749999999999,"2017-10-23",1.25865,"2017-10-23",1.2588699999999999,"2017-10-23",1.2593000000000001,"2017-10-23",1.258875,"2017-10-20",1.2553749999999999,"2017-10-18",1.2538,"2017-10-18",1.2501]
[null,"2017-10-20",1.2626999999999999,"2017-10-20",1.2599899999999999,"2017-10-20",1.2579199999999999,"2017-10-20",1.2565850000000001,"2017-10-20",1.2557499999999999,"2017-10-20",1.2559450000000001,"2017-10-20",1.25566,"2017-10-20",1.2548999999999999,"2017-10-19",1.2478400000000001,"2017-10-17",1.2547299999999999,"2017-10-17",1.25715]
[null,"2017-10-19",1.2484999999999999,"2017-10-19",1.2463900000000001,"2017-10-19",1.245112,"2017-10-19",1.244575,"2017-10-19",1.24482,"2017-10-19",1.2460329999999999,"2017-10-19",1.2479,"2017-10-19",1.2462,"2017-10-18",1.2458800000000001,"2017-10-16",1.2658499999999999,"2017-10-16",1.25911]
[null,"2017-10-18",1.2466999999999999,"2017-10-18",1.24461,"2017-10-18",1.24325,"2017-10-18",1.2432700000000001,"2017-10-18",1.24258,"2017-10-18",1.243355,"2017-10-18",1.2448999999999999,"2017-10-18",1.244645,"2017-10-17",1.2525999999999999,"2017-10-13",1.2568999999999999,"2017-10-13",1.25813]
[null,"2017-10-17",1.2522,"2017-10-17",1.2501599999999999,"2017-10-17",1.24895,"2017-10-17",1.24848,"2017-10-17",1.24966,"2017-10-17",1.2503249999999999,"2017-10-16",1.2532000000000001,"2017-10-17",1.2523299999999999,"2017-10-16",1.25319,"2017-10-12",1.2557799999999999,"2017-10-12",1.2585999999999999]
[null,"2017-10-16",1.2518,"2017-10-16",1.2500500000000001,"2017-10-16",1.24905,"2017-10-16",1.24895,"2017-10-16",1.25024,"2017-10-16",1.250534,"2017-10-13",1.2516,"2017-10-16",1.252365,"2017-10-13",1.252845,"2017-10-11",1.2533700000000001,"2017-10-11",1.2562899999999999]
[null,"2017-10-13",1.2467999999999999,"2017-10-13",1.24552,"2017-10-13",1.2452300000000001,"2017-10-13",1.2459499999999999,"2017-10-13",1.247015,"2017-10-13",1.24878,"2017-10-12",1.2493399999999999,"2017-10-13",1.2509600000000001,"2017-10-12",1.2522800000000001,"2017-10-10",1.25797,"2017-10-10",1.26101]
[null,"2017-10-12",1.2475000000000001,"2017-10-12",1.2462500000000001,"2017-10-12",1.2456700000000001,"2017-10-12",1.2463299999999999,"2017-10-12",1.2472300000000001,"2017-10-12",1.2483900000000001,"2017-10-11",1.24695,"2017-10-12",1.2506900000000001,"2017-10-11",1.24993,"2017-10-06",1.25813,"2017-10-06",1.26017]
[null,"2017-10-11",1.2458,"2017-10-11",1.2444599999999999,"2017-10-11",1.2440850000000001,"2017-10-11",1.24468,"2017-10-11",1.2450300000000001,"2017-10-11",1.2462299999999999,"2017-10-10",1.2519979999999999,"2017-10-11",1.2484,"2017-10-10",1.2549319999999999,"2017-10-05",1.260621,"2017-10-05",1.2631399999999999]
[null,"2017-10-10",1.2515000000000001,"2017-10-10",1.2501,"2017-10-10",1.2495000000000001,"2017-10-10",1.2498499999999999,"2017-10-10",1.25065,"2017-10-10",1.251395,"2017-10-09",1.2556069999999999,"2017-10-10",1.2534959999999999,"2017-10-09",1.258418,"2017-10-04",1.254904,"2017-10-04",1.25667]
[null,"2017-10-09",1.2551000000000001,"2017-10-09",1.25376,"2017-10-09",1.25325,"2017-10-09",1.2533639999999999,"2017-10-09",1.254151,"2017-10-09",1.255193,"2017-10-06",1.2532700000000001,"2017-10-09",1.256926,"2017-10-06",1.255995,"2017-10-03",1.2567710000000001,"2017-10-03",1.259736]
[null,"2017-10-06",1.2528999999999999,"2017-10-06",1.25162,"2017-10-06",1.25098,"2017-10-06",1.2516350000000001,"2017-10-06",1.2524900000000001,"2017-10-05",1.2555149999999999,"2017-10-05",1.2558499999999999,"2017-10-06",1.25451,"2017-10-05",1.25806,"2017-10-02",1.257808,"2017-10-02",1.260451]
[null,"2017-10-05",1.2565,"2017-10-05",1.2548600000000001,"2017-10-05",1.2543800000000001,"2017-10-05",1.2548950000000001,"2017-10-05",1.25501,"2017-10-04",1.2495700000000001,"2017-10-04",1.2503,"2017-10-05",1.25691,"2017-10-04",1.25332,"2017-09-29",1.25345,"2017-09-29",1.25509]
[null,"2017-10-04",1.2476,"2017-10-04",1.2462299999999999,"2017-10-04",1.2461150000000001,"2017-10-04",1.24701,"2017-10-04",1.24803,"2017-10-03",1.2495799999999999,"2017-10-03",1.25023,"2017-10-04",1.25207,"2017-10-03",1.25278,"2017-09-28",1.251792,"2017-09-28",1.2548999999999999]
[null,"2017-10-03",1.2486999999999999,"2017-10-03",1.2474350000000001,"2017-10-03",1.24735,"2017-10-03",1.2478769999999999,"2017-10-03",1.2488300000000001,"2017-10-02",1.25268,"2017-10-02",1.2534099999999999,"2017-10-03",1.2514400000000001,"2017-10-02",1.256,"2017-09-27",1.2594190000000001,"2017-09-27",1.262575]
[null,"2017-10-02",1.2507999999999999,"2017-10-02",1.2495099999999999,"2017-10-02",1.2495499999999999,"2017-10-02",1.2502549999999999,"2017-10-02",1.25145,"2017-09-29",1.24733,"2017-09-29",1.2477799999999999,"2017-10-02",1.254888,"2017-09-29",1.2501,"2017-09-26",1.25244,"2017-09-26",1.255568]
[null,"2017-09-29",1.2472000000000001,"2017-09-29",1.2460899999999999,"2017-09-29",1.2458499999999999,"2017-09-29",1.2461100000000001,"2017-09-29",1.246685,"2017-09-28",1.247185,"2017-09-28",1.2480199999999999,"2017-09-29",1.2490699999999999,"2017-09-28",1.2511000000000001,"2017-09-25",1.2530600000000001,"2017-09-25",1.2556400000000001]
[null,"2017-09-28",1.2427999999999999,"2017-09-28",1.24203,"2017-09-28",1.2423500000000001,"2017-09-28",1.2442,"2017-09-28",1.24576,"2017-09-27",1.2519199999999999,"2017-09-27",1.25295,"2017-09-28",1.249593,"2017-09-27",1.25624,"2017-09-22",1.2484599999999999,"2017-09-22",1.25122]
[null,"2017-09-27",1.2477,"2017-09-27",1.2468999999999999,"2017-09-26",1.2361500000000001,"2017-09-27",1.2494400000000001,"2017-09-27",1.25075,"2017-09-26",1.2425299999999999,"2017-09-26",1.2444900000000001,"2017-09-27",1.254875,"2017-09-26",1.24892,"2017-09-21",1.2459100000000001,"2017-09-21",1.24919]
[null,"2017-09-26",1.2349000000000001,"2017-09-26",1.2347269999999999,"2017-09-25",1.2384999999999999,"2017-09-26",1.2381899999999999,"2017-09-26",1.24085,"2017-09-25",1.2455099999999999,"2017-09-25",1.24736,"2017-09-26",1.2467900000000001,"2017-09-25",1.25163,"2017-09-20",1.2440899999999999,"2017-09-20",1.24743]
[null,"2017-09-25",1.2371000000000001,"2017-09-25",1.2368779999999999,"2017-09-22",1.2353749999999999,"2017-09-25",1.2407900000000001,"2017-09-25",1.2435499999999999,"2017-09-22",1.241125,"2017-09-22",1.2428999999999999,"2017-09-25",1.249665,"2017-09-22",1.2475700000000001,"2017-09-19",1.2423500000000001,"2017-09-19",1.245385]
[null,"2017-09-22",1.2339,"2017-09-22",1.2338199999999999,"2017-09-21",1.2337100000000001,"2017-09-22",1.237495,"2017-09-22",1.2394499999999999,"2017-09-21",1.2378199999999999,"2017-09-21",1.23922,"2017-09-22",1.2452399999999999,"2017-09-21",1.24305,"2017-09-18",1.2465250000000001,"2017-09-18",1.2490600000000001]
[null,"2017-09-21",1.2326999999999999,"2017-09-21",1.2324999999999999,"2017-09-20",1.23343,"2017-09-21",1.23525,"2017-09-21",1.23685,"2017-09-20",1.2376549999999999,"2017-09-20",1.2385349999999999,"2017-09-21",1.2412749999999999,"2017-09-20",1.2421599999999999,"2017-09-15",1.2380949999999999,"2017-09-15",1.24139]
[null,"2017-09-20",1.2323,"2017-09-20",1.2320869999999999,"2017-09-19",1.2304649999999999,"2017-09-20",1.2350000000000001,"2017-09-20",1.236415,"2017-09-19",1.236145,"2017-09-19",1.2375700000000001,"2017-09-20",1.2406900000000001,"2017-09-19",1.24146,"2017-09-14",1.234545,"2017-09-14",1.23759]
[null,"2017-09-19",1.2292000000000001,"2017-09-19",1.2290350000000001,"2017-09-18",1.2309380000000001,"2017-09-19",1.2327900000000001,"2017-09-19",1.2348429999999999,"2017-09-18",1.2364999999999999,"2017-09-18",1.2287999999999999,"2017-09-19",1.2395750000000001,"2017-09-18",1.2290000000000001,"2017-09-13",1.23736,"2017-09-13",1.2403550000000001]
[null,"2017-09-18",1.2291000000000001,"2017-09-18",1.22923,"2017-09-15",1.2230799999999999,"2017-09-18",1.23305,"2017-09-18",1.234955,"2017-09-15",1.229895,"2017-09-15",1.2314400000000001,"2017-09-18",1.2287999999999999,"2017-09-15",1.235735,"2017-09-12",1.2385600000000001,"2017-09-12",1.2417400000000001]
[null,"2017-09-15",1.2198,"2017-09-15",1.22045,"2017-09-14",1.2197499999999999,"2017-09-15",1.2254149999999999,"2017-09-15",1.2278549999999999,"2017-09-14",1.22665,"2017-09-14",1.2284999999999999,"2017-09-15",1.2336800000000001,"2017-09-14",1.2322949999999999,"2017-09-11",1.23289,"2017-09-11",1.2360150000000001]
[null,"2017-09-14",1.2164999999999999,"2017-09-14",1.217211,"2017-09-13",1.22078,"2017-09-14",1.2222200000000001,"2017-09-14",1.22489,"2017-09-13",1.22922,"2017-09-13",1.2309349999999999,"2017-09-14",1.2305299999999999,"2017-09-13",1.2345550000000001,"2017-09-08",1.2426600000000001,"2017-09-08",1.2473700000000001]
[null,"2017-09-13",1.2172000000000001,"2017-09-13",1.2179599999999999,"2017-09-12",1.222,"2017-09-13",1.2234,"2017-09-13",1.22662,"2017-09-12",1.2302999999999999,"2017-09-12",1.2321200000000001,"2017-09-13",1.23272,"2017-09-12",1.2361949999999999,"2017-09-07",1.23584,"2017-09-07",1.2397050000000001]
[null,"2017-09-12",1.2185999999999999,"2017-09-12",1.219425,"2017-09-11",1.21506,"2017-09-12",1.2249000000000001,"2017-09-12",1.2278100000000001,"2017-09-11",1.223495,"2017-09-11",1.22553,"2017-09-12",1.2341899999999999,"2017-09-11",1.2300450000000001,"2017-09-06",1.2413000000000001,"2017-09-05",1.2579499999999999]
[null,"2017-09-11",1.2110000000000001,"2017-09-11",1.2120040000000001,"2017-09-08",1.2203999999999999,"2017-09-11",1.2178599999999999,"2017-09-11",1.2210099999999999,"2017-09-08",1.230745,"2017-09-08",1.233905,"2017-09-11",1.22787,"2017-09-08",1.2399100000000001,"2017-09-05",1.25376,"2017-09-04",1.2582899999999999]
[null,"2017-09-08",1.2159,"2017-09-08",1.217122,"2017-09-07",1.2146600000000001,"2017-09-08",1.223805,"2017-09-08",1.22773,"2017-09-07",1.2240899999999999,"2017-09-07",1.2268399999999999,"2017-09-08",1.23678,"2017-09-07",1.2324850000000001,"2017-09-04",1.2544200000000001,"2017-09-01",1.2535000000000001]
[null,"2017-09-07",1.2115,"2017-09-07",1.2122200000000001,"2017-09-06",1.2244200000000001,"2017-09-07",1.2174,"2017-09-07",1.2212499999999999,"2017-09-06",1.2317549999999999,"2017-09-06",1.2359,"2017-09-07",1.2299500000000001,"2017-09-06",1.2424299999999999,"2017-09-01",1.249428,"2017-08-30",1.268615]
[null,"2017-09-06",1.2225999999999999,"2017-09-06",1.222585,"2017-09-05",1.23672,"2017-09-06",1.2281299999999999,"2017-09-06",1.2294799999999999,"2017-09-05",1.24343,"2017-09-05",1.2458,"2017-09-06",1.2357800000000001,"2017-09-05",1.2505599999999999,"2017-08-31",1.25543,"2017-08-29",1.2614300000000001]
[null,"2017-09-05",1.2374000000000001,"2017-09-05",1.2360599999999999,"2017-09-04",1.24028,"2017-09-05",1.23912,"2017-09-05",1.24105,"2017-09-04",1.2450699999999999,"2017-09-04",1.24736,"2017-09-05",1.248375,"2017-09-04",1.2513000000000001,"2017-08-30",1.2650399999999999,"2017-08-28",1.2569999999999999]
[null,"2017-09-04",1.2416,"2017-09-04",1.240178,"2017-09-01",1.2378899999999999,"2017-09-04",1.2414000000000001,"2017-09-04",1.2430749999999999,"2017-09-01",1.2419640000000001,"2017-09-01",1.2432669999999999,"2017-09-04",1.24952,"2017-09-01",1.2465409999999999,"2017-08-29",1.25745,"2017-08-24",1.2543299999999999]
[null,"2017-09-01",1.2394000000000001,"2017-09-01",1.2376560000000001,"2017-08-31",1.24495,"2017-09-01",1.2386550000000001,"2017-09-01",1.2401009999999999,"2017-08-31",1.2485999999999999,"2017-08-31",1.2479,"2017-09-01",1.2451049999999999,"2017-08-31",1.2481,"2017-08-28",1.2534400000000001,"2017-08-23",1.2586349999999999]
[null,"2017-08-31",1.2482,"2017-08-31",1.2459800000000001,"2017-08-30",1.2576700000000001,"2017-08-31",1.2454499999999999,"2017-08-31",1.2470250000000001,"2017-08-30",1.2595449999999999,"2017-08-30",1.2604900000000001,"2017-08-31",1.2479,"2017-08-30",1.26336,"2017-08-24",1.250885,"2017-08-22",1.25831]
[null,"2017-08-30",1.2621,"2017-08-30",1.25909,"2017-08-29",1.2485790000000001,"2017-08-30",1.2576499999999999,"2017-08-30",1.25865,"2017-08-29",1.2500500000000001,"2017-08-29",1.25084,"2017-08-30",1.2620199999999999,"2017-08-29",1.2547900000000001,"2017-08-23",1.25556,"2017-08-21",1.2574190000000001]
[null,"2017-08-29",1.2512000000000001,"2017-08-29",1.2481800000000001,"2017-08-28",1.2467280000000001,"2017-08-29",1.2476700000000001,"2017-08-29",1.2481500000000001,"2017-08-28",1.2476499999999999,"2017-08-28",1.24814,"2017-08-29",1.25288,"2017-08-28",1.25118,"2017-08-22",1.254745,"2017-08-18",1.2580469999999999]
[null,"2017-08-28",1.2507999999999999,"2017-08-28",1.2478800000000001,"2017-08-25",1.24339,"2017-08-28",1.24685,"2017-08-28",1.24722,"2017-08-25",1.244712,"2017-08-25",1.2478,"2017-08-28",1.249717,"2017-08-25",1.248,"2017-08-21",1.2538499999999999,"2017-08-17",1.2680100000000001]
[null,"2017-08-25",1.2481,"2017-08-25",1.2449600000000001,"2017-08-24",1.2469349999999999,"2017-08-25",1.24394,"2017-08-25",1.2430749999999999,"2017-08-24",1.24654,"2017-08-24",1.2468699999999999,"2017-08-25",1.2478,"2017-08-24",1.2488250000000001,"2017-08-18",1.2544599999999999,"2017-08-16",1.2593799999999999]
[null,"2017-08-24",1.252,"2017-08-24",1.24875,"2017-08-23",1.2505200000000001,"2017-08-24",1.2463500000000001,"2017-08-24",1.2462850000000001,"2017-08-23",1.2507569999999999,"2017-08-23",1.25101,"2017-08-24",1.247935,"2017-08-23",1.25332,"2017-08-17",1.2634000000000001,"2017-08-15",1.270699]
[null,"2017-08-23",1.2554000000000001,"2017-08-23",1.2520800000000001,"2017-08-22",1.2510790000000001,"2017-08-23",1.2501249999999999,"2017-08-23",1.2502599999999999,"2017-08-22",1.2508090000000001,"2017-08-22",1.25013,"2017-08-23",1.25203,"2017-08-22",1.25234,"2017-08-16",1.2557199999999999,"2017-08-14",1.2717799999999999]
[null,"2017-08-22",1.2565,"2017-08-22",1.2531000000000001,"2017-08-21",1.2503850000000001,"2017-08-22",1.2507619999999999,"2017-08-22",1.2504299999999999,"2017-08-21",1.24949,"2017-08-21",1.249525,"2017-08-22",1.25109,"2017-08-21",1.2511749999999999,"2017-08-15",1.2677639999999999,"2017-08-11",1.2681100000000001]
[null,"2017-08-21",1.2558,"2017-08-21",1.2522800000000001,"2017-08-18",1.2525539999999999,"2017-08-21",1.24949,"2017-08-21",1.2496350000000001,"2017-08-18",1.2509349999999999,"2017-08-18",1.25082,"2017-08-21",1.24973,"2017-08-18",1.2518,"2017-08-14",1.2682899999999999,"2017-08-10",1.27325]
[null,"2017-08-18",1.2585,"2017-08-18",1.2549600000000001,"2017-08-17",1.2622819999999999,"2017-08-18",1.2519499999999999,"2017-08-18",1.2511300000000001,"2017-08-17",1.2601199999999999,"2017-08-17",1.25952,"2017-08-18",1.250945,"2017-08-17",1.2607299999999999,"2017-08-11",1.2645500000000001,"2017-08-09",1.2684899999999999]
[null,"2017-08-17",1.2682,"2017-08-17",1.2645200000000001,"2017-08-16",1.2557499999999999,"2017-08-17",1.2605900000000001,"2017-08-17",1.26004,"2017-08-16",1.2528900000000001,"2017-08-16",1.2522800000000001,"2017-08-17",1.259835,"2017-08-16",1.25332,"2017-08-10",1.2697050000000001,"2017-08-08",1.2701199999999999]
[null,"2017-08-16",1.2618,"2017-08-16",1.2579400000000001,"2017-08-15",1.2693179999999999,"2017-08-16",1.2543500000000001,"2017-08-16",1.2534700000000001,"2017-08-15",1.2662599999999999,"2017-08-15",1.265555,"2017-08-16",1.2523899999999999,"2017-08-15",1.2659400000000001,"2017-08-09",1.2649349999999999,"2017-08-07",1.2681500000000001]
[null,"2017-08-15",1.2757000000000001,"2017-08-15",1.27203,"2017-08-14",1.2663500000000001,"2017-08-15",1.2680499999999999,"2017-08-15",1.2670300000000001,"2017-08-14",1.2649349999999999,"2017-08-14",1.26461,"2017-08-15",1.2652600000000001,"2017-08-14",1.266265,"2017-08-08",1.2650999999999999,"2017-08-04",1.26136]
[null,"2017-08-14",1.2722,"2017-08-14",1.2686500000000001,"2017-08-11",1.2618499999999999,"2017-08-14",1.2654300000000001,"2017-08-14",1.2649300000000001,"2017-08-11",1.260815,"2017-08-11",1.2606299999999999,"2017-08-14",1.2652000000000001,"2017-08-11",1.2624599999999999,"2017-08-07",1.2645200000000001,"2017-08-03",1.25789]
[null,"2017-08-11",1.2677,"2017-08-11",1.2642500000000001,"2017-08-10",1.268265,"2017-08-11",1.2611300000000001,"2017-08-11",1.2607699999999999,"2017-08-10",1.26596,"2017-08-10",1.26614,"2017-08-11",1.2613799999999999,"2017-08-10",1.2677149999999999,"2017-08-04",1.2589900000000001,"2017-08-02",1.25604]
[null,"2017-08-10",1.2744,"2017-08-10",1.2706599999999999,"2017-08-09",1.263657,"2017-08-10",1.2666999999999999,"2017-08-10",1.2663500000000001,"2017-08-09",1.26233,"2017-08-09",1.2620750000000001,"2017-08-10",1.2664200000000001,"2017-08-09",1.2629649999999999,"2017-08-03",1.254345,"2017-08-01",1.2565200000000001]
[null,"2017-08-09",1.27,"2017-08-09",1.2663150000000001,"2017-08-08",1.2602800000000001,"2017-08-09",1.26227,"2017-08-09",1.2620100000000001,"2017-08-08",1.260005,"2017-08-08",1.259225,"2017-08-09",1.26206,"2017-08-08",1.2614749999999999,"2017-08-02",1.252926,"2017-07-31",1.2576799999999999]
[null,"2017-08-08",1.2666999999999999,"2017-08-08",1.2630300000000001,"2017-08-07",1.26135,"2017-08-08",1.2591000000000001,"2017-08-08",1.2591600000000001,"2017-08-07",1.260955,"2017-08-07",1.260475,"2017-08-08",1.2599,"2017-08-07",1.262065,"2017-08-01",1.2525500000000001,"2017-07-28",1.24983]
[null,"2017-08-07",1.268,"2017-08-07",1.264175,"2017-08-04",1.25803,"2017-08-07",1.2605,"2017-08-07",1.26027,"2017-08-04",1.2566759999999999,"2017-08-04",1.25641,"2017-08-07",1.260975,"2017-08-04",1.257395,"2017-07-31",1.2525999999999999,"2017-07-27",1.2574099999999999]
[null,"2017-08-04",1.2645,"2017-08-04",1.26067,"2017-08-03",1.2528539999999999,"2017-08-04",1.2571300000000001,"2017-08-04",1.256589,"2017-08-03",1.252284,"2017-08-03",1.2513099999999999,"2017-08-04",1.2567999999999999,"2017-08-03",1.252515,"2017-07-28",1.2451700000000001,"2017-07-26",1.24556]
[null,"2017-08-03",1.2585999999999999,"2017-08-03",1.2549999999999999,"2017-08-02",1.25125,"2017-08-03",1.251925,"2017-08-03",1.25156,"2017-08-02",1.2502279999999999,"2017-08-02",1.24979,"2017-08-03",1.2515400000000001,"2017-08-02",1.250785,"2017-07-27",1.2537400000000001,"2017-07-25",1.25457]
[null,"2017-08-02",1.2569999999999999,"2017-08-02",1.253495,"2017-08-01",1.24838,"2017-08-02",1.2503500000000001,"2017-08-02",1.2499,"2017-08-01",1.2478499999999999,"2017-08-01",1.2479,"2017-08-02",1.2501549999999999,"2017-08-01",1.2499400000000001,"2017-07-26",1.2425600000000001,"2017-07-24",1.25335]
[null,"2017-08-01",1.2538,"2017-08-01",1.2503249999999999,"2017-07-31",1.24315,"2017-08-01",1.2476400000000001,"2017-08-01",1.2472749999999999,"2017-07-31",1.2450000000000001,"2017-07-31",1.245735,"2017-08-01",1.24871,"2017-07-31",1.24919,"2017-07-25",1.25125,"2017-07-21",1.25366]
[null,"2017-07-31",1.248,"2017-07-31",1.2448509999999999,"2017-07-28",1.239088,"2017-07-31",1.243085,"2017-07-31",1.24352,"2017-07-28",1.23966,"2017-07-28",1.2400599999999999,"2017-07-31",1.2472049999999999,"2017-07-28",1.24238,"2017-07-24",1.24986,"2017-07-20",1.2576400000000001]
[null,"2017-07-28",1.2433000000000001,"2017-07-28",1.2403550000000001,"2017-07-27",1.2500500000000001,"2017-07-28",1.23861,"2017-07-28",1.2390600000000001,"2017-07-27",1.2496,"2017-07-27",1.2495400000000001,"2017-07-28",1.24109,"2017-07-27",1.2514749999999999,"2017-07-21",1.24983,"2017-07-19",1.26111]
[null,"2017-07-27",1.2554000000000001,"2017-07-27",1.2520100000000001,"2017-07-26",1.23895,"2017-07-27",1.249425,"2017-07-27",1.24946,"2017-07-26",1.239188,"2017-07-26",1.2389650000000001,"2017-07-27",1.250135,"2017-07-26",1.2411700000000001,"2017-07-20",1.2534799999999999,"2017-07-18",1.260786]
[null,"2017-07-26",1.2444999999999999,"2017-07-26",1.2412099999999999,"2017-07-25",1.24529,"2017-07-26",1.2386250000000001,"2017-07-26",1.2382299999999999,"2017-07-25",1.2454000000000001,"2017-07-25",1.2452399999999999,"2017-07-26",1.23976,"2017-07-25",1.24766,"2017-07-19",1.2572099999999999,"2017-07-17",1.26719]
[null,"2017-07-25",1.2508999999999999,"2017-07-25",1.24739,"2017-07-24",1.244775,"2017-07-25",1.2444249999999999,"2017-07-25",1.244105,"2017-07-24",1.244815,"2017-07-24",1.245025,"2017-07-25",1.2463900000000001,"2017-07-24",1.24749,"2017-07-18",1.2575099999999999,"2017-07-14",1.2579050000000001]
[null,"2017-07-24",1.2509999999999999,"2017-07-24",1.2473399999999999,"2017-07-21",1.247498,"2017-07-24",1.2437750000000001,"2017-07-24",1.2439499999999999,"2017-07-21",1.2464999999999999,"2017-07-21",1.24553,"2017-07-24",1.24634,"2017-07-21",1.2476100000000001,"2017-07-17",1.26431,"2017-07-13",1.2655050000000001]
[null,"2017-07-21",1.2539,"2017-07-21",1.25003,"2017-07-20",1.2522500000000001,"2017-07-21",1.2462169999999999,"2017-07-21",1.245635,"2017-07-20",1.24959,"2017-07-20",1.2494000000000001,"2017-07-21",1.24657,"2017-07-20",1.2509950000000001,"2017-07-14",1.25566,"2017-07-12",1.26691]
[null,"2017-07-20",1.2588999999999999,"2017-07-20",1.2549300000000001,"2017-07-19",1.2544500000000001,"2017-07-20",1.25074,"2017-07-20",1.2500599999999999,"2017-07-19",1.25305,"2017-07-19",1.2529999999999999,"2017-07-20",1.250105,"2017-07-19",1.2548299999999999,"2017-07-13",1.263115,"2017-07-11",1.2764200000000001]
[null,"2017-07-19",1.2605999999999999,"2017-07-19",1.2568319999999999,"2017-07-18",1.256589,"2017-07-19",1.25295,"2017-07-19",1.25275,"2017-07-18",1.254775,"2017-07-18",1.2544150000000001,"2017-07-19",1.2536449999999999,"2017-07-18",1.2555700000000001,"2017-07-12",1.2646200000000001,"2017-07-10",1.2751699999999999]
[null,"2017-07-18",1.2627999999999999,"2017-07-18",1.25909,"2017-07-17",1.26325,"2017-07-18",1.25535,"2017-07-18",1.2546550000000001,"2017-07-17",1.2604299999999999,"2017-07-17",1.2602800000000001,"2017-07-18",1.25519,"2017-07-17",1.261765,"2017-07-11",1.27312,"2017-07-07",1.2699860000000001]
[null,"2017-07-17",1.2697000000000001,"2017-07-17",1.2659,"2017-07-14",1.257565,"2017-07-17",1.2616499999999999,"2017-07-17",1.2607900000000001,"2017-07-14",1.254,"2017-07-14",1.253595,"2017-07-17",1.2608999999999999,"2017-07-14",1.2538199999999999,"2017-07-10",1.2722500000000001,"2017-07-06",1.2760499999999999]
[null,"2017-07-14",1.2644,"2017-07-14",1.26065,"2017-07-13",1.265897,"2017-07-14",1.2563,"2017-07-14",1.2547600000000001,"2017-07-13",1.2626999999999999,"2017-07-13",1.26149,"2017-07-14",1.253655,"2017-07-13",1.2615050000000001,"2017-07-07",1.26769,"2017-07-05",1.2742899999999999]
[null,"2017-07-13",1.2722,"2017-07-13",1.2685200000000001,"2017-07-12",1.2686649999999999,"2017-07-13",1.2640499999999999,"2017-07-13",1.2628900000000001,"2017-07-12",1.26427,"2017-07-12",1.2627699999999999,"2017-07-13",1.261315,"2017-07-12",1.2627200000000001,"2017-07-06",1.2739100000000001,"2017-07-04",1.2787299999999999]
[null,"2017-07-12",1.2750999999999999,"2017-07-12",1.271415,"2017-07-11",1.2824,"2017-07-12",1.2663500000000001,"2017-07-12",1.2647900000000001,"2017-07-11",1.2742100000000001,"2017-07-11",1.2723,"2017-07-12",1.26244,"2017-07-11",1.2716400000000001,"2017-07-05",1.27146,"2017-07-03",1.2718700000000001]
[null,"2017-07-11",1.2915000000000001,"2017-07-11",1.2868489999999999,"2017-07-10",1.2805,"2017-07-11",1.2787500000000001,"2017-07-11",1.27616,"2017-07-10",1.2721800000000001,"2017-07-10",1.27067,"2017-07-11",1.27169,"2017-07-10",1.27014,"2017-07-04",1.2728699999999999,"2017-06-30",1.2731300000000001]
[null,"2017-07-10",1.2890999999999999,"2017-07-10",1.2846200000000001,"2017-07-07",1.2788999999999999,"2017-07-10",1.27695,"2017-07-10",1.2741499999999999,"2017-07-07",1.26979,"2017-07-07",1.2677700000000001,"2017-07-10",1.27017,"2017-07-07",1.2664,"2017-07-03",1.2704200000000001,"2017-06-29",1.2745500000000001]
[null,"2017-07-07",1.2876000000000001,"2017-07-07",1.283199,"2017-07-06",1.2884,"2017-07-07",1.27545,"2017-07-07",1.272329,"2017-07-06",1.2784,"2017-07-06",1.2757449999999999,"2017-07-07",1.266845,"2017-07-06",1.27311,"2017-06-30",1.2707599999999999,"2017-06-28",1.2756700000000001]
[null,"2017-07-06",1.2978000000000001,"2017-07-06",1.29295,"2017-07-05",1.28606,"2017-07-06",1.2847249999999999,"2017-07-06",1.2811600000000001,"2017-07-05",1.2761,"2017-07-05",1.27291,"2017-07-06",1.2741199999999999,"2017-07-05",1.27095,"2017-06-29",1.27407,"2017-06-27",1.2888900000000001]
[null,"2017-07-05",1.2957000000000001,"2017-07-05",1.29074,"2017-07-04",1.2840389999999999,"2017-07-05",1.2820499999999999,"2017-07-05",1.278565,"2017-07-04",1.2759799999999999,"2017-07-04",1.2735449999999999,"2017-07-05",1.2718400000000001,"2017-07-04",1.2724500000000001,"2017-06-28",1.27447,"2017-06-26",1.2894699999999999]
[null,"2017-07-04",1.2937000000000001,"2017-07-04",1.2886500000000001,"2017-07-03",1.289668,"2017-07-04",1.2813159999999999,"2017-07-04",1.2782199999999999,"2017-07-03",1.27986,"2017-07-03",1.2751600000000001,"2017-07-04",1.2740450000000001,"2017-07-03",1.27078,"2017-06-27",1.28779,"2017-06-23",1.2938799999999999]
[null,"2017-07-03",1.3007,"2017-07-03",1.295345,"2017-06-30",1.286651,"2017-07-03",1.285355,"2017-07-03",1.281155,"2017-06-30",1.2768999999999999,"2017-06-30",1.2734700000000001,"2017-07-03",1.2729999999999999,"2017-06-30",1.2703100000000001,"2017-06-26",1.28905,"2017-06-22",1.29498]
[null,"2017-06-30",1.2964,"2017-06-30",1.29125,"2017-06-29",1.2903249999999999,"2017-06-30",1.28305,"2017-06-30",1.2786900000000001,"2017-06-29",1.2806900000000001,"2017-06-29",1.2772600000000001,"2017-06-30",1.27182,"2017-06-29",1.2742100000000001,"2017-06-23",1.2931299999999999,"2017-06-21",1.29941]
[null,"2017-06-29",1.3004,"2017-06-29",1.29491,"2017-06-28",1.293668,"2017-06-29",1.2865500000000001,"2017-06-29",1.2831399999999999,"2017-06-28",1.2827,"2017-06-28",1.27932,"2017-06-29",1.2754449999999999,"2017-06-28",1.27535,"2017-06-22",1.293795,"2017-06-20",1.29297]
[null,"2017-06-28",1.3039000000000001,"2017-06-28",1.2982800000000001,"2017-06-27",1.3082400000000001,"2017-06-28",1.28975,"2017-06-28",1.2852600000000001,"2017-06-27",1.2978940000000001,"2017-06-27",1.2925199999999999,"2017-06-28",1.2773399999999999,"2017-06-27",1.2883500000000001,"2017-06-21",1.29922,"2017-06-19",1.2868200000000001]
[null,"2017-06-27",1.3199000000000001,"2017-06-27",1.313447,"2017-06-26",1.31193,"2017-06-27",1.30365,"2017-06-27",1.3002,"2017-06-26",1.2981799999999999,"2017-06-26",1.2938449999999999,"2017-06-27",1.29027,"2017-06-26",1.2893950000000001,"2017-06-20",1.2924599999999999,"2017-06-16",1.2902199999999999]
[null,"2017-06-26",1.3244,"2017-06-26",1.3176890000000001,"2017-06-23",1.3143339999999999,"2017-06-26",1.3067500000000001,"2017-06-26",1.3020499999999999,"2017-06-23",1.3008999999999999,"2017-06-23",1.2975449999999999,"2017-06-26",1.2915700000000001,"2017-06-23",1.2934399999999999,"2017-06-19",1.2870200000000001,"2017-06-15",1.29454]
[null,"2017-06-23",1.3267,"2017-06-23",1.3199399999999999,"2017-06-22",1.3121499999999999,"2017-06-23",1.30935,"2017-06-23",1.3049500000000001,"2017-06-22",1.3013999999999999,"2017-06-22",1.29745,"2017-06-23",1.29528,"2017-06-22",1.2940149999999999,"2017-06-16",1.2898700000000001,"2017-06-14",1.28989]
[null,"2017-06-22",1.3232999999999999,"2017-06-22",1.3170839999999999,"2017-06-21",1.3211660000000001,"2017-06-22",1.3080499999999999,"2017-06-22",1.3040099999999999,"2017-06-21",1.3076950000000001,"2017-06-21",1.3039099999999999,"2017-06-22",1.29538,"2017-06-21",1.2998799999999999,"2017-06-15",1.2928200000000001,"2017-06-13",1.2876799999999999]
[null,"2017-06-21",1.3333999999999999,"2017-06-21",1.32667,"2017-06-20",1.3146549999999999,"2017-06-21",1.3162700000000001,"2017-06-21",1.3117799999999999,"2017-06-20",1.3012999999999999,"2017-06-20",1.2969250000000001,"2017-06-21",1.301755,"2017-06-20",1.293115,"2017-06-14",1.28867,"2017-06-12",1.2877099999999999]
[null,"2017-06-20",1.3268,"2017-06-20",1.320344,"2017-06-19",1.3102499999999999,"2017-06-20",1.30945,"2017-06-20",1.30481,"2017-06-19",1.2965150000000001,"2017-06-19",1.2928649999999999,"2017-06-20",1.29477,"2017-06-19",1.2880450000000001,"2017-06-13",1.2870900000000001,"2017-06-09",1.2924899999999999]
[null,"2017-06-19",1.3219000000000001,"2017-06-19",1.3154999999999999,"2017-06-16",1.309375,"2017-06-19",1.3053399999999999,"2017-06-19",1.300635,"2017-06-16",1.2965599999999999,"2017-06-16",1.2933749999999999,"2017-06-19",1.29036,"2017-06-16",1.2899,"2017-06-12",1.2874399999999999,"2017-06-08",1.2957050000000001]
[null,"2017-06-16",1.3212999999999999,"2017-06-16",1.314792,"2017-06-15",1.3143549999999999,"2017-06-16",1.3046,"2017-06-16",1.3003199999999999,"2017-06-15",1.3005,"2017-06-15",1.2966,"2017-06-16",1.291445,"2017-06-15",1.29291,"2017-06-09",1.29186,"2017-06-07",1.296845]
[null,"2017-06-15",1.3269,"2017-06-15",1.320171,"2017-06-14",1.3113999999999999,"2017-06-15",1.3091999999999999,"2017-06-15",1.3042,"2017-06-14",1.2974399999999999,"2017-06-14",1.29433,"2017-06-15",1.2948,"2017-06-14",1.28955,"2017-06-08",1.2946549999999999,"2017-06-06",1.29508]
[null,"2017-06-14",1.3247,"2017-06-14",1.3175399999999999,"2017-06-13",1.3105739999999999,"2017-06-14",1.3059499999999999,"2017-06-14",1.30122,"2017-06-13",1.2958700000000001,"2017-06-13",1.29192,"2017-06-14",1.2917000000000001,"2017-06-13",1.2870699999999999,"2017-06-07",1.295795,"2017-06-05",1.2962899999999999]
[null,"2017-06-13",1.3242,"2017-06-13",1.3166800000000001,"2017-06-12",1.3168550000000001,"2017-06-13",1.3045500000000001,"2017-06-13",1.29989,"2017-06-12",1.2975650000000001,"2017-06-12",1.2931049999999999,"2017-06-13",1.289415,"2017-06-12",1.287445,"2017-06-06",1.2932399999999999,"2017-06-02",1.3004849999999999]
[null,"2017-06-12",1.3324,"2017-06-12",1.3240289999999999,"2017-06-09",1.327985,"2017-06-12",1.3099499999999999,"2017-06-12",1.303175,"2017-06-09",1.3045,"2017-06-09",1.29775,"2017-06-12",1.289615,"2017-06-09",1.2914099999999999,"2017-06-05",1.2946500000000001,"2017-06-01",1.3000499999999999]
[null,"2017-06-09",1.347,"2017-06-09",1.33755,"2017-06-08",1.33155,"2017-06-09",1.31945,"2017-06-09",1.311005,"2017-06-08",1.3078000000000001,"2017-06-08",1.3021199999999999,"2017-06-09",1.2940400000000001,"2017-06-08",1.2956700000000001,"2017-06-02",1.29881,"2017-05-31",1.3003400000000001]
[null,"2017-06-08",1.3506,"2017-06-08",1.3410690000000001,"2017-06-07",1.3320650000000001,"2017-06-08",1.3226599999999999,"2017-06-08",1.3147,"2017-06-07",1.3093999999999999,"2017-06-07",1.3030900000000001,"2017-06-08",1.298465,"2017-06-07",1.296845,"2017-06-01",1.29911,"2017-05-30",1.2928999999999999]
[null,"2017-06-07",1.3509,"2017-06-07",1.3414999999999999,"2017-06-06",1.32752,"2017-06-07",1.32341,"2017-06-07",1.3155399999999999,"2017-06-06",1.3063819999999999,"2017-06-06",1.3006899999999999,"2017-06-07",1.299555,"2017-06-06",1.29451,"2017-05-31",1.29897,"2017-05-29",1.28372]
[null,"2017-06-06",1.3454999999999999,"2017-06-06",1.3363689999999999,"2017-06-05",1.3289519999999999,"2017-06-06",1.319,"2017-06-06",1.3121400000000001,"2017-06-05",1.3077000000000001,"2017-06-05",1.30213,"2017-06-06",1.2972699999999999,"2017-06-05",1.29572,"2017-05-30",1.2921400000000001,"2017-05-26",1.28895]
[null,"2017-06-05",1.3472999999999999,"2017-06-05",1.338079,"2017-06-02",1.3298749999999999,"2017-06-05",1.3208200000000001,"2017-06-05",1.313715,"2017-06-02",1.3090999999999999,"2017-06-02",1.30436,"2017-06-05",1.2986899999999999,"2017-06-02",1.29921,"2017-05-29",1.2841199999999999,"2017-05-25",1.2924100000000001]
[null,"2017-06-02",1.3487,"2017-06-02",1.3394900000000001,"2017-06-01",1.3329500000000001,"2017-06-02",1.3218000000000001,"2017-06-02",1.3146599999999999,"2017-06-01",1.31114,"2017-06-01",1.3059700000000001,"2017-06-02",1.30125,"2017-06-01",1.3002800000000001,"2017-05-26",1.2884549999999999,"2017-05-24",1.28505]
[null,"2017-06-01",1.3514999999999999,"2017-06-01",1.3421099999999999,"2017-05-31",1.3321449999999999,"2017-06-01",1.3245400000000001,"2017-06-01",1.3169900000000001,"2017-05-31",1.31088,"2017-05-31",1.3060099999999999,"2017-06-01",1.3027200000000001,"2017-05-31",1.29972,"2017-05-25",1.2912699999999999,"2017-05-23",1.2978400000000001]
[null,"2017-05-31",1.35,"2017-05-31",1.341107,"2017-05-30",1.32819,"2017-05-31",1.3240350000000001,"2017-05-31",1.3165899999999999,"2017-05-30",1.3066,"2017-05-30",1.3010999999999999,"2017-05-31",1.3025599999999999,"2017-05-30",1.2937000000000001,"2017-05-24",1.2844599999999999,"2017-05-22",1.2946599999999999]
[null,"2017-05-30",1.3459000000000001,"2017-05-30",1.3370599999999999,"2017-05-29",1.3269249999999999,"2017-05-30",1.31989,"2017-05-30",1.3126450000000001,"2017-05-29",1.3023400000000001,"2017-05-29",1.29596,"2017-05-30",1.29705,"2017-05-29",1.2863599999999999,"2017-05-23",1.2956300000000001,"2017-05-19",1.29823]
[null,"2017-05-29",1.3452,"2017-05-29",1.3363100000000001,"2017-05-26",1.3264100000000001,"2017-05-29",1.3186500000000001,"2017-05-29",1.30976,"2017-05-26",1.30321,"2017-05-26",1.297105,"2017-05-29",1.2908500000000001,"2017-05-26",1.2896700000000001,"2017-05-22",1.2929299999999999,"2017-05-18",1.3056399999999999]
[null,"2017-05-26",1.3446,"2017-05-26",1.33568,"2017-05-25",1.3301499999999999,"2017-05-26",1.3180350000000001,"2017-05-26",1.30992,"2017-05-25",1.30606,"2017-05-25",1.30002,"2017-05-26",1.292635,"2017-05-25",1.2921899999999999,"2017-05-19",1.29606,"2017-05-17",1.3061400000000001]
[null,"2017-05-25",1.3485,"2017-05-25",1.3393649999999999,"2017-05-24",1.3226,"2017-05-25",1.32125,"2017-05-25",1.312575,"2017-05-24",1.2984,"2017-05-24",1.29233,"2017-05-25",1.29549,"2017-05-24",1.2850600000000001,"2017-05-18",1.3045100000000001,"2017-05-16",1.3071999999999999]
[null,"2017-05-24",1.3407,"2017-05-24",1.331879,"2017-05-23",1.3318749999999999,"2017-05-24",1.31375,"2017-05-24",1.30562,"2017-05-23",1.308683,"2017-05-23",1.3022400000000001,"2017-05-24",1.2881,"2017-05-23",1.2958000000000001,"2017-05-17",1.3044100000000001,"2017-05-15",1.3106500000000001]
[null,"2017-05-23",1.3513999999999999,"2017-05-23",1.342022,"2017-05-22",1.3306929999999999,"2017-05-23",1.323,"2017-05-23",1.315375,"2017-05-22",1.3054250000000001,"2017-05-22",1.2998400000000001,"2017-05-23",1.2985100000000001,"2017-05-22",1.2930699999999999,"2017-05-16",1.3052900000000001,"2017-05-12",1.3164450000000001]
[null,"2017-05-22",1.3503000000000001,"2017-05-22",1.340889,"2017-05-19",1.3315999999999999,"2017-05-22",1.320975,"2017-05-22",1.312565,"2017-05-19",1.30792,"2017-05-19",1.3023199999999999,"2017-05-22",1.29582,"2017-05-19",1.2959700000000001,"2017-05-15",1.3088900000000001,"2017-05-11",1.3126500000000001]
[null,"2017-05-19",1.3511,"2017-05-19",1.3417589999999999,"2017-05-18",1.34121,"2017-05-19",1.322695,"2017-05-19",1.314365,"2017-05-18",1.3166949999999999,"2017-05-18",1.31067,"2017-05-19",1.2984,"2017-05-18",1.3045949999999999,"2017-05-12",1.3141400000000001,"2017-05-10",1.3122750000000001]
[null,"2017-05-18",1.3603000000000001,"2017-05-18",1.35101,"2017-05-17",1.3414950000000001,"2017-05-18",1.3323499999999999,"2017-05-18",1.32355,"2017-05-17",1.3173999999999999,"2017-05-17",1.31141,"2017-05-18",1.3067850000000001,"2017-05-17",1.3048850000000001,"2017-05-11",1.30955,"2017-05-09",1.31698]
[null,"2017-05-17",1.3602000000000001,"2017-05-17",1.35118,"2017-05-16",1.3408500000000001,"2017-05-17",1.3327500000000001,"2017-05-17",1.3244499999999999,"2017-05-16",1.3168150000000001,"2017-05-16",1.3111349999999999,"2017-05-17",1.30752,"2017-05-16",1.3053049999999999,"2017-05-10",1.3094600000000001,"2017-05-08",1.3114399999999999]
[null,"2017-05-16",1.3606,"2017-05-16",1.351189,"2017-05-15",1.343275,"2017-05-16",1.33195,"2017-05-16",1.3237099999999999,"2017-05-15",1.319825,"2017-05-15",1.3140050000000001,"2017-05-16",1.30742,"2017-05-15",1.3085500000000001,"2017-05-09",1.31453,"2017-05-05",1.30802]
[null,"2017-05-15",1.3633,"2017-05-15",1.3536900000000001,"2017-05-12",1.350417,"2017-05-15",1.3342499999999999,"2017-05-15",1.326355,"2017-05-12",1.32562,"2017-05-12",1.3196950000000001,"2017-05-15",1.310435,"2017-05-12",1.31389,"2017-05-08",1.30952,"2017-05-04",1.31531]
[null,"2017-05-12",1.371,"2017-05-12",1.361389,"2017-05-11",1.34849,"2017-05-12",1.34137,"2017-05-12",1.3324199999999999,"2017-05-11",1.3225,"2017-05-11",1.3159700000000001,"2017-05-12",1.315995,"2017-05-11",1.3094600000000001,"2017-05-05",1.3058700000000001,"2017-05-03",1.31898]
[null,"2017-05-11",1.3696999999999999,"2017-05-11",1.3598060000000001,"2017-05-10",1.344595,"2017-05-11",1.338775,"2017-05-11",1.3293649999999999,"2017-05-10",1.3202,"2017-05-10",1.31416,"2017-05-11",1.3119400000000001,"2017-05-10",1.308675,"2017-05-04",1.313715,"2017-05-02",1.3154600000000001]
[null,"2017-05-10",1.3655999999999999,"2017-05-10",1.355739,"2017-05-09",1.351146,"2017-05-10",1.3353550000000001,"2017-05-10",1.3267100000000001,"2017-05-09",1.325415,"2017-05-09",1.3193250000000001,"2017-05-10",1.3104849999999999,"2017-05-09",1.3134699999999999,"2017-05-03",1.3168,"2017-05-01",1.31559]
[null,"2017-05-09",1.3720000000000001,"2017-05-09",1.3622300000000001,"2017-05-08",1.347985,"2017-05-09",1.34118,"2017-05-09",1.3322499999999999,"2017-05-08",1.321715,"2017-05-08",1.315995,"2017-05-09",1.3153699999999999,"2017-05-08",1.309415,"2017-05-02",1.313545,"2017-04-28",1.312845]
[null,"2017-05-08",1.3691,"2017-05-08",1.35927,"2017-05-05",1.3443700000000001,"2017-05-08",1.3379000000000001,"2017-05-08",1.3287199999999999,"2017-05-05",1.317895,"2017-05-05",1.31227,"2017-05-08",1.3117099999999999,"2017-05-05",1.305995,"2017-05-01",1.3133600000000001,"2017-04-27",1.3112699999999999]
[null,"2017-05-05",1.3652,"2017-05-05",1.3555600000000001,"2017-05-04",1.3542400000000001,"2017-05-05",1.3342499999999999,"2017-05-05",1.32517,"2017-05-04",1.3271900000000001,"2017-05-04",1.3208949999999999,"2017-05-05",1.3083400000000001,"2017-05-04",1.3138449999999999,"2017-04-28",1.3107200000000001,"2017-04-26",1.30585]
[null,"2017-05-04",1.3749,"2017-05-04",1.3653299999999999,"2017-05-03",1.35328,"2017-05-04",1.34385,"2017-05-04",1.33447,"2017-05-03",1.3279300000000001,"2017-05-03",1.3222149999999999,"2017-05-04",1.3165100000000001,"2017-05-03",1.31654,"2017-04-27",1.3093950000000001,"2017-04-25",1.2994000000000001]
[null,"2017-05-03",1.373,"2017-05-03",1.36371,"2017-05-02",1.3511,"2017-05-03",1.34372,"2017-05-03",1.3348899999999999,"2017-05-02",1.3261400000000001,"2017-05-02",1.3197049999999999,"2017-05-03",1.318635,"2017-05-02",1.3134950000000001,"2017-04-26",1.3048999999999999,"2017-04-24",1.2948500000000001]
[null,"2017-05-02",1.3709,"2017-05-02",1.361772,"2017-05-01",1.3490500000000001,"2017-05-02",1.3416300000000001,"2017-05-02",1.3329200000000001,"2017-05-01",1.32437,"2017-05-01",1.3183400000000001,"2017-05-02",1.3158300000000001,"2017-05-01",1.31246,"2017-04-25",1.29783,"2017-04-21",1.2977099999999999]
[null,"2017-05-01",1.3681000000000001,"2017-05-01",1.3591690000000001,"2017-04-28",1.3466640000000001,"2017-05-01",1.3397250000000001,"2017-05-01",1.3310999999999999,"2017-04-28",1.3227040000000001,"2017-04-28",1.31671,"2017-05-01",1.3143199999999999,"2017-04-28",1.3106949999999999,"2017-04-24",1.2938099999999999,"2017-04-20",1.2976000000000001]
[null,"2017-04-28",1.3653,"2017-04-28",1.35649,"2017-04-27",1.3452519999999999,"2017-04-28",1.3376049999999999,"2017-04-28",1.329315,"2017-04-27",1.321906,"2017-04-27",1.3155650000000001,"2017-04-28",1.312705,"2017-04-27",1.3093250000000001,"2017-04-21",1.29535,"2017-04-19",1.3010999999999999]
[null,"2017-04-27",1.3633,"2017-04-27",1.3546180000000001,"2017-04-26",1.34331,"2017-04-27",1.336805,"2017-04-27",1.328435,"2017-04-26",1.3182100000000001,"2017-04-26",1.31213,"2017-04-27",1.3112900000000001,"2017-04-26",1.30505,"2017-04-20",1.2957399999999999,"2017-04-18",1.29129]
[null,"2017-04-26",1.3616999999999999,"2017-04-26",1.3530150000000001,"2017-04-25",1.33918,"2017-04-26",1.3340749999999999,"2017-04-26",1.3258099999999999,"2017-04-25",1.3132839999999999,"2017-04-25",1.3059700000000001,"2017-04-26",1.307795,"2017-04-25",1.29837,"2017-04-19",1.2989299999999999,"2017-04-17",1.28423]
[null,"2017-04-25",1.3572,"2017-04-25",1.348519,"2017-04-24",1.3325199999999999,"2017-04-25",1.3293699999999999,"2017-04-25",1.3201799999999999,"2017-04-24",1.3082100000000001,"2017-04-24",1.30128,"2017-04-25",1.3013300000000001,"2017-04-24",1.29419,"2017-04-18",1.29003,"2017-04-14",1.2868299999999999]
[null,"2017-04-24",1.3501000000000001,"2017-04-24",1.341755,"2017-04-21",1.3327100000000001,"2017-04-24",1.32395,"2017-04-24",1.31497,"2017-04-21",1.30752,"2017-04-21",1.30166,"2017-04-24",1.2970200000000001,"2017-04-21",1.29549,"2017-04-17",1.2826200000000001,"2017-04-13",1.2872399999999999]
[null,"2017-04-21",1.3498000000000001,"2017-04-21",1.3417870000000001,"2017-04-20",1.33022,"2017-04-21",1.32345,"2017-04-21",1.3147899999999999,"2017-04-20",1.3060350000000001,"2017-04-20",1.30063,"2017-04-21",1.29803,"2017-04-20",1.2949299999999999,"2017-04-14",1.28498,"2017-04-12",1.28142]
[null,"2017-04-20",1.3469,"2017-04-20",1.3389850000000001,"2017-04-19",1.332355,"2017-04-20",1.32155,"2017-04-20",1.31332,"2017-04-19",1.308805,"2017-04-19",1.3039400000000001,"2017-04-20",1.29708,"2017-04-19",1.2984599999999999,"2017-04-13",1.28539,"2017-04-11",1.2855799999999999]
[null,"2017-04-19",1.3485,"2017-04-19",1.340805,"2017-04-18",1.3221499999999999,"2017-04-19",1.32395,"2017-04-19",1.31586,"2017-04-18",1.300781,"2017-04-18",1.2941199999999999,"2017-04-19",1.30019,"2017-04-18",1.2892749999999999,"2017-04-12",1.2803599999999999,"2017-04-10",1.2851399999999999]
[null,"2017-04-18",1.3380000000000001,"2017-04-18",1.3305100000000001,"2017-04-17",1.315868,"2017-04-18",1.315458,"2017-04-18",1.3064100000000001,"2017-04-17",1.295466,"2017-04-17",1.2893600000000001,"2017-04-18",1.2905800000000001,"2017-04-17",1.28301,"2017-04-11",1.28329,"2017-04-07",1.28783]
[null,"2017-04-17",1.3317000000000001,"2017-04-17",1.3240000000000001,"2017-04-14",1.3163339999999999,"2017-04-17",1.30844,"2017-04-17",1.3017350000000001,"2017-04-14",1.296055,"2017-04-14",1.2911300000000001,"2017-04-17",1.2854699999999999,"2017-04-14",1.2851699999999999,"2017-04-10",1.2831999999999999,"2017-04-06",1.29128]
[null,"2017-04-14",1.3325,"2017-04-14",1.3249150000000001,"2017-04-13",1.316797,"2017-04-14",1.30941,"2017-04-14",1.3020750000000001,"2017-04-13",1.2967880000000001,"2017-04-13",1.29192,"2017-04-14",1.28745,"2017-04-13",1.2855399999999999,"2017-04-07",1.28583,"2017-04-05",1.2950200000000001]
[null,"2017-04-13",1.3329,"2017-04-13",1.3252250000000001,"2017-04-12",1.30985,"2017-04-13",1.3101970000000001,"2017-04-13",1.3025549999999999,"2017-04-12",1.290562,"2017-04-12",1.28569,"2017-04-13",1.28782,"2017-04-12",1.279995,"2017-04-06",1.28948,"2017-04-04",1.2886899999999999]
[null,"2017-04-12",1.3253999999999999,"2017-04-12",1.3179380000000001,"2017-04-11",1.3159700000000001,"2017-04-12",1.3032649999999999,"2017-04-12",1.2953300000000001,"2017-04-11",1.2951520000000001,"2017-04-11",1.28912,"2017-04-12",1.28224,"2017-04-11",1.28328,"2017-04-05",1.2932900000000001,"2017-04-03",1.286565]
[null,"2017-04-11",1.3325,"2017-04-11",1.3247469999999999,"2017-04-10",1.3159650000000001,"2017-04-11",1.30881,"2017-04-11",1.3006200000000001,"2017-04-10",1.294975,"2017-04-10",1.2891300000000001,"2017-04-11",1.28532,"2017-04-10",1.28312,"2017-04-04",1.28793,"2017-03-31",1.2773099999999999]
[null,"2017-04-10",1.3326,"2017-04-10",1.324765,"2017-04-07",1.3227199999999999,"2017-04-10",1.30775,"2017-04-10",1.30003,"2017-04-07",1.2997620000000001,"2017-04-07",1.2932999999999999,"2017-04-10",1.2850999999999999,"2017-04-07",1.2861800000000001,"2017-04-03",1.2854749999999999,"2017-03-30",1.27759]
[null,"2017-04-07",1.3398000000000001,"2017-04-07",1.331855,"2017-04-06",1.3244210000000001,"2017-04-07",1.314597,"2017-04-07",1.305785,"2017-04-06",1.302392,"2017-04-06",1.2962100000000001,"2017-04-07",1.2889299999999999,"2017-04-06",1.28965,"2017-03-31",1.27657,"2017-03-29",1.27739]
[null,"2017-04-06",1.3412999999999999,"2017-04-06",1.333439,"2017-04-05",1.326543,"2017-04-06",1.316441,"2017-04-06",1.3081700000000001,"2017-04-05",1.305904,"2017-04-05",1.29878,"2017-04-06",1.2920499999999999,"2017-04-05",1.2927500000000001,"2017-03-30",1.27634,"2017-03-28",1.28254]
[null,"2017-04-05",1.3434999999999999,"2017-04-05",1.3357289999999999,"2017-04-04",1.3227059999999999,"2017-04-05",1.31795,"2017-04-05",1.3112699999999999,"2017-04-04",1.299828,"2017-04-04",1.2942499999999999,"2017-04-05",1.2948,"2017-04-04",1.2886500000000001,"2017-03-29",1.27579,"2017-03-27",1.2831600000000001]
[null,"2017-04-04",1.3402000000000001,"2017-04-04",1.3323199999999999,"2017-04-03",1.320689,"2017-04-04",1.314481,"2017-04-04",1.3062400000000001,"2017-04-03",1.298829,"2017-04-03",1.2922800000000001,"2017-04-04",1.2914699999999999,"2017-04-03",1.286295,"2017-03-28",1.2810950000000001,"2017-03-24",1.2813349999999999]
[null,"2017-04-03",1.3381000000000001,"2017-04-03",1.3302,"2017-03-31",1.314195,"2017-04-03",1.312967,"2017-04-03",1.3044500000000001,"2017-03-31",1.2901389999999999,"2017-03-31",1.2840199999999999,"2017-04-03",1.288735,"2017-03-31",1.27721,"2017-03-27",1.2825899999999999,"2017-03-23",1.28284]
[null,"2017-03-31",1.3318000000000001,"2017-03-31",1.323887,"2017-03-30",1.3154999999999999,"2017-03-31",1.305331,"2017-03-31",1.2962499999999999,"2017-03-30",1.2904359999999999,"2017-03-30",1.28443,"2017-03-31",1.28006,"2017-03-30",1.27705,"2017-03-24",1.28105,"2017-03-22",1.2828900000000001]
[null,"2017-03-30",1.3341000000000001,"2017-03-30",1.3260000000000001,"2017-03-29",1.3141050000000001,"2017-03-30",1.306562,"2017-03-30",1.2965100000000001,"2017-03-29",1.2880769999999999,"2017-03-29",1.28305,"2017-03-30",1.2801,"2017-03-29",1.276195,"2017-03-23",1.28237,"2017-03-21",1.28562]
[null,"2017-03-29",1.3326,"2017-03-29",1.3245389999999999,"2017-03-28",1.3199000000000001,"2017-03-29",1.3042499999999999,"2017-03-29",1.2952999999999999,"2017-03-28",1.294494,"2017-03-28",1.28813,"2017-03-29",1.27884,"2017-03-28",1.2819750000000001,"2017-03-22",1.2819199999999999,"2017-03-20",1.2833600000000001]
[null,"2017-03-28",1.3383,"2017-03-28",1.3300689999999999,"2017-03-27",1.3196600000000001,"2017-03-28",1.3109550000000001,"2017-03-28",1.3012349999999999,"2017-03-27",1.29562,"2017-03-27",1.2901100000000001,"2017-03-28",1.2847,"2017-03-27",1.2835799999999999,"2017-03-21",1.2846900000000001,"2017-03-17",1.2818799999999999]
[null,"2017-03-27",1.3375999999999999,"2017-03-27",1.329699,"2017-03-24",1.3195380000000001,"2017-03-27",1.311051,"2017-03-27",1.30172,"2017-03-24",1.2954479999999999,"2017-03-24",1.28871,"2017-03-27",1.2863800000000001,"2017-03-24",1.2821199999999999,"2017-03-20",1.28209,"2017-03-16",1.2802500000000001]
[null,"2017-03-24",1.3378000000000001,"2017-03-24",1.3297600000000001,"2017-03-23",1.31724,"2017-03-24",1.3106,"2017-03-24",1.3018350000000001,"2017-03-23",1.2952980000000001,"2017-03-23",1.28972,"2017-03-24",1.28538,"2017-03-23",1.2831300000000001,"2017-03-17",1.2805150000000001,"2017-03-15",1.27823]
[null,"2017-03-23",1.335,"2017-03-23",1.3269,"2017-03-22",1.315903,"2017-03-23",1.309348,"2017-03-23",1.30114,"2017-03-22",1.2936080000000001,"2017-03-22",1.28843,"2017-03-23",1.2859100000000001,"2017-03-22",1.28247,"2017-03-16",1.2787999999999999,"2017-03-14",1.2878700000000001]
[null,"2017-03-22",1.3329,"2017-03-22",1.3248340000000001,"2017-03-21",1.317555,"2017-03-22",1.307976,"2017-03-22",1.299855,"2017-03-21",1.296241,"2017-03-21",1.29087,"2017-03-22",1.28498,"2017-03-21",1.28538,"2017-03-15",1.27704,"2017-03-13",1.2862199999999999]
[null,"2017-03-21",1.3351999999999999,"2017-03-21",1.327148,"2017-03-20",1.31704,"2017-03-21",1.310314,"2017-03-21",1.3020499999999999,"2017-03-20",1.294181,"2017-03-20",1.28853,"2017-03-21",1.2878099999999999,"2017-03-20",1.2827500000000001,"2017-03-14",1.28772,"2017-03-10",1.2866]
[null,"2017-03-20",1.335,"2017-03-20",1.326657,"2017-03-17",1.3168500000000001,"2017-03-20",1.3083,"2017-03-20",1.3001799999999999,"2017-03-17",1.2930299999999999,"2017-03-17",1.28786,"2017-03-20",1.28511,"2017-03-17",1.2812049999999999,"2017-03-13",1.2854749999999999,"2017-03-09",1.2866]
[null,"2017-03-17",1.335,"2017-03-17",1.3265400000000001,"2017-03-16",1.31406,"2017-03-17",1.3080499999999999,"2017-03-17",1.299995,"2017-03-16",1.2915099999999999,"2017-03-16",1.2849299999999999,"2017-03-17",1.28403,"2017-03-16",1.2790999999999999,"2017-03-10",1.2866850000000001,"2017-03-08",1.2862]
[null,"2017-03-16",1.3319000000000001,"2017-03-16",1.32351,"2017-03-15",1.3127450000000001,"2017-03-16",1.3048500000000001,"2017-03-16",1.2981799999999999,"2017-03-15",1.28918,"2017-03-15",1.28396,"2017-03-16",1.2815099999999999,"2017-03-15",1.27752,"2017-03-09",1.286645,"2017-03-07",1.2805]
[null,"2017-03-15",1.3304,"2017-03-15",1.3221000000000001,"2017-03-14",1.3285499999999999,"2017-03-15",1.30335,"2017-03-15",1.2954399999999999,"2017-03-14",1.3025850000000001,"2017-03-14",1.29654,"2017-03-15",1.2803800000000001,"2017-03-14",1.2892650000000001,"2017-03-08",1.2974000000000001,"2017-03-06",1.27854]
[null,"2017-03-14",1.3479000000000001,"2017-03-14",1.3392040000000001,"2017-03-13",1.325825,"2017-03-14",1.3188550000000001,"2017-03-14",1.3097399999999999,"2017-03-13",1.3014250000000001,"2017-03-13",1.2948299999999999,"2017-03-14",1.292405,"2017-03-13",1.2867850000000001,"2017-03-07",1.290875,"2017-03-03",1.27749]
[null,"2017-03-13",1.3446,"2017-03-13",1.3360989999999999,"2017-03-10",1.3282400000000001,"2017-03-13",1.31585,"2017-03-13",1.3074650000000001,"2017-03-10",1.302646,"2017-03-10",1.2958499999999999,"2017-03-13",1.2903800000000001,"2017-03-10",1.2881849999999999,"2017-03-06",1.27884,"2017-03-02",1.27746]
[null,"2017-03-10",1.3471,"2017-03-10",1.3386039999999999,"2017-03-09",1.33155,"2017-03-10",1.3180499999999999,"2017-03-10",1.3087500000000001,"2017-03-09",1.3043389999999999,"2017-03-09",1.29705,"2017-03-10",1.2910600000000001,"2017-03-09",1.2885800000000001,"2017-03-03",1.2764500000000001,"2017-03-01",1.2751600000000001]
[null,"2017-03-09",1.3511,"2017-03-09",1.34259,"2017-03-08",1.3300620000000001,"2017-03-09",1.3208500000000001,"2017-03-09",1.3109999999999999,"2017-03-08",1.3107470000000001,"2017-03-08",1.2959499999999999,"2017-03-09",1.29155,"2017-03-08",1.2878000000000001,"2017-03-02",1.2764899999999999,"2017-02-28",1.2694399999999999]
[null,"2017-03-08",1.3491,"2017-03-08",1.3409899999999999,"2017-03-07",1.3230440000000001,"2017-03-08",1.31935,"2017-03-08",1.31013,"2017-03-07",1.302978,"2017-03-07",1.2888500000000001,"2017-03-08",1.2908500000000001,"2017-03-07",1.2815000000000001,"2017-03-01",1.2735399999999999,"2017-02-27",1.2614300000000001]
[null,"2017-03-07",1.3412999999999999,"2017-03-07",1.3335300000000001,"2017-03-06",1.322721,"2017-03-07",1.3121499999999999,"2017-03-07",1.3019499999999999,"2017-03-06",1.3028839999999999,"2017-03-06",1.28752,"2017-03-07",1.2845500000000001,"2017-03-06",1.2801400000000001,"2017-02-28",1.2687200000000001,"2017-02-24",1.25481]
[null,"2017-03-06",1.3411999999999999,"2017-03-06",1.3334299999999999,"2017-03-03",1.3192429999999999,"2017-03-06",1.31175,"2017-03-06",1.3022499999999999,"2017-03-03",1.2929060000000001,"2017-03-03",1.28535,"2017-03-06",1.2828999999999999,"2017-03-03",1.2772399999999999,"2017-02-27",1.26139,"2017-02-23",1.2568299999999999]
[null,"2017-03-03",1.3380000000000001,"2017-03-03",1.3302449999999999,"2017-03-02",1.3207599999999999,"2017-03-03",1.3088649999999999,"2017-03-03",1.29881,"2017-03-02",1.2945979999999999,"2017-03-02",1.2863,"2017-03-03",1.2806599999999999,"2017-03-02",1.2775700000000001,"2017-02-24",1.2548550000000001,"2017-02-22",1.26244]
[null,"2017-03-02",1.3391,"2017-03-02",1.33134,"2017-03-01",1.3141959999999999,"2017-03-02",1.3098700000000001,"2017-03-02",1.300475,"2017-03-01",1.289121,"2017-03-01",1.2819,"2017-03-02",1.2810600000000001,"2017-03-01",1.2740800000000001,"2017-02-23",1.25681,"2017-02-21",1.2590300000000001]
[null,"2017-03-01",1.3325,"2017-03-01",1.3250150000000001,"2017-02-28",1.3126040000000001,"2017-03-01",1.3047390000000001,"2017-03-01",1.2951699999999999,"2017-02-28",1.2864979999999999,"2017-02-28",1.2782500000000001,"2017-03-01",1.27685,"2017-02-28",1.269755,"2017-02-22",1.2623,"2017-02-20",1.2535700000000001]
[null,"2017-02-28",1.3301000000000001,"2017-02-28",1.3226899999999999,"2017-02-27",1.3019499999999999,"2017-02-28",1.30243,"2017-02-28",1.2927,"2017-02-27",1.277798,"2017-02-27",1.2705200000000001,"2017-02-28",1.2728999999999999,"2017-02-27",1.26264,"2017-02-21",1.2579,"2017-02-17",1.25604]
[null,"2017-02-27",1.3180000000000001,"2017-02-27",1.3113999999999999,"2017-02-24",1.2935399999999999,"2017-02-27",1.2928900000000001,"2017-02-27",1.2839,"2017-02-24",1.2709269999999999,"2017-02-24",1.26458,"2017-02-27",1.2657,"2017-02-24",1.2562199999999999,"2017-02-20",1.25386,"2017-02-16",1.2572300000000001]
[null,"2017-02-24",1.3090999999999999,"2017-02-24",1.3027500000000001,"2017-02-23",1.294476,"2017-02-24",1.285471,"2017-02-24",1.27691,"2017-02-23",1.2772209999999999,"2017-02-23",1.2664299999999999,"2017-02-24",1.25976,"2017-02-23",1.2583,"2017-02-17",1.2553700000000001,"2017-02-15",1.25641]
[null,"2017-02-23",1.3105,"2017-02-23",1.3040799999999999,"2017-02-22",1.3000799999999999,"2017-02-23",1.286599,"2017-02-23",1.27837,"2017-02-22",1.2771669999999999,"2017-02-22",1.2698,"2017-02-23",1.26173,"2017-02-22",1.2628699999999999,"2017-02-16",1.25522,"2017-02-14",1.2576700000000001]
[null,"2017-02-22",1.3164,"2017-02-22",1.30979,"2017-02-21",1.2977080000000001,"2017-02-22",1.29095,"2017-02-22",1.2827299999999999,"2017-02-21",1.2794300000000001,"2017-02-21",1.26641,"2017-02-22",1.2661800000000001,"2017-02-21",1.2593000000000001,"2017-02-15",1.25515,"2017-02-13",1.25386]
[null,"2017-02-21",1.3141,"2017-02-21",1.3075140000000001,"2017-02-20",1.29457,"2017-02-21",1.2889949999999999,"2017-02-21",1.27946,"2017-02-20",1.27138,"2017-02-20",1.26373,"2017-02-21",1.2623200000000001,"2017-02-20",1.2557400000000001,"2017-02-14",1.25604,"2017-02-10",1.25878]
[null,"2017-02-20",1.3106,"2017-02-20",1.304192,"2017-02-17",1.2937399999999999,"2017-02-20",1.28583,"2017-02-20",1.27735,"2017-02-17",1.2712619999999999,"2017-02-17",1.26393,"2017-02-20",1.25925,"2017-02-17",1.25661,"2017-02-13",1.2528900000000001,"2017-02-09",1.26519]
[null,"2017-02-17",1.3096000000000001,"2017-02-17",1.303294,"2017-02-16",1.2915000000000001,"2017-02-17",1.2856460000000001,"2017-02-17",1.27694,"2017-02-16",1.2683249999999999,"2017-02-16",1.2619100000000001,"2017-02-17",1.2596499999999999,"2017-02-16",1.2554099999999999,"2017-02-10",1.2568699999999999,"2017-02-08",1.2661500000000001]
[null,"2017-02-16",1.3070999999999999,"2017-02-16",1.3007690000000001,"2017-02-15",1.291777,"2017-02-16",1.2824500000000001,"2017-02-16",1.2737799999999999,"2017-02-15",1.268753,"2017-02-15",1.26128,"2017-02-16",1.2576499999999999,"2017-02-15",1.25485,"2017-02-09",1.26302,"2017-02-07",1.2695000000000001]
[null,"2017-02-15",1.3080000000000001,"2017-02-15",1.301555,"2017-02-14",1.291779,"2017-02-15",1.2822499999999999,"2017-02-15",1.27349,"2017-02-14",1.2681800000000001,"2017-02-14",1.2615400000000001,"2017-02-15",1.25749,"2017-02-14",1.25586,"2017-02-08",1.2642199999999999,"2017-02-06",1.2583500000000001]
[null,"2017-02-14",1.3076000000000001,"2017-02-14",1.30138,"2017-02-13",1.2921100000000001,"2017-02-14",1.2825899999999999,"2017-02-14",1.2741199999999999,"2017-02-13",1.269326,"2017-02-13",1.26064,"2017-02-14",1.258,"2017-02-13",1.25329,"2017-02-07",1.2672399999999999,"2017-02-03",1.25508]
[null,"2017-02-13",1.3070999999999999,"2017-02-13",1.3011079999999999,"2017-02-10",1.2932699999999999,"2017-02-13",1.28305,"2017-02-13",1.2748900000000001,"2017-02-10",1.270554,"2017-02-10",1.2629699999999999,"2017-02-13",1.2563599999999999,"2017-02-10",1.25654,"2017-02-06",1.2570399999999999,"2017-02-02",1.25573]
[null,"2017-02-10",1.3083,"2017-02-10",1.30226,"2017-02-09",1.2988,"2017-02-10",1.2846169999999999,"2017-02-10",1.2756799999999999,"2017-02-09",1.2762119999999999,"2017-02-09",1.2687999999999999,"2017-02-10",1.25892,"2017-02-09",1.2625999999999999,"2017-02-03",1.25278,"2017-02-01",1.2559199999999999]
[null,"2017-02-09",1.3145,"2017-02-09",1.3084800000000001,"2017-02-08",1.2994829999999999,"2017-02-09",1.29044,"2017-02-09",1.28206,"2017-02-08",1.2770630000000001,"2017-02-08",1.2702599999999999,"2017-02-09",1.26492,"2017-02-08",1.2641,"2017-02-02",1.2544,"2017-01-31",1.25773]
[null,"2017-02-08",1.3144,"2017-02-08",1.3085199999999999,"2017-02-07",1.30304,"2017-02-08",1.290975,"2017-02-08",1.2829349999999999,"2017-02-07",1.280187,"2017-02-07",1.2731699999999999,"2017-02-08",1.26647,"2017-02-07",1.26708,"2017-02-01",1.25454,"2017-01-30",1.26298]
[null,"2017-02-07",1.3185,"2017-02-07",1.3122799999999999,"2017-02-06",1.2931699999999999,"2017-02-07",1.2944960000000001,"2017-02-07",1.2858350000000001,"2017-02-06",1.2688600000000001,"2017-02-06",1.26336,"2017-02-07",1.2693300000000001,"2017-02-06",1.2574000000000001,"2017-01-31",1.2550699999999999,"2017-01-27",1.2641899999999999]
[null,"2017-02-06",1.3084,"2017-02-06",1.3022,"2017-02-03",1.2874000000000001,"2017-02-06",1.2842,"2017-02-06",1.2760800000000001,"2017-02-03",1.2632350000000001,"2017-02-03",1.2579800000000001,"2017-02-06",1.2596700000000001,"2017-02-03",1.2524850000000001,"2017-01-30",1.2614000000000001,"2017-01-26",1.2617499999999999]
[null,"2017-02-03",1.3023,"2017-02-03",1.2962899999999999,"2017-02-02",1.28725,"2017-02-03",1.2783500000000001,"2017-02-03",1.2700800000000001,"2017-02-02",1.2638849999999999,"2017-02-02",1.2584599999999999,"2017-02-03",1.25457,"2017-02-02",1.2533449999999999,"2017-01-27",1.2631300000000001,"2017-01-25",1.2610399999999999]
[null,"2017-02-02",1.3027,"2017-02-02",1.2965500000000001,"2017-02-01",1.2894000000000001,"2017-02-02",1.2785500000000001,"2017-02-02",1.27051,"2017-02-01",1.2641150000000001,"2017-02-01",1.25939,"2017-02-02",1.2546299999999999,"2017-02-01",1.2544299999999999,"2017-01-26",1.259525,"2017-01-24",1.26824]
[null,"2017-02-01",1.3048999999999999,"2017-02-01",1.2986200000000001,"2017-01-31",1.28725,"2017-02-01",1.2802249999999999,"2017-02-01",1.2717099999999999,"2017-01-31",1.26362,"2017-01-31",1.2585900000000001,"2017-02-01",1.25593,"2017-01-31",1.254105,"2017-01-25",1.25884,"2017-01-23",1.27284]
[null,"2017-01-31",1.3029999999999999,"2017-01-31",1.29653,"2017-01-30",1.2960750000000001,"2017-01-31",1.2783500000000001,"2017-01-31",1.2703100000000001,"2017-01-30",1.2710049999999999,"2017-01-30",1.26607,"2017-01-31",1.2557,"2017-01-30",1.2614300000000001,"2017-01-24",1.26606,"2017-01-20",1.2815700000000001]
[null,"2017-01-30",1.3117000000000001,"2017-01-30",1.3050999999999999,"2017-01-27",1.2993250000000001,"2017-01-30",1.2865500000000001,"2017-01-30",1.2780800000000001,"2017-01-27",1.2748710000000001,"2017-01-27",1.26874,"2017-01-30",1.2635700000000001,"2017-01-27",1.2636099999999999,"2017-01-23",1.2718400000000001,"2017-01-19",1.28257]
[null,"2017-01-27",1.3152999999999999,"2017-01-27",1.3087,"2017-01-26",1.2931889999999999,"2017-01-27",1.2907189999999999,"2017-01-27",1.2817700000000001,"2017-01-26",1.270524,"2017-01-26",1.2641899999999999,"2017-01-27",1.26617,"2017-01-26",1.259325,"2017-01-20",1.279755,"2017-01-18",1.2785]
[null,"2017-01-26",1.3089999999999999,"2017-01-26",1.3023640000000001,"2017-01-25",1.291039,"2017-01-26",1.2846900000000001,"2017-01-26",1.2759750000000001,"2017-01-25",1.2692060000000001,"2017-01-25",1.2625200000000001,"2017-01-26",1.2618100000000001,"2017-01-25",1.2580899999999999,"2017-01-19",1.2803199999999999,"2017-01-17",1.26359]
[null,"2017-01-25",1.3069999999999999,"2017-01-25",1.3004100000000001,"2017-01-24",1.2997300000000001,"2017-01-25",1.2825899999999999,"2017-01-25",1.2740899999999999,"2017-01-24",1.277614,"2017-01-24",1.2706200000000001,"2017-01-25",1.2597499999999999,"2017-01-24",1.2658799999999999,"2017-01-18",1.27685,"2017-01-16",1.2735099999999999]
[null,"2017-01-24",1.3158000000000001,"2017-01-24",1.30918,"2017-01-23",1.3071950000000001,"2017-01-24",1.2912509999999999,"2017-01-24",1.2827200000000001,"2017-01-23",1.285358,"2017-01-23",1.2779499999999999,"2017-01-24",1.2679499999999999,"2017-01-23",1.2723100000000001,"2017-01-17",1.2614399999999999,"2017-01-13",1.26797]
[null,"2017-01-23",1.3238000000000001,"2017-01-23",1.31691,"2017-01-20",1.3149200000000001,"2017-01-23",1.2984450000000001,"2017-01-23",1.290095,"2017-01-20",1.2915829999999999,"2017-01-20",1.2854099999999999,"2017-01-23",1.2748600000000001,"2017-01-20",1.2799750000000001,"2017-01-16",1.2718700000000001,"2017-01-12",1.26962]
[null,"2017-01-20",1.3320000000000001,"2017-01-20",1.32474,"2017-01-19",1.3147070000000001,"2017-01-20",1.3059730000000001,"2017-01-20",1.2972649999999999,"2017-01-19",1.2923770000000001,"2017-01-19",1.28545,"2017-01-20",1.2829999999999999,"2017-01-19",1.280295,"2017-01-13",1.2661500000000001,"2017-01-11",1.27335]
[null,"2017-01-19",1.3318000000000001,"2017-01-19",1.3245899999999999,"2017-01-18",1.310227,"2017-01-19",1.3052520000000001,"2017-01-19",1.3012649999999999,"2017-01-18",1.2877510000000001,"2017-01-18",1.2816099999999999,"2017-01-19",1.28227,"2017-01-18",1.2769299999999999,"2017-01-12",1.267825,"2017-01-10",1.27901]
[null,"2017-01-18",1.3269,"2017-01-18",1.3200799999999999,"2017-01-17",1.2896700000000001,"2017-01-18",1.3005,"2017-01-18",1.2968200000000001,"2017-01-17",1.2712589999999999,"2017-01-17",1.26572,"2017-01-18",1.2789900000000001,"2017-01-17",1.261425,"2017-01-11",1.271665,"2017-01-09",1.28064]
[null,"2017-01-17",1.3043,"2017-01-17",1.2980400000000001,"2017-01-16",1.3024290000000001,"2017-01-17",1.2822279999999999,"2017-01-17",1.2776749999999999,"2017-01-16",1.2811570000000001,"2017-01-16",1.2765200000000001,"2017-01-17",1.2633399999999999,"2017-01-16",1.2718700000000001,"2017-01-10",1.27762,"2017-01-06",1.28209]
[null,"2017-01-16",1.3174999999999999,"2017-01-16",1.31124,"2017-01-13",1.29643,"2017-01-16",1.294,"2017-01-16",1.289415,"2017-01-13",1.276629,"2017-01-13",1.2706,"2017-01-16",1.2738100000000001,"2017-01-13",1.26607,"2017-01-09",1.27884,"2017-01-05",1.2819400000000001]
[null,"2017-01-13",1.3113999999999999,"2017-01-13",1.30507,"2017-01-12",1.29979,"2017-01-13",1.2881,"2017-01-13",1.2836000000000001,"2017-01-12",1.2781830000000001,"2017-01-12",1.272475,"2017-01-13",1.2678799999999999,"2017-01-12",1.2676750000000001,"2017-01-06",1.2794300000000001,"2017-01-04",1.28637]
[null,"2017-01-12",1.3145,"2017-01-12",1.3082499999999999,"2017-01-11",1.3030630000000001,"2017-01-12",1.29152,"2017-01-12",1.2865899999999999,"2017-01-11",1.2820039999999999,"2017-01-11",1.2757099999999999,"2017-01-12",1.2695700000000001,"2017-01-11",1.27145,"2017-01-05",1.2798,"2017-01-03",1.29962]
[null,"2017-01-11",1.3179000000000001,"2017-01-11",1.31176,"2017-01-10",1.3083149999999999,"2017-01-11",1.2942450000000001,"2017-01-11",1.2894350000000001,"2017-01-10",1.2865839999999999,"2017-01-10",1.28102,"2017-01-11",1.2727200000000001,"2017-01-10",1.27722,"2017-01-04",1.2831600000000001,"2017-01-02",1.2940700000000001]
[null,"2017-01-10",1.3231999999999999,"2017-01-10",1.3169900000000001,"2017-01-09",1.3064819999999999,"2017-01-10",1.2998879999999999,"2017-01-10",1.295115,"2017-01-09",1.2898289999999999,"2017-01-09",1.2813600000000001,"2017-01-10",1.27826,"2017-01-09",1.27793,"2017-01-03",1.29681]
[null,"2017-01-09",1.3216000000000001,"2017-01-09",1.3153649999999999,"2017-01-06",1.308775,"2017-01-09",1.2984,"2017-01-09",1.2940149999999999,"2017-01-06",1.288743,"2017-01-06",1.281825,"2017-01-09",1.27885,"2017-01-06",1.278505,"2017-01-02",1.29247]
[null,"2017-01-06",1.3237000000000001,"2017-01-06",1.31735,"2017-01-05",1.307164,"2017-01-06",1.300049,"2017-01-06",1.29288,"2017-01-05",1.2870440000000001,"2017-01-05",1.2819,"2017-01-06",1.2790299999999999,"2017-01-05",1.27824]
[null,"2017-01-05",1.3225,"2017-01-05",1.31595,"2017-01-04",1.315321,"2017-01-05",1.2994889999999999,"2017-01-05",1.2919449999999999,"2017-01-04",1.2941609999999999,"2017-01-04",1.2872300000000001,"2017-01-05",1.2791399999999999,"2017-01-04",1.2828949999999999]
[null,"2017-01-04",1.3302,"2017-01-04",1.3237099999999999,"2017-01-03",1.32765,"2017-01-04",1.306956,"2017-01-04",1.302095,"2017-01-03",1.306068,"2017-01-03",1.2992900000000001,"2017-01-04",1.28382,"2017-01-03",1.2958000000000001]
[null,"2017-01-03",1.3427,"2017-01-03",1.33619,"2017-01-02",1.328225,"2017-01-03",1.3189,"2017-01-03",1.3140050000000001,"2017-01-02",1.30369,"2017-01-02",1.2981,"2017-01-03",1.2963499999999999,"2017-01-02",1.2925500000000001]
[null,"2017-01-02",1.3443000000000001,"2017-01-02",1.3388789999999999,null,null,"2017-01-02",1.31911,"2017-01-02",1.3118449999999999,null,null,null,null,"2017-01-02",1.2942]

{"sheet":"USSW","index":9,"n_rows":266,"n_cols":21,"rows_kept":266,"cut":false,"hidden":false,"merged":[]}
[]
[null,"TAB: USD FLOAT-TO-FIXED MARKET SWAP CURVES"]
[]
[null,"USSW1",null,"USSW2",null,"USSW3",null,"USSW4",null,"USSW5",null,"USSW6",null,"USSW7",null,"USSW8",null,"USSW9",null,"USSW10"]
[]
[null,"Date","Last Price","Date","Last Price","Date","Last Price","Date","Last Price","Date","Last Price","Date","Last Price","Date","Last Price","Date","Last Price","Date","Last Price","Date","Last Price"]
[null,"2017-12-29",1.8992,"2017-12-29",2.0779999999999998,"2017-12-29",2.169,"2017-12-29",2.2105000000000001,"2017-12-29",2.2437,"2017-12-29",2.2765,"2017-12-29",2.3106,"2017-12-29",2.3412000000000002,"2017-12-29",2.37,"2017-12-29",2.3980000000000001]
[null,"2017-12-28",1.9055,"2017-12-28",2.0867,"2017-12-28",2.1814,"2017-12-28",2.2317999999999998,"2017-12-28",2.2706,"2017-12-28",2.3039000000000001,"2017-12-28",2.3361999999999998,"2017-12-28",2.3654000000000002,"2017-12-28",2.3914,"2017-12-28",2.4188999999999998]
[null,"2017-12-27",1.8996,"2017-12-27",2.0718999999999999,"2017-12-27",2.1637,"2017-12-27",2.2124999999999999,"2017-12-27",2.2469999999999999,"2017-12-27",2.2810000000000001,"2017-12-27",2.3130000000000002,"2017-12-27",2.3420000000000001,"2017-12-27",2.3694000000000002,"2017-12-27",2.3955000000000002]
[null,"2017-12-26",1.913,"2017-12-26",2.0973000000000002,"2017-12-26",2.1926000000000001,"2017-12-26",2.2471999999999999,"2017-12-26",2.2864,"2017-12-26",2.3266,"2017-12-26",2.3592,"2017-12-26",2.3900999999999999,"2017-12-26",2.4188000000000001,"2017-12-26",2.4483000000000001]
[null,"2017-12-22",1.9156,"2017-12-22",2.1,"2017-12-22",2.1970000000000001,"2017-12-25",2.2543000000000002,"2017-12-25",2.2949999999999999,"2017-12-25",2.3355000000000001,"2017-12-22",2.3719000000000001,"2017-12-25",2.4041999999999999,"2017-12-25",2.4348999999999998,"2017-12-25",2.4685000000000001]
[null,"2017-12-21",1.9043000000000001,"2017-12-21",2.0851999999999999,"2017-12-21",2.1859999999999999,"2017-12-22",2.2536,"2017-12-22",2.2949000000000002,"2017-12-22",2.3355000000000001,"2017-12-21",2.3723000000000001,"2017-12-22",2.403,"2017-12-22",2.4335,"2017-12-22",2.4615]
[null,"2017-12-20",1.8895999999999999,"2017-12-20",2.0710000000000002,"2017-12-20",2.1699000000000002,"2017-12-21",2.2458,"2017-12-21",2.2938000000000001,"2017-12-21",2.3340000000000001,"2017-12-20",2.3693,"2017-12-21",2.4062000000000001,"2017-12-21",2.4388999999999998,"2017-12-21",2.4676999999999998]
[null,"2017-12-19",1.8845000000000001,"2017-12-19",2.0623999999999998,"2017-12-19",2.1574,"2017-12-20",2.2341000000000002,"2017-12-20",2.2841999999999998,"2017-12-20",2.3288000000000002,"2017-12-19",2.3460000000000001,"2017-12-20",2.4079000000000002,"2017-12-20",2.4432,"2017-12-20",2.4742999999999999]
[null,"2017-12-18",1.8641000000000001,"2017-12-18",2.0339,"2017-12-18",2.1223999999999998,"2017-12-19",2.2191000000000001,"2017-12-19",2.2675999999999998,"2017-12-19",2.3079000000000001,"2017-12-18",2.2921,"2017-12-19",2.3812000000000002,"2017-12-19",2.4140000000000001,"2017-12-19",2.4445000000000001]
[null,"2017-12-15",1.8568,"2017-12-15",2.0251999999999999,"2017-12-15",2.1139000000000001,"2017-12-18",2.1779000000000002,"2017-12-18",2.2193999999999998,"2017-12-18",2.2557,"2017-12-15",2.2606000000000002,"2017-12-18",2.3241000000000001,"2017-12-18",2.3555000000000001,"2017-12-18",2.3849999999999998]
[null,"2017-12-14",1.8443000000000001,"2017-12-14",2.0129999999999999,"2017-12-14",2.1025,"2017-12-15",2.1640000000000001,"2017-12-15",2.2002000000000002,"2017-12-15",2.2320000000000002,"2017-12-14",2.2585000000000002,"2017-12-15",2.2888000000000002,"2017-12-15",2.3176000000000001,"2017-12-15",2.3433000000000002]
[null,"2017-12-13",1.8245,"2017-12-13",1.9834000000000001,"2017-12-13",2.0706000000000002,"2017-12-14",2.1524999999999999,"2017-12-14",2.1949999999999998,"2017-12-14",2.2271999999999998,"2017-12-13",2.2461000000000002,"2017-12-14",2.2898000000000001,"2017-12-14",2.3182999999999998,"2017-12-14",2.3456999999999999]
[null,"2017-12-12",1.8467,"2017-12-12",2.0259,"2017-12-12",2.1233,"2017-12-13",2.1259999999999999,"2017-12-13",2.1675,"2017-12-13",2.2084000000000001,"2017-12-12",2.3111000000000002,"2017-12-13",2.2797000000000001,"2017-12-13",2.3140000000000001,"2017-12-13",2.3464999999999998]
[null,"2017-12-11",1.8348,"2017-12-11",2.0148999999999999,"2017-12-11",2.1105999999999998,"2017-12-12",2.1850999999999998,"2017-12-12",2.2336999999999998,"2017-12-12",2.2732999999999999,"2017-12-11",2.3005,"2017-12-12",2.3452000000000002,"2017-12-12",2.3788,"2017-12-12",2.4081999999999999]
[null,"2017-12-08",1.8210999999999999,"2017-12-08",1.9970000000000001,"2017-12-08",2.0935000000000001,"2017-12-11",2.1730999999999998,"2017-12-11",2.2197,"2017-12-11",2.262,"2017-12-08",2.2860999999999998,"2017-12-11",2.3374000000000001,"2017-12-11",2.3717000000000001,"2017-12-11",2.4003000000000001]
[null,"2017-12-07",1.8120000000000001,"2017-12-07",1.9914000000000001,"2017-12-07",2.0870000000000002,"2017-12-08",2.1537999999999999,"2017-12-08",2.2029000000000001,"2017-12-08",2.2458,"2017-12-07",2.2799999999999998,"2017-12-08",2.3239999999999998,"2017-12-08",2.3570000000000002,"2017-12-08",2.3881999999999999]
[null,"2017-12-06",1.8048,"2017-12-06",1.9847999999999999,"2017-12-06",2.0798999999999999,"2017-12-07",2.1497999999999999,"2017-12-07",2.2000000000000002,"2017-12-07",2.2414999999999998,"2017-12-06",2.2639999999999998,"2017-12-07",2.3147000000000002,"2017-12-07",2.3483000000000001,"2017-12-07",2.3784999999999998]
[null,"2017-12-05",1.8061,"2017-12-05",1.9950000000000001,"2017-12-05",2.0960999999999999,"2017-12-06",2.141,"2017-12-06",2.1873,"2017-12-06",2.2261000000000002,"2017-12-05",2.2749999999999999,"2017-12-06",2.2976999999999999,"2017-12-06",2.33,"2017-12-06",2.3593999999999999]
[null,"2017-12-04",1.7958000000000001,"2017-12-04",1.9883999999999999,"2017-12-04",2.0939999999999999,"2017-12-05",2.1553,"2017-12-05",2.1995,"2017-12-05",2.2385000000000002,"2017-12-04",2.2875000000000001,"2017-12-05",2.3069999999999999,"2017-12-05",2.3384999999999998,"2017-12-05",2.3673000000000002]
[null,"2017-12-01",1.7749999999999999,"2017-12-01",1.9592000000000001,"2017-12-01",2.0648,"2017-12-04",2.1568000000000001,"2017-12-04",2.2035,"2017-12-04",2.2471000000000001,"2017-12-01",2.2589999999999999,"2017-12-04",2.3249,"2017-12-04",2.3580000000000001,"2017-12-04",2.3896000000000002]
[null,"2017-11-30",1.7831999999999999,"2017-11-30",1.9704999999999999,"2017-11-30",2.0781000000000001,"2017-12-01",2.1267999999999998,"2017-12-01",2.1736,"2017-12-01",2.2168999999999999,"2017-11-30",2.2919999999999998,"2017-12-01",2.2972999999999999,"2017-12-01",2.3294999999999999,"2017-12-01",2.3635999999999999]
[null,"2017-11-29",1.7685,"2017-11-29",1.9438,"2017-11-29",2.0463,"2017-11-30",2.1461999999999999,"2017-11-30",2.1989999999999998,"2017-11-30",2.2467999999999999,"2017-11-29",2.2643,"2017-11-30",2.3340000000000001,"2017-11-30",2.3708,"2017-11-30",2.4055]
[null,"2017-11-28",1.7543,"2017-11-28",1.9198,"2017-11-28",2.0143,"2017-11-29",2.1143000000000001,"2017-11-29",2.1694,"2017-11-29",2.2183999999999999,"2017-11-28",2.21,"2017-11-29",2.3056999999999999,"2017-11-29",2.3448000000000002,"2017-11-29",2.3809999999999998]
[null,"2017-11-27",1.7547999999999999,"2017-11-27",1.9197,"2017-11-27",2.0105,"2017-11-28",2.0754999999999999,"2017-11-28",2.1253000000000002,"2017-11-28",2.1688999999999998,"2017-11-27",2.2033999999999998,"2017-11-28",2.2507000000000001,"2017-11-28",2.2875000000000001,"2017-11-28",2.3214000000000001]
[null,"2017-11-24",1.7527999999999999,"2017-11-24",1.9242999999999999,"2017-11-24",2.0232999999999999,"2017-11-27",2.0731000000000002,"2017-11-27",2.1133999999999999,"2017-11-27",2.1648999999999998,"2017-11-24",2.2269000000000001,"2017-11-27",2.2490999999999999,"2017-11-27",2.2847,"2017-11-27",2.3205]
[null,"2017-11-23",1.7431000000000001,"2017-11-23",1.909,"2017-11-23",2.0055000000000001,"2017-11-24",2.0840000000000001,"2017-11-24",2.1326000000000001,"2017-11-24",2.1827000000000001,"2017-11-23",2.2118000000000002,"2017-11-24",2.2686999999999999,"2017-11-24",2.3071999999999999,"2017-11-24",2.3405]
[null,"2017-11-22",1.7377,"2017-11-22",1.9037999999999999,"2017-11-22",1.9991000000000001,"2017-11-23",2.0630999999999999,"2017-11-23",2.1137999999999999,"2017-11-23",2.1642999999999999,"2017-11-22",2.2065000000000001,"2017-11-23",2.2471999999999999,"2017-11-23",2.2839999999999998,"2017-11-23",2.3235999999999999]
[null,"2017-11-21",1.7563,"2017-11-21",1.9429000000000001,"2017-11-21",2.0486,"2017-11-22",2.0629,"2017-11-22",2.1135999999999999,"2017-11-22",2.1608000000000001,"2017-11-21",2.2513000000000001,"2017-11-22",2.2465000000000002,"2017-11-22",2.2848999999999999,"2017-11-22",2.3199000000000001]
[null,"2017-11-20",1.7403999999999999,"2017-11-20",1.9195,"2017-11-20",2.0247000000000002,"2017-11-21",2.1128999999999998,"2017-11-21",2.1638000000000002,"2017-11-21",2.2067999999999999,"2017-11-20",2.2467999999999999,"2017-11-21",2.2896000000000001,"2017-11-21",2.3271000000000002,"2017-11-21",2.3599000000000001]
[null,"2017-11-17",1.718,"2017-11-17",1.8888,"2017-11-17",1.9896,"2017-11-20",2.0933000000000002,"2017-11-20",2.149,"2017-11-20",2.1983000000000001,"2017-11-17",2.2181000000000002,"2017-11-20",2.2887,"2017-11-20",2.3290000000000002,"2017-11-20",2.3637000000000001]
[null,"2017-11-16",1.7151000000000001,"2017-11-16",1.8897999999999999,"2017-11-16",1.9984,"2017-11-17",2.0594999999999999,"2017-11-17",2.1183000000000001,"2017-11-17",2.1686000000000001,"2017-11-16",2.2395999999999998,"2017-11-17",2.2614999999999998,"2017-11-17",2.3016999999999999,"2017-11-17",2.3384999999999998]
[null,"2017-11-15",1.6928000000000001,"2017-11-15",1.8577999999999999,"2017-11-15",1.9607000000000001,"2017-11-16",2.0708000000000002,"2017-11-16",2.125,"2017-11-16",2.1886000000000001,"2017-11-15",2.1901999999999999,"2017-11-16",2.2871999999999999,"2017-11-16",2.33,"2017-11-16",2.3704999999999998]
[null,"2017-11-14",1.6968000000000001,"2017-11-14",1.8734,"2017-11-14",1.9802999999999999,"2017-11-15",2.0295000000000001,"2017-11-15",2.0849000000000002,"2017-11-15",2.1377999999999999,"2017-11-14",2.2341000000000002,"2017-11-15",2.2326999999999999,"2017-11-15",2.2730999999999999,"2017-11-15",2.3119000000000001]
[null,"2017-11-13",1.6972,"2017-11-13",1.8806,"2017-11-13",1.9954000000000001,"2017-11-14",2.0556000000000001,"2017-11-14",2.1192000000000002,"2017-11-14",2.1775000000000002,"2017-11-13",2.2504,"2017-11-14",2.2725,"2017-11-14",2.3174000000000001,"2017-11-14",2.3559999999999999]
[null,"2017-11-10",1.6852,"2017-11-10",1.8567,"2017-11-10",1.9649000000000001,"2017-11-13",2.0737000000000001,"2017-11-13",2.1391,"2017-11-13",2.2008000000000001,"2017-11-10",2.2391999999999999,"2017-11-13",2.3085,"2017-11-13",2.3534000000000002,"2017-11-13",2.3938999999999999]
[null,"2017-11-09",1.675,"2017-11-09",1.8364,"2017-11-09",1.9404999999999999,"2017-11-10",2.0474999999999999,"2017-11-10",2.1185,"2017-11-10",2.1804999999999999,"2017-11-09",2.1919,"2017-11-10",2.2892000000000001,"2017-11-10",2.3370000000000002,"2017-11-10",2.3788]
[null,"2017-11-08",1.6771,"2017-11-08",1.8440000000000001,"2017-11-08",1.9454,"2017-11-09",2.0167000000000002,"2017-11-09",2.0802999999999998,"2017-11-09",2.1383000000000001,"2017-11-08",2.1829999999999998,"2017-11-09",2.2400000000000002,"2017-11-09",2.2841999999999998,"2017-11-09",2.3235000000000001]
[null,"2017-11-07",1.6718,"2017-11-07",1.8371999999999999,"2017-11-07",1.9377,"2017-11-08",2.0186000000000002,"2017-11-08",2.0693000000000001,"2017-11-08",2.1333000000000002,"2017-11-07",2.1614,"2017-11-08",2.2296,"2017-11-08",2.2709999999999999,"2017-11-08",2.3090000000000002]
[null,"2017-11-06",1.6642999999999999,"2017-11-06",1.8262,"2017-11-06",1.9295,"2017-11-07",2.0068000000000001,"2017-11-07",2.0649000000000002,"2017-11-07",2.1181999999999999,"2017-11-06",2.1621999999999999,"2017-11-07",2.2124999999999999,"2017-11-07",2.2557,"2017-11-07",2.294]
[null,"2017-11-03",1.6575,"2017-11-03",1.8234999999999999,"2017-11-03",1.9314,"2017-11-06",1.9999,"2017-11-06",2.0581999999999998,"2017-11-06",2.1133000000000002,"2017-11-03",2.1833999999999998,"2017-11-06",2.2121,"2017-11-06",2.2532999999999999,"2017-11-06",2.2919999999999998]
[null,"2017-11-02",1.6515,"2017-11-02",1.8205,"2017-11-02",1.9296,"2017-11-03",2.0045999999999999,"2017-11-03",2.0762999999999998,"2017-11-03",2.1251000000000002,"2017-11-02",2.1922999999999999,"2017-11-03",2.2286999999999999,"2017-11-03",2.2719999999999998,"2017-11-03",2.3119999999999998]
[null,"2017-11-01",1.6529,"2017-11-01",1.8298000000000001,"2017-11-01",1.9418,"2017-11-02",2.0087999999999999,"2017-11-02",2.0743,"2017-11-02",2.137,"2017-11-01",2.2128000000000001,"2017-11-02",2.2452999999999999,"2017-11-02",2.2867999999999999,"2017-11-02",2.3281999999999998]
[null,"2017-10-31",1.6403000000000001,"2017-10-31",1.8178000000000001,"2017-10-31",1.9356,"2017-11-01",2.0225,"2017-11-01",2.0909,"2017-11-01",2.1537000000000002,"2017-10-31",2.2118000000000002,"2017-11-01",2.2650000000000001,"2017-11-01",2.3119000000000001,"2017-11-01",2.3540000000000001]
[null,"2017-10-30",1.6294,"2017-10-30",1.8027,"2017-10-30",1.9185000000000001,"2017-10-31",2.0190000000000001,"2017-10-31",2.0905,"2017-10-31",2.1537999999999999,"2017-10-30",2.2016,"2017-10-31",2.2614000000000001,"2017-10-31",2.3102,"2017-10-31",2.3517000000000001]
[null,"2017-10-27",1.6356999999999999,"2017-10-27",1.8222,"2017-10-27",1.9432,"2017-10-30",2.0034000000000001,"2017-10-30",2.0733999999999999,"2017-10-30",2.1395,"2017-10-27",2.2332999999999998,"2017-10-30",2.2544,"2017-10-30",2.3025000000000002,"2017-10-30",2.3462000000000001]
[null,"2017-10-26",1.6451,"2017-10-26",1.8445,"2017-10-26",1.9782999999999999,"2017-10-27",2.0299,"2017-10-27",2.1172,"2017-10-27",2.1726000000000001,"2017-10-26",2.2864,"2017-10-27",2.2881999999999998,"2017-10-27",2.3382000000000001,"2017-10-27",2.3803999999999998]
[null,"2017-10-25",1.6334,"2017-10-25",1.8245,"2017-10-25",1.9523999999999999,"2017-10-26",2.0726,"2017-10-26",2.1457999999999999,"2017-10-26",2.2212000000000001,"2017-10-25",2.2578999999999998,"2017-10-26",2.3414999999999999,"2017-10-26",2.3921999999999999,"2017-10-26",2.4361999999999999]
[null,"2017-10-24",1.6273,"2017-10-24",1.8221000000000001,"2017-10-24",1.9483999999999999,"2017-10-25",2.0449999999999999,"2017-10-25",2.1339999999999999,"2017-10-25",2.1928000000000001,"2017-10-24",2.2524000000000002,"2017-10-25",2.3142,"2017-10-25",2.3631000000000002,"2017-10-25",2.4085999999999999]
[null,"2017-10-23",1.6165,"2017-10-23",1.7978000000000001,"2017-10-23",1.919,"2017-10-24",2.0404,"2017-10-24",2.1181999999999999,"2017-10-24",2.1880000000000002,"2017-10-23",2.2019000000000002,"2017-10-24",2.3071000000000002,"2017-10-24",2.3553999999999999,"2017-10-24",2.4001999999999999]
[null,"2017-10-20",1.6234,"2017-10-20",1.8163,"2017-10-20",1.9391,"2017-10-23",2.0045000000000002,"2017-10-23",2.0731000000000002,"2017-10-23",2.1389,"2017-10-20",2.2172000000000001,"2017-10-23",2.2509999999999999,"2017-10-23",2.2997999999999998,"2017-10-23",2.3412999999999999]
[null,"2017-10-19",1.6064000000000001,"2017-10-19",1.7809999999999999,"2017-10-19",1.8917999999999999,"2017-10-20",2.0257000000000001,"2017-10-20",2.0960000000000001,"2017-10-20",2.1621000000000001,"2017-10-19",2.1573000000000002,"2017-10-20",2.2740999999999998,"2017-10-20",2.3205,"2017-10-20",2.3613]
[null,"2017-10-18",1.6208,"2017-10-18",1.8112999999999999,"2017-10-18",1.9288000000000001,"2017-10-19",1.9722,"2017-10-19",2.0379999999999998,"2017-10-19",2.1002999999999998,"2017-10-18",2.1897000000000002,"2017-10-19",2.2117,"2017-10-19",2.2568000000000001,"2017-10-19",2.2972000000000001]
[null,"2017-10-17",1.62,"2017-10-17",1.8062,"2017-10-17",1.9132,"2017-10-18",2.0105,"2017-10-18",2.0756999999999999,"2017-10-18",2.1352000000000002,"2017-10-17",2.1511,"2017-10-18",2.2397999999999998,"2017-10-18",2.2841999999999998,"2017-10-18",2.3235000000000001]
[null,"2017-10-16",1.6162000000000001,"2017-10-16",1.7975000000000001,"2017-10-16",1.9060999999999999,"2017-10-17",1.9869000000000001,"2017-10-17",2.0354000000000001,"2017-10-17",2.0977999999999999,"2017-10-16",2.1434000000000002,"2017-10-17",2.1962000000000002,"2017-10-17",2.2423999999999999,"2017-10-17",2.2822]
[null,"2017-10-13",1.5915999999999999,"2017-10-13",1.7524999999999999,"2017-10-13",1.8505,"2017-10-16",1.9773000000000001,"2017-10-16",2.0373999999999999,"2017-10-16",2.0912000000000002,"2017-10-13",2.0954999999999999,"2017-10-16",2.1915,"2017-10-16",2.2385000000000002,"2017-10-16",2.2761999999999998]
[null,"2017-10-12",1.605,"2017-10-12",1.7733000000000001,"2017-10-12",1.8785000000000001,"2017-10-13",1.9217,"2017-10-13",1.9819,"2017-10-13",2.0407999999999999,"2017-10-12",2.137,"2017-10-13",2.1515,"2017-10-13",2.1949999999999998,"2017-10-13",2.2355]
[null,"2017-10-11",1.6074999999999999,"2017-10-11",1.7803,"2017-10-11",1.8897999999999999,"2017-10-12",1.9548000000000001,"2017-10-12",2.0203000000000002,"2017-10-12",2.0788000000000002,"2017-10-11",2.1576,"2017-10-12",2.1884999999999999,"2017-10-12",2.2341000000000002,"2017-10-12",2.2768999999999999]
[null,"2017-10-10",1.6044,"2017-10-10",1.7778,"2017-10-10",1.8867,"2017-10-11",1.9673,"2017-10-11",2.0301,"2017-10-11",2.0985999999999998,"2017-10-10",2.1676000000000002,"2017-10-11",2.2111999999999998,"2017-10-11",2.2595000000000001,"2017-10-11",2.3033999999999999]
[null,"2017-10-09",1.6043000000000001,"2017-10-09",1.778,"2017-10-09",1.8915,"2017-10-10",1.9704999999999999,"2017-10-10",2.0415000000000001,"2017-10-10",2.1071,"2017-10-09",2.1709000000000001,"2017-10-10",2.222,"2017-10-10",2.2713000000000001,"2017-10-10",2.3163]
[null,"2017-10-06",1.5998000000000001,"2017-10-06",1.7713000000000001,"2017-10-06",1.8853,"2017-10-09",1.9724999999999999,"2017-10-09",2.0390000000000001,"2017-10-09",2.1073,"2017-10-06",2.1688999999999998,"2017-10-09",2.2244000000000002,"2017-10-09",2.2747999999999999,"2017-10-09",2.3172999999999999]
[null,"2017-10-05",1.5928,"2017-10-05",1.7618,"2017-10-05",1.871,"2017-10-06",1.9697,"2017-10-06",2.0411000000000001,"2017-10-06",2.1074999999999999,"2017-10-05",2.1545000000000001,"2017-10-06",2.2235,"2017-10-06",2.2715000000000001,"2017-10-06",2.3144999999999998]
[null,"2017-10-04",1.581,"2017-10-04",1.7436,"2017-10-04",1.8494999999999999,"2017-10-05",1.9531000000000001,"2017-10-05",2.0278,"2017-10-05",2.0926999999999998,"2017-10-04",2.1297999999999999,"2017-10-05",2.2097000000000002,"2017-10-05",2.2610999999999999,"2017-10-05",2.3027000000000002]
[null,"2017-10-03",1.5730999999999999,"2017-10-03",1.7377,"2017-10-03",1.8424,"2017-10-04",1.9291,"2017-10-04",2.0055000000000001,"2017-10-04",2.0688,"2017-10-03",2.1299000000000001,"2017-10-04",2.1880999999999999,"2017-10-04",2.2376,"2017-10-04",2.2825000000000002]
[null,"2017-10-02",1.5673999999999999,"2017-10-02",1.7424999999999999,"2017-10-02",1.853,"2017-10-03",1.9248000000000001,"2017-10-03",2.0045000000000002,"2017-10-03",2.0668000000000002,"2017-10-02",2.1478000000000002,"2017-10-03",2.1861999999999999,"2017-10-03",2.2372999999999998,"2017-10-03",2.2812000000000001]
[null,"2017-09-29",1.5652999999999999,"2017-09-29",1.7410000000000001,"2017-09-29",1.8577999999999999,"2017-10-02",1.9393,"2017-10-02",2.0045000000000002,"2017-10-02",2.0832999999999999,"2017-09-29",2.1414,"2017-10-02",2.2040999999999999,"2017-10-02",2.2553999999999998,"2017-10-02",2.3005]
[null,"2017-09-28",1.5497000000000001,"2017-09-28",1.7015,"2017-09-28",1.8078000000000001,"2017-09-29",1.9407000000000001,"2017-09-29",2.0038999999999998,"2017-09-29",2.0828000000000002,"2017-09-28",2.1088,"2017-09-29",2.1941000000000002,"2017-09-29",2.2454999999999998,"2017-09-29",2.2909999999999999]
[null,"2017-09-27",1.5660000000000001,"2017-09-27",1.7283999999999999,"2017-09-27",1.8342000000000001,"2017-09-28",1.8956,"2017-09-28",1.9721,"2017-09-28",2.0430999999999999,"2017-09-27",2.1160999999999999,"2017-09-28",2.1674000000000002,"2017-09-28",2.2227000000000001,"2017-09-28",2.2682000000000002]
[null,"2017-09-26",1.5544,"2017-09-26",1.7069000000000001,"2017-09-26",1.8045,"2017-09-27",1.9141999999999999,"2017-09-27",1.9885999999999999,"2017-09-27",2.0548999999999999,"2017-09-26",2.0586000000000002,"2017-09-27",2.1739999999999999,"2017-09-27",2.2206999999999999,"2017-09-27",2.27]
[null,"2017-09-25",1.5432999999999999,"2017-09-25",1.6904999999999999,"2017-09-25",1.7867,"2017-09-26",1.8762000000000001,"2017-09-26",1.9316,"2017-09-26",2.0005000000000002,"2017-09-25",2.0402,"2017-09-26",2.1059000000000001,"2017-09-26",2.1549999999999998,"2017-09-26",2.1978]
[null,"2017-09-22",1.5502,"2017-09-22",1.7015,"2017-09-22",1.8031999999999999,"2017-09-25",1.8579000000000001,"2017-09-25",1.9217,"2017-09-25",1.9844999999999999,"2017-09-22",2.0722,"2017-09-25",2.0951,"2017-09-25",2.1423000000000001,"2017-09-25",2.1855000000000002]
[null,"2017-09-21",1.5555000000000001,"2017-09-21",1.7135,"2017-09-21",1.8208,"2017-09-22",1.8806,"2017-09-22",1.9510000000000001,"2017-09-22",2.0116999999999998,"2017-09-21",2.1002000000000001,"2017-09-22",2.1267999999999998,"2017-09-22",2.1751,"2017-09-22",2.2187999999999999]
[null,"2017-09-20",1.5461,"2017-09-20",1.7013,"2017-09-20",1.8047,"2017-09-21",1.9028,"2017-09-21",1.9718,"2017-09-21",2.0373999999999999,"2017-09-20",2.0880999999999998,"2017-09-21",2.1549999999999998,"2017-09-21",2.2023000000000001,"2017-09-21",2.2477]
[null,"2017-09-19",1.5236000000000001,"2017-09-19",1.6635,"2017-09-19",1.7614000000000001,"2017-09-20",1.8867,"2017-09-20",1.9587000000000001,"2017-09-20",2.024,"2017-09-19",2.0522,"2017-09-20",2.1436000000000002,"2017-09-20",2.1903999999999999,"2017-09-20",2.2332000000000001]
[null,"2017-09-18",1.5161,"2017-09-18",1.6531,"2017-09-18",1.7569999999999999,"2017-09-19",1.8427,"2017-09-19",1.9168000000000001,"2017-09-19",1.9854000000000001,"2017-09-18",2.0427,"2017-09-19",2.1097999999999999,"2017-09-19",2.1617000000000002,"2017-09-19",2.2086000000000001]
[null,"2017-09-15",1.5004999999999999,"2017-09-15",1.6375,"2017-09-15",1.7367999999999999,"2017-09-18",1.8378000000000001,"2017-09-18",1.9119999999999999,"2017-09-18",1.9810000000000001,"2017-09-15",2.0164,"2017-09-18",2.1023000000000001,"2017-09-18",2.1536,"2017-09-18",2.1987000000000001]
[null,"2017-09-14",1.488,"2017-09-14",1.613,"2017-09-14",1.7081999999999999,"2017-09-15",1.8185,"2017-09-15",1.8894,"2017-09-15",1.9590000000000001,"2017-09-14",1.9954000000000001,"2017-09-15",2.077,"2017-09-15",2.1276999999999999,"2017-09-15",2.1734]
[null,"2017-09-13",1.4691000000000001,"2017-09-13",1.5885,"2017-09-13",1.6835,"2017-09-14",1.7887,"2017-09-14",1.865,"2017-09-14",1.9315,"2017-09-13",1.9863999999999999,"2017-09-14",2.0543999999999998,"2017-09-14",2.1082000000000001,"2017-09-14",2.1547999999999998]
[null,"2017-09-12",1.4544999999999999,"2017-09-12",1.5674999999999999,"2017-09-12",1.6586000000000001,"2017-09-13",1.7659,"2017-09-13",1.8452999999999999,"2017-09-13",1.9155,"2017-09-12",1.9543999999999999,"2017-09-13",2.0442999999999998,"2017-09-13",2.0983000000000001,"2017-09-13",2.1478000000000002]
[null,"2017-09-11",1.4413,"2017-09-11",1.548,"2017-09-11",1.6351,"2017-09-12",1.74,"2017-09-12",1.8159000000000001,"2017-09-12",1.8871,"2017-09-11",1.9226000000000001,"2017-09-12",2.0150000000000001,"2017-09-12",2.0697999999999999,"2017-09-12",2.1187]
[null,"2017-09-08",1.4105000000000001,"2017-09-08",1.502,"2017-09-08",1.5783,"2017-09-11",1.7112000000000001,"2017-09-11",1.7849999999999999,"2017-09-11",1.8535999999999999,"2017-09-08",1.8511,"2017-09-11",1.9817,"2017-09-11",2.0371999999999999,"2017-09-11",2.0848]
[null,"2017-09-07",1.4192,"2017-09-07",1.5058,"2017-09-07",1.5785,"2017-09-08",1.6483000000000001,"2017-09-08",1.7168000000000001,"2017-09-08",1.7859,"2017-09-07",1.8413999999999999,"2017-09-08",1.9101999999999999,"2017-09-08",1.9641999999999999,"2017-09-08",2.0129000000000001]
[null,"2017-09-06",1.4359999999999999,"2017-09-06",1.5346,"2017-09-06",1.6149,"2017-09-07",1.6459999999999999,"2017-09-07",1.7116,"2017-09-07",1.7775000000000001,"2017-09-06",1.8991,"2017-09-07",1.9,"2017-09-07",1.9536,"2017-09-07",2.0019999999999998]
[null,"2017-09-05",1.4253,"2017-09-05",1.5092000000000001,"2017-09-05",1.5802,"2017-09-06",1.6887000000000001,"2017-09-06",1.7571000000000001,"2017-09-06",1.8273999999999999,"2017-09-05",1.8480000000000001,"2017-09-06",1.9609000000000001,"2017-09-06",2.0156999999999998,"2017-09-06",2.0657999999999999]
[null,"2017-09-04",1.4408000000000001,"2017-09-04",1.536,"2017-09-04",1.6185,"2017-09-05",1.6462000000000001,"2017-09-05",1.7110000000000001,"2017-09-05",1.7858000000000001,"2017-09-04",1.9094,"2017-09-05",1.9146000000000001,"2017-09-05",1.958,"2017-09-05",2.0104000000000002]
[null,"2017-09-01",1.4473,"2017-09-01",1.554,"2017-09-01",1.6423000000000001,"2017-09-04",1.7064999999999999,"2017-09-04",1.7969999999999999,"2017-09-04",1.8740000000000001,"2017-09-01",1.9455,"2017-09-04",2.0110000000000001,"2017-09-04",2.0659999999999998,"2017-09-04",2.0825]
[null,"2017-08-31",1.4384999999999999,"2017-08-31",1.5349999999999999,"2017-08-31",1.6174999999999999,"2017-09-01",1.7209000000000001,"2017-09-01",1.798,"2017-09-01",1.8743000000000001,"2017-08-31",1.8996999999999999,"2017-09-01",2.008,"2017-09-01",2.0651000000000002,"2017-09-01",2.1194999999999999]
[null,"2017-08-30",1.4381999999999999,"2017-08-30",1.5371999999999999,"2017-08-30",1.6205000000000001,"2017-08-31",1.6904999999999999,"2017-08-31",1.7615000000000001,"2017-08-31",1.8324,"2017-08-30",1.9128000000000001,"2017-08-31",1.9602999999999999,"2017-08-31",2.016,"2017-08-31",2.0669]
[null,"2017-08-29",1.4285000000000001,"2017-08-29",1.5205,"2017-08-29",1.6025,"2017-08-30",1.6975,"2017-08-30",1.7717000000000001,"2017-08-30",1.8439000000000001,"2017-08-29",1.9005000000000001,"2017-08-30",1.9742,"2017-08-30",2.0287999999999999,"2017-08-30",2.0789]
[null,"2017-08-28",1.4447000000000001,"2017-08-28",1.5474000000000001,"2017-08-28",1.6306,"2017-08-29",1.6828000000000001,"2017-08-29",1.7585999999999999,"2017-08-29",1.8345,"2017-08-28",1.927,"2017-08-29",1.9624999999999999,"2017-08-29",2.0188999999999999,"2017-08-29",2.0695999999999999]
[null,"2017-08-25",1.4553,"2017-08-25",1.5623,"2017-08-25",1.6524000000000001,"2017-08-28",1.7108000000000001,"2017-08-28",1.7867,"2017-08-28",1.8585,"2017-08-25",1.9484999999999999,"2017-08-28",1.9906999999999999,"2017-08-28",2.0451000000000001,"2017-08-28",2.0958999999999999]
[null,"2017-08-24",1.4584999999999999,"2017-08-24",1.5738000000000001,"2017-08-24",1.6681999999999999,"2017-08-25",1.7322,"2017-08-25",1.8091999999999999,"2017-08-25",1.8816999999999999,"2017-08-24",1.9689000000000001,"2017-08-25",2.0089000000000001,"2017-08-25",2.0619999999999998,"2017-08-25",2.1089000000000002]
[null,"2017-08-23",1.4447000000000001,"2017-08-23",1.5543,"2017-08-23",1.6439999999999999,"2017-08-24",1.7515000000000001,"2017-08-24",1.8248,"2017-08-24",1.9008,"2017-08-23",1.9411,"2017-08-24",2.0310000000000001,"2017-08-24",2.0836999999999999,"2017-08-24",2.1347]
[null,"2017-08-22",1.4598,"2017-08-22",1.5825,"2017-08-22",1.6787000000000001,"2017-08-23",1.7236,"2017-08-23",1.7998000000000001,"2017-08-23",1.8721000000000001,"2017-08-22",1.9888999999999999,"2017-08-23",2,"2017-08-23",2.0589,"2017-08-23",2.1044999999999998]
[null,"2017-08-21",1.4513,"2017-08-21",1.5618000000000001,"2017-08-21",1.6536999999999999,"2017-08-22",1.7618,"2017-08-22",1.8427,"2017-08-22",1.9181999999999999,"2017-08-21",1.9570000000000001,"2017-08-22",2.0518000000000001,"2017-08-22",2.1052,"2017-08-22",2.1555]
[null,"2017-08-18",1.4588000000000001,"2017-08-18",1.5749,"2017-08-18",1.6677999999999999,"2017-08-21",1.7371000000000001,"2017-08-21",1.8137000000000001,"2017-08-21",1.8919999999999999,"2017-08-18",1.9763999999999999,"2017-08-21",2.0198999999999998,"2017-08-21",2.0745,"2017-08-21",2.1265000000000001]
[null,"2017-08-17",1.4595,"2017-08-17",1.5733999999999999,"2017-08-17",1.6655,"2017-08-18",1.7523,"2017-08-18",1.8313999999999999,"2017-08-18",1.9041999999999999,"2017-08-17",1.9697,"2017-08-18",2.0390999999999999,"2017-08-18",2.093,"2017-08-18",2.1435]
[null,"2017-08-16",1.4679,"2017-08-16",1.5888,"2017-08-16",1.6879999999999999,"2017-08-17",1.748,"2017-08-17",1.8249,"2017-08-17",1.8997999999999999,"2017-08-16",2.0055999999999998,"2017-08-17",2.0314000000000001,"2017-08-17",2.0868000000000002,"2017-08-17",2.1354000000000002]
[null,"2017-08-15",1.4755,"2017-08-15",1.6068,"2017-08-15",1.7124999999999999,"2017-08-16",1.7747999999999999,"2017-08-16",1.8547,"2017-08-16",1.9327000000000001,"2017-08-15",2.0510000000000002,"2017-08-16",2.0680000000000001,"2017-08-16",2.1246,"2017-08-16",2.1755]
[null,"2017-08-14",1.4588000000000001,"2017-08-14",1.5760000000000001,"2017-08-14",1.6759999999999999,"2017-08-15",1.8079000000000001,"2017-08-15",1.8949,"2017-08-15",1.9685999999999999,"2017-08-14",2.0003000000000002,"2017-08-15",2.1150000000000002,"2017-08-15",2.1724999999999999,"2017-08-15",2.2239]
[null,"2017-08-11",1.4422999999999999,"2017-08-11",1.5545,"2017-08-11",1.6531,"2017-08-14",1.7635000000000001,"2017-08-14",1.8474999999999999,"2017-08-14",1.9260999999999999,"2017-08-11",1.9744999999999999,"2017-08-14",2.0659000000000001,"2017-08-14",2.1217000000000001,"2017-08-14",2.1743999999999999]
[null,"2017-08-10",1.4603999999999999,"2017-08-10",1.5851999999999999,"2017-08-10",1.6879999999999999,"2017-08-11",1.7423,"2017-08-11",1.8254999999999999,"2017-08-11",1.9032,"2017-08-10",1.9963,"2017-08-11",2.04,"2017-08-11",2.0969000000000002,"2017-08-11",2.1497999999999999]
[null,"2017-08-09",1.4651000000000001,"2017-08-09",1.6063000000000001,"2017-08-09",1.7091000000000001,"2017-08-10",1.7718,"2017-08-10",1.8601000000000001,"2017-08-10",1.9365000000000001,"2017-08-09",2.0405000000000002,"2017-08-10",2.0689000000000002,"2017-08-10",2.113,"2017-08-10",2.1623000000000001]
[null,"2017-08-08",1.4721,"2017-08-08",1.6120000000000001,"2017-08-08",1.72,"2017-08-09",1.8009999999999999,"2017-08-09",1.8859999999999999,"2017-08-09",1.9652000000000001,"2017-08-08",2.0514000000000001,"2017-08-09",2.1061000000000001,"2017-08-09",2.1627000000000001,"2017-08-09",2.2132000000000001]
[null,"2017-08-07",1.4668000000000001,"2017-08-07",1.6032999999999999,"2017-08-07",1.71,"2017-08-08",1.8115000000000001,"2017-08-08",1.8946000000000001,"2017-08-08",1.976,"2017-08-07",2.0430000000000001,"2017-08-08",2.1284000000000001,"2017-08-08",2.1732,"2017-08-08",2.2250999999999999]
[null,"2017-08-04",1.4677,"2017-08-04",1.605,"2017-08-04",1.7141,"2017-08-07",1.8013999999999999,"2017-08-07",1.8862000000000001,"2017-08-07",1.9684999999999999,"2017-08-04",2.0583999999999998,"2017-08-07",2.1089000000000002,"2017-08-07",2.1661999999999999,"2017-08-07",2.2128999999999999]
[null,"2017-08-03",1.4567000000000001,"2017-08-03",1.5869,"2017-08-03",1.6899,"2017-08-04",1.8085,"2017-08-04",1.9006000000000001,"2017-08-04",1.9830000000000001,"2017-08-03",2.0202,"2017-08-04",2.1244000000000001,"2017-08-04",2.1825999999999999,"2017-08-04",2.23]
[null,"2017-08-02",1.4659,"2017-08-02",1.6032999999999999,"2017-08-02",1.7132000000000001,"2017-08-03",1.7816000000000001,"2017-08-03",1.8651,"2017-08-03",1.9479,"2017-08-02",2.0579999999999998,"2017-08-03",2.0857000000000001,"2017-08-03",2.1436000000000002,"2017-08-03",2.1934999999999998]
[null,"2017-08-01",1.4558,"2017-08-01",1.5858000000000001,"2017-08-01",1.6924999999999999,"2017-08-02",1.8098000000000001,"2017-08-02",1.8997999999999999,"2017-08-02",1.9824999999999999,"2017-08-01",2.0310000000000001,"2017-08-02",2.1240000000000001,"2017-08-02",2.1821999999999999,"2017-08-02",2.2345000000000002]
[null,"2017-07-31",1.4595,"2017-07-31",1.5987,"2017-07-31",1.7150000000000001,"2017-08-01",1.7867999999999999,"2017-08-01",1.8743000000000001,"2017-08-01",1.956,"2017-07-31",2.069,"2017-08-01",2.0973000000000002,"2017-08-01",2.1566999999999998,"2017-08-01",2.2088000000000001]
[null,"2017-07-28",1.4544999999999999,"2017-07-28",1.591,"2017-07-28",1.7070000000000001,"2017-07-31",1.8152999999999999,"2017-07-31",1.9077,"2017-07-31",1.9917,"2017-07-28",2.0659999999999998,"2017-07-31",2.1362999999999999,"2017-07-31",2.1959,"2017-07-31",2.2483]
[null,"2017-07-27",1.4593,"2017-07-27",1.6048,"2017-07-27",1.7253000000000001,"2017-07-28",1.8097000000000001,"2017-07-28",1.9038999999999999,"2017-07-28",1.9890000000000001,"2017-07-27",2.09,"2017-07-28",2.1339999999999999,"2017-07-28",2.194,"2017-07-28",2.2458]
[null,"2017-07-26",1.4530000000000001,"2017-07-26",1.5924,"2017-07-26",1.7108000000000001,"2017-07-27",1.8292999999999999,"2017-07-27",1.9239999999999999,"2017-07-27",2.012,"2017-07-26",2.0638000000000001,"2017-07-27",2.1600999999999999,"2017-07-27",2.2214999999999998,"2017-07-27",2.2745000000000002]
[null,"2017-07-25",1.4795,"2017-07-25",1.6328,"2017-07-25",1.7571000000000001,"2017-07-26",1.8112999999999999,"2017-07-26",1.8998999999999999,"2017-07-26",1.9847999999999999,"2017-07-25",2.1202999999999999,"2017-07-26",2.1337000000000002,"2017-07-26",2.1928999999999998,"2017-07-26",2.2482000000000002]
[null,"2017-07-24",1.4622999999999999,"2017-07-24",1.5995999999999999,"2017-07-24",1.7141,"2017-07-25",1.8634999999999999,"2017-07-25",1.9590000000000001,"2017-07-25",2.0436999999999999,"2017-07-24",2.0470000000000002,"2017-07-25",2.1867000000000001,"2017-07-25",2.2450999999999999,"2017-07-25",2.2985000000000002]
[null,"2017-07-21",1.4548000000000001,"2017-07-21",1.5911,"2017-07-21",1.704,"2017-07-24",1.8103,"2017-07-24",1.8955,"2017-07-24",1.9748000000000001,"2017-07-21",2.0356000000000001,"2017-07-24",2.1120000000000001,"2017-07-24",2.1680000000000001,"2017-07-24",2.2197]
[null,"2017-07-20",1.4574,"2017-07-20",1.599,"2017-07-20",1.7125999999999999,"2017-07-21",1.7988,"2017-07-21",1.8844000000000001,"2017-07-21",1.9625999999999999,"2017-07-20",2.0533000000000001,"2017-07-21",2.0983999999999998,"2017-07-21",2.1558000000000002,"2017-07-21",2.2081]
[null,"2017-07-19",1.4501999999999999,"2017-07-19",1.5952999999999999,"2017-07-19",1.7124999999999999,"2017-07-20",1.8109,"2017-07-20",1.8989,"2017-07-20",1.9798,"2017-07-19",2.0575000000000001,"2017-07-20",2.1185,"2017-07-20",2.177,"2017-07-20",2.2282000000000002]
[null,"2017-07-18",1.4370000000000001,"2017-07-18",1.5771999999999999,"2017-07-18",1.6913,"2017-07-19",1.8115000000000001,"2017-07-19",1.901,"2017-07-19",1.9830000000000001,"2017-07-18",2.0310000000000001,"2017-07-19",2.1230000000000002,"2017-07-19",2.1819999999999999,"2017-07-19",2.2343999999999999]
[null,"2017-07-17",1.4432,"2017-07-17",1.5934999999999999,"2017-07-17",1.7191000000000001,"2017-07-18",1.7894000000000001,"2017-07-18",1.8769,"2017-07-18",1.9567000000000001,"2017-07-17",2.0785,"2017-07-18",2.0966,"2017-07-18",2.1516000000000002,"2017-07-18",2.2039]
[null,"2017-07-14",1.4399,"2017-07-14",1.5947,"2017-07-14",1.7242999999999999,"2017-07-17",1.8239000000000001,"2017-07-17",1.9191,"2017-07-17",2.0026000000000002,"2017-07-14",2.097,"2017-07-17",2.1459999999999999,"2017-07-17",2.2050000000000001,"2017-07-17",2.2578999999999998]
[null,"2017-07-13",1.4474,"2017-07-13",1.607,"2017-07-13",1.7403999999999999,"2017-07-14",1.8347,"2017-07-14",1.9302999999999999,"2017-07-14",2.0179999999999998,"2017-07-13",2.1187999999999998,"2017-07-14",2.1657999999999999,"2017-07-14",2.2280000000000002,"2017-07-14",2.2814999999999999]
[null,"2017-07-12",1.4370000000000001,"2017-07-12",1.5965,"2017-07-12",1.7296,"2017-07-13",1.8536999999999999,"2017-07-13",1.9538,"2017-07-13",2.0411000000000001,"2017-07-12",2.1006999999999998,"2017-07-13",2.1848999999999998,"2017-07-13",2.2456999999999998,"2017-07-13",2.2949999999999999]
[null,"2017-07-11",1.4540999999999999,"2017-07-11",1.6267,"2017-07-11",1.7647999999999999,"2017-07-12",1.8416999999999999,"2017-07-12",1.9490000000000001,"2017-07-12",2.0228999999999999,"2017-07-11",2.1438999999999999,"2017-07-12",2.1646999999999998,"2017-07-12",2.2223000000000002,"2017-07-12",2.2725]
[null,"2017-07-10",1.4608000000000001,"2017-07-10",1.641,"2017-07-10",1.7863,"2017-07-11",1.8795999999999999,"2017-07-11",1.9791000000000001,"2017-07-11",2.0657999999999999,"2017-07-10",2.1659999999999999,"2017-07-11",2.2069999999999999,"2017-07-11",2.266,"2017-07-11",2.3161]
[null,"2017-07-07",1.4644999999999999,"2017-07-07",1.647,"2017-07-07",1.7949999999999999,"2017-07-10",1.903,"2017-07-10",2.0034999999999998,"2017-07-10",2.0901999999999998,"2017-07-07",2.181,"2017-07-10",2.2307000000000001,"2017-07-10",2.2879,"2017-07-10",2.3363]
[null,"2017-07-06",1.4719,"2017-07-06",1.65,"2017-07-06",1.7949999999999999,"2017-07-07",1.9148000000000001,"2017-07-07",2.0167999999999999,"2017-07-07",2.1046,"2017-07-06",2.1764999999999999,"2017-07-07",2.2492000000000001,"2017-07-07",2.3045,"2017-07-07",2.3534000000000002]
[null,"2017-07-05",1.4725999999999999,"2017-07-05",1.6487000000000001,"2017-07-05",1.7855000000000001,"2017-07-06",1.9145000000000001,"2017-07-06",2.0122,"2017-07-06",2.1002999999999998,"2017-07-05",2.1452,"2017-07-06",2.2403,"2017-07-06",2.2970000000000002,"2017-07-06",2.3460999999999999]
[null,"2017-07-04",1.464,"2017-07-04",1.6465000000000001,"2017-07-04",1.784,"2017-07-05",1.8972,"2017-07-05",1.9915,"2017-07-05",2.0743999999999998,"2017-07-04",2.13,"2017-07-05",2.2052999999999998,"2017-07-05",2.2591999999999999,"2017-07-05",2.3071000000000002]
[null,"2017-07-03",1.4701,"2017-07-03",1.6435,"2017-07-03",1.7828999999999999,"2017-07-04",1.8779999999999999,"2017-07-04",1.9910000000000001,"2017-07-04",2.0821999999999998,"2017-07-03",2.1551999999999998,"2017-07-04",2.2189999999999999,"2017-07-04",2.2719999999999998,"2017-07-04",2.3195000000000001]
[null,"2017-06-30",1.4571000000000001,"2017-06-30",1.6177999999999999,"2017-06-30",1.7508999999999999,"2017-07-03",1.8976,"2017-07-03",1.9947999999999999,"2017-07-03",2.0819000000000001,"2017-06-30",2.1124999999999998,"2017-07-03",2.2181999999999999,"2017-07-03",2.2726000000000002,"2017-07-03",2.3205]
[null,"2017-06-29",1.44,"2017-06-29",1.5892999999999999,"2017-06-29",1.7144999999999999,"2017-06-30",1.8615999999999999,"2017-06-30",1.958,"2017-06-30",2.0409999999999999,"2017-06-29",2.0718000000000001,"2017-06-30",2.165,"2017-06-30",2.2317999999999998,"2017-06-30",2.2810000000000001]
[null,"2017-06-28",1.4359999999999999,"2017-06-28",1.573,"2017-06-28",1.6899,"2017-06-29",1.8223,"2017-06-29",1.9168000000000001,"2017-06-29",1.9984999999999999,"2017-06-28",2.0322,"2017-06-29",2.1349,"2017-06-29",2.1913999999999998,"2017-06-29",2.2400000000000002]
[null,"2017-06-27",1.4355,"2017-06-27",1.571,"2017-06-27",1.6847000000000001,"2017-06-28",1.7907999999999999,"2017-06-28",1.8808,"2017-06-28",1.9615,"2017-06-27",2.0143,"2017-06-28",2.0952999999999999,"2017-06-28",2.1522999999999999,"2017-06-28",2.2012]
[null,"2017-06-26",1.423,"2017-06-26",1.5487,"2017-06-26",1.655,"2017-06-27",1.7855000000000001,"2017-06-27",1.8683000000000001,"2017-06-27",1.9476,"2017-06-26",1.9603999999999999,"2017-06-27",2.0756999999999999,"2017-06-27",2.1286,"2017-06-27",2.1774]
[null,"2017-06-23",1.4185000000000001,"2017-06-23",1.5448999999999999,"2017-06-23",1.6501999999999999,"2017-06-26",1.7442,"2017-06-26",1.8248,"2017-06-26",1.8958999999999999,"2017-06-23",1.9558,"2017-06-26",2.0186000000000002,"2017-06-26",2.0714999999999999,"2017-06-26",2.1196000000000002]
[null,"2017-06-22",1.4129,"2017-06-22",1.5302,"2017-06-22",1.6353,"2017-06-23",1.7408999999999999,"2017-06-23",1.819,"2017-06-23",1.8905000000000001,"2017-06-22",1.9424999999999999,"2017-06-23",2.0145,"2017-06-23",2.0682999999999998,"2017-06-23",2.1168]
[null,"2017-06-21",1.4132,"2017-06-21",1.5435000000000001,"2017-06-21",1.6519999999999999,"2017-06-22",1.7270000000000001,"2017-06-22",1.8068,"2017-06-22",1.8811,"2017-06-21",1.9663999999999999,"2017-06-22",2.0015999999999998,"2017-06-22",2.0548999999999999,"2017-06-22",2.101]
[null,"2017-06-20",1.4135,"2017-06-20",1.5508,"2017-06-20",1.6597999999999999,"2017-06-21",1.7456,"2017-06-21",1.8294999999999999,"2017-06-21",1.9008,"2017-06-20",1.9742,"2017-06-21",2.0261999999999998,"2017-06-21",2.0785999999999998,"2017-06-21",2.1280000000000001]
[null,"2017-06-19",1.4192,"2017-06-19",1.5609999999999999,"2017-06-19",1.6766000000000001,"2017-06-20",1.7523,"2017-06-20",1.8332999999999999,"2017-06-20",1.9063000000000001,"2017-06-19",2.0049999999999999,"2017-06-20",2.0335999999999999,"2017-06-20",2.0876000000000001,"2017-06-20",2.1372]
[null,"2017-06-16",1.3956999999999999,"2017-06-16",1.5273000000000001,"2017-06-16",1.6383000000000001,"2017-06-19",1.7755000000000001,"2017-06-19",1.861,"2017-06-19",1.9375,"2017-06-16",1.9590000000000001,"2017-06-19",2.0665,"2017-06-19",2.1214,"2017-06-19",2.1705000000000001]
[null,"2017-06-15",1.3995,"2017-06-15",1.5425,"2017-06-15",1.6585000000000001,"2017-06-16",1.734,"2017-06-16",1.8177000000000001,"2017-06-16",1.8918999999999999,"2017-06-15",1.9784999999999999,"2017-06-16",2.0175999999999998,"2017-06-16",2.073,"2017-06-16",2.1208]
[null,"2017-06-14",1.3836999999999999,"2017-06-14",1.5202,"2017-06-14",1.6346000000000001,"2017-06-15",1.7549999999999999,"2017-06-15",1.8394999999999999,"2017-06-15",1.9133,"2017-06-14",1.9438,"2017-06-15",2.0381999999999998,"2017-06-15",2.0918000000000001,"2017-06-15",2.1404999999999998]
[null,"2017-06-13",1.4064000000000001,"2017-06-13",1.5639000000000001,"2017-06-13",1.6873,"2017-06-14",1.7244999999999999,"2017-06-14",1.8036000000000001,"2017-06-14",1.8765000000000001,"2017-06-13",2.0209999999999999,"2017-06-14",2.0049999999999999,"2017-06-14",2.0575000000000001,"2017-06-14",2.1067999999999998]
[null,"2017-06-12",1.4003000000000001,"2017-06-12",1.5491999999999999,"2017-06-12",1.6679999999999999,"2017-06-13",1.7849999999999999,"2017-06-13",1.8694,"2017-06-13",1.9504999999999999,"2017-06-12",1.9975000000000001,"2017-06-13",2.0823,"2017-06-13",2.1368999999999998,"2017-06-13",2.1859999999999999]
[null,"2017-06-09",1.393,"2017-06-09",1.5435000000000001,"2017-06-09",1.6659999999999999,"2017-06-12",1.766,"2017-06-12",1.8520000000000001,"2017-06-12",1.93,"2017-06-09",1.9957,"2017-06-12",2.0581999999999998,"2017-06-12",2.1126999999999998,"2017-06-12",2.1602000000000001]
[null,"2017-06-08",1.3802000000000001,"2017-06-08",1.5294000000000001,"2017-06-08",1.6516999999999999,"2017-06-09",1.7637,"2017-06-09",1.8493999999999999,"2017-06-09",1.9262999999999999,"2017-06-08",1.9851000000000001,"2017-06-09",2.0552999999999999,"2017-06-09",2.1089000000000002,"2017-06-09",2.1581000000000001]
[null,"2017-06-07",1.3711,"2017-06-07",1.5187999999999999,"2017-06-07",1.6400999999999999,"2017-06-08",1.7513000000000001,"2017-06-08",1.8361000000000001,"2017-06-08",1.9133,"2017-06-07",1.9685999999999999,"2017-06-08",2.0451999999999999,"2017-06-08",2.1015000000000001,"2017-06-08",2.1503000000000001]
[null,"2017-06-06",1.365,"2017-06-06",1.5087999999999999,"2017-06-06",1.6234999999999999,"2017-06-07",1.7367999999999999,"2017-06-07",1.8236000000000001,"2017-06-07",1.8984000000000001,"2017-06-06",1.9389000000000001,"2017-06-07",2.0274999999999999,"2017-06-07",2.0834000000000001,"2017-06-07",2.1322999999999999]
[null,"2017-06-05",1.3754,"2017-06-05",1.518,"2017-06-05",1.6368,"2017-06-06",1.7159,"2017-06-06",1.7965,"2017-06-06",1.8706,"2017-06-05",1.9658,"2017-06-06",1.9984999999999999,"2017-06-06",2.0520999999999998,"2017-06-06",2.1012]
[null,"2017-06-02",1.373,"2017-06-02",1.5125,"2017-06-02",1.6272,"2017-06-05",1.7355,"2017-06-05",1.8192999999999999,"2017-06-05",1.8958999999999999,"2017-06-02",1.9424999999999999,"2017-06-05",2.0257999999999998,"2017-06-05",2.0804999999999998,"2017-06-05",2.1297000000000001]
[null,"2017-06-01",1.3757999999999999,"2017-06-01",1.5257000000000001,"2017-06-01",1.6503000000000001,"2017-06-02",1.7208000000000001,"2017-06-02",1.8008999999999999,"2017-06-02",1.8754999999999999,"2017-06-01",1.9884999999999999,"2017-06-02",2.0044,"2017-06-02",2.0583,"2017-06-02",2.1055000000000001]
[null,"2017-05-31",1.3565,"2017-05-31",1.5105,"2017-05-31",1.6397999999999999,"2017-06-01",1.752,"2017-06-01",1.8395999999999999,"2017-06-01",1.9182999999999999,"2017-05-31",1.9775,"2017-06-01",2.0520999999999998,"2017-06-01",2.1067,"2017-06-01",2.1558999999999999]
[null,"2017-05-30",1.3543000000000001,"2017-05-30",1.5095000000000001,"2017-05-30",1.6367,"2017-05-31",1.74,"2017-05-31",1.8274999999999999,"2017-05-31",1.9079999999999999,"2017-05-30",1.9823999999999999,"2017-05-31",2.0385,"2017-05-31",2.0945,"2017-05-31",2.1471]
[null,"2017-05-29",1.3626,"2017-05-29",1.5325,"2017-05-29",1.6705000000000001,"2017-05-30",1.744,"2017-05-30",1.8309,"2017-05-30",1.9117,"2017-05-29",2.0377000000000001,"2017-05-30",2.0455999999999999,"2017-05-30",2.101,"2017-05-30",2.1516999999999999]
[null,"2017-05-26",1.3664000000000001,"2017-05-26",1.5318000000000001,"2017-05-26",1.6665000000000001,"2017-05-29",1.78,"2017-05-29",1.875,"2017-05-29",1.9559,"2017-05-26",2.0278,"2017-05-29",2.089,"2017-05-29",2.145,"2017-05-29",2.202]
[null,"2017-05-25",1.37,"2017-05-25",1.5358000000000001,"2017-05-25",1.673,"2017-05-26",1.7795000000000001,"2017-05-26",1.8777999999999999,"2017-05-26",1.9545999999999999,"2017-05-25",2.0339999999999998,"2017-05-26",2.0918000000000001,"2017-05-26",2.149,"2017-05-26",2.2004000000000001]
[null,"2017-05-24",1.3531,"2017-05-24",1.5143,"2017-05-24",1.6505000000000001,"2017-05-25",1.7851999999999999,"2017-05-25",1.8809,"2017-05-25",1.9605999999999999,"2017-05-24",2.0206,"2017-05-25",2.0973000000000002,"2017-05-25",2.1553,"2017-05-25",2.2044999999999999]
[null,"2017-05-23",1.3726,"2017-05-23",1.5457000000000001,"2017-05-23",1.6873,"2017-05-24",1.7644,"2017-05-24",1.8633999999999999,"2017-05-24",1.9454,"2017-05-23",2.0526,"2017-05-24",2.0844999999999998,"2017-05-24",2.1419000000000001,"2017-05-24",2.1947999999999999]
[null,"2017-05-22",1.3608,"2017-05-22",1.5277000000000001,"2017-05-22",1.6689000000000001,"2017-05-23",1.8011999999999999,"2017-05-23",1.8973,"2017-05-23",1.9795,"2017-05-22",2.0274999999999999,"2017-05-23",2.1154999999999999,"2017-05-23",2.1711,"2017-05-23",2.2225000000000001]
[null,"2017-05-19",1.3527,"2017-05-19",1.5141,"2017-05-19",1.6513,"2017-05-22",1.7814000000000001,"2017-05-22",1.8753,"2017-05-22",1.9561999999999999,"2017-05-19",2.0063,"2017-05-22",2.0905,"2017-05-22",2.1440000000000001,"2017-05-22",2.1930000000000001]
[null,"2017-05-18",1.3378000000000001,"2017-05-18",1.4951000000000001,"2017-05-18",1.6281000000000001,"2017-05-19",1.7618,"2017-05-19",1.8557999999999999,"2017-05-19",1.9359999999999999,"2017-05-18",1.9864999999999999,"2017-05-19",2.0695000000000001,"2017-05-19",2.1236000000000002,"2017-05-19",2.1720999999999999]
[null,"2017-05-17",1.3152999999999999,"2017-05-17",1.4693000000000001,"2017-05-17",1.6025,"2017-05-18",1.7388999999999999,"2017-05-18",1.8349,"2017-05-18",1.9149,"2017-05-17",1.9716,"2017-05-18",2.0495999999999999,"2017-05-18",2.1061999999999999,"2017-05-18",2.1560000000000001]
[null,"2017-05-16",1.3582000000000001,"2017-05-16",1.5329999999999999,"2017-05-16",1.6813,"2017-05-17",1.7155,"2017-05-17",1.8110999999999999,"2017-05-17",1.8964000000000001,"2017-05-16",2.0718000000000001,"2017-05-17",2.0371000000000001,"2017-05-17",2.0945,"2017-05-17",2.1469999999999998]
[null,"2017-05-15",1.357,"2017-05-15",1.5322,"2017-05-15",1.6849000000000001,"2017-05-16",1.8045,"2017-05-16",1.9083000000000001,"2017-05-16",1.9938,"2017-05-15",2.0790000000000002,"2017-05-16",2.1371000000000002,"2017-05-16",2.1945999999999999,"2017-05-16",2.2467000000000001]
[null,"2017-05-12",1.3539000000000001,"2017-05-12",1.5359,"2017-05-12",1.6889000000000001,"2017-05-15",1.8086,"2017-05-15",1.9129,"2017-05-15",2.0015000000000001,"2017-05-12",2.0771999999999999,"2017-05-15",2.1432000000000002,"2017-05-15",2.2021999999999999,"2017-05-15",2.2553000000000001]
[null,"2017-05-11",1.3907,"2017-05-11",1.5906,"2017-05-11",1.7511000000000001,"2017-05-12",1.8109,"2017-05-12",1.9155,"2017-05-12",2.0019999999999998,"2017-05-11",2.1408999999999998,"2017-05-12",2.1425999999999998,"2017-05-12",2.1997,"2017-05-12",2.2505999999999999]
[null,"2017-05-10",1.3974,"2017-05-10",1.6026,"2017-05-10",1.7642,"2017-05-11",1.8794,"2017-05-11",1.9804999999999999,"2017-05-11",2.0665,"2017-05-10",2.1568999999999998,"2017-05-11",2.2046999999999999,"2017-05-11",2.2597,"2017-05-11",2.3090000000000002]
[null,"2017-05-09",1.4043000000000001,"2017-05-09",1.6134999999999999,"2017-05-09",1.7775000000000001,"2017-05-10",1.8928,"2017-05-10",1.9959,"2017-05-10",2.0815000000000001,"2017-05-09",2.1638000000000002,"2017-05-10",2.2198000000000002,"2017-05-10",2.2751000000000001,"2017-05-10",2.3241999999999998]
[null,"2017-05-08",1.4180999999999999,"2017-05-08",1.6215999999999999,"2017-05-08",1.7829999999999999,"2017-05-09",1.9033,"2017-05-09",2.0070000000000001,"2017-05-09",2.0903999999999998,"2017-05-08",2.1635,"2017-05-09",2.2254,"2017-05-09",2.2795999999999998,"2017-05-09",2.3277999999999999]
[null,"2017-05-05",1.4077,"2017-05-05",1.6040000000000001,"2017-05-05",1.76,"2017-05-08",1.9058999999999999,"2017-05-08",2.0085000000000002,"2017-05-08",2.0895000000000001,"2017-05-05",2.1299000000000001,"2017-05-08",2.2250000000000001,"2017-05-08",2.2783000000000002,"2017-05-08",2.3262]
[null,"2017-05-04",1.4000999999999999,"2017-05-04",1.599,"2017-05-04",1.7579,"2017-05-05",1.8793,"2017-05-05",1.978,"2017-05-05",2.0590000000000002,"2017-05-04",2.1408,"2017-05-05",2.1903999999999999,"2017-05-05",2.2433000000000001,"2017-05-05",2.2904]
[null,"2017-05-03",1.3937999999999999,"2017-05-03",1.5844,"2017-05-03",1.7383999999999999,"2017-05-04",1.8835,"2017-05-04",1.9822,"2017-05-04",2.0707,"2017-05-03",2.1095000000000002,"2017-05-04",2.2029999999999998,"2017-05-04",2.2572000000000001,"2017-05-04",2.3029999999999999]
[null,"2017-05-02",1.3787,"2017-05-02",1.5638000000000001,"2017-05-02",1.712,"2017-05-03",1.8580000000000001,"2017-05-03",1.9561999999999999,"2017-05-03",2.0388000000000002,"2017-05-02",2.0813999999999999,"2017-05-03",2.1698,"2017-05-03",2.2223000000000002,"2017-05-03",2.2690000000000001]
[null,"2017-05-01",1.3917999999999999,"2017-05-01",1.5827,"2017-05-01",1.7350000000000001,"2017-05-02",1.8289,"2017-05-02",1.9251,"2017-05-02",2.0085000000000002,"2017-05-01",2.1164000000000001,"2017-05-02",2.1427999999999998,"2017-05-02",2.1970000000000001,"2017-05-02",2.2452999999999999]
[null,"2017-04-28",1.39,"2017-04-28",1.5725,"2017-04-28",1.7196,"2017-05-01",1.8543000000000001,"2017-05-01",1.9576,"2017-05-01",2.0419,"2017-04-28",2.0886999999999998,"2017-05-01",2.1798000000000002,"2017-05-01",2.2342,"2017-05-01",2.2837999999999998]
[null,"2017-04-27",1.3815,"2017-04-27",1.5656000000000001,"2017-04-27",1.7145999999999999,"2017-04-28",1.8363,"2017-04-28",1.9327000000000001,"2017-04-28",2.0162,"2017-04-27",2.0992000000000002,"2017-04-28",2.1522000000000001,"2017-04-28",2.2071000000000001,"2017-04-28",2.2544]
[null,"2017-04-26",1.3975,"2017-04-26",1.5846,"2017-04-26",1.7355,"2017-04-27",1.8367,"2017-04-27",1.9393,"2017-04-27",2.0247999999999999,"2017-04-26",2.1147999999999998,"2017-04-27",2.1633,"2017-04-27",2.2187999999999999,"2017-04-27",2.2669999999999999]
[null,"2017-04-25",1.4083000000000001,"2017-04-25",1.6028,"2017-04-25",1.7583,"2017-04-26",1.8548,"2017-04-26",1.9562999999999999,"2017-04-26",2.0404,"2017-04-25",2.1488,"2017-04-26",2.1779000000000002,"2017-04-26",2.2328000000000001,"2017-04-26",2.2799999999999998]
[null,"2017-04-24",1.3804000000000001,"2017-04-24",1.5644,"2017-04-24",1.7135,"2017-04-25",1.8827,"2017-04-25",1.9867999999999999,"2017-04-25",2.0731999999999999,"2017-04-24",2.0871,"2017-04-25",2.2109000000000001,"2017-04-25",2.2656000000000001,"2017-04-25",2.3155000000000001]
[null,"2017-04-21",1.355,"2017-04-21",1.5323,"2017-04-21",1.6797,"2017-04-24",1.8328,"2017-04-24",1.9300999999999999,"2017-04-24",2.0154999999999998,"2017-04-21",2.0552999999999999,"2017-04-24",2.1478000000000002,"2017-04-24",2.2012,"2017-04-24",2.2486000000000002]
[null,"2017-04-20",1.355,"2017-04-20",1.5276000000000001,"2017-04-20",1.6727000000000001,"2017-04-21",1.8012999999999999,"2017-04-21",1.9013,"2017-04-21",1.9838,"2017-04-20",2.0413000000000001,"2017-04-21",2.1145999999999998,"2017-04-21",2.1661999999999999,"2017-04-21",2.2145000000000001]
[null,"2017-04-19",1.3379000000000001,"2017-04-19",1.4983,"2017-04-19",1.6365000000000001,"2017-04-20",1.7916000000000001,"2017-04-20",1.889,"2017-04-20",1.97,"2017-04-19",2,"2017-04-20",2.1021000000000001,"2017-04-20",2.1543000000000001,"2017-04-20",2.2033]
[null,"2017-04-18",1.3240000000000001,"2017-04-18",1.4796,"2017-04-18",1.6108,"2017-04-19",1.7524,"2017-04-19",1.8506,"2017-04-19",1.9295,"2017-04-18",1.9624999999999999,"2017-04-19",2.0617999999999999,"2017-04-19",2.1158000000000001,"2017-04-19",2.1659999999999999]
[null,"2017-04-17",1.3554999999999999,"2017-04-17",1.5331999999999999,"2017-04-17",1.6753,"2017-04-18",1.7211000000000001,"2017-04-18",1.8127,"2017-04-18",1.8925000000000001,"2017-04-17",2.0415000000000001,"2017-04-18",2.0230000000000001,"2017-04-18",2.0788000000000002,"2017-04-18",2.1280000000000001]
[null,"2017-04-14",1.3674999999999999,"2017-04-13",1.5329999999999999,"2017-04-13",1.6735,"2017-04-17",1.7904,"2017-04-17",1.8855,"2017-04-17",1.9689000000000001,"2017-04-13",2.0415000000000001,"2017-04-17",2.1059999999999999,"2017-04-17",2.1619999999999999,"2017-04-17",2.2115999999999998]
[null,"2017-04-13",1.3680000000000001,"2017-04-12",1.5210999999999999,"2017-04-12",1.6656,"2017-04-13",1.7885,"2017-04-13",1.8741000000000001,"2017-04-13",1.9664999999999999,"2017-04-12",2.0333000000000001,"2017-04-13",2.1019999999999999,"2017-04-13",2.1539999999999999,"2017-04-14",2.2105000000000001]
[null,"2017-04-12",1.3524,"2017-04-11",1.5575000000000001,"2017-04-11",1.7119,"2017-04-12",1.7809999999999999,"2017-04-12",1.8754999999999999,"2017-04-12",1.9597,"2017-04-11",2.0905999999999998,"2017-04-12",2.0977000000000001,"2017-04-12",2.1536,"2017-04-13",2.2090000000000001]
[null,"2017-04-11",1.3696999999999999,"2017-04-10",1.5985,"2017-04-10",1.7654000000000001,"2017-04-11",1.8325,"2017-04-11",1.9337,"2017-04-11",2.0169999999999999,"2017-04-10",2.1616,"2017-04-11",2.1524000000000001,"2017-04-11",2.2082999999999999,"2017-04-12",2.2035999999999998]
[null,"2017-04-10",1.3905000000000001,"2017-04-07",1.6157999999999999,"2017-04-07",1.7875000000000001,"2017-04-10",1.8953,"2017-04-10",1.9990000000000001,"2017-04-10",2.0859999999999999,"2017-04-07",2.1888000000000001,"2017-04-10",2.2252999999999998,"2017-04-10",2.2816999999999998,"2017-04-11",2.2574000000000001]
[null,"2017-04-07",1.4041999999999999,"2017-04-06",1.5783,"2017-04-06",1.7395,"2017-04-07",1.9202999999999999,"2017-04-07",2.0266000000000002,"2017-04-07",2.1137000000000001,"2017-04-06",2.1427999999999998,"2017-04-07",2.2528999999999999,"2017-04-07",2.3087,"2017-04-10",2.3311000000000002]
[null,"2017-04-06",1.3878999999999999,"2017-04-05",1.5697000000000001,"2017-04-05",1.7307999999999999,"2017-04-06",1.8674999999999999,"2017-04-06",1.974,"2017-04-06",2.0646,"2017-04-05",2.1392000000000002,"2017-04-06",2.2090000000000001,"2017-04-06",2.2673999999999999,"2017-04-07",2.3563999999999998]
[null,"2017-04-05",1.3759999999999999,"2017-04-04",1.593,"2017-04-04",1.7655000000000001,"2017-04-05",1.8612,"2017-04-05",1.968,"2017-04-05",2.0594999999999999,"2017-04-04",2.1745000000000001,"2017-04-05",2.206,"2017-04-05",2.2635999999999998,"2017-04-06",2.3193000000000001]
[null,"2017-04-04",1.3802000000000001,"2017-04-03",1.5799000000000001,"2017-04-03",1.7466999999999999,"2017-04-04",1.9015,"2017-04-04",2.0074999999999998,"2017-04-04",2.0977000000000001,"2017-04-03",2.1398000000000001,"2017-04-04",2.2393000000000001,"2017-04-04",2.2961,"2017-04-05",2.3159000000000001]
[null,"2017-04-03",1.371,"2017-03-31",1.6175999999999999,"2017-03-31",1.8069999999999999,"2017-04-03",1.8757999999999999,"2017-04-03",1.9775,"2017-04-03",2.0644,"2017-03-31",2.2164999999999999,"2017-04-03",2.2046000000000001,"2017-04-03",2.2578999999999998,"2017-04-04",2.3454999999999999]
[null,"2017-03-31",1.3835999999999999,"2017-03-30",1.6393,"2017-03-30",1.8321000000000001,"2017-03-31",1.9450000000000001,"2017-03-31",2.0522999999999998,"2017-03-31",2.1423000000000001,"2017-03-30",2.2461000000000002,"2017-03-31",2.2799999999999998,"2017-03-31",2.335,"2017-04-03",2.3075999999999999]
[null,"2017-03-30",1.3882000000000001,"2017-03-29",1.6072,"2017-03-29",1.7963,"2017-03-30",1.9741,"2017-03-30",2.0823999999999998,"2017-03-30",2.1715,"2017-03-29",2.1981999999999999,"2017-03-30",2.3092999999999999,"2017-03-30",2.3637999999999999,"2017-03-31",2.3841000000000001]
[null,"2017-03-29",1.3674999999999999,"2017-03-28",1.6325000000000001,"2017-03-28",1.8233999999999999,"2017-03-29",1.9339,"2017-03-29",2.0384000000000002,"2017-03-29",2.1267999999999998,"2017-03-28",2.2317999999999998,"2017-03-29",2.2606000000000002,"2017-03-29",2.3130999999999999,"2017-03-30",2.4116]
[null,"2017-03-28",1.387,"2017-03-27",1.5985,"2017-03-27",1.7829999999999999,"2017-03-28",1.9644999999999999,"2017-03-28",2.0754999999999999,"2017-03-28",2.1602999999999999,"2017-03-27",2.1865000000000001,"2017-03-28",2.2944,"2017-03-28",2.3473999999999999,"2017-03-29",2.3613]
[null,"2017-03-27",1.3677999999999999,"2017-03-24",1.6197999999999999,"2017-03-24",1.8133999999999999,"2017-03-27",1.9205000000000001,"2017-03-27",2.0287000000000002,"2017-03-27",2.1124999999999998,"2017-03-24",2.2298,"2017-03-27",2.2465999999999999,"2017-03-27",2.3008000000000002,"2017-03-28",2.395]
[null,"2017-03-24",1.3785000000000001,"2017-03-23",1.6233,"2017-03-23",1.8147,"2017-03-24",1.9558,"2017-03-24",2.0655000000000001,"2017-03-24",2.1541000000000001,"2017-03-23",2.2315,"2017-03-24",2.2911000000000001,"2017-03-24",2.3466999999999998,"2017-03-27",2.3490000000000002]
[null,"2017-03-23",1.383,"2017-03-22",1.6077999999999999,"2017-03-22",1.7909999999999999,"2017-03-23",1.9573,"2017-03-23",2.0680999999999998,"2017-03-23",2.1555,"2017-03-22",2.2029999999999998,"2017-03-23",2.2978999999999998,"2017-03-23",2.3519999999999999,"2017-03-24",2.3965000000000001]
[null,"2017-03-22",1.377,"2017-03-21",1.6174999999999999,"2017-03-21",1.7995000000000001,"2017-03-22",1.9315,"2017-03-22",2.0394999999999999,"2017-03-22",2.1269,"2017-03-21",2.2134999999999998,"2017-03-22",2.2656000000000001,"2017-03-22",2.3197999999999999,"2017-03-23",2.4007999999999998]
[null,"2017-03-21",1.3845000000000001,"2017-03-20",1.6335,"2017-03-20",1.8278000000000001,"2017-03-21",1.9390000000000001,"2017-03-21",2.0507,"2017-03-21",2.1387,"2017-03-20",2.2555999999999998,"2017-03-21",2.2768000000000002,"2017-03-21",2.3331,"2017-03-22",2.3704999999999998]
[null,"2017-03-20",1.3937999999999999,"2017-03-17",1.6516999999999999,"2017-03-17",1.8552999999999999,"2017-03-20",1.9735,"2017-03-20",2.0908000000000002,"2017-03-20",2.1810999999999998,"2017-03-17",2.2984,"2017-03-20",2.3205,"2017-03-20",2.3782999999999999,"2017-03-21",2.3824999999999998]
[null,"2017-03-17",1.3996999999999999,"2017-03-16",1.6675,"2017-03-16",1.877,"2017-03-17",2.0063,"2017-03-17",2.1244999999999998,"2017-03-17",2.2185999999999999,"2017-03-16",2.3264,"2017-03-17",2.3649,"2017-03-17",2.423,"2017-03-20",2.4278]
[null,"2017-03-16",1.4033,"2017-03-15",1.6396999999999999,"2017-03-15",1.8440000000000001,"2017-03-16",2.0326,"2017-03-16",2.1513,"2017-03-16",2.2475000000000001,"2017-03-15",2.2881,"2017-03-16",2.395,"2017-03-16",2.4525000000000001,"2017-03-17",2.4731000000000001]
[null,"2017-03-15",1.391,"2017-03-14",1.7093,"2017-03-14",1.9376,"2017-03-15",1.9955000000000001,"2017-03-15",2.1128999999999998,"2017-03-15",2.2080000000000002,"2017-03-14",2.4024999999999999,"2017-03-15",2.3567,"2017-03-15",2.415,"2017-03-16",2.5028000000000001]
[null,"2017-03-14",1.4185000000000001,"2017-03-13",1.7128000000000001,"2017-03-13",1.9460999999999999,"2017-03-14",2.1023999999999998,"2017-03-14",2.2273000000000001,"2017-03-14",2.3246000000000002,"2017-03-13",2.4215,"2017-03-14",2.4674999999999998,"2017-03-14",2.5228000000000002,"2017-03-15",2.4664999999999999]
[null,"2017-03-13",1.4216,"2017-03-10",1.6954,"2017-03-10",1.9227000000000001,"2017-03-13",2.1139999999999999,"2017-03-13",2.2385999999999999,"2017-03-13",2.34,"2017-03-10",2.3793000000000002,"2017-03-13",2.4910000000000001,"2017-03-13",2.5478000000000001,"2017-03-14",2.5712999999999999]
[null,"2017-03-10",1.4097,"2017-03-09",1.7029000000000001,"2017-03-09",1.9354,"2017-03-10",2.0846,"2017-03-10",2.2040000000000002,"2017-03-10",2.3003,"2017-03-09",2.4024999999999999,"2017-03-10",2.4443999999999999,"2017-03-10",2.5007000000000001,"2017-03-13",2.5987]
[null,"2017-03-09",1.4057999999999999,"2017-03-08",1.6713,"2017-03-08",1.8954,"2017-03-09",2.1044,"2017-03-09",2.2290999999999999,"2017-03-09",2.3239999999999998,"2017-03-08",2.3460000000000001,"2017-03-09",2.4683000000000002,"2017-03-09",2.5243000000000002,"2017-03-10",2.5508000000000002]
[null,"2017-03-08",1.383,"2017-03-07",1.6479999999999999,"2017-03-07",1.8644000000000001,"2017-03-08",2.0568,"2017-03-08",2.1743999999999999,"2017-03-08",2.2684000000000002,"2017-03-07",2.3010000000000002,"2017-03-08",2.4110999999999998,"2017-03-08",2.4664000000000001,"2017-03-09",2.5720000000000001]
[null,"2017-03-07",1.3671,"2017-03-06",1.6352,"2017-03-06",1.8501000000000001,"2017-03-07",2.0190000000000001,"2017-03-07",2.1335999999999999,"2017-03-07",2.2250000000000001,"2017-03-06",2.2919999999999998,"2017-03-07",2.3645999999999998,"2017-03-07",2.4184999999999999,"2017-03-08",2.5135000000000001]
[null,"2017-03-06",1.3605,"2017-03-03",1.6503000000000001,"2017-03-03",1.8628,"2017-03-06",2.0059999999999998,"2017-03-06",2.1194000000000002,"2017-03-06",2.2143000000000002,"2017-03-03",2.2907999999999999,"2017-03-06",2.3582999999999998,"2017-03-06",2.4144999999999999,"2017-03-07",2.4662999999999999]
[null,"2017-03-03",1.3732,"2017-03-02",1.6573,"2017-03-02",1.8655999999999999,"2017-03-03",2.0135000000000001,"2017-03-03",2.1253000000000002,"2017-03-03",2.2145999999999999,"2017-03-02",2.2919,"2017-03-03",2.3534999999999999,"2017-03-03",2.4073000000000002,"2017-03-06",2.4630000000000001]
[null,"2017-03-02",1.3815,"2017-03-01",1.6253,"2017-03-01",1.8271999999999999,"2017-03-02",2.0146000000000002,"2017-03-02",2.1252,"2017-03-02",2.2164999999999999,"2017-03-01",2.2557999999999998,"2017-03-02",2.3549000000000002,"2017-03-02",2.4096000000000002,"2017-03-03",2.4550000000000001]
[null,"2017-03-01",1.3608,"2017-02-28",1.6094999999999999,"2017-02-28",1.7975000000000001,"2017-03-01",1.976,"2017-03-01",2.0865,"2017-03-01",2.1785000000000001,"2017-02-28",2.2111999999999998,"2017-03-01",2.3191999999999999,"2017-03-01",2.3734000000000002,"2017-03-02",2.4565000000000001]
[null,"2017-02-28",1.3577999999999999,"2017-02-27",1.5528,"2017-02-27",1.7405999999999999,"2017-02-28",1.9384999999999999,"2017-02-28",2.0476999999999999,"2017-02-28",2.1352000000000002,"2017-02-27",2.1669999999999998,"2017-02-28",2.2719999999999998,"2017-02-28",2.3258000000000001,"2017-03-01",2.4207000000000001]
[null,"2017-02-27",1.31,"2017-02-24",1.5158,"2017-02-24",1.6928000000000001,"2017-02-27",1.8801000000000001,"2017-02-27",1.9924999999999999,"2017-02-27",2.0863,"2017-02-24",2.1059000000000001,"2017-02-27",2.2349999999999999,"2017-02-27",2.2928000000000002,"2017-02-28",2.3738000000000001]
[null,"2017-02-24",1.288,"2017-02-23",1.5338000000000001,"2017-02-23",1.7181,"2017-02-24",1.8272999999999999,"2017-02-24",1.9313,"2017-02-24",2.0255000000000001,"2017-02-23",2.1629999999999998,"2017-02-24",2.1747999999999998,"2017-02-24",2.2347999999999999,"2017-02-27",2.343]
[null,"2017-02-23",1.2965,"2017-02-22",1.5609999999999999,"2017-02-22",1.7544999999999999,"2017-02-23",1.8642000000000001,"2017-02-23",1.9799,"2017-02-23",2.077,"2017-02-22",2.2023000000000001,"2017-02-23",2.234,"2017-02-23",2.2964000000000002,"2017-02-24",2.2879999999999998]
[null,"2017-02-22",1.3133999999999999,"2017-02-21",1.5828,"2017-02-21",1.7784,"2017-02-22",1.9033,"2017-02-22",2.0217999999999998,"2017-02-22",2.1200999999999999,"2017-02-21",2.2258,"2017-02-22",2.2732999999999999,"2017-02-22",2.3348,"2017-02-23",2.3508]
[null,"2017-02-21",1.3239000000000001,"2017-02-20",1.556,"2017-02-20",1.748,"2017-02-21",1.9295,"2017-02-21",2.0449999999999999,"2017-02-21",2.1438000000000001,"2017-02-20",2.1949999999999998,"2017-02-21",2.2968000000000002,"2017-02-21",2.3563000000000001,"2017-02-22",2.3879999999999999]
[null,"2017-02-20",1.3037000000000001,"2017-02-17",1.5488,"2017-02-17",1.7418,"2017-02-20",1.9015,"2017-02-20",2.0099999999999998,"2017-02-20",2.1110000000000002,"2017-02-17",2.1930000000000001,"2017-02-20",2.2599999999999998,"2017-02-20",2.3235000000000001,"2017-02-21",2.4079999999999999]
[null,"2017-02-17",1.2994000000000001,"2017-02-16",1.5615000000000001,"2017-02-16",1.7618,"2017-02-17",1.8937999999999999,"2017-02-17",2.012,"2017-02-17",2.11,"2017-02-16",2.2122999999999999,"2017-02-17",2.2629999999999999,"2017-02-17",2.3227000000000002,"2017-02-20",2.3820000000000001]
[null,"2017-02-16",1.3023,"2017-02-15",1.5863,"2017-02-15",1.7932999999999999,"2017-02-16",1.9137,"2017-02-16",2.0320999999999998,"2017-02-16",2.1313,"2017-02-15",2.2538,"2017-02-16",2.2810000000000001,"2017-02-16",2.3399000000000001,"2017-02-17",2.375]
[null,"2017-02-15",1.3160000000000001,"2017-02-14",1.556,"2017-02-14",1.7617,"2017-02-15",1.952,"2017-02-15",2.0728,"2017-02-15",2.1718999999999999,"2017-02-14",2.2254999999999998,"2017-02-15",2.3208000000000002,"2017-02-15",2.379,"2017-02-16",2.3902999999999999]
[null,"2017-02-14",1.2892999999999999,"2017-02-13",1.5209999999999999,"2017-02-13",1.7233000000000001,"2017-02-14",1.92,"2017-02-14",2.0430000000000001,"2017-02-14",2.1431,"2017-02-13",2.1884999999999999,"2017-02-14",2.2953000000000001,"2017-02-14",2.3521999999999998,"2017-02-15",2.4278]
[null,"2017-02-13",1.2687999999999999,"2017-02-10",1.5066999999999999,"2017-02-10",1.7013,"2017-02-13",1.8815,"2017-02-13",2.0030000000000001,"2017-02-13",2.105,"2017-02-10",2.1579999999999999,"2017-02-13",2.2603,"2017-02-13",2.3182999999999998,"2017-02-14",2.4015]
[null,"2017-02-10",1.2611000000000001,"2017-02-09",1.4904999999999999,"2017-02-09",1.6825000000000001,"2017-02-10",1.8548,"2017-02-10",1.9762999999999999,"2017-02-10",2.0760000000000001,"2017-02-09",2.1389999999999998,"2017-02-10",2.2273000000000001,"2017-02-10",2.2865000000000002,"2017-02-13",2.37]
[null,"2017-02-09",1.2484999999999999,"2017-02-08",1.4496,"2017-02-08",1.6294,"2017-02-09",1.8340000000000001,"2017-02-09",1.9538,"2017-02-09",2.0543999999999998,"2017-02-08",2.0731000000000002,"2017-02-09",2.2088999999999999,"2017-02-09",2.2692999999999999,"2017-02-10",2.3365]
[null,"2017-02-08",1.2238,"2017-02-07",1.4821,"2017-02-07",1.6735,"2017-02-08",1.7737000000000001,"2017-02-08",1.8919999999999999,"2017-02-08",1.9903,"2017-02-07",2.1373000000000002,"2017-02-08",2.1435,"2017-02-08",2.2029999999999998,"2017-02-09",2.3210000000000002]
[null,"2017-02-07",1.2413000000000001,"2017-02-06",1.4775,"2017-02-06",1.6713,"2017-02-07",1.8261000000000001,"2017-02-07",1.9478,"2017-02-07",2.0514999999999999,"2017-02-06",2.1436000000000002,"2017-02-07",2.2105000000000001,"2017-02-07",2.2726999999999999,"2017-02-08",2.2549999999999999]
[null,"2017-02-06",1.2378,"2017-02-03",1.5023,"2017-02-03",1.7088000000000001,"2017-02-06",1.8228,"2017-02-06",1.9453,"2017-02-06",2.0518000000000001,"2017-02-03",2.1913,"2017-02-06",2.2206999999999999,"2017-02-06",2.2862,"2017-02-07",2.3268]
[null,"2017-02-03",1.2481,"2017-02-02",1.5085999999999999,"2017-02-02",1.7163999999999999,"2017-02-03",1.8684000000000001,"2017-02-03",1.9927999999999999,"2017-02-03",2.0998000000000001,"2017-02-02",2.1939000000000002,"2017-02-03",2.2665999999999999,"2017-02-03",2.3321999999999998,"2017-02-06",2.3435000000000001]
[null,"2017-02-02",1.2518,"2017-02-01",1.506,"2017-02-01",1.7144999999999999,"2017-02-02",1.8768,"2017-02-02",1.9996,"2017-02-02",2.1055999999999999,"2017-02-01",2.1945000000000001,"2017-02-02",2.2688000000000001,"2017-02-02",2.3323,"2017-02-03",2.3879000000000001]
[null,"2017-02-01",1.2515000000000001,"2017-01-31",1.4976,"2017-01-31",1.7,"2017-02-01",1.8763000000000001,"2017-02-01",2.0030000000000001,"2017-02-01",2.1086,"2017-01-31",2.1778,"2017-02-01",2.2685,"2017-02-01",2.3298000000000001,"2017-02-02",2.3874]
[null,"2017-01-31",1.2464,"2017-01-30",1.5130999999999999,"2017-01-30",1.7255,"2017-01-31",1.8614999999999999,"2017-01-31",1.9873000000000001,"2017-01-31",2.0920000000000001,"2017-01-30",2.2109000000000001,"2017-01-31",2.2501000000000002,"2017-01-31",2.3104,"2017-02-01",2.3833000000000002]
[null,"2017-01-30",1.2533000000000001,"2017-01-27",1.5139,"2017-01-27",1.7228000000000001,"2017-01-30",1.8906000000000001,"2017-01-30",2.0211000000000001,"2017-01-30",2.1240999999999999,"2017-01-27",2.2103000000000002,"2017-01-30",2.2829999999999999,"2017-01-30",2.3439000000000001,"2017-01-31",2.3645]
[null,"2017-01-27",1.2583,"2017-01-26",1.5144,"2017-01-26",1.7258,"2017-01-27",1.8853,"2017-01-27",2.0169999999999999,"2017-01-27",2.1234999999999999,"2017-01-26",2.2261000000000002,"2017-01-27",2.2837999999999998,"2017-01-27",2.3448000000000002,"2017-01-30",2.3969]
[null,"2017-01-26",1.2605,"2017-01-25",1.5195000000000001,"2017-01-25",1.7307999999999999,"2017-01-26",1.8942000000000001,"2017-01-26",2.0301999999999998,"2017-01-26",2.1364000000000001,"2017-01-25",2.2261000000000002,"2017-01-26",2.3010000000000002,"2017-01-26",2.3614000000000002,"2017-01-27",2.3972000000000002]
[null,"2017-01-25",1.2638,"2017-01-24",1.5004999999999999,"2017-01-24",1.7033,"2017-01-25",1.8995,"2017-01-25",2.0326,"2017-01-25",2.1379000000000001,"2017-01-24",2.1793,"2017-01-25",2.2985000000000002,"2017-01-25",2.3597999999999999,"2017-01-26",2.4140999999999999]
[null,"2017-01-24",1.2483,"2017-01-23",1.468,"2017-01-23",1.6612,"2017-01-24",1.8648,"2017-01-24",1.9931000000000001,"2017-01-24",2.0933999999999999,"2017-01-23",2.1223000000000001,"2017-01-24",2.25,"2017-01-24",2.3102999999999998,"2017-01-25",2.4123999999999999]
[null,"2017-01-23",1.2325999999999999,"2017-01-20",1.5159,"2017-01-20",1.7195,"2017-01-23",1.8150999999999999,"2017-01-23",1.9374,"2017-01-23",2.0379999999999998,"2017-01-20",2.1859999999999999,"2017-01-23",2.1932,"2017-01-23",2.2523,"2017-01-24",2.3610000000000002]
[null,"2017-01-20",1.2613000000000001,"2017-01-19",1.5365,"2017-01-19",1.7423,"2017-01-20",1.8796999999999999,"2017-01-20",2.0023,"2017-01-20",2.1034999999999999,"2017-01-19",2.2023999999999999,"2017-01-20",2.2565,"2017-01-20",2.3165,"2017-01-23",2.3020999999999998]
[null,"2017-01-19",1.2695000000000001,"2017-01-18",1.5229999999999999,"2017-01-18",1.7264999999999999,"2017-01-19",1.9033,"2017-01-19",2.0247999999999999,"2017-01-19",2.1219999999999999,"2017-01-18",2.1534,"2017-01-19",2.2694999999999999,"2017-01-19",2.3245,"2017-01-20",2.3635000000000002]
[null,"2017-01-18",1.2549999999999999,"2017-01-17",1.4499,"2017-01-17",1.631,"2017-01-18",1.8757999999999999,"2017-01-18",1.9881,"2017-01-18",2.0775000000000001,"2017-01-17",2.0381999999999998,"2017-01-18",2.2166999999999999,"2017-01-18",2.2692999999999999,"2017-01-19",2.3713000000000002]
[null,"2017-01-17",1.2158,"2017-01-16",1.49,"2017-01-16",1.6895,"2017-01-17",1.7663,"2017-01-17",1.8724000000000001,"2017-01-17",1.9634,"2017-01-16",2.0977000000000001,"2017-01-17",2.1036000000000001,"2017-01-17",2.1593,"2017-01-18",2.3142999999999998]
[null,"2017-01-13",1.2310000000000001,"2017-01-13",1.4917,"2017-01-13",1.6931,"2017-01-16",1.8360000000000001,"2017-01-16",1.95,"2017-01-16",2.0299999999999998,"2017-01-13",2.1139000000000001,"2017-01-16",2.165,"2017-01-16",2.2231000000000001,"2017-01-17",2.2075999999999998]
[null,"2017-01-12",1.2179,"2017-01-12",1.466,"2017-01-12",1.66,"2017-01-13",1.8393999999999999,"2017-01-13",1.9487000000000001,"2017-01-13",2.0377000000000001,"2017-01-12",2.0764999999999998,"2017-01-13",2.1775000000000002,"2017-01-13",2.2323,"2017-01-16",2.2633999999999999]
[null,"2017-01-11",1.224,"2017-01-11",1.4795,"2017-01-11",1.6773,"2017-01-12",1.8032999999999999,"2017-01-12",1.9145000000000001,"2017-01-12",2.0019,"2017-01-11",2.0922999999999998,"2017-01-12",2.141,"2017-01-12",2.1943000000000001,"2017-01-13",2.2795000000000001]
[null,"2017-01-10",1.2181,"2017-01-10",1.4742999999999999,"2017-01-10",1.6722999999999999,"2017-01-11",1.8213999999999999,"2017-01-11",1.9313,"2017-01-11",2.0190999999999999,"2017-01-10",2.0884,"2017-01-11",2.153,"2017-01-11",2.2054,"2017-01-12",2.2418999999999998]
[null,"2017-01-09",1.212,"2017-01-09",1.4662999999999999,"2017-01-09",1.6635,"2017-01-10",1.8141,"2017-01-10",1.9180999999999999,"2017-01-10",2.0118999999999998,"2017-01-09",2.0750999999999999,"2017-01-10",2.1522999999999999,"2017-01-10",2.2063000000000001,"2017-01-11",2.2505999999999999]
[null,"2017-01-06",1.2150000000000001,"2017-01-06",1.4835,"2017-01-06",1.6934,"2017-01-09",1.8065,"2017-01-09",1.9135,"2017-01-09",2.0011000000000001,"2017-01-06",2.1288,"2017-01-09",2.1364999999999998,"2017-01-09",2.1882999999999999,"2017-01-10",2.2511999999999999]
[null,"2017-01-05",1.1907000000000001,"2017-01-05",1.4312,"2017-01-05",1.6233,"2017-01-06",1.8452999999999999,"2017-01-06",1.9576,"2017-01-06",2.0516999999999999,"2017-01-05",2.0453000000000001,"2017-01-06",2.1920000000000002,"2017-01-06",2.2458,"2017-01-09",2.2339000000000002]
[null,"2017-01-04",1.2,"2017-01-04",1.4615,"2017-01-04",1.6689000000000001,"2017-01-05",1.7665,"2017-01-05",1.8748,"2017-01-05",1.9679,"2017-01-04",2.1208999999999998,"2017-01-05",2.1097999999999999,"2017-01-05",2.1638000000000002,"2017-01-06",2.2919999999999998]
[null,"2017-01-03",1.1964999999999999,"2017-01-03",1.4664999999999999,"2017-01-03",1.6850000000000001,"2017-01-04",1.8249,"2017-01-04",1.9418,"2017-01-04",2.0409000000000002,"2017-01-03",2.1423999999999999,"2017-01-04",2.1861999999999999,"2017-01-04",2.2418,"2017-01-05",2.2109999999999999]
[null,"2017-01-02",1.1947000000000001,"2017-01-02",1.4695,"2017-01-02",1.6904999999999999,"2017-01-03",1.8447,"2017-01-03",1.966,"2017-01-03",2.0634999999999999,"2017-01-02",2.16,"2017-01-03",2.2073999999999998,"2017-01-03",2.2603,"2017-01-04",2.2866]
[null,"2016-12-30",1.1909000000000001,"2016-12-30",1.4522999999999999,"2016-12-30",1.6898,"2017-01-02",1.84,"2017-01-02",1.9704999999999999,"2017-01-02",2.0739999999999998,"2016-12-30",2.161,"2017-01-02",2.2275,"2017-01-02",2.286,"2017-01-03",2.3062]
[null,"2016-12-29",1.1919999999999999,"2016-12-29",1.4658,"2016-12-29",1.6915,"2016-12-30",1.85,"2016-12-30",1.9752000000000001,"2016-12-30",2.0783999999999998,"2016-12-29",2.1861000000000002,"2016-12-30",2.2309999999999999,"2016-12-30",2.2877000000000001,"2017-01-02",2.3355000000000001]

{"sheet":"config","index":10,"n_rows":30,"n_cols":8,"rows_kept":30,"cut":false,"hidden":false,"merged":[]}
[]
[null,"TAB: CONFIGURATION FILE",null,null,"Calculations enabled:",null,true]
[null,null,null,null,"Test connection",null,{"$f":"_xll.AC.test.connection()","v":"host: home-pc; user: Konstantin Rybakov; key: null"}]
[]
[null,"Output Parameters",null,null,"Configuration parameters for output arrays"]
[null,"Name","Description",null,"Cell address","Row count","Col count","Comment"]
[null,"curve-data","Range of Curve values, averaged using a specified ferquency",null,{"$f":"addressFla(cf!B14)","v":"'cf'!$B$14"},{"$f":"cf!E9","v":-1},{"$f":"cf!F9","v":-1}]
[null,"fxswap-output","Output of the FX swap calculator",null,{"$f":"addressFla('>discounts'!B7)","v":"'>discounts'!$B$7"},{"$f":"'>discounts'!E5","v":13},{"$f":"'>discounts'!F5","v":22}]
[null,"date-list","List of dates",null,{"$f":"addressFla('>FX'!B9)","v":"'>FX'!$B$9"},{"$f":"'>FX'!E6","v":261},{"$f":"'>FX'!F6","v":12}]
[null,"curve-type",null,null,{"$f":"addressFla('>FX'!O9)","v":"'>FX'!$O$9"},{"$f":"'>FX'!R6","v":261},{"$f":"'>FX'!S6","v":12}]
[null,"curve-fx","Forward FX curve",null,{"$f":"addressFla('>FX'!AB9)","v":"'>FX'!$AB$9"},{"$f":"'>FX'!AE6","v":261},{"$f":"'>FX'!AF6","v":12}]
[null,"curve-swap","Swap curve",null,{"$f":"addressFla(swap!B10)","v":"'swap'!$B$10"},{"$f":"swap!D4","v":249},{"$f":"swap!E4","v":2}]
[null,"fxswap-param","Parameter of the FX swap output",null,{"$f":"addressFla(swap!D10)","v":"'swap'!$D$10"},{"$f":"swap!D5","v":249},{"$f":"swap!E5","v":2}]
[null,"fxswap-intercept","Intercept coefficients of the FX swap",null,{"$f":"addressFla(swap!H10)","v":"'swap'!$H$10"},{"$f":"swap!H4","v":249},{"$f":"swap!I4","v":2}]
[null,"fxswap-slope","Slope coefficients o the FX swap"]
[null,"fxswap-proxy","Proxy values of the FX swap",null,"Swap Parameters"]
[null,"data-frequency","The key to set output data frequency",null,"CRNCY_FROM",null,"Swap currency: Leg 1"]
[null,"daily-frequency","Daily data frequency",null,"CRNCY_TO",null,"Swap currency: Leg 2"]
[null,"weekly-frequency","Weekly data frequency",null,"CPN_FREQ_FROM",null,"Swap interest payment frequency: Leg 1"]
[null,"monthly-frequency","Monthly data frequency",null,"CPN_FREQ_TO",null,"Swap interest payment frequency: Leg 2"]
[null,"quarterly-frequency","Quarterly data frequency",null,"DAY_CNT_FROM",null,"Swap day count basis: Leg 1"]
[null,"annual-frequency","Annual data frequency",null,"DAY_CNT_TO",null,"Swap day count basis: Leg 2"]
[null,"day count basis",null,null,"TENOR",null,"Swap tenor term"]
[null,"30/360"]
[null,"ACT/ACT",null,null,"Graph configuration"]
[null,"ACT/360"]
[null,"ACT/365",null,null,"Line","yes","Set to yes/no to set line visible or non-visible"]
[null,null,null,null,"Line size",1.5,"Set line size"]
[null,null,null,null,"Marker","no","Set to yes/no to set markers visible or non-visible"]
[null,null,null,null,"Marker size",4,"Set markers size"]

{"sheet":"guide","index":11,"n_rows":2,"n_cols":2,"rows_kept":2,"cut":false,"hidden":false,"merged":[[1,1,32,8]]}
[]
[null,"Package: AC.finance.irb.swap\n\nAvailable functions:\n\n1.     \n"]