{"text_format":"1","workbook":"xlsx","n_sheets":8,"sheets":["data","calc","TS","charts","fitted","res","config","guide"],"not_rendered":{"charts":7,"images":0,"macros":1,"external_links":0,"defined_names":10,"comments":0,"pivot_tables":0},"unopened":[],"bounds":{"document_bytes":16777216,"sheet_cells":100000,"rows_first":2000,"rows_last":500,"rows_between":2000,"halvings":0,"cell_chars":16384,"cell_head_chars":4096},"cells_cut":0,"cells_raw":0,"read":"whole","date_system":"1900"}

{"sheet":"data","index":0,"n_rows":482,"n_cols":31,"rows_kept":482,"cut":false,"hidden":false,"merged":[]}
[]
[null,null,"TAB: YIELD DATA (IN %)"]
[null,null,null,null,null,null,null,null,null,null,null,null,null,null,null,"Utilities industry, sample of B rated bonds",null,null,null,null,null,null,null,null,null,null,"Utilities industry, sample of B- rated bonds"]
[null,null,"Treasury yield rates",null,null,null,null,null,null,null,null,null,null,null,null,1,2,3,4,5,6,8,9,10,11,null,14,15,16,17,18]
[null,"#","Date","C0823M","C0826M","C0821Y","C0822Y","C0823Y","C0825Y","C0827Y","C08210Y","C08220Y","C08230Y",null,null,"EK697585","UV308871","EK697591","UV309161","EK376512","EK129557","EK726871","UV309350","EK376500","QZ797088",null,"EH258733","EK355400","EI702963","EK408885","LW316363"]
[null,null,null,{"$f":"3/12","v":0.25},{"$f":"6/12","v":0.5},1,2,3,5,7,10,20,30,null,"Date",1.8879999999999999,2.1859999999999999,4.1449999999999996,5.1920000000000002,5.3970000000000002,5.7729999999999997,6.444,7.1950000000000003,7.4,7.4,null,0.68200000000000005,1.8879999999999999,3.6850000000000001,4.3970000000000002,5.8109999999999999]
[null,1,"2015-09-30",0.14829999999999999,0.22159999999999999,0.3427,0.66600000000000004,0.95609999999999995,1.4188000000000001,1.7693000000000001,2.1002999999999998,2.6234000000000002,2.9022000000000001,null,"2017-08-29",5.9059999999999997,4.93,7.5490000000000004,6.6130000000000004,6.3680000000000003,6.1539999999999999,6.7489999999999997,7.0629999999999997,7.1050000000000004,7.5270000000000001,null,3.988,5.3470000000000004,7.8940000000000001,7.6349999999999998,7.9729999999999999]
[null,{"$f":"B7+1","v":2},"2015-06-30",0.12620000000000001,0.1729,0.2767,0.69140000000000001,1.0805,1.6668000000000001,2.0746000000000002,2.4155000000000002,2.9403000000000001,3.1377999999999999,null,"2017-08-28",5.9349999999999996,4.92,7.4850000000000003,6.5679999999999996,6.3079999999999998,6.1520000000000001,6.8109999999999999,7.0650000000000004,7.048,7.51,null,3.98,5.4660000000000002,7.7359999999999998,8.1280000000000001,7.9429999999999996]
[null,{"$f":"B8+1","v":3},"2015-03-31",0.12039999999999999,0.15890000000000001,0.24660000000000001,0.60660000000000003,0.93889999999999996,1.4016999999999999,1.7037,1.9812000000000001,2.3881000000000001,2.5604,null,"2017-08-25",5.6970000000000001,4.9269999999999996,7.3920000000000003,6.5979999999999999,6.2629999999999999,6.1349999999999998,6.7919999999999998,7.0640000000000001,7.0439999999999996,7.4829999999999997,null,3.9710000000000001,5.2629999999999999,7.6109999999999998,8.0960000000000001,7.9429999999999996]
[null,4,"2014-12-31",0.1113,0.15190000000000001,0.25140000000000001,0.72340000000000004,1.1506000000000001,1.6680999999999999,1.9653,2.2164000000000001,2.5394000000000001,2.786,null,"2017-08-24",5.7789999999999999,4.9210000000000003,7.3739999999999997,6.5949999999999998,6.4470000000000001,6.2610000000000001,6.952,7.117,7.08,7.4610000000000003,null,4.1150000000000002,5.492,7.851,8.0559999999999992,7.9429999999999996]
[null,5,"2014-09-30",2.9000000000000001E-2,5.2400000000000002E-2,0.1414,0.62270000000000003,1.1377999999999999,1.8096000000000001,2.2103000000000002,2.5565000000000002,3.0432999999999999,3.2370000000000001,null,"2017-08-23",5.883,4.9249999999999998,7.4850000000000003,6.59,6.4980000000000002,6.2809999999999997,6.9530000000000003,7.1109999999999998,7.1760000000000002,7.484,null,3.891,5.3419999999999996,7.9189999999999996,7.984,7.9859999999999998]
[null,6,"2014-06-30",5.2600000000000001E-2,6.7900000000000002E-2,0.14050000000000001,0.45650000000000002,0.90349999999999997,1.6343000000000001,2.1280999999999999,2.5663,3.1667000000000001,3.3494000000000002,null,"2017-08-22",6.0679999999999996,4.9240000000000004,7.6260000000000003,6.5579999999999998,6.452,6.0629999999999997,7.0419999999999998,7.0890000000000004,7.1870000000000003,7.4619999999999997,null,3.7709999999999999,5.3620000000000001,7.7919999999999998,8.1240000000000006,7.9630000000000001]
[null,7,"2014-03-31",4.7600000000000003E-2,5.4800000000000001E-2,9.64E-2,0.39179999999999998,0.91359999999999997,1.7519,2.3033000000000001,2.7562000000000002,3.4119000000000002,3.5737000000000001,null,"2017-08-21",6.1459999999999999,4.9470000000000001,7.6210000000000004,6.6369999999999996,6.28,6.2990000000000004,6.8979999999999997,7.3520000000000003,7.1449999999999996,7.6390000000000002,null,4.05,5.4870000000000001,7.83,8.0519999999999996,7.9660000000000002]
[null,8,"2013-12-31",6.5500000000000003E-2,9.4700000000000006E-2,0.13500000000000001,0.35770000000000002,0.79910000000000003,1.7639,2.4624999999999999,3.105,3.7610999999999999,3.9739,null,"2017-08-18",6.17,4.9379999999999997,7.6210000000000004,6.907,6.2210000000000001,6.5839999999999996,6.6319999999999997,7.6050000000000004,6.9329999999999998,7.8849999999999998,null,4.1120000000000001,5.4269999999999996,7.72,8.06,7.8970000000000002]
[null,9,"2013-09-30",2.8500000000000001E-2,3.6600000000000001E-2,0.1133,0.31840000000000002,0.63190000000000002,1.3906000000000001,2.0068999999999999,2.6714000000000002,3.4544999999999999,3.6791999999999998,null,"2017-08-17",6.1950000000000003,4.9710000000000001,7.6109999999999998,6.907,5.9710000000000001,6.5949999999999998,6.6210000000000004,7.5910000000000002,6.9089999999999998,8.0229999999999997,null,4.1059999999999999,5.45,7.77,7.7009999999999996,7.85]
[null,10,"2013-06-30",7.1999999999999995E-2,0.10730000000000001,0.16589999999999999,0.3654,0.6774,1.4043000000000001,1.9522999999999999,2.5215999999999998,3.3077999999999999,3.4754,null,"2017-08-16",6.2510000000000003,4.9770000000000003,7.6210000000000004,6.8419999999999996,5.9640000000000004,6.57,6.6070000000000002,7.577,6.8410000000000002,8.0120000000000005,null,4.1639999999999997,5.4109999999999996,7.6449999999999996,7.2460000000000004,7.8330000000000002]
[null,11,"2013-03-31",6.5100000000000005E-2,8.9099999999999999E-2,0.1215,0.26800000000000002,0.3755,0.78539999999999999,1.2161,1.9225000000000001,2.8180999999999998,3.0912000000000002,null,"2017-08-14",6.165,4.9329999999999998,7.7869999999999999,6.8129999999999997,5.9619999999999997,6.5419999999999998,6.5609999999999999,7.5019999999999998,6.8789999999999996,7.9530000000000003,null,4.3040000000000003,5.44,7.673,7.6980000000000004,7.8579999999999997]
[null,12,"2012-12-31",8.8700000000000001E-2,0.1447,0.14069999999999999,0.27339999999999998,0.35880000000000001,0.7389,1.1891,1.8125,2.6457000000000002,2.9411,null,"2017-08-10",6.1840000000000002,4.9589999999999996,7.8010000000000002,6.9409999999999998,6.0060000000000002,6.5910000000000002,6.6630000000000003,7.5910000000000002,6.8550000000000004,8.1120000000000001,null,4.2469999999999999,5.431,7.6779999999999999,8.1449999999999996,7.8689999999999998]
[null,13,"2012-09-30",0.1162,0.13500000000000001,0.15570000000000001,0.245,0.29420000000000002,0.63329999999999997,1.0642,1.6955,2.5373999999999999,2.8178999999999998,null,"2017-08-09",6.1820000000000004,4.9470000000000001,7.4820000000000002,6.9169999999999998,5.9189999999999996,6.5910000000000002,6.6020000000000003,7.5750000000000002,6.81,8.0939999999999994,null,3.53,5.133,7.6609999999999996,7.6719999999999997,7.782]
[null,14,"2012-06-30",0.1113,0.1716,0.25950000000000001,0.32140000000000002,0.4234,0.74670000000000003,1.0986,1.7335,2.4950000000000001,2.7761999999999998,null,"2017-08-08",6.18,4.9370000000000003,7.4580000000000002,6.7590000000000003,5.9530000000000003,6.5,6.5430000000000001,7.5919999999999996,6.827,7.9530000000000003,null,3.323,5.0780000000000003,7.6230000000000002,7.9039999999999999,7.7809999999999997]
[null,15,"2012-03-31",0.1106,0.1331,0.21840000000000001,0.34770000000000001,0.53710000000000002,1.0713999999999999,1.5927,2.2827999999999999,3.1122999999999998,3.3275999999999999,null,"2017-08-07",6.4189999999999996,4.9119999999999999,7.702,6.7549999999999999,5.9779999999999998,6.5970000000000004,6.58,7.5110000000000001,6.82,7.9080000000000004,null,3.3860000000000001,5.1310000000000002,7.6539999999999999,7.8250000000000002,7.8220000000000001]
[null,16,"2011-12-31",1.6E-2,3.8100000000000002E-2,0.1298,0.2757,0.3805,0.85329999999999995,1.3673,1.9567000000000001,2.6867000000000001,2.9140999999999999,null,"2017-08-04",6.407,4.8959999999999999,7.6539999999999999,6.8479999999999999,5.9550000000000001,6.5430000000000001,6.5730000000000004,7.4260000000000002,6.859,7.774,null,3.548,5.1269999999999998,7.7089999999999996,8.0050000000000008,7.8239999999999998]
[null,17,"2011-09-30",2.4899999999999999E-2,8.1299999999999997E-2,0.17249999999999999,0.28320000000000001,0.438,0.95940000000000003,1.4419999999999999,2.0062000000000002,2.7608000000000001,2.9493999999999998,null,"2017-08-03",6.6689999999999996,4.907,7.7069999999999999,6.9960000000000004,6.0090000000000003,6.5869999999999997,6.5739999999999998,7.5720000000000001,6.8620000000000001,7.9080000000000004,null,3.5209999999999999,5.1319999999999997,7.7069999999999999,8.1829999999999998,7.8550000000000004]
[null,18,"2011-06-30",3.8800000000000001E-2,0.1137,0.2482,0.49480000000000002,0.82950000000000002,1.7542,2.5097999999999998,3.2966000000000002,4.2233999999999998,4.3874000000000004,null,"2017-08-02",5.3079999999999998,4.8970000000000002,6.9180000000000001,6.915,6.0359999999999996,6.5659999999999998,6.5979999999999999,7.6420000000000003,6.92,7.9420000000000002,null,3.492,5.1040000000000001,7.7789999999999999,7.556,7.8730000000000002]
[null,19,"2011-03-31",7.4999999999999997E-2,0.1812,0.30249999999999999,0.82689999999999997,1.3423,2.3025000000000002,2.9643999999999999,3.5668000000000002,4.3338000000000001,4.5021000000000004,null,"2017-08-01",5.2830000000000004,4.9089999999999998,6.99,7.0019999999999998,5.9809999999999999,6.6820000000000004,6.5670000000000002,7.6950000000000003,6.9050000000000002,8.0890000000000004,null,3.544,5.1239999999999997,7.8419999999999996,7.8170000000000002,7.9020000000000001]
[null,20,"2010-12-31",0.1391,0.21579999999999999,0.27089999999999997,0.5927,1.0268999999999999,2.0154000000000001,2.7189000000000001,3.3816000000000002,4.1835000000000004,4.3247,null,"2017-07-31",5.298,4.8949999999999996,6.9969999999999999,7.0460000000000003,5.9649999999999999,6.6609999999999996,6.65,7.718,6.8949999999999996,8.0440000000000005,null,3.5579999999999998,5.1559999999999997,7.8,7.83,7.9459999999999997]
[null,21,"2010-09-30",0.13819999999999999,0.21079999999999999,0.26179999999999998,0.45400000000000001,0.67600000000000005,1.2643,1.9232,2.5446,3.4430000000000001,3.6981000000000002,null,"2017-07-28",5.3109999999999999,4.952,7.0590000000000002,7.1379999999999999,5.9690000000000003,6.694,6.6120000000000001,7.6749999999999998,6.923,8.1349999999999998,null,3.573,5.1440000000000001,7.8010000000000002,8.0389999999999997,7.915]
[null,22,"2010-06-30",0.20319999999999999,0.248,0.3377,0.63039999999999996,1.0036,1.7968,2.4403999999999999,2.9615,3.7799,3.9068000000000001,null,"2017-07-27",5.3209999999999997,4.8380000000000001,7.07,7.0910000000000002,5.7969999999999997,6.681,6.4640000000000004,7.66,6.843,8.1349999999999998,null,3.5680000000000001,5.1589999999999998,7.859,8,7.9109999999999996]
[null,23,"2010-03-31",0.15079999999999999,0.23,0.41449999999999998,1.0127999999999999,1.5884,2.5539999999999998,3.2964000000000002,3.8449,4.6398000000000001,4.7141999999999999,null,"2017-07-26",5.319,4.91,7.0629999999999997,7.1280000000000001,5.7030000000000003,6.7960000000000003,6.3419999999999996,7.6849999999999996,6.6509999999999998,8.0440000000000005,null,3.7789999999999999,5.2279999999999998,7.94,8.0830000000000002,7.9020000000000001]
[null,24,"2009-12-31",5.0500000000000003E-2,0.16470000000000001,0.49280000000000002,1.1516,1.6645000000000001,2.7084999999999999,3.4194,3.9232999999999998,4.6097000000000001,4.6349,null,"2017-07-25",5.2080000000000002,4.9340000000000002,7.0880000000000001,6.9340000000000002,5.7220000000000004,6.6280000000000001,6.3789999999999996,7.6660000000000004,6.6909999999999998,8.09,null,3.875,5.2309999999999999,7.984,7.9249999999999998,8.0459999999999994]
[null,25,"2009-09-30",0.1265,0.1777,0.3977,0.94269999999999998,1.4420999999999999,2.3593000000000002,2.9802,3.3458999999999999,4.1200999999999999,4.0922999999999998,null,"2017-07-24",5.2759999999999998,4.9080000000000004,7.0469999999999997,6.9660000000000002,5.7309999999999999,6.6280000000000001,6.3929999999999998,7.6680000000000001,6.7160000000000002,7.9770000000000003,null,3.702,5.23,7.9960000000000004,8.2989999999999995,8.048]
[null,26,"2009-06-30",0.2298,0.3644,0.54430000000000001,1.1249,1.6456999999999999,2.5703999999999998,3.2168000000000001,3.5626000000000002,4.351,4.3487999999999998,null,"2017-07-21",5.33,4.7439999999999998,7.11,6.9080000000000004,5.694,6.6509999999999998,6.391,7.5739999999999998,6.6689999999999996,7.9989999999999997,null,4.3449999999999998,5.2290000000000001,8.0679999999999996,8.2170000000000005,8.0470000000000006]
[null,27,"2009-03-31",0.22520000000000001,0.43640000000000001,0.53520000000000001,0.7873,1.1496999999999999,1.6595,2.2035,2.7044000000000001,3.6444999999999999,3.5446,null,"2017-07-20",5.4279999999999999,4.9340000000000002,7.0830000000000002,6.8810000000000002,5.6950000000000003,6.6520000000000001,6.3920000000000003,7.5129999999999999,6.7069999999999999,7.82,null,4.423,5.2290000000000001,8.0220000000000002,8.5850000000000009,8.0500000000000007]
[null,28,"2008-12-31",0.1208,0.23050000000000001,0.34300000000000003,0.76790000000000003,1.0018,1.5385,1.6181000000000001,2.2271000000000001,3.0842999999999998,2.6566000000000001,null,"2017-07-19",5.5019999999999998,4.9690000000000003,7.0910000000000002,6.8659999999999997,5.71,6.6879999999999997,6.3390000000000004,7.5110000000000001,6.7409999999999997,7.9320000000000004,null,4.3529999999999998,5.2169999999999996,8.0139999999999993,8.2889999999999997,8.1780000000000008]
[null,29,"2008-09-30",0.87280000000000002,1.6285000000000001,1.8345,1.8371,2.2938999999999998,2.9333,3.3656999999999999,3.8258000000000001,4.4725000000000001,4.2914000000000003,null,"2017-07-18",5.0869999999999997,5.0229999999999997,7.06,6.9569999999999999,5.7160000000000002,6.7640000000000002,6.3159999999999998,7.5819999999999999,6.6589999999999998,7.9320000000000004,null,4.37,5.2149999999999999,8.02,8.2560000000000002,8.2140000000000004]
[null,30,"2008-06-30",1.7748999999999999,2.1524999999999999,2.3414999999999999,2.5510999999999999,2.9201999999999999,3.3159000000000001,3.6496,4.0195999999999996,4.6224999999999996,4.5231000000000003,null,"2017-07-17",5.1719999999999997,5.0570000000000004,7.1829999999999998,7.0060000000000002,5.702,6.9690000000000003,6.3070000000000004,7.7830000000000004,6.6369999999999996,8.0449999999999999,null,4.5460000000000003,5.6589999999999998,8.0510000000000002,8.5069999999999997,8.218]
[null,31,"2008-03-31",1.2376,1.3420000000000001,1.4682999999999999,1.5616000000000001,1.7045999999999999,2.4468000000000001,2.94,3.5989,4.3285,4.2881999999999998,null,"2017-07-14",5.335,5.1269999999999998,7.2030000000000003,7.1379999999999999,5.8550000000000004,7.08,6.3869999999999996,7.8689999999999998,6.7169999999999996,8.2270000000000003,null,4.6079999999999997,5.6890000000000001,8.0050000000000008,8.31,8.2970000000000006]
[null,32,"2007-12-31",3.2477,3.4094000000000002,3.2858000000000001,3.0217000000000001,3.0594000000000001,3.4567999999999999,3.7890999999999999,4.1364999999999998,4.516,4.4596,null,"2017-07-13",5.3339999999999996,5.1630000000000003,7.0380000000000003,7.3390000000000004,5.8570000000000002,7.2169999999999996,6.4269999999999996,7.9649999999999999,6.7359999999999998,8.3179999999999996,null,4.5629999999999997,5.6849999999999996,8.0259999999999998,8.4610000000000003,8.2889999999999997]
[null,33,"2007-09-30",3.9548999999999999,4.1398999999999999,4.0732999999999997,3.9548999999999999,4.1124999999999998,4.2449000000000003,4.4330999999999996,4.6601999999999997,4.9032,4.8369999999999997,null,"2017-07-12",5.2270000000000003,5.1929999999999996,7.0990000000000002,7.4260000000000002,5.8849999999999998,7.26,6.4710000000000001,8.1639999999999997,6.694,8.5500000000000007,null,4.6680000000000001,5.6740000000000004,8.1739999999999995,8.4849999999999994,8.2919999999999998]
[null,34,"2007-06-30",4.8621999999999996,4.9661,5.0278999999999998,4.8681999999999999,4.8742999999999999,4.8955000000000002,4.9722999999999997,5.0720000000000001,5.2103000000000002,5.1205999999999996,null,"2017-07-11",5.3239999999999998,5.3239999999999998,6.9980000000000002,7.65,6.14,7.3479999999999999,6.5259999999999998,8.3339999999999996,6.9160000000000004,8.5839999999999996,null,5.1980000000000004,5.7629999999999999,8.3079999999999998,8.5890000000000004,8.3460000000000001]
[null,35,"2007-03-31",5.0462999999999996,5.0761000000000003,4.9109999999999996,4.5621999999999998,4.5362,4.5303000000000004,4.5926999999999998,4.6637000000000004,4.9132999999999996,4.8315999999999999,null,"2017-07-10",5.2190000000000003,5.3479999999999999,6.9359999999999999,7.6580000000000004,6.04,7.3470000000000004,6.5789999999999997,8.2889999999999997,6.91,8.6150000000000002,null,4.5960000000000001,5.7649999999999997,8.2360000000000007,8.2799999999999994,8.1940000000000008]
[null,36,"2006-12-31",5.0643000000000002,5.1035000000000004,5,4.7983000000000002,4.7343999999999999,4.6756000000000002,4.7074999999999996,4.7183000000000002,4.9112999999999998,4.7988999999999997,null,"2017-07-06",5.1139999999999999,5.3289999999999997,7.0190000000000001,7.6470000000000002,5.9450000000000003,7.3330000000000002,6.5659999999999998,8.3010000000000002,6.8319999999999999,8.6189999999999998,null,4.6379999999999999,5.7649999999999997,8.1940000000000008,8.0009999999999994,8.0419999999999998]
[null,37,"2006-09-30",4.9523999999999999,5.0509000000000004,4.9550000000000001,4.6501000000000001,4.6219000000000001,4.5758000000000001,4.6100000000000003,4.6471,4.8487,4.7625000000000002,null,"2017-07-05",5.1269999999999998,5.2320000000000002,6.9429999999999996,7.5549999999999997,5.9160000000000004,7.298,6.5369999999999999,8.1519999999999992,6.7850000000000001,8.5020000000000007,null,4.7910000000000004,5.8440000000000003,8.0559999999999992,8.0079999999999991,8.0280000000000005]
[null,38,"2006-06-30",5.0266000000000002,5.2907999999999999,5.3262,5.1455000000000002,5.1279000000000003,5.0888,5.1325000000000003,5.1584000000000003,5.3262999999999998,5.1940999999999997,null,"2017-06-30",5.1360000000000001,5.28,6.9950000000000001,7.53,5.8840000000000003,7.1340000000000003,6.5049999999999999,8.1489999999999991,6.7359999999999998,8.4540000000000006,null,4.7210000000000001,5.8639999999999999,8.1329999999999991,7.9240000000000004,8.0559999999999992]
[null,39,"2006-03-31",4.6204000000000001,4.8621999999999996,4.8734000000000002,4.8398000000000003,4.8128000000000002,4.8315000000000001,4.8689,4.8887,5.0926,4.8968999999999996,null,"2017-06-29",5.1369999999999996,5.2779999999999996,7.0010000000000003,7.5620000000000003,5.9359999999999999,7.141,6.5019999999999998,8.0850000000000009,6.8449999999999998,8.5429999999999993,null,4.7249999999999996,5.7889999999999997,8.0350000000000001,8.2460000000000004,8.0530000000000008]
[null,40,"2005-12-31",4.2388000000000003,4.4779,4.4161999999999999,4.3761000000000001,4.3761999999999999,4.3547000000000002,4.3863000000000003,4.4028999999999998,4.6425000000000001,4.4968000000000004,null,"2017-06-28",5.1120000000000001,5.1769999999999996,7.008,7.5410000000000004,5.9390000000000001,7.0810000000000004,6.5439999999999996,8.0860000000000003,6.84,8.5,null,4.7809999999999997,5.7859999999999996,7.9119999999999999,7.8479999999999999,7.8879999999999999]
[null,41,"2005-09-30",3.5398999999999998,3.9279999999999999,4.1097000000000001,4.1778000000000004,4.1843000000000004,4.2072000000000003,4.2843999999999998,4.3682999999999996,4.6596000000000002,4.5224000000000002,null,"2017-06-27",5.1120000000000001,5.3760000000000003,7.0060000000000002,7.6029999999999998,5.9779999999999998,7.0140000000000002,6.5289999999999999,8.1630000000000003,6.8719999999999999,8.5220000000000002,null,5.0309999999999997,5.782,7.944,8.1270000000000007,7.8840000000000003]
[null,42,"2005-06-30",3.0735999999999999,3.3727,3.5363000000000002,3.6473,3.6511,3.7311000000000001,3.7945000000000002,3.9723999999999999,4.3174000000000001,4.1632999999999996,null,"2017-06-23",5.5350000000000001,5.4089999999999998,6.8150000000000004,7.79,6.0469999999999997,7.3070000000000004,6.6040000000000001,8.2880000000000003,6.9290000000000003,8.6379999999999999,null,5.069,5.7919999999999998,8.0129999999999999,8.3620000000000001,8.0589999999999993]
[null,43,"2005-03-31",2.7875999999999999,3.1269,3.4647999999999999,3.8037999999999998,3.9558,4.2096999999999998,4.3503999999999996,4.5115999999999996,4.9676,4.7313999999999998,null,"2017-06-22",5.09,5.4180000000000001,6.8280000000000003,7.7750000000000004,6.0490000000000004,7.3259999999999996,6.5979999999999999,8.2959999999999994,6.9509999999999996,8.7319999999999993,null,5.0789999999999997,5.7930000000000001,7.9130000000000003,7.9829999999999997,7.94]
[null,44,"2004-12-31",2.2158000000000002,2.5078,2.7942,3.0931000000000002,3.2584,3.6488,3.9767999999999999,4.2569999999999997,4.9760999999999997,4.8164999999999996,null,"2017-06-21",5.1459999999999999,5.4240000000000004,6.8339999999999996,7.8410000000000002,6.1050000000000004,7.3109999999999999,6.5910000000000002,8.3659999999999997,6.9320000000000004,8.6370000000000005,null,5.0709999999999997,5.8010000000000002,7.984,8.0830000000000002,8]
[null,45,"2004-09-30",1.7170000000000001,1.9049,2.181,2.6301000000000001,2.8980999999999999,3.4083999999999999,3.8077999999999999,4.1631,4.9932999999999996,4.8977000000000004,null,"2017-06-20",5.0640000000000001,5.38,6.7359999999999998,7.7389999999999999,6.0259999999999998,7.3090000000000002,6.4180000000000001,8.3089999999999993,6.8209999999999997,8.6829999999999998,null,5.0659999999999998,5.806,7.8220000000000001,8.08,7.827]
[null,46,"2004-06-30",1.2937000000000001,1.6658999999999999,2.0312999999999999,2.7185000000000001,3.1474000000000002,3.8176999999999999,4.2651000000000003,4.6360000000000001,5.4038000000000004,5.1656000000000004,null,"2017-06-19",4.7930000000000001,5.3630000000000004,6.5890000000000004,7.7679999999999998,6.056,7.2910000000000004,6.4119999999999999,8.3089999999999993,6.8,8.6129999999999995,null,5.0620000000000003,5.944,7.8419999999999996,7.9770000000000003,7.8109999999999999]
[null,47,"2004-03-31",0.95109999999999995,0.99650000000000005,1.1216999999999999,1.5661,1.9953000000000001,2.8189000000000002,3.4020999999999999,3.8740000000000001,4.8760000000000003,4.6974999999999998,null,"2017-06-16",4.6980000000000004,5.3550000000000004,6.56,7.6660000000000004,6.1130000000000004,7.2930000000000001,6.4119999999999999,8.3970000000000002,6.8040000000000003,8.7729999999999997,null,5.5979999999999999,5.9219999999999997,7.9039999999999999,8.0790000000000006,7.7290000000000001]
[null,48,"2003-12-31",0.91410000000000002,0.98050000000000004,1.2081,1.8116000000000001,2.3908,3.2305000000000001,3.7894999999999999,4.2247000000000003,5.2031999999999998,5.01,null,"2017-06-15",4.8879999999999999,5.3620000000000001,6.5519999999999996,7.7640000000000002,6.0970000000000004,7.2169999999999996,6.4880000000000004,8.3460000000000001,6.843,8.7059999999999995,null,5.1139999999999999,5.9269999999999996,7.7519999999999998,7.2469999999999999,7.7240000000000002]
[null,49,"2003-09-30",0.92689999999999995,0.99109999999999998,1.075,1.4098999999999999,1.9644999999999999,2.8653,3.4676,3.9327000000000001,4.9984000000000002,4.8578999999999999,null,"2017-06-14",4.516,5.38,6.4219999999999997,7.681,6.1260000000000003,7.2119999999999997,6.4850000000000003,8.3260000000000005,6.8570000000000002,8.6579999999999995,null,5.1340000000000003,6.0060000000000002,7.7709999999999999,7.8949999999999996,7.726]
[null,50,"2003-06-30",0.86029999999999995,0.97599999999999998,1.0266,1.2936000000000001,1.6721999999999999,2.4700000000000002,3.1116000000000001,3.5453999999999999,4.6603000000000003,4.5486000000000004,null,"2017-06-13",4.5049999999999999,5.4059999999999997,6.423,7.7460000000000004,6.1479999999999997,7.2220000000000004,6.5389999999999997,8.3390000000000004,6.8440000000000003,8.6460000000000008,null,5.069,6,7.726,7.8710000000000004,7.726]
[null,51,"2003-03-31",1.1356999999999999,1.1207,1.1563000000000001,1.4505999999999999,1.9739,2.7991000000000001,3.4150999999999998,3.8098999999999998,4.9166999999999996,4.8270999999999997,null,"2017-06-12",4.5030000000000001,5.375,6.423,7.7530000000000001,6.1509999999999998,7.2119999999999997,6.5430000000000001,8.2449999999999992,6.9059999999999997,8.6489999999999991,null,5.032,5.9980000000000002,7.7190000000000003,7.8019999999999996,7.7220000000000004]
[null,52,"2002-12-31",1.1278999999999999,1.1791,1.1953,1.5759000000000001,2.0327000000000002,2.8071999999999999,3.3892000000000002,3.8454999999999999,4.9672999999999998,4.7651000000000003,null,"2017-06-09",4.5110000000000001,5.327,6.4240000000000004,7.7350000000000003,5.9669999999999996,7.1440000000000001,6.39,8.2409999999999997,6.6970000000000001,8.5869999999999997,null,5.1269999999999998,6.0019999999999998,7.6870000000000003,7.8019999999999996,7.726]
[null,53,"2002-09-30",1.5355000000000001,1.4991000000000001,1.4391,1.7074,2.0615999999999999,2.6463999999999999,3.2793999999999999,3.6711999999999998,4.8109000000000002,4.6913,null,"2017-06-08",4.6900000000000004,5.3310000000000004,6.42,7.7560000000000002,6.0540000000000003,7.1459999999999999,6.3609999999999998,8.2309999999999999,6.6550000000000002,8.5399999999999991,null,5.1879999999999997,5.9960000000000004,7.59,7.5629999999999997,7.6020000000000003]
[null,54,"2002-06-30",1.65,1.7,1.92,2.89,3.41,4.0999999999999996,4.5199999999999996,4.8,5.73,5.58,null,"2017-06-07",4.6909999999999998,5.4050000000000002,6.4089999999999998,7.7210000000000001,5.9909999999999997,7.1360000000000001,6.3259999999999996,8.0609999999999999,6.6970000000000001,8.4589999999999996,null,5.0670000000000002,6.0129999999999999,7.4980000000000002,7.5090000000000003,7.5910000000000002]
[null,55,"2002-03-31",1.77,2.11,2.71,3.77,4.3099999999999996,4.97,5.26,5.4,6.12,5.8,null,"2017-06-06",4.6870000000000003,5.3079999999999998,6.4189999999999996,7.5149999999999997,5.9539999999999997,6.9630000000000001,6.3029999999999999,7.952,6.665,8.31,null,4.8789999999999996,5.91,7.2649999999999997,7.399,7.452]
[null,56,"2001-12-31",1.71,1.69,2.0299999999999998,3.06,3.76,4.42,4.92,5.0199999999999996,5.87,5.5,null,"2017-06-01",4.6420000000000003,5.359,6.3049999999999997,7.6020000000000003,5.7549999999999999,7.07,6.2009999999999996,8.1229999999999993,6.5620000000000003,8.5380000000000003,null,4.8869999999999996,5.9279999999999999,7.2549999999999999,7.3739999999999997,7.407]
[null,57,"2001-09-30",2.3199999999999998,2.2799999999999998,2.48,2.85,3.37,3.98,4.41,4.5999999999999996,5.47,5.42,null,"2017-05-31",4.5839999999999996,5.4050000000000002,6.3170000000000002,7.6580000000000004,5.7539999999999996,7.0709999999999997,6.1139999999999999,8.1519999999999992,6.5289999999999999,8.5359999999999996,null,5.0019999999999998,5.8440000000000003,7.181,7.3730000000000002,7.399]
[null,58,"2001-06-30",3.72,3.7,3.89,4.33,4.68,5.03,5.28,5.37,5.91,5.77,null,"2017-05-30",4.6319999999999997,5.4219999999999997,6.3209999999999997,7.7640000000000002,5.7889999999999997,7.07,6.1050000000000004,8.2159999999999993,6.4660000000000002,8.4450000000000003,null,4.9370000000000003,5.8819999999999997,7.351,7.5279999999999996,7.2830000000000004]
[null,59,"2001-03-31",4.3600000000000003,4.2300000000000004,4.16,4.24,4.38,4.58,4.82,4.8899999999999997,5.73,5.43,null,"2017-05-25",4.5940000000000003,5.4160000000000004,6.3220000000000001,7.7290000000000001,5.8220000000000001,7.0739999999999998,6.2750000000000004,8.2680000000000007,6.5419999999999998,8.6120000000000001,null,4.9269999999999996,5.556,7.1150000000000002,7.3220000000000001,7.24]
[null,60,"2000-12-31",5.94,5.74,5.47,5.1100000000000003,5.0999999999999996,5.0599999999999996,5.17,5.0599999999999996,5.49,5.53,null,"2017-05-24",4.7549999999999999,5.516,6.3920000000000003,7.7629999999999999,5.8230000000000004,7.1820000000000004,6.3419999999999996,8.3490000000000002,6.5119999999999996,8.6760000000000002,null,4.9429999999999996,6.7279999999999998,7.0510000000000002,7.2969999999999997,7.234]
[null,61,"2000-09-30",6.34,6.45,6.29,5.98,5.93,5.89,5.94,5.79,6.08,6,null,"2017-05-23",4.7220000000000004,5.657,6.51,7.8689999999999998,5.86,7.32,6.3559999999999999,8.3049999999999997,6.5960000000000001,9.0389999999999997,null,4.1020000000000003,5.8620000000000001,7.117,7.1980000000000004,7.2220000000000004]
[null,62,"2000-06-30",5.91,6.48,6.5,6.46,6.35,6.26,6.24,6.18,6.36,6.04,null,"2017-05-22",4.673,5.4279999999999999,6.5060000000000002,7.4770000000000003,5.9489999999999998,6.8650000000000002,6.3540000000000001,7.891,6.5720000000000001,8.7260000000000009,null,4.1260000000000003,5.8550000000000004,7.1109999999999998,7.3929999999999998,7.234]
[null,63,"2000-03-31",6.22,6.34,6.41,6.49,6.43,6.3,6.29,6.21,6.19,5.98,null,"2017-05-19",4.7,5.3879999999999999,6.54,7.3810000000000002,6.016,6.8890000000000002,6.35,7.9359999999999999,6.58,8.3520000000000003,null,4.149,5.9610000000000003,7.1379999999999999,6.798,7.2389999999999999]
[null,64,"1999-12-31",5.53,5.83,6.14,6.24,6.37,6.3,6.56,6.42,6.85,6.61,null,"2017-05-16",5.01,5.782,6.6120000000000001,8.4979999999999993,6.0049999999999999,8.31,6.3330000000000002,9.1300000000000008,6.5449999999999999,9.5329999999999995,null,4.3319999999999999,6.0039999999999996,7.3040000000000003,7.3650000000000002,7.2910000000000004]
[null,65,"1999-09-30",5.03,5.14,5.49,5.67,5.72,5.72,6.14,5.95,6.5,6.2,null,"2017-05-15",4.992,5.7770000000000001,6.6630000000000003,8.5449999999999999,5.97,8.2100000000000009,6.266,9.2460000000000004,6.5330000000000004,9.5329999999999995,null,4,6.0250000000000004,7.375,7.7290000000000001,7.4969999999999999]
[null,66,"1999-06-30",4.95,5.03,5.35,5.54,5.61,5.66,5.9,5.78,6.27,6.02,null,"2017-05-12",5.0570000000000004,5.7320000000000002,6.6740000000000004,8.3780000000000001,5.8689999999999998,8.2520000000000007,6.1890000000000001,9.1809999999999992,6.4050000000000002,9.532,null,4.0709999999999997,6.1539999999999999,7.3410000000000002,7.5209999999999999,7.508]
[null,{"$f":"B72+1","v":67},"1999-03-31",4.72,4.74,4.91,5.04,5.12,5.13,5.4,5.21,5.91,5.68,null,"2017-05-11",5.0730000000000004,5.77,6.66,8.4770000000000003,5.7919999999999998,8.19,6.1079999999999997,9.1389999999999993,6.3890000000000002,9.4629999999999992,null,4.1210000000000004,6.1840000000000002,7.399,7.5869999999999997,7.532]
[null,68,"1998-12-31",4.45,4.54,4.58,4.5199999999999996,4.67,4.57,4.62,4.63,5.4,5.12,null,"2017-05-10",5.0049999999999999,5.8369999999999997,6.66,8.6489999999999991,5.819,8.4,6.2350000000000003,9.4329999999999998,6.492,9.7200000000000006,null,5.09,6.27,7.4260000000000002,6.9489999999999998,7.4580000000000002]
[null,69,"1998-09-30",4.4800000000000004,4.5999999999999996,4.55,4.33,4.3600000000000003,4.2699999999999996,4.34,4.37,5.18,5.03,null,"2017-05-08",4.915,6.0519999999999996,6.6479999999999997,8.7609999999999992,5.9660000000000002,8.5030000000000001,6.32,9.4659999999999993,6.5780000000000003,9.8019999999999996,null,5.069,6.2789999999999999,7.3659999999999997,7.3879999999999999,7.4859999999999998]
[null,70,"1998-06-30",5.31,5.35,5.52,5.51,5.54,5.48,5.53,5.45,5.72,5.63,null,"2017-05-05",4.8730000000000002,6.0670000000000002,6.6379999999999999,8.8989999999999991,5.9710000000000001,8.5050000000000008,6.3810000000000002,9.5289999999999999,6.5650000000000004,9.827,null,5.4850000000000003,6.2110000000000003,7.3019999999999996,7.65,7.4850000000000003]
[null,71,"1998-03-31",5.26,5.52,5.52,5.57,5.62,5.62,5.71,5.65,5.99,5.94,null,"2017-05-04",4.9050000000000002,6.391,6.6420000000000003,9.0640000000000001,5.9539999999999997,8.7070000000000007,6.3890000000000002,9.6720000000000006,6.569,10.029,null,5.4130000000000003,5.97,7.2939999999999996,7.649,7.516]
[null,72,"1997-12-31",5.42,5.58,5.62,5.67,5.69,5.71,5.75,5.74,6,5.94,null,"2017-05-03",4.8849999999999998,6.2030000000000003,6.63,8.6829999999999998,5.9119999999999999,8.0830000000000002,6.2350000000000003,9.3409999999999993,6.5570000000000004,9.577,null,5.5049999999999999,5.9160000000000004,7.2240000000000002,7.5179999999999998,7.3719999999999999]
[null,73,"1997-09-30",5.33,5.54,5.66,5.79,5.87,6,6.08,6.2,6.47,6.42,null,"2017-05-02",5.0309999999999997,6.0919999999999996,6.7309999999999999,8.4819999999999993,5.5730000000000004,8.1050000000000004,6.0549999999999997,9.2230000000000008,6.3819999999999997,9.5370000000000008,null,5.5359999999999996,5.657,7.25,7.3860000000000001,7.3659999999999997]
[null,74,"1997-06-30",5.36,5.51,5.78,6.05,6.22,6.38,6.44,6.5,6.86,6.8,null,"2017-05-01",5.1449999999999996,6.1289999999999996,6.8860000000000001,8.2970000000000006,5.7039999999999997,8.0869999999999997,6.06,9.1180000000000003,6.2610000000000001,9.5,null,4.2930000000000001,5.2450000000000001,7.258,7.3,7.4340000000000002]
[null,75,"1997-03-31",5.52,5.7,6.06,6.41,6.55,6.73,6.85,6.97,7.18,7.12,null,"2017-04-28",5.1559999999999997,5.984,7.0209999999999999,8.266,5.6749999999999998,8.17,6.109,9.141,6.3140000000000001,9.5370000000000008,null,4.3470000000000004,5.2590000000000003,7.1360000000000001,6.7469999999999999,7.444]
[null,76,"1996-12-31",5.29,5.4,5.62,5.88,6.02,6.19,6.29,6.41,6.73,6.65,null,"2017-04-27",5.1840000000000002,5.9550000000000001,7.0129999999999999,8.2319999999999993,5.7969999999999997,8.2319999999999993,6.375,9.0210000000000008,6.4829999999999997,9.3350000000000009,null,4.6189999999999998,5.0490000000000004,7.2389999999999999,6.7569999999999997,7.3719999999999999]
[null,77,"1996-09-30",5.14,5.46,5.89,6.1,6.3,6.46,6.58,6.7,7.04,6.93,null,"2017-04-25",5.181,5.9690000000000003,6.8029999999999999,8.2140000000000004,5.73,8.15,6.1120000000000001,8.9440000000000008,6.3170000000000002,9.2550000000000008,null,4.556,5.0209999999999999,7.1589999999999998,6.8979999999999997,7.3109999999999999]
[null,78,"1996-06-30",5.22,5.44,5.88,6.13,6.31,6.47,6.58,6.65,7.01,6.9,null,"2017-04-24",4.6609999999999996,6.0229999999999997,6.2640000000000002,8.2680000000000007,5.79,8.1639999999999997,6.0709999999999997,9.0030000000000001,6.3310000000000004,9.2690000000000001,null,4.3239999999999998,5.016,7.3380000000000001,6.7720000000000002,7.4130000000000003]
[null,79,"1996-03-31",5.29,5.31,5.53,5.79,5.93,6.08,6.31,6.39,6.94,6.69,null,"2017-04-21",4.6669999999999998,6.14,6.2910000000000004,8.343,5.8440000000000003,8.1430000000000007,6.1820000000000004,9.0830000000000002,6.4290000000000003,9.375,null,5.0570000000000004,4.9930000000000003,7.3710000000000004,7.492,7.4390000000000001]
[null,80,"1995-12-31",5.17,5.24,5.22,5.17,5.25,5.38,5.5,5.61,6.04,5.95,null,"2017-04-20",4.6040000000000001,6.319,6.2850000000000001,8.4390000000000001,5.806,8.3290000000000006,6.085,9.2070000000000007,6.3540000000000001,9.423,null,4.2169999999999996,4.992,7.4809999999999999,7.7610000000000001,7.5170000000000003]
[null,81,"1995-09-30",5.5,5.65,5.76,5.89,5.95,6.03,6.16,6.2,6.59,6.5,null,"2017-04-19",4.5960000000000001,6.2560000000000002,6.2850000000000001,8.7089999999999996,5.7839999999999998,8.3330000000000002,6.1459999999999999,9.4350000000000005,6.3879999999999999,9.8170000000000002,null,3.8279999999999998,4.9909999999999997,7.5170000000000003,7.6420000000000003,7.5979999999999999]
[null,82,"1995-06-30",5.62,5.65,5.69,5.82,5.9,5.97,6.12,6.29,6.73,6.67,null,"2017-04-18",4.585,6.0819999999999999,6.2750000000000004,8.33,5.665,8.0960000000000001,5.9729999999999999,9.3439999999999994,6.2869999999999999,9.6660000000000004,null,3.516,5.0209999999999999,7.55,7.1760000000000002,7.5940000000000003]
[null,83,"1995-03-31",5.7,5.94,6.24,6.85,6.97,7.1,7.23,7.32,7.65,7.65,null,"2017-04-13",4.5350000000000001,5.7859999999999996,6.2850000000000001,8.1080000000000005,5.5839999999999996,7.99,5.9109999999999996,9.0109999999999992,6.2249999999999996,9.2750000000000004,null,3.4239999999999999,4.5640000000000001,7.5010000000000003,7.5309999999999997,7.5590000000000002]
[null,84,"1994-12-31",5.53,6.32,6.92,7.77,7.86,7.86,7.99,7.95,8.19,8.1,null,"2017-04-12",4.5279999999999996,5.8129999999999997,6.2839999999999998,8.1140000000000008,5.5839999999999996,7.8019999999999996,5.9119999999999999,9.0109999999999992,6.2270000000000003,9.3230000000000004,null,3.4689999999999999,3.4860000000000002,7.5940000000000003,7.3869999999999996,7.556]
[null,85,"1994-09-30",4.62,5.25,5.69,6.66,6.95,7.31,7.46,7.73,8.0500000000000007,8.0399999999999991,null,"2017-04-11",4.7089999999999996,5.7619999999999996,6.2350000000000003,8.0399999999999991,5.625,7.7530000000000001,5.8019999999999996,8.8849999999999998,6.202,9.2739999999999991,null,3.4710000000000001,3.4820000000000002,7.6790000000000003,7.4450000000000003,7.556]
[null,86,"1994-06-30",4.07,4.63,5.24,6.25,6.55,6.98,7.14,7.45,7.81,7.83,null,"2017-04-10",4.7210000000000001,5.6360000000000001,6.1079999999999997,7.8230000000000004,5.49,7.6719999999999997,5.7039999999999997,8.6880000000000006,6.0490000000000004,9.0350000000000001,null,3.2839999999999998,3.488,7.657,7.7679999999999998,7.55]
[null,87,"1994-03-31",3.55,3.94,4.43,5.22,5.68,6.24,6.54,6.85,7.22,7.32,null,"2017-04-07",4.7629999999999999,5.6459999999999999,6.335,7.8070000000000004,5.44,7.6740000000000004,5.7009999999999996,8.7029999999999994,6.0389999999999997,8.9870000000000001,null,3.2570000000000001,3.4849999999999999,7.399,7.2880000000000003,7.5579999999999998]
[null,88,"1993-12-31",3.06,3.27,3.59,4.2300000000000004,4.58,5.19,5.54,5.89,6.41,6.61,null,"2017-04-06",4.8890000000000002,5.5259999999999998,6.3319999999999999,7.6189999999999998,5.1849999999999996,7.6139999999999999,5.6050000000000004,8.5180000000000007,5.9420000000000002,8.8000000000000007,null,3.0609999999999999,3.4710000000000001,7.532,8.0389999999999997,7.6050000000000004]
[null,89,"1993-09-30",2.98,3.13,3.35,3.89,4.25,4.8099999999999996,5.1100000000000003,5.52,6.23,6.34,null,"2017-04-05",5.01,5.3929999999999998,6.367,7.62,5.2759999999999998,7.6109999999999998,5.6050000000000004,8.5069999999999997,5.9139999999999997,8.7279999999999998,null,3.226,3.4769999999999999,7.55,7.68,7.6040000000000001]
[null,90,"1993-06-30",3.07,3.19,3.42,4.0199999999999996,4.43,5.08,5.5,5.86,6.64,6.8,null,"2017-04-04",4.859,5.4580000000000002,6.3460000000000001,7.617,5.1870000000000003,7.6050000000000004,5.5670000000000002,8.5169999999999995,5.8330000000000002,8.7989999999999995,null,2.69,3.5329999999999999,7.7160000000000002,7.9560000000000004,7.5960000000000001]
[null,91,"1993-03-31",2.94,3.07,3.27,4,4.45,5.32,5.82,6.24,7,7.12,null,"2017-04-03",4.8570000000000002,5.3769999999999998,6.343,7.6669999999999998,5.0860000000000003,7.5750000000000002,5.5430000000000001,8.4049999999999994,5.8419999999999996,8.6720000000000006,null,3.085,3.556,7.81,8.0009999999999994,7.6470000000000002]
[null,92,"1992-12-31",3.13,3.36,3.56,4.7300000000000004,5.23,6.16,6.64,6.8,7.43,7.51,null,"2017-03-31",4.9450000000000003,5.3780000000000001,6.343,7.5259999999999998,5.1230000000000002,7.5739999999999998,5.5430000000000001,8.4049999999999994,5.8209999999999997,8.66,null,3.093,3.6419999999999999,7.8280000000000003,8.0210000000000008,7.9130000000000003]
[null,93,"1992-09-30",2.63,2.91,3.14,3.83,4.42,5.41,6.15,6.42,7.44,7.47,null,"2017-03-30",4.9450000000000003,5.4050000000000002,6.407,7.61,5.1740000000000004,7.71,5.5430000000000001,8.4510000000000005,5.7610000000000001,8.798,null,3.1019999999999999,3.6429999999999998,7.8639999999999999,8.0869999999999997,7.9130000000000003]
[null,94,"1992-06-30",3.53,3.77,4.09,4.82,5.41,6.34,6.84,7.22,7.76,7.85,null,"2017-03-29",4.9749999999999996,5.7949999999999999,6.4550000000000001,7.7939999999999996,5.2489999999999997,7.9020000000000001,5.5990000000000002,8.6980000000000004,5.8419999999999996,8.7520000000000007,null,3.5739999999999998,5.3579999999999997,8.1080000000000005,7.907,8.0739999999999998]
[null,95,"1992-03-31",4.01,4.28,4.66,5.6,6.26,7.04,7.39,7.68,7.88,8.07,null,"2017-03-28",5.0039999999999996,5.8490000000000002,6.3760000000000003,7.8929999999999998,5.3250000000000002,7.9139999999999997,5.6769999999999996,8.7089999999999996,5.9530000000000003,8.89,null,3.7050000000000001,5.8630000000000004,8.125,7.4729999999999999,8.1539999999999999]
[null,96,"1991-12-31",4.1100000000000003,4.17,4.37,4.83,5.29,6.14,6.56,6.86,7.37,7.53,null,"2017-03-27",5.18,5.9279999999999999,6.5990000000000002,8.1219999999999999,5.4390000000000001,8.0380000000000003,5.8010000000000002,8.9969999999999999,6.0869999999999997,9.077,null,3.5960000000000001,6.3449999999999998,8.2189999999999994,7.984,8.1950000000000003]
[null,97,"1991-09-30",5.53,5.52,5.69,6.08,6.39,7.01,7.31,7.53,7.81,7.89,null,"2017-03-24",5.18,5.9029999999999996,6.5510000000000002,8.1219999999999999,5.4139999999999997,8.0370000000000008,5.7779999999999996,8.84,6.0250000000000004,9.1950000000000003,null,3.6030000000000002,6.2220000000000004,8.1039999999999992,7.5670000000000002,8.1940000000000008]
[null,98,"1991-06-30",5.98,6.18,6.61,7.01,7.45,7.95,8.1999999999999993,8.34,8.4700000000000006,8.48,null,"2017-03-23",4.976,6.165,6.4240000000000004,8.1359999999999992,5.4269999999999996,8.0370000000000008,5.8120000000000003,8.9350000000000005,6.3159999999999998,9.1709999999999994,null,3.956,6.16,8.5030000000000001,8.3870000000000005,8.2479999999999993]
[null,99,null,null,null,null,null,null,null,null,null,null,null,null,"2017-03-22",5.2089999999999996,6.218,6.4080000000000004,8.1210000000000004,5.4139999999999997,8.0640000000000001,5.8120000000000003,9.0679999999999996,6.1379999999999999,9.2539999999999996,null,3.9620000000000002,6.1580000000000004,8.5020000000000007,8.2200000000000006,8.1519999999999992]
[null,100,null,null,null,null,null,null,null,null,null,null,null,null,"2017-03-21",5.2670000000000003,5.9580000000000002,6.4720000000000004,8.0190000000000001,5.3630000000000004,7.7850000000000001,5.6989999999999998,8.9339999999999993,6.0860000000000003,9.0749999999999993,null,3.923,5.8540000000000001,8.3829999999999991,8.484,8.1910000000000007]
[null,101,null,null,null,null,null,null,null,null,null,null,null,null,"2017-03-17",5.2670000000000003,5.7530000000000001,6.5359999999999996,7.7350000000000003,5.2750000000000004,7.7149999999999999,5.6319999999999997,8.73,5.8819999999999997,8.9809999999999999,null,3.8780000000000001,5.5549999999999997,8.2479999999999993,8.15,8.2170000000000005]
[null,102,null,null,null,null,null,null,null,null,null,null,null,null,"2017-03-16",5.15,5.7539999999999996,6.7439999999999998,7.7629999999999999,5.3120000000000003,7.6059999999999999,5.71,8.6579999999999995,5.9930000000000003,9.0549999999999997,null,3.827,5.5830000000000002,8.4179999999999993,8.5489999999999995,8.2029999999999994]
[null,103,null,null,null,null,null,null,null,null,null,null,null,null,"2017-03-15",5.2080000000000002,5.7549999999999999,6.6319999999999997,7.99,5.452,8.141,5.9930000000000003,8.8000000000000007,6.1369999999999996,9.1679999999999993,null,4.117,5.8179999999999996,8.5890000000000004,8.3480000000000008,8.2569999999999997]
[null,104,null,null,null,null,null,null,null,null,null,null,null,null,"2017-03-14",5.0640000000000001,5.9630000000000001,6.4260000000000002,8.1890000000000001,5.54,8.2370000000000001,5.9580000000000002,9.0150000000000006,6.22,9.1549999999999994,null,4.758,5.5789999999999997,8.5660000000000007,7.8849999999999998,8.4749999999999996]
[null,105,null,null,null,null,null,null,null,null,null,null,null,null,"2017-03-13",5.0640000000000001,5.758,6.3940000000000001,8.1460000000000008,5.4130000000000003,8.0679999999999996,5.9020000000000001,8.68,6.1369999999999996,9.1310000000000002,null,3.6349999999999998,5.548,8.6219999999999999,8.952,8.4740000000000002]
[null,106,null,null,null,null,null,null,null,null,null,null,null,null,"2017-03-10",4.835,5.8620000000000001,6.2060000000000004,8.0310000000000006,5.4130000000000003,8.0679999999999996,5.867,8.68,5.9619999999999997,9.0609999999999999,null,3.6419999999999999,5.6059999999999999,8.6980000000000004,8.7460000000000004,8.4740000000000002]
[null,107,null,null,null,null,null,null,null,null,null,null,null,null,"2017-03-09",4.8360000000000003,5.8879999999999999,6.1289999999999996,8.0730000000000004,5.5149999999999997,8.0670000000000002,5.9690000000000003,8.9179999999999993,6.1669999999999998,9.0830000000000002,null,3.6480000000000001,5.43,8.9280000000000008,8.8130000000000006,8.6120000000000001]
[null,108,null,null,null,null,null,null,null,null,null,null,null,null,"2017-03-08",4.8079999999999998,5.7610000000000001,6.1289999999999996,7.931,5.4509999999999996,8.0939999999999994,5.8559999999999999,8.798,6.0750000000000002,9.0709999999999997,null,3.2679999999999998,5.5449999999999999,7.3150000000000004,8.0129999999999999,8.0779999999999994]
[null,109,null,null,null,null,null,null,null,null,null,null,null,null,"2017-03-07",4.8940000000000001,5.5609999999999999,6.0990000000000002,7.8029999999999999,5.25,7.8159999999999998,5.7539999999999996,8.6549999999999994,5.992,8.8610000000000007,null,3.29,5.484,7.9359999999999999,8.2080000000000002,8.0630000000000006]
[null,110,null,null,null,null,null,null,null,null,null,null,null,null,"2017-03-06",4.7240000000000002,5.5110000000000001,6.0369999999999999,7.649,5.1749999999999998,7.5979999999999999,5.6760000000000002,8.5609999999999999,5.8710000000000004,8.7910000000000004,null,3.298,5.4829999999999997,7.1509999999999998,7.734,7.5209999999999999]
[null,111,null,null,null,null,null,null,null,null,null,null,null,null,"2017-03-03",4.7809999999999997,5.4119999999999999,6.0220000000000002,7.5789999999999997,5.0510000000000002,7.5970000000000004,5.5869999999999997,8.4670000000000005,5.76,8.7910000000000004,null,3.3050000000000002,5.4820000000000002,7.1689999999999996,7.2430000000000003,7.5339999999999998]
[null,112,null,null,null,null,null,null,null,null,null,null,null,null,"2017-03-02",4.782,5.4379999999999997,6.0380000000000003,7.5650000000000004,5.0389999999999997,7.5970000000000004,5.532,8.4440000000000008,5.75,8.7449999999999992,null,3.2040000000000002,5.4809999999999999,6.9539999999999997,6.9379999999999997,7.43]
[null,113,null,null,null,null,null,null,null,null,null,null,null,null,"2017-03-01",4.782,5.5650000000000004,6.0389999999999997,7.62,5.0140000000000002,7.65,5.5759999999999996,8.4670000000000005,5.76,8.6989999999999998,null,3.2650000000000001,5.7709999999999999,6.883,7.5590000000000002,7.4169999999999998]
[null,114,null,null,null,null,null,null,null,null,null,null,null,null,"2017-02-28",4.7549999999999999,5.468,6.04,7.69,5.1879999999999997,7.7290000000000001,5.62,8.4890000000000008,5.87,8.7899999999999991,null,3.2869999999999999,5.7670000000000003,6.8289999999999997,7.7489999999999997,7.1859999999999999]
[null,115,null,null,null,null,null,null,null,null,null,null,null,null,"2017-02-24",4.84,5.4710000000000001,5.9329999999999998,7.7030000000000003,5.2249999999999996,7.7409999999999997,5.6429999999999998,8.4420000000000002,5.85,8.7439999999999998,null,3.302,5.7649999999999997,6.8639999999999999,7.4930000000000003,7.1470000000000002]
[null,116,null,null,null,null,null,null,null,null,null,null,null,null,"2017-02-23",4.8410000000000002,5.4240000000000004,5.9960000000000004,7.7030000000000003,5.2380000000000004,7.875,5.5979999999999999,8.6039999999999992,5.84,8.8810000000000002,null,3.3769999999999998,5.79,6.9160000000000004,7.1710000000000003,7.1470000000000002]
[null,117,null,null,null,null,null,null,null,null,null,null,null,null,"2017-02-21",4.843,5.4290000000000003,6.0279999999999996,7.702,5.3369999999999997,7.8040000000000003,5.6870000000000003,8.6029999999999998,5.88,8.8800000000000008,null,3.3519999999999999,5.9870000000000001,6.5309999999999997,7.085,6.9459999999999997]
[null,118,null,null,null,null,null,null,null,null,null,null,null,null,"2017-02-17",4.843,5.5540000000000003,6.0590000000000002,7.8140000000000001,5.4,7.8440000000000003,5.72,8.4870000000000001,5.9610000000000003,8.7870000000000008,null,3.306,5.9569999999999999,6.4969999999999999,6.87,6.9210000000000003]
[null,119,null,null,null,null,null,null,null,null,null,null,null,null,"2017-02-16",4.9829999999999997,5.73,5.9980000000000002,7.9249999999999998,5.4119999999999999,7.8159999999999998,5.7759999999999998,8.5790000000000006,5.96,8.81,null,3.3130000000000002,5.9269999999999996,6.5140000000000002,6.76,6.9210000000000003]
[null,120,null,null,null,null,null,null,null,null,null,null,null,null,"2017-02-15",4.9550000000000001,5.7060000000000004,6.0140000000000002,7.9530000000000003,5.4119999999999999,7.9109999999999996,5.8540000000000001,8.7080000000000002,5.89,8.8330000000000002,null,3.32,5.9249999999999998,6.5140000000000002,6.6340000000000003,6.9459999999999997]
[null,121,null,null,null,null,null,null,null,null,null,null,null,null,"2017-02-14",4.9560000000000004,5.8840000000000003,6,8.0649999999999995,5.4619999999999997,8.1280000000000001,5.8090000000000002,8.8480000000000008,6.0209999999999999,9.0709999999999997,null,3.452,5.92,6.4279999999999999,6.6269999999999998,6.8209999999999997]
[null,122,null,null,null,null,null,null,null,null,null,null,null,null,"2017-02-13",4.9290000000000003,5.81,5.9550000000000001,8.1219999999999999,5.5880000000000001,8.1270000000000007,5.9320000000000004,8.8949999999999996,6.0609999999999999,9.016,null,3.407,5.89,6.4109999999999996,6.6429999999999998,6.8959999999999999]
[null,123,null,null,null,null,null,null,null,null,null,null,null,null,"2017-02-09",4.9569999999999999,6.0860000000000003,5.9560000000000004,8.1210000000000004,5.7149999999999999,8.0980000000000008,6.0339999999999998,8.907,6.2460000000000004,9.016,null,3.1629999999999998,5.859,6.3769999999999998,6.7480000000000002,6.8090000000000002]
[null,124,null,null,null,null,null,null,null,null,null,null,null,null,"2017-02-08",4.8470000000000004,5.59,5.9870000000000001,7.6449999999999996,5.4249999999999998,7.4489999999999998,5.8529999999999998,8.6349999999999998,6.0609999999999999,8.7850000000000001,null,3.17,5.8860000000000001,6.36,6.2110000000000003,6.8710000000000004]
[null,125,null,null,null,null,null,null,null,null,null,null,null,null,"2017-02-07",4.7649999999999997,5.593,6.0030000000000001,7.5620000000000003,5.3,7.4470000000000001,5.7080000000000002,8.5640000000000001,6.02,8.7219999999999995,null,2.988,5.7679999999999998,6.258,6.5679999999999996,6.7850000000000001]
[null,126,null,null,null,null,null,null,null,null,null,null,null,null,"2017-02-06",4.8209999999999997,5.6189999999999998,5.9880000000000004,7.5350000000000001,5.4119999999999999,7.4459999999999997,5.7080000000000002,8.5760000000000005,6,8.7390000000000008,null,3.0459999999999998,5.6539999999999999,6.258,6.6280000000000001,6.8090000000000002]
[null,127,null,null,null,null,null,null,null,null,null,null,null,null,"2017-02-03",4.7939999999999996,5.62,5.9740000000000002,7.508,5.4240000000000004,7.4459999999999997,5.6970000000000001,8.5410000000000004,5.9589999999999996,8.7379999999999995,null,3.0539999999999998,5.6529999999999996,6.2409999999999997,6.4240000000000004,6.7969999999999997]
[null,128,null,null,null,null,null,null,null,null,null,null,null,null,"2017-02-02",4.8209999999999997,5.5720000000000001,6.0049999999999999,7.48,5.4619999999999997,7.4850000000000003,5.8079999999999998,8.5060000000000002,6.03,8.7379999999999995,null,3.2629999999999999,5.8780000000000001,6.2409999999999997,6.431,6.8090000000000002]
[null,129,null,null,null,null,null,null,null,null,null,null,null,null,"2017-02-01",4.8490000000000002,5.6219999999999999,6.02,7.5209999999999999,5.4870000000000001,7.4980000000000002,5.8079999999999998,8.4819999999999993,6.01,8.6910000000000007,null,3.169,5.7069999999999999,6.258,6.6580000000000004,6.8209999999999997]
[null,130,null,null,null,null,null,null,null,null,null,null,null,null,"2017-01-31",4.8230000000000004,5.4790000000000001,5.9610000000000003,7.5620000000000003,5.4240000000000004,7.5359999999999996,5.8410000000000002,8.4359999999999999,6.04,8.6920000000000002,null,3.1909999999999998,5.9290000000000003,6.2590000000000003,6.569,6.7720000000000002]
[null,{"$f":"B136+1","v":131},null,null,null,null,null,null,null,null,null,null,null,null,"2017-01-30",4.8230000000000004,5.5039999999999996,6.0220000000000002,7.5069999999999997,5.4240000000000004,7.6020000000000003,5.83,8.4239999999999995,6.04,8.6020000000000003,null,3.0979999999999999,5.843,6.2249999999999996,6.5090000000000003,6.7969999999999997]
[null,132,null,null,null,null,null,null,null,null,null,null,null,null,"2017-01-27",4.8239999999999998,5.5049999999999999,5.992,7.4660000000000002,5.375,7.6280000000000001,5.6970000000000001,8.3670000000000009,5.9889999999999999,8.5120000000000005,null,3.0049999999999999,5.9829999999999997,6.1079999999999997,6.4260000000000002,6.7720000000000002]
[null,133,null,null,null,null,null,null,null,null,null,null,null,null,"2017-01-26",4.8239999999999998,5.2869999999999999,6.0369999999999999,7.5069999999999997,5.4370000000000003,7.5880000000000001,5.7080000000000002,8.3439999999999994,6.04,8.6300000000000008,null,3.0550000000000002,5.87,6.1079999999999997,6.8090000000000002,6.7850000000000001]
[null,134,null,null,null,null,null,null,null,null,null,null,null,null,"2017-01-24",5.1239999999999997,5.3410000000000002,6.0540000000000003,7.5609999999999999,5.5990000000000002,7.8259999999999996,5.8959999999999999,8.343,6.11,8.6010000000000009,null,3.2320000000000002,6.2610000000000001,6.31,6.5460000000000003,6.7110000000000003]
[null,135,null,null,null,null,null,null,null,null,null,null,null,null,"2017-01-23",5.1239999999999997,5.3179999999999996,6.0540000000000003,7.6429999999999998,5.6109999999999998,7.8259999999999996,5.93,8.4689999999999994,6.1710000000000003,8.7360000000000007,null,3.2389999999999999,6.5439999999999996,6.1589999999999998,6.8090000000000002,6.6870000000000003]
[null,136,null,null,null,null,null,null,null,null,null,null,null,null,"2017-01-19",5.0430000000000001,5.3929999999999998,6.0549999999999997,7.726,5.5359999999999996,7.8380000000000001,5.8849999999999998,8.5370000000000008,6.13,8.7360000000000007,null,3.2530000000000001,6.6829999999999998,6.1260000000000003,6.8579999999999997,6.6509999999999998]
[null,137,null,null,null,null,null,null,null,null,null,null,null,null,"2017-01-18",5.0430000000000001,5.3940000000000001,6.056,7.7939999999999996,5.548,7.891,5.9290000000000003,8.5030000000000001,6.1509999999999998,8.7349999999999994,null,3.2589999999999999,6.6520000000000001,6.1260000000000003,6.3929999999999998,6.6269999999999998]
[null,138,null,null,null,null,null,null,null,null,null,null,null,null,"2017-01-17",4.9349999999999996,5.35,6.0419999999999998,7.8079999999999998,5.6479999999999997,8.0109999999999992,5.94,8.6289999999999996,6.181,8.7729999999999997,null,3.2309999999999999,6.7309999999999999,6.093,5.8710000000000004,6.5910000000000002]
[null,139,null,null,null,null,null,null,null,null,null,null,null,null,"2017-01-13",4.9630000000000001,5.4470000000000001,6.0119999999999996,8.0299999999999994,5.6479999999999997,8.0920000000000005,5.94,8.64,6.17,8.7349999999999994,null,3.238,6.758,6.0439999999999996,6.9909999999999997,6.6150000000000002]
[null,140,null,null,null,null,null,null,null,null,null,null,null,null,"2017-01-12",5.0709999999999997,5.3520000000000003,6.0430000000000001,8.0570000000000004,5.6360000000000001,8.1319999999999997,5.9059999999999997,8.6750000000000007,6.12,8.8629999999999995,null,3.4390000000000001,6.7560000000000002,6.0439999999999996,7.6059999999999999,6.6269999999999998]
[null,141,null,null,null,null,null,null,null,null,null,null,null,null,"2017-01-11",5.125,5.4489999999999998,6.1029999999999998,8.141,5.6360000000000001,8.1319999999999997,5.9729999999999999,8.64,6.0789999999999997,8.8249999999999993,null,3.5419999999999998,6.5830000000000002,6.2110000000000003,6.7380000000000004,6.6150000000000002]
[null,142,null,null,null,null,null,null,null,null,null,null,null,null,"2017-01-10",5.1520000000000001,5.4779999999999998,6.09,8.0419999999999998,5.6349999999999998,8.1969999999999992,5.9720000000000004,8.5690000000000008,6.0679999999999996,8.8239999999999998,null,3.4220000000000002,6.6879999999999997,6.2450000000000001,5.9889999999999999,6.6029999999999998]
[null,143,null,null,null,null,null,null,null,null,null,null,null,null,"2017-01-09",5.1790000000000003,5.4790000000000001,6.09,8.0280000000000005,5.6479999999999997,8.1549999999999994,5.9720000000000004,8.5809999999999995,6.1189999999999998,8.8239999999999998,null,3.476,6.6289999999999996,6.2450000000000001,6.3949999999999996,6.7]
[null,144,null,null,null,null,null,null,null,null,null,null,null,null,"2017-01-06",5.1779999999999999,5.3849999999999998,6.0759999999999996,8,5.66,8.2230000000000008,5.9720000000000004,8.5,6.0990000000000002,8.7330000000000005,null,3.4340000000000002,6.6269999999999998,6.2450000000000001,7.02,6.7729999999999997]
[null,145,null,null,null,null,null,null,null,null,null,null,null,null,"2017-01-05",5.1779999999999999,5.577,6.1210000000000004,8.0139999999999993,5.6470000000000002,8.2360000000000007,5.9710000000000001,8.5229999999999997,6.0979999999999999,8.7780000000000005,null,3.488,6.681,6.3460000000000001,6.4829999999999997,6.7850000000000001]
[null,146,null,null,null,null,null,null,null,null,null,null,null,null,"2017-01-04",5.3390000000000004,5.6020000000000003,6.1509999999999998,7.9720000000000004,5.66,8.2899999999999991,6.0380000000000003,8.5449999999999999,6.1289999999999996,8.7780000000000005,null,3.5419999999999998,6.7350000000000003,6.3620000000000001,6.6310000000000002,6.7]
[null,147,null,null,null,null,null,null,null,null,null,null,null,null,"2017-01-03",5.258,5.7960000000000003,6.2430000000000003,8.1519999999999992,5.81,8.4540000000000006,6.0940000000000003,8.7880000000000003,6.22,8.9600000000000009,null,3.4180000000000001,6.7279999999999998,6.6319999999999997,6.9820000000000002,6.9560000000000004]
[null,148,null,null,null,null,null,null,null,null,null,null,null,null,"2016-12-29",5.3109999999999999,5.774,6.319,8.3350000000000009,5.7220000000000004,8.5500000000000007,6.0490000000000004,8.9640000000000004,6.1890000000000001,9.0050000000000008,null,3.43,6.78,6.6820000000000004,7.0010000000000003,7.0049999999999999]
[null,149,null,null,null,null,null,null,null,null,null,null,null,null,"2016-12-28",5.3109999999999999,5.7510000000000003,6.2439999999999998,8.4329999999999998,5.7469999999999999,8.4930000000000003,6.06,8.8810000000000002,6.2910000000000004,9.1440000000000001,null,3.5779999999999998,6.7779999999999996,6.8860000000000001,7.3440000000000003,6.9809999999999999]
[null,150,null,null,null,null,null,null,null,null,null,null,null,null,"2016-12-27",5.3369999999999997,5.8730000000000002,6.335,8.4749999999999996,5.8090000000000002,8.5739999999999998,6.0590000000000002,8.8689999999999998,6.28,9.2520000000000007,null,3.6419999999999999,6.8550000000000004,6.9029999999999996,7.5970000000000004,7.0179999999999998]
[null,151,null,null,null,null,null,null,null,null,null,null,null,null,"2016-12-23",5.4429999999999996,5.9219999999999997,6.3659999999999997,8.4320000000000004,5.8209999999999997,8.6020000000000003,6.0590000000000002,8.9390000000000001,6.28,9.1780000000000008,null,3.6480000000000001,6.8529999999999998,6.8860000000000001,6.9279999999999999,7.0179999999999998]
[null,152,null,null,null,null,null,null,null,null,null,null,null,null,"2016-12-22",5.47,5.9939999999999998,6.2149999999999999,8.4740000000000002,5.8090000000000002,8.6289999999999996,6.0590000000000002,8.9390000000000001,6.28,9.1769999999999996,null,3.6539999999999999,6.85,6.9029999999999996,7.6210000000000004,7.0170000000000003]
[null,153,null,null,null,null,null,null,null,null,null,null,null,null,"2016-12-20",5.335,6.165,6.3070000000000004,8.6289999999999996,5.8579999999999997,8.61,6.069,8.9369999999999994,6.29,9.2010000000000005,null,3.7280000000000002,6.8940000000000001,6.8849999999999998,7.0519999999999996,7.1159999999999997]
[null,154,null,null,null,null,null,null,null,null,null,null,null,null,"2016-12-19",5.3609999999999998,6.2140000000000004,6.3680000000000003,8.6289999999999996,5.8449999999999998,8.6229999999999993,6.0570000000000004,8.9019999999999992,6.2889999999999997,9.2620000000000005,null,3.734,6.92,7.0209999999999999,7.1040000000000001,7.1159999999999997]
[null,155,null,null,null,null,null,null,null,null,null,null,null,null,"2016-12-16",5.3079999999999998,6.2859999999999996,6.2779999999999996,8.6280000000000001,5.82,8.6080000000000005,6.0910000000000002,9.0790000000000006,6.2889999999999997,9.327,null,4.2969999999999997,6.9180000000000001,6.952,7.9039999999999999,7.2640000000000002]
[null,156,null,null,null,null,null,null,null,null,null,null,null,null,"2016-12-15",5.3079999999999998,6.359,6.2779999999999996,8.7710000000000008,5.9459999999999997,8.6069999999999993,6.0789999999999997,9.1140000000000008,6.31,9.4450000000000003,null,3.7909999999999999,6.8040000000000003,7.0030000000000001,7.5890000000000004,7.3019999999999996]
[null,157,null,null,null,null,null,null,null,null,null,null,null,null,"2016-12-14",5.2549999999999999,6.048,6.3529999999999998,8.4990000000000006,5.6580000000000004,8.6059999999999999,5.923,8.9600000000000009,6.1369999999999996,9.1859999999999999,null,3.5659999999999998,6.7460000000000004,6.9349999999999996,6.7480000000000002,7.202]
[null,158,null,null,null,null,null,null,null,null,null,null,null,null,"2016-12-13",5.28,6.0979999999999999,6.5350000000000001,8.484,5.67,8.6039999999999992,5.9340000000000002,9.0299999999999994,6.0860000000000003,9.2789999999999999,null,3.8119999999999998,6.4640000000000004,6.9340000000000002,7.6529999999999996,7.2140000000000004]
[null,159,null,null,null,null,null,null,null,null,null,null,null,null,"2016-12-12",5.28,6.1929999999999996,6.657,8.4550000000000001,5.6449999999999996,8.6170000000000009,5.923,9.0060000000000002,6.1470000000000002,9.2789999999999999,null,3.8170000000000002,6.6820000000000004,6.9509999999999996,7.2009999999999996,7.2889999999999997]
[null,160,null,null,null,null,null,null,null,null,null,null,null,null,"2016-12-08",5.569,6.242,6.8719999999999999,8.5820000000000007,5.5339999999999998,8.7129999999999992,5.9889999999999999,9.2439999999999998,6.2270000000000003,9.4659999999999993,null,3.827,6.6779999999999999,7.43,7.391,7.6150000000000002]
[null,161,null,null,null,null,null,null,null,null,null,null,null,null,"2016-12-07",5.6219999999999999,6.4329999999999998,6.8869999999999996,8.61,5.7190000000000003,8.6980000000000004,6.0549999999999997,9.1470000000000002,6.1870000000000003,9.609,null,3.56,6.7030000000000003,7.5860000000000003,7.5279999999999996,7.6909999999999998]
[null,162,null,null,null,null,null,null,null,null,null,null,null,null,"2016-12-06",5.5940000000000003,6.6740000000000004,6.9029999999999996,9.0120000000000005,6.1459999999999999,9.093,6.484,9.5340000000000007,6.5129999999999999,9.7759999999999998,null,3.8479999999999999,6.8609999999999998,7.6719999999999997,7.7729999999999997,7.8689999999999998]
[null,163,null,null,null,null,null,null,null,null,null,null,null,null,"2016-12-05",5.91,7.2080000000000002,6.9029999999999996,9.32,6.4020000000000001,9.1639999999999997,6.5640000000000001,9.9700000000000006,6.7430000000000003,10.294,null,3.8530000000000002,6.859,7.7240000000000002,7.8339999999999996,7.9720000000000004]
[null,164,null,null,null,null,null,null,null,null,null,null,null,null,"2016-12-02",5.9889999999999999,6.65,6.9340000000000002,8.7219999999999995,6.2480000000000002,8.8629999999999995,6.4370000000000003,9.8049999999999997,6.7220000000000004,9.9209999999999994,null,3.8130000000000002,6.61,7.8280000000000003,7.71,7.9720000000000004]
[null,165,null,null,null,null,null,null,null,null,null,null,null,null,"2016-12-01",6.0949999999999998,6.3879999999999999,6.9340000000000002,8.5939999999999994,6.2220000000000004,8.609,6.335,9.1449999999999996,6.5750000000000002,9.5109999999999992,null,3.8180000000000001,6.6349999999999998,7.9859999999999998,8.4629999999999992,7.9459999999999997]
[null,166,null,null,null,null,null,null,null,null,null,null,null,null,"2016-11-30",6.12,6.27,6.9340000000000002,8.4380000000000006,6.0439999999999996,8.4550000000000001,6.1879999999999997,9.0380000000000003,6.43,9.3219999999999992,null,3.823,6.5519999999999996,7.968,8.3569999999999993,8.0619999999999994]
[null,167,null,null,null,null,null,null,null,null,null,null,null,null,"2016-11-29",6.0910000000000002,6.3179999999999996,7.0259999999999998,8.4079999999999995,6.0430000000000001,8.4670000000000005,6.1870000000000003,9.0020000000000007,6.3890000000000002,9.2279999999999998,null,3.7490000000000001,6.5460000000000003,8.125,8.1890000000000001,8.0730000000000004]
[null,168,null,null,null,null,null,null,null,null,null,null,null,null,"2016-11-28",6.0629999999999997,6.3659999999999997,7.0259999999999998,8.4779999999999998,5.8789999999999996,8.5069999999999997,6.1420000000000003,8.9779999999999998,6.327,9.298,null,3.754,6.5439999999999996,8.1240000000000006,7.5110000000000001,8.0730000000000004]
[null,169,null,null,null,null,null,null,null,null,null,null,null,null,"2016-11-23",6.14,6.4139999999999997,6.98,8.4779999999999998,6.0039999999999996,8.4090000000000007,6.2869999999999999,9.0359999999999996,6.3680000000000003,9.33,null,3.7639999999999998,6.54,8.39,8.2040000000000006,8.2810000000000006]
[null,170,null,null,null,null,null,null,null,null,null,null,null,null,"2016-11-22",6.2460000000000004,6.58,6.9489999999999998,8.4489999999999998,6.0540000000000003,8.298,6.2759999999999998,8.9770000000000003,6.3680000000000003,9.3209999999999997,null,3.8580000000000001,6.484,8.39,8.0679999999999996,8.2810000000000006]
[null,171,null,null,null,null,null,null,null,null,null,null,null,null,"2016-11-21",6.4550000000000001,6.6760000000000002,7.0259999999999998,8.5609999999999999,6.1420000000000003,8.7940000000000005,6.298,9.1539999999999999,6.4080000000000004,9.3680000000000003,null,3.8290000000000002,6.4509999999999996,8.423,8.4540000000000006,8.2789999999999999]
[null,172,null,null,null,null,null,null,null,null,null,null,null,null,"2016-11-18",6.4790000000000001,6.7480000000000002,7.1340000000000003,8.4760000000000009,6.1920000000000002,8.5820000000000007,6.3419999999999996,9.1170000000000009,6.5519999999999996,9.5069999999999997,null,4.0590000000000002,6.6360000000000001,8.4209999999999994,7.9749999999999996,8.3569999999999993]
[null,173,null,null,null,null,null,null,null,null,null,null,null,null,"2016-11-17",6.4770000000000003,6.4870000000000001,7.1029999999999998,8.3770000000000007,6.0529999999999999,8.5259999999999998,6.23,8.8930000000000007,6.3970000000000002,9.0419999999999998,null,4.1520000000000001,6.3659999999999997,8.4559999999999995,8.5150000000000006,8.3569999999999993]
[null,174,null,null,null,null,null,null,null,null,null,null,null,null,"2016-11-16",6.476,6.5819999999999999,7.056,8.3770000000000007,6.141,8.5250000000000004,6.2519999999999998,8.9280000000000008,6.3869999999999996,9.2260000000000009,null,4.1559999999999997,6.3639999999999999,8.4369999999999994,7.52,8.2769999999999992]
[null,175,null,null,null,null,null,null,null,null,null,null,null,null,"2016-11-15",6.1820000000000004,6.6769999999999996,7.056,8.32,5.9139999999999997,8.5220000000000002,6.2510000000000003,8.9979999999999993,6.3659999999999997,9.2710000000000008,null,4.2569999999999997,6.359,8.3620000000000001,8.8049999999999997,8.2230000000000008]
[null,176,null,null,null,null,null,null,null,null,null,null,null,null,"2016-11-14",5.8410000000000002,7.0339999999999998,6.9640000000000004,8.7850000000000001,6.3049999999999997,8.673,6.2729999999999997,9.2579999999999991,6.4989999999999997,9.4580000000000002,null,3.6520000000000001,6.7039999999999997,8.6489999999999991,7.8129999999999997,8.4600000000000009]
[null,177,null,null,null,null,null,null,null,null,null,null,null,null,"2016-11-10",5.8410000000000002,6.63,6.8879999999999999,8.2089999999999996,5.8019999999999996,8.2059999999999995,5.8860000000000001,9.0329999999999995,6.1740000000000004,9.1780000000000008,null,3.96,6.1440000000000001,8.2360000000000007,8.7319999999999993,8.3529999999999998]
[null,178,null,null,null,null,null,null,null,null,null,null,null,null,"2016-11-09",5.84,6.56,6.9029999999999996,8.1679999999999993,5.593,8.5190000000000001,5.6909999999999998,8.718,5.9459999999999997,9.0410000000000004,null,4.4880000000000004,6.6470000000000002,8.2349999999999994,7.7409999999999997,8.3390000000000004]
[null,179,null,null,null,null,null,null,null,null,null,null,null,null,"2016-11-08",5.8390000000000004,6.6539999999999999,7.0259999999999998,8.4450000000000003,5.5810000000000004,8.5459999999999994,5.766,8.9260000000000002,6.0049999999999999,9.1319999999999997,null,4.056,6.6710000000000003,8.234,8.2249999999999996,8.2989999999999995]
[null,180,null,null,null,null,null,null,null,null,null,null,null,null,"2016-11-07",5.7850000000000001,6.6779999999999999,6.98,8.4290000000000003,5.6660000000000004,8.5,5.8520000000000003,8.7629999999999999,6.0540000000000003,9.0399999999999991,null,4.2469999999999999,6.7430000000000003,8.2129999999999992,8.2530000000000001,8.3490000000000002]
[null,181,null,null,null,null,null,null,null,null,null,null,null,null,"2016-11-04",6.0679999999999996,7.415,7.0250000000000004,8.64,5.8140000000000001,8.9309999999999992,6.093,9.2080000000000002,6.234,9.4090000000000007,null,4.1210000000000004,7.5789999999999997,8.407,8.4260000000000002,8.3490000000000002]
[null,182,null,null,null,null,null,null,null,null,null,null,null,null,"2016-11-03",5.5019999999999998,7.4139999999999997,6.98,8.8379999999999992,5.9379999999999997,8.93,6.226,9.1839999999999993,6.3550000000000004,9.3610000000000007,null,3.8690000000000002,7.7130000000000001,8.407,8.2050000000000001,8.2959999999999994]
[null,183,null,null,null,null,null,null,null,null,null,null,null,null,"2016-11-02",5.5019999999999998,7.4379999999999997,6.9340000000000002,9.2560000000000002,5.9749999999999996,9.0850000000000009,6.226,9.0299999999999994,6.4359999999999999,9.74,null,3.9159999999999999,7.82,8.5129999999999999,8.3770000000000007,8.3740000000000006]
[null,184,null,null,null,null,null,null,null,null,null,null,null,null,"2016-11-01",5.4749999999999996,6.7030000000000003,6.9649999999999999,8.0690000000000008,5.7889999999999997,8.0220000000000002,6.07,8.5,6.2030000000000003,8.6349999999999998,null,3.6760000000000002,7.1310000000000002,8.5449999999999999,8.3119999999999994,8.2149999999999999]
[null,185,null,null,null,null,null,null,null,null,null,null,null,null,"2016-10-31",5.4749999999999996,6.056,6.8129999999999997,8.0830000000000002,5.5439999999999996,7.8230000000000004,6.0149999999999997,8.3759999999999994,6.1429999999999998,8.5909999999999993,null,3.47,6.649,8.0500000000000007,8.1859999999999999,8.2279999999999998]
[null,186,null,null,null,null,null,null,null,null,null,null,null,null,"2016-10-28",5.4740000000000002,5.8739999999999997,6.859,7.8120000000000003,5.5439999999999996,7.7560000000000002,5.83,8.0660000000000007,6.1029999999999998,8.4160000000000004,null,3.4340000000000002,6.3310000000000004,7.8410000000000002,7.774,8.0589999999999993]
[null,187,null,null,null,null,null,null,null,null,null,null,null,null,"2016-10-27",5.4740000000000002,5.875,6.7839999999999998,7.7050000000000001,5.4359999999999999,7.7560000000000002,5.5730000000000004,8.11,5.9649999999999999,8.2859999999999996,null,3.4390000000000001,6.2779999999999996,7.7709999999999999,8.0609999999999999,8.11]
[null,188,null,null,null,null,null,null,null,null,null,null,null,null,"2016-10-26",5.1970000000000001,5.6040000000000001,6.7839999999999998,7.3230000000000004,5.173,7.407,5.4459999999999997,7.86,5.6829999999999998,8.1150000000000002,null,3.4809999999999999,6.0170000000000003,7.4119999999999999,8.0359999999999996,8.11]
[null,189,null,null,null,null,null,null,null,null,null,null,null,null,"2016-10-25",4.9969999999999999,5.3609999999999998,6.7839999999999998,7.1280000000000001,5.056,7.1520000000000001,5.4459999999999997,7.5510000000000002,5.6349999999999998,7.8220000000000001,null,3.5379999999999998,6.0129999999999999,7.8550000000000004,7.9359999999999999,8.1080000000000005]
[null,190,null,null,null,null,null,null,null,null,null,null,null,null,"2016-10-24",5.0220000000000002,5.2949999999999999,6.7839999999999998,7.0129999999999999,4.9859999999999998,7.1509999999999998,5.383,7.4779999999999998,5.6349999999999998,7.6980000000000004,null,3.46,6.1150000000000002,7.8540000000000001,7.9349999999999996,8.1080000000000005]
[null,191,null,null,null,null,null,null,null,null,null,null,null,null,"2016-10-21",5.0220000000000002,5.3849999999999998,6.7839999999999998,6.9870000000000001,4.9859999999999998,7.2009999999999996,5.3719999999999999,7.3840000000000003,5.6539999999999999,7.657,null,3.6320000000000001,6.0110000000000001,7.8529999999999998,7.9960000000000004,8.3019999999999996]
[null,192,null,null,null,null,null,null,null,null,null,null,null,null,"2016-10-20",5.0469999999999997,5.4530000000000003,6.68,7.1280000000000001,4.8929999999999998,7.3010000000000002,5.3929999999999998,7.5819999999999999,5.6550000000000002,7.7809999999999997,null,3.5950000000000002,6.1639999999999997,8.0250000000000004,7.9960000000000004,8.3409999999999993]
[null,193,null,null,null,null,null,null,null,null,null,null,null,null,"2016-10-19",6.0030000000000001,5.5209999999999999,7.01,7.27,4.9630000000000001,7.3520000000000003,5.383,7.7089999999999996,5.6829999999999998,7.8639999999999999,null,3.3519999999999999,6.266,8.0250000000000004,8.3670000000000009,8.327]
[null,194,null,null,null,null,null,null,null,null,null,null,null,null,"2016-10-18",6.5140000000000002,5.6120000000000001,7.4850000000000003,7.27,5.1159999999999997,7.375,5.4669999999999996,7.7519999999999998,5.7889999999999997,7.9269999999999996,null,3.6970000000000001,6.2619999999999996,8.2840000000000007,8.4849999999999994,8.3650000000000002]
[null,{"$f":"B200+1","v":195},null,null,null,null,null,null,null,null,null,null,null,null,"2016-10-17",6.9290000000000003,5.6130000000000004,7.7969999999999997,7.3739999999999997,5.1040000000000001,7.4,5.5090000000000003,7.8579999999999997,5.78,7.9889999999999999,null,3.7429999999999999,6.415,8.4060000000000006,8.3019999999999996,8.5350000000000001]
[null,196,null,null,null,null,null,null,null,null,null,null,null,null,"2016-10-14",7.032,5.6589999999999998,7.7960000000000003,7.3739999999999997,5.1040000000000001,7.4640000000000004,5.5720000000000001,7.8579999999999997,5.78,7.968,null,4.1609999999999996,6.44,8.4749999999999996,8.5519999999999996,8.6809999999999992]
[null,197,null,null,null,null,null,null,null,null,null,null,null,null,"2016-10-13",7.0830000000000002,5.7489999999999997,7.827,7.4779999999999998,5.1280000000000001,7.4630000000000001,5.5510000000000002,7.89,5.8179999999999996,7.9690000000000003,null,4.165,6.516,8.58,8.673,8.7609999999999992]
[null,198,null,null,null,null,null,null,null,null,null,null,null,null,"2016-10-12",7.0810000000000004,5.5709999999999997,7.827,7.4649999999999999,5.2460000000000004,7.4619999999999997,5.4980000000000002,7.8150000000000004,5.78,7.99,null,4.0860000000000003,6.4619999999999997,8.5790000000000006,8.9969999999999999,8.8409999999999993]
[null,199,null,null,null,null,null,null,null,null,null,null,null,null,"2016-10-11",7.0750000000000002,5.5960000000000001,7.984,7.4130000000000003,5.258,7.4740000000000002,5.52,7.8150000000000004,5.78,7.9690000000000003,null,4.181,6.4569999999999999,8.5760000000000005,8.7379999999999995,8.8390000000000004]
[null,200,null,null,null,null,null,null,null,null,null,null,null,null,"2016-10-07",7.0730000000000004,5.6859999999999999,7.9989999999999997,7.3869999999999996,5.1989999999999998,7.524,5.4980000000000002,7.74,5.8470000000000004,7.9690000000000003,null,4.0609999999999999,6.6109999999999998,8.8239999999999998,8.5090000000000003,9.0549999999999997]
[null,201,null,null,null,null,null,null,null,null,null,null,null,null,"2016-10-06",7.0709999999999997,5.6420000000000003,8.0139999999999993,7.3609999999999998,5.258,7.4980000000000002,5.53,7.7610000000000001,5.8090000000000002,7.99,null,4.2290000000000001,6.609,8.7870000000000008,9.1859999999999999,9.0820000000000007]
[null,202,null,null,null,null,null,null,null,null,null,null,null,null,"2016-10-05",7.0439999999999996,5.6210000000000004,8.0129999999999999,7.3869999999999996,5.2690000000000001,7.51,5.53,7.8470000000000004,5.8380000000000001,null,null,4.9349999999999996,6.6589999999999998,8.9830000000000005,9.1850000000000005,9.1630000000000003]
[null,203,null,null,null,null,null,null,null,null,null,null,null,null,"2016-10-04",6.9589999999999996,5.6239999999999997,8.0109999999999992,7.4770000000000003,5.3639999999999999,7.508,5.4669999999999996,7.75,5.8760000000000003,null,null,4.6980000000000004,6.9109999999999996,8.7620000000000005,9.343,9.0909999999999993]
[null,204,null,null,null,null,null,null,null,null,null,null,null,null,"2016-10-03",6.9050000000000002,5.758,8.1370000000000005,7.4249999999999998,5.3760000000000003,7.6740000000000004,5.4880000000000004,7.8460000000000001,5.915,null,null,4.66,6.9610000000000003,8.7609999999999992,9.31,9.1039999999999992]
[null,205,null,null,null,null,null,null,null,null,null,null,null,null,"2016-09-30",7.0330000000000004,5.758,8.1359999999999992,7.569,5.4109999999999996,7.673,5.6040000000000001,7.91,5.9340000000000002,null,null,4.2960000000000003,6.9580000000000002,8.76,9.3079999999999998,9.09]
[null,206,null,null,null,null,null,null,null,null,null,null,null,null,"2016-09-29",7.0309999999999997,5.7370000000000001,8.1359999999999992,7.5819999999999999,5.4950000000000001,7.8019999999999996,5.6989999999999998,7.9320000000000004,5.9539999999999997,null,null,4.4210000000000003,7.218,8.8840000000000003,9.3070000000000004,9.0890000000000004]
[null,207,null,null,null,null,null,null,null,null,null,null,null,null,"2016-09-28",7.367,5.7160000000000002,8.1029999999999998,7.6340000000000003,5.4829999999999997,7.7759999999999998,5.806,8.0719999999999992,5.9240000000000004,null,null,4.4249999999999998,7.7969999999999997,8.8290000000000006,9.1440000000000001,9.1020000000000003]
[null,208,null,null,null,null,null,null,null,null,null,null,null,null,"2016-09-27",6.9470000000000001,5.718,8.1809999999999992,7.673,5.4589999999999996,7.7350000000000003,5.7949999999999999,8.0169999999999995,5.9530000000000003,null,null,4.5149999999999997,8.0559999999999992,8.9860000000000007,8.548,9.1950000000000003]
[null,209,null,null,null,null,null,null,null,null,null,null,null,null,"2016-09-26",7.5940000000000003,5.6970000000000001,8.1959999999999997,7.673,5.4589999999999996,7.89,5.8049999999999997,8.0169999999999995,5.9050000000000002,null,null,4.4779999999999998,8.1869999999999994,8.8059999999999992,9.1080000000000005,9.0850000000000009]
[null,210,null,null,null,null,null,null,null,null,null,null,null,null,"2016-09-23",7.5919999999999996,5.6760000000000002,8.3870000000000005,7.7389999999999999,5.4470000000000001,7.968,5.8049999999999997,7.9850000000000003,5.8760000000000003,null,null,5.13,8.0229999999999997,8.7870000000000008,8.1950000000000003,8.9350000000000005]
[null,211,null,null,null,null,null,null,null,null,null,null,null,null,"2016-09-22",7.4589999999999996,5.8079999999999998,8.3859999999999992,7.8840000000000003,5.47,7.7329999999999997,5.6559999999999997,8.0280000000000005,5.9050000000000002,null,null,4.9690000000000003,8.75,8.7680000000000007,9.0410000000000004,8.9339999999999993]
[null,212,null,null,null,null,null,null,null,null,null,null,null,null,"2016-09-21",7.4569999999999999,6.1630000000000003,8.3849999999999998,7.9640000000000004,5.7220000000000004,8.0719999999999992,5.9340000000000002,8.3000000000000007,6.1,null,null,5.0119999999999996,8.7460000000000004,8.8550000000000004,8.9760000000000009,8.8930000000000007]
[null,213,null,null,null,null,null,null,null,null,null,null,null,null,"2016-09-20",7.4249999999999998,6.2309999999999999,8.2390000000000008,8.0169999999999995,5.6980000000000004,8.0559999999999992,5.9340000000000002,8.3330000000000002,6.1189999999999998,null,null,5.0190000000000001,8.7070000000000007,8.6039999999999992,8.3450000000000006,8.9990000000000006]
[null,214,null,null,null,null,null,null,null,null,null,null,null,null,"2016-09-19",7.3710000000000004,6.298,8.1750000000000007,8.016,5.758,8.0690000000000008,5.89,8.3659999999999997,6.1189999999999998,null,null,5.1020000000000003,8.6760000000000002,8.48,8.8379999999999992,8.77]
[null,215,null,null,null,null,null,null,null,null,null,null,null,null,"2016-09-16",7.55,6.298,8.2059999999999995,8.0830000000000002,5.7210000000000001,8.0419999999999998,5.8579999999999997,8.4429999999999996,6.1879999999999997,null,null,4.8630000000000004,8.6999999999999993,8.4969999999999999,8.9719999999999995,8.8759999999999994]
[null,216,null,null,null,null,null,null,null,null,null,null,null,null,"2016-09-15",7.5220000000000002,6.2539999999999996,8.4450000000000003,7.9219999999999997,5.7329999999999997,7.9880000000000004,5.8689999999999998,8.2880000000000003,6.06,null,null,4.7859999999999996,8.75,8.2349999999999994,8.5039999999999996,8.8759999999999994]
[null,217,null,null,null,null,null,null,null,null,null,null,null,null,"2016-09-14",7.52,6.2759999999999998,8.4440000000000008,8.0020000000000007,5.601,8.0009999999999994,5.7939999999999996,8.2769999999999992,6.1280000000000001,null,null,4.9089999999999998,8.4220000000000006,8.2520000000000007,9.1489999999999991,8.9149999999999991]
[null,218,null,null,null,null,null,null,null,null,null,null,null,null,"2016-09-13",7.5129999999999999,6.3440000000000003,8.4420000000000002,7.9610000000000003,5.601,7.8159999999999998,5.7510000000000003,8.3089999999999993,5.9909999999999997,null,null,4.9560000000000004,7.9320000000000004,8.1969999999999992,8.6259999999999994,8.7929999999999993]
[null,219,null,null,null,null,null,null,null,null,null,null,null,null,"2016-09-12",7.5110000000000001,5.97,8.4410000000000007,7.6970000000000001,5.4930000000000003,7.7640000000000002,5.6239999999999997,8.048,5.9619999999999997,null,null,4.8,7.431,8.0079999999999991,7.556,8.7119999999999997]
[null,220,null,null,null,null,null,null,null,null,null,null,null,null,"2016-09-09",7.4829999999999997,5.992,8.44,7.6440000000000001,5.4459999999999997,7.6479999999999997,5.5510000000000002,8.0370000000000008,5.8650000000000002,null,null,4.8019999999999996,7.2729999999999997,7.9219999999999997,7.6029999999999998,8.6980000000000004]
[null,221,null,null,null,null,null,null,null,null,null,null,null,null,"2016-09-08",7.43,5.7960000000000003,8.4390000000000001,7.6050000000000004,5.3280000000000003,7.609,5.4880000000000004,7.9930000000000003,5.7409999999999997,null,null,4.8840000000000003,7.1420000000000003,7.9560000000000004,7.6740000000000004,8.5]
[null,222,null,null,null,null,null,null,null,null,null,null,null,null,"2016-09-07",7.4279999999999999,5.8620000000000001,8.4860000000000007,7.5919999999999996,5.3520000000000003,7.6079999999999997,5.4889999999999999,7.9930000000000003,5.7690000000000001,null,null,4.8470000000000004,7.0369999999999999,7.9550000000000001,7.8,8.4740000000000002]
[null,223,null,null,null,null,null,null,null,null,null,null,null,null,"2016-09-06",7.4210000000000003,5.8639999999999999,8.1820000000000004,7.5659999999999998,5.3630000000000004,7.6059999999999999,5.53,7.95,5.7789999999999999,null,null,4.8150000000000004,6.9029999999999996,7.952,8.3979999999999997,8.4979999999999993]
[null,224,null,null,null,null,null,null,null,null,null,null,null,null,"2016-09-02",7.4189999999999996,5.8220000000000001,8.34,7.5659999999999998,5.375,7.6180000000000003,5.5620000000000003,7.8970000000000002,5.8070000000000004,null,null,4.74,6.9009999999999998,7.952,7.7670000000000003,8.5500000000000007]
[null,225,null,null,null,null,null,null,null,null,null,null,null,null,"2016-09-01",7.4169999999999998,5.7359999999999998,8.1809999999999992,7.5529999999999999,5.3869999999999996,7.5919999999999996,5.5510000000000002,7.9290000000000003,5.8170000000000002,null,null,4.8209999999999997,6.7220000000000004,7.9169999999999998,8.2129999999999992,8.641]
[null,226,null,null,null,null,null,null,null,null,null,null,null,null,"2016-08-31",7.492,5.7370000000000001,8.1809999999999992,7.5650000000000004,5.3280000000000003,7.5919999999999996,5.5510000000000002,7.9180000000000001,5.7789999999999999,null,null,4.9020000000000001,6.4189999999999996,8.2390000000000008,7.6710000000000003,8.6539999999999999]
[null,227,null,null,null,null,null,null,null,null,null,null,null,null,"2016-08-30",7.4580000000000002,5.74,8.1780000000000008,7.5650000000000004,5.3520000000000003,7.5890000000000004,5.53,7.9390000000000001,5.7779999999999996,null,null,4.7560000000000002,6.6369999999999996,7.8630000000000004,8.2710000000000008,8.6379999999999999]
[null,228,null,null,null,null,null,null,null,null,null,null,null,null,"2016-08-26",7.4560000000000004,5.7619999999999996,8.2720000000000002,7.5650000000000004,5.3170000000000002,7.6269999999999998,5.53,7.875,5.7309999999999999,null,null,4.7590000000000003,6.6360000000000001,8.218,7.9669999999999996,8.73]
[null,229,null,null,null,null,null,null,null,null,null,null,null,null,"2016-08-25",7.4539999999999997,5.7839999999999998,8.4930000000000003,7.6040000000000001,5.3170000000000002,7.7030000000000003,5.53,8.0129999999999999,5.7309999999999999,null,null,4.7610000000000001,6.5090000000000003,8.234,7.7279999999999998,8.7289999999999992]
[null,230,null,null,null,null,null,null,null,null,null,null,null,null,"2016-08-23",7.1680000000000001,6.024,9.3350000000000009,7.694,5.2930000000000001,7.7130000000000001,5.4480000000000004,8.0559999999999992,5.6929999999999996,null,null,5.0419999999999998,6.5519999999999996,8.2810000000000006,7.8330000000000002,9.2089999999999996]
[null,231,null,null,null,null,null,null,null,null,null,null,null,null,"2016-08-22",7.1909999999999998,5.9809999999999999,9.3339999999999996,7.7069999999999999,5.282,7.7130000000000001,5.4269999999999996,8.0990000000000002,5.6929999999999996,null,null,5.0830000000000002,6.5010000000000003,8.093,7.55,9.359]
[null,232,null,null,null,null,null,null,null,null,null,null,null,null,"2016-08-19",7.7469999999999999,6.0460000000000003,9.3330000000000002,7.6159999999999997,5.258,7.7380000000000004,5.4269999999999996,8.0990000000000002,5.6929999999999996,null,null,5.085,6.5490000000000004,8.109,7.55,9.4130000000000003]
[null,233,null,null,null,null,null,null,null,null,null,null,null,null,"2016-08-18",7.7450000000000001,6.0469999999999997,9.3320000000000007,7.694,5.282,7.7370000000000001,5.4269999999999996,8.0980000000000008,5.6929999999999996,null,null,5.125,6.7960000000000003,8.2100000000000009,7.9939999999999998,9.4260000000000002]
[null,234,null,null,null,null,null,null,null,null,null,null,null,null,"2016-08-17",7.7430000000000003,5.9610000000000003,9.33,7.694,5.2930000000000001,7.7359999999999998,5.4480000000000004,8.1199999999999992,5.6929999999999996,null,null,5.0890000000000004,6.7939999999999996,8.2270000000000003,7.6669999999999998,9.4809999999999999]
[null,235,null,null,null,null,null,null,null,null,null,null,null,null,"2016-08-16",7.7619999999999996,5.9420000000000002,9.327,7.6539999999999999,5.27,7.7220000000000004,5.4480000000000004,8.1199999999999992,5.6829999999999998,null,null,4.9050000000000002,6.59,8.2240000000000002,8.0869999999999997,9.4649999999999999]
[null,236,null,null,null,null,null,null,null,null,null,null,null,null,"2016-08-15",7.8360000000000003,6.0279999999999996,9.4090000000000007,7.7190000000000003,5.3049999999999997,7.6959999999999997,5.4379999999999997,8.141,5.6929999999999996,null,null,4.9450000000000003,6.5880000000000001,8.3249999999999993,8.2520000000000007,9.4779999999999998]
[null,237,null,null,null,null,null,null,null,null,null,null,null,null,"2016-08-12",7.9870000000000001,6.093,9.0779999999999994,7.7839999999999998,5.27,7.7210000000000001,5.4269999999999996,8.141,5.7119999999999997,null,null,4.9470000000000001,6.5860000000000003,8.1539999999999999,8.7530000000000001,9.4489999999999998]
[null,238,null,null,null,null,null,null,null,null,null,null,null,null,"2016-08-11",8.1639999999999997,5.9859999999999998,9.7579999999999991,7.5890000000000004,5.2240000000000002,7.72,5.4269999999999996,8.1620000000000008,5.7119999999999997,null,null,5.0259999999999998,6.56,8.3569999999999993,8.08,9.4619999999999997]
[null,239,null,null,null,null,null,null,null,null,null,null,null,null,"2016-08-10",8.2129999999999992,5.8159999999999998,9.7569999999999997,7.5890000000000004,5.2240000000000002,7.6680000000000001,5.5,8.0540000000000003,5.7119999999999997,null,null,5.0659999999999998,6.5830000000000002,8.51,8.1639999999999997,9.3239999999999998]
[null,240,null,null,null,null,null,null,null,null,null,null,null,null,"2016-08-08",8.2279999999999998,5.9889999999999999,9.7850000000000001,7.6790000000000003,5.3049999999999997,7.6920000000000002,5.5510000000000002,8.0749999999999993,5.7309999999999999,null,null,4.6989999999999998,6.5759999999999996,8.6609999999999996,8.3190000000000008,9.5269999999999992]
[null,241,null,null,null,null,null,null,null,null,null,null,null,null,"2016-08-05",8.2260000000000009,6.0540000000000003,9.8179999999999996,7.8609999999999998,5.375,7.7039999999999997,5.5819999999999999,8.0749999999999993,5.7119999999999997,null,null,4.7009999999999996,6.5739999999999998,8.7469999999999999,8.2490000000000006,9.32]
[null,242,null,null,null,null,null,null,null,null,null,null,null,null,"2016-08-04",8.2230000000000008,6.0540000000000003,9.8170000000000002,7.8609999999999998,5.468,7.7030000000000003,5.6029999999999998,8.14,5.8540000000000001,null,null,4.7789999999999999,6.77,8.8670000000000009,8.1359999999999992,9.1969999999999992]
[null,243,null,null,null,null,null,null,null,null,null,null,null,null,"2016-08-03",8.2200000000000006,6.0549999999999997,9.8149999999999995,7.8609999999999998,5.48,7.69,5.6449999999999996,8.2260000000000009,5.8440000000000003,null,null,4.7809999999999997,6.7679999999999998,8.9179999999999993,8.3780000000000001,9.58]
[null,244,null,null,null,null,null,null,null,null,null,null,null,null,"2016-08-02",8.1609999999999996,6.0990000000000002,9.8620000000000001,7.8339999999999996,5.6079999999999997,7.7130000000000001,5.5309999999999997,8.2469999999999999,5.8540000000000001,null,null,5.0129999999999999,6.8120000000000003,8.9149999999999991,8.3759999999999994,9.343]
[null,245,null,null,null,null,null,null,null,null,null,null,null,null,"2016-08-01",8.1590000000000007,6.0140000000000002,9.31,7.7169999999999996,5.3860000000000001,7.7,5.52,7.9889999999999999,5.7679999999999998,null,null,4.681,6.6619999999999999,8.8789999999999996,8.1039999999999992,9.1660000000000004]
[null,246,null,null,null,null,null,null,null,null,null,null,null,null,"2016-07-29",8.0540000000000003,5.8879999999999999,9.3089999999999993,7.5880000000000001,5.3860000000000001,7.6360000000000001,5.5309999999999997,7.8410000000000002,5.7679999999999998,null,null,4.6459999999999999,6.5140000000000002,8.109,8.2539999999999996,9.0039999999999996]
[null,247,null,null,null,null,null,null,null,null,null,null,null,null,"2016-07-28",7.6989999999999998,5.7619999999999996,9.3079999999999998,7.64,5.34,7.4349999999999996,5.3470000000000004,7.81,5.6180000000000003,null,null,4.6859999999999999,6.4880000000000004,8.0909999999999993,8.3130000000000006,8.923]
[null,248,null,null,null,null,null,null,null,null,null,null,null,null,"2016-07-27",7.6959999999999997,5.8470000000000004,9.3070000000000004,7.3719999999999999,5.282,7.4340000000000002,5.3470000000000004,7.7359999999999998,5.5990000000000002,null,null,4.6520000000000001,6.4870000000000001,8.1069999999999993,8.7409999999999997,9.0289999999999999]
[null,249,null,null,null,null,null,null,null,null,null,null,null,null,"2016-07-26",7.6920000000000002,5.8280000000000003,9.3209999999999997,7.3209999999999997,5.1790000000000003,7.125,5.3360000000000003,7.6950000000000003,5.5439999999999996,null,null,4.657,6.6539999999999999,8.3409999999999993,8.0719999999999992,8.8680000000000003]
[null,250,null,null,null,null,null,null,null,null,null,null,null,null,"2016-07-25",7.4660000000000002,5.4950000000000001,8.8979999999999997,7.0960000000000001,5.1559999999999997,7.1130000000000004,5.3259999999999996,7.468,5.5439999999999996,null,null,4.5140000000000002,6.7009999999999996,8.2899999999999991,8.0709999999999997,8.8680000000000003]
[null,251,null,null,null,null,null,null,null,null,null,null,null,null,"2016-07-22",7.4640000000000004,5.3920000000000003,8.8970000000000002,7.0339999999999998,5.1109999999999998,7.1120000000000001,5.2960000000000003,7.4480000000000004,5.5250000000000004,null,null,4.226,6.7240000000000002,8.2050000000000001,8.0229999999999997,8.8409999999999993]
[null,252,null,null,null,null,null,null,null,null,null,null,null,null,"2016-07-21",7.5860000000000003,5.3730000000000002,8.8640000000000008,7.0590000000000002,5.0309999999999997,7.1849999999999996,5.306,7.4269999999999996,5.5250000000000004,null,null,4.8490000000000002,6.7949999999999999,8.2710000000000008,8.6140000000000008,8.7880000000000003]
[null,253,null,null,null,null,null,null,null,null,null,null,null,null,"2016-07-20",7.5339999999999998,5.4359999999999999,8.8629999999999995,7.0590000000000002,5.032,7.173,5.2960000000000003,7.407,5.5439999999999996,null,null,4.7409999999999997,6.8179999999999996,8.2200000000000006,8.7579999999999991,8.7609999999999992]
[null,254,null,null,null,null,null,null,null,null,null,null,null,null,"2016-07-19",7.4539999999999997,5.4390000000000001,8.86,7.109,5.1909999999999998,7.1840000000000002,5.306,7.4779999999999998,5.5810000000000004,null,null,4.6760000000000002,6.91,8.2170000000000005,8.2469999999999999,8.7460000000000004]
[null,255,null,null,null,null,null,null,null,null,null,null,null,null,"2016-07-18",7.2060000000000004,5.4189999999999996,8.891,7.0350000000000001,5.1909999999999998,7.2320000000000002,5.306,7.468,5.6280000000000001,null,null,5.08,6.7859999999999996,8.2159999999999993,8.1270000000000007,8.7710000000000008]
[null,256,null,null,null,null,null,null,null,null,null,null,null,null,"2016-07-15",7.7480000000000002,5.399,9.3439999999999994,7.0839999999999996,5.1680000000000001,7.2439999999999998,5.3159999999999998,7.55,5.5439999999999996,null,null,4.7539999999999996,7.4240000000000004,8.2159999999999993,8.3789999999999996,8.8230000000000004]
[null,257,null,null,null,null,null,null,null,null,null,null,null,null,"2016-07-14",7.5960000000000001,5.38,9.4079999999999995,7.1840000000000002,5.1459999999999999,7.1820000000000004,5.3159999999999998,7.55,5.5350000000000001,null,null,4.5759999999999996,7.6210000000000004,8.1809999999999992,7.4320000000000004,8.7569999999999997]
[null,258,null,null,null,null,null,null,null,null,null,null,null,null,"2016-07-13",8.27,5.4219999999999997,9.4570000000000007,7.234,5.1909999999999998,7.3659999999999997,5.3159999999999998,7.6120000000000001,5.6369999999999996,null,null,4.6509999999999998,7.024,8.18,9.0410000000000004,8.8089999999999993]
[null,{"$f":"B264+1","v":259},null,null,null,null,null,null,null,null,null,null,null,null,"2016-07-12",8.2870000000000008,5.4660000000000002,9.5850000000000009,7.2210000000000001,5.1689999999999996,7.4139999999999997,5.4180000000000001,8.0299999999999994,5.5910000000000002,null,null,4.5869999999999997,7.61,8.1110000000000007,7.7709999999999999,8.625]
[null,260,null,null,null,null,null,null,null,null,null,null,null,null,"2016-07-11",8.1839999999999993,5.4669999999999996,9.5180000000000007,7.4729999999999999,5.26,7.476,5.4690000000000003,8.0939999999999994,5.6559999999999997,null,null,4.7699999999999996,7.6079999999999997,8.1270000000000007,7.8869999999999996,8.6240000000000006]
[null,261,null,null,null,null,null,null,null,null,null,null,null,null,"2016-07-08",8.484,5.9009999999999998,9.7490000000000006,7.5869999999999997,5.4550000000000001,7.55,5.5919999999999996,8.1050000000000004,5.9480000000000004,null,null,4.88,7.6050000000000004,8.2100000000000009,8.3019999999999996,8.6750000000000007]
[null,262,null,null,null,null,null,null,null,null,null,null,null,null,"2016-07-07",8.532,6.069,9.9489999999999998,7.8949999999999996,5.665,7.7889999999999997,5.81,8.1150000000000002,5.9770000000000003,null,null,4.9180000000000001,8.8450000000000006,8.2089999999999996,8.7260000000000009,8.6620000000000008]
[null,263,null,null,null,null,null,null,null,null,null,null,null,null,"2016-07-06",8.5289999999999999,6.4690000000000003,9.9480000000000004,7.9989999999999997,5.7709999999999999,8.07,5.9139999999999997,8.3089999999999993,6.0629999999999997,null,null,5.39,8.8930000000000007,8.5779999999999994,7.8860000000000001,8.7260000000000009]
[null,264,null,null,null,null,null,null,null,null,null,null,null,null,"2016-07-05",8.52,6.5970000000000004,9.9440000000000008,7.9729999999999999,5.7110000000000003,8.1969999999999992,5.9880000000000004,8.1359999999999992,6.0629999999999997,null,null,5.359,9.5869999999999997,8.5749999999999993,7.7380000000000004,8.7249999999999996]
[null,265,null,null,null,null,null,null,null,null,null,null,null,null,"2016-07-01",8.5169999999999995,6.5330000000000004,9.9420000000000002,7.96,5.782,8.1449999999999996,5.9669999999999996,8.1039999999999992,6.0149999999999997,null,null,5.65,9.5830000000000002,8.6080000000000005,8.7219999999999995]
[null,266,null,null,null,null,null,null,null,null,null,null,null,null,"2016-06-30",8.5139999999999993,6.6820000000000004,9.9410000000000007,8.1029999999999998,5.8170000000000002,8.2739999999999991,5.9770000000000003,8.2759999999999998,6.15,null,null,5.5069999999999997,9.5779999999999994,8.6069999999999993,7.766]
[null,267,null,null,null,null,null,null,null,null,null,null,null,null,"2016-06-29",8.5109999999999992,6.9589999999999996,9.94,8.1029999999999998,6.0670000000000002,8.3130000000000006,5.9870000000000001,8.4819999999999993,6.2270000000000003,null,null,6.2359999999999998,9.5739999999999998,8.64,7.766]
[null,268,null,null,null,null,null,null,null,null,null,null,null,null,"2016-06-28",8.9290000000000003,7.1950000000000003,9.9179999999999993,8.4990000000000006,6.1020000000000003,8.3490000000000002,6.0179999999999998,8.7469999999999999,6.5919999999999996,null,null,6.2370000000000001,9.5570000000000004,8.6530000000000005,8.1150000000000002]
[null,269,null,null,null,null,null,null,null,null,null,null,null,null,"2016-06-27",8.9260000000000002,7.3680000000000003,9.9329999999999998,8.7289999999999992,6.1980000000000004,8.2959999999999994,6.21,8.8819999999999997,6.6020000000000003,null,null,6.274,9.6310000000000002,8.5,8.3529999999999998]
[null,270,null,null,null,null,null,null,null,null,null,null,null,null,"2016-06-24",8.923,7.0659999999999998,9.9320000000000004,8.2590000000000003,5.8040000000000003,8.2949999999999999,5.8920000000000003,8.6359999999999992,6.2270000000000003,null,null,5.8760000000000003,9.0790000000000006,8.4990000000000006,9.0220000000000002]
[null,271,null,null,null,null,null,null,null,null,null,null,null,null,"2016-06-23",8.9190000000000005,6.4930000000000003,9.93,7.9710000000000001,5.7450000000000001,7.9969999999999999,5.8710000000000004,8.3390000000000004,6.2169999999999996,null,null,5.34,9.1010000000000009,8.4979999999999993,8.1769999999999996]
[null,272,null,null,null,null,null,null,null,null,null,null,null,null,"2016-06-22",8.9160000000000004,6.4930000000000003,9.9290000000000003,7.984,5.8869999999999996,7.9710000000000001,5.8810000000000002,8.3279999999999994,6.2169999999999996,null,null,5.3419999999999996,9.0969999999999995,8.2469999999999999,8.2140000000000004]
[null,273,null,null,null,null,null,null,null,null,null,null,null,null,"2016-06-21",8.9060000000000006,6.3479999999999999,9.9250000000000007,7.97,5.8860000000000001,7.9690000000000003,5.9640000000000004,8.2739999999999991,6.1870000000000003,null,null,5.3470000000000004,9.5,8.2279999999999998,7.5309999999999997]
[null,274,null,null,null,null,null,null,null,null,null,null,null,null,"2016-06-20",8.7509999999999994,6.2229999999999999,9.9239999999999995,7.9960000000000004,6.0519999999999996,8.1869999999999994,5.9429999999999996,8.5570000000000004,6.1970000000000001,null,null,5.3479999999999999,9.3919999999999995,8.2430000000000003,7.8890000000000002]
[null,275,null,null,null,null,null,null,null,null,null,null,null,null,"2016-06-17",8.7479999999999993,6.7670000000000003,9.99,8.0220000000000002,6.0880000000000001,8.4339999999999993,6.1970000000000001,8.6449999999999996,6.431,null,null,6.133,9.4659999999999993,8.2430000000000003,8.7390000000000008]
[null,276,null,null,null,null,null,null,null,null,null,null,null,null,"2016-06-16",8.7200000000000006,6.9790000000000001,9.9879999999999995,8.4160000000000004,6.1,8.4860000000000007,6.2080000000000002,8.6449999999999996,6.4909999999999997,null,null,6.1340000000000003,9.2029999999999994,8.2249999999999996,7.1909999999999998]
[null,277,null,null,null,null,null,null,null,null,null,null,null,null,"2016-06-15",8.6910000000000007,6.7039999999999997,10.122,8.3620000000000001,5.9560000000000004,8.4589999999999996,6.09,8.6010000000000009,6.3330000000000002,null,null,5.742,9.2240000000000002,8.2409999999999997,8.7059999999999995]
[null,278,null,null,null,null,null,null,null,null,null,null,null,null,"2016-06-14",8.532,6.8940000000000001,10.117000000000001,8.4949999999999992,6.0750000000000002,8.3780000000000001,6.1319999999999997,8.6769999999999996,6.431,null,null,5.5339999999999998,9.6530000000000005,7.9589999999999996,7.758]
[null,279,null,null,null,null,null,null,null,null,null,null,null,null,"2016-06-13",8.5050000000000008,6.6210000000000004,10.015000000000001,7.9950000000000001,5.7210000000000001,8.3770000000000007,6.0579999999999998,8.4570000000000007,6.2640000000000002,null,null,5.5,9.4920000000000009,7.9589999999999996,7.2460000000000004]
[null,280,null,null,null,null,null,null,null,null,null,null,null,null,"2016-06-10",8.4770000000000003,6.6210000000000004,10.031000000000001,7.9950000000000001,5.72,8.1560000000000006,5.9740000000000002,8.0909999999999993,6.2249999999999996,null,null,5.5019999999999998,8.8219999999999992,7.9580000000000002,8.2349999999999994]
[null,281,null,null,null,null,null,null,null,null,null,null,null,null,"2016-06-09",8.4740000000000002,6.2270000000000003,10.164,7.827,5.6619999999999999,8.1419999999999995,5.952,8.0909999999999993,6.1189999999999998,null,null,5.5030000000000001,8.2170000000000005,7.6349999999999998,7.9]
[null,282,null,null,null,null,null,null,null,null,null,null,null,null,"2016-06-08",8.4220000000000006,6.2069999999999999,10.163,7.6870000000000003,5.6159999999999997,8.1539999999999999,5.9729999999999999,8.0809999999999995,6.1189999999999998,null,null,5.54,8.2140000000000004,7.65,7.4809999999999999]
[null,283,null,null,null,null,null,null,null,null,null,null,null,null,"2016-06-07",8.7609999999999992,6.2290000000000001,9.9570000000000007,7.968,5.65,8.1389999999999993,6.0250000000000004,8.3260000000000005,6.1280000000000001,null,null,5.6139999999999999,8.3529999999999998,7.7450000000000001,7.65]
[null,284,null,null,null,null,null,null,null,null,null,null,null,null,"2016-06-03",8.8290000000000006,6.7050000000000001,9.9550000000000001,8.0449999999999999,5.7549999999999999,8.1509999999999998,6.0250000000000004,8.3040000000000003,6.1470000000000002,null,null,5.8259999999999996,8.8469999999999995,7.7279999999999998,7.8680000000000003]
[null,285,null,null,null,null,null,null,null,null,null,null,null,null,"2016-06-02",8.8260000000000005,6.7050000000000001,9.8040000000000003,8.0190000000000001,5.7430000000000003,8.1370000000000005,6.0250000000000004,8.2940000000000005,6.1280000000000001,null,null,4.7910000000000004,8.7929999999999993,7.7430000000000003,7.9260000000000002]
[null,286,null,null,null,null,null,null,null,null,null,null,null,null,"2016-06-01",8.8230000000000004,6.7050000000000001,9.6389999999999993,7.9930000000000003,5.7309999999999999,8.0980000000000008,6.0039999999999996,8.2829999999999995,6.1280000000000001,null,null,4.7930000000000001,7.9470000000000001,7.7910000000000004,8.0350000000000001]
[null,287,null,null,null,null,null,null,null,null,null,null,null,null,"2016-05-31",8.7889999999999997,6.6020000000000003,9.8490000000000002,7.9930000000000003,5.7309999999999999,8.0960000000000001,6.0030000000000001,8.2390000000000008,6.1269999999999998,null,null,4.835,7.6959999999999997,7.8369999999999997,8.032]
[null,288,null,null,null,null,null,null,null,null,null,null,null,null,"2016-05-26",9.7409999999999997,6.54,10.349,7.7880000000000003,5.6609999999999996,7.8659999999999997,5.9610000000000003,8.1329999999999991,6.1079999999999997,null,null,4.8390000000000004,7.6180000000000003,8.0459999999999994,7.98]
[null,289,null,null,null,null,null,null,null,null,null,null,null,null,"2016-05-25",9.7409999999999997,6.52,10.382999999999999,7.6989999999999998,5.673,7.8410000000000002,5.93,8.0690000000000008,6.0890000000000004,null,null,5.0090000000000003,7.5460000000000003,8.0139999999999993,8.0739999999999998]
[null,290,null,null,null,null,null,null,null,null,null,null,null,null,"2016-05-24",9.7260000000000009,6.5410000000000004,10.377000000000001,7.673,5.5339999999999998,7.8129999999999997,5.9390000000000001,7.9119999999999999,5.9560000000000004,null,null,5.1529999999999996,7.4640000000000004,8.0109999999999992,8.0939999999999994]
[null,291,null,null,null,null,null,null,null,null,null,null,null,null,"2016-05-23",9.6969999999999992,6.5620000000000003,10.375999999999999,7.7110000000000003,5.5919999999999996,7.8120000000000003,5.9809999999999999,8.016,5.9459999999999997,null,null,5.1550000000000002,7.4619999999999997,8.0429999999999993,8.6630000000000003]
[null,292,null,null,null,null,null,null,null,null,null,null,null,null,"2016-05-20",9.6419999999999995,6.5620000000000003,10.356999999999999,7.7359999999999998,5.5919999999999996,7.7370000000000001,5.97,8.048,5.9459999999999997,null,null,5.157,7.5069999999999997,7.9779999999999998,7.4080000000000004]
[null,293,null,null,null,null,null,null,null,null,null,null,null,null,"2016-05-19",9.6379999999999999,6.5620000000000003,10.356,7.7240000000000002,5.569,7.7229999999999999,5.9390000000000001,8.048,6.117,null,null,5.1580000000000004,7.3620000000000001,7.8959999999999999,8.6820000000000004]
[null,294,null,null,null,null,null,null,null,null,null,null,null,null,"2016-05-18",9.6340000000000003,6.5629999999999997,10.388,7.7359999999999998,5.5570000000000004,7.7350000000000003,5.9180000000000001,8.048,5.9370000000000003,null,null,5.0590000000000002,7.3360000000000003,7.9119999999999999,7.4969999999999999]
[null,295,null,null,null,null,null,null,null,null,null,null,null,null,"2016-05-17",9.6229999999999993,6.6449999999999996,10.367000000000001,7.7489999999999997,5.5,7.7329999999999997,5.7729999999999997,8.0579999999999998,5.9269999999999996,null,null,5.0650000000000004,7.1879999999999997,7.9420000000000002,8.3829999999999991]
[null,296,null,null,null,null,null,null,null,null,null,null,null,null,"2016-05-16",9.6950000000000003,6.7279999999999998,10.519,7.7359999999999998,5.4660000000000002,7.7450000000000001,5.7629999999999999,8.0579999999999998,5.9269999999999996,null,null,5.0670000000000002,7.0679999999999996,8.0060000000000002,8.3239999999999998]
[null,297,null,null,null,null,null,null,null,null,null,null,null,null,"2016-05-13",9.7680000000000007,6.7279999999999998,10.585000000000001,7.6479999999999997,5.42,7.7439999999999998,5.742,8.048,5.9269999999999996,null,null,5.069,7.5380000000000003,8.0380000000000003,8.3819999999999997]
[null,298,null,null,null,null,null,null,null,null,null,null,null,null,"2016-05-11",10.015000000000001,6.7489999999999997,10.582000000000001,7.66,5.3869999999999996,7.8179999999999996,5.7009999999999996,8.0790000000000006,5.7869999999999999,null,null,5.375,7.5810000000000004,8.15,8.3219999999999992]
[null,299,null,null,null,null,null,null,null,null,null,null,null,null,"2016-05-10",10.003,6.79,10.561,7.7359999999999998,5.3979999999999997,7.8410000000000002,5.6909999999999998,8.1,5.8520000000000003,null,null,5.3120000000000003,7.5730000000000004,8.3759999999999994,8.0860000000000003]
[null,300,null,null,null,null,null,null,null,null,null,null,null,null,"2016-05-09",9.9480000000000004,6.8719999999999999,10.558999999999999,7.7359999999999998,5.3979999999999997,7.84,5.6909999999999998,8.0890000000000004,5.88,null,null,5.3140000000000001,7.6660000000000004,8.5229999999999997,8.5549999999999997]
[null,301,null,null,null,null,null,null,null,null,null,null,null,null,"2016-05-06",10.536,6.8929999999999998,10.936,7.71,5.3979999999999997,7.827,5.67,8.0890000000000004,5.7590000000000003,null,null,5.1829999999999998,7.4740000000000002,8.5220000000000002,8.2289999999999992]
[null,302,null,null,null,null,null,null,null,null,null,null,null,null,"2016-05-05",10.478999999999999,6.8929999999999998,10.917,7.71,5.3979999999999997,7.827,5.5490000000000004,8.11,5.6859999999999999,null,null,5.1509999999999998,7.3540000000000001,8.0649999999999995,8.1720000000000006]
[null,303,null,null,null,null,null,null,null,null,null,null,null,null,"2016-05-04",9.8350000000000009,6.9130000000000003,10.335000000000001,7.7859999999999996,5.2409999999999997,7.6269999999999998,5.4089999999999998,8.11,5.6669999999999998,null,null,5.12,7.1879999999999997,8.1609999999999996,8.1999999999999993]
[null,304,null,null,null,null,null,null,null,null,null,null,null,null,"2016-05-03",9.5719999999999992,6.4850000000000003,10.602,7.76,5.1630000000000003,7.5640000000000001,5.3689999999999998,8.0470000000000006,5.5940000000000003,null,null,5.1260000000000003,6.766,7.6479999999999997,8.2550000000000008]
[null,305,null,null,null,null,null,null,null,null,null,null,null,null,"2016-05-02",9.5679999999999996,6.3849999999999998,10.548999999999999,7.5730000000000004,5.1630000000000003,7.5629999999999997,5.3890000000000002,7.9640000000000004,5.5490000000000004,null,null,5.1280000000000001,6.7640000000000002,7.6319999999999997,7.4359999999999999]
[null,306,null,null,null,null,null,null,null,null,null,null,null,null,"2016-04-29",10.018000000000001,6.3650000000000002,10.701000000000001,7.56,5.1639999999999997,7.5629999999999997,5.399,7.9429999999999996,5.5490000000000004,null,null,5.13,6.7619999999999996,7.5839999999999996,7.7770000000000001]
[null,307,null,null,null,null,null,null,null,null,null,null,null,null,"2016-04-28",10.968999999999999,6.3860000000000001,10.7,7.5730000000000004,5.2859999999999996,7.5750000000000002,5.5590000000000002,7.9219999999999997,5.5940000000000003,null,null,5.1319999999999997,6.7370000000000001,7.5839999999999996,7.681]
[null,308,null,null,null,null,null,null,null,null,null,null,null,null,"2016-04-27",10.99,6.4260000000000002,10.698,7.56,5.2969999999999997,7.5739999999999998,5.5490000000000004,8.1630000000000003,5.5309999999999997,null,null,5.1660000000000004,8.0449999999999999,7.5990000000000002,7.4569999999999999]
[null,309,null,null,null,null,null,null,null,null,null,null,null,null,"2016-04-26",11.029,6.4669999999999996,11.144,7.835,5.2859999999999996,7.6710000000000003,5.5389999999999997,8.2789999999999999,5.7409999999999997,null,null,5.1710000000000003,8.3480000000000008,7.7549999999999999,7.4409999999999998]
[null,310,null,null,null,null,null,null,null,null,null,null,null,null,"2016-04-22",11.760999999999999,6.3070000000000004,16.988,7.8220000000000001,5.2530000000000001,7.6689999999999996,5.4889999999999999,8.2780000000000005,5.7229999999999999,null,null,5.077,8.6809999999999992,7.96,7.3410000000000002]
[null,311,null,null,null,null,null,null,null,null,null,null,null,null,"2016-04-21",17.545999999999999,6.3470000000000004,16.984000000000002,7.8090000000000002,5.1859999999999999,7.6689999999999996,5.5090000000000003,8.2889999999999997,5.7320000000000002,null,null,5.0789999999999997,8.6289999999999996,8.1029999999999998,7.8479999999999999]
[null,312,null,null,null,null,null,null,null,null,null,null,null,null,"2016-04-20",20.190999999999999,6.327,16.98,7.86,5.109,7.9669999999999996,5.569,8.3529999999999998,5.8339999999999996,null,null,5.08,8.8940000000000001,8.07,7.6219999999999999]
[null,313,null,null,null,null,null,null,null,null,null,null,null,null,"2016-04-18",20.141999999999999,6.5279999999999996,16.988,8.2289999999999992,5.4320000000000004,8.2050000000000001,5.69,8.8089999999999993,5.9080000000000004,null,null,5.9020000000000001,9.1509999999999998,8.75,7.8490000000000002]
[null,314,null,null,null,null,null,null,null,null,null,null,null,null,"2016-04-14",21.199000000000002,6.5279999999999996,17.434999999999999,8.1509999999999998,5.3760000000000003,8.2159999999999993,5.6890000000000001,8.8079999999999998,5.8710000000000004,null,null,5.9029999999999996,9.3160000000000007,8.5830000000000002,8.7530000000000001]
[null,315,null,null,null,null,null,null,null,null,null,null,null,null,"2016-04-13",21.222000000000001,6.6079999999999997,17.48,8.2530000000000001,5.3760000000000003,8.1639999999999997,6.0279999999999996,8.8520000000000003,5.89]
[null,316,null,null,null,null,null,null,null,null,null,null,null,null,"2016-04-12",22.036999999999999,6.6879999999999997,18.007999999999999,8.4730000000000008,5.5110000000000001,8.8379999999999992,6.0369999999999999,8.9510000000000005,6.0960000000000001]
[null,317,null,null,null,null,null,null,null,null,null,null,null,null,"2016-04-11",22.061,6.6680000000000001,18.004000000000001,8.5120000000000005,5.5330000000000004,8.8629999999999995,6.0369999999999999,8.9619999999999997,6.1340000000000003]
[null,318,null,null,null,null,null,null,null,null,null,null,null,null,"2016-04-08",22.047000000000001,6.6479999999999997,18.274999999999999,8.6430000000000007,5.5330000000000004,8.8629999999999995,6.0369999999999999,9.1189999999999998,6.1909999999999998]
[null,319,null,null,null,null,null,null,null,null,null,null,null,null,"2016-04-07",22.45,6.6280000000000001,18.704000000000001,8.6959999999999997,5.601,8.7550000000000008,6.0579999999999998,9.1639999999999997,6.2]
[null,320,null,null,null,null,null,null,null,null,null,null,null,null,"2016-04-06",22.436,6.6479999999999997,18.698,8.7609999999999992,5.6230000000000002,8.702,6.0679999999999996,9.2100000000000009,6.181]
[null,321,null,null,null,null,null,null,null,null,null,null,null,null,"2016-04-05",22.395,6.7480000000000002,18.683,8.7859999999999996,5.6230000000000002,8.9109999999999996,6.0570000000000004,9.2420000000000009,6.2949999999999999]
[null,322,null,null,null,null,null,null,null,null,null,null,null,null,"2016-04-04",22.381,6.7080000000000002,18.678000000000001,8.7989999999999995,5.7590000000000003,8.8569999999999993,6.0469999999999997,9.2080000000000002,6.2759999999999998]
[null,{"$f":"B328+1","v":323},null,null,null,null,null,null,null,null,null,null,null,null,"2016-04-01",22.826000000000001,6.8280000000000003,18.724,8.7989999999999995,5.8390000000000004,9.2189999999999994,6.0670000000000002,9.1959999999999997,6.2750000000000004]
[null,324,null,null,null,null,null,null,null,null,null,null,null,null,"2016-03-31",22.85,6.8680000000000003,18.899999999999999,8.798,5.8620000000000001,9.2449999999999992,6.0570000000000004,9.1839999999999993,6.2939999999999996]
[null,325,null,null,null,null,null,null,null,null,null,null,null,null,"2016-03-30",23.029,6.8479999999999999,18.817,8.798,6.0819999999999999,9.2579999999999991,6.0880000000000001,9.2520000000000007,6.2939999999999996]
[null,326,null,null,null,null,null,null,null,null,null,null,null,null,"2016-03-29",22.986999999999998,6.8070000000000004,18.776,9.1180000000000003,6.0579999999999998,9.2680000000000007,6.1180000000000003,9.3420000000000005,6.3419999999999996]
[null,327,null,null,null,null,null,null,null,null,null,null,null,null,"2016-03-28",22.986999999999998,6.8070000000000004,18.802,9.01,6.0339999999999998,9.0380000000000003,6.0659999999999998,9.32,6.2750000000000004]
[null,328,null,null,null,null,null,null,null,null,null,null,null,null,"2016-03-24",22.972999999999999,6.8470000000000004,18.771000000000001,8.9420000000000002,6.0339999999999998,8.9700000000000006,6.0039999999999996,9.1370000000000005,6.274]
[null,329,null,null,null,null,null,null,null,null,null,null,null,null,"2016-03-23",22.92,6.274,18.765999999999998,8.5839999999999996,5.6440000000000001,8.9559999999999995,5.7389999999999999,8.9570000000000007,5.9809999999999999]
[null,330,null,null,null,null,null,null,null,null,null,null,null,null,"2016-03-22",22.945,6.2939999999999996,18.760999999999999,8.5969999999999995,5.6669999999999998,8.875,5.891,8.9670000000000005,5.9630000000000001]
[null,331,null,null,null,null,null,null,null,null,null,null,null,null,"2016-03-21",22.927,6.2949999999999999,18.920999999999999,8.6340000000000003,5.7,8.9109999999999996,5.9420000000000002,9.1340000000000003,6.0090000000000003]
[null,332,null,null,null,null,null,null,null,null,null,null,null,null,"2016-03-18",22.952000000000002,6.2949999999999999,18.916,8.8719999999999999,5.734,9.0030000000000001,5.9930000000000003,9.1110000000000007,6.0369999999999999]
[null,333,null,null,null,null,null,null,null,null,null,null,null,null,"2016-03-17",23.131,6.7270000000000003,18.911000000000001,9.2349999999999994,5.8479999999999999,9.2720000000000002,5.9930000000000003,9.6050000000000004,6.14]
[null,334,null,null,null,null,null,null,null,null,null,null,null,null,"2016-03-16",23.193999999999999,7.226,18.699000000000002,9.3979999999999997,5.9279999999999999,9.298,6.0129999999999999,9.6050000000000004,6.2060000000000004]
[null,335,null,null,null,null,null,null,null,null,null,null,null,null,"2016-03-15",23.385000000000002,7.2249999999999996,18.736000000000001,9.5340000000000007,5.9390000000000001,9.3089999999999993,6.0030000000000001,9.58,6.32]
[null,336,null,null,null,null,null,null,null,null,null,null,null,null,"2016-03-14",23.332000000000001,7.3250000000000002,18.731000000000002,9.6170000000000009,5.9619999999999997,9.3620000000000001,6.0540000000000003,9.9459999999999997,6.3490000000000002]
[null,337,null,null,null,null,null,null,null,null,null,null,null,null,"2016-03-11",23.279,7.4459999999999997,18.725999999999999,9.6720000000000006,5.9729999999999999,9.4710000000000001,6.1159999999999997,10.103,6.3680000000000003]
[null,338,null,null,null,null,null,null,null,null,null,null,null,null,"2016-03-10",23.303999999999998,7.9560000000000004,18.721,10.125,6.0069999999999997,9.8330000000000002,6.2830000000000004,10.102,6.5519999999999996]
[null,339,null,null,null,null,null,null,null,null,null,null,null,null,"2016-03-09",23.29,7.9969999999999999,18.716000000000001,10.124000000000001,6.0650000000000004,9.9740000000000002,6.3239999999999998,10.09,6.5810000000000004]
[null,340,null,null,null,null,null,null,null,null,null,null,null,null,"2016-03-08",23.248000000000001,7.9530000000000003,18.701000000000001,10.006,6.0990000000000002,9.9700000000000006,6.3970000000000002,10.003,6.6]
[null,341,null,null,null,null,null,null,null,null,null,null,null,null,"2016-03-07",22.207000000000001,7.89,18.643999999999998,9.9489999999999998,6.11,10.012,6.45,9.9420000000000002,6.6289999999999996]
[null,342,null,null,null,null,null,null,null,null,null,null,null,null,"2016-03-04",22.231000000000002,7.931,19.053000000000001,9.9480000000000004,6.2380000000000004,10.167999999999999,6.556,9.8940000000000001,6.7670000000000003]
[null,343,null,null,null,null,null,null,null,null,null,null,null,null,"2016-03-03",22.86,7.9909999999999997,19.047999999999998,9.8759999999999994,6.2370000000000001,10.167,6.7169999999999996,10.318,6.766]
[null,344,null,null,null,null,null,null,null,null,null,null,null,null,"2016-03-02",22.885000000000002,7.99,19.042999999999999,9.8469999999999995,6.2960000000000003,10.472,6.9569999999999999,9.7390000000000008,6.9059999999999997]
[null,345,null,null,null,null,null,null,null,null,null,null,null,null,"2016-03-01",22.844000000000001,8.1519999999999992,18.692,9.7460000000000004,6.3419999999999996,10.512,7.0439999999999996,9.6660000000000004,7.2190000000000003]
[null,346,null,null,null,null,null,null,null,null,null,null,null,null,"2016-02-29",23.291,8.9469999999999992,19.126999999999999,10.786,6.6379999999999999,10.510999999999999,7.54,10.513999999999999,7.25]
[null,347,null,null,null,null,null,null,null,null,null,null,null,null,"2016-02-26",23.277000000000001,9.7010000000000005,19.149000000000001,11.628,6.915,11.234999999999999,7.5170000000000003,11.569000000000001,7.6050000000000004]
[null,348,null,null,null,null,null,null,null,null,null,null,null,null,"2016-02-25",23.263999999999999,10.117000000000001,19.170000000000002,12.317,7.0869999999999997,11.218,7.5279999999999996,11.815,7.6040000000000001]
[null,349,null,null,null,null,null,null,null,null,null,null,null,null,"2016-02-24",23.082000000000001,9.98,19.132999999999999,11.545,7.0730000000000004,11.138,7.5149999999999997,11.648,7.625]
[null,350,null,null,null,null,null,null,null,null,null,null,null,null,"2016-02-23",22.965,9.7759999999999998,19.143999999999998,11.446999999999999,7.0220000000000002,10.784000000000001,7.5140000000000002,11.019,7.6449999999999996]
[null,351,null,null,null,null,null,null,null,null,null,null,null,null,"2016-02-22",22.724,9.4700000000000006,19.138999999999999,11.4,7.1079999999999997,10.752000000000001,7.5590000000000002,11.019,7.6870000000000003]
[null,352,null,null,null,null,null,null,null,null,null,null,null,null,"2016-02-19",22.56,9.468,19.134,11.26,7.194,10.661,7.7670000000000003,10.992000000000001,7.7290000000000001]
[null,353,null,null,null,null,null,null,null,null,null,null,null,null,"2016-02-18",22.545999999999999,9.0809999999999995,19.181999999999999,11.243,7.1929999999999996,10.645,7.931,10.914,7.6859999999999999]
[null,354,null,null,null,null,null,null,null,null,null,null,null,null,"2016-02-17",22.196999999999999,9.1430000000000007,19.177,11.272,7.2050000000000001,10.643000000000001,7.9180000000000001,10.913,7.8789999999999996]
[null,355,null,null,null,null,null,null,null,null,null,null,null,null,"2016-02-16",22.872,9.2439999999999998,19.266999999999999,11.298999999999999,7.5540000000000003,10.638999999999999,7.9160000000000004,10.911,7.9640000000000004]
[null,356,null,null,null,null,null,null,null,null,null,null,null,null,"2016-02-12",21.379000000000001,9.3070000000000004,19.052,11.084,7.6040000000000001,10.608000000000001,7.8570000000000002,10.884,8.0180000000000007]
[null,357,null,null,null,null,null,null,null,null,null,null,null,null,"2016-02-11",18.847000000000001,9.0709999999999997,19.047000000000001,10.901999999999999,7.6029999999999998,10.401,7.8330000000000002,10.692,8.0389999999999997]
[null,358,null,null,null,null,null,null,null,null,null,null,null,null,"2016-02-10",20.573,8.5670000000000002,17.613,10.531000000000001,7.577,10.268000000000001,7.8440000000000003,10.478,7.9619999999999997]
[null,359,null,null,null,null,null,null,null,null,null,null,null,null,"2016-02-09",17.009,8.8949999999999996,17.475000000000001,10.776999999999999,7.5609999999999999,10.263,7.5750000000000002,10.563000000000001,7.96]
[null,360,null,null,null,null,null,null,null,null,null,null,null,null,"2016-02-08",17.911999999999999,8.4369999999999994,16.489999999999998,10.555,7.548,10.276,7.4260000000000002,10.083,7.8730000000000002]
[null,361,null,null,null,null,null,null,null,null,null,null,null,null,"2016-02-05",16.715,8.6430000000000007,15.061999999999999,10.022,7.4969999999999999,9.8469999999999995,7.4139999999999997,10.082000000000001,7.4690000000000003]
[null,362,null,null,null,null,null,null,null,null,null,null,null,null,"2016-02-04",16.251999999999999,7.9870000000000001,14.744999999999999,9.9640000000000004,7.0739999999999998,9.8460000000000001,7.4029999999999996,10.081,7.468]
[null,363,null,null,null,null,null,null,null,null,null,null,null,null,"2016-02-03",15.473000000000001,7.7450000000000001,14.721,10.218999999999999,7.0490000000000004,9.859,7.3120000000000003,10.081,7.4370000000000003]
[null,364,null,null,null,null,null,null,null,null,null,null,null,null,"2016-02-02",15.102,7.7430000000000003,14.795,10.202,7.0469999999999997,9.8559999999999999,7.2770000000000001,10.128,7.4249999999999998]
[null,365,null,null,null,null,null,null,null,null,null,null,null,null,"2016-02-01",15.007999999999999,7.7430000000000003,14.709,9.7509999999999994,7.28,9.8539999999999992,7.4,9.6989999999999998,7.28]
[null,366,null,null,null,null,null,null,null,null,null,null,null,null,"2016-01-29",14.887,7.8220000000000001,14.747,9.7080000000000002,7.28,9.8529999999999998,7.57,9.6989999999999998,7.28]
[null,367,null,null,null,null,null,null,null,null,null,null,null,null,"2016-01-28",14.88,8.1219999999999999,14.661,10.1,7.2670000000000003,9.8800000000000008,7.57,9.9819999999999993,7.6020000000000003]
[null,368,null,null,null,null,null,null,null,null,null,null,null,null,"2016-01-27",14.958,8.4260000000000002,14.433,10.099,7.4029999999999996,10.423,7.569,10.077,7.6120000000000001]
[null,369,null,null,null,null,null,null,null,null,null,null,null,null,"2016-01-26",15.462999999999999,8.5259999999999998,14.004,10.097,7.4260000000000002,10.478999999999999,7.6479999999999997,10.112,7.6210000000000004]
[null,370,null,null,null,null,null,null,null,null,null,null,null,null,"2016-01-25",14.823,8.4019999999999992,14.041,10.097,7.4379999999999997,10.609,7.891,10.039,7.5890000000000004]
[null,371,null,null,null,null,null,null,null,null,null,null,null,null,"2016-01-22",14.816000000000001,8.3810000000000002,14.138,10.209,7.4630000000000001,10.622999999999999,8.02,10.491,7.6]
[null,372,null,null,null,null,null,null,null,null,null,null,null,null,"2016-01-21",12.73,8.8520000000000003,14.096,10.686,7.9850000000000003,10.621,8.1739999999999995,10.627000000000001,8.1150000000000002]
[null,373,null,null,null,null,null,null,null,null,null,null,null,null,"2016-01-20",13.122,8.8510000000000009,14.113,11.102,7.88,10.635,8.173,10.502000000000001,8.1150000000000002]
[null,374,null,null,null,null,null,null,null,null,null,null,null,null,"2016-01-19",12.577,8.6199999999999992,14.023999999999999,10.638,7.5720000000000001,10.631,7.899,10.462999999999999,8.1240000000000006]
[null,375,null,null,null,null,null,null,null,null,null,null,null,null,"2016-01-15",12.598000000000001,8.3949999999999996,14.002000000000001,10.535,7.5090000000000003,10.629,7.8049999999999997,10.474,7.9820000000000002]
[null,376,null,null,null,null,null,null,null,null,null,null,null,null,"2016-01-14",12.593,8.0120000000000005,13.94,10.146000000000001,7.383,9.9359999999999999,7.6310000000000002,9.94,7.5229999999999997]
[null,377,null,null,null,null,null,null,null,null,null,null,null,null,"2016-01-13",12.561,8.0510000000000002,13.897,10.004,7.32,9.4920000000000009,7.6420000000000003,9.9390000000000001,7.5019999999999998]
[null,378,null,null,null,null,null,null,null,null,null,null,null,null,"2016-01-12",12.488,8.0670000000000002,13.867000000000001,9.8889999999999993,7.3179999999999996,9.4879999999999995,7.4459999999999997,9.9369999999999994,7.4480000000000004]
[null,379,null,null,null,null,null,null,null,null,null,null,null,null,"2016-01-11",12.509,8.1669999999999998,13.864000000000001,9.8740000000000006,7.3170000000000002,9.6240000000000006,7.4459999999999997,9.9489999999999998,7.4059999999999997]
[null,380,null,null,null,null,null,null,null,null,null,null,null,null,"2016-01-08",12.659000000000001,8.2460000000000004,13.881,9.8740000000000006,7.3410000000000002,9.5950000000000006,7.3209999999999997,9.9359999999999999,7.4059999999999997]
[null,381,null,null,null,null,null,null,null,null,null,null,null,null,"2016-01-07",12.863,8.4670000000000005,13.644,9.8870000000000005,7.3650000000000002,9.8290000000000006,7.343,9.9480000000000004,7.4470000000000001]
[null,382,null,null,null,null,null,null,null,null,null,null,null,null,"2016-01-06",12.856999999999999,8.5259999999999998,13.295,9.8439999999999994,7.3769999999999998,9.5790000000000006,7.3760000000000003,9.9350000000000005,7.4880000000000004]
[null,383,null,null,null,null,null,null,null,null,null,null,null,null,"2016-01-05",12.971,8.7059999999999995,12.109,10.321,7.4370000000000003,9.5220000000000002,7.3860000000000001,10.161,7.5490000000000004]
[null,384,null,null,null,null,null,null,null,null,null,null,null,null,"2016-01-04",12.86,8.7859999999999996,11.321999999999999,10.292,7.4359999999999999,9.5609999999999999,7.5090000000000003,10.173,7.5590000000000002]
[null,385,null,null,null,null,null,null,null,null,null,null,null,null,"2015-12-31",11.877000000000001,8.48,11.734,10.064,7.2629999999999999,9.5470000000000006,7.407,10.112,7.58]
[null,386,null,null,null,null,null,null,null,null,null,null,null,null,"2015-12-30",11.247999999999999,8.4990000000000006,11.872999999999999,10.148,7.4349999999999996,9.6969999999999992,7.5650000000000004,10.112,7.58]
[null,null,null,null,null,null,null,null,null,null,null,null,null,null,"2015-12-29",10.9,9.0079999999999991,12.172000000000001,10.204000000000001,7.4969999999999999,9.7230000000000008,7.7009999999999996,10.122999999999999,7.5789999999999997]
[null,null,null,null,null,null,null,null,null,null,null,null,null,null,"2015-12-28",10.791,9.0239999999999991,12.673,10.201000000000001,7.47,9.734,7.7450000000000001,10.134,7.8419999999999996]
[null,null,null,null,null,null,null,null,null,null,null,null,null,null,"2015-12-24",10.57,9.0640000000000001,12.689,10.214,7.6319999999999997,9.7189999999999994,7.7220000000000004,10.169,7.8739999999999997]
[null,null,null,null,null,null,null,null,null,null,null,null,null,null,"2015-12-23",10.566000000000001,9.1240000000000006,12.724,10.228,7.6559999999999997,9.7729999999999997,7.8250000000000002,10.205,7.9059999999999997]
[null,null,null,null,null,null,null,null,null,null,null,null,null,null,"2015-12-22",10.538,9.2669999999999995,12.356999999999999,10.227,7.6929999999999996,9.7720000000000002,7.8710000000000004,10.253,7.97]
[null,null,null,null,null,null,null,null,null,null,null,null,null,null,"2015-12-21",10.808999999999999,9.3019999999999996,12.223000000000001,10.238,7.7030000000000003,9.7680000000000007,7.8680000000000003,10.298999999999999,7.9889999999999999]
[null,null,null,null,null,null,null,null,null,null,null,null,null,null,"2015-12-18",10.637,9.26,10.131,10.28,7.7279999999999998,9.5609999999999999,7.89,10.25,8.032]
[null,null,null,null,null,null,null,null,null,null,null,null,null,null,"2015-12-17",10.680999999999999,9.1760000000000002,10.614000000000001,9.8580000000000005,7.7519999999999998,9.4640000000000004,7.9130000000000003,9.8439999999999994,8.032]
[null,null,null,null,null,null,null,null,null,null,null,null,null,null,"2015-12-16",10.965999999999999,9.2149999999999999,9.7360000000000007,9.7750000000000004,7.8659999999999997,9.4770000000000003,7.9240000000000004,9.8439999999999994,8.0310000000000006]
[null,null,null,null,null,null,null,null,null,null,null,null,null,null,"2015-12-15",11.367000000000001,9.3970000000000002,10.237,10.036,7.9909999999999997,9.6370000000000005,8.0039999999999996,10.151,8.0190000000000001]
[null,null,null,null,null,null,null,null,null,null,null,null,null,null,"2015-12-14",11.118,9.9390000000000001,10.59,10.648,8.1460000000000008,8.8379999999999992,8.0850000000000009,10.553000000000001,8.359]
[null,null,null,null,null,null,null,null,null,null,null,null,null,null,"2015-12-11",10.8,9.7479999999999993,9.9489999999999998,10.175000000000001,7.4720000000000004,8.8369999999999997,7.77,10.368,8.4139999999999997]
[null,null,null,null,null,null,null,null,null,null,null,null,null,null,"2015-12-10",9.2360000000000007,8.86,10.702,9.7289999999999992,7.41,8.8360000000000003,7.5529999999999999,9.6319999999999997,7.6130000000000004]
[null,null,null,null,null,null,null,null,null,null,null,null,null,null,"2015-12-09",9.3010000000000002,9.2870000000000008,10.766,9.5920000000000005,7.2249999999999996,8.8360000000000003,7.6429999999999998,9.5389999999999997,7.76]
[null,null,null,null,null,null,null,null,null,null,null,null,null,null,"2015-12-08",7.8840000000000003,9.593,10.614000000000001,10.613,7.8710000000000004,8.6029999999999998,7.6529999999999996,10.340999999999999,7.78]
[null,null,null,null,null,null,null,null,null,null,null,null,null,null,"2015-12-07",7.7750000000000004,9.5289999999999999,9.3260000000000005,10.526,7.6050000000000004,8.6020000000000003,7.5049999999999999,10.304,7.7480000000000002]
[null,null,null,null,null,null,null,null,null,null,null,null,null,null,"2015-12-04",7.7519999999999998,9.1359999999999992,9.07,9.8350000000000009,7.3079999999999998,8.6010000000000009,6.7190000000000003,9.7569999999999997,7.3419999999999996]
[null,null,null,null,null,null,null,null,null,null,null,null,null,null,"2015-12-03",7.6870000000000003,7.6520000000000001,9.0690000000000008,9.1880000000000006,6.9089999999999998,8.5749999999999993,6.8890000000000002,9.2100000000000009,7.1289999999999996]
[null,null,null,null,null,null,null,null,null,null,null,null,null,null,"2015-12-02",7.8760000000000003,7.5549999999999997,9.0679999999999996,8.2780000000000005,6.5789999999999997,7.56,6.3949999999999996,8.4220000000000006,6.6]
[null,null,null,null,null,null,null,null,null,null,null,null,null,null,"2015-12-01",9.9309999999999992,7.2320000000000002,8.9179999999999993,8.0190000000000001,6.359,7.5590000000000002,6.4770000000000003,8.3390000000000004,6.6280000000000001]
[null,null,null,null,null,null,null,null,null,null,null,null,null,null,"2015-11-30",8.5809999999999995,7.2510000000000003,8.9320000000000004,8.0060000000000002,6.5780000000000003,7.5819999999999999,6.56,8.2970000000000006,6.6760000000000002]
[null,null,null,null,null,null,null,null,null,null,null,null,null,null,"2015-11-27",8.5340000000000007,7.2320000000000002,8.9160000000000004,8.0310000000000006,6.5890000000000004,7.5819999999999999,6.58,8.2149999999999999,6.7140000000000004]
[null,null,null,null,null,null,null,null,null,null,null,null,null,null,"2015-11-25",8.5760000000000005,7.25,8.8859999999999992,8.0180000000000007,6.6,7.569,6.58,8.2040000000000006,6.7140000000000004]
[null,null,null,null,null,null,null,null,null,null,null,null,null,null,"2015-11-24",8.4420000000000002,7.25,8.9,8.0180000000000007,6.5880000000000001,7.5570000000000004,6.58,8.1630000000000003,6.7039999999999997]
[null,null,null,null,null,null,null,null,null,null,null,null,null,null,"2015-11-23",8.0269999999999992,7.2679999999999998,8.9269999999999996,7.9690000000000003,6.4260000000000002,7.532,6.5789999999999997,8.173,6.6749999999999998]
[null,null,null,null,null,null,null,null,null,null,null,null,null,null,"2015-11-20",7.9589999999999996,7.2859999999999996,8.8670000000000009,7.8360000000000003,6.4249999999999998,7.5309999999999997,6.5570000000000004,7.9909999999999997,6.665]
[null,null,null,null,null,null,null,null,null,null,null,null,null,null,"2015-11-19",7.8079999999999998,7.2110000000000003,8.8659999999999997,7.8360000000000003,6.4249999999999998,7.4249999999999998,6.5570000000000004,7.9710000000000001,6.6639999999999997]
[null,null,null,null,null,null,null,null,null,null,null,null,null,null,"2015-11-18",7.7220000000000004,7.3419999999999996,8.8070000000000004,7.7880000000000003,6.4240000000000004,7.2969999999999997,6.5570000000000004,8.0210000000000008,6.6550000000000002]
[null,null,null,null,null,null,null,null,null,null,null,null,null,null,"2015-11-17",7.6959999999999997,7.51,8.4719999999999995,7.8230000000000004,6.423,7.3070000000000004,6.577,8.0210000000000008,6.673]
[null,null,null,null,null,null,null,null,null,null,null,null,null,null,"2015-11-16",7.7779999999999996,7.6989999999999998,8.4149999999999991,8.1140000000000008,6.3890000000000002,7.516,6.5759999999999996,8.2140000000000004,6.6829999999999998]
[null,null,null,null,null,null,null,null,null,null,null,null,null,null,"2015-11-13",7.6289999999999996,7.718,8.3710000000000004,8.09,6.3319999999999999,7.3529999999999998,6.5549999999999997,8.234,6.6440000000000001]
[null,null,null,null,null,null,null,null,null,null,null,null,null,null,"2015-11-12",7.8369999999999997,7.49,8.3569999999999993,8.077,6.2969999999999997,7.2949999999999999,6.452,8.173,6.6340000000000003]
[null,null,null,null,null,null,null,null,null,null,null,null,null,null,"2015-11-10",7.3970000000000002,7.117,8.3140000000000001,7.883,6.173,7.2830000000000004,6.2670000000000003,7.9,6.4160000000000004]
[null,null,null,null,null,null,null,null,null,null,null,null,null,null,"2015-11-09",7.2889999999999997,7.024,7.8239999999999998,7.5970000000000004,6.1719999999999997,6.9630000000000001,6.1550000000000002,7.851,6.4349999999999996]
[null,null,null,null,null,null,null,null,null,null,null,null,null,null,"2015-11-06",7.2880000000000003,6.4770000000000003,7.8230000000000004,7.27,6.1719999999999997,6.8179999999999996,6.165,7.673,6.4340000000000002]
[null,null,null,null,null,null,null,null,null,null,null,null,null,null,"2015-11-05",7.2640000000000002,6.4420000000000002,7.8230000000000004,7.27,5.9930000000000003,6.718,6.165,7.6050000000000004,6.2850000000000001]
[null,null,null,null,null,null,null,null,null,null,null,null,null,null,"2015-11-04",7.2830000000000004,6.4420000000000002,7.8220000000000001,7.2359999999999998,5.9930000000000003,6.718,6.165,7.46,6.266]
[null,null,null,null,null,null,null,null,null,null,null,null,null,null,"2015-11-03",7.2990000000000004,6.6769999999999996,7.78,7.2480000000000002,6.0810000000000004,6.9610000000000003,6.2039999999999997,7.5279999999999996,6.266]
[null,null,null,null,null,null,null,null,null,null,null,null,null,null,"2015-11-02",7.298,6.6769999999999996,7.6849999999999996,7.3049999999999997,6.1369999999999996,6.9939999999999998,6.2140000000000004,7.5960000000000001,6.3220000000000001]
[null,null,null,null,null,null,null,null,null,null,null,null,null,null,"2015-10-30",7.3170000000000002,6.6950000000000003,7.3339999999999996,7.3049999999999997,6.17,6.9489999999999998,6.2850000000000001,7.6050000000000004,6.4710000000000001]
[null,null,null,null,null,null,null,null,null,null,null,null,null,null,"2015-10-29",7.3150000000000004,6.641,7.9859999999999998,7.3520000000000003,6.1360000000000001,6.7489999999999997,6.2949999999999999,7.6150000000000002,6.4710000000000001]
[null,null,null,null,null,null,null,null,null,null,null,null,null,null,"2015-10-28",7.3140000000000001,6.968,7.9029999999999996,7.3630000000000004,6.2930000000000001,6.5629999999999997,6.3150000000000004,7.6440000000000001,6.5270000000000001]
[null,null,null,null,null,null,null,null,null,null,null,null,null,null,"2015-10-27",7.3109999999999999,6.9859999999999998,7.9020000000000001,7.5970000000000004,6.2140000000000004,6.9809999999999999,6.3550000000000004,7.8209999999999997,6.5270000000000001]
[null,null,null,null,null,null,null,null,null,null,null,null,null,null,"2015-10-26",7.35,6.0730000000000004,7.3739999999999997,7.1449999999999996,5.9580000000000002,6.8470000000000004,6.0529999999999999,7.1669999999999998,6.3490000000000002]
[null,null,null,null,null,null,null,null,null,null,null,null,null,null,"2015-10-23",7.3890000000000002,5.6040000000000001,7.3730000000000002,6.64,5.7830000000000004,6.5620000000000003,6.0430000000000001,7.0179999999999998,6.21]
[null,null,null,null,null,null,null,null,null,null,null,null,null,null,"2015-10-22",7.3879999999999999,5.6050000000000004,7.3470000000000004,6.63,5.8049999999999997,6.6050000000000004,6.1630000000000003,7.0460000000000003,6.21]
[null,null,null,null,null,null,null,null,null,null,null,null,null,null,"2015-10-21",7.3860000000000001,5.6050000000000004,7.2930000000000001,6.6630000000000003,5.8150000000000004,6.6269999999999998,6.1619999999999999,7.0460000000000003,6.2370000000000001]
[null,null,null,null,null,null,null,null,null,null,null,null,null,null,"2015-10-20",7.4219999999999997,5.8659999999999997,7.28,6.7629999999999999,5.9240000000000004,6.6589999999999998,6.1619999999999999,7.1109999999999998,6.173]
[null,null,null,null,null,null,null,null,null,null,null,null,null,null,"2015-10-19",7.4210000000000003,5.9359999999999999,7.28,6.7960000000000003,6.0229999999999997,6.6689999999999996,6.1520000000000001,7.1390000000000002,6.2649999999999997]
[null,null,null,null,null,null,null,null,null,null,null,null,null,null,"2015-10-16",7.4189999999999996,5.9539999999999997,7.2930000000000001,6.7850000000000001,6.0670000000000002,6.6689999999999996,6.1820000000000004,7.1769999999999996,6.2549999999999999]
[null,null,null,null,null,null,null,null,null,null,null,null,null,null,"2015-10-15",7.3769999999999998,5.9370000000000003,7.0830000000000002,6.7850000000000001,6.0890000000000004,6.6580000000000004,6.2519999999999998,7.2050000000000001,6.4039999999999999]
[null,null,null,null,null,null,null,null,null,null,null,null,null,null,"2015-10-14",7.375,5.8680000000000003,7.0960000000000001,6.7859999999999996,6.0449999999999999,6.6580000000000004,6.2519999999999998,7.2050000000000001,6.274]
[null,null,null,null,null,null,null,null,null,null,null,null,null,null,"2015-10-13",7.3710000000000004,5.835,7.1219999999999999,6.7640000000000002,6.0549999999999997,6.657,6.2409999999999997,7.2050000000000001,6.2549999999999999]
[null,null,null,null,null,null,null,null,null,null,null,null,null,null,"2015-10-09",7.41,6.008,7.1349999999999998,6.72,6.077,6.6349999999999998,6.2809999999999997,7.28,6.2]
[null,null,null,null,null,null,null,null,null,null,null,null,null,null,"2015-10-08",7.53,6.1479999999999997,7.2130000000000001,6.8639999999999999,6.0990000000000002,6.766,6.2910000000000004,7.28,6.3659999999999997]
[null,null,null,null,null,null,null,null,null,null,null,null,null,null,"2015-10-07",7.6920000000000002,6.2,7.3449999999999998,7.2130000000000001,6.0990000000000002,6.7649999999999997,6.24,7.29,6.4779999999999998]
[null,null,null,null,null,null,null,null,null,null,null,null,null,null,"2015-10-06",7.6849999999999996,6.5350000000000001,7.3440000000000003,7.2359999999999998,6.3209999999999997,7.0860000000000003,6.5030000000000001,7.633,6.609]
[null,null,null,null,null,null,null,null,null,null,null,null,null,null,"2015-10-05",7.5209999999999999,6.766,7.37,7.4429999999999996,6.4560000000000004,7.2770000000000001,6.5650000000000004,7.6429999999999998,6.6459999999999999]
[null,null,null,null,null,null,null,null,null,null,null,null,null,null,"2015-10-02",7.4790000000000001,6.8550000000000004,7.3959999999999999,7.6870000000000003,6.6379999999999999,7.2649999999999997,6.5750000000000002,7.77,6.7320000000000002]
[null,null,null,null,null,null,null,null,null,null,null,null,null,null,"2015-10-01",7.4160000000000004,6.641,7.37,7.3849999999999998,6.6829999999999998,7.1180000000000003,6.5640000000000001,7.508,6.7130000000000001]
[null,null,null,null,null,null,null,null,null,null,null,null,null,null,"2015-09-30",7.2140000000000004,6.7119999999999997,7.2770000000000001,7.1909999999999998,6.6479999999999997,7.0730000000000004,6.5229999999999997,7.508,6.7220000000000004]
[null,null,null,null,null,null,null,null,null,null,null,null,null,null,"2015-09-29",7.21,6.8010000000000002,7.133,7.4420000000000002,6.67,6.85,6.4509999999999996,7.6820000000000004,6.8170000000000002]
[null,null,null,null,null,null,null,null,null,null,null,null,null,null,"2015-09-28",7.2279999999999998,6.819,7.2889999999999997,7.431,6.6120000000000001,6.8609999999999998,6.43,7.6429999999999998,6.6539999999999999]
[null,null,null,null,null,null,null,null,null,null,null,null,null,null,"2015-09-25",7.2270000000000003,6.1870000000000003,7.2110000000000003,7.1340000000000003,6.4409999999999998,6.74,6.42,7.4320000000000004,6.55]
[null,null,null,null,null,null,null,null,null,null,null,null,null,null,"2015-09-24",7.226,5.9630000000000001,7.1970000000000001,7.1230000000000002,6.43,6.7830000000000004,6.359,7.3470000000000004,6.54]
[null,null,null,null,null,null,null,null,null,null,null,null,null,null,"2015-09-23",7.2240000000000002,5.9290000000000003,7.2229999999999999,6.899,6.2949999999999999,6.5659999999999998,6.2480000000000002,7.2530000000000001,6.4279999999999999]
[null,null,null,null,null,null,null,null,null,null,null,null,null,null,"2015-09-22",7.24,5.8959999999999999,7.1710000000000003,6.899,6.2050000000000001,6.5549999999999997,6.2270000000000003,7.2430000000000003,6.4]
[null,null,null,null,null,null,null,null,null,null,null,null,null,null,"2015-09-21",7.298,5.7939999999999996,7.157,6.5270000000000001,6.0389999999999997,6.4790000000000001,6.1970000000000001,6.9660000000000002,6.234]
[null,null,null,null,null,null,null,null,null,null,null,null,null,null,"2015-09-18",7.2569999999999997,5.7949999999999999,7.1959999999999997,6.5270000000000001,6.0060000000000002,6.4370000000000003,6.1669999999999998,6.9480000000000004,6.2329999999999997]
[null,null,null,null,null,null,null,null,null,null,null,null,null,null,"2015-09-17",7.3550000000000004,5.7949999999999999,7.2350000000000003,6.5270000000000001,5.984,6.3940000000000001,6.157,6.9029999999999996,6.2329999999999997]
[null,null,null,null,null,null,null,null,null,null,null,null,null,null,"2015-09-16",7.3540000000000001,5.7960000000000003,7.2610000000000001,6.5279999999999996,5.984,6.383,6.1669999999999998,6.8940000000000001,6.2329999999999997]
[null,null,null,null,null,null,null,null,null,null,null,null,null,null,"2015-09-15",7.33,5.7469999999999999,7.274,6.55,5.9939999999999998,6.34,6.1760000000000002,6.867,6.2329999999999997]
[null,null,null,null,null,null,null,null,null,null,null,null,null,null,"2015-09-14",7.3280000000000003,5.6630000000000003,7.234,6.4530000000000003,6.016,6.351,6.1660000000000004,6.867,6.26]
[null,null,null,null,null,null,null,null,null,null,null,null,null,null,"2015-09-11",7.327,5.5970000000000004,7.1429999999999998,6.4210000000000003,5.9939999999999998,6.351,6.1660000000000004,6.8490000000000002,6.2050000000000001]
[null,null,null,null,null,null,null,null,null,null,null,null,null,null,"2015-09-10",6.9119999999999999,5.5970000000000004,6.9119999999999999,6.3680000000000003,6.0149999999999997,6.35,5.9880000000000004,6.8129999999999997,6.2050000000000001]
[null,null,null,null,null,null,null,null,null,null,null,null,null,null,"2015-09-09",7.1660000000000004,5.5979999999999999,7.2859999999999996,6.3680000000000003,6.0259999999999998,6.35,5.9880000000000004,6.8140000000000001,6.1870000000000003]
[null,null,null,null,null,null,null,null,null,null,null,null,null,null,"2015-09-08",7.1619999999999999,5.6669999999999998,7.4690000000000003,6.508,5.9489999999999998,6.4130000000000003,5.9589999999999996,6.9409999999999998,6.1859999999999999]
[null,null,null,null,null,null,null,null,null,null,null,null,null,null,"2015-09-04",7.3579999999999997,5.7009999999999996,7.194,6.5190000000000001,5.9379999999999997,6.3179999999999996,6.056,6.9409999999999998,6.1859999999999999]
[null,null,null,null,null,null,null,null,null,null,null,null,null,null,"2015-09-03",7.3170000000000002,5.7009999999999996,7.181,6.52,5.9379999999999997,6.3079999999999998,6.056,6.9409999999999998,6.1859999999999999]
[null,null,null,null,null,null,null,null,null,null,null,null,null,null,"2015-09-02",7.335,5.702,7.2460000000000004,6.53,5.9480000000000004,6.3920000000000003,6.056,6.9409999999999998,6.1859999999999999]
[null,null,null,null,null,null,null,null,null,null,null,null,null,null,"2015-09-01",7.29,5.7039999999999997,7.077,6.5419999999999998,5.9909999999999997,6.4969999999999999,6.0650000000000004,6.9409999999999998,6.2039999999999997]
[null,null,null,null,null,null,null,null,null,null,null,null,null,null,"2015-08-31",7.3090000000000002,5.6879999999999997,7.077,6.585,5.9370000000000003,6.55,6.0359999999999996,6.9960000000000004,6.2309999999999999]
[null,null,null,null,null,null,null,null,null,null,null,null,null,null,"2015-08-28",7.3070000000000004,6.008,7.1280000000000001,7.3380000000000001,5.9470000000000001,6.6680000000000001,6.0359999999999996,7.1059999999999999,6.2220000000000004]
[null,null,null,null,null,null,null,null,null,null,null,null,null,null,"2015-08-27",7.306,6.008,7.2190000000000003,7.3380000000000001,6.0229999999999997,6.6360000000000001,6.0449999999999999,7.2910000000000004,6.2670000000000003]
[null,null,null,null,null,null,null,null,null,null,null,null,null,null,"2015-08-26",7.3449999999999998,6.1779999999999999,7.0380000000000003,7.327,6.056,6.6890000000000001,6.2329999999999997,7.31,6.3129999999999997]
[null,null,null,null,null,null,null,null,null,null,null,null,null,null,"2015-08-25",6.9119999999999999,6.452,6.4349999999999996,7.327,6.0880000000000001,6.71,6.2519999999999998,7.31,6.3769999999999998]
[null,null,null,null,null,null,null,null,null,null,null,null,null,null,"2015-08-24",7.34,6.6079999999999997,6.734,7.4059999999999997,6.2960000000000003,6.7320000000000002,6.2519999999999998,7.68,6.6180000000000003]
[null,null,null,null,null,null,null,null,null,null,null,null,null,null,"2015-08-21",7.0650000000000004,6.6079999999999997,6.7089999999999996,7.27,6.1859999999999999,6.7309999999999999,6.2519999999999998,7.5170000000000003,6.5339999999999998]
[null,null,null,null,null,null,null,null,null,null,null,null,null,null,"2015-08-20",6.9660000000000002,6.4530000000000003,6.6719999999999997,7.024,6.218,6.72,6.2519999999999998,7.5369999999999999,6.58]
[null,null,null,null,null,null,null,null,null,null,null,null,null,null,"2015-08-19",6.9649999999999999,6.5039999999999996,6.6719999999999997,7.4290000000000003,6.1849999999999996,6.7519999999999998,6.282,7.5650000000000004,6.58]

{"sheet":"calc","index":1,"n_rows":215,"n_cols":20,"rows_kept":215,"cut":false,"hidden":false,"merged":[]}
[]
[null,"TAB: NELSON-SIEGEL TERM STRUCTURE CALCULATOR"]
[null,null,null,null,null,null,null,null,null,null,null,null,null,null,null,"Total number of observations",null,null,null,{"$f":"COUNT(data!O7:O1001)","v":476}]
[null,"A. Yield Sample"]
[null,"Maturity",{"$f":"data!P6","v":1.8879999999999999},{"$f":"data!Q6","v":2.1859999999999999},{"$f":"data!R6","v":4.1449999999999996},{"$f":"data!S6","v":5.1920000000000002},{"$f":"data!T6","v":5.3970000000000002},{"$f":"data!U6","v":5.7729999999999997},{"$f":"data!V6","v":6.444},{"$f":"data!W6","v":7.1950000000000003},{"$f":"data!X6","v":7.4},null,null,null,null,"Date",null,"Row index"]
[null,"Yields actual (end)",{"$f":"OFFSET(data!P6, $R$6, 0)","v":5.9059999999999997},{"$f":"OFFSET(data!Q6, $R$6, 0)","v":4.93},{"$f":"OFFSET(data!R6, $R$6, 0)","v":7.5490000000000004},{"$f":"OFFSET(data!S6, $R$6, 0)","v":6.6130000000000004},{"$f":"OFFSET(data!T6, $R$6, 0)","v":6.3680000000000003},{"$f":"OFFSET(data!U6, $R$6, 0)","v":6.1539999999999999},{"$f":"OFFSET(data!V6, $R$6, 0)","v":6.7489999999999997},{"$f":"OFFSET(data!W6, $R$6, 0)","v":7.0629999999999997},{"$f":"OFFSET(data!X6, $R$6, 0)","v":7.1050000000000004},null,null,null,null,"End date",{"$f":"data!O7","v":"2017-08-29"},{"$f":"MATCH(Q6, data!$O$7:$O$501, 0)","v":1},"width",{"$f":"COUNT(C5:N5)","v":9}]
[null,"Yields actual (start)",{"$f":"OFFSET(data!P6, $R$7, 0)","v":7.0730000000000004},{"$f":"OFFSET(data!Q6, $R$7, 0)","v":5.6859999999999999},{"$f":"OFFSET(data!R6, $R$7, 0)","v":7.9989999999999997},{"$f":"OFFSET(data!S6, $R$7, 0)","v":7.3869999999999996},{"$f":"OFFSET(data!T6, $R$7, 0)","v":5.1989999999999998},{"$f":"OFFSET(data!U6, $R$7, 0)","v":7.524},{"$f":"OFFSET(data!V6, $R$7, 0)","v":5.4980000000000002},{"$f":"OFFSET(data!W6, $R$7, 0)","v":7.74},{"$f":"OFFSET(data!X6, $R$7, 0)","v":5.8470000000000004},null,null,null,null,"Start date",{"$f":"OFFSET(data!O6, MIN(T3, R7), 0)","v":"2016-10-07"},200,"height",{"$f":"R7-R6+1","v":200}]
[]
[null,"B. Calculator:",{"$f":"_xll.AC.data.map(P10, Q10)","v":"java.util.LinkedHashMap@Sun, 24 Jun 2018 13:35:01:417..2124750325735269764"},null,null,null,null,null,null,null,"  ","Available methods",null,"α",null,"Selected parameters",null,"Parameter description"]
[null,null,{"$f":"_xll.AC.finance.irb.ts.calcTSN(\"NS\", OFFSET(C5, 0, 0, 1, T6), OFFSET(data!$P$6, R6, 0, T7, T6), C9)","v":"jeconkr.finance.FSTP.lib.model.yts.calculator.CalculatorNelsonSiegelN@Sun, 24 Jun 2018 21:46:26:450..7813956265929901171"},null,null,null,null,null,null,null,"  ",{"$f":"config!B9","v":"Diebold-Li"},null,{"$f":"1/1.37","v":0.72992700729927007},null,"method",{"$f":"L10","v":"Diebold-Li"},"Term structure estimation method"]
[null,null,null,null,null,null,null,null,null,null,"  ",{"$f":"config!B10","v":"Fabozzi"},null,{"$f":"1/3","v":0.33333333333333331}]
[null,null,null,null,null,null,null,null,null,null,null,{"$f":"config!B11","v":"Nelson-Siegel"},null,"[0, 1]"]
[null,"C. Output",null,null,null,null,null,null,null,null,null,{"$f":"config!B12","v":"Ridge-OLS"},null,"[0, 1]"]
[null,null,null,null,null,null,null,null,null,null,null,null,null,null,null,null,"R2(α)"]
[null,"Coefficients","α","β0","β1","β2",null,null,null,null,null,null,null,null,null,null,"Date","Row Index","Sample Index","R2(α)"]
[null,"Date (end)",{"$f":"TS!C5","v":0.72992700729927007},{"$f":"TS!D5","v":16.128755233257834},{"$f":"TS!E5","v":28.534437583526596},{"$f":"TS!F5","v":-77.833498547784984},null,null,null,null,null,null,null,null,null,null,{"$f":"IF(R16=\"\", \"\", OFFSET(data!$C$6, R16, 0))","v":"2015-09-30"},{"$f":"R6","v":1},{"$f":"_xll.AC.finance.irb.ts._get(C10, config!D11, 0)","v":0.72992700729927007},0.99980798571425233]
[null,"Date (start)",{"$f":"OFFSET(TS!C4, $R$7, 0)","v":0.72992700729927007},{"$f":"OFFSET(TS!D4, $R$7, 0)","v":16.6319832369918},{"$f":"OFFSET(TS!E4, $R$7, 0)","v":38.464621593011543},{"$f":"OFFSET(TS!F4, $R$7, 0)","v":-90.701814691536129},null,null,null,null,null,null,null,null,null,null,{"$f":"IF(R17=\"\", \"\", OFFSET(data!$C$6, R17, 0))","v":"2015-06-30"},{"$f":"IF(R16=\"\", \"\", IF(R16+1>$R$7, \"\", R16+1))","v":2},0.72992700729927007,0.99980798571425233]
[null,null,null,null,null,null,null,null,null,null,null,null,null,null,null,null,{"$f":"IF(R18=\"\", \"\", OFFSET(data!$C$6, R18, 0))","v":"2015-03-31"},{"$f":"IF(R17=\"\", \"\", IF(R17+1>$R$7, \"\", R17+1))","v":3},0.72992700729927007,0.99980798571425233]
[null,"Fitted yields",null,null,null,null,null,null,null,null,null,null,null,null,null,null,{"$f":"IF(R19=\"\", \"\", OFFSET(data!$C$6, R19, 0))","v":"2014-12-31"},4,0.72992700729927007,0.99980798571425233]
[null,{"$f":"B5","v":"Maturity"},{"$f":"C5","v":1.8879999999999999},{"$f":"D5","v":2.1859999999999999},4.1449999999999996,5.1920000000000002,5.3970000000000002,5.7729999999999997,6.444,7.1950000000000003,7.4,null,null,null,null,null,{"$f":"IF(R20=\"\", \"\", OFFSET(data!$C$6, R20, 0))","v":"2014-09-30"},5,0.72992700729927007,0.99980798571425233]
[null,"Yields fitted (end)",{"$f":"fitted!D6","v":5.8910416511704184},{"$f":"fitted!E6","v":4.9336987644514529},{"$f":"fitted!F6","v":7.5329584996304515},{"$f":"fitted!G6","v":6.620876356361924},{"$f":"fitted!H6","v":6.3698132999467116},{"$f":"fitted!I6","v":6.1483519459552838},{"$f":"fitted!J6","v":6.7585389342581461},{"$f":"fitted!K6","v":7.0703644125342127},{"$f":"fitted!L6","v":7.1113561354961448},null,null,null,null,null,{"$f":"IF(R21=\"\", \"\", OFFSET(data!$C$6, R21, 0))","v":"2014-06-30"},6,0.72992700729927007,0.99980798571425233]
[null,"Yields fitted (start)",{"$f":"OFFSET(fitted!D5, $R$7, 0)","v":7.0912090440609461},{"$f":"OFFSET(fitted!E5, $R$7, 0)","v":5.6734952908787051},{"$f":"OFFSET(fitted!F5, $R$7, 0)","v":7.9754886241673884},{"$f":"OFFSET(fitted!G5, $R$7, 0)","v":7.4010978269037508},{"$f":"OFFSET(fitted!H5, $R$7, 0)","v":5.2158226769505944},{"$f":"OFFSET(fitted!I5, $R$7, 0)","v":7.5332770125405304},{"$f":"OFFSET(fitted!J5, $R$7, 0)","v":5.4903121286164627},{"$f":"OFFSET(fitted!K5, $R$7, 0)","v":7.7375619422424489},{"$f":"OFFSET(fitted!L5, $R$7, 0)","v":5.8347354542476992},null,null,null,null,null,{"$f":"IF(R22=\"\", \"\", OFFSET(data!$C$6, R22, 0))","v":"2014-03-31"},7,0.72992700729927007,0.99980798571425233]
[null,null,null,null,null,null,null,null,null,null,null,null,null,null,null,null,{"$f":"IF(R23=\"\", \"\", OFFSET(data!$C$6, R23, 0))","v":"2013-12-31"},8,0.72992700729927007,0.99980798571425233]
[null,"Goodness of fit",null,null,null,null,null,null,null,null,null,null,null,null,null,null,{"$f":"IF(R24=\"\", \"\", OFFSET(data!$C$6, R24, 0))","v":"2013-09-30"},9,0.72992700729927007,0.99980798571425233]
[null,{"$f":"B20","v":"Maturity"},{"$f":"C20","v":1.8879999999999999},{"$f":"D20","v":2.1859999999999999},4.1449999999999996,5.1920000000000002,5.3970000000000002,5.7729999999999997,6.444,7.1950000000000003,7.4,null,null,"Total",null,null,{"$f":"IF(R25=\"\", \"\", OFFSET(data!$C$6, R25, 0))","v":"2013-06-30"},10,0.72992700729927007,0.99980798571425233]
[null,"Δ Yield (end)",{"$f":"C21-C6","v":-1.4958348829581247E-2},3.6987644514532292E-3,-1.6041500369548878E-2,7.87635636192352E-3,1.8132999467113109E-3,-5.6480540447161331E-3,9.5389342581464476E-3,7.3644125342129385E-3,6.3561354961443328E-3,null,null,{"$f":"SQRT(SUMPRODUCT(C26:M26, C26:M26))","v":2.7885742776739057E-2},null,null,{"$f":"IF(R26=\"\", \"\", OFFSET(data!$C$6, R26, 0))","v":"2013-03-31"},11,0.72992700729927007,0.99980798571425233]
[null,"Δ Yield (start)",{"$f":"C22-C7","v":1.82090440609457E-2},{"$f":"D22-D7","v":-1.2504709121294866E-2},-2.3511375832611314E-2,1.4097826903751276E-2,1.6822676950594584E-2,9.2770125405303716E-3,-7.6878713835375478E-3,-2.4380577575513485E-3,-1.2264545752301181E-2,null,null,{"$f":"SQRT(SUMPRODUCT(C27:M27, C27:M27))","v":4.2708342847534768E-2},null,null,{"$f":"IF(R27=\"\", \"\", OFFSET(data!$C$6, R27, 0))","v":"2012-12-31"},12,0.72992700729927007,0.99980798571425233]
[null,null,null,null,null,null,null,null,null,null,null,null,null,null,null,null,{"$f":"IF(R28=\"\", \"\", OFFSET(data!$C$6, R28, 0))","v":"2012-09-30"},13,0.72992700729927007,0.99980798571425233]
[null,"Yields and fitted yields",null,null,null,null,null,null,null,null,null,null,"R2(α)",null,null,null,{"$f":"IF(R29=\"\", \"\", OFFSET(data!$C$6, R29, 0))","v":"2012-06-30"},14,0.72992700729927007,0.99980798571425233]
[null,null,null,null,null,null,null,null,null,null,null,null,null,null,null,null,{"$f":"IF(R30=\"\", \"\", OFFSET(data!$C$6, R30, 0))","v":"2012-03-31"},15,0.72992700729927007,0.99980798571425233]
[null,null,null,null,null,null,null,null,null,null,null,null,null,null,null,null,{"$f":"IF(R31=\"\", \"\", OFFSET(data!$C$6, R31, 0))","v":"2011-12-31"},16,0.72992700729927007,0.99980798571425233]
[null,null,null,null,null,null,null,null,null,null,null,null,null,null,null,null,{"$f":"IF(R32=\"\", \"\", OFFSET(data!$C$6, R32, 0))","v":"2011-09-30"},17,0.72992700729927007,0.99980798571425233]
[null,null,null,null,null,null,null,null,null,null,null,null,null,null,null,null,{"$f":"IF(R33=\"\", \"\", OFFSET(data!$C$6, R33, 0))","v":"2011-06-30"},18,0.72992700729927007,0.99980798571425233]
[null,null,null,null,null,null,null,null,null,null,null,null,null,null,null,null,{"$f":"IF(R34=\"\", \"\", OFFSET(data!$C$6, R34, 0))","v":"2011-03-31"},19,0.72992700729927007,0.99980798571425233]
[null,null,null,null,null,null,null,null,null,null,null,null,null,null,null,null,{"$f":"IF(R35=\"\", \"\", OFFSET(data!$C$6, R35, 0))","v":"2010-12-31"},20,0.72992700729927007,0.99980798571425233]
[null,null,null,null,null,null,null,null,null,null,null,null,null,null,null,null,{"$f":"IF(R36=\"\", \"\", OFFSET(data!$C$6, R36, 0))","v":"2010-09-30"},21,0.72992700729927007,0.99980798571425233]
[null,null,null,null,null,null,null,null,null,null,null,null,null,null,null,null,{"$f":"IF(R37=\"\", \"\", OFFSET(data!$C$6, R37, 0))","v":"2010-06-30"},22,0.72992700729927007,0.99980798571425233]
[null,null,null,null,null,null,null,null,null,null,null,null,null,null,null,null,{"$f":"IF(R38=\"\", \"\", OFFSET(data!$C$6, R38, 0))","v":"2010-03-31"},23,0.72992700729927007,0.99980798571425233]
[null,null,null,null,null,null,null,null,null,null,null,null,null,null,null,null,{"$f":"IF(R39=\"\", \"\", OFFSET(data!$C$6, R39, 0))","v":"2009-12-31"},24,0.72992700729927007,0.99980798571425233]
[null,null,null,null,null,null,null,null,null,null,null,null,null,null,null,null,{"$f":"IF(R40=\"\", \"\", OFFSET(data!$C$6, R40, 0))","v":"2009-09-30"},25,0.72992700729927007,0.99980798571425233]
[null,null,null,null,null,null,null,null,null,null,null,null,null,null,null,null,{"$f":"IF(R41=\"\", \"\", OFFSET(data!$C$6, R41, 0))","v":"2009-06-30"},26,0.72992700729927007,0.99980798571425233]
[null,null,null,null,null,null,null,null,null,null,null,null,null,null,null,null,{"$f":"IF(R42=\"\", \"\", OFFSET(data!$C$6, R42, 0))","v":"2009-03-31"},27,0.72992700729927007,0.99980798571425233]
[null,null,null,null,null,null,null,null,null,null,null,null,null,null,null,null,{"$f":"IF(R43=\"\", \"\", OFFSET(data!$C$6, R43, 0))","v":"2008-12-31"},28,0.72992700729927007,0.99980798571425233]
[null,null,null,null,null,null,null,null,null,null,null,null,null,null,null,null,{"$f":"IF(R44=\"\", \"\", OFFSET(data!$C$6, R44, 0))","v":"2008-09-30"},29,0.72992700729927007,0.99980798571425233]
[null,null,null,null,null,null,null,null,null,null,null,null,null,null,null,null,{"$f":"IF(R45=\"\", \"\", OFFSET(data!$C$6, R45, 0))","v":"2008-06-30"},30,0.72992700729927007,0.99980798571425233]
[null,null,null,null,null,null,null,null,null,null,null,null,null,null,null,null,{"$f":"IF(R46=\"\", \"\", OFFSET(data!$C$6, R46, 0))","v":"2008-03-31"},{"$f":"IF(R45=\"\", \"\", IF(R45+1>$R$7, \"\", R45+1))","v":31},0.72992700729927007,0.99980798571425233]
[null,null,null,null,null,null,null,null,null,null,null,null,null,null,null,null,{"$f":"IF(R47=\"\", \"\", OFFSET(data!$C$6, R47, 0))","v":"2007-12-31"},32,0.72992700729927007,0.99980798571425233]
[null,null,null,null,null,null,null,null,null,null,null,null,null,null,null,null,{"$f":"IF(R48=\"\", \"\", OFFSET(data!$C$6, R48, 0))","v":"2007-09-30"},33,0.72992700729927007,0.99980798571425233]
[null,null,null,null,null,null,null,null,null,null,null,null,null,null,null,null,{"$f":"IF(R49=\"\", \"\", OFFSET(data!$C$6, R49, 0))","v":"2007-06-30"},34,0.72992700729927007,0.99980798571425233]
[null,null,null,null,null,null,null,null,null,null,null,null,null,null,null,null,{"$f":"IF(R50=\"\", \"\", OFFSET(data!$C$6, R50, 0))","v":"2007-03-31"},35,0.72992700729927007,0.99980798571425233]
[null,null,null,null,null,null,null,null,null,null,null,null,null,null,null,null,{"$f":"IF(R51=\"\", \"\", OFFSET(data!$C$6, R51, 0))","v":"2006-12-31"},36,0.72992700729927007,0.99980798571425233]
[null,null,null,null,null,null,null,null,null,null,null,null,null,null,null,null,{"$f":"IF(R52=\"\", \"\", OFFSET(data!$C$6, R52, 0))","v":"2006-09-30"},37,0.72992700729927007,0.99980798571425233]
[null,null,null,null,null,null,null,null,null,null,null,null,null,null,null,null,{"$f":"IF(R53=\"\", \"\", OFFSET(data!$C$6, R53, 0))","v":"2006-06-30"},38,0.72992700729927007,0.99980798571425233]
[null,null,null,null,null,null,null,null,null,null,null,null,null,null,null,null,{"$f":"IF(R54=\"\", \"\", OFFSET(data!$C$6, R54, 0))","v":"2006-03-31"},39,0.72992700729927007,0.99980798571425233]
[null,null,null,null,null,null,null,null,null,null,null,null,null,null,null,null,{"$f":"IF(R55=\"\", \"\", OFFSET(data!$C$6, R55, 0))","v":"2005-12-31"},40,0.72992700729927007,0.99980798571425233]
[null,null,null,null,null,null,null,null,null,null,null,null,null,null,null,null,{"$f":"IF(R56=\"\", \"\", OFFSET(data!$C$6, R56, 0))","v":"2005-09-30"},41,0.72992700729927007,0.99980798571425233]
[null,null,null,null,null,null,null,null,null,null,null,null,null,null,null,null,{"$f":"IF(R57=\"\", \"\", OFFSET(data!$C$6, R57, 0))","v":"2005-06-30"},42,0.72992700729927007,0.99980798571425233]
[null,null,null,null,null,null,null,null,null,null,null,null,null,null,null,null,{"$f":"IF(R58=\"\", \"\", OFFSET(data!$C$6, R58, 0))","v":"2005-03-31"},43,0.72992700729927007,0.99980798571425233]
[null,null,null,null,null,null,null,null,null,null,null,null,null,null,null,null,{"$f":"IF(R59=\"\", \"\", OFFSET(data!$C$6, R59, 0))","v":"2004-12-31"},44,0.72992700729927007,0.99980798571425233]
[null,null,null,null,null,null,null,null,null,null,null,null,null,null,null,null,{"$f":"IF(R60=\"\", \"\", OFFSET(data!$C$6, R60, 0))","v":"2004-09-30"},45,0.72992700729927007,0.99980798571425233]
[null,null,null,null,null,null,null,null,null,null,null,null,null,null,null,null,{"$f":"IF(R61=\"\", \"\", OFFSET(data!$C$6, R61, 0))","v":"2004-06-30"},46,0.72992700729927007,0.99980798571425233]
[null,null,null,null,null,null,null,null,null,null,null,null,null,null,null,null,{"$f":"IF(R62=\"\", \"\", OFFSET(data!$C$6, R62, 0))","v":"2004-03-31"},47,0.72992700729927007,0.99980798571425233]
[null,null,null,null,null,null,null,null,null,null,null,null,null,null,null,null,{"$f":"IF(R63=\"\", \"\", OFFSET(data!$C$6, R63, 0))","v":"2003-12-31"},48,0.72992700729927007,0.99980798571425233]
[null,null,null,null,null,null,null,null,null,null,null,null,null,null,null,null,{"$f":"IF(R64=\"\", \"\", OFFSET(data!$C$6, R64, 0))","v":"2003-09-30"},49,0.72992700729927007,0.99980798571425233]
[null,null,null,null,null,null,null,null,null,null,null,null,null,null,null,null,{"$f":"IF(R65=\"\", \"\", OFFSET(data!$C$6, R65, 0))","v":"2003-06-30"},50,0.72992700729927007,0.99980798571425233]
[null,null,null,null,null,null,null,null,null,null,null,null,null,null,null,null,{"$f":"IF(R66=\"\", \"\", OFFSET(data!$C$6, R66, 0))","v":"2003-03-31"},51,0.72992700729927007,0.99980798571425233]
[null,null,null,null,null,null,null,null,null,null,null,null,null,null,null,null,{"$f":"IF(R67=\"\", \"\", OFFSET(data!$C$6, R67, 0))","v":"2002-12-31"},52,0.72992700729927007,0.99980798571425233]
[null,null,null,null,null,null,null,null,null,null,null,null,null,null,null,null,{"$f":"IF(R68=\"\", \"\", OFFSET(data!$C$6, R68, 0))","v":"2002-09-30"},53,0.72992700729927007,0.99980798571425233]
[null,null,null,null,null,null,null,null,null,null,null,null,null,null,null,null,{"$f":"IF(R69=\"\", \"\", OFFSET(data!$C$6, R69, 0))","v":"2002-06-30"},54,0.72992700729927007,0.99980798571425233]
[null,null,null,null,null,null,null,null,null,null,null,null,null,null,null,null,{"$f":"IF(R70=\"\", \"\", OFFSET(data!$C$6, R70, 0))","v":"2002-03-31"},55,0.72992700729927007,0.99980798571425233]
[null,null,null,null,null,null,null,null,null,null,null,null,null,null,null,null,{"$f":"IF(R71=\"\", \"\", OFFSET(data!$C$6, R71, 0))","v":"2001-12-31"},56,0.72992700729927007,0.99980798571425233]
[null,null,null,null,null,null,null,null,null,null,null,null,null,null,null,null,{"$f":"IF(R72=\"\", \"\", OFFSET(data!$C$6, R72, 0))","v":"2001-09-30"},57,0.72992700729927007,0.99980798571425233]
[null,null,null,null,null,null,null,null,null,null,null,null,null,null,null,null,{"$f":"IF(R73=\"\", \"\", OFFSET(data!$C$6, R73, 0))","v":"2001-06-30"},58,0.72992700729927007,0.99980798571425233]
[null,null,null,null,null,null,null,null,null,null,null,null,null,null,null,null,{"$f":"IF(R74=\"\", \"\", OFFSET(data!$C$6, R74, 0))","v":"2001-03-31"},59,0.72992700729927007,0.99980798571425233]
[null,null,null,null,null,null,null,null,null,null,null,null,null,null,null,null,{"$f":"IF(R75=\"\", \"\", OFFSET(data!$C$6, R75, 0))","v":"2000-12-31"},60,0.72992700729927007,0.99980798571425233]
[null,null,null,null,null,null,null,null,null,null,null,null,null,null,null,null,{"$f":"IF(R76=\"\", \"\", OFFSET(data!$C$6, R76, 0))","v":"2000-09-30"},61,0.72992700729927007,0.99980798571425233]
[null,null,null,null,null,null,null,null,null,null,null,null,null,null,null,null,{"$f":"IF(R77=\"\", \"\", OFFSET(data!$C$6, R77, 0))","v":"2000-06-30"},62,0.72992700729927007,0.99980798571425233]
[null,null,null,null,null,null,null,null,null,null,null,null,null,null,null,null,{"$f":"IF(R78=\"\", \"\", OFFSET(data!$C$6, R78, 0))","v":"2000-03-31"},63,0.72992700729927007,0.99980798571425233]
[null,null,null,null,null,null,null,null,null,null,null,null,null,null,null,null,{"$f":"IF(R79=\"\", \"\", OFFSET(data!$C$6, R79, 0))","v":"1999-12-31"},64,0.72992700729927007,0.99980798571425233]
[null,null,null,null,null,null,null,null,null,null,null,null,null,null,null,null,{"$f":"IF(R80=\"\", \"\", OFFSET(data!$C$6, R80, 0))","v":"1999-09-30"},65,0.72992700729927007,0.99980798571425233]
[null,null,null,null,null,null,null,null,null,null,null,null,null,null,null,null,{"$f":"IF(R81=\"\", \"\", OFFSET(data!$C$6, R81, 0))","v":"1999-06-30"},66,0.72992700729927007,0.99980798571425233]
[null,null,null,null,null,null,null,null,null,null,null,null,null,null,null,null,{"$f":"IF(R82=\"\", \"\", OFFSET(data!$C$6, R82, 0))","v":"1999-03-31"},67,0.72992700729927007,0.99980798571425233]
[null,null,null,null,null,null,null,null,null,null,null,null,null,null,null,null,{"$f":"IF(R83=\"\", \"\", OFFSET(data!$C$6, R83, 0))","v":"1998-12-31"},68,0.72992700729927007,0.99980798571425233]
[null,null,null,null,null,null,null,null,null,null,null,null,null,null,null,null,{"$f":"IF(R84=\"\", \"\", OFFSET(data!$C$6, R84, 0))","v":"1998-09-30"},69,0.72992700729927007,0.99980798571425233]
[null,null,null,null,null,null,null,null,null,null,null,null,null,null,null,null,{"$f":"IF(R85=\"\", \"\", OFFSET(data!$C$6, R85, 0))","v":"1998-06-30"},70,0.72992700729927007,0.99980798571425233]
[null,null,null,null,null,null,null,null,null,null,null,null,null,null,null,null,{"$f":"IF(R86=\"\", \"\", OFFSET(data!$C$6, R86, 0))","v":"1998-03-31"},71,0.72992700729927007,0.99980798571425233]
[null,null,null,null,null,null,null,null,null,null,null,null,null,null,null,null,{"$f":"IF(R87=\"\", \"\", OFFSET(data!$C$6, R87, 0))","v":"1997-12-31"},72,0.72992700729927007,0.99980798571425233]
[null,null,null,null,null,null,null,null,null,null,null,null,null,null,null,null,{"$f":"IF(R88=\"\", \"\", OFFSET(data!$C$6, R88, 0))","v":"1997-09-30"},73,0.72992700729927007,0.99980798571425233]
[null,null,null,null,null,null,null,null,null,null,null,null,null,null,null,null,{"$f":"IF(R89=\"\", \"\", OFFSET(data!$C$6, R89, 0))","v":"1997-06-30"},74,0.72992700729927007,0.99980798571425233]
[null,null,null,null,null,null,null,null,null,null,null,null,null,null,null,null,{"$f":"IF(R90=\"\", \"\", OFFSET(data!$C$6, R90, 0))","v":"1997-03-31"},75,0.72992700729927007,0.99980798571425233]
[null,null,null,null,null,null,null,null,null,null,null,null,null,null,null,null,{"$f":"IF(R91=\"\", \"\", OFFSET(data!$C$6, R91, 0))","v":"1996-12-31"},76,0.72992700729927007,0.99980798571425233]
[null,null,null,null,null,null,null,null,null,null,null,null,null,null,null,null,{"$f":"IF(R92=\"\", \"\", OFFSET(data!$C$6, R92, 0))","v":"1996-09-30"},77,0.72992700729927007,0.99980798571425233]
[null,null,null,null,null,null,null,null,null,null,null,null,null,null,null,null,{"$f":"IF(R93=\"\", \"\", OFFSET(data!$C$6, R93, 0))","v":"1996-06-30"},78,0.72992700729927007,0.99980798571425233]
[null,null,null,null,null,null,null,null,null,null,null,null,null,null,null,null,{"$f":"IF(R94=\"\", \"\", OFFSET(data!$C$6, R94, 0))","v":"1996-03-31"},79,0.72992700729927007,0.99980798571425233]
[null,null,null,null,null,null,null,null,null,null,null,null,null,null,null,null,{"$f":"IF(R95=\"\", \"\", OFFSET(data!$C$6, R95, 0))","v":"1995-12-31"},80,0.72992700729927007,0.99980798571425233]
[null,null,null,null,null,null,null,null,null,null,null,null,null,null,null,null,{"$f":"IF(R96=\"\", \"\", OFFSET(data!$C$6, R96, 0))","v":"1995-09-30"},81,0.72992700729927007,0.99980798571425233]
[null,null,null,null,null,null,null,null,null,null,null,null,null,null,null,null,{"$f":"IF(R97=\"\", \"\", OFFSET(data!$C$6, R97, 0))","v":"1995-06-30"},82,0.72992700729927007,0.99980798571425233]
[null,null,null,null,null,null,null,null,null,null,null,null,null,null,null,null,{"$f":"IF(R98=\"\", \"\", OFFSET(data!$C$6, R98, 0))","v":"1995-03-31"},83,0.72992700729927007,0.99980798571425233]
[null,null,null,null,null,null,null,null,null,null,null,null,null,null,null,null,{"$f":"IF(R99=\"\", \"\", OFFSET(data!$C$6, R99, 0))","v":"1994-12-31"},84,0.72992700729927007,0.99980798571425233]
[null,null,null,null,null,null,null,null,null,null,null,null,null,null,null,null,{"$f":"IF(R100=\"\", \"\", OFFSET(data!$C$6, R100, 0))","v":"1994-09-30"},85,0.72992700729927007,0.99980798571425233]
[null,null,null,null,null,null,null,null,null,null,null,null,null,null,null,null,{"$f":"IF(R101=\"\", \"\", OFFSET(data!$C$6, R101, 0))","v":"1994-06-30"},86,0.72992700729927007,0.99980798571425233]
[null,null,null,null,null,null,null,null,null,null,null,null,null,null,null,null,{"$f":"IF(R102=\"\", \"\", OFFSET(data!$C$6, R102, 0))","v":"1994-03-31"},87,0.72992700729927007,0.99980798571425233]
[null,null,null,null,null,null,null,null,null,null,null,null,null,null,null,null,{"$f":"IF(R103=\"\", \"\", OFFSET(data!$C$6, R103, 0))","v":"1993-12-31"},88,0.72992700729927007,0.99980798571425233]
[null,null,null,null,null,null,null,null,null,null,null,null,null,null,null,null,{"$f":"IF(R104=\"\", \"\", OFFSET(data!$C$6, R104, 0))","v":"1993-09-30"},89,0.72992700729927007,0.99980798571425233]
[null,null,null,null,null,null,null,null,null,null,null,null,null,null,null,null,{"$f":"IF(R105=\"\", \"\", OFFSET(data!$C$6, R105, 0))","v":"1993-06-30"},90,0.72992700729927007,0.99980798571425233]
[null,null,null,null,null,null,null,null,null,null,null,null,null,null,null,null,{"$f":"IF(R106=\"\", \"\", OFFSET(data!$C$6, R106, 0))","v":"1993-03-31"},91,0.72992700729927007,0.99980798571425233]
[null,null,null,null,null,null,null,null,null,null,null,null,null,null,null,null,{"$f":"IF(R107=\"\", \"\", OFFSET(data!$C$6, R107, 0))","v":"1992-12-31"},92,0.72992700729927007,0.99980798571425233]
[null,null,null,null,null,null,null,null,null,null,null,null,null,null,null,null,{"$f":"IF(R108=\"\", \"\", OFFSET(data!$C$6, R108, 0))","v":"1992-09-30"},93,0.72992700729927007,0.99980798571425233]
[null,null,null,null,null,null,null,null,null,null,null,null,null,null,null,null,{"$f":"IF(R109=\"\", \"\", OFFSET(data!$C$6, R109, 0))","v":"1992-06-30"},94,0.72992700729927007,0.99980798571425233]
[null,null,null,null,null,null,null,null,null,null,null,null,null,null,null,null,{"$f":"IF(R110=\"\", \"\", OFFSET(data!$C$6, R110, 0))","v":"1992-03-31"},{"$f":"IF(R109=\"\", \"\", IF(R109+1>$R$7, \"\", R109+1))","v":95},0.72992700729927007,0.99980798571425233]
[null,null,null,null,null,null,null,null,null,null,null,null,null,null,null,null,{"$f":"IF(R111=\"\", \"\", OFFSET(data!$C$6, R111, 0))","v":"1991-12-31"},96,0.72992700729927007,0.99980798571425233]
[null,null,null,null,null,null,null,null,null,null,null,null,null,null,null,null,{"$f":"IF(R112=\"\", \"\", OFFSET(data!$C$6, R112, 0))","v":"1991-09-30"},97,0.72992700729927007,0.99980798571425233]
[null,null,null,null,null,null,null,null,null,null,null,null,null,null,null,null,{"$f":"IF(R113=\"\", \"\", OFFSET(data!$C$6, R113, 0))","v":"1991-06-30"},98,0.72992700729927007,0.99980798571425233]
[null,null,null,null,null,null,null,null,null,null,null,null,null,null,null,null,{"$f":"IF(R114=\"\", \"\", OFFSET(data!$C$6, R114, 0))","v":"00:00:00"},99,0.72992700729927007,0.99980798571425233]
[null,null,null,null,null,null,null,null,null,null,null,null,null,null,null,null,{"$f":"IF(R115=\"\", \"\", OFFSET(data!$C$6, R115, 0))","v":"00:00:00"},100,0.72992700729927007,0.99980798571425233]
[null,null,null,null,null,null,null,null,null,null,null,null,null,null,null,null,{"$f":"IF(R116=\"\", \"\", OFFSET(data!$C$6, R116, 0))","v":"00:00:00"},101,0.72992700729927007,0.99980798571425233]
[null,null,null,null,null,null,null,null,null,null,null,null,null,null,null,null,{"$f":"IF(R117=\"\", \"\", OFFSET(data!$C$6, R117, 0))","v":"00:00:00"},102,0.72992700729927007,0.99980798571425233]
[null,null,null,null,null,null,null,null,null,null,null,null,null,null,null,null,{"$f":"IF(R118=\"\", \"\", OFFSET(data!$C$6, R118, 0))","v":"00:00:00"},103,0.72992700729927007,0.99980798571425233]
[null,null,null,null,null,null,null,null,null,null,null,null,null,null,null,null,{"$f":"IF(R119=\"\", \"\", OFFSET(data!$C$6, R119, 0))","v":"00:00:00"},104,0.72992700729927007,0.99980798571425233]
[null,null,null,null,null,null,null,null,null,null,null,null,null,null,null,null,{"$f":"IF(R120=\"\", \"\", OFFSET(data!$C$6, R120, 0))","v":"00:00:00"},105,0.72992700729927007,0.99980798571425233]
[null,null,null,null,null,null,null,null,null,null,null,null,null,null,null,null,{"$f":"IF(R121=\"\", \"\", OFFSET(data!$C$6, R121, 0))","v":"00:00:00"},106,0.72992700729927007,0.99980798571425233]
[null,null,null,null,null,null,null,null,null,null,null,null,null,null,null,null,{"$f":"IF(R122=\"\", \"\", OFFSET(data!$C$6, R122, 0))","v":"00:00:00"},107,0.72992700729927007,0.99980798571425233]
[null,null,null,null,null,null,null,null,null,null,null,null,null,null,null,null,{"$f":"IF(R123=\"\", \"\", OFFSET(data!$C$6, R123, 0))","v":"00:00:00"},108,0.72992700729927007,0.99980798571425233]
[null,null,null,null,null,null,null,null,null,null,null,null,null,null,null,null,{"$f":"IF(R124=\"\", \"\", OFFSET(data!$C$6, R124, 0))","v":"00:00:00"},109,0.72992700729927007,0.99980798571425233]
[null,null,null,null,null,null,null,null,null,null,null,null,null,null,null,null,{"$f":"IF(R125=\"\", \"\", OFFSET(data!$C$6, R125, 0))","v":"00:00:00"},110,0.72992700729927007,0.99980798571425233]
[null,null,null,null,null,null,null,null,null,null,null,null,null,null,null,null,{"$f":"IF(R126=\"\", \"\", OFFSET(data!$C$6, R126, 0))","v":"00:00:00"},111,0.72992700729927007,0.99980798571425233]
[null,null,null,null,null,null,null,null,null,null,null,null,null,null,null,null,{"$f":"IF(R127=\"\", \"\", OFFSET(data!$C$6, R127, 0))","v":"00:00:00"},112,0.72992700729927007,0.99980798571425233]
[null,null,null,null,null,null,null,null,null,null,null,null,null,null,null,null,{"$f":"IF(R128=\"\", \"\", OFFSET(data!$C$6, R128, 0))","v":"00:00:00"},113,0.72992700729927007,0.99980798571425233]
[null,null,null,null,null,null,null,null,null,null,null,null,null,null,null,null,{"$f":"IF(R129=\"\", \"\", OFFSET(data!$C$6, R129, 0))","v":"00:00:00"},114,0.72992700729927007,0.99980798571425233]
[null,null,null,null,null,null,null,null,null,null,null,null,null,null,null,null,{"$f":"IF(R130=\"\", \"\", OFFSET(data!$C$6, R130, 0))","v":"00:00:00"},115,0.72992700729927007,0.99980798571425233]
[null,null,null,null,null,null,null,null,null,null,null,null,null,null,null,null,{"$f":"IF(R131=\"\", \"\", OFFSET(data!$C$6, R131, 0))","v":"00:00:00"},116,0.72992700729927007,0.99980798571425233]
[null,null,null,null,null,null,null,null,null,null,null,null,null,null,null,null,{"$f":"IF(R132=\"\", \"\", OFFSET(data!$C$6, R132, 0))","v":"00:00:00"},117,0.72992700729927007,0.99980798571425233]
[null,null,null,null,null,null,null,null,null,null,null,null,null,null,null,null,{"$f":"IF(R133=\"\", \"\", OFFSET(data!$C$6, R133, 0))","v":"00:00:00"},118,0.72992700729927007,0.99980798571425233]
[null,null,null,null,null,null,null,null,null,null,null,null,null,null,null,null,{"$f":"IF(R134=\"\", \"\", OFFSET(data!$C$6, R134, 0))","v":"00:00:00"},119,0.72992700729927007,0.99980798571425233]
[null,null,null,null,null,null,null,null,null,null,null,null,null,null,null,null,{"$f":"IF(R135=\"\", \"\", OFFSET(data!$C$6, R135, 0))","v":"00:00:00"},120,0.72992700729927007,0.99980798571425233]
[null,null,null,null,null,null,null,null,null,null,null,null,null,null,null,null,{"$f":"IF(R136=\"\", \"\", OFFSET(data!$C$6, R136, 0))","v":"00:00:00"},121,0.72992700729927007,0.99980798571425233]
[null,null,null,null,null,null,null,null,null,null,null,null,null,null,null,null,{"$f":"IF(R137=\"\", \"\", OFFSET(data!$C$6, R137, 0))","v":"00:00:00"},122,0.72992700729927007,0.99980798571425233]
[null,null,null,null,null,null,null,null,null,null,null,null,null,null,null,null,{"$f":"IF(R138=\"\", \"\", OFFSET(data!$C$6, R138, 0))","v":"00:00:00"},123,0.72992700729927007,0.99980798571425233]
[null,null,null,null,null,null,null,null,null,null,null,null,null,null,null,null,{"$f":"IF(R139=\"\", \"\", OFFSET(data!$C$6, R139, 0))","v":"00:00:00"},124,0.72992700729927007,0.99980798571425233]
[null,null,null,null,null,null,null,null,null,null,null,null,null,null,null,null,{"$f":"IF(R140=\"\", \"\", OFFSET(data!$C$6, R140, 0))","v":"00:00:00"},125,0.72992700729927007,0.99980798571425233]
[null,null,null,null,null,null,null,null,null,null,null,null,null,null,null,null,{"$f":"IF(R141=\"\", \"\", OFFSET(data!$C$6, R141, 0))","v":"00:00:00"},126,0.72992700729927007,0.99980798571425233]
[null,null,null,null,null,null,null,null,null,null,null,null,null,null,null,null,{"$f":"IF(R142=\"\", \"\", OFFSET(data!$C$6, R142, 0))","v":"00:00:00"},127,0.72992700729927007,0.99980798571425233]
[null,null,null,null,null,null,null,null,null,null,null,null,null,null,null,null,{"$f":"IF(R143=\"\", \"\", OFFSET(data!$C$6, R143, 0))","v":"00:00:00"},128,0.72992700729927007,0.99980798571425233]
[null,null,null,null,null,null,null,null,null,null,null,null,null,null,null,null,{"$f":"IF(R144=\"\", \"\", OFFSET(data!$C$6, R144, 0))","v":"00:00:00"},129,0.72992700729927007,0.99980798571425233]
[null,null,null,null,null,null,null,null,null,null,null,null,null,null,null,null,{"$f":"IF(R145=\"\", \"\", OFFSET(data!$C$6, R145, 0))","v":"00:00:00"},130,0.72992700729927007,0.99980798571425233]
[null,null,null,null,null,null,null,null,null,null,null,null,null,null,null,null,{"$f":"IF(R146=\"\", \"\", OFFSET(data!$C$6, R146, 0))","v":"00:00:00"},131,0.72992700729927007,0.99980798571425233]
[null,null,null,null,null,null,null,null,null,null,null,null,null,null,null,null,{"$f":"IF(R147=\"\", \"\", OFFSET(data!$C$6, R147, 0))","v":"00:00:00"},132,0.72992700729927007,0.99980798571425233]
[null,null,null,null,null,null,null,null,null,null,null,null,null,null,null,null,{"$f":"IF(R148=\"\", \"\", OFFSET(data!$C$6, R148, 0))","v":"00:00:00"},133,0.72992700729927007,0.99980798571425233]
[null,null,null,null,null,null,null,null,null,null,null,null,null,null,null,null,{"$f":"IF(R149=\"\", \"\", OFFSET(data!$C$6, R149, 0))","v":"00:00:00"},134,0.72992700729927007,0.99980798571425233]
[null,null,null,null,null,null,null,null,null,null,null,null,null,null,null,null,{"$f":"IF(R150=\"\", \"\", OFFSET(data!$C$6, R150, 0))","v":"00:00:00"},135,0.72992700729927007,0.99980798571425233]
[null,null,null,null,null,null,null,null,null,null,null,null,null,null,null,null,{"$f":"IF(R151=\"\", \"\", OFFSET(data!$C$6, R151, 0))","v":"00:00:00"},136,0.72992700729927007,0.99980798571425233]
[null,null,null,null,null,null,null,null,null,null,null,null,null,null,null,null,{"$f":"IF(R152=\"\", \"\", OFFSET(data!$C$6, R152, 0))","v":"00:00:00"},137,0.72992700729927007,0.99980798571425233]
[null,null,null,null,null,null,null,null,null,null,null,null,null,null,null,null,{"$f":"IF(R153=\"\", \"\", OFFSET(data!$C$6, R153, 0))","v":"00:00:00"},138,0.72992700729927007,0.99980798571425233]
[null,null,null,null,null,null,null,null,null,null,null,null,null,null,null,null,{"$f":"IF(R154=\"\", \"\", OFFSET(data!$C$6, R154, 0))","v":"00:00:00"},139,0.72992700729927007,0.99980798571425233]
[null,null,null,null,null,null,null,null,null,null,null,null,null,null,null,null,{"$f":"IF(R155=\"\", \"\", OFFSET(data!$C$6, R155, 0))","v":"00:00:00"},140,0.72992700729927007,0.99980798571425233]
[null,null,null,null,null,null,null,null,null,null,null,null,null,null,null,null,{"$f":"IF(R156=\"\", \"\", OFFSET(data!$C$6, R156, 0))","v":"00:00:00"},141,0.72992700729927007,0.99980798571425233]
[null,null,null,null,null,null,null,null,null,null,null,null,null,null,null,null,{"$f":"IF(R157=\"\", \"\", OFFSET(data!$C$6, R157, 0))","v":"00:00:00"},142,0.72992700729927007,0.99980798571425233]
[null,null,null,null,null,null,null,null,null,null,null,null,null,null,null,null,{"$f":"IF(R158=\"\", \"\", OFFSET(data!$C$6, R158, 0))","v":"00:00:00"},143,0.72992700729927007,0.99980798571425233]
[null,null,null,null,null,null,null,null,null,null,null,null,null,null,null,null,{"$f":"IF(R159=\"\", \"\", OFFSET(data!$C$6, R159, 0))","v":"00:00:00"},144,0.72992700729927007,0.99980798571425233]
[null,null,null,null,null,null,null,null,null,null,null,null,null,null,null,null,{"$f":"IF(R160=\"\", \"\", OFFSET(data!$C$6, R160, 0))","v":"00:00:00"},145,0.72992700729927007,0.99980798571425233]
[null,null,null,null,null,null,null,null,null,null,null,null,null,null,null,null,{"$f":"IF(R161=\"\", \"\", OFFSET(data!$C$6, R161, 0))","v":"00:00:00"},146,0.72992700729927007,0.99980798571425233]
[null,null,null,null,null,null,null,null,null,null,null,null,null,null,null,null,{"$f":"IF(R162=\"\", \"\", OFFSET(data!$C$6, R162, 0))","v":"00:00:00"},147,0.72992700729927007,0.99980798571425233]
[null,null,null,null,null,null,null,null,null,null,null,null,null,null,null,null,{"$f":"IF(R163=\"\", \"\", OFFSET(data!$C$6, R163, 0))","v":"00:00:00"},148,0.72992700729927007,0.99980798571425233]
[null,null,null,null,null,null,null,null,null,null,null,null,null,null,null,null,{"$f":"IF(R164=\"\", \"\", OFFSET(data!$C$6, R164, 0))","v":"00:00:00"},149,0.72992700729927007,0.99980798571425233]
[null,null,null,null,null,null,null,null,null,null,null,null,null,null,null,null,{"$f":"IF(R165=\"\", \"\", OFFSET(data!$C$6, R165, 0))","v":"00:00:00"},150,0.72992700729927007,0.99980798571425233]
[null,null,null,null,null,null,null,null,null,null,null,null,null,null,null,null,{"$f":"IF(R166=\"\", \"\", OFFSET(data!$C$6, R166, 0))","v":"00:00:00"},151,0.72992700729927007,0.99980798571425233]
[null,null,null,null,null,null,null,null,null,null,null,null,null,null,null,null,{"$f":"IF(R167=\"\", \"\", OFFSET(data!$C$6, R167, 0))","v":"00:00:00"},152,0.72992700729927007,0.99980798571425233]
[null,null,null,null,null,null,null,null,null,null,null,null,null,null,null,null,{"$f":"IF(R168=\"\", \"\", OFFSET(data!$C$6, R168, 0))","v":"00:00:00"},153,0.72992700729927007,0.99980798571425233]
[null,null,null,null,null,null,null,null,null,null,null,null,null,null,null,null,{"$f":"IF(R169=\"\", \"\", OFFSET(data!$C$6, R169, 0))","v":"00:00:00"},154,0.72992700729927007,0.99980798571425233]
[null,null,null,null,null,null,null,null,null,null,null,null,null,null,null,null,{"$f":"IF(R170=\"\", \"\", OFFSET(data!$C$6, R170, 0))","v":"00:00:00"},155,0.72992700729927007,0.99980798571425233]
[null,null,null,null,null,null,null,null,null,null,null,null,null,null,null,null,{"$f":"IF(R171=\"\", \"\", OFFSET(data!$C$6, R171, 0))","v":"00:00:00"},156,0.72992700729927007,0.99980798571425233]
[null,null,null,null,null,null,null,null,null,null,null,null,null,null,null,null,null,null,0.72992700729927007,0.99980798571425233]
[null,null,null,null,null,null,null,null,null,null,null,null,null,null,null,null,null,null,0.72992700729927007,0.99980798571425233]
[null,null,null,null,null,null,null,null,null,null,null,null,null,null,null,null,null,null,0.72992700729927007,0.99980798571425233]
[null,null,null,null,null,null,null,null,null,null,null,null,null,null,null,null,null,null,0.72992700729927007,0.99980798571425233]
[null,null,null,null,null,null,null,null,null,null,null,null,null,null,null,null,null,null,0.72992700729927007,0.99980798571425233]
[null,null,null,null,null,null,null,null,null,null,null,null,null,null,null,null,null,null,0.72992700729927007,0.99980798571425233]
[null,null,null,null,null,null,null,null,null,null,null,null,null,null,null,null,null,null,0.72992700729927007,0.99980798571425233]
[null,null,null,null,null,null,null,null,null,null,null,null,null,null,null,null,null,null,0.72992700729927007,0.99980798571425233]
[null,null,null,null,null,null,null,null,null,null,null,null,null,null,null,null,null,null,0.72992700729927007,0.99980798571425233]
[null,null,null,null,null,null,null,null,null,null,null,null,null,null,null,null,null,null,0.72992700729927007,0.99980798571425233]
[null,null,null,null,null,null,null,null,null,null,null,null,null,null,null,null,null,null,0.72992700729927007,0.99980798571425233]
[null,null,null,null,null,null,null,null,null,null,null,null,null,null,null,null,null,null,0.72992700729927007,0.99980798571425233]
[null,null,null,null,null,null,null,null,null,null,null,null,null,null,null,null,null,null,0.72992700729927007,0.99980798571425233]
[null,null,null,null,null,null,null,null,null,null,null,null,null,null,null,null,null,null,0.72992700729927007,0.99980798571425233]
[null,null,null,null,null,null,null,null,null,null,null,null,null,null,null,null,null,null,0.72992700729927007,0.99980798571425233]
[null,null,null,null,null,null,null,null,null,null,null,null,null,null,null,null,null,null,0.72992700729927007,0.99980798571425233]
[null,null,null,null,null,null,null,null,null,null,null,null,null,null,null,null,null,null,0.72992700729927007,0.99980798571425233]
[null,null,null,null,null,null,null,null,null,null,null,null,null,null,null,null,null,null,0.72992700729927007,0.99980798571425233]
[null,null,null,null,null,null,null,null,null,null,null,null,null,null,null,null,null,null,0.72992700729927007,0.99980798571425233]
[null,null,null,null,null,null,null,null,null,null,null,null,null,null,null,null,null,null,0.72992700729927007,0.99980798571425233]
[null,null,null,null,null,null,null,null,null,null,null,null,null,null,null,null,null,null,0.72992700729927007,0.99980798571425233]
[null,null,null,null,null,null,null,null,null,null,null,null,null,null,null,null,null,null,0.72992700729927007,0.99980798571425233]
[null,null,null,null,null,null,null,null,null,null,null,null,null,null,null,null,null,null,0.72992700729927007,0.99980798571425233]
[null,null,null,null,null,null,null,null,null,null,null,null,null,null,null,null,null,null,0.72992700729927007,0.99980798571425233]
[null,null,null,null,null,null,null,null,null,null,null,null,null,null,null,null,null,null,0.72992700729927007,0.99980798571425233]
[null,null,null,null,null,null,null,null,null,null,null,null,null,null,null,null,null,null,0.72992700729927007,0.99980798571425233]
[null,null,null,null,null,null,null,null,null,null,null,null,null,null,null,null,null,null,0.72992700729927007,0.99980798571425233]
[null,null,null,null,null,null,null,null,null,null,null,null,null,null,null,null,null,null,0.72992700729927007,0.99980798571425233]
[null,null,null,null,null,null,null,null,null,null,null,null,null,null,null,null,null,null,0.72992700729927007,0.99980798571425233]
[null,null,null,null,null,null,null,null,null,null,null,null,null,null,null,null,null,null,0.72992700729927007,0.99980798571425233]
[null,null,null,null,null,null,null,null,null,null,null,null,null,null,null,null,null,null,0.72992700729927007,0.99980798571425233]
[null,null,null,null,null,null,null,null,null,null,null,null,null,null,null,null,null,null,0.72992700729927007,0.99980798571425233]
[null,null,null,null,null,null,null,null,null,null,null,null,null,null,null,null,null,null,0.72992700729927007,0.99980798571425233]
[null,null,null,null,null,null,null,null,null,null,null,null,null,null,null,null,null,null,0.72992700729927007,0.99980798571425233]
[null,null,null,null,null,null,null,null,null,null,null,null,null,null,null,null,null,null,0.72992700729927007,0.99980798571425233]
[null,null,null,null,null,null,null,null,null,null,null,null,null,null,null,null,null,null,0.72992700729927007,0.99980798571425233]
[null,null,null,null,null,null,null,null,null,null,null,null,null,null,null,null,null,null,0.72992700729927007,0.99980798571425233]
[null,null,null,null,null,null,null,null,null,null,null,null,null,null,null,null,null,null,0.72992700729927007,0.99980798571425233]
[null,null,null,null,null,null,null,null,null,null,null,null,null,null,null,null,null,null,0.72992700729927007,0.99980798571425233]
[null,null,null,null,null,null,null,null,null,null,null,null,null,null,null,null,null,null,0.72992700729927007,0.99980798571425233]
[null,null,null,null,null,null,null,null,null,null,null,null,null,null,null,null,null,null,0.72992700729927007,0.99980798571425233]
[null,null,null,null,null,null,null,null,null,null,null,null,null,null,null,null,null,null,0.72992700729927007,0.99980798571425233]
[null,null,null,null,null,null,null,null,null,null,null,null,null,null,null,null,null,null,0.72992700729927007,0.99980798571425233]
[null,null,null,null,null,null,null,null,null,null,null,null,null,null,null,null,null,null,0.72992700729927007,0.99980798571425233]

{"sheet":"TS","index":2,"n_rows":314,"n_cols":12,"rows_kept":314,"cut":false,"hidden":false,"merged":[]}
[]
[null,"TAB: COEFFICIENTS"]
[]
[null,"Date","α","β0","β1","β2","β0 + β1 ",null,"α",null,null,"β0 (long-term rate)"]
[null,{"$f":"data!O7","v":"2017-08-29"},{"$f":"_xll.AC.finance.irb.ts._get(calc!C10, config!D9, 0)","v":0.72992700729927007},16.128755233257834,28.534437583526596,-77.833498547784984,{"$f":"IF(B5=\"\", \"\", D5+E5)","v":44.663192816784431}]
[null,{"$f":"data!O8","v":"2017-08-28"},0.72992700729927007,16.064652819673938,27.572592304437421,-76.507768678944558,{"$f":"IF(B6=\"\", \"\", D6+E6)","v":43.637245124111359}]
[null,{"$f":"data!O9","v":"2017-08-25"},0.72992700729927007,15.948599216746516,26.136010415269993,-74.421388594433665,42.084609632016509]
[null,{"$f":"data!O10","v":"2017-08-24"},0.72992700729927007,15.973848887559143,26.4296842191834,-74.859051472973078,42.403533106742543]
[null,{"$f":"data!O11","v":"2017-08-23"},0.72992700729927007,16.090454867451626,28.00297144590877,-77.089025367400609,44.093426313360396]
[null,{"$f":"data!O12","v":"2017-08-22"},0.72992700729927007,16.18488292076654,29.180072757299058,-78.788450120016932,45.364955678065598]
[null,{"$f":"data!O13","v":"2017-08-21"},0.72992700729927007,16.263942326244432,30.419325441704132,-80.484527242719196,46.683267767948564]
[null,{"$f":"data!O14","v":"2017-08-18"},0.72992700729927007,16.379703993137809,32.009113064850681,-82.73246918595396,48.38881705798849]
[null,{"$f":"data!O15","v":"2017-08-17"},0.72992700729927007,16.341173608321697,31.769113503745757,-82.279663670109585,48.110287112067454]
[null,{"$f":"data!O16","v":"2017-08-16"},0.72992700729927007,16.363840871817956,32.136306169210002,-82.77806282392703,48.500147041027958]
[null,{"$f":"data!O17","v":"2017-08-14"},0.72992700729927007,16.393232611007988,32.112625015084632,-82.895989244803786,48.50585762609262]
[null,{"$f":"data!O18","v":"2017-08-10"},0.72992700729927007,16.449274473750847,33.170397886657156,-84.28673335025087,49.619672360408003]
[null,{"$f":"data!O19","v":"2017-08-09"},0.72992700729927007,16.255494635959622,30.399944534874521,-80.418611528119072,46.655439170834143]
[null,{"$f":"data!O20","v":"2017-08-08"},0.72992700729927007,16.264344021379657,30.373013938311487,-80.433206354500726,46.637357959691144]
[null,{"$f":"data!O21","v":"2017-08-07"},0.72992700729927007,16.38599299165071,31.914679290843196,-82.664338159840554,48.300672282493906]
[null,{"$f":"data!O22","v":"2017-08-04"},0.72992700729927007,16.304558883864956,30.694938606582582,-80.981149791623466,46.999497490447538,null,"β1 (term premium)",null,null,"β2 (curvature)"]
[null,{"$f":"data!O23","v":"2017-08-03"},0.72992700729927007,16.413125267419673,32.344881089986302,-83.258288132376038,48.758006357405975]
[null,{"$f":"data!O24","v":"2017-08-02"},0.72992700729927007,16.214550927543314,30.08310801780317,-79.886021559475921,46.297658945346484]
[null,{"$f":"data!O25","v":"2017-08-01"},0.72992700729927007,16.2661765847879,30.923499764990993,-81.02305287879426,47.189676349778892]
[null,{"$f":"data!O26","v":"2017-07-31"},0.72992700729927007,16.262190836299851,30.755438475636765,-80.826185771962628,47.017629311936616]
[null,{"$f":"data!O27","v":"2017-07-28"},0.72992700729927007,16.265165675715252,31.207809672341682,-81.313285188982263,47.472975348056934]
[null,{"$f":"data!O28","v":"2017-07-27"},0.72992700729927007,16.081030805587943,27.661329844617285,-76.669898495310917,43.742360650205228]
[null,{"$f":"data!O29","v":"2017-07-26"},0.72992700729927007,16.177673398582556,29.566886536660604,-79.145639911061153,45.74455993524316]
[null,{"$f":"data!O30","v":"2017-07-25"},0.72992700729927007,16.249434379518789,30.831492965109646,-80.836052322760224,47.080927344628435]
[null,{"$f":"data!O31","v":"2017-07-24"},0.72992700729927007,16.199786659177335,29.938035004539415,-79.650158865028061,46.13782166371675]
[null,{"$f":"data!O32","v":"2017-07-21"},0.72992700729927007,15.898505799501436,24.536348498717416,-72.484034214401618,40.434854298218852]
[null,{"$f":"data!O33","v":"2017-07-20"},0.72992700729927007,16.029803400189849,27.652824311633594,-76.408634169492871,43.682627711823443]
[null,{"$f":"data!O34","v":"2017-07-19"},0.72992700729927007,16.045346739891102,28.041230775183067,-76.891797278542072,44.086577515074168]
[null,{"$f":"data!O35","v":"2017-07-18"},0.72992700729927007,16.241958526414237,31.079754379927181,-81.064287091139704,47.321712906341418]
[null,{"$f":"data!O36","v":"2017-07-17"},0.72992700729927007,16.45012456895347,34.575043666409329,-85.759348809951916,51.025168235362798]
[null,{"$f":"data!O37","v":"2017-07-14"},0.72992700729927007,16.585744713200256,37.461502906633541,-89.458064005943015,54.047247619833797]
[null,{"$f":"data!O38","v":"2017-07-13"},0.72992700729927007,16.713316953566391,39.822428987245075,-92.569437942234799,56.535745940811466,null,"β0 + β1  (short-term rate)"]
[null,{"$f":"data!O39","v":"2017-07-12"},0.72992700729927007,16.904677630140213,42.839230646844953,-96.693341592676006,59.743908276985167]
[null,{"$f":"data!O40","v":"2017-07-11"},0.72992700729927007,17.174681401673297,48.787248159525916,-104.27761404262856,65.961929561199213]
[null,{"$f":"data!O41","v":"2017-07-10"},0.72992700729927007,17.080805891368072,46.49985326861497,-101.41173999023158,63.580659159983043]
[null,{"$f":"data!O42","v":"2017-07-06"},0.72992700729927007,16.994985673936753,44.060385695891455,-98.426865628920496,61.055371369828208]
[null,{"$f":"data!O43","v":"2017-07-05"},0.72992700729927007,16.868367310155008,41.768044776865281,-95.391735265031457,58.63641208702029]
[null,{"$f":"data!O44","v":"2017-06-30"},0.72992700729927007,16.883611125158495,42.257040268741548,-95.976740967249498,59.140651393900043]
[null,{"$f":"data!O45","v":"2017-06-29"},0.72992700729927007,16.829483362387691,41.367134065600112,-94.775355950347148,58.196617427987803]
[null,{"$f":"data!O46","v":"2017-06-28"},0.72992700729927007,16.816234910351341,40.642691318527795,-93.957451028632931,57.458926228879136]
[null,{"$f":"data!O47","v":"2017-06-27"},0.72992700729927007,16.88447736629314,42.199532753555104,-95.91916616121307,59.084010119848244]
[null,{"$f":"data!O48","v":"2017-06-23"},0.72992700729927007,17.23233548772987,51.442963056149893,-107.32674982817844,68.675298543879762]
[null,{"$f":"data!O49","v":"2017-06-22"},0.72992700729927007,16.962745099026506,43.198605068959296,-97.356132270069793,60.161350167985802]
[null,{"$f":"data!O50","v":"2017-06-21"},0.72992700729927007,17.084653433536005,45.814379527699202,-100.70711726881564,62.899032961235207]
[null,{"$f":"data!O51","v":"2017-06-20"},0.72992700729927007,16.91728493309347,41.916701516718604,-95.774511243100278,58.833986449812073]
[null,{"$f":"data!O52","v":"2017-06-19"},0.72992700729927007,16.657345435452953,34.78077106497949,-86.987859934277367,51.438116500432443]
[null,{"$f":"data!O53","v":"2017-06-16"},0.72992700729927007,16.647007734258295,33.596698631125037,-85.698128941236064,50.243706365383332]
[null,{"$f":"data!O54","v":"2017-06-15"},0.72992700729927007,16.799987062549917,38.014267241349444,-91.097676443809178,54.814254303899361]
[null,{"$f":"data!O55","v":"2017-06-14"},0.72992700729927007,16.427487483582809,28.656046630523633,-79.41704820675659,45.083534114106442]
[null,{"$f":"data!O56","v":"2017-06-13"},0.72992700729927007,16.441078276886401,28.664519918995211,-79.49486892594723,45.105598195881612]
[null,{"$f":"data!O57","v":"2017-06-12"},0.72992700729927007,16.364321104556439,27.782299420010531,-78.187772861856502,44.14662052456697]
[null,{"$f":"data!O58","v":"2017-06-09"},0.72992700729927007,16.343347298447043,27.493953137483913,-77.762284318014281,43.837300435930956]
[null,{"$f":"data!O59","v":"2017-06-08"},0.72992700729927007,16.504547976470349,31.409698912757449,-82.678858230472542,47.914246889227798]
[null,{"$f":"data!O60","v":"2017-06-07"},0.72992700729927007,16.349995772879993,29.321826683997642,-79.718098831479438,45.671822456877635]
[null,{"$f":"data!O61","v":"2017-06-06"},0.72992700729927007,16.254406448526424,28.303131888795178,-78.183350752457045,44.557538337321603]
[null,{"$f":"data!O62","v":"2017-06-01"},0.72992700729927007,16.29181890541804,28.018126238632249,-78.04139836266404,44.309945144050289]
[null,{"$f":"data!O63","v":"2017-05-31"},0.72992700729927007,16.260327617887015,26.894810514175333,-76.696317360270768,43.155138132062348]
[null,{"$f":"data!O64","v":"2017-05-30"},0.72992700729927007,16.363136756297536,28.497271685890155,-78.882475406513549,44.860408442187691]
[null,{"$f":"data!O65","v":"2017-05-25"},0.72992700729927007,16.392850145661214,28.637060633656802,-79.187983989075292,45.029910779318016]
[null,{"$f":"data!O66","v":"2017-05-24"},0.72992700729927007,16.584247879787654,32.781877214176347,-84.49359026417369,49.366125093964001]
[null,{"$f":"data!O67","v":"2017-05-23"},0.72992700729927007,16.538965579158685,31.681979153683642,-83.120771412446629,48.220944732842327]
[null,{"$f":"data!O68","v":"2017-05-22"},0.72992700729927007,16.195020932980697,27.334054452949204,-76.875228356977459,43.5290753859299]
[null,{"$f":"data!O69","v":"2017-05-19"},0.72992700729927007,16.260406634122774,28.530947690887842,-78.461169335467275,44.791354325010616]
[null,{"$f":"data!O70","v":"2017-05-16"},0.72992700729927007,17.358513577884878,46.091266532894224,-102.27268391620601,63.449780110779102]
[null,{"$f":"data!O71","v":"2017-05-15"},0.72992700729927007,17.430035451618096,47.175766090134857,-103.76825924922014,64.605801541752953]
[null,{"$f":"data!O72","v":"2017-05-12"},0.72992700729927007,17.402577545577515,47.895890406565741,-104.37659192370484,{"$f":"IF(B70=\"\", \"\", D70+E70)","v":65.298467952143255}]
[null,{"$f":"data!O73","v":"2017-05-11"},0.72992700729927007,17.381668890438959,47.673275091568939,-104.03008590737591,65.054943982007899]
[null,{"$f":"data!O74","v":"2017-05-10"},0.72992700729927007,17.563428332690819,49.306001939519774,-106.6499690177734,66.869430272210593]
[null,{"$f":"data!O75","v":"2017-05-08"},0.72992700729927007,17.55282770771737,47.075249571877066,-104.27349673947901,64.628077279594436]
[null,{"$f":"data!O76","v":"2017-05-05"},0.72992700729927007,17.592695329942217,46.867703480442287,-104.25627154335962,64.460398810384504]
[null,{"$f":"data!O77","v":"2017-05-04"},0.72992700729927007,17.76269923476957,49.797798857907765,-108.19094292775844,67.560498092677335]
[null,{"$f":"data!O78","v":"2017-05-03"},0.72992700729927007,17.460740256679856,45.660587436897913,-102.34980269416701,63.121327693577769]
[null,{"$f":"data!O79","v":"2017-05-02"},0.72992700729927007,17.44470634739082,48.469663028081413,-105.19743799592834,65.914369375472234]
[null,{"$f":"data!O80","v":"2017-05-01"},0.72992700729927007,17.447927053257445,50.615591412875801,-107.47232439846266,68.063518466133246]
[null,{"$f":"data!O81","v":"2017-04-28"},0.72992700729927007,17.490621927849133,51.908109813753981,-109.04728870780673,69.398731741603115]
[null,{"$f":"data!O82","v":"2017-04-27"},0.72992700729927007,17.446769758875234,51.44566005183151,-108.35605959396344,68.892429810706744]
[null,{"$f":"data!O83","v":"2017-04-25"},0.72992700729927007,17.327129448556661,48.785976863524411,-104.944259003154,66.113106312081072]
[null,{"$f":"data!O84","v":"2017-04-24"},0.72992700729927007,16.930566107810591,34.416324908233946,-87.84900126431603,51.346891016044538]
[null,{"$f":"data!O85","v":"2017-04-21"},0.72992700729927007,17.03906100765289,36.128007346123923,-90.212630400113994,53.167068353776813]
[null,{"$f":"data!O86","v":"2017-04-20"},0.72992700729927007,17.093082547741687,35.748183587842504,-90.067068346368615,52.841266135584192]
[null,{"$f":"data!O87","v":"2017-04-19"},0.72992700729927007,17.267001799893478,37.658970960328588,-92.926558587598265,54.925972760222066]
[null,{"$f":"data!O88","v":"2017-04-18"},0.72992700729927007,17.112418987627279,35.864677401536028,-90.258805114688585,52.977096389163307]
[null,{"$f":"data!O89","v":"2017-04-13"},0.72992700729927007,16.781828840355956,31.19987964972097,-83.701736018469092,47.981708490076926]
[null,{"$f":"data!O90","v":"2017-04-12"},0.72992700729927007,16.790079635711663,31.378294973852462,-83.940660629450576,48.168374609564125]
[null,{"$f":"data!O91","v":"2017-04-11"},0.72992700729927007,16.801880691171391,33.822845330927521,-86.572571546654217,50.624726022098912]
[null,{"$f":"data!O92","v":"2017-04-10"},0.72992700729927007,16.614768246341555,31.628914391010767,-83.332747226115316,48.243682637352322]
[null,{"$f":"data!O93","v":"2017-04-07"},0.72992700729927007,16.695760826114565,33.615609288885025,-85.840378952038009,50.31137011499959]
[null,{"$f":"data!O94","v":"2017-04-06"},0.72992700729927007,16.703685560602025,35.760143962921575,-88.164269982429687,52.4638295235236]
[null,{"$f":"data!O95","v":"2017-04-05"},0.72992700729927007,16.853542390537768,39.741472504276317,-93.109292066306807,56.595014894814085]
[null,{"$f":"data!O96","v":"2017-04-04"},0.72992700729927007,16.670008080942353,35.009124346543103,-87.20308068592567,51.679132427485456]
[null,{"$f":"data!O97","v":"2017-04-03"},0.72992700729927007,16.577493706092355,33.54188718565274,-85.207514086796436,50.119380891745095]
[null,{"$f":"data!O98","v":"2017-03-31"},0.72992700729927007,16.686769047744747,36.274510002811439,-88.637923117959872,52.961279050556186]
[null,{"$f":"data!O99","v":"2017-03-30"},0.72992700729927007,16.713430532279745,36.627125672646798,-89.130960002075881,53.340556204926543]
[null,{"$f":"data!O100","v":"2017-03-29"},0.72992700729927007,16.911570796688466,39.523984851199202,-93.139743192761671,56.435555647887668]
[null,{"$f":"data!O101","v":"2017-03-28"},0.72992700729927007,16.92619181928967,39.779744827188551,-93.473485588096082,56.705936646478222]
[null,{"$f":"data!O102","v":"2017-03-27"},0.72992700729927007,17.369980909785227,49.85949526441982,-106.28184604260605,67.229476174205047]
[null,{"$f":"data!O103","v":"2017-03-24"},0.72992700729927007,17.216230779777106,46.769066112465225,-102.26420688652433,63.985296892242332]
[null,{"$f":"data!O104","v":"2017-03-23"},0.72992700729927007,17.137725112836051,42.731768865080085,-97.637763571110554,59.869493977916136]
[null,{"$f":"data!O105","v":"2017-03-22"},0.72992700729927007,17.440300938716973,51.138396364403889,-107.97471925267018,68.578697303120862]
[null,{"$f":"data!O106","v":"2017-03-21"},0.72992700729927007,17.422084853555134,52.043501913663931,-108.85067698359489,69.465586767219065]
[null,{"$f":"data!O107","v":"2017-03-17"},0.72992700729927007,17.2814162526156,49.683130893739872,-105.69101307867095,66.964547146355471]
[null,{"$f":"data!O108","v":"2017-03-16"},0.72992700729927007,17.14430376315795,46.381273846607655,-101.5438728829613,63.525577609765605]
[null,{"$f":"data!O109","v":"2017-03-15"},0.72992700729927007,17.239396285393013,47.778560363105498,-103.45035314199049,65.017956648498512]
[null,{"$f":"data!O110","v":"2017-03-14"},0.72992700729927007,17.224900389284812,44.686877786647528,-100.1003457136103,61.911778175932341]
[null,{"$f":"data!O111","v":"2017-03-13"},0.72992700729927007,16.963742817883031,40.488399291643873,-94.394944166415371,57.452142109526903]
[null,{"$f":"data!O112","v":"2017-03-10"},0.72992700729927007,16.722923746587185,33.773390595655655,-86.114691810624208,50.49631434224284]
[null,{"$f":"data!O113","v":"2017-03-09"},0.72992700729927007,16.916123267650619,36.631607957591768,-90.083378198440187,53.547731225242387]
[null,{"$f":"data!O114","v":"2017-03-08"},0.72992700729927007,16.781065708079041,34.387766132102115,-87.045212777331471,51.168831840181156]
[null,{"$f":"data!O115","v":"2017-03-07"},0.72992700729927007,16.754199877774226,35.769693309324794,-88.390824339876417,52.52389318709902]
[null,{"$f":"data!O116","v":"2017-03-06"},0.72992700729927007,16.519629487902421,30.826984197279671,-82.024970047990791,47.346613685182092]
[null,{"$f":"data!O117","v":"2017-03-03"},0.72992700729927007,16.493565770397254,31.148160414188169,-82.244277437450364,47.641726184585423]
[null,{"$f":"data!O118","v":"2017-03-02"},0.72992700729927007,16.474758144770021,30.908516327850521,-81.900638517981861,47.383274472620542]
[null,{"$f":"data!O119","v":"2017-03-01"},0.72992700729927007,16.482579786681526,30.762406101275701,-81.780536708130967,47.244985887957228]
[null,{"$f":"data!O120","v":"2017-02-28"},0.72992700729927007,16.471434378991034,30.287013500230387,-81.212681857228745,46.758447879221421]
[null,{"$f":"data!O121","v":"2017-02-24"},0.72992700729927007,16.486737573693972,31.158477755379863,-82.206277053279337,47.645215329073835]
[null,{"$f":"data!O122","v":"2017-02-23"},0.72992700729927007,16.633749351482038,33.31940072280122,-85.198881671589334,49.953150074283258]
[null,{"$f":"data!O123","v":"2017-02-21"},0.72992700729927007,16.63911911820469,33.499524575774558,-85.421640836109873,50.138643693979247]
[null,{"$f":"data!O124","v":"2017-02-17"},0.72992700729927007,16.536579848505426,31.621000702667516,-82.936229377868585,48.157580551172941]
[null,{"$f":"data!O125","v":"2017-02-16"},0.72992700729927007,16.724873458453658,35.727745781361591,-88.192063329974189,52.452619239815249]
[null,{"$f":"data!O126","v":"2017-02-15"},0.72992700729927007,16.798032379118013,36.413550599187147,-89.264173637726344,53.211582978305159]
[null,{"$f":"data!O127","v":"2017-02-14"},0.72992700729927007,16.911843553354629,37.699784149590414,-91.167077392630745,54.611627702945043]
[null,{"$f":"data!O128","v":"2017-02-13"},0.72992700729927007,16.917982221895727,37.240407543373294,-90.709153661038727,54.158389765269021]
[null,{"$f":"data!O129","v":"2017-02-09"},0.72992700729927007,17.004196406003757,39.220217638474423,-93.250460894370917,56.224414044478181]
[null,{"$f":"data!O130","v":"2017-02-08"},0.72992700729927007,16.727308596766306,35.212536710023414,-87.685620290401857,51.939845306789721]
[null,{"$f":"data!O131","v":"2017-02-07"},0.72992700729927007,16.589576334225058,32.425504957063822,-84.069758279598318,49.01508129128888]
[null,{"$f":"data!O132","v":"2017-02-06"},0.72992700729927007,16.643093542463248,33.73139518458629,-85.709092354634777,50.374488727049538]
[null,{"$f":"data!O133","v":"2017-02-03"},0.72992700729927007,16.577564452012666,32.436300544592086,-84.019970281864516,49.013864996604752]
[null,{"$f":"data!O134","v":"2017-02-02"},0.72992700729927007,16.586892881863605,32.927275681693573,-84.592401518777478,49.514168563557178]
[null,{"$f":"data!O135","v":"2017-02-01"},0.72992700729927007,16.581309804110788,33.045329659827985,-84.68951589090284,49.626639463938773]
[null,{"$f":"data!O136","v":"2017-01-31"},0.72992700729927007,16.517320634102362,31.917138753633481,-83.18397722276859,{"$f":"IF(B134=\"\", \"\", D134+E134)","v":48.434459387735842}]
[null,{"$f":"data!O137","v":"2017-01-30"},0.72992700729927007,16.512043986767821,31.844095049833413,-83.083211118355393,48.356139036601235]
[null,{"$f":"data!O138","v":"2017-01-27"},0.72992700729927007,16.449616791227527,30.939254992175847,-81.818376580777112,47.388871783403374]
[null,{"$f":"data!O139","v":"2017-01-26"},0.72992700729927007,16.457513721135911,31.2821880117408,-82.226834752655122,47.739701732876711]
[null,{"$f":"data!O140","v":"2017-01-24"},0.72992700729927007,16.735745870431856,38.108428241219372,-90.793216869351454,54.844174111651228]
[null,{"$f":"data!O141","v":"2017-01-23"},0.72992700729927007,16.843891565782542,39.888540589949116,-93.199517566245049,56.732432155731658]
[null,{"$f":"data!O142","v":"2017-01-19"},0.72992700729927007,16.813813414926699,38.521034603356384,-91.599472874542698,55.334848018283083]
[null,{"$f":"data!O143","v":"2017-01-18"},0.72992700729927007,16.780694332079293,37.780056082468946,-90.65261638991069,54.560750414548238]
[null,{"$f":"data!O144","v":"2017-01-17"},0.72992700729927007,16.785167396688848,36.450029709318187,-89.262424543383531,53.235197106007035]
[null,{"$f":"data!O145","v":"2017-01-13"},0.72992700729927007,16.792297733747546,36.239878219144884,-89.056502574705519,53.03217595289243]
[null,{"$f":"data!O146","v":"2017-01-12"},0.72992700729927007,16.911122946374235,39.271981095196679,-92.837146528763697,56.183104041570914]
[null,{"$f":"data!O147","v":"2017-01-11"},0.72992700729927007,16.931549733682914,40.041033259127289,-93.746192463557236,56.972582992810203]
[null,{"$f":"data!O148","v":"2017-01-10"},0.72992700729927007,16.901514941764617,39.801352079957724,-93.347587116993964,56.702867021722341]
[null,{"$f":"data!O149","v":"2017-01-09"},0.72992700729927007,16.937586312273197,40.892176111228764,-94.680123450583778,57.829762423501961]
[null,{"$f":"data!O150","v":"2017-01-06"},0.72992700729927007,16.886581386337639,39.795784221147187,-93.274178006569855,56.682365607484826]
[null,{"$f":"data!O151","v":"2017-01-05"},0.72992700729927007,16.898767179653078,39.992629069136456,-93.537334701279178,56.891396248789533]
[null,{"$f":"data!O152","v":"2017-01-04"},0.72992700729927007,17.081374969588069,45.190123138600029,-99.916907634586096,62.271498108188098]
[null,{"$f":"data!O153","v":"2017-01-03"},0.72992700729927007,17.190914575952775,45.653961144387722,-100.9317581851501,62.844875720340497]
[null,{"$f":"data!O154","v":"2016-12-29"},0.72992700729927007,17.376010716372548,49.622714135563001,-106.00948591483757,66.998724851935549]
[null,{"$f":"data!O155","v":"2016-12-28"},0.72992700729927007,17.311061287891789,48.120928396121599,-104.10759796632919,65.431989684013388]
[null,{"$f":"data!O156","v":"2016-12-27"},0.72992700729927007,17.334698662019946,48.530993039254099,-104.65364215278532,65.865691701274045]
[null,{"$f":"data!O157","v":"2016-12-23"},0.72992700729927007,17.475602836078906,52.958067851141095,-110.00665579293855,70.433670687220001]
[null,{"$f":"data!O158","v":"2016-12-22"},0.72992700729927007,17.466224070813041,52.52090151864104,-109.49107250757515,69.987125589454081]
[null,{"$f":"data!O159","v":"2016-12-20"},0.72992700729927007,17.389296612051112,48.92760796204675,-105.33854540821631,66.316904574097862]
[null,{"$f":"data!O160","v":"2016-12-19"},0.72992700729927007,17.407457889850775,49.770811716443859,-106.31909045903012,67.178269606294634]
[null,{"$f":"data!O161","v":"2016-12-16"},0.72992700729927007,17.469673121398955,50.405270427465439,-107.29386342852376,67.874943548864394]
[null,{"$f":"data!O162","v":"2016-12-15"},0.72992700729927007,17.513963081561087,50.927155377692543,-108.06151313858572,68.44111845925363]
[null,{"$f":"data!O163","v":"2016-12-14"},0.72992700729927007,17.325803740459378,47.219069342361763,-103.22190725617111,64.544873082821141]
[null,{"$f":"data!O164","v":"2016-12-13"},0.72992700729927007,17.429526119027287,50.134660046664067,-106.81397544743959,67.564186165691353]
[null,{"$f":"data!O165","v":"2016-12-12"},0.72992700729927007,17.457549683254911,51.15815377549734,-108.04413111042231,68.61570345875225]
[null,{"$f":"data!O166","v":"2016-12-08"},0.72992700729927007,17.870066411593143,63.212293117307127,-122.76493594283238,81.08235952890027]
[null,{"$f":"data!O167","v":"2016-12-07"},0.72992700729927007,17.909443323191226,65.956886246567592,-125.83277980936691,83.866329569758818]
[null,{"$f":"data!O168","v":"2016-12-06"},0.72992700729927007,18.206909136366448,70.844778025406413,-132.43528653890826,89.051687161772861]
[null,{"$f":"data!O169","v":"2016-12-05"},0.72992700729927007,18.870510383498186,96.393597228219733,-162.45657632802613,115.26410761171792]
[null,{"$f":"data!O170","v":"2016-12-02"},0.72992700729927007,18.873224667171598,101.39252949808724,-167.67365050362423,120.26575416525884]
[null,{"$f":"data!O171","v":"2016-12-01"},0.72992700729927007,18.408522447192809,88.687743239104748,-152.05966592021286,107.09626568629756]
[null,{"$f":"data!O172","v":"2016-11-30"},0.72992700729927007,18.332014807892847,86.226656086742878,-149.13031749520451,104.55867089463572]
[null,{"$f":"data!O173","v":"2016-11-29"},0.72992700729927007,18.312167061769287,85.664565927349031,-148.44663018640131,103.97673298911832]
[null,{"$f":"data!O174","v":"2016-11-28"},0.72992700729927007,18.09080983196327,76.439845783635974,-137.69994409522042,94.530655615599244]
[null,{"$f":"data!O175","v":"2016-11-23"},0.72992700729927007,18.277552480823942,84.161756804212928,-146.69411973282695,102.43930928503687]
[null,{"$f":"data!O176","v":"2016-11-22"},0.72992700729927007,18.28225404668774,85.327620473690331,-147.9264379767701,103.60987452037807]
[null,{"$f":"data!O177","v":"2016-11-21"},0.72992700729927007,18.469132125275792,91.128469274379313,-154.90106049738824,109.5976013996551]
[null,{"$f":"data!O178","v":"2016-11-18"},0.72992700729927007,18.524722616464715,94.909232521429658,-159.11896167136729,113.43395513789437]
[null,{"$f":"data!O179","v":"2016-11-17"},0.72992700729927007,18.188967244801461,82.084623190574348,-144.06702365074307,100.27359043537581]
[null,{"$f":"data!O180","v":"2016-11-16"},0.72992700729927007,18.30098859660211,86.723237793892622,-149.46403543464839,105.02422639049473]
[null,{"$f":"data!O181","v":"2016-11-15"},0.72992700729927007,18.151368676946731,79.063774092122912,-140.74266942590475,97.215142769069644]
[null,{"$f":"data!O182","v":"2016-11-14"},0.72992700729927007,18.266428532209829,79.716247027972713,-142.00672751339152,97.982675560182543]
[null,{"$f":"data!O183","v":"2016-11-10"},0.72992700729927007,18.091697428317275,75.26869353861548,-136.5254632383585,93.360390966932755]
[null,{"$f":"data!O184","v":"2016-11-09"},0.72992700729927007,17.680760174436728,62.02247556252405,-120.60207002516836,79.703235736960778]
[null,{"$f":"data!O185","v":"2016-11-08"},0.72992700729927007,17.842968289791315,65.761102558579296,-125.3298021114897,83.604070848370611]
[null,{"$f":"data!O186","v":"2016-11-07"},0.72992700729927007,17.785597477981355,65.286981521639973,-124.53887389344163,83.072578999621328]
[null,{"$f":"data!O187","v":"2016-11-04"},0.72992700729927007,18.403567580637173,84.822281140601262,-148.06989439460449,103.22584872123844]
[null,{"$f":"data!O188","v":"2016-11-03"},0.72992700729927007,18.022301868073555,68.062892199843191,-128.63771768298466,86.085194067916746]
[null,{"$f":"data!O189","v":"2016-11-02"},0.72992700729927007,18.11577828141526,69.588929402409121,-130.69894911302254,87.704707683824381]
[null,{"$f":"data!O190","v":"2016-11-01"},0.72992700729927007,17.335544992107316,53.733312293421477,-110.19845992722549,71.068857285528793]
[null,{"$f":"data!O191","v":"2016-10-31"},0.72992700729927007,17.149116299056914,49.110193299129605,-104.41176951746456,66.259309598186519]
[null,{"$f":"data!O192","v":"2016-10-28"},0.72992700729927007,16.927071621103096,45.362137065501884,-99.387216904666275,62.289208686604979]
[null,{"$f":"data!O193","v":"2016-10-27"},0.72992700729927007,16.932498278722051,45.145050295628607,-99.194733312353492,62.077548574350658]
[null,{"$f":"data!O194","v":"2016-10-26"},0.72992700729927007,16.460036094635143,35.124132751254365,-86.3477068527136,51.584168845889508]
[null,{"$f":"data!O195","v":"2016-10-25"},0.72992700729927007,15.951987828884739,26.273019854677841,-74.541055709123611,42.22500768356258]
[null,{"$f":"data!O196","v":"2016-10-24"},0.72992700729927007,15.88335950417968,25.290545551804826,-73.175978068262339,41.173905055984505]
[null,{"$f":"data!O197","v":"2016-10-21"},0.72992700729927007,15.786716208414873,23.828695835312828,-71.161763028008863,39.615412043727702]
[null,{"$f":"data!O198","v":"2016-10-20"},0.72992700729927007,15.904323925315111,24.948117171879858,-72.901273727416992,40.852441097194969]
[null,{"$f":"data!O199","v":"2016-10-19"},0.72992700729927007,16.053522743655776,27.324118387070484,-76.128579792333767,43.377641130726261]
[null,{"$f":"data!O200","v":"2016-10-18"},0.72992700729927007,16.305121235905972,32.296703970059752,-82.604984628269449,{"$f":"IF(B198=\"\", \"\", D198+E198)","v":48.601825205965724}]
[null,{"$f":"data!O201","v":"2016-10-17"},0.72992700729927007,16.442680160136661,34.392069565365091,-85.480607826961204,50.834749725501752]
[null,{"$f":"data!O202","v":"2016-10-14"},0.72992700729927007,16.397089471211075,33.417590000433847,-84.224368884693831,49.814679471644922]
[null,{"$f":"data!O203","v":"2016-10-13"},0.72992700729927007,16.440745564708777,34.190869871294126,-85.250794218853116,50.631615436002903]
[null,{"$f":"data!O204","v":"2016-10-12"},0.72992700729927007,16.624021917363279,38.763316872995347,-90.979055751580745,55.387338790358626]
[null,{"$f":"data!O205","v":"2016-10-11"},0.72992700729927007,16.783099623004091,41.999937248649076,-95.174578334204853,58.783036871653167]
[null,{"$f":"data!O206","v":"2016-10-07"},0.72992700729927007,16.6319832369918,38.464621593011543,-90.701814691536129,55.096604830003344]
[null,{"$f":"data!O207","v":"2016-10-06"},null,null,null,null,0]
[null,{"$f":"data!O208","v":"2016-10-05"},null,null,null,null,0]
[null,{"$f":"data!O209","v":"2016-10-04"},null,null,null,null,0]
[null,{"$f":"data!O210","v":"2016-10-03"},null,null,null,null,0]
[null,{"$f":"data!O211","v":"2016-09-30"},null,null,null,null,0]
[null,{"$f":"data!O212","v":"2016-09-29"},null,null,null,null,0]
[null,{"$f":"data!O213","v":"2016-09-28"},null,null,null,null,0]
[null,{"$f":"data!O214","v":"2016-09-27"},null,null,null,null,0]
[null,{"$f":"data!O215","v":"2016-09-26"},null,null,null,null,0]
[null,{"$f":"data!O216","v":"2016-09-23"},null,null,null,null,0]
[null,{"$f":"data!O217","v":"2016-09-22"},null,null,null,null,0]
[null,{"$f":"data!O218","v":"2016-09-21"},null,null,null,null,0]
[null,{"$f":"data!O219","v":"2016-09-20"},null,null,null,null,0]
[null,{"$f":"data!O220","v":"2016-09-19"},null,null,null,null,0]
[null,{"$f":"data!O221","v":"2016-09-16"},null,null,null,null,0]
[null,{"$f":"data!O222","v":"2016-09-15"},null,null,null,null,0]
[null,{"$f":"data!O223","v":"2016-09-14"},null,null,null,null,0]
[null,{"$f":"data!O224","v":"2016-09-13"},null,null,null,null,0]
[null,{"$f":"data!O225","v":"2016-09-12"},null,null,null,null,0]
[null,{"$f":"data!O226","v":"2016-09-09"},null,null,null,null,0]
[null,{"$f":"data!O227","v":"2016-09-08"},null,null,null,null,0]
[null,{"$f":"data!O228","v":"2016-09-07"},null,null,null,null,0]
[null,{"$f":"data!O229","v":"2016-09-06"},null,null,null,null,0]
[null,{"$f":"data!O230","v":"2016-09-02"},null,null,null,null,0]
[null,{"$f":"data!O231","v":"2016-09-01"},null,null,null,null,0]
[null,{"$f":"data!O232","v":"2016-08-31"},null,null,null,null,0]
[null,{"$f":"data!O233","v":"2016-08-30"},null,null,null,null,0]
[null,{"$f":"data!O234","v":"2016-08-26"},null,null,null,null,0]
[null,{"$f":"data!O235","v":"2016-08-25"},null,null,null,null,0]
[null,{"$f":"data!O236","v":"2016-08-23"},null,null,null,null,0]
[null,{"$f":"data!O237","v":"2016-08-22"},null,null,null,null,0]
[null,{"$f":"data!O238","v":"2016-08-19"},null,null,null,null,0]
[null,{"$f":"data!O239","v":"2016-08-18"},null,null,null,null,0]
[null,{"$f":"data!O240","v":"2016-08-17"},null,null,null,null,0]
[null,{"$f":"data!O241","v":"2016-08-16"},null,null,null,null,0]
[null,{"$f":"data!O242","v":"2016-08-15"},null,null,null,null,0]
[null,{"$f":"data!O243","v":"2016-08-12"},null,null,null,null,0]
[null,{"$f":"data!O244","v":"2016-08-11"},null,null,null,null,0]
[null,{"$f":"data!O245","v":"2016-08-10"},null,null,null,null,0]
[null,{"$f":"data!O246","v":"2016-08-08"},null,null,null,null,0]
[null,{"$f":"data!O247","v":"2016-08-05"},null,null,null,null,0]
[null,{"$f":"data!O248","v":"2016-08-04"},null,null,null,null,0]
[null,{"$f":"data!O249","v":"2016-08-03"},null,null,null,null,0]
[null,{"$f":"data!O250","v":"2016-08-02"},null,null,null,null,0]
[null,{"$f":"data!O251","v":"2016-08-01"},null,null,null,null,0]
[null,{"$f":"data!O252","v":"2016-07-29"},null,null,null,null,0]
[null,{"$f":"data!O253","v":"2016-07-28"},null,null,null,null,0]
[null,{"$f":"data!O254","v":"2016-07-27"},null,null,null,null,0]
[null,{"$f":"data!O255","v":"2016-07-26"},null,null,null,null,0]
[null,{"$f":"data!O256","v":"2016-07-25"},null,null,null,null,0]
[null,{"$f":"data!O257","v":"2016-07-22"},null,null,null,null,0]
[null,{"$f":"data!O258","v":"2016-07-21"},null,null,null,null,0]
[null,{"$f":"data!O259","v":"2016-07-20"},null,null,null,null,0]
[null,{"$f":"data!O260","v":"2016-07-19"},null,null,null,null,0]
[null,{"$f":"data!O261","v":"2016-07-18"},null,null,null,null,0]
[null,{"$f":"data!O262","v":"2016-07-15"},null,null,null,null,0]
[null,{"$f":"data!O263","v":"2016-07-14"},null,null,null,null,0]
[null,{"$f":"data!O264","v":"2016-07-13"},null,null,null,null,{"$f":"IF(B262=\"\", \"\", D262+E262)","v":0}]
[null,{"$f":"data!O265","v":"2016-07-12"},null,null,null,null,0]
[null,{"$f":"data!O266","v":"2016-07-11"},null,null,null,null,0]
[null,{"$f":"data!O267","v":"2016-07-08"},null,null,null,null,0]
[null,{"$f":"data!O268","v":"2016-07-07"},null,null,null,null,0]
[null,{"$f":"data!O269","v":"2016-07-06"},null,null,null,null,0]
[null,{"$f":"data!O270","v":"2016-07-05"},null,null,null,null,0]
[null,{"$f":"data!O271","v":"2016-07-01"},null,null,null,null,0]
[null,{"$f":"data!O272","v":"2016-06-30"},null,null,null,null,0]
[null,{"$f":"data!O273","v":"2016-06-29"},null,null,null,null,0]
[null,{"$f":"data!O274","v":"2016-06-28"},null,null,null,null,0]
[null,{"$f":"data!O275","v":"2016-06-27"},null,null,null,null,0]
[null,{"$f":"data!O276","v":"2016-06-24"},null,null,null,null,0]
[null,{"$f":"data!O277","v":"2016-06-23"},null,null,null,null,0]
[null,{"$f":"data!O278","v":"2016-06-22"},null,null,null,null,0]
[null,{"$f":"data!O279","v":"2016-06-21"},null,null,null,null,0]
[null,{"$f":"data!O280","v":"2016-06-20"},null,null,null,null,0]
[null,{"$f":"data!O281","v":"2016-06-17"},null,null,null,null,0]
[null,{"$f":"data!O282","v":"2016-06-16"},null,null,null,null,0]
[null,{"$f":"data!O283","v":"2016-06-15"},null,null,null,null,0]
[null,{"$f":"data!O284","v":"2016-06-14"},null,null,null,null,0]
[null,{"$f":"data!O285","v":"2016-06-13"},null,null,null,null,0]
[null,{"$f":"data!O286","v":"2016-06-10"},null,null,null,null,0]
[null,{"$f":"data!O287","v":"2016-06-09"},null,null,null,null,0]
[null,{"$f":"data!O288","v":"2016-06-08"},null,null,null,null,0]
[null,{"$f":"data!O289","v":"2016-06-07"},null,null,null,null,0]
[null,{"$f":"data!O290","v":"2016-06-03"},null,null,null,null,0]
[null,{"$f":"data!O291","v":"2016-06-02"},null,null,null,null,0]
[null,{"$f":"data!O292","v":"2016-06-01"},null,null,null,null,0]
[null,{"$f":"data!O293","v":"2016-05-31"},null,null,null,null,0]
[null,{"$f":"data!O294","v":"2016-05-26"},null,null,null,null,0]
[null,{"$f":"data!O295","v":"2016-05-25"},null,null,null,null,0]
[null,{"$f":"data!O296","v":"2016-05-24"},null,null,null,null,0]
[null,{"$f":"data!O297","v":"2016-05-23"},null,null,null,null,0]
[null,{"$f":"data!O298","v":"2016-05-20"},null,null,null,null,0]
[null,{"$f":"data!O299","v":"2016-05-19"},null,null,null,null,0]
[null,{"$f":"data!O300","v":"2016-05-18"},null,null,null,null,0]
[null,{"$f":"data!O301","v":"2016-05-17"},null,null,null,null,0]
[null,{"$f":"data!O302","v":"2016-05-16"},null,null,null,null,0]
[null,{"$f":"data!O303","v":"2016-05-13"},null,null,null,null,0]
[null,{"$f":"data!O304","v":"2016-05-11"},null,null,null,null,0]
[null,{"$f":"data!O305","v":"2016-05-10"},null,null,null,null,0]
[null,{"$f":"data!O306","v":"2016-05-09"},null,null,null,null,0]
[null,{"$f":"data!O307","v":"2016-05-06"},null,null,null,null,0]
[null,{"$f":"data!O308","v":"2016-05-05"},null,null,null,null,0]
[null,{"$f":"data!O309","v":"2016-05-04"},null,null,null,null,0]
[null,{"$f":"data!O310","v":"2016-05-03"},null,null,null,null,0]
[null,{"$f":"data!O311","v":"2016-05-02"},null,null,null,null,0]
[null,{"$f":"data!O312","v":"2016-04-29"},null,null,null,null,0]
[null,{"$f":"data!O313","v":"2016-04-28"},null,null,null,null,0]
[null,{"$f":"data!O314","v":"2016-04-27"},null,null,null,null,0]
[null,{"$f":"data!O315","v":"2016-04-26"},null,null,null,null,0]
[null,{"$f":"data!O316","v":"2016-04-22"},null,null,null,null,0]

{"sheet":"charts","index":3,"n_rows":2,"n_cols":2,"rows_kept":2,"cut":false,"hidden":false,"merged":[]}
[]
[null,"TAB: CHARTS"]

{"sheet":"fitted","index":4,"n_rows":205,"n_cols":26,"rows_kept":205,"cut":false,"hidden":false,"merged":[]}
[]
[null,null,"TAB: FITTED YIELD TERM STRUCTURE",null,null,null,null,null,null,null,null,"Mean (in bps)",null,null,{"$f":"100*AVERAGE(O6:O1000)","v":-1.0597449412885318},{"$f":"100*AVERAGE(P6:P1000)","v":1.3779819619748519},-0.85347163058179765,-2.0702259263093388,2.1418523851600568,-2.8044571025169782,0.4097746367753673,3.6908773345729062,-0.83258671777994664]
[null,null,null,null,null,null,null,null,null,null,null,"StDev (in bps)",null,null,{"$f":"100*STDEV(O6:O1000)","v":1.7219311260311929},{"$f":"100*STDEV(P6:P1000)","v":2.0801969688649726},1.1288601173244146,1.362397469942688,1.2548995456653975,2.1874940523377777,1.1361417473113509,2.6020076324112034,1.0662830482182573]
[null,null,"Fitted yields (in %)",null,null,null,null,null,null,null,null,null,null,null,"Term structure residuals (in %)",null,null,null,null,null,null,null,null,null,null,"Test"]
[null,"#",{"$f":"TS!B4","v":"Date"},{"$f":"calc!C5","v":1.8879999999999999},{"$f":"calc!D5","v":2.1859999999999999},{"$f":"calc!E5","v":4.1449999999999996},{"$f":"calc!F5","v":5.1920000000000002},{"$f":"calc!G5","v":5.3970000000000002},{"$f":"calc!H5","v":5.7729999999999997},{"$f":"calc!I5","v":6.444},{"$f":"calc!J5","v":7.1950000000000003},{"$f":"calc!K5","v":7.4},{"$f":"calc!L5","v":0},null,{"$f":"D5","v":1.8879999999999999},2.1859999999999999,4.1449999999999996,5.1920000000000002,5.3970000000000002,5.7729999999999997,6.444,7.1950000000000003,7.4,null,null,"SUM"]
[null,1,{"$f":"IF(TS!B5=\"\", \"\", TS!B5)","v":"2017-08-29"},{"$f":"_xll.AC.finance.irb.ts._get(calc!C10, config!D10, 0)","v":5.8910416511704184},4.9336987644514529,7.5329584996304515,6.620876356361924,6.3698132999467116,6.1483519459552838,6.7585389342581461,7.0703644125342127,7.1113561354961448,null,null,{"$f":"IF($C6=\"\", \"\", data!P7-D6)","v":1.4958348829581247E-2},{"$f":"IF($C6=\"\", \"\", data!Q7-E6)","v":-3.6987644514532292E-3},{"$f":"IF($C6=\"\", \"\", data!R7-F6)","v":1.6041500369548878E-2},{"$f":"IF($C6=\"\", \"\", data!S7-G6)","v":-7.87635636192352E-3},{"$f":"IF($C6=\"\", \"\", data!T7-H6)","v":-1.8132999467113109E-3},{"$f":"IF($C6=\"\", \"\", data!U7-I6)","v":5.6480540447161331E-3},{"$f":"IF($C6=\"\", \"\", data!V7-J6)","v":-9.5389342581464476E-3},{"$f":"IF($C6=\"\", \"\", data!W7-K6)","v":-7.3644125342129385E-3},{"$f":"IF($C6=\"\", \"\", data!X7-L6)","v":-6.3561354961443328E-3},null,null,{"$f":"SUM(O6:X6)","v":1.9525447925161643E-10}]
[null,{"$f":"B6+1","v":2},{"$f":"IF(TS!B6=\"\", \"\", TS!B6)","v":"2017-08-28"},5.9224628623357027,4.9228581962018687,7.470170392018499,6.575228917325564,6.3087361633252144,6.1474319292965021,6.8202050626356741,7.0707385500857072,7.0541679268249418,null,null,{"$f":"IF($C7=\"\", \"\", data!P8-D7)","v":1.2537137664296871E-2},{"$f":"IF($C7=\"\", \"\", data!Q8-E7)","v":-2.858196201868779E-3},{"$f":"IF($C7=\"\", \"\", data!R8-F7)","v":1.4829607981501347E-2},{"$f":"IF($C7=\"\", \"\", data!S8-G7)","v":-7.2289173255644101E-3},{"$f":"IF($C7=\"\", \"\", data!T8-H7)","v":-7.3616332521453387E-4},{"$f":"IF($C7=\"\", \"\", data!U8-I7)","v":4.5680707034980728E-3},{"$f":"IF($C7=\"\", \"\", data!V8-J7)","v":-9.2050626356741105E-3},{"$f":"IF($C7=\"\", \"\", data!W8-K7)","v":-5.7385500857067839E-3},{"$f":"IF($C7=\"\", \"\", data!X8-L7)","v":-6.1679268249417163E-3},null,null,{"$f":"SUM(O7:X7)","v":-4.9674042656988604E-11}]
[null,{"$f":"B7+1","v":3},{"$f":"IF(TS!B7=\"\", \"\", TS!B7)","v":"2017-08-25"},5.6819768560298307,4.9314827229368916,7.3778064342288818,6.6065958986202791,6.2653218388925964,6.1335311742293754,6.8006521332942516,7.0669823493407868,7.0476505922720971,null,null,{"$f":"IF($C8=\"\", \"\", data!P9-D8)","v":1.502314397016935E-2},{"$f":"IF($C8=\"\", \"\", data!Q9-E8)","v":-4.482722936892003E-3},{"$f":"IF($C8=\"\", \"\", data!R9-F8)","v":1.4193565771118521E-2},{"$f":"IF($C8=\"\", \"\", data!S9-G8)","v":-8.5958986202792076E-3},{"$f":"IF($C8=\"\", \"\", data!T9-H8)","v":-2.3218388925965172E-3},{"$f":"IF($C8=\"\", \"\", data!U9-I8)","v":1.468825770624349E-3},{"$f":"IF($C8=\"\", \"\", data!V9-J8)","v":-8.6521332942517404E-3},{"$f":"IF($C8=\"\", \"\", data!W9-K8)","v":-2.9823493407867829E-3},{"$f":"IF($C8=\"\", \"\", data!X9-L8)","v":-3.6505922720975192E-3},null,null,1.5500845051974466E-10]
[null,4,{"$f":"IF(TS!B8=\"\", \"\", TS!B8)","v":"2017-08-24"},5.7642351940104959,4.9244598755877149,7.3616970034715017,6.6027048669613251,6.4524715495346143,6.2618688425265745,6.957985127526829,7.1181206331601157,7.0824569078654758,null,null,{"$f":"IF($C9=\"\", \"\", data!P10-D9)","v":1.4764805989504026E-2},{"$f":"IF($C9=\"\", \"\", data!Q10-E9)","v":-3.4598755877146559E-3},{"$f":"IF($C9=\"\", \"\", data!R10-F9)","v":1.2302996528497978E-2},{"$f":"IF($C9=\"\", \"\", data!S10-G9)","v":-7.7048669613253296E-3},{"$f":"IF($C9=\"\", \"\", data!T10-H9)","v":-5.4715495346142617E-3},{"$f":"IF($C9=\"\", \"\", data!U10-I9)","v":-8.68842526574376E-4},{"$f":"IF($C9=\"\", \"\", data!V10-J9)","v":-5.9851275268290038E-3},{"$f":"IF($C9=\"\", \"\", data!W10-K9)","v":-1.1206331601156805E-3},{"$f":"IF($C9=\"\", \"\", data!X10-L9)","v":-2.4569078654756993E-3},null,null,-6.4464700244570849E-10]
[null,5,{"$f":"IF(TS!B9=\"\", \"\", TS!B9)","v":"2017-08-23"},5.8676920961304795,4.9282093292876468,7.4709377239492181,6.5970185799169592,6.5031919402775653,6.2800348518296705,6.9609241249887948,7.1155600839814372,7.1784312698228092,null,null,{"$f":"IF($C10=\"\", \"\", data!P11-D10)","v":1.5307903869520523E-2},{"$f":"IF($C10=\"\", \"\", data!Q11-E10)","v":-3.2093292876469448E-3},{"$f":"IF($C10=\"\", \"\", data!R11-F10)","v":1.4062276050782252E-2},{"$f":"IF($C10=\"\", \"\", data!S11-G10)","v":-7.018579916959311E-3},{"$f":"IF($C10=\"\", \"\", data!T11-H10)","v":-5.191940277565088E-3},{"$f":"IF($C10=\"\", \"\", data!U11-I10)","v":9.6514817032922195E-4},{"$f":"IF($C10=\"\", \"\", data!V11-J10)","v":-7.9241249887944676E-3},{"$f":"IF($C10=\"\", \"\", data!W11-K10)","v":-4.5600839814374794E-3},{"$f":"IF($C10=\"\", \"\", data!X11-L10)","v":-2.4312698228090568E-3},null,null,-1.8458035100366033E-10]
[null,6,{"$f":"IF(TS!B10=\"\", \"\", TS!B10)","v":"2017-08-22"},6.0576049526172966,4.9271353915649208,7.6081873516732621,6.5648381866535921,6.4559132420313432,6.0524022142721705,7.0516979256690142,7.0978542777421563,7.1933664578239629,null,null,{"$f":"IF($C11=\"\", \"\", data!P12-D11)","v":1.0395047382703027E-2},{"$f":"IF($C11=\"\", \"\", data!Q12-E11)","v":-3.1353915649203756E-3},{"$f":"IF($C11=\"\", \"\", data!R12-F11)","v":1.7812648326738234E-2},{"$f":"IF($C11=\"\", \"\", data!S12-G11)","v":-6.8381866535922597E-3},{"$f":"IF($C11=\"\", \"\", data!T12-H11)","v":-3.9132420313432448E-3},{"$f":"IF($C11=\"\", \"\", data!U12-I11)","v":1.0597785727829212E-2},{"$f":"IF($C11=\"\", \"\", data!V12-J11)","v":-9.6979256690143956E-3},{"$f":"IF($C11=\"\", \"\", data!W12-K11)","v":-8.8542777421558583E-3},{"$f":"IF($C11=\"\", \"\", data!X12-L11)","v":-6.3664578239626124E-3},null,null,-4.7718273776808928E-11]
[null,7,{"$f":"IF(TS!B11=\"\", \"\", TS!B11)","v":"2017-08-21"},6.1362441588356234,4.9490134752884849,7.6073516262833696,6.6444228991933141,6.27575070708642,6.2955036163188325,6.9088984002374847,7.3541030475122344,7.1537120688769349,null,null,{"$f":"IF($C12=\"\", \"\", data!P13-D12)","v":9.7558411643765552E-3},{"$f":"IF($C12=\"\", \"\", data!Q13-E12)","v":-2.0134752884848339E-3},{"$f":"IF($C12=\"\", \"\", data!R13-F12)","v":1.3648373716630857E-2},{"$f":"IF($C12=\"\", \"\", data!S13-G12)","v":-7.4228991933145139E-3},{"$f":"IF($C12=\"\", \"\", data!T13-H12)","v":4.2492929135802271E-3},{"$f":"IF($C12=\"\", \"\", data!U13-I12)","v":3.4963836811678917E-3},{"$f":"IF($C12=\"\", \"\", data!V13-J12)","v":-1.0898400237485006E-2},{"$f":"IF($C12=\"\", \"\", data!W13-K12)","v":-2.103047512234113E-3},{"$f":"IF($C12=\"\", \"\", data!X13-L12)","v":-8.7120688769353194E-3},null,null,3.6730174457488829E-10]
[null,8,{"$f":"IF(TS!B12=\"\", \"\", TS!B12)","v":"2017-08-18"},6.1573697675544352,4.9405215748035687,7.6138812018933191,6.9185090113724073,6.2106996054889514,6.5884365404941008,6.6379440129620022,7.5989130995541121,6.9447251861634367,null,null,{"$f":"IF($C13=\"\", \"\", data!P14-D13)","v":1.2630232445564715E-2},{"$f":"IF($C13=\"\", \"\", data!Q14-E13)","v":-2.52157480356896E-3},{"$f":"IF($C13=\"\", \"\", data!R14-F13)","v":7.1187981066813677E-3},{"$f":"IF($C13=\"\", \"\", data!S14-G13)","v":-1.150901137240723E-2},{"$f":"IF($C13=\"\", \"\", data!T14-H13)","v":1.0300394511048694E-2},{"$f":"IF($C13=\"\", \"\", data!U14-I13)","v":-4.4365404941011377E-3},{"$f":"IF($C13=\"\", \"\", data!V14-J13)","v":-5.9440129620025317E-3},{"$f":"IF($C13=\"\", \"\", data!W14-K13)","v":6.0869004458883325E-3},{"$f":"IF($C13=\"\", \"\", data!X14-L13)","v":-1.1725186163436874E-2},null,null,-2.8633362347818547E-10]
[null,9,{"$f":"IF(TS!B13=\"\", \"\", TS!B13)","v":"2017-08-17"},6.1866117126265223,4.975321027157122,7.6024061751630949,6.9189891177651912,5.9533377762552178,6.6014365674788884,6.6281569192428975,7.5837403556856415,6.9210003484233997,null,null,{"$f":"IF($C14=\"\", \"\", data!P15-D14)","v":8.388287373477965E-3},{"$f":"IF($C14=\"\", \"\", data!Q15-E14)","v":-4.3210271571219039E-3},{"$f":"IF($C14=\"\", \"\", data!R15-F14)","v":8.5938248369048509E-3},{"$f":"IF($C14=\"\", \"\", data!S15-G14)","v":-1.1989117765191182E-2},{"$f":"IF($C14=\"\", \"\", data!T15-H14)","v":1.7662223744782324E-2},{"$f":"IF($C14=\"\", \"\", data!U15-I14)","v":-6.4365674788886551E-3},{"$f":"IF($C14=\"\", \"\", data!V15-J14)","v":-7.1569192428970752E-3},{"$f":"IF($C14=\"\", \"\", data!W15-K14)","v":7.2596443143586598E-3},{"$f":"IF($C14=\"\", \"\", data!X15-L14)","v":-1.200034842339992E-2},null,null,2.0202506334499049E-10]
[null,10,{"$f":"IF(TS!B14=\"\", \"\", TS!B14)","v":"2017-08-16"},6.2443694994411558,4.9811784896591256,7.6128056186658775,6.8533918943457071,5.9453916994752873,6.5753600522683584,6.6134637191453187,7.5716595115451142,6.8523795154573577,null,null,{"$f":"IF($C15=\"\", \"\", data!P16-D15)","v":6.6305005588445098E-3},{"$f":"IF($C15=\"\", \"\", data!Q16-E15)","v":-4.1784896591252618E-3},{"$f":"IF($C15=\"\", \"\", data!R16-F15)","v":8.1943813341229799E-3},{"$f":"IF($C15=\"\", \"\", data!S16-G15)","v":-1.1391894345707421E-2},{"$f":"IF($C15=\"\", \"\", data!T16-H15)","v":1.8608300524713073E-2},{"$f":"IF($C15=\"\", \"\", data!U16-I15)","v":-5.3600522683581175E-3},{"$f":"IF($C15=\"\", \"\", data!V16-J15)","v":-6.4637191453185139E-3},{"$f":"IF($C15=\"\", \"\", data!W16-K15)","v":5.3404884548857723E-3},{"$f":"IF($C15=\"\", \"\", data!X16-L15)","v":-1.1379515457357492E-2},null,null,-3.3004710076056654E-12]
[null,11,{"$f":"IF(TS!B15=\"\", \"\", TS!B15)","v":"2017-08-14"},6.1542989769424814,4.9380589641680288,7.770935259754177,6.8259305766246356,5.9421043768684001,6.5474566159719458,6.5671299717246185,7.5051387071635816,6.8929465510660037,null,null,{"$f":"IF($C16=\"\", \"\", data!P17-D16)","v":1.0701023057518633E-2},{"$f":"IF($C16=\"\", \"\", data!Q17-E16)","v":-5.0589641680289787E-3},{"$f":"IF($C16=\"\", \"\", data!R17-F16)","v":1.6064740245822939E-2},{"$f":"IF($C16=\"\", \"\", data!S17-G16)","v":-1.2930576624635925E-2},{"$f":"IF($C16=\"\", \"\", data!T17-H16)","v":1.9895623131599649E-2},{"$f":"IF($C16=\"\", \"\", data!U17-I16)","v":-5.4566159719460217E-3},{"$f":"IF($C16=\"\", \"\", data!V17-J16)","v":-6.1299717246185992E-3},{"$f":"IF($C16=\"\", \"\", data!W17-K16)","v":-3.1387071635817776E-3},{"$f":"IF($C16=\"\", \"\", data!X17-L16)","v":-1.3946551066004176E-2},null,null,-2.8387425743403583E-10]
[null,12,{"$f":"IF(TS!B16=\"\", \"\", TS!B16)","v":"2017-08-10"},6.1725029942702214,4.9640110039027192,7.7861844879185131,6.9550734588914125,5.9864095814214124,6.5968678043971032,6.6712392369352607,7.5908138057640944,6.8678976262774505,null,null,{"$f":"IF($C17=\"\", \"\", data!P18-D17)","v":1.1497005729778742E-2},{"$f":"IF($C17=\"\", \"\", data!Q18-E17)","v":-5.0110039027195796E-3},{"$f":"IF($C17=\"\", \"\", data!R18-F17)","v":1.4815512081487014E-2},{"$f":"IF($C17=\"\", \"\", data!S18-G17)","v":-1.4073458891412649E-2},{"$f":"IF($C17=\"\", \"\", data!T18-H17)","v":1.9590418578587787E-2},{"$f":"IF($C17=\"\", \"\", data!U18-I17)","v":-5.8678043971029936E-3},{"$f":"IF($C17=\"\", \"\", data!V18-J17)","v":-8.2392369352604078E-3},{"$f":"IF($C17=\"\", \"\", data!W18-K17)","v":1.8619423590582329E-4},{"$f":"IF($C17=\"\", \"\", data!X18-L17)","v":-1.2897626277450058E-2},null,null,2.2181367853590928E-10]
[null,13,{"$f":"IF(TS!B17=\"\", \"\", TS!B17)","v":"2017-08-09"},6.1747755750787618,4.9513231851258297,7.4772924335646174,6.9282203113095466,5.9012713110013451,6.5979041808424412,6.6091752995640149,7.5643160577694744,6.8207216458679589,null,null,{"$f":"IF($C18=\"\", \"\", data!P19-D18)","v":7.224424921238537E-3},{"$f":"IF($C18=\"\", \"\", data!Q19-E18)","v":-4.3231851258296317E-3},{"$f":"IF($C18=\"\", \"\", data!R19-F18)","v":4.7075664353828373E-3},{"$f":"IF($C18=\"\", \"\", data!S19-G18)","v":-1.1220311309546815E-2},{"$f":"IF($C18=\"\", \"\", data!T19-H18)","v":1.772868899865454E-2},{"$f":"IF($C18=\"\", \"\", data!U19-I18)","v":-6.9041808424410434E-3},{"$f":"IF($C18=\"\", \"\", data!V19-J18)","v":-7.1752995640146366E-3},{"$f":"IF($C18=\"\", \"\", data!W19-K18)","v":1.0683942230525822E-2},{"$f":"IF($C18=\"\", \"\", data!X19-L18)","v":-1.0721645867959317E-2},null,null,-1.2398970739013748E-10]
[null,14,{"$f":"IF(TS!B18=\"\", \"\", TS!B18)","v":"2017-08-08"},6.1725998687352117,4.9407318069068857,7.4559891176013338,6.7697481230024437,5.9361638776495838,6.5046858138848158,6.5489858530554805,7.5815565094724988,6.838539029402888,null,null,{"$f":"IF($C19=\"\", \"\", data!P20-D19)","v":7.4001312647880013E-3},{"$f":"IF($C19=\"\", \"\", data!Q20-E19)","v":-3.7318069068854598E-3},{"$f":"IF($C19=\"\", \"\", data!R20-F19)","v":2.0108823986664248E-3},{"$f":"IF($C19=\"\", \"\", data!S20-G19)","v":-1.0748123002443322E-2},{"$f":"IF($C19=\"\", \"\", data!T20-H19)","v":1.6836122350416538E-2},{"$f":"IF($C19=\"\", \"\", data!U20-I19)","v":-4.6858138848158148E-3},{"$f":"IF($C19=\"\", \"\", data!V20-J19)","v":-5.9858530554803835E-3},{"$f":"IF($C19=\"\", \"\", data!W20-K19)","v":1.0443490527500821E-2},{"$f":"IF($C19=\"\", \"\", data!X20-L19)","v":-1.153902940288809E-2},null,null,2.8885871472539293E-10]
[null,15,{"$f":"IF(TS!B19=\"\", \"\", TS!B19)","v":"2017-08-07"},6.4174252419697986,4.915821584387988,7.6905715081647585,6.7646290844901422,5.9562306125590574,6.6021771049999991,6.5846032746585585,7.5115975984991028,6.8309439902828011,null,null,{"$f":"IF($C20=\"\", \"\", data!P21-D20)","v":1.5747580302010178E-3},{"$f":"IF($C20=\"\", \"\", data!Q21-E20)","v":-3.8215843879880751E-3},{"$f":"IF($C20=\"\", \"\", data!R21-F20)","v":1.1428491835241417E-2},{"$f":"IF($C20=\"\", \"\", data!S21-G20)","v":-9.6290844901423256E-3},{"$f":"IF($C20=\"\", \"\", data!T21-H20)","v":2.1769387440942367E-2},{"$f":"IF($C20=\"\", \"\", data!U21-I20)","v":-5.1771049999986829E-3},{"$f":"IF($C20=\"\", \"\", data!V21-J20)","v":-4.6032746585584761E-3},{"$f":"IF($C20=\"\", \"\", data!W21-K20)","v":-5.9759849910268059E-4},{"$f":"IF($C20=\"\", \"\", data!X21-L20)","v":-1.0943990282800797E-2},null,null,-1.2206236021938821E-11]
[null,16,{"$f":"IF(TS!B20=\"\", \"\", TS!B20)","v":"2017-08-04"},6.4059893662417906,4.8997911187979106,7.6409023026253227,6.8587071944072751,5.9342295056940593,6.5468943267727262,6.577844431411588,7.4268215317398436,6.8698202225104303,null,null,{"$f":"IF($C21=\"\", \"\", data!P22-D21)","v":1.0106337582094227E-3},{"$f":"IF($C21=\"\", \"\", data!Q22-E21)","v":-3.7911187979107197E-3},{"$f":"IF($C21=\"\", \"\", data!R22-F21)","v":1.3097697374677253E-2},{"$f":"IF($C21=\"\", \"\", data!S22-G21)","v":-1.0707194407275189E-2},{"$f":"IF($C21=\"\", \"\", data!T22-H21)","v":2.0770494305940801E-2},{"$f":"IF($C21=\"\", \"\", data!U22-I21)","v":-3.8943267727260533E-3},{"$f":"IF($C21=\"\", \"\", data!V22-J21)","v":-4.8444314115876352E-3},{"$f":"IF($C21=\"\", \"\", data!W22-K21)","v":-8.2153173984345074E-4},{"$f":"IF($C21=\"\", \"\", data!X22-L21)","v":-1.0820222510430355E-2},null,null,-2.0094592656505483E-10]
[null,17,{"$f":"IF(TS!B21=\"\", \"\", TS!B21)","v":"2017-08-03"},6.6747319653265329,4.9108298475661947,7.695468598288727,7.0076155497296195,5.9862778079835195,6.590043642459154,6.5765809095424075,7.5692100431481464,6.8722416362292247,null,null,{"$f":"IF($C22=\"\", \"\", data!P23-D22)","v":-5.7319653265333059E-3},{"$f":"IF($C22=\"\", \"\", data!Q23-E22)","v":-3.8298475661946441E-3},{"$f":"IF($C22=\"\", \"\", data!R23-F22)","v":1.1531401711272871E-2},{"$f":"IF($C22=\"\", \"\", data!S23-G22)","v":-1.161554972961909E-2},{"$f":"IF($C22=\"\", \"\", data!T23-H22)","v":2.2722192016480847E-2},{"$f":"IF($C22=\"\", \"\", data!U23-I22)","v":-3.0436424591542277E-3},{"$f":"IF($C22=\"\", \"\", data!V23-J22)","v":-2.5809095424076389E-3},{"$f":"IF($C22=\"\", \"\", data!W23-K22)","v":2.789956851853681E-3},{"$f":"IF($C22=\"\", \"\", data!X23-L22)","v":-1.0241636229224582E-2},null,null,-2.7352609066610967E-10]
[null,18,{"$f":"IF(TS!B22=\"\", \"\", TS!B22)","v":"2017-08-02"},5.2861856365872661,4.9113520772392754,6.9273143785034463,6.9243245216013349,6.023759097194656,6.5715452457178483,6.6042565756877227,7.6219552986653003,6.9293071686457921,null,null,{"$f":"IF($C23=\"\", \"\", data!P24-D23)","v":2.1814363412733684E-2},{"$f":"IF($C23=\"\", \"\", data!Q24-E23)","v":-1.4352077239275118E-2},{"$f":"IF($C23=\"\", \"\", data!R24-F23)","v":-9.3143785034461857E-3},{"$f":"IF($C23=\"\", \"\", data!S24-G23)","v":-9.3245216013349008E-3},{"$f":"IF($C23=\"\", \"\", data!T24-H23)","v":1.2240902805343623E-2},{"$f":"IF($C23=\"\", \"\", data!U24-I23)","v":-5.5452457178484238E-3},{"$f":"IF($C23=\"\", \"\", data!V24-J23)","v":-6.2565756877228651E-3},{"$f":"IF($C23=\"\", \"\", data!W24-K23)","v":2.0044701334700044E-2},{"$f":"IF($C23=\"\", \"\", data!X24-L23)","v":-9.3071686457921743E-3},null,null,1.5735768243985149E-10]
[null,19,{"$f":"IF(TS!B23=\"\", \"\", TS!B23)","v":"2017-08-01"},5.2624825017165442,4.9242644284971924,6.9995817506803313,7.01148899653945,5.9657137606939799,6.689737076450788,6.5722412813792026,7.6736266284332562,6.9148635756361312,null,null,{"$f":"IF($C24=\"\", \"\", data!P25-D24)","v":2.051749828345617E-2},{"$f":"IF($C24=\"\", \"\", data!Q25-E24)","v":-1.5264428497192561E-2},{"$f":"IF($C24=\"\", \"\", data!R25-F24)","v":-9.5817506803310692E-3},{"$f":"IF($C24=\"\", \"\", data!S25-G24)","v":-9.488996539450234E-3},{"$f":"IF($C24=\"\", \"\", data!T25-H24)","v":1.5286239306020022E-2},{"$f":"IF($C24=\"\", \"\", data!U25-I24)","v":-7.7370764507875833E-3},{"$f":"IF($C24=\"\", \"\", data!V25-J24)","v":-5.2412813792024338E-3},{"$f":"IF($C24=\"\", \"\", data!W25-K24)","v":2.1373371566744126E-2},{"$f":"IF($C24=\"\", \"\", data!X25-L24)","v":-9.863575636130939E-3},null,null,-2.6874502623286389E-11]
[null,20,{"$f":"IF(TS!B24=\"\", \"\", TS!B24)","v":"2017-07-31"},5.2760355124274874,4.9108366684234319,7.0069579935710546,7.0554659270555042,5.949148614756421,6.6687155419913005,6.657495486560892,7.6950727554915943,6.9052714998994276,null,null,{"$f":"IF($C25=\"\", \"\", data!P26-D25)","v":2.1964487572512681E-2},{"$f":"IF($C25=\"\", \"\", data!Q26-E25)","v":-1.5836668423432343E-2},{"$f":"IF($C25=\"\", \"\", data!R26-F25)","v":-9.9579935710547574E-3},{"$f":"IF($C25=\"\", \"\", data!S26-G25)","v":-9.4659270555039754E-3},{"$f":"IF($C25=\"\", \"\", data!T26-H25)","v":1.5851385243578875E-2},{"$f":"IF($C25=\"\", \"\", data!U26-I25)","v":-7.7155419913008672E-3},{"$f":"IF($C25=\"\", \"\", data!V26-J25)","v":-7.4954865608916066E-3},{"$f":"IF($C25=\"\", \"\", data!W26-K25)","v":2.2927244508405664E-2},{"$f":"IF($C25=\"\", \"\", data!X26-L25)","v":-1.0271499899427994E-2},null,null,-1.7711432320766107E-10]
[null,21,{"$f":"IF(TS!B25=\"\", \"\", TS!B25)","v":"2017-07-28"},5.292841354705871,4.9660444661017991,7.0673883369657187,7.1449176167361141,5.9546456910120718,6.7019249850968503,6.6184156967676167,7.6542854354051553,6.9325364169924395,null,null,{"$f":"IF($C26=\"\", \"\", data!P27-D26)","v":1.8158645294128917E-2},{"$f":"IF($C26=\"\", \"\", data!Q27-E26)","v":-1.4044466101799102E-2},{"$f":"IF($C26=\"\", \"\", data!R27-F26)","v":-8.3883369657185014E-3},{"$f":"IF($C26=\"\", \"\", data!S27-G26)","v":-6.9176167361142404E-3},{"$f":"IF($C26=\"\", \"\", data!T27-H26)","v":1.4354308987928555E-2},{"$f":"IF($C26=\"\", \"\", data!U27-I26)","v":-7.9249850968503566E-3},{"$f":"IF($C26=\"\", \"\", data!V27-J26)","v":-6.4156967676165522E-3},{"$f":"IF($C26=\"\", \"\", data!W27-K26)","v":2.0714564594844553E-2},{"$f":"IF($C26=\"\", \"\", data!X27-L26)","v":-9.536416992439456E-3},null,null,2.1636381575262931E-10]
[null,22,{"$f":"IF(TS!B26=\"\", \"\", TS!B26)","v":"2017-07-27"},5.2993955617140465,4.8528568749981886,7.0787748691411778,7.0992190187519011,5.7813765654541385,6.6924021411947567,6.4714932052604226,7.6344976225758145,6.8549841413085542,null,null,{"$f":"IF($C27=\"\", \"\", data!P28-D27)","v":2.1604438285953265E-2},{"$f":"IF($C27=\"\", \"\", data!Q28-E27)","v":-1.4856874998188552E-2},{"$f":"IF($C27=\"\", \"\", data!R28-F27)","v":-8.7748691411775326E-3},{"$f":"IF($C27=\"\", \"\", data!S28-G27)","v":-8.2190187519008973E-3},{"$f":"IF($C27=\"\", \"\", data!T28-H27)","v":1.5623434545861237E-2},{"$f":"IF($C27=\"\", \"\", data!U28-I27)","v":-1.1402141194756688E-2},{"$f":"IF($C27=\"\", \"\", data!V28-J27)","v":-7.4932052604221866E-3},{"$f":"IF($C27=\"\", \"\", data!W28-K27)","v":2.5502377424185596E-2},{"$f":"IF($C27=\"\", \"\", data!X28-L27)","v":-1.1984141308554186E-2},null,null,-3.9899994419556606E-10]
[null,23,{"$f":"IF(TS!B27=\"\", \"\", TS!B27)","v":"2017-07-26"},5.3012382204526531,4.9257552550289248,7.0729120443696676,7.1364014534736064,5.6848651560067154,6.8079023631848088,6.3448863165489158,7.6615811669977596,6.6614580236109067,null,null,{"$f":"IF($C28=\"\", \"\", data!P29-D28)","v":1.7761779547346812E-2},{"$f":"IF($C28=\"\", \"\", data!Q29-E28)","v":-1.5755255028924608E-2},{"$f":"IF($C28=\"\", \"\", data!R29-F28)","v":-9.9120443696678606E-3},{"$f":"IF($C28=\"\", \"\", data!S29-G28)","v":-8.401453473606324E-3},{"$f":"IF($C28=\"\", \"\", data!T29-H28)","v":1.813484399328491E-2},{"$f":"IF($C28=\"\", \"\", data!U29-I28)","v":-1.1902363184808529E-2},{"$f":"IF($C28=\"\", \"\", data!V29-J28)","v":-2.8863165489161346E-3},{"$f":"IF($C28=\"\", \"\", data!W29-K28)","v":2.3418833002240014E-2},{"$f":"IF($C28=\"\", \"\", data!X29-L28)","v":-1.0458023610906864E-2},null,null,3.2604141608771897E-10]
[null,24,{"$f":"IF(TS!B28=\"\", \"\", TS!B28)","v":"2017-07-25"},5.1949568705439333,4.9492526312060292,7.0968803674255181,6.9445625075299322,5.701610657681023,6.6359256169577634,6.3802865944220599,7.6464832118678565,6.7000415421114852,null,null,{"$f":"IF($C29=\"\", \"\", data!P30-D29)","v":1.3043129456066893E-2},{"$f":"IF($C29=\"\", \"\", data!Q30-E29)","v":-1.5252631206029044E-2},{"$f":"IF($C29=\"\", \"\", data!R30-F29)","v":-8.8803674255180098E-3},{"$f":"IF($C29=\"\", \"\", data!S30-G29)","v":-1.0562507529932041E-2},{"$f":"IF($C29=\"\", \"\", data!T30-H29)","v":2.0389342318977377E-2},{"$f":"IF($C29=\"\", \"\", data!U30-I29)","v":-7.9256169577632818E-3},{"$f":"IF($C29=\"\", \"\", data!V30-J29)","v":-1.2865944220603609E-3},{"$f":"IF($C29=\"\", \"\", data!W30-K29)","v":1.9516788132143859E-2},{"$f":"IF($C29=\"\", \"\", data!X30-L29)","v":-9.0415421114853345E-3},null,null,2.5440005657628717E-10]
[null,25,{"$f":"IF(TS!B29=\"\", \"\", TS!B29)","v":"2017-07-24"},5.2586877151561566,4.9239953541776735,7.0564993827643434,6.9765617851347681,5.7119064145356617,6.6368489425065373,6.396012740790276,7.6463272759231433,6.7261603890550017,null,null,{"$f":"IF($C30=\"\", \"\", data!P31-D30)","v":1.7312284843843173E-2},{"$f":"IF($C30=\"\", \"\", data!Q31-E30)","v":-1.5995354177673171E-2},{"$f":"IF($C30=\"\", \"\", data!R31-F30)","v":-9.4993827643437001E-3},{"$f":"IF($C30=\"\", \"\", data!S31-G30)","v":-1.0561785134767909E-2},{"$f":"IF($C30=\"\", \"\", data!T31-H30)","v":1.9093585464338148E-2},{"$f":"IF($C30=\"\", \"\", data!U31-I30)","v":-8.8489425065372274E-3},{"$f":"IF($C30=\"\", \"\", data!V31-J30)","v":-3.0127407902762471E-3},{"$f":"IF($C30=\"\", \"\", data!W31-K30)","v":2.1672724076856831E-2},{"$f":"IF($C30=\"\", \"\", data!X31-L30)","v":-1.0160389055001495E-2},null,null,-4.3561598772612342E-11]
[null,26,{"$f":"IF(TS!B30=\"\", \"\", TS!B30)","v":"2017-07-21"},5.3072906528622923,4.7577293786949433,7.1151011764001204,6.9190470411948031,5.6784347263592814,6.6637439598922423,6.3998375292749152,7.54799536311425,6.6818201722041035,null,null,{"$f":"IF($C31=\"\", \"\", data!P32-D31)","v":2.270934713770778E-2},{"$f":"IF($C31=\"\", \"\", data!Q32-E31)","v":-1.3729378694943506E-2},{"$f":"IF($C31=\"\", \"\", data!R32-F31)","v":-5.1011764001200888E-3},{"$f":"IF($C31=\"\", \"\", data!S32-G31)","v":-1.1047041194802709E-2},{"$f":"IF($C31=\"\", \"\", data!T32-H31)","v":1.556527364071858E-2},{"$f":"IF($C31=\"\", \"\", data!U32-I31)","v":-1.2743959892242529E-2},{"$f":"IF($C31=\"\", \"\", data!V32-J31)","v":-8.8375292749152123E-3},{"$f":"IF($C31=\"\", \"\", data!W32-K31)","v":2.6004636885749832E-2},{"$f":"IF($C31=\"\", \"\", data!X32-L31)","v":-1.2820172204103919E-2},null,null,3.0482283364108298E-12]
[null,27,{"$f":"IF(TS!B31=\"\", \"\", TS!B31)","v":"2017-07-20"},5.4118003426802161,4.9460985871990601,7.0873346227421035,6.8898339239656234,5.680846943467877,6.6614621700219043,6.3975250582500696,7.4933943992937913,6.7167039525212964,null,null,{"$f":"IF($C32=\"\", \"\", data!P33-D32)","v":1.6199657319783789E-2},{"$f":"IF($C32=\"\", \"\", data!Q33-E32)","v":-1.2098587199059985E-2},{"$f":"IF($C32=\"\", \"\", data!R33-F32)","v":-4.3346227421032779E-3},{"$f":"IF($C32=\"\", \"\", data!S33-G32)","v":-8.8339239656232138E-3},{"$f":"IF($C32=\"\", \"\", data!T33-H32)","v":1.4153056532123287E-2},{"$f":"IF($C32=\"\", \"\", data!U33-I32)","v":-9.4621700219041927E-3},{"$f":"IF($C32=\"\", \"\", data!V33-J32)","v":-5.5250582500692147E-3},{"$f":"IF($C32=\"\", \"\", data!W33-K32)","v":1.9605600706208648E-2},{"$f":"IF($C32=\"\", \"\", data!X33-L32)","v":-9.7039525212965216E-3},null,null,-1.4194068143069671E-10]
[null,28,{"$f":"IF(TS!B32=\"\", \"\", TS!B32)","v":"2017-07-19"},5.4866644205769113,4.9799796357683483,7.0951428431623675,6.8749928220287604,5.6967979685787853,6.6975911302343416,6.3432497934255814,7.4918955595926988,6.7506858265756886,null,null,{"$f":"IF($C33=\"\", \"\", data!P34-D33)","v":1.5335579423088497E-2},{"$f":"IF($C33=\"\", \"\", data!Q34-E33)","v":-1.0979635768348039E-2},{"$f":"IF($C33=\"\", \"\", data!R34-F33)","v":-4.142843162367349E-3},{"$f":"IF($C33=\"\", \"\", data!S34-G33)","v":-8.9928220287607274E-3},{"$f":"IF($C33=\"\", \"\", data!T34-H33)","v":1.3202031421214677E-2},{"$f":"IF($C33=\"\", \"\", data!U34-I33)","v":-9.5911302343418825E-3},{"$f":"IF($C33=\"\", \"\", data!V34-J33)","v":-4.2497934255809611E-3},{"$f":"IF($C33=\"\", \"\", data!W34-K33)","v":1.9104440407301304E-2},{"$f":"IF($C33=\"\", \"\", data!X34-L33)","v":-9.6858265756889494E-3},null,null,5.6516569202358369E-11]
[null,29,{"$f":"IF(TS!B33=\"\", \"\", TS!B33)","v":"2017-07-18"},5.0869343533658551,5.0301067457960151,7.0670604725685156,6.9653164426662464,5.6962588301569461,6.7721753941215557,6.3142772794281576,7.5659822300255577,6.6658882517345663,null,null,{"$f":"IF($C34=\"\", \"\", data!P35-D34)","v":6.5646634144655991E-5},{"$f":"IF($C34=\"\", \"\", data!Q35-E34)","v":-7.1067457960154456E-3},{"$f":"IF($C34=\"\", \"\", data!R35-F34)","v":-7.0604725685159408E-3},{"$f":"IF($C34=\"\", \"\", data!S35-G34)","v":-8.3164426662465374E-3},{"$f":"IF($C34=\"\", \"\", data!T35-H34)","v":1.9741169843054074E-2},{"$f":"IF($C34=\"\", \"\", data!U35-I34)","v":-8.1753941215554349E-3},{"$f":"IF($C34=\"\", \"\", data!V35-J34)","v":1.7227205718421956E-3},{"$f":"IF($C34=\"\", \"\", data!W35-K34)","v":1.6017769974442153E-2},{"$f":"IF($C34=\"\", \"\", data!X35-L34)","v":-6.8882517345665306E-3},null,null,1.3658318920306556E-10]
[null,30,{"$f":"IF(TS!B34=\"\", \"\", TS!B34)","v":"2017-07-17"},5.1696613137933554,5.0684719321623461,7.192578333414767,7.0170371481774261,5.6795561147787268,6.9799893926265923,6.3021725788890848,7.7635934636134003,6.6429397226185856,null,null,{"$f":"IF($C35=\"\", \"\", data!P36-D35)","v":2.338686206644347E-3},{"$f":"IF($C35=\"\", \"\", data!Q36-E35)","v":-1.1471932162345766E-2},{"$f":"IF($C35=\"\", \"\", data!R36-F35)","v":-9.578333414767215E-3},{"$f":"IF($C35=\"\", \"\", data!S36-G35)","v":-1.1037148177425848E-2},{"$f":"IF($C35=\"\", \"\", data!T36-H35)","v":2.2443885221273163E-2},{"$f":"IF($C35=\"\", \"\", data!U36-I35)","v":-1.0989392626592043E-2},{"$f":"IF($C35=\"\", \"\", data!V36-J35)","v":4.8274211109156084E-3},{"$f":"IF($C35=\"\", \"\", data!W36-K35)","v":1.940653638660006E-2},{"$f":"IF($C35=\"\", \"\", data!X36-L35)","v":-5.9397226185859964E-3},null,null,-7.4283690310039674E-11]
[null,31,{"$f":"IF(TS!B35=\"\", \"\", TS!B35)","v":"2017-07-14"},5.326569767487797,5.1409096505451615,7.2134240545372705,7.1489959316532463,5.8347850874524845,7.0911877524868459,6.3830638413876706,7.8485858696892308,6.7234780450434641,null,null,{"$f":"IF($C36=\"\", \"\", data!P37-D36)","v":8.4302325122029842E-3},{"$f":"IF($C36=\"\", \"\", data!Q37-E36)","v":-1.3909650545161689E-2},{"$f":"IF($C36=\"\", \"\", data!R37-F36)","v":-1.0424054537270244E-2},{"$f":"IF($C36=\"\", \"\", data!S37-G36)","v":-1.0995931653246416E-2},{"$f":"IF($C36=\"\", \"\", data!T37-H36)","v":2.0214912547515951E-2},{"$f":"IF($C36=\"\", \"\", data!U37-I36)","v":-1.1187752486845781E-2},{"$f":"IF($C36=\"\", \"\", data!V37-J36)","v":3.9361586123289882E-3},{"$f":"IF($C36=\"\", \"\", data!W37-K36)","v":2.0414130310768996E-2},{"$f":"IF($C36=\"\", \"\", data!X37-L36)","v":-6.4780450434644976E-3},null,null,-2.8317170830405303E-10]
[null,32,{"$f":"IF(TS!B36=\"\", \"\", TS!B36)","v":"2017-07-13"},5.3277935771188645,5.1768907374626671,7.049772860543122,7.3497512015639188,5.8345724396375367,7.2291368809525451,6.4221110345539998,7.9441875674345379,6.7417837007574697,null,null,{"$f":"IF($C37=\"\", \"\", data!P38-D37)","v":6.2064228811351541E-3},{"$f":"IF($C37=\"\", \"\", data!Q38-E37)","v":-1.3890737462666891E-2},{"$f":"IF($C37=\"\", \"\", data!R38-F37)","v":-1.1772860543121766E-2},{"$f":"IF($C37=\"\", \"\", data!S38-G37)","v":-1.07512015639184E-2},{"$f":"IF($C37=\"\", \"\", data!T38-H37)","v":2.2427560362463517E-2},{"$f":"IF($C37=\"\", \"\", data!U38-I37)","v":-1.2136880952545503E-2},{"$f":"IF($C37=\"\", \"\", data!V38-J37)","v":4.8889654459998155E-3},{"$f":"IF($C37=\"\", \"\", data!W38-K37)","v":2.0812432565461947E-2},{"$f":"IF($C37=\"\", \"\", data!X38-L37)","v":-5.7837007574699228E-3},null,null,-2.4662050179813377E-11]
[null,33,{"$f":"IF(TS!B37=\"\", \"\", TS!B37)","v":"2017-07-12"},5.230646097974585,5.2016588339785912,7.113273861446519,7.4411519052055795,5.8563000824804909,7.2758957155832604,6.4634750717226623,8.140439471962269,6.6961589595151061,null,null,{"$f":"IF($C38=\"\", \"\", data!P39-D38)","v":-3.6460979745847055E-3},{"$f":"IF($C38=\"\", \"\", data!Q39-E38)","v":-8.6588339785915736E-3},{"$f":"IF($C38=\"\", \"\", data!R39-F38)","v":-1.4273861446518765E-2},{"$f":"IF($C38=\"\", \"\", data!S39-G38)","v":-1.5151905205579297E-2},{"$f":"IF($C38=\"\", \"\", data!T39-H38)","v":2.8699917519508844E-2},{"$f":"IF($C38=\"\", \"\", data!U39-I38)","v":-1.5895715583260639E-2},{"$f":"IF($C38=\"\", \"\", data!V39-J38)","v":7.5249282773377502E-3},{"$f":"IF($C38=\"\", \"\", data!W39-K38)","v":2.3560528037730677E-2},{"$f":"IF($C38=\"\", \"\", data!X39-L38)","v":-2.1589595151061403E-3},null,null,1.3093615081061216E-10]
[null,34,{"$f":"IF(TS!B38=\"\", \"\", TS!B38)","v":"2017-07-11"},5.32893325695294,5.32893325695294,7.0076917950410333,7.6663799735235543,6.1131112205669851,7.3657138492167284,6.5151256110071607,8.311441067293984,6.9226699690744837,null,null,{"$f":"IF($C39=\"\", \"\", data!P40-D39)","v":-4.9332569529401127E-3},{"$f":"IF($C39=\"\", \"\", data!Q40-E39)","v":-4.9332569529401127E-3},{"$f":"IF($C39=\"\", \"\", data!R40-F39)","v":-9.6917950410331244E-3},{"$f":"IF($C39=\"\", \"\", data!S40-G39)","v":-1.6379973523553915E-2},{"$f":"IF($C39=\"\", \"\", data!T40-H39)","v":2.6888779433014598E-2},{"$f":"IF($C39=\"\", \"\", data!U40-I39)","v":-1.7713849216728583E-2},{"$f":"IF($C39=\"\", \"\", data!V40-J39)","v":1.0874388992839101E-2},{"$f":"IF($C39=\"\", \"\", data!W40-K39)","v":2.2558932706015611E-2},{"$f":"IF($C39=\"\", \"\", data!X40-L39)","v":-6.6699690744833617E-3},null,null,3.701901007957531E-10]
[null,35,{"$f":"IF(TS!B39=\"\", \"\", TS!B39)","v":"2017-07-10"},5.2329555312501768,5.3429897382164988,6.9449662750512253,7.6727436780549674,6.0114175293507373,7.3647576630659337,6.5727128066972966,8.2654277778241472,6.9180290005659373,null,null,{"$f":"IF($C40=\"\", \"\", data!P41-D40)","v":-1.3955531250176456E-2},{"$f":"IF($C40=\"\", \"\", data!Q41-E40)","v":5.0102617835010577E-3},{"$f":"IF($C40=\"\", \"\", data!R41-F40)","v":-8.9662750512253808E-3},{"$f":"IF($C40=\"\", \"\", data!S41-G40)","v":-1.4743678054967013E-2},{"$f":"IF($C40=\"\", \"\", data!T41-H40)","v":2.8582470649262781E-2},{"$f":"IF($C40=\"\", \"\", data!U41-I40)","v":-1.7757663065933293E-2},{"$f":"IF($C40=\"\", \"\", data!V41-J40)","v":6.2871933027031091E-3},{"$f":"IF($C40=\"\", \"\", data!W41-K40)","v":2.3572222175852531E-2},{"$f":"IF($C40=\"\", \"\", data!X41-L40)","v":-8.0290005659371388E-3},null,null,-7.6919803859709646E-11]
[null,36,{"$f":"IF(TS!B40=\"\", \"\", TS!B40)","v":"2017-07-06"},5.1339105499443676,5.3168740589961843,7.0329230107559617,7.6622992673906509,5.913779256102444,7.352134683585799,6.5613870155709435,8.2732556944150861,6.8394364630573747,null,null,{"$f":"IF($C41=\"\", \"\", data!P42-D41)","v":-1.9910549944367695E-2},{"$f":"IF($C41=\"\", \"\", data!Q42-E41)","v":1.2125941003815477E-2},{"$f":"IF($C41=\"\", \"\", data!R42-F41)","v":-1.3923010755961585E-2},{"$f":"IF($C41=\"\", \"\", data!S42-G41)","v":-1.5299267390650684E-2},{"$f":"IF($C41=\"\", \"\", data!T42-H41)","v":3.1220743897556247E-2},{"$f":"IF($C41=\"\", \"\", data!U42-I41)","v":-1.913468358579884E-2},{"$f":"IF($C41=\"\", \"\", data!V42-J41)","v":4.6129844290563327E-3},{"$f":"IF($C41=\"\", \"\", data!W42-K41)","v":2.7744305584914031E-2},{"$f":"IF($C41=\"\", \"\", data!X42-L41)","v":-7.4364630573748869E-3},null,null,1.8118839761882555E-10]
[null,37,{"$f":"IF(TS!B41=\"\", \"\", TS!B41)","v":"2017-07-05"},5.1396666006796075,5.2290765613735068,6.9544613281718455,7.5677735397668968,5.8868103561524165,7.3143628960639262,6.5329927029394739,8.1284948983843641,6.7913611163674261,null,null,{"$f":"IF($C42=\"\", \"\", data!P43-D42)","v":-1.2666600679607676E-2},{"$f":"IF($C42=\"\", \"\", data!Q43-E42)","v":2.9234386264933576E-3},{"$f":"IF($C42=\"\", \"\", data!R43-F42)","v":-1.1461328171845864E-2},{"$f":"IF($C42=\"\", \"\", data!S43-G42)","v":-1.2773539766897102E-2},{"$f":"IF($C42=\"\", \"\", data!T43-H42)","v":2.9189643847583824E-2},{"$f":"IF($C42=\"\", \"\", data!U43-I42)","v":-1.6362896063926158E-2},{"$f":"IF($C42=\"\", \"\", data!V43-J42)","v":4.0072970605260494E-3},{"$f":"IF($C42=\"\", \"\", data!W43-K42)","v":2.3505101615635127E-2},{"$f":"IF($C42=\"\", \"\", data!X43-L42)","v":-6.3611163674259785E-3},null,null,1.0053557986111628E-10]
[null,38,{"$f":"IF(TS!B42=\"\", \"\", TS!B42)","v":"2017-06-30"},5.151168363630056,5.2745756802298942,7.0078938053879192,7.5436653504496931,5.8553144438473339,7.149487925920365,6.49979413297336,8.1264541471508576,6.7406461504391686,null,null,{"$f":"IF($C43=\"\", \"\", data!P44-D43)","v":-1.5168363630055914E-2},{"$f":"IF($C43=\"\", \"\", data!Q44-E43)","v":5.4243197701060453E-3},{"$f":"IF($C43=\"\", \"\", data!R44-F43)","v":-1.2893805387919066E-2},{"$f":"IF($C43=\"\", \"\", data!S44-G43)","v":-1.3665350449692859E-2},{"$f":"IF($C43=\"\", \"\", data!T44-H43)","v":2.8685556152666436E-2},{"$f":"IF($C43=\"\", \"\", data!U44-I43)","v":-1.5487925920364631E-2},{"$f":"IF($C43=\"\", \"\", data!V44-J43)","v":5.2058670266399432E-3},{"$f":"IF($C43=\"\", \"\", data!W44-K43)","v":2.2545852849141568E-2},{"$f":"IF($C43=\"\", \"\", data!X44-L43)","v":-4.646150439168828E-3},null,null,-2.8647306749007839E-11]
[null,39,{"$f":"IF(TS!B43=\"\", \"\", TS!B43)","v":"2017-06-29"},5.1507201161857701,5.2723155326475428,7.0132419051561214,7.5721071454396025,5.9093828663671388,7.1553367112676867,6.4971542164005314,8.0634905568009394,6.8532509496638774,null,null,{"$f":"IF($C44=\"\", \"\", data!P45-D44)","v":-1.3720116185770515E-2},{"$f":"IF($C44=\"\", \"\", data!Q45-E44)","v":5.6844673524567568E-3},{"$f":"IF($C44=\"\", \"\", data!R45-F44)","v":-1.2241905156121113E-2},{"$f":"IF($C44=\"\", \"\", data!S45-G44)","v":-1.0107145439602228E-2},{"$f":"IF($C44=\"\", \"\", data!T45-H44)","v":2.6617133632861112E-2},{"$f":"IF($C44=\"\", \"\", data!U45-I44)","v":-1.4336711267686653E-2},{"$f":"IF($C44=\"\", \"\", data!V45-J44)","v":4.8457835994684118E-3},{"$f":"IF($C44=\"\", \"\", data!W45-K44)","v":2.1509443199061451E-2},{"$f":"IF($C44=\"\", \"\", data!X45-L44)","v":-8.250949663877627E-3},null,null,7.0789596406939381E-11]
[null,40,{"$f":"IF(TS!B44=\"\", \"\", TS!B44)","v":"2017-06-28"},5.1215666936474094,5.1766866626962162,7.0203843605729617,7.5520705719631742,5.9097648543551706,7.0947023499004196,6.5402266213558278,8.0647072142257965,6.8478906710341718,null,null,{"$f":"IF($C45=\"\", \"\", data!P46-D45)","v":-9.5666936474092523E-3},{"$f":"IF($C45=\"\", \"\", data!Q46-E45)","v":3.1333730378335645E-4},{"$f":"IF($C45=\"\", \"\", data!R46-F45)","v":-1.2384360572961661E-2},{"$f":"IF($C45=\"\", \"\", data!S46-G45)","v":-1.1070571963173848E-2},{"$f":"IF($C45=\"\", \"\", data!T46-H45)","v":2.923514564482943E-2},{"$f":"IF($C45=\"\", \"\", data!U46-I45)","v":-1.3702349900419186E-2},{"$f":"IF($C45=\"\", \"\", data!V46-J45)","v":3.7733786441718209E-3},{"$f":"IF($C45=\"\", \"\", data!W46-K45)","v":2.1292785774203793E-2},{"$f":"IF($C45=\"\", \"\", data!X46-L45)","v":-7.8906710341719588E-3},null,null,2.4885249416684019E-10]
[null,41,{"$f":"IF(TS!B45=\"\", \"\", TS!B45)","v":"2017-06-27"},5.1309058765741113,5.3606530115649278,7.0196846334236085,7.6152891090951975,5.9515251188097444,7.0278686443718961,6.5252690706767176,8.1398449142419675,6.8819596212439187,null,null,{"$f":"IF($C46=\"\", \"\", data!P47-D46)","v":-1.8905876574111247E-2},{"$f":"IF($C46=\"\", \"\", data!Q47-E46)","v":1.5346988435072539E-2},{"$f":"IF($C46=\"\", \"\", data!R47-F46)","v":-1.3684633423608261E-2},{"$f":"IF($C46=\"\", \"\", data!S47-G46)","v":-1.2289109095197759E-2},{"$f":"IF($C46=\"\", \"\", data!T47-H46)","v":2.6474881190255317E-2},{"$f":"IF($C46=\"\", \"\", data!U47-I46)","v":-1.3868644371895833E-2},{"$f":"IF($C46=\"\", \"\", data!V47-J46)","v":3.7309293232823393E-3},{"$f":"IF($C46=\"\", \"\", data!W47-K46)","v":2.3155085758032712E-2},{"$f":"IF($C46=\"\", \"\", data!X47-L46)","v":-9.9596212439188037E-3},null,null,-2.0889956431346945E-12]
[null,42,{"$f":"IF(TS!B46=\"\", \"\", TS!B46)","v":"2017-06-23"},5.5319934734120331,5.4213566802655642,6.8177061278994842,7.801720099603088,6.0242222181529215,7.3232192479446283,6.5981232503785634,8.2697315399473617,6.9359273618684476,null,null,{"$f":"IF($C47=\"\", \"\", data!P48-D47)","v":3.0065265879670733E-3},{"$f":"IF($C47=\"\", \"\", data!Q48-E47)","v":-1.2356680265564357E-2},{"$f":"IF($C47=\"\", \"\", data!R48-F47)","v":-2.7061278994837679E-3},{"$f":"IF($C47=\"\", \"\", data!S48-G47)","v":-1.1720099603087952E-2},{"$f":"IF($C47=\"\", \"\", data!T48-H47)","v":2.2777781847078238E-2},{"$f":"IF($C47=\"\", \"\", data!U48-I47)","v":-1.6219247944627924E-2},{"$f":"IF($C47=\"\", \"\", data!V48-J47)","v":5.8767496214366943E-3},{"$f":"IF($C47=\"\", \"\", data!W48-K47)","v":1.8268460052638602E-2},{"$f":"IF($C47=\"\", \"\", data!X48-L47)","v":-6.9273618684473348E-3},null,null,5.2790927185242253E-10]
[null,43,{"$f":"IF(TS!B47=\"\", \"\", TS!B47)","v":"2017-06-22"},5.1112448446913561,5.3965499607693701,6.8373422450992223,7.7865435277184325,6.0223400217117522,7.3466617253154034,6.5970714480632537,8.2684521062899723,6.9647941203007662,null,null,{"$f":"IF($C48=\"\", \"\", data!P49-D48)","v":-2.1244844691356235E-2},{"$f":"IF($C48=\"\", \"\", data!Q49-E48)","v":2.1450039230630047E-2},{"$f":"IF($C48=\"\", \"\", data!R49-F48)","v":-9.3422450992219908E-3},{"$f":"IF($C48=\"\", \"\", data!S49-G48)","v":-1.1543527718432145E-2},{"$f":"IF($C48=\"\", \"\", data!T49-H48)","v":2.6659978288248176E-2},{"$f":"IF($C48=\"\", \"\", data!U49-I48)","v":-2.0661725315403778E-2},{"$f":"IF($C48=\"\", \"\", data!V49-J48)","v":9.285519367461248E-4},{"$f":"IF($C48=\"\", \"\", data!W49-K48)","v":2.7547893710027083E-2},{"$f":"IF($C48=\"\", \"\", data!X49-L48)","v":-1.3794120300766544E-2},null,null,4.0470737872055906E-11]
[null,44,{"$f":"IF(TS!B48=\"\", \"\", TS!B48)","v":"2017-06-21"},5.1660839986553135,5.4057969938473249,6.8419500551564134,7.8541842818191974,6.0781917179491955,7.3325438711622759,6.5873405677577281,8.3399479169231867,6.9439605968751508,null,null,{"$f":"IF($C49=\"\", \"\", data!P50-D49)","v":-2.0083998655313628E-2},{"$f":"IF($C49=\"\", \"\", data!Q50-E49)","v":1.8203006152675449E-2},{"$f":"IF($C49=\"\", \"\", data!R50-F49)","v":-7.9500551564137822E-3},{"$f":"IF($C49=\"\", \"\", data!S50-G49)","v":-1.3184281819197174E-2},{"$f":"IF($C49=\"\", \"\", data!T50-H49)","v":2.6808282050804877E-2},{"$f":"IF($C49=\"\", \"\", data!U50-I49)","v":-2.1543871162275963E-2},{"$f":"IF($C49=\"\", \"\", data!V50-J49)","v":3.6594322422720538E-3},{"$f":"IF($C49=\"\", \"\", data!W50-K49)","v":2.6052083076812949E-2},{"$f":"IF($C49=\"\", \"\", data!X50-L49)","v":-1.1960596875150387E-2},null,null,-1.4578560580957856E-10]
[null,45,{"$f":"IF(TS!B49=\"\", \"\", TS!B49)","v":"2017-06-20"},5.0848414912944939,5.3597807503407502,6.7449555188693182,7.7539126019036395,6.0009343461425466,7.3324328760520778,6.411412835412726,8.2802272988335233,6.8335022814293964,null,null,{"$f":"IF($C50=\"\", \"\", data!P51-D50)","v":-2.0841491294493864E-2},{"$f":"IF($C50=\"\", \"\", data!Q51-E50)","v":2.0219249659249705E-2},{"$f":"IF($C50=\"\", \"\", data!R51-F50)","v":-8.9555188693184462E-3},{"$f":"IF($C50=\"\", \"\", data!S51-G50)","v":-1.4912601903639633E-2},{"$f":"IF($C50=\"\", \"\", data!T51-H50)","v":2.5065653857453185E-2},{"$f":"IF($C50=\"\", \"\", data!U51-I50)","v":-2.3432876052077667E-2},{"$f":"IF($C50=\"\", \"\", data!V51-J50)","v":6.5871645872741524E-3},{"$f":"IF($C50=\"\", \"\", data!W51-K50)","v":2.8772701166476011E-2},{"$f":"IF($C50=\"\", \"\", data!X51-L50)","v":-1.2502281429396689E-2},null,null,-2.7847324446383936E-10]
[null,46,{"$f":"IF(TS!B50=\"\", \"\", TS!B50)","v":"2017-06-19"},4.8167332787509238,5.3221601299511505,6.5999451935997229,7.7815088869756988,6.0353975715301686,7.3201918059469655,6.4130804735942952,8.2714188306938148,6.8205638290145743,null,null,{"$f":"IF($C51=\"\", \"\", data!P52-D51)","v":-2.3733278750923681E-2},{"$f":"IF($C51=\"\", \"\", data!Q52-E51)","v":4.0839870048849924E-2},{"$f":"IF($C51=\"\", \"\", data!R52-F51)","v":-1.0945193599722458E-2},{"$f":"IF($C51=\"\", \"\", data!S52-G51)","v":-1.3508886975698964E-2},{"$f":"IF($C51=\"\", \"\", data!T52-H51)","v":2.0602428469831402E-2},{"$f":"IF($C51=\"\", \"\", data!U52-I51)","v":-2.9191805946965133E-2},{"$f":"IF($C51=\"\", \"\", data!V52-J51)","v":-1.0804735942953059E-3},{"$f":"IF($C51=\"\", \"\", data!W52-K51)","v":3.7581169306184492E-2},{"$f":"IF($C51=\"\", \"\", data!X52-L51)","v":-2.0563829014574431E-2},null,null,-5.7314153423249081E-11]
[null,47,{"$f":"IF(TS!B51=\"\", \"\", TS!B51)","v":"2017-06-16"},4.7237249075882275,5.304629034052585,6.5702270823111846,7.6887722680196458,6.0940065699936525,7.3253037508410657,6.4131446265427421,8.3516723482542563,6.8265194124264745,null,null,{"$f":"IF($C52=\"\", \"\", data!P53-D52)","v":-2.5724907588227097E-2},{"$f":"IF($C52=\"\", \"\", data!Q53-E52)","v":5.0370965947415414E-2},{"$f":"IF($C52=\"\", \"\", data!R53-F52)","v":-1.0227082311184965E-2},{"$f":"IF($C52=\"\", \"\", data!S53-G52)","v":-2.2772268019645381E-2},{"$f":"IF($C52=\"\", \"\", data!T53-H52)","v":1.89934300063479E-2},{"$f":"IF($C52=\"\", \"\", data!U53-I52)","v":-3.2303750841065515E-2},{"$f":"IF($C52=\"\", \"\", data!V53-J52)","v":-1.1446265427421665E-3},{"$f":"IF($C52=\"\", \"\", data!W53-K52)","v":4.5327651745743935E-2},{"$f":"IF($C52=\"\", \"\", data!X53-L52)","v":-2.2519412426474261E-2},null,null,-2.9832136760887806E-11]
[null,48,{"$f":"IF(TS!B52=\"\", \"\", TS!B52)","v":"2017-06-15"},4.9120249405403662,5.3264387593493332,6.556355172046981,7.7805066288130273,6.0748611118167837,7.2446912268856316,6.4887592784852401,8.3119876870528824,6.8613751949709965,null,null,{"$f":"IF($C53=\"\", \"\", data!P54-D53)","v":-2.4024940540366302E-2},{"$f":"IF($C53=\"\", \"\", data!Q54-E53)","v":3.5561240650666903E-2},{"$f":"IF($C53=\"\", \"\", data!R54-F53)","v":-4.355172046981437E-3},{"$f":"IF($C53=\"\", \"\", data!S54-G53)","v":-1.6506628813027113E-2},{"$f":"IF($C53=\"\", \"\", data!T54-H53)","v":2.2138888183216743E-2},{"$f":"IF($C53=\"\", \"\", data!U54-I53)","v":-2.769122688563197E-2},{"$f":"IF($C53=\"\", \"\", data!V54-J53)","v":-7.5927848523971164E-4},{"$f":"IF($C53=\"\", \"\", data!W54-K53)","v":3.4012312947117707E-2},{"$f":"IF($C53=\"\", \"\", data!X54-L53)","v":-1.8375194970996489E-2},null,null,3.8758329878874065E-11]
[null,49,{"$f":"IF(TS!B53=\"\", \"\", TS!B53)","v":"2017-06-14"},4.5382434368986395,5.320754726238647,6.429744318208229,7.6986551150449785,6.1129224174516601,7.2456053486670591,6.4966667271758514,8.2763892255728493,6.8860186845984064,null,null,{"$f":"IF($C54=\"\", \"\", data!P55-D54)","v":-2.2243436898639501E-2},{"$f":"IF($C54=\"\", \"\", data!Q55-E54)","v":5.9245273761352912E-2},{"$f":"IF($C54=\"\", \"\", data!R55-F54)","v":-7.744318208229295E-3},{"$f":"IF($C54=\"\", \"\", data!S55-G54)","v":-1.7655115044978409E-2},{"$f":"IF($C54=\"\", \"\", data!T55-H54)","v":1.3077582548340239E-2},{"$f":"IF($C54=\"\", \"\", data!U55-I54)","v":-3.3605348667059332E-2},{"$f":"IF($C54=\"\", \"\", data!V55-J54)","v":-1.1666727175851044E-2},{"$f":"IF($C54=\"\", \"\", data!W55-K54)","v":4.9610774427151227E-2},{"$f":"IF($C54=\"\", \"\", data!X55-L54)","v":-2.9018684598406175E-2},null,null,1.4368062295488926E-10]
[null,50,{"$f":"IF(TS!B54=\"\", \"\", TS!B54)","v":"2017-06-13"},4.5265338958021353,5.3453784376107052,6.4304598491260734,7.7609447075735911,6.1357473273159151,7.2564406469492457,6.5536769591740942,8.2898794964029303,6.8729386801016528,null,null,{"$f":"IF($C55=\"\", \"\", data!P56-D55)","v":-2.1533895802135383E-2},{"$f":"IF($C55=\"\", \"\", data!Q56-E55)","v":6.0621562389294503E-2},{"$f":"IF($C55=\"\", \"\", data!R56-F55)","v":-7.4598491260733368E-3},{"$f":"IF($C55=\"\", \"\", data!S56-G55)","v":-1.4944707573590676E-2},{"$f":"IF($C55=\"\", \"\", data!T56-H55)","v":1.2252672684084587E-2},{"$f":"IF($C55=\"\", \"\", data!U56-I55)","v":-3.4440646949245313E-2},{"$f":"IF($C55=\"\", \"\", data!V56-J55)","v":-1.4676959174094506E-2},{"$f":"IF($C55=\"\", \"\", data!W56-K55)","v":4.9120503597070098E-2},{"$f":"IF($C55=\"\", \"\", data!X56-L55)","v":-2.8938680101652459E-2},null,null,-5.6342486232097144E-11]
[null,51,{"$f":"IF(TS!B55=\"\", \"\", TS!B55)","v":"2017-06-12"},4.5239308380085319,5.3169720617223106,6.4314649287490351,7.7609566282153448,6.1411180214305112,7.2432666418908536,6.5583461975570323,8.1995703839194292,6.935374298447174,null,null,{"$f":"IF($C56=\"\", \"\", data!P57-D56)","v":-2.0930838008531794E-2},{"$f":"IF($C56=\"\", \"\", data!Q57-E56)","v":5.8027938277689373E-2},{"$f":"IF($C56=\"\", \"\", data!R57-F56)","v":-8.4649287490350389E-3},{"$f":"IF($C56=\"\", \"\", data!S57-G56)","v":-7.9566282153447077E-3},{"$f":"IF($C56=\"\", \"\", data!T57-H56)","v":9.8819785694885809E-3},{"$f":"IF($C56=\"\", \"\", data!U57-I56)","v":-3.1266641890853819E-2},{"$f":"IF($C56=\"\", \"\", data!V57-J56)","v":-1.5346197557032148E-2},{"$f":"IF($C56=\"\", \"\", data!W57-K56)","v":4.5429616080570057E-2},{"$f":"IF($C56=\"\", \"\", data!X57-L56)","v":-2.9374298447174318E-2},null,null,5.9776184002657828E-11]
[null,52,{"$f":"IF(TS!B56=\"\", \"\", TS!B56)","v":"2017-06-09"},4.5330881259832445,5.2726280381108239,6.4366180264623534,7.7460454682898732,5.9482672379086488,7.1785959743274326,6.4005596906069524,8.1968618041463817,6.7233356340847159,null,null,{"$f":"IF($C57=\"\", \"\", data!P58-D57)","v":-2.2088125983244389E-2},{"$f":"IF($C57=\"\", \"\", data!Q58-E57)","v":5.4371961889176035E-2},{"$f":"IF($C57=\"\", \"\", data!R58-F57)","v":-1.2618026462352994E-2},{"$f":"IF($C57=\"\", \"\", data!S58-G57)","v":-1.1045468289872851E-2},{"$f":"IF($C57=\"\", \"\", data!T58-H57)","v":1.8732762091350885E-2},{"$f":"IF($C57=\"\", \"\", data!U58-I57)","v":-3.4595974327432444E-2},{"$f":"IF($C57=\"\", \"\", data!V58-J57)","v":-1.0559690606952721E-2},{"$f":"IF($C57=\"\", \"\", data!W58-K57)","v":4.4138195853618001E-2},{"$f":"IF($C57=\"\", \"\", data!X58-L57)","v":-2.6335634084715842E-2},null,null,7.957368097777362E-11]
[null,53,{"$f":"IF(TS!B57=\"\", \"\", TS!B57)","v":"2017-06-08"},4.7120981536749191,5.2863641800496133,6.4273193559127932,7.7675437373015104,6.0382665510539013,7.1776445648398877,6.3648138134462826,8.1953921455875012,6.6745574981617501,null,null,{"$f":"IF($C58=\"\", \"\", data!P59-D58)","v":-2.2098153674918741E-2},{"$f":"IF($C58=\"\", \"\", data!Q59-E58)","v":4.4635819950387123E-2},{"$f":"IF($C58=\"\", \"\", data!R59-F58)","v":-7.3193559127933128E-3},{"$f":"IF($C58=\"\", \"\", data!S59-G58)","v":-1.1543737301510149E-2},{"$f":"IF($C58=\"\", \"\", data!T59-H58)","v":1.573344894609896E-2},{"$f":"IF($C58=\"\", \"\", data!U59-I58)","v":-3.1644564839887757E-2},{"$f":"IF($C58=\"\", \"\", data!V59-J58)","v":-3.8138134462828432E-3},{"$f":"IF($C58=\"\", \"\", data!W59-K58)","v":3.5607854412498696E-2},{"$f":"IF($C58=\"\", \"\", data!X59-L58)","v":-1.9557498161749898E-2},null,null,-2.815792043975307E-11]
[null,54,{"$f":"IF(TS!B58=\"\", \"\", TS!B58)","v":"2017-06-07"},4.7084730854548162,5.3654779076296073,6.4184543930427758,7.7241090381630393,5.9764421601525726,7.1635462492287552,6.3310488862198859,8.030704542364612,6.7187437377440347,null,null,{"$f":"IF($C59=\"\", \"\", data!P60-D59)","v":-1.7473085454816406E-2},{"$f":"IF($C59=\"\", \"\", data!Q60-E59)","v":3.9522092370392947E-2},{"$f":"IF($C59=\"\", \"\", data!R60-F59)","v":-9.4543930427759548E-3},{"$f":"IF($C59=\"\", \"\", data!S60-G59)","v":-3.1090381630392017E-3},{"$f":"IF($C59=\"\", \"\", data!T60-H59)","v":1.455783984742709E-2},{"$f":"IF($C59=\"\", \"\", data!U60-I59)","v":-2.7546249228755038E-2},{"$f":"IF($C59=\"\", \"\", data!V60-J59)","v":-5.048886219886306E-3},{"$f":"IF($C59=\"\", \"\", data!W60-K59)","v":3.029545763538799E-2},{"$f":"IF($C59=\"\", \"\", data!X60-L59)","v":-2.1743737744034597E-2},null,null,-9.9475983006414026E-14]
[null,55,{"$f":"IF(TS!B59=\"\", \"\", TS!B59)","v":"2017-06-06"},4.7054952420567133,5.271145751539521,6.4283345743696891,7.5230644516454106,5.9389856040525579,6.9862400252201908,6.3068142826748073,7.9224313988511206,6.6834886696725935,null,null,{"$f":"IF($C60=\"\", \"\", data!P61-D60)","v":-1.8495242056713046E-2},{"$f":"IF($C60=\"\", \"\", data!Q61-E60)","v":3.68542484604788E-2},{"$f":"IF($C60=\"\", \"\", data!R61-F60)","v":-9.3345743696895411E-3},{"$f":"IF($C60=\"\", \"\", data!S61-G60)","v":-8.0644516454109194E-3},{"$f":"IF($C60=\"\", \"\", data!T61-H60)","v":1.5014395947441805E-2},{"$f":"IF($C60=\"\", \"\", data!U61-I60)","v":-2.3240025220190752E-2},{"$f":"IF($C60=\"\", \"\", data!V61-J60)","v":-3.8142826748073233E-3},{"$f":"IF($C60=\"\", \"\", data!W61-K60)","v":2.9568601148879381E-2},{"$f":"IF($C60=\"\", \"\", data!X61-L60)","v":-1.8488669672593439E-2},null,null,-8.2605033924210147E-11]
[null,56,{"$f":"IF(TS!B60=\"\", \"\", TS!B60)","v":"2017-06-01"},4.6619647458011997,5.3208510132951083,6.3141311572877683,7.6156369630525589,5.7314479878325315,7.1019357105808147,6.2041384887332995,8.0851342120551859,6.5837597212921608,null,null,{"$f":"IF($C61=\"\", \"\", data!P62-D61)","v":-1.9964745801199335E-2},{"$f":"IF($C61=\"\", \"\", data!Q62-E61)","v":3.8148986704891641E-2},{"$f":"IF($C61=\"\", \"\", data!R62-F61)","v":-9.1311572877685876E-3},{"$f":"IF($C61=\"\", \"\", data!S62-G61)","v":-1.3636963052558571E-2},{"$f":"IF($C61=\"\", \"\", data!T62-H61)","v":2.3552012167468384E-2},{"$f":"IF($C61=\"\", \"\", data!U62-I61)","v":-3.1935710580814458E-2},{"$f":"IF($C61=\"\", \"\", data!V62-J61)","v":-3.1384887332999156E-3},{"$f":"IF($C61=\"\", \"\", data!W62-K61)","v":3.7865787944813434E-2},{"$f":"IF($C61=\"\", \"\", data!X62-L61)","v":-2.1759721292160528E-2},null,null,6.9372063649097981E-11]
[null,57,{"$f":"IF(TS!B61=\"\", \"\", TS!B61)","v":"2017-05-31"},4.6023292081379239,5.3651875756432723,6.3295495079979602,7.6707530994076176,5.7307415832799151,7.1064476078462331,6.1140156447492444,8.1124268741294276,6.5525488988980758,null,null,{"$f":"IF($C62=\"\", \"\", data!P63-D62)","v":-1.8329208137924269E-2},{"$f":"IF($C62=\"\", \"\", data!Q63-E62)","v":3.9812424356727938E-2},{"$f":"IF($C62=\"\", \"\", data!R63-F62)","v":-1.2549507997960063E-2},{"$f":"IF($C62=\"\", \"\", data!S63-G62)","v":-1.2753099407617263E-2},{"$f":"IF($C62=\"\", \"\", data!T63-H62)","v":2.325841672008444E-2},{"$f":"IF($C62=\"\", \"\", data!U63-I62)","v":-3.5447607846233353E-2},{"$f":"IF($C62=\"\", \"\", data!V63-J62)","v":-1.5644749244536627E-5},{"$f":"IF($C62=\"\", \"\", data!W63-K62)","v":3.9573125870571602E-2},{"$f":"IF($C62=\"\", \"\", data!X63-L62)","v":-2.3548898898075876E-2},null,null,-8.9671381431344344E-11]
[null,58,{"$f":"IF(TS!B62=\"\", \"\", TS!B62)","v":"2017-05-30"},4.6506508089345644,5.3826142457584467,6.3330066349100349,7.7758866605730237,5.7665372433559234,7.1083485610552746,6.1031496472779416,8.1785026878270042,6.4863035104002442,null,null,{"$f":"IF($C63=\"\", \"\", data!P64-D63)","v":-1.8650808934564722E-2},{"$f":"IF($C63=\"\", \"\", data!Q64-E63)","v":3.9385754241552995E-2},{"$f":"IF($C63=\"\", \"\", data!R64-F63)","v":-1.2006634910035174E-2},{"$f":"IF($C63=\"\", \"\", data!S64-G63)","v":-1.1886660573023455E-2},{"$f":"IF($C63=\"\", \"\", data!T64-H63)","v":2.2462756644076265E-2},{"$f":"IF($C63=\"\", \"\", data!U64-I63)","v":-3.8348561055274288E-2},{"$f":"IF($C63=\"\", \"\", data!V64-J63)","v":1.8503527220588012E-3},{"$f":"IF($C63=\"\", \"\", data!W64-K63)","v":3.7497312172995123E-2},{"$f":"IF($C63=\"\", \"\", data!X64-L63)","v":-2.0303510400244029E-2},null,null,-9.2458485312363337E-11]
[null,59,{"$f":"IF(TS!B63=\"\", \"\", TS!B63)","v":"2017-05-25"},4.6141157917552924,5.3709260364685711,6.3312508232264193,7.7451487207396106,5.797202071625513,7.1119053103277583,6.281208020734649,8.2261856331814833,6.5640575919594415,null,null,{"$f":"IF($C64=\"\", \"\", data!P65-D64)","v":-2.0115791755292101E-2},{"$f":"IF($C64=\"\", \"\", data!Q65-E64)","v":4.5073963531429229E-2},{"$f":"IF($C64=\"\", \"\", data!R65-F64)","v":-9.2508232264192358E-3},{"$f":"IF($C64=\"\", \"\", data!S65-G64)","v":-1.6148720739610489E-2},{"$f":"IF($C64=\"\", \"\", data!T65-H64)","v":2.4797928374487022E-2},{"$f":"IF($C64=\"\", \"\", data!U65-I64)","v":-3.7905310327758457E-2},{"$f":"IF($C64=\"\", \"\", data!V65-J64)","v":-6.208020734648656E-3},{"$f":"IF($C64=\"\", \"\", data!W65-K64)","v":4.1814366818517357E-2},{"$f":"IF($C64=\"\", \"\", data!X65-L64)","v":-2.205759195944168E-2},null,null,-1.8737011941993842E-11]
[null,60,{"$f":"IF(TS!B64=\"\", \"\", TS!B64)","v":"2017-05-24"},4.7755063706721295,5.4772483922932729,6.4004943382902368,7.7822038748808975,5.7961086037542771,7.2189513976168111,6.3474065652879936,8.3085559130732527,6.5275245440635921,null,null,{"$f":"IF($C65=\"\", \"\", data!P66-D65)","v":-2.050637067212957E-2},{"$f":"IF($C65=\"\", \"\", data!Q66-E65)","v":3.8751607706727142E-2},{"$f":"IF($C65=\"\", \"\", data!R66-F65)","v":-8.4943382902364917E-3},{"$f":"IF($C65=\"\", \"\", data!S66-G65)","v":-1.9203874880897587E-2},{"$f":"IF($C65=\"\", \"\", data!T66-H65)","v":2.6891396245723342E-2},{"$f":"IF($C65=\"\", \"\", data!U66-I65)","v":-3.6951397616810766E-2},{"$f":"IF($C65=\"\", \"\", data!V66-J65)","v":-5.4065652879939918E-3},{"$f":"IF($C65=\"\", \"\", data!W66-K65)","v":4.0444086926747502E-2},{"$f":"IF($C65=\"\", \"\", data!X66-L65)","v":-1.5524544063592494E-2},null,null,6.7537087033997523E-11]
[null,61,{"$f":"IF(TS!B65=\"\", \"\", TS!B65)","v":"2017-05-23"},4.737696002978101,5.6200361772617136,6.5252137057708701,7.878308050962346,5.8337200817468045,7.3552056761116997,6.3619885530293558,8.2669867025312875,6.6158450494789278,null,null,{"$f":"IF($C66=\"\", \"\", data!P67-D66)","v":-1.5696002978100587E-2},{"$f":"IF($C66=\"\", \"\", data!Q67-E66)","v":3.6963822738286467E-2},{"$f":"IF($C66=\"\", \"\", data!R67-F66)","v":-1.5213705770870334E-2},{"$f":"IF($C66=\"\", \"\", data!S67-G66)","v":-9.3080509623462149E-3},{"$f":"IF($C66=\"\", \"\", data!T67-H66)","v":2.6279918253195866E-2},{"$f":"IF($C66=\"\", \"\", data!U67-I66)","v":-3.5205676111699447E-2},{"$f":"IF($C66=\"\", \"\", data!V67-J66)","v":-5.9885530293559697E-3},{"$f":"IF($C66=\"\", \"\", data!W67-K66)","v":3.8013297468712182E-2},{"$f":"IF($C66=\"\", \"\", data!X67-L66)","v":-1.9845049478927734E-2},null,null,1.2889422862372157E-10]
[null,62,{"$f":"IF(TS!B66=\"\", \"\", TS!B66)","v":"2017-05-22"},4.6879403822831378,5.3914435162033669,6.5190795720284722,7.4841216837871798,5.934377193346382,6.8866663323334674,6.3606669676305181,7.8632895173811033,6.5874148350668627,null,null,{"$f":"IF($C67=\"\", \"\", data!P68-D67)","v":-1.4940382283137765E-2},{"$f":"IF($C67=\"\", \"\", data!Q68-E67)","v":3.655648379663301E-2},{"$f":"IF($C67=\"\", \"\", data!R68-F67)","v":-1.3079572028471986E-2},{"$f":"IF($C67=\"\", \"\", data!S68-G67)","v":-7.121683787179478E-3},{"$f":"IF($C67=\"\", \"\", data!T68-H67)","v":1.4622806653617815E-2},{"$f":"IF($C67=\"\", \"\", data!U68-I67)","v":-2.1666332333467153E-2},{"$f":"IF($C67=\"\", \"\", data!V68-J67)","v":-6.6669676305179948E-3},{"$f":"IF($C67=\"\", \"\", data!W68-K67)","v":2.7710482618896748E-2},{"$f":"IF($C67=\"\", \"\", data!X68-L67)","v":-1.5414835066862587E-2},null,null,-6.0489391273677029E-11]
[null,63,{"$f":"IF(TS!B67=\"\", \"\", TS!B67)","v":"2017-05-19"},4.7167807850416068,5.3502771732548737,6.5522958934253932,7.3939546739823321,6.0025894687702568,6.9097518253144088,6.3541380541339727,7.9064730698530941,6.5937390563372968,null,null,{"$f":"IF($C68=\"\", \"\", data!P69-D68)","v":-1.6780785041606627E-2},{"$f":"IF($C68=\"\", \"\", data!Q69-E68)","v":3.772282674512617E-2},{"$f":"IF($C68=\"\", \"\", data!R69-F68)","v":-1.2295893425393167E-2},{"$f":"IF($C68=\"\", \"\", data!S69-G68)","v":-1.2954673982331855E-2},{"$f":"IF($C68=\"\", \"\", data!T69-H68)","v":1.3410531229743228E-2},{"$f":"IF($C68=\"\", \"\", data!U69-I68)","v":-2.0751825314408556E-2},{"$f":"IF($C68=\"\", \"\", data!V69-J68)","v":-4.138054133973057E-3},{"$f":"IF($C68=\"\", \"\", data!W69-K68)","v":2.9526930146905883E-2},{"$f":"IF($C68=\"\", \"\", data!X69-L68)","v":-1.3739056337296773E-2},null,null,-1.1323475490598867E-10]
[null,64,{"$f":"IF(TS!B68=\"\", \"\", TS!B68)","v":"2017-05-16"},5.0318867414750912,5.7449536213903762,6.6309432750989821,8.526537572791046,5.9780267869146257,8.3552433813870763,6.329406108266177,9.0694517697895165,6.5585507428453305,null,null,{"$f":"IF($C69=\"\", \"\", data!P70-D69)","v":-2.1886741475091398E-2},{"$f":"IF($C69=\"\", \"\", data!Q70-E69)","v":3.7046378609623787E-2},{"$f":"IF($C69=\"\", \"\", data!R70-F69)","v":-1.8943275098981971E-2},{"$f":"IF($C69=\"\", \"\", data!S70-G69)","v":-2.8537572791046628E-2},{"$f":"IF($C69=\"\", \"\", data!T70-H69)","v":2.6973213085374148E-2},{"$f":"IF($C69=\"\", \"\", data!U70-I69)","v":-4.5243381387075843E-2},{"$f":"IF($C69=\"\", \"\", data!V70-J69)","v":3.5938917338231846E-3},{"$f":"IF($C69=\"\", \"\", data!W70-K69)","v":6.0548230210484277E-2},{"$f":"IF($C69=\"\", \"\", data!X70-L69)","v":-1.3550742845330532E-2},null,null,4.1779024684274191E-11]
[null,65,{"$f":"IF(TS!B69=\"\", \"\", TS!B69)","v":"2017-05-15"},5.018867738415949,5.7373387987241742,6.6851899706854638,8.5773284438271489,5.9385798334075659,8.2691446443750856,6.2551575040393885,9.1760645544253165,6.5443285121216768,null,null,{"$f":"IF($C70=\"\", \"\", data!P71-D70)","v":-2.6867738415949027E-2},{"$f":"IF($C70=\"\", \"\", data!Q71-E70)","v":3.9661201275825952E-2},{"$f":"IF($C70=\"\", \"\", data!R71-F70)","v":-2.2189970685463578E-2},{"$f":"IF($C70=\"\", \"\", data!S71-G70)","v":-3.2328443827148945E-2},{"$f":"IF($C70=\"\", \"\", data!T71-H70)","v":3.1420166592433851E-2},{"$f":"IF($C70=\"\", \"\", data!U71-I70)","v":-5.914464437508471E-2},{"$f":"IF($C70=\"\", \"\", data!V71-J70)","v":1.0842495960611487E-2},{"$f":"IF($C70=\"\", \"\", data!W71-K70)","v":6.9935445574683897E-2},{"$f":"IF($C70=\"\", \"\", data!X71-L70)","v":-1.1328512121676404E-2},null,null,-2.1767476710010669E-11]
[null,66,{"$f":"IF(TS!B70=\"\", \"\", TS!B70)","v":"2017-05-12"},5.0861897216544918,5.6994102389354069,6.6970687555655068,8.4175964209949505,5.8392475452379351,8.3010882864151263,6.175845127419116,9.1131085915153083,6.4074453121997834,null,null,{"$f":"IF($C71=\"\", \"\", data!P72-D71)","v":-2.9189721654491407E-2},{"$f":"IF($C71=\"\", \"\", data!Q72-E71)","v":3.2589761064593326E-2},{"$f":"IF($C71=\"\", \"\", data!R72-F71)","v":-2.3068755565506471E-2},{"$f":"IF($C71=\"\", \"\", data!S72-G71)","v":-3.9596420994950421E-2},{"$f":"IF($C71=\"\", \"\", data!T72-H71)","v":2.9752454762064673E-2},{"$f":"IF($C71=\"\", \"\", data!U72-I71)","v":-4.9088286415125637E-2},{"$f":"IF($C71=\"\", \"\", data!V72-J71)","v":1.3154872580884103E-2},{"$f":"IF($C71=\"\", \"\", data!W72-K71)","v":6.7891408484690885E-2},{"$f":"IF($C71=\"\", \"\", data!X72-L71)","v":-2.4453121997831673E-3},null,null,{"$f":"SUM(O71:X71)","v":6.2375882237120095E-11}]
[null,{"$f":"B71+1","v":67},{"$f":"IF(TS!B71=\"\", \"\", TS!B71)","v":"2017-05-11"},5.1017845643644968,5.740794473546579,6.6837089464209143,8.5061046012293495,5.7631573581311351,8.2419200323696771,6.092218298891428,9.075941815948509,6.3923699089707569,null,null,{"$f":"IF($C72=\"\", \"\", data!P73-D72)","v":-2.878456436449639E-2},{"$f":"IF($C72=\"\", \"\", data!Q73-E72)","v":2.9205526453420561E-2},{"$f":"IF($C72=\"\", \"\", data!R73-F72)","v":-2.3708946420914145E-2},{"$f":"IF($C72=\"\", \"\", data!S73-G72)","v":-2.9104601229349214E-2},{"$f":"IF($C72=\"\", \"\", data!T73-H72)","v":2.884264186886476E-2},{"$f":"IF($C72=\"\", \"\", data!U73-I72)","v":-5.1920032369677571E-2},{"$f":"IF($C72=\"\", \"\", data!V73-J72)","v":1.5781701108571689E-2},{"$f":"IF($C72=\"\", \"\", data!W73-K72)","v":6.3058184051490329E-2},{"$f":"IF($C72=\"\", \"\", data!X73-L72)","v":-3.3699089707566188E-3},null,null,{"$f":"SUM(O72:X72)","v":1.2715339892110933E-10}]
[null,68,{"$f":"IF(TS!B72=\"\", \"\", TS!B72)","v":"2017-05-10"},5.0363741753853972,5.799475645415896,6.6842551891321982,8.6899020721300317,5.7808575749054469,8.4630392707822857,6.2221508928046667,9.3526653988020705,6.5012797807454774,null,null,{"$f":"IF($C73=\"\", \"\", data!P74-D73)","v":-3.1374175385397329E-2},{"$f":"IF($C73=\"\", \"\", data!Q74-E73)","v":3.7524354584103747E-2},{"$f":"IF($C73=\"\", \"\", data!R74-F73)","v":-2.4255189132198041E-2},{"$f":"IF($C73=\"\", \"\", data!S74-G73)","v":-4.0902072130032607E-2},{"$f":"IF($C73=\"\", \"\", data!T74-H73)","v":3.8142425094553012E-2},{"$f":"IF($C73=\"\", \"\", data!U74-I73)","v":-6.3039270782285328E-2},{"$f":"IF($C73=\"\", \"\", data!V74-J73)","v":1.2849107195333609E-2},{"$f":"IF($C73=\"\", \"\", data!W74-K73)","v":8.0334601197929345E-2},{"$f":"IF($C73=\"\", \"\", data!X74-L73)","v":-9.2797807454774173E-3},null,null,-1.0347100953822519E-10]
[null,69,{"$f":"IF(TS!B73=\"\", \"\", TS!B73)","v":"2017-05-08"},4.9352567408891943,6.0189543107044337,6.6718327342392278,8.7975423951727905,5.9263242073433666,8.5658792159404946,6.3113053195121331,9.3869678211268841,6.5949372550198149,null,null,{"$f":"IF($C74=\"\", \"\", data!P75-D74)","v":-2.0256740889194269E-2},{"$f":"IF($C74=\"\", \"\", data!Q75-E74)","v":3.304568929556595E-2},{"$f":"IF($C74=\"\", \"\", data!R75-F74)","v":-2.3832734239228159E-2},{"$f":"IF($C74=\"\", \"\", data!S75-G74)","v":-3.6542395172791231E-2},{"$f":"IF($C74=\"\", \"\", data!T75-H74)","v":3.9675792656633568E-2},{"$f":"IF($C74=\"\", \"\", data!U75-I74)","v":-6.2879215940494504E-2},{"$f":"IF($C74=\"\", \"\", data!V75-J74)","v":8.6946804878671458E-3},{"$f":"IF($C74=\"\", \"\", data!W75-K74)","v":7.90321788731152E-2},{"$f":"IF($C74=\"\", \"\", data!X75-L74)","v":-1.6937255019814579E-2},null,null,5.1659121425018384E-11]
[null,70,{"$f":"IF(TS!B74=\"\", \"\", TS!B74)","v":"2017-05-05"},4.8926950778750751,6.0323839432625128,6.6616155895240716,8.9285041142927248,5.9282262474059699,8.5769456529855219,6.3775341544789619,9.4491109828432638,6.5809842374203349,null,null,{"$f":"IF($C75=\"\", \"\", data!P76-D75)","v":-1.9695077875074851E-2},{"$f":"IF($C75=\"\", \"\", data!Q76-E75)","v":3.4616056737487355E-2},{"$f":"IF($C75=\"\", \"\", data!R76-F75)","v":-2.3615589524071723E-2},{"$f":"IF($C75=\"\", \"\", data!S76-G75)","v":-2.9504114292725703E-2},{"$f":"IF($C75=\"\", \"\", data!T76-H75)","v":4.2773752594030157E-2},{"$f":"IF($C75=\"\", \"\", data!U76-I75)","v":-7.1945652985521136E-2},{"$f":"IF($C75=\"\", \"\", data!V76-J75)","v":3.4658455210383465E-3},{"$f":"IF($C75=\"\", \"\", data!W76-K75)","v":7.9889017156736131E-2},{"$f":"IF($C75=\"\", \"\", data!X76-L75)","v":-1.5984237420334502E-2},null,null,-8.8435925249541469E-11]
[null,71,{"$f":"IF(TS!B75=\"\", \"\", TS!B75)","v":"2017-05-04"},4.92262181361572,6.382337459297414,6.6613104954373838,9.0933777604696893,5.9027202678470125,8.7787612342062324,6.3801171055992434,9.5915743259861816,6.5801795375462966,null,null,{"$f":"IF($C76=\"\", \"\", data!P77-D76)","v":-1.7621813615719795E-2},{"$f":"IF($C76=\"\", \"\", data!Q77-E76)","v":8.6625407025859857E-3},{"$f":"IF($C76=\"\", \"\", data!R77-F76)","v":-1.9310495437383501E-2},{"$f":"IF($C76=\"\", \"\", data!S77-G76)","v":-2.9377760469689207E-2},{"$f":"IF($C76=\"\", \"\", data!T77-H76)","v":5.1279732152987201E-2},{"$f":"IF($C76=\"\", \"\", data!U77-I76)","v":-7.1761234206231705E-2},{"$f":"IF($C76=\"\", \"\", data!V77-J76)","v":8.8828944007568467E-3},{"$f":"IF($C76=\"\", \"\", data!W77-K76)","v":8.0425674013818949E-2},{"$f":"IF($C76=\"\", \"\", data!X77-L76)","v":-1.1179537546296636E-2},null,null,-5.1718629379138292E-12]
[null,72,{"$f":"IF(TS!B76=\"\", \"\", TS!B76)","v":"2017-05-03"},4.9059808740843849,6.1814947501677828,6.649115137615162,8.7130986248076994,5.8671802571064475,8.1591018458719304,6.2164200783403665,9.2674291251511267,6.5691793069008604,null,null,{"$f":"IF($C77=\"\", \"\", data!P78-D77)","v":-2.0980874084385093E-2},{"$f":"IF($C77=\"\", \"\", data!Q78-E77)","v":2.1505249832217466E-2},{"$f":"IF($C77=\"\", \"\", data!R78-F77)","v":-1.9115137615162148E-2},{"$f":"IF($C77=\"\", \"\", data!S78-G77)","v":-3.0098624807699537E-2},{"$f":"IF($C77=\"\", \"\", data!T78-H77)","v":4.4819742893552394E-2},{"$f":"IF($C77=\"\", \"\", data!U78-I77)","v":-7.6101845871930252E-2},{"$f":"IF($C77=\"\", \"\", data!V78-J77)","v":1.8579921659633847E-2},{"$f":"IF($C77=\"\", \"\", data!W78-K77)","v":7.3570874848872592E-2},{"$f":"IF($C77=\"\", \"\", data!X78-L77)","v":-1.2179306900859999E-2},null,null,-4.5760728539789852E-11]
[null,73,{"$f":"IF(TS!B77=\"\", \"\", TS!B77)","v":"2017-05-02"},5.0637348972166194,6.069548985779516,6.7565622642178198,8.5162482036279066,5.5383832028916444,8.1653688695065938,6.030367069300361,9.1537072900614866,6.3800792172664309,null,null,{"$f":"IF($C78=\"\", \"\", data!P79-D78)","v":-3.2734897216619707E-2},{"$f":"IF($C78=\"\", \"\", data!Q79-E78)","v":2.2451014220483678E-2},{"$f":"IF($C78=\"\", \"\", data!R79-F78)","v":-2.556226421781993E-2},{"$f":"IF($C78=\"\", \"\", data!S79-G78)","v":-3.4248203627907259E-2},{"$f":"IF($C78=\"\", \"\", data!T79-H78)","v":3.4616797108355968E-2},{"$f":"IF($C78=\"\", \"\", data!U79-I78)","v":-6.036886950659337E-2},{"$f":"IF($C78=\"\", \"\", data!V79-J78)","v":2.4632930699638678E-2},{"$f":"IF($C78=\"\", \"\", data!W79-K78)","v":6.9292709938514108E-2},{"$f":"IF($C78=\"\", \"\", data!X79-L78)","v":1.9207827335687711E-3},null,null,1.3162093637220096E-10]
[null,74,{"$f":"IF(TS!B78=\"\", \"\", TS!B78)","v":"2017-05-01"},5.1760488419462227,6.1095262832406902,6.9156341482550339,8.3335843621210124,5.6758494977665706,8.1358246483338483,6.0373552628406983,9.054381680696137,6.2487952748160502,null,null,{"$f":"IF($C79=\"\", \"\", data!P80-D79)","v":-3.1048841946223149E-2},{"$f":"IF($C79=\"\", \"\", data!Q80-E79)","v":1.9473716759309312E-2},{"$f":"IF($C79=\"\", \"\", data!R80-F79)","v":-2.9634148255033743E-2},{"$f":"IF($C79=\"\", \"\", data!S80-G79)","v":-3.6584362121011793E-2},{"$f":"IF($C79=\"\", \"\", data!T80-H79)","v":2.8150502233429187E-2},{"$f":"IF($C79=\"\", \"\", data!U80-I79)","v":-4.8824648333848586E-2},{"$f":"IF($C79=\"\", \"\", data!V80-J79)","v":2.2644737159301265E-2},{"$f":"IF($C79=\"\", \"\", data!W80-K79)","v":6.3618319303863302E-2},{"$f":"IF($C79=\"\", \"\", data!X80-L79)","v":1.2204725183949883E-2},null,null,-1.6264323221548693E-11]
[null,75,{"$f":"IF(TS!B79=\"\", \"\", TS!B79)","v":"2017-04-28"},5.1905952530670518,5.9573151440843617,7.0559635554239293,8.3044969510843636,5.6480898109758826,8.2141253027835006,6.0868693617515888,9.0757740340651623,6.30277058703291,null,null,{"$f":"IF($C80=\"\", \"\", data!P81-D80)","v":-3.4595253067052134E-2},{"$f":"IF($C80=\"\", \"\", data!Q81-E80)","v":2.6684855915638295E-2},{"$f":"IF($C80=\"\", \"\", data!R81-F80)","v":-3.4963555423929371E-2},{"$f":"IF($C80=\"\", \"\", data!S81-G80)","v":-3.8496951084363573E-2},{"$f":"IF($C80=\"\", \"\", data!T81-H80)","v":2.6910189024117237E-2},{"$f":"IF($C80=\"\", \"\", data!U81-I80)","v":-4.4125302783500686E-2},{"$f":"IF($C80=\"\", \"\", data!V81-J80)","v":2.2130638248411216E-2},{"$f":"IF($C80=\"\", \"\", data!W81-K80)","v":6.522596593483776E-2},{"$f":"IF($C80=\"\", \"\", data!X81-L80)","v":1.1229412967090013E-2},null,null,-2.6875124348180179E-10]
[null,76,{"$f":"IF(TS!B80=\"\", \"\", TS!B80)","v":"2017-04-27"},5.2119425608637187,5.9267071002951148,7.0439453059216426,8.2650474120068047,5.767290942697489,8.2650474120068047,6.3658296997353361,8.9655290375815682,6.4806605288057959,null,null,{"$f":"IF($C81=\"\", \"\", data!P82-D81)","v":-2.7942560863718491E-2},{"$f":"IF($C81=\"\", \"\", data!Q82-E81)","v":2.8292899704885244E-2},{"$f":"IF($C81=\"\", \"\", data!R82-F81)","v":-3.0945305921642685E-2},{"$f":"IF($C81=\"\", \"\", data!S82-G81)","v":-3.3047412006805388E-2},{"$f":"IF($C81=\"\", \"\", data!T82-H81)","v":2.9709057302510722E-2},{"$f":"IF($C81=\"\", \"\", data!U82-I81)","v":-3.3047412006805388E-2},{"$f":"IF($C81=\"\", \"\", data!V82-J81)","v":9.170300264663922E-3},{"$f":"IF($C81=\"\", \"\", data!W82-K81)","v":5.5470962418432634E-2},{"$f":"IF($C81=\"\", \"\", data!X82-L81)","v":2.3394711942037461E-3},null,null,8.5724316534196987E-11]
[null,77,{"$f":"IF(TS!B81=\"\", \"\", TS!B81)","v":"2017-04-25"},5.2065607818046082,5.9480738275953335,6.8285256388896514,8.2451706907121398,5.706520945102266,8.1854195170313346,6.0964590695504945,8.8909858815673868,6.3122836481112934,null,null,{"$f":"IF($C82=\"\", \"\", data!P83-D82)","v":-2.556078180460819E-2},{"$f":"IF($C82=\"\", \"\", data!Q83-E82)","v":2.0926172404666765E-2},{"$f":"IF($C82=\"\", \"\", data!R83-F82)","v":-2.5525638889651425E-2},{"$f":"IF($C82=\"\", \"\", data!S83-G82)","v":-3.1170690712139404E-2},{"$f":"IF($C82=\"\", \"\", data!T83-H82)","v":2.3479054897734386E-2},{"$f":"IF($C82=\"\", \"\", data!U83-I82)","v":-3.541951703133428E-2},{"$f":"IF($C82=\"\", \"\", data!V83-J82)","v":1.5540930449505552E-2},{"$f":"IF($C82=\"\", \"\", data!W83-K82)","v":5.3014118432614055E-2},{"$f":"IF($C82=\"\", \"\", data!X83-L82)","v":4.7163518887067823E-3},null,null,-3.6450575890967229E-10]
[null,78,{"$f":"IF(TS!B82=\"\", \"\", TS!B82)","v":"2017-04-24"},4.6735769243915399,6.0089532001203168,6.2729527257119955,8.3082699922908692,5.7554536843116431,8.2140286167196663,6.0614772985201526,8.9339740256174505,6.3463135323427977,null,null,{"$f":"IF($C83=\"\", \"\", data!P84-D83)","v":-1.2576924391540345E-2},{"$f":"IF($C83=\"\", \"\", data!Q84-E83)","v":1.4046799879682936E-2},{"$f":"IF($C83=\"\", \"\", data!R84-F83)","v":-8.9527257119952353E-3},{"$f":"IF($C83=\"\", \"\", data!S84-G83)","v":-4.0269992290868473E-2},{"$f":"IF($C83=\"\", \"\", data!T84-H83)","v":3.4546315688356977E-2},{"$f":"IF($C83=\"\", \"\", data!U84-I83)","v":-5.002861671966663E-2},{"$f":"IF($C83=\"\", \"\", data!V84-J83)","v":9.5227014798471288E-3},{"$f":"IF($C83=\"\", \"\", data!W84-K83)","v":6.9025974382549649E-2},{"$f":"IF($C83=\"\", \"\", data!X84-L83)","v":-1.5313532342797309E-2},null,null,-2.6431301591856027E-11]
[null,79,{"$f":"IF(TS!B83=\"\", \"\", TS!B83)","v":"2017-04-21"},4.6798555732730343,6.1284761827524754,6.2944344114952777,8.3823884133828042,5.8049023265009332,8.200121818509766,6.1746272446977137,9.0112854503239763,6.4459085790526913,null,null,{"$f":"IF($C84=\"\", \"\", data!P85-D84)","v":-1.2855573273034437E-2},{"$f":"IF($C84=\"\", \"\", data!Q85-E84)","v":1.1523817247524271E-2},{"$f":"IF($C84=\"\", \"\", data!R85-F84)","v":-3.4344114952773452E-3},{"$f":"IF($C84=\"\", \"\", data!S85-G84)","v":-3.9388413382804188E-2},{"$f":"IF($C84=\"\", \"\", data!T85-H84)","v":3.909767349906712E-2},{"$f":"IF($C84=\"\", \"\", data!U85-I84)","v":-5.7121818509765276E-2},{"$f":"IF($C84=\"\", \"\", data!V85-J84)","v":7.3727553022866488E-3},{"$f":"IF($C84=\"\", \"\", data!W85-K84)","v":7.1714549676023864E-2},{"$f":"IF($C84=\"\", \"\", data!X85-L84)","v":-1.6908579052691053E-2},null,null,1.1329603921694797E-11]
[null,80,{"$f":"IF(TS!B84=\"\", \"\", TS!B84)","v":"2017-04-20"},4.6173499977892263,6.327489725895969,6.2898364685175352,8.4837740396299068,5.7611942752975018,8.3850445659967434,6.0682711776823197,9.1288114577805715,6.3662282914724031,null,null,{"$f":"IF($C85=\"\", \"\", data!P86-D85)","v":-1.3349997789226187E-2},{"$f":"IF($C85=\"\", \"\", data!Q86-E85)","v":-8.4897258959690802E-3},{"$f":"IF($C85=\"\", \"\", data!R86-F85)","v":-4.836468517535053E-3},{"$f":"IF($C85=\"\", \"\", data!S86-G85)","v":-4.4774039629906781E-2},{"$f":"IF($C85=\"\", \"\", data!T86-H85)","v":4.4805724702498217E-2},{"$f":"IF($C85=\"\", \"\", data!U86-I85)","v":-5.604456599674279E-2},{"$f":"IF($C85=\"\", \"\", data!V86-J85)","v":1.6728822317680248E-2},{"$f":"IF($C85=\"\", \"\", data!W86-K85)","v":7.818854221942928E-2},{"$f":"IF($C85=\"\", \"\", data!X86-L85)","v":-1.2228291472403008E-2},null,null,-6.2175153914267867E-11]
[null,81,{"$f":"IF(TS!B85=\"\", \"\", TS!B85)","v":"2017-04-19"},4.6126431183164769,6.255755788135577,6.2881647834997558,8.7492176658424814,5.7316595655993119,8.4134919255049283,6.132855222561524,9.3450085877846689,6.4032033427803654,null,null,{"$f":"IF($C86=\"\", \"\", data!P87-D86)","v":-1.6643118316476802E-2},{"$f":"IF($C86=\"\", \"\", data!Q87-E86)","v":2.4421186442324938E-4},{"$f":"IF($C86=\"\", \"\", data!R87-F86)","v":-3.1647834997556856E-3},{"$f":"IF($C86=\"\", \"\", data!S87-G86)","v":-4.0217665842481765E-2},{"$f":"IF($C86=\"\", \"\", data!T87-H86)","v":5.2340434400687919E-2},{"$f":"IF($C86=\"\", \"\", data!U87-I86)","v":-8.0491925504928119E-2},{"$f":"IF($C86=\"\", \"\", data!V87-J86)","v":1.3144777438475863E-2},{"$f":"IF($C86=\"\", \"\", data!W87-K86)","v":8.9991412215331579E-2},{"$f":"IF($C86=\"\", \"\", data!X87-L86)","v":-1.5203342780365503E-2},null,null,-2.5089263999689138E-11]
[null,82,{"$f":"IF(TS!B86=\"\", \"\", TS!B86)","v":"2017-04-18"},4.6086220654185688,6.0698017443045771,6.2838018497353616,8.3933777923669872,5.6127970268976135,8.1777801459800639,5.9492624381206021,9.2444496982731312,6.2971072389099234,null,null,{"$f":"IF($C87=\"\", \"\", data!P88-D87)","v":-2.3622065418568816E-2},{"$f":"IF($C87=\"\", \"\", data!Q88-E87)","v":1.2198255695422766E-2},{"$f":"IF($C87=\"\", \"\", data!R88-F87)","v":-8.8018497353612446E-3},{"$f":"IF($C87=\"\", \"\", data!S88-G87)","v":-6.3377792366987151E-2},{"$f":"IF($C87=\"\", \"\", data!T88-H87)","v":5.220297310238653E-2},{"$f":"IF($C87=\"\", \"\", data!U88-I87)","v":-8.1780145980063779E-2},{"$f":"IF($C87=\"\", \"\", data!V88-J87)","v":2.3737561879397795E-2},{"$f":"IF($C87=\"\", \"\", data!W88-K87)","v":9.9550301726868184E-2},{"$f":"IF($C87=\"\", \"\", data!X88-L87)","v":-1.0107238909923488E-2},null,null,-6.8292038690742629E-12]
[null,83,{"$f":"IF(TS!B87=\"\", \"\", TS!B87)","v":"2017-04-13"},4.5561273794823798,5.7588105989651091,6.3058442045242096,8.1596595538772831,5.5404797986538945,8.0514285376815096,5.8953744763271807,8.9272138857383219,6.240061564779257,null,null,{"$f":"IF($C88=\"\", \"\", data!P89-D88)","v":-2.1127379482379638E-2},{"$f":"IF($C88=\"\", \"\", data!Q89-E88)","v":2.7189401034890537E-2},{"$f":"IF($C88=\"\", \"\", data!R89-F88)","v":-2.0844204524209431E-2},{"$f":"IF($C88=\"\", \"\", data!S89-G88)","v":-5.1659553877282605E-2},{"$f":"IF($C88=\"\", \"\", data!T89-H88)","v":4.3520201346105125E-2},{"$f":"IF($C88=\"\", \"\", data!U89-I88)","v":-6.1428537681509354E-2},{"$f":"IF($C88=\"\", \"\", data!V89-J88)","v":1.5625523672818886E-2},{"$f":"IF($C88=\"\", \"\", data!W89-K88)","v":8.3786114261677369E-2},{"$f":"IF($C88=\"\", \"\", data!X89-L88)","v":-1.5061564779257353E-2},null,null,-2.914646302087931E-11]
[null,84,{"$f":"IF(TS!B88=\"\", \"\", TS!B88)","v":"2017-04-12"},4.5505096158712348,5.7858654852210343,6.3023753134769755,8.1638151168400608,5.5381931982031567,7.8736803020531614,5.8940785955139923,8.9266103320633245,6.2398720407457695,null,null,{"$f":"IF($C89=\"\", \"\", data!P90-D89)","v":-2.2509615871235233E-2},{"$f":"IF($C89=\"\", \"\", data!Q90-E89)","v":2.7134514778965446E-2},{"$f":"IF($C89=\"\", \"\", data!R90-F89)","v":-1.8375313476975741E-2},{"$f":"IF($C89=\"\", \"\", data!S90-G89)","v":-4.9815116840060014E-2},{"$f":"IF($C89=\"\", \"\", data!T90-H89)","v":4.5806801796842933E-2},{"$f":"IF($C89=\"\", \"\", data!U90-I89)","v":-7.1680302053161782E-2},{"$f":"IF($C89=\"\", \"\", data!V90-J89)","v":1.7921404486007653E-2},{"$f":"IF($C89=\"\", \"\", data!W90-K89)","v":8.4389667936674684E-2},{"$f":"IF($C89=\"\", \"\", data!X90-L89)","v":-1.2872040745769198E-2},null,null,1.1288747714388592E-11]
[null,85,{"$f":"IF(TS!B89=\"\", \"\", TS!B89)","v":"2017-04-11"},4.7323669582386714,5.7374864732986985,6.2474980936636975,8.0835633481040787,5.5924548928250211,7.8149428370758844,5.7801827186592369,8.812749528340758,6.2117551499141648,null,null,{"$f":"IF($C90=\"\", \"\", data!P91-D90)","v":-2.3366958238671742E-2},{"$f":"IF($C90=\"\", \"\", data!Q91-E90)","v":2.4513526701301025E-2},{"$f":"IF($C90=\"\", \"\", data!R91-F90)","v":-1.2498093663697141E-2},{"$f":"IF($C90=\"\", \"\", data!S91-G90)","v":-4.356334810407958E-2},{"$f":"IF($C90=\"\", \"\", data!T91-H90)","v":3.2545107174978938E-2},{"$f":"IF($C90=\"\", \"\", data!U91-I90)","v":-6.1942837075884327E-2},{"$f":"IF($C90=\"\", \"\", data!V91-J90)","v":2.1817281340762662E-2},{"$f":"IF($C90=\"\", \"\", data!W91-K90)","v":7.2250471659241811E-2},{"$f":"IF($C90=\"\", \"\", data!X91-L90)","v":-9.7551499141648179E-3},null,null,-1.2021317274957255E-10]
[null,86,{"$f":"IF(TS!B90=\"\", \"\", TS!B90)","v":"2017-04-10"},4.7450134237224759,5.6140354599331914,6.1171808884086332,7.8661355892845588,5.4621441293203468,7.7242358337644728,5.6856352128893946,8.6228043636355913,6.0538150990779194,null,null,{"$f":"IF($C91=\"\", \"\", data!P92-D91)","v":-2.4013423722475835E-2},{"$f":"IF($C91=\"\", \"\", data!Q92-E91)","v":2.1964540066808702E-2},{"$f":"IF($C91=\"\", \"\", data!R92-F91)","v":-9.1808884086335141E-3},{"$f":"IF($C91=\"\", \"\", data!S92-G91)","v":-4.3135589284558407E-2},{"$f":"IF($C91=\"\", \"\", data!T92-H91)","v":2.7855870679653449E-2},{"$f":"IF($C91=\"\", \"\", data!U92-I91)","v":-5.223583376447305E-2},{"$f":"IF($C91=\"\", \"\", data!V92-J91)","v":1.8364787110605185E-2},{"$f":"IF($C91=\"\", \"\", data!W92-K91)","v":6.5195636364409282E-2},{"$f":"IF($C91=\"\", \"\", data!X92-L91)","v":-4.8150990779189939E-3},null,null,-3.6583180929028458E-11]
[null,87,{"$f":"IF(TS!B91=\"\", \"\", TS!B91)","v":"2017-04-07"},4.7918971493117297,5.6218611861063437,6.3548325596127029,7.8495210865232981,5.4103971821307084,7.7237290185196947,5.6793116861011725,8.6385775123864175,6.0378726192874375,null,null,{"$f":"IF($C92=\"\", \"\", data!P93-D92)","v":-2.8897149311729819E-2},{"$f":"IF($C92=\"\", \"\", data!Q93-E92)","v":2.4138813893656241E-2},{"$f":"IF($C92=\"\", \"\", data!R93-F92)","v":-1.9832559612702916E-2},{"$f":"IF($C92=\"\", \"\", data!S93-G92)","v":-4.2521086523297669E-2},{"$f":"IF($C92=\"\", \"\", data!T93-H92)","v":2.9602817869291975E-2},{"$f":"IF($C92=\"\", \"\", data!U93-I92)","v":-4.9729018519694357E-2},{"$f":"IF($C92=\"\", \"\", data!V93-J92)","v":2.1688313898827083E-2},{"$f":"IF($C92=\"\", \"\", data!W93-K92)","v":6.4422487613581936E-2},{"$f":"IF($C92=\"\", \"\", data!X93-L92)","v":1.1273807125622426E-3},null,null,2.049471703458039E-11]
[null,88,{"$f":"IF(TS!B92=\"\", \"\", TS!B92)","v":"2017-04-06"},4.9187742904247855,5.503275988834325,6.3439776764745233,7.6558080915818678,5.1745799626148106,7.6510155090408549,5.5829436655039935,8.4678460812991148,5.9317787343106474,null,null,{"$f":"IF($C93=\"\", \"\", data!P94-D93)","v":-2.9774290424785299E-2},{"$f":"IF($C93=\"\", \"\", data!Q94-E93)","v":2.2724011165674796E-2},{"$f":"IF($C93=\"\", \"\", data!R94-F93)","v":-1.1977676474523413E-2},{"$f":"IF($C93=\"\", \"\", data!S94-G93)","v":-3.6808091581868041E-2},{"$f":"IF($C93=\"\", \"\", data!T94-H93)","v":1.042003738518904E-2},{"$f":"IF($C93=\"\", \"\", data!U94-I93)","v":-3.7015509040855044E-2},{"$f":"IF($C93=\"\", \"\", data!V94-J93)","v":2.2056334496006968E-2},{"$f":"IF($C93=\"\", \"\", data!W94-K93)","v":5.0153918700885924E-2},{"$f":"IF($C93=\"\", \"\", data!X94-L93)","v":1.0221265689352776E-2},null,null,-8.4922291421207774E-11]
[null,89,{"$f":"IF(TS!B93=\"\", \"\", TS!B93)","v":"2017-04-05"},5.0399224448478996,5.3781083526352766,6.3729134971371479,7.6530195139526391,5.2694533754696415,7.6443172978954621,5.5838613393756482,8.4634350879067313,5.8979690908460647,null,null,{"$f":"IF($C94=\"\", \"\", data!P95-D94)","v":-2.9922444847899854E-2},{"$f":"IF($C94=\"\", \"\", data!Q95-E94)","v":1.4891647364723148E-2},{"$f":"IF($C94=\"\", \"\", data!R95-F94)","v":-5.9134971371479494E-3},{"$f":"IF($C94=\"\", \"\", data!S95-G94)","v":-3.3019513952639024E-2},{"$f":"IF($C94=\"\", \"\", data!T95-H94)","v":6.5466245303582582E-3},{"$f":"IF($C94=\"\", \"\", data!U95-I94)","v":-3.3317297895462339E-2},{"$f":"IF($C94=\"\", \"\", data!V95-J94)","v":2.1138660624352212E-2},{"$f":"IF($C94=\"\", \"\", data!W95-K94)","v":4.3564912093268404E-2},{"$f":"IF($C94=\"\", \"\", data!X95-L94)","v":1.6030909153935013E-2},null,null,-6.6512129137663578E-11]
[null,90,{"$f":"IF(TS!B94=\"\", \"\", TS!B94)","v":"2017-04-04"},4.891093774799355,5.4357978543291559,6.3606958615573781,7.6541697705128815,5.1751882240170985,7.6426854721168453,5.5451263455578079,8.4651427600481117,5.8190999370345047,null,null,{"$f":"IF($C95=\"\", \"\", data!P96-D95)","v":-3.2093774799355046E-2},{"$f":"IF($C95=\"\", \"\", data!Q96-E95)","v":2.2202145670844331E-2},{"$f":"IF($C95=\"\", \"\", data!R96-F95)","v":-1.4695861557378009E-2},{"$f":"IF($C95=\"\", \"\", data!S96-G95)","v":-3.7169770512881506E-2},{"$f":"IF($C95=\"\", \"\", data!T96-H95)","v":1.1811775982901729E-2},{"$f":"IF($C95=\"\", \"\", data!U96-I95)","v":-3.768547211684492E-2},{"$f":"IF($C95=\"\", \"\", data!V96-J95)","v":2.1873654442192247E-2},{"$f":"IF($C95=\"\", \"\", data!W96-K95)","v":5.1857239951887735E-2},{"$f":"IF($C95=\"\", \"\", data!X96-L95)","v":1.3900062965495508E-2},null,null,2.6862068125410588E-11]
[null,91,{"$f":"IF(TS!B95=\"\", \"\", TS!B95)","v":"2017-04-03"},4.8841143689696978,5.3560795898638176,6.358536402038844,7.6959736070388747,5.0809699254979854,7.6086393848853451,5.5217515179156038,8.3588558371210357,5.8300793664919652,null,null,{"$f":"IF($C96=\"\", \"\", data!P97-D96)","v":-2.7114368969697544E-2},{"$f":"IF($C96=\"\", \"\", data!Q97-E96)","v":2.0920410136182177E-2},{"$f":"IF($C96=\"\", \"\", data!R97-F96)","v":-1.5536402038843988E-2},{"$f":"IF($C96=\"\", \"\", data!S97-G96)","v":-2.897360703887486E-2},{"$f":"IF($C96=\"\", \"\", data!T97-H96)","v":5.0300745020148696E-3},{"$f":"IF($C96=\"\", \"\", data!U97-I96)","v":-3.3639384885344903E-2},{"$f":"IF($C96=\"\", \"\", data!V97-J96)","v":2.1248482084396336E-2},{"$f":"IF($C96=\"\", \"\", data!W97-K96)","v":4.6144162878963613E-2},{"$f":"IF($C96=\"\", \"\", data!X97-L96)","v":1.1920633508034406E-2},null,null,1.7683010611335703E-10]
[null,92,{"$f":"IF(TS!B96=\"\", \"\", TS!B96)","v":"2017-03-31"},4.9713060366284019,5.3597758001982001,6.3520351265464079,7.5586055512195038,5.1232396628356121,7.6048701859463979,5.5215861172654144,8.3620686394692871,5.8045128798670014,null,null,{"$f":"IF($C97=\"\", \"\", data!P98-D97)","v":-2.6306036628401586E-2},{"$f":"IF($C97=\"\", \"\", data!Q98-E97)","v":1.8224199801800012E-2},{"$f":"IF($C97=\"\", \"\", data!R98-F97)","v":-9.0351265464079233E-3},{"$f":"IF($C97=\"\", \"\", data!S98-G97)","v":-3.2605551219504036E-2},{"$f":"IF($C97=\"\", \"\", data!T98-H97)","v":-2.3966283561183133E-4},{"$f":"IF($C97=\"\", \"\", data!U98-I97)","v":-3.087018594639801E-2},{"$f":"IF($C97=\"\", \"\", data!V98-J97)","v":2.1413882734585776E-2},{"$f":"IF($C97=\"\", \"\", data!W98-K97)","v":4.2931360530712226E-2},{"$f":"IF($C97=\"\", \"\", data!X98-L97)","v":1.6487120132998356E-2},null,null,2.3772983581693552E-11]
[null,93,{"$f":"IF(TS!B97=\"\", \"\", TS!B97)","v":"2017-03-30"},4.9734614917647093,5.3871495633161857,6.4209610762677833,7.6427838303715738,5.1705823143336147,7.7380885362339704,5.5227728202833326,8.4064585288284608,5.7437418384863719,null,null,{"$f":"IF($C98=\"\", \"\", data!P99-D98)","v":-2.8461491764709024E-2},{"$f":"IF($C98=\"\", \"\", data!Q99-E98)","v":1.7850436683814586E-2},{"$f":"IF($C98=\"\", \"\", data!R99-F98)","v":-1.3961076267783312E-2},{"$f":"IF($C98=\"\", \"\", data!S99-G98)","v":-3.2783830371573508E-2},{"$f":"IF($C98=\"\", \"\", data!T99-H98)","v":3.4176856663856725E-3},{"$f":"IF($C98=\"\", \"\", data!U99-I98)","v":-2.8088536233970451E-2},{"$f":"IF($C98=\"\", \"\", data!V99-J98)","v":2.0227179716667543E-2},{"$f":"IF($C98=\"\", \"\", data!W99-K98)","v":4.4541471171539726E-2},{"$f":"IF($C98=\"\", \"\", data!X99-L98)","v":1.7258161513628245E-2},null,null,1.1399947652535047E-10]
[null,94,{"$f":"IF(TS!B98=\"\", \"\", TS!B98)","v":"2017-03-29"},5.0042748422813688,5.7762066996176351,6.4718309461179047,7.8341485383031291,5.2403507370941433,7.936251977848837,5.5767981629873624,8.644325229160895,5.8248128666506247,null,null,{"$f":"IF($C99=\"\", \"\", data!P100-D99)","v":-2.9274842281369118E-2},{"$f":"IF($C99=\"\", \"\", data!Q100-E99)","v":1.8793300382364819E-2},{"$f":"IF($C99=\"\", \"\", data!R100-F99)","v":-1.6830946117904588E-2},{"$f":"IF($C99=\"\", \"\", data!S100-G99)","v":-4.0148538303129477E-2},{"$f":"IF($C99=\"\", \"\", data!T100-H99)","v":8.6492629058563253E-3},{"$f":"IF($C99=\"\", \"\", data!U100-I99)","v":-3.4251977848836823E-2},{"$f":"IF($C99=\"\", \"\", data!V100-J99)","v":2.2201837012637782E-2},{"$f":"IF($C99=\"\", \"\", data!W100-K99)","v":5.3674770839105435E-2},{"$f":"IF($C99=\"\", \"\", data!X100-L99)","v":1.7187133349374939E-2},null,null,-6.1900706782580528E-11]
[null,95,{"$f":"IF(TS!B99=\"\", \"\", TS!B99)","v":"2017-03-28"},5.0302528957308219,5.8333538217686183,6.3891577624379714,7.9299751839976427,5.3124562849273076,7.9497078570669473,5.6568355221724396,8.6565064954642708,5.941754176464066,null,null,{"$f":"IF($C100=\"\", \"\", data!P101-D100)","v":-2.6252895730822345E-2},{"$f":"IF($C100=\"\", \"\", data!Q101-E100)","v":1.5646178231381924E-2},{"$f":"IF($C100=\"\", \"\", data!R101-F100)","v":-1.3157762437971066E-2},{"$f":"IF($C100=\"\", \"\", data!S101-G100)","v":-3.697518399764288E-2},{"$f":"IF($C100=\"\", \"\", data!T101-H100)","v":1.2543715072692585E-2},{"$f":"IF($C100=\"\", \"\", data!U101-I100)","v":-3.5707857066947568E-2},{"$f":"IF($C100=\"\", \"\", data!V101-J100)","v":2.0164477827560034E-2},{"$f":"IF($C100=\"\", \"\", data!W101-K100)","v":5.2493504535728874E-2},{"$f":"IF($C100=\"\", \"\", data!X101-L100)","v":1.1245823535934285E-2},null,null,-3.0086155788922042E-11]
[null,96,{"$f":"IF(TS!B100=\"\", \"\", TS!B100)","v":"2017-03-27"},5.2108516472177513,5.9062821502917231,6.611200684514646,8.1611123938025258,5.4320281787564824,8.0814318665823315,5.7780164844539748,8.9398697811628374,6.0702068131157993,null,null,{"$f":"IF($C101=\"\", \"\", data!P102-D101)","v":-3.0851647217751577E-2},{"$f":"IF($C101=\"\", \"\", data!Q102-E101)","v":2.1717849708276837E-2},{"$f":"IF($C101=\"\", \"\", data!R102-F101)","v":-1.2200684514645843E-2},{"$f":"IF($C101=\"\", \"\", data!S102-G101)","v":-3.9112393802525958E-2},{"$f":"IF($C101=\"\", \"\", data!T102-H101)","v":6.9718212435176952E-3},{"$f":"IF($C101=\"\", \"\", data!U102-I101)","v":-4.3431866582331224E-2},{"$f":"IF($C101=\"\", \"\", data!V102-J101)","v":2.2983515546025401E-2},{"$f":"IF($C101=\"\", \"\", data!W102-K101)","v":5.7130218837162516E-2},{"$f":"IF($C101=\"\", \"\", data!X102-L101)","v":1.6793186884200395E-2},null,null,1.0192824362320607E-10]
[null,97,{"$f":"IF(TS!B101=\"\", \"\", TS!B101)","v":"2017-03-24"},5.205138156260336,5.8853306796827027,6.5649995260289167,8.1526482534666052,5.4086916582276885,8.0729521831545981,5.7587544675754927,8.7905165376307703,6.0109685378816593,null,null,{"$f":"IF($C102=\"\", \"\", data!P103-D102)","v":-2.5138156260336331E-2},{"$f":"IF($C102=\"\", \"\", data!Q103-E102)","v":1.7669320317296844E-2},{"$f":"IF($C102=\"\", \"\", data!R103-F102)","v":-1.399952602891652E-2},{"$f":"IF($C102=\"\", \"\", data!S103-G102)","v":-3.0648253466605269E-2},{"$f":"IF($C102=\"\", \"\", data!T103-H102)","v":5.3083417723112092E-3},{"$f":"IF($C102=\"\", \"\", data!U103-I102)","v":-3.595218315459725E-2},{"$f":"IF($C102=\"\", \"\", data!V103-J102)","v":1.9245532424506884E-2},{"$f":"IF($C102=\"\", \"\", data!W103-K102)","v":4.9483462369229514E-2},{"$f":"IF($C102=\"\", \"\", data!X103-L102)","v":1.4031462118341054E-2},null,null,9.1230134557918063E-11]
[null,98,{"$f":"IF(TS!B102=\"\", \"\", TS!B102)","v":"2017-03-23"},5.0044206693035704,6.1565950901464745,6.4338126632934376,8.1739363757205901,5.3998879796308152,8.0814821410250772,5.7848047117764878,8.8750065825302258,6.3180537865776714,null,null,{"$f":"IF($C103=\"\", \"\", data!P104-D103)","v":-2.8420669303570456E-2},{"$f":"IF($C103=\"\", \"\", data!Q104-E103)","v":8.4049098535254885E-3},{"$f":"IF($C103=\"\", \"\", data!R104-F103)","v":-9.8126632934372182E-3},{"$f":"IF($C103=\"\", \"\", data!S104-G103)","v":-3.7936375720590831E-2},{"$f":"IF($C103=\"\", \"\", data!T104-H103)","v":2.7112020369184364E-2},{"$f":"IF($C103=\"\", \"\", data!U104-I103)","v":-4.4482141025076416E-2},{"$f":"IF($C103=\"\", \"\", data!V104-J103)","v":2.719528822351247E-2},{"$f":"IF($C103=\"\", \"\", data!W104-K103)","v":5.9993417469774712E-2},{"$f":"IF($C103=\"\", \"\", data!X104-L103)","v":-2.0537865776715236E-3},null,null,-4.3494097212715133E-12]
[null,null,null,5.235856006766209,6.2054712366780151,6.4065489399405067,8.1653490564647093,5.4096553828789773,8.1110714074819334,5.787488678508705,9.0090139054605842,6.1215453856138851]
[null,null,null,5.2911508169272317,5.9349094624805403,6.4703126121490726,8.0572151904389884,5.3713623379449551,7.8298771143252779,5.6783446847710266,8.8839334044284861,6.0658943766522277]
[null,null,null,5.2863320425624387,5.7300932061022998,6.5367559573622245,7.7697675149533438,5.2929742308989702,7.750147963050086,5.6131780987043705,8.6876577878893002,5.8580931982928384]
[null,null,null,5.1783468406407138,5.7300117465549327,6.7591942012329014,7.7943587380010548,5.3145544098717643,7.6409465275382153,5.6864980420802915,8.6141834702043276,5.9719060241168194]
[null,null,null,5.2325774456003913,5.7352662264984815,6.647166699574214,8.0249587828382118,5.445367920424097,8.1669748486687368,5.9760751098793428,8.7542990463932409,6.1253139202171916]
[null,null,null,5.0893778444615414,5.9462297216947881,6.4385454280148728,8.2316682177112241,5.5166400078998592,8.2760111177743489,5.9409946808468597,8.9543418507261254,6.2181911309689255]
[null,null,null,5.0842094010170662,5.7409193570812427,6.409321836029747,8.1683895971861897,5.398268622076813,8.096842030764229,5.8896889567984694,8.6377744023721039,6.1365857967055]
[null,null,null,4.8525656038228959,5.8532892411566486,6.2213838336189333,8.0645142083858072,5.386725148771653,8.0981425858735268,5.8586049098941686,8.628895592955427,5.9598788755398253]
[null,null,null,4.8575249682988506,5.8732484175621309,6.1318279478289881,8.1188965243835121,5.4833663915154176,8.1133695459285242,5.9598206257428572,8.8511458928152997,6.1727996858243657]
[null,null,null,4.8292849963979627,5.7442745082161935,6.1376489835111698,7.9793019652498813,5.4226462796223558,8.1289737446497714,5.8450750352398941,8.7362221738007779,6.0795723132959623]
[null,null,null,4.9206296636891409,5.5403309074182694,6.1022603306997851,7.8434232617024264,5.2349411930278151,7.8556400859001627,5.7387077463399621,8.5993242681883082,5.9887425429728403]
[null,null,null,4.7526863439946254,5.4887552347026656,6.043235958199606,7.6925769589185755,5.1528723736259607,7.6442723734958449,5.6603551137626731,8.5008691261582392,5.8663765171715099]
[null,null,null,4.8076780325515927,5.3910058804653751,6.0267566249358921,7.6193407571707699,5.0420261872425058,7.6364136254365089,5.5696060048330622,8.4133198510474543,5.7498530364454439]
[null,null,null,4.8080915794365175,5.4176477995322223,6.0440570571958716,7.6046111750235106,5.0311036169698156,7.6349443534042543,5.5134291515945506,8.3913257243729458,5.7397895424086549]
[null,null,null,4.8050278564316784,5.5468147595383854,6.045648870355361,7.659372126644314,5.006131709375147,7.6876410411614113,5.5581818841833837,8.4139664527726143,5.750215299425772]
[null,null,null,4.7801146008605748,5.4483770805982346,6.0493729542252694,7.7283558505537684,5.1690843792638326,7.7647252818913657,5.6054249629427204,8.434937279157797,5.8686076105327842]
[null,null,null,4.8616942102219269,5.4550490190957177,5.9360511243327707,7.7377523480278878,5.2109489460172753,7.773136020160532,5.6317167104024151,8.3932543756439042,5.8483972461047671]
[null,null,null,4.8684350313326483,5.4055688648554074,5.9997391629888845,7.7482006187115537,5.2231648980629224,7.9088095669046687,5.5823155020504345,8.5481056481175237,5.8346607070308245]
[null,null,null,4.8702225357798667,5.4096250522388409,6.0322671854364103,7.7458755246542097,5.3184503564390795,7.8416125271242851,5.6731809033121259,8.5462855046975648,5.8754804101679774]
[null,null,null,4.8618865551267376,5.5375038150694849,6.0684176045399099,7.8461532671055263,5.3808771899892918,7.8738120471312882,5.7099069178673005,8.4391759324462043,5.9642666706411802]
[null,null,null,5.0020096656334836,5.7183376803787986,5.9986429473782756,7.9543454269776319,5.3971131360180813,7.8530470065759967,5.7660023307169723,8.5309199691357094,5.9585818374045836]
[null,null,null,4.9764955727372175,5.6920626980105204,6.0150796748126325,7.9901739659865996,5.3950000922695409,7.9512137970392818,5.8462660597328231,8.6526153188282855,5.8840928203993066]
[null,null,null,4.976340198916315,5.875920110653599,5.9988599513137579,8.1076249141004162,5.4417139617420744,8.1653302917903687,5.7970233400351567,8.7889772901975576,6.0212099412631446]
[null,null,null,4.9474188468115443,5.7972808542772043,5.9509344476699226,8.1645311083709249,5.5664953346716004,8.1690978367237239,5.9264514020452168,8.8326200537731658,6.0641701157462187]
[null,null,null,4.9740035252151067,6.0821657932620248,5.9436135893102282,8.1621315927252827,5.6906211081545983,8.1409314801713268,6.0266233771035473,8.8461857178939987,6.2537238162438271]
[null,null,null,4.8762877932948783,5.5666565320650605,5.9810864899517746,7.6901895356055743,5.4004937506012176,7.5001631003529123,5.839609095484299,8.5778971144618854,6.0596165881223527]
[null,null,null,4.7943773827118683,5.5706020815318418,6.0018938746271182,7.6075984750682899,5.2748520972733175,7.496524230054737,5.6901764862882054,8.5059895645451249,6.0199858077538408]
[null,null,null,4.849599510607316,5.5981943671023373,5.9848528255252589,7.5814986127845199,5.3883544516054904,7.4951348048621877,5.6903257718510645,8.519460492016723,5.9975791637598164]
[null,null,null,4.8208073864360763,5.6002275609352665,5.972118986815282,7.5544249015924585,5.4001813025604939,7.4944208180044356,5.6802278109409272,8.4843890322692737,5.9562022004525161]
[null,null,null,4.8465042564905119,5.5501621882903116,6.0031613113095688,7.5242897695074102,5.4383892684992361,7.5291264488666396,5.7952137046671588,8.4524816714952244,6.0296713808528537]
[null,null,null,4.8722949805137965,5.6025945108439146,6.0193878942122758,7.5624811635686058,5.4649404209864585,7.540322836626574,5.7958986904955836,8.4302787687275309,6.0088007340333185]
[null,null,null,4.8466673129632412,5.4579124729001087,5.9591795935871517,7.5998953239106868,5.4024856111441792,7.5750809670507557,5.8326025523767271,8.385368578180783,6.042807587830179]
[null,null,null,4.8460510693730718,5.4829575701363531,6.0234489205631654,7.5466503232234547,5.4021549199235501,7.6372218702817065,5.8207537987249154,8.3742454371497299,6.0425160906724074]
[null,null,null,4.8462639263038128,5.4867782899944473,5.9945885359961544,7.5051439216179077,5.355723525431582,7.6589736380922329,5.6846427575444629,8.319468270569697,5.9914171346867207]
[null,null,null,4.8481781206297754,5.2686603727594843,6.0403723415882347,7.5420633955307892,5.4172934606078158,7.6190016165045034,5.694845919701951,8.2980422713377155,6.0435425013967965]
[null,null,null,5.1404088303703759,5.336228705747736,6.0507213059026093,7.5919879206070995,5.5855413610992706,7.8434018770170386,5.8868046210824261,8.3097341100309947,6.1091712681519752]
[null,null,null,5.1422586069599667,5.3145447928790723,6.0478573025884081,7.676057687142734,5.5953212408316197,7.850242971759096,5.9190443055759445,8.4304135867570711,6.1702595056839158]
[null,null,null,5.0657111149496288,5.3809907263426524,6.0515420869088707,7.7608585737620235,5.5198890158994693,7.8667217285775841,5.8741280853298896,8.4927991805233791,6.1303594874962712]
[null,null,null,5.0632541864321574,5.3816307325703931,6.0540963466486239,7.8250532547566038,5.5320768073898989,7.9158257952109121,5.9211677975170467,8.4618320084380674,6.1540630710414206]
[null,null,null,4.9573445103021818,5.3312341967842656,6.0404518539564833,7.8485634916272176,5.6285670455743393,8.0372646669280865,5.9326068307487567,8.5798767554029869,6.1880906486563525]
[null,null,null,4.9810225767474243,5.4282790991951586,6.0122970023666724,8.0604896406886049,5.6313517521760055,8.1169876633134379,5.9360785464267956,8.5951816538817116,6.1803120652686623]
[null,null,null,5.088935476279179,5.3421890606695861,6.0422903193583544,8.0876080345063226,5.6206760576450883,8.1562259681402711,5.8984541007015849,8.631972288466633,6.1236486942902033]
[null,null,null,5.1408734062585708,5.4381627710379128,6.1055944841179546,8.1637301560831315,5.6224871575156286,8.1555330970754163,5.9689688618970642,8.6023556258156102,6.080294440315452]
[null,null,null,5.1662576750569968,5.4679184714896714,6.0925064368119948,8.0688494587103445,5.622934635885624,8.2099633416088071,5.9687811484650801,8.5364146003988726,6.0693742317619126]
[null,null,null,5.1939323120382497,5.4700533780509772,6.0904766330742177,8.0546981099990163,5.6359631388420119,8.1710533699461845,5.9671545441186531,8.5467483303837906,6.1209201834384999]
[null,null,null,5.1899870860028621,5.379251687518515,6.0770944796445434,8.0265400868991872,5.6480977719471639,8.2295022644609208,5.9682727227150778,8.473005039208978,6.1012488616494061]
[null,null,null,5.1910372009989523,5.5659506950117574,6.124910376051325,8.0411022237448257,5.6356719133259823,8.2429715510642936,5.96776394869649,8.494862333450623,6.1007297575896438]
[null,null,null,5.3518646456734693,5.5960044227044321,6.1503651218974724,8.0012516421666184,5.6522582649530015,8.2938961223661707,6.0332038591208459,8.5196773900600533,6.1274785311681939]
[null,null,null,5.272018514213066,5.7827572061839589,6.2469309821627661,8.1882133801745169,5.7969330759839899,8.4625768735178895,6.0901284505669722,8.7527998988503963,6.2226416183549702]
[null,null,null,5.3286785655852356,5.7614439886496172,6.3248119523706308,8.3706169624088886,5.7099815460425454,8.5650612139726867,6.041446510162455,8.9232907982831797,6.1876684623413425]
[null,null,null,5.325391418283985,5.7389601575962672,6.2475346870673185,8.4558321512927499,5.7349780871808704,8.5096649935524411,6.0544716641677176,8.8469504865516573,6.2972163546828241]
[null,null,null,5.3486825279553507,5.8616828092762816,6.3436980018047322,8.4963869633243618,5.7969387062665625,8.5846259366873632,6.0532444446144069,8.8403082861140536,6.2854323240038354]
[null,null,null,5.4567004712937397,5.9122418964570471,6.3714931954667868,8.4598284763277292,5.8115571238652954,8.6131118021077206,6.0515479420638094,8.906436849118716,6.2810822428675799]
[null,null,null,5.4809869368209334,5.9869344618645144,6.2152902548168818,8.5002389053258085,5.8011486847481493,8.6392301740648954,6.0534988442195257,8.9083025703381082,6.283369167557705]
[null,null,null,5.3429472509242473,6.1629980289208959,6.3134813898273023,8.6432907935078802,5.8440803225133777,8.6264989951397091,6.0621183446362288,8.9091803313208722,6.2954045431268533]
[null,null,null,5.3692887041145916,6.2134973941577698,6.376737078230029,8.6414901224113621,5.8310381773573496,8.6361852833373334,6.0488268246526502,8.8780981706060125,6.2928382454990235]
[null,null,null,5.3196068699276218,6.2883713902940812,6.279862523234943,8.6506779578106077,5.8029976934004637,8.6328777006312123,6.0822894072174201,9.0387533011036822,6.2915631564583521]
[null,null,null,5.3177227032471919,6.3654223974807742,6.2789223930616238,8.7837263876329246,5.9299384829628963,8.6386649301779421,6.0683561635306624,9.0761920735793851,6.3130544681673904]
[null,null,null,5.2687994295069949,6.0423909861358602,6.3656201759664022,8.5253742424853129,5.6438852640931216,8.6203512583202162,5.9121926169709589,8.9243181649949079,6.1360678617931335]
[null,null,null,5.2985257554890097,6.0903531820426515,6.553767737948867,8.513995944636882,5.6558933093343562,8.6215263720331166,5.9204030780849131,8.9887243717893206,6.0778102485949965]
[null,null,null,5.3001358186392373,6.1863251135852941,6.6794489943000528,8.4849163119005553,5.6302675951828327,8.6305775415658452,5.9062946211100851,8.9669874823118505,6.1380465211283095]
[null,null,null,5.5783793072319021,6.2259210428288725,6.890395901326233,8.6150297641250297,5.5483857995386998,8.7347608546208342,5.970069339035021,9.198583428998063,6.2104745625895177]
[null,null,null,5.6372729302870432,6.4240036404612972,6.9019795065190763,8.6345542527548993,5.7224471702893567,8.7150729151420236,6.0397903593483981,9.1113276520258211,6.1715515736948703]
[null,null,null,5.6092468186938014,6.6755000018371611,6.9210995843775898,9.0411174395412282,6.1242330511071188,9.1130934366871514,6.4736413654454239,9.490795529774843,6.5042727725636453]
[null,null,null,5.9352891124389657,7.2221967609747679,6.89743409741547,9.3507328723671037,6.3834603851170115,9.2086866554184823,6.5454397207801804,9.9111787771690878,6.7295816180689307]
[null,null,null,6.0207931132824726,6.6321381124282723,6.9231654155670874,8.7681813784279719,6.2449010711285879,8.9036250469404798,6.4222353344997813,9.7500296395851542,6.7049308885724557]
[null,null,null,6.1084568807303228,6.3812696723831515,6.9306623680973836,8.6121102991390863,6.2239690341672222,8.6263480628594777,6.3303619645974933,9.1187158073127854,6.5651059110224068]
[null,null,null,6.1243016175582881,6.2633966049594747,6.927522205255876,8.4557977898761152,6.0562621166961321,8.4721355048836848,6.1866226251812861,9.0134133420662863,6.4175481965292285]
[null,null,null,6.0972936175447821,6.3085454880210783,7.0224717295427439,8.4253390776727848,6.0544611658105616,8.4820213884232487,6.1850062517219015,8.978773086369646,6.3770881970541247]
[null,null,null,6.0620390051673994,6.3547167860134905,7.0324431991451704,8.4945629176031474,5.8954265954459899,8.5218936535870462,6.1364497824504518,8.9524168077328667,6.3160512529190136]
[null,null,null,6.1423813187472192,6.4034497620086128,6.9781587413625807,8.4946039414890961,6.0199619588578912,8.4284976128231222,6.2803840332408534,9.0100487980309687,6.3585138325898534]
[null,null,null,6.2445516837676678,6.5695591822977342,6.9454494296982965,8.4634137108917784,6.0690017954135662,8.3177679095947568,6.27284790098415,8.9535484971541521,6.3608598904734173]
[null,null,null,6.4483133549655207,6.6673677648182128,7.0256850068051619,8.5828093421631202,6.1550029169267546,8.8028610742046176,6.2981639484229071,9.1309854195679137,6.4028111738707096]
[null,null,null,6.4729452076218195,6.7382937052905589,7.1329410590829028,8.4948538216044547,6.2060100286993318,8.5968480890391099,6.3429521055451943,9.0933636487705236,6.5437923330898577]
[null,null,null,6.4690583193255762,6.4789786319370428,7.1080344114223202,8.3930237861776114,6.0661364369026884,8.5346972316549774,6.2294896285972747,8.8733296131765016,6.3902519412775618]
[null,null,null,6.4688489648127749,6.5735835143779049,7.056280369759989,8.3932180692611951,6.1520782843345501,8.5348478892103969,6.2541710357176932,8.9086270005881794,6.382344873296816]
[null,null,null,6.1768408216883977,6.6686772679322139,7.0610849012705188,8.3428196767225486,5.9317487215639737,8.5354105873417794,6.2429300729438815,8.9712862128824433,6.3552017373425009]
[null,null,null,5.8603214856325465,7.0422728216861792,6.9686822998677158,8.8013591661072148,6.2915225261426393,8.6973488369383709,6.2600547142738314,9.2243892022921692,6.4860489469591727]
[null,null,null,5.8474966946792541,6.6141027036631002,6.8825165038004528,8.2352410375657392,5.813636736825682,8.2323167991041899,5.8872285591788973,9.0007921512163236,6.1556688144859564]
[null,null,null,5.8306235619292117,6.552960161400474,6.9119304648779121,8.1911429082547009,5.6077698459149268,8.5192661546867186,5.6938588850439871,8.6989031961965217,5.9315448216086182]
[null,null,null,5.8297207649515137,6.6479957467491744,7.0391522873751562,8.4633019972313939,5.6014409112674848,8.5571076124006282,5.7628536084166875,8.899210002295689,5.9872170688879081]
[null,null,null,5.7850610078329439,6.6742448084563932,6.9903658340002934,8.4406614356244809,5.6794124494365015,8.5065215021848353,5.8465131176869924,8.7453397912691884,6.0388800537381506]
[null,null,null,6.0597321485896245,7.4305500441965364,7.0203492590691106,8.6631380256585118,5.8391786338734377,8.934234159969332,6.0826310854789973,9.1831397821419252,6.2150468609442662]
[null,null,null,5.5295543294742693,7.4531753618493539,6.9941202388409849,8.8503668962441502,5.9164335574455613,8.9328083453327451,6.2015445918348924,9.1550522775739864,6.3339444013343318]
[null,null,null,5.5293204738156234,7.4826677323778874,6.9466187216938664,9.233367246792092,5.9506836782734602,9.0849619837093556,6.2004065256202807,9.0364662900061106,6.4175073476286428]
[null,null,null,5.4918325410945705,6.7080359148288835,6.9805142403618774,8.080092143877728,5.7788802239635118,8.0356545608494621,6.0551888782540075,8.4757434503554627,6.1900580464552135]
[null,null,null,5.4848356529522562,6.0451398680271708,6.8284945617595376,8.0876752916233734,5.5472826014893286,7.8423294674138369,6.003649131798479,8.3548132887148796,6.1337801364735185]
[null,null,null,5.4830617914634345,5.8652204401995007,6.8737463680604485,7.816077865038455,5.5473365990751837,7.7630724310485526,5.8216858006185603,8.0520960497905598,6.0957026547160709]
[null,null,null,5.478903253281775,5.8633389259062909,6.7959252806056227,7.7148776350865766,5.4444525416513869,7.7634989136973047,5.5705309195560524,8.0929937259167417,5.9534788044317075]
[null,null,null,5.2052692291275839,5.591665933311571,6.7993136829956384,7.3346975077532708,5.1837931906628292,7.4156691081745088,5.4373906186749075,7.8388950645735207,5.6703056648460262]
[null,null,null,5.0057984206184791,5.3527042002918712,6.8004248695525895,7.1359223891894672,5.0599597828450769,7.1588790689918813,5.4371998340867407,7.5310461971289655,5.6280652375156563]
[null,null,null,5.0267790627888118,5.2875091053218419,6.7988635877242753,7.0225771404301565,4.9936888329938895,7.154815162192083,5.3744720326212843,7.4596875244651404,5.6286075513996607]
[null,null,null,5.0254288016273883,5.3780462844763441,6.7987379288381788,6.9961617412119956,4.9919231218584521,7.1996116334152198,5.3650553945187696,7.3694954994346258,5.6505395948468244]
[null,null,null,5.0461015203945578,5.4435374652861377,6.700740545927113,7.1394257386656523,4.9047411073511391,7.3031739736932284,5.3831587710503364,7.5617144763580555,5.6494064013495375]
[null,null,null,6.0065399617534858,5.5115203425149843,7.0290112193571073,7.2796552636604819,4.9748554855568692,7.3571715771442516,5.3733827191019863,7.6854989909446836,5.6763644401428515]
[null,null,null,6.526870363089273,5.6021449517582447,7.4862251976148748,7.2813867381904469,5.1284523219031399,7.3820510259196297,5.4586383312127147,7.7333580155158064,5.7808730551073388]
[null,null,null,6.9494067073111587,5.6012230424318723,7.7848156896827145,7.3875782120820492,5.120208725906469,7.4125703846916569,5.4984430975914158,7.8403901865259265,5.7693639533007897]
[null,null,null,7.0540264920946996,5.6485315119404582,7.7834134886915223,7.3883202196633402,5.1181491349788786,7.4742749830848663,5.561485144342992,7.8397084878157415,5.7710905378712809]
[null,null,null,7.1054063856109622,5.739235251045411,7.8145012946252255,7.4894149814584416,5.1414412976583392,7.4751316991530619,5.5407496646067926,7.8716592918165542,5.809460134415513]
[null,null,null,7.0969581615309494,5.5626408747271228,7.8150539643505237,7.4737448904069339,5.2607925565182398,7.4708570157585577,5.492611734152014,7.8039754684083569,5.7683653335183216]
[null,null,null,7.0894107932450794,5.5857432281719781,7.9658261560858357,7.4249542945223332,5.2763940496933763,7.4843896690571157,5.5135555044788518,7.8094905987971437,5.7652357045597036]
[null,null,null,7.0912090440609461,5.6734952908787051,7.9754886241673884,7.4010978269037508,5.2158226769505944,7.5332770125405304,5.4903121286164627,7.7375619422424489,5.8347354542476992]

{"sheet":"res","index":5,"n_rows":19,"n_cols":13,"rows_kept":19,"cut":false,"hidden":false,"merged":[]}
[]
[null,"TAB: COVARIANCE MATRIX OF TERM-STRUCTURE RESIDUALS"]
[]
[]
[null,null,"#",1,{"$f":"D5+1","v":2},{"$f":"E5+1","v":3},4,5,6,7,8,9,{"$f":"L5+1","v":10}]
[null,null,"maturity",{"$f":"D9","v":1.8879999999999999},{"$f":"E9","v":2.1859999999999999},4.1449999999999996,5.1920000000000002,5.3970000000000002,5.7729999999999997,6.444,7.1950000000000003,7.4,0]
[null,null,"stdev",{"$f":"SQRT(OFFSET($C$9, D5, D5))","v":3.3341222772426544},{"$f":"SQRT(OFFSET($C$9, E5, E5))","v":2.324370158507818},0.57297503750573442,0.55681404673715451,0.33356888322600997,0.69168129837475756,0.3798788094171654,0.58957802640059664,0.39702205607348473,0]
[]
[null,"#","maturity",{"$f":"calc!C5","v":1.8879999999999999},{"$f":"calc!D5","v":2.1859999999999999},{"$f":"calc!E5","v":4.1449999999999996},{"$f":"calc!F5","v":5.1920000000000002},{"$f":"calc!G5","v":5.3970000000000002},{"$f":"calc!H5","v":5.7729999999999997},{"$f":"calc!I5","v":6.444},{"$f":"calc!J5","v":7.1950000000000003},{"$f":"calc!K5","v":7.4},{"$f":"calc!L5","v":0}]
[null,1,{"$f":"OFFSET($C$9, 0, B10)","v":1.8879999999999999},{"$f":"_xll.AC.finance.irb.ts._get(calc!C10, config!D12, 1)","v":11.116371359605743},7.495085643045492,1.1982064258186487,-1.2186866971177253,-0.17597869036124392,-1.6925970645157147,-9.2766414290486932E-2,-1.4252579186508232,3.8454443096396673E-2]
[null,{"$f":"B10+1","v":2},2.1859999999999999,7.495085643045492,5.4026966337616589,0.62395676589245319,-0.62473987870279046,-0.16423441724951426,-0.95336450314050314,-0.1491931840328653,-0.7691169113755425,-6.9584289329966076E-2]
[null,3,4.1449999999999996,1.1982064258186487,0.62395676589245319,0.32830039360469776,-0.22705827310706717,3.6953500874282175E-2,-0.30361235940609665,7.5644934812841402E-2,-0.26643290926905383,9.8436574002030763E-2]
[null,4,5.1920000000000002,-1.2186866971177253,-0.62473987870279046,-0.22705827310706717,0.31004188264380605,-1.1016056193163815E-3,0.3578025123017925,-4.1101854459199894E-2,0.31080631081086096,-6.6459686257356321E-2]
[null,5,5.3970000000000002,-0.17597869036124392,-0.16423441724951426,3.6953500874282175E-2,-1.1016056193163815E-3,0.11126819985664746,-4.5310881068558184E-2,0.11955792052361905,-1.3196918681294578E-2,0.12069553059046292]
[null,6,5.7729999999999997,-1.6925970645157147,-0.95336450314050314,-0.30361235940609665,0.3578025123017925,-4.5310881068558184E-2,0.47842301852139046,-9.5312366154202799E-2,0.37583369896475061,-0.13266208669969082]
[null,7,6.444,-9.2766414290486932E-2,-0.1491931840328653,7.5644934812841402E-2,-4.1101854459199894E-2,0.11955792052361905,-9.5312366154202799E-2,0.14430790984420305,-5.1431627318902773E-2,0.14718403088551613]
[null,8,7.1950000000000003,-1.4252579186508232,-0.7691169113755425,-0.26643290926905383,0.31080631081086096,-1.3196918681294578E-2,0.37583369896475061,-5.1431627318902773E-2,0.34760224921442262,-7.7988819066509896E-2]
[null,9,7.4,3.8454443096396673E-2,-6.9584289329966076E-2,9.8436574002030763E-2,-6.6459686257356321E-2,0.12069553059046292,-0.13266208669969082,0.14718403088551613,-7.7988819066509896E-2,0.15762651300881725]
[null,10,0]

{"sheet":"config","index":6,"n_rows":19,"n_cols":8,"rows_kept":19,"cut":false,"hidden":false,"merged":[]}
[]
[null,"TAB: CONFIGURATION FILE",null,null,"Calculation enabled",null,true]
[]
[]
[null,"Test connection",{"$f":"_xll.AC.test.connection()","v":"host: home-pc; user: Konstantin Rybakov; key: null"}]
[]
[]
[null,"Term structure estimation methods",null,"Term structure output keys",null,null,"Alpha (α) range"]
[null,"Diebold-Li",null,"TS-coeffs","Array of term structure regression coefficients",null,"minimum",0.1]
[null,"Fabozzi",null,"TS-yields-fitted","Fitted term structure yields",null,"maximum",1]
[null,"Nelson-Siegel",null,"TS-R2","Mapping sample index => R2 (term structure ols)",null,"delta",0.05]
[null,"Ridge-OLS",null,"TS-cov (H)","Term structure residuals covariance matrix (matrix H)"]
[]
[]
[null,"Array formula cell address","number of rows","number of \ncols","Description"]
[null,{"$f":"addressFla(calc!S16)","v":"'calc'!$S$16"},{"$f":"calc!T7","v":200},2,"Function R2(α*)"]
[null,{"$f":"addressFla(TS!C5)","v":"'TS'!$C$5"},{"$f":"C16","v":200},4,"Term structure regression model coefficients"]
[null,{"$f":"addressFla(fitted!D6)","v":"'fitted'!$D$6"},{"$f":"C17","v":200},{"$f":"calc!T6","v":9},"Term structure fitted yields"]
[null,{"$f":"addressFla(res!D10)","v":"'res'!$D$10"},{"$f":"D19","v":9},{"$f":"D18","v":9},"Term structure fitted yields"]

{"sheet":"guide","index":7,"n_rows":2,"n_cols":2,"rows_kept":2,"cut":false,"hidden":false,"merged":[[1,1,32,8]]}
[]
[null,"Package: IRB.TS\n\nAvailable functions for term structure estimation:\n\nCalculatorNelsonSiegel calc = calcTS(Map<Double, Double> sample, String method)\nwhere sample is the mapping t => y[t] of maturity term into related yield rate and method parameter is the method used to estimate the term structure. The list of methods includes:\n     Diebold-Li\n     Fabozzi \n     Nelson-Siegel\n     Ridge-OLS\n\ndouble[][] (double[]) CalculatorNelsonSiegel calc, String key)\nwhere key represents the key for a specific retrieved field. The following keys can be used:\n1. TS-coeffs: coefficients of the term structure (as a list (α, β0, β1, β2);\n2. TS-yields-fitted: fitted term structure values;\n3. TS-R2: the values R2(α) for a grid of α values;"]