{"text_format":"1","workbook":"xlsx","n_sheets":7,"sheets":["guide","data","Aug","Jul","Jun","ols A","config"],"not_rendered":{"charts":3,"images":0,"macros":1,"external_links":0,"defined_names":5,"comments":0,"pivot_tables":0},"unopened":[],"bounds":{"document_bytes":16777216,"sheet_cells":100000,"rows_first":2000,"rows_last":500,"rows_between":2000,"halvings":0,"cell_chars":16384,"cell_head_chars":4096},"cells_cut":0,"cells_raw":0,"read":"whole","date_system":"1900"}

{"sheet":"guide","index":0,"n_rows":24,"n_cols":9,"rows_kept":24,"cut":false,"hidden":false,"merged":[[1,1,21,6],[1,8,21,16],[23,8,44,16]]}
[]
[null,"\nPackage: Reg\n\nAvailable functions:\n\nOutputLReg res = ols(y[], X[][], 0/1)\nwhere y[] is a range that represents dependable variable, X[][] is a range that represents exogenous variable, and 0/1 is an indicator whether constant is added or not to the regression;\n\ndouble[][] (double[]) get(OutputLReg res, String key)\nwhere key represents the key for a specific retrieved field. The following keys can be used:\n1. table-standard:  standard table output of the regression output;\n2. stats: regression statistics;\n3. y, yhat, res: dependent and projected variablles and residuals;\n4. XX, XX-INV, COV: matrices (XT x X), (XT x X)-1 and covariance matrix of estimated coefficients;",null,null,null,null,null,null,"\nWheather derivatives\n\nDefinitions\n\nHeating degree day (HDD): a measure to quantify demand for energy needed to heat a building. HDD is derived based on the outside air temperature measurements that are made at specific locations (stations). HDD is derived relative to a bse temperature at which no heating is require. The base temperature is selected at 18-19oC or 65oF. HDD in weather derivatives is calculated as \n\nDaily HDD = MAX[0, 65oF - Tmean]\n\nCooling degree day (CDD): similar to HDD, CDD is a measure to quantify demand for energy required to cool a building.\n\nDaily CDD = MAX[0, Tmean - 65oF]\n\nStations where  the temperature measurements are taken:\nEWR - Newark International airport, Ne Jersey;\nORD  - Chicago O'Hare airport, Chicago\n\n"]
[]
[]
[]
[]
[]
[]
[]
[]
[]
[]
[]
[]
[]
[]
[]
[]
[]
[]
[]
[]
[]
[null,null,null,null,null,null,null,null,"Valuation:\n\n1. BS is not applicable because the underlying instrument (weather) is not tradeable;\n2. Time series modelling is geerally applied for periods longer than few week+I2s. Implemented model specification is described as follows:\n\nTt = Trendt + Seasonalt + Σl βl x Tt-l + σt\n\nwhere Tt is daily average temperature, trend is modelled using a linear function, seasonal component is modelled using low-order Fourier series and cyclical dynamics is modelled using auto-regression time series specification.\n\nFacts:\n\n1. Seasonality is the key factor in predicting the weather;\n2. Weather volatility displays certain persistance (seasonal heteroskedasticity);\n3. No trend over last 15 years (different from campbell and diebold);\n4. Weather displays strong cyclical persistence (AR(1) coefficient is arounf 0.8;\n"]

{"sheet":"data","index":1,"n_rows":6320,"n_cols":8,"rows_kept":6320,"cut":false,"hidden":false,"merged":[]}
[]
[null,null,null,{"$f":"B4","v":"WEUSKEWR ACTU Index"},null,null,{"$f":"B5","v":"WEUSKORD ACTU Index"}]
[null,"Weather Index",null,"Date","Mean Temperature",null,"Date","Mean Temperature"]
[null,"WEUSKEWR ACTU Index",null,"2017-04-17",71,null,"2017-04-17",69]
[null,"WEUSKORD ACTU Index",null,"2017-04-16",72.5,null,"2017-04-16",63.95]
[null,null,null,"2017-04-15",57.45,null,"2017-04-15",72.05]
[null,null,null,"2017-04-14",55,null,"2017-04-14",56.45]
[null,null,null,"2017-04-13",56.48,null,"2017-04-13",51.55]
[null,null,null,"2017-04-12",68.55,null,"2017-04-12",48.5]
[null,null,null,"2017-04-11",70,null,"2017-04-11",47.5]
[null,null,null,"2017-04-10",65,null,"2017-04-10",59.5]
[null,null,null,"2017-04-09",55.05,null,"2017-04-09",67]
[null,null,null,"2017-04-08",50,null,"2017-04-08",52.5]
[null,null,null,"2017-04-07",44.96,null,"2017-04-07",45.5]
[null,null,null,"2017-04-06",46.05,null,"2017-04-06",44.5]
[null,null,null,"2017-04-05",54,null,"2017-04-05",43.42]
[null,null,null,"2017-04-04",50,null,"2017-04-04",49.5]
[null,null,null,"2017-04-03",53,null,"2017-04-03",50]
[null,null,null,"2017-04-02",53,null,"2017-04-02",51.5]
[null,null,null,"2017-04-01",42.98,null,"2017-04-01",46.49]
[null,null,null,"2017-03-31",40,null,"2017-03-31",40]
[null,null,null,"2017-03-30",43.52,null,"2017-03-30",41.98]
[null,null,null,"2017-03-29",50.99,null,"2017-03-29",41.99]
[null,null,null,"2017-03-28",44.95,null,"2017-03-28",43]
[null,null,null,"2017-03-27",47.45,null,"2017-03-27",47.05]
[null,null,null,"2017-03-26",41.56,null,"2017-03-26",54.5]
[null,null,null,"2017-03-25",53.06,null,"2017-03-25",44]
[null,null,null,"2017-03-24",44.42,null,"2017-03-24",62]
[null,null,null,"2017-03-23",34,null,"2017-03-23",39.5]
[null,null,null,"2017-03-22",36.5,null,"2017-03-22",32.54]
[null,null,null,"2017-03-21",52.07,null,"2017-03-21",43.52]
[null,null,null,"2017-03-20",44.51,null,"2017-03-20",45.5]
[null,null,null,"2017-03-19",40.549999999999997,null,"2017-03-19",41.02]
[null,null,null,"2017-03-18",33.53,null,"2017-03-18",38.479999999999997]
[null,null,null,"2017-03-17",36.5,null,"2017-03-17",43]
[null,null,null,"2017-03-16",32,null,"2017-03-16",30]
[null,null,null,"2017-03-15",23.47,null,"2017-03-15",24.53]
[null,null,null,"2017-03-14",27,null,"2017-03-14",23.5]
[null,null,null,"2017-03-13",28.49,null,"2017-03-13",29]
[null,null,null,"2017-03-12",25.95,null,"2017-03-12",26.96]
[null,null,null,"2017-03-11",24.53,null,"2017-03-11",24.98]
[null,null,null,"2017-03-10",36.5,null,"2017-03-10",29.5]
[null,null,null,"2017-03-09",57,null,"2017-03-09",35.49]
[null,null,null,"2017-03-08",55.5,null,"2017-03-08",46.5]
[null,null,null,"2017-03-07",49.5,null,"2017-03-07",54.5]
[null,null,null,"2017-03-06",32.99,null,"2017-03-06",58.45]
[null,null,null,"2017-03-05",25.97,null,"2017-03-05",46.05]
[null,null,null,"2017-03-04",24.5,null,"2017-03-04",35.049999999999997]
[null,null,null,"2017-03-03",33.5,null,"2017-03-03",27.05]
[null,null,null,"2017-03-02",50.5,null,"2017-03-02",31]
[null,null,null,"2017-03-01",62.5,null,"2017-03-01",43]
[null,null,null,"2017-02-28",52,null,"2017-02-28",53.5]
[null,null,null,"2017-02-27",42.53,null,"2017-02-27",40.5]
[null,null,null,"2017-02-26",39,null,"2017-02-26",34.97]
[null,null,null,"2017-02-25",56,null,"2017-02-25",28.05]
[null,null,null,"2017-02-24",63.5,null,"2017-02-24",36.5]
[null,null,null,"2017-02-23",54.95,null,"2017-02-23",48.45]
[null,null,null,"2017-02-22",50,null,"2017-02-22",59]
[null,null,null,"2017-02-21",37.950000000000003,null,"2017-02-21",57.45]
[null,null,null,"2017-02-20",46.5,null,"2017-02-20",55.49]
[null,null,null,"2017-02-19",58.01,null,"2017-02-19",52.07]
[null,null,null,"2017-02-18",48.02,null,"2017-02-18",54.95]
[null,null,null,"2017-02-17",35.549999999999997,null,"2017-02-17",46.94]
[null,null,null,"2017-02-16",33.5,null,"2017-02-16",35.5]
[null,null,null,"2017-02-15",41.99,null,"2017-02-15",30.5]
[null,null,null,"2017-02-14",34.520000000000003,null,"2017-02-14",40.450000000000003]
[null,null,null,"2017-02-13",33.979999999999997,null,"2017-02-13",34.520000000000003]
[null,null,null,"2017-02-12",35.950000000000003,null,"2017-02-12",38.93]
[null,null,null,"2017-02-11",39,null,"2017-02-11",41.45]
[null,null,null,"2017-02-10",25,null,"2017-02-10",29.5]
[null,null,null,"2017-02-09",31,null,"2017-02-09",18.940000000000001]
[null,null,null,"2017-02-08",52,null,"2017-02-08",25.5]
[null,null,null,"2017-02-07",37.049999999999997,null,"2017-02-07",41]
[null,null,null,"2017-02-06",44,null,"2017-02-06",38.03]
[null,null,null,"2017-02-05",35.06,null,"2017-02-05",31.01]
[null,null,null,"2017-02-04",28.48,null,"2017-02-04",21.57]
[null,null,null,"2017-02-03",30.02,null,"2017-02-03",21]
[null,null,null,"2017-02-02",38.93,null,"2017-02-02",19.04]
[null,null,null,"2017-02-01",39,null,"2017-02-01",29.48]
[null,null,null,"2017-01-31",28.5,null,"2017-01-31",37]
[null,null,null,"2017-01-30",34.43,null,"2017-01-30",26.05]
[null,null,null,"2017-01-29",37.5,null,"2017-01-29",24.53]
[null,null,null,"2017-01-28",36.049999999999997,null,"2017-01-28",26.5]
[null,null,null,"2017-01-27",40.5,null,"2017-01-27",27.5]
[null,null,null,"2017-01-26",49.01,null,"2017-01-26",32]
[null,null,null,"2017-01-25",44.49,null,"2017-01-25",38.03]
[null,null,null,"2017-01-24",38.5,null,"2017-01-24",35.950000000000003]
[null,null,null,"2017-01-23",41.5,null,"2017-01-23",39.049999999999997]
[null,null,null,"2017-01-22",47.05,null,"2017-01-22",41.99]
[null,null,null,"2017-01-21",45,null,"2017-01-21",49.46]
[null,null,null,"2017-01-20",42.43,null,"2017-01-20",40.5]
[null,null,null,"2017-01-19",43.52,null,"2017-01-19",36]
[null,null,null,"2017-01-18",40,null,"2017-01-18",33.01]
[null,null,null,"2017-01-17",39.450000000000003,null,"2017-01-17",37.04]
[null,null,null,"2017-01-16",34.520000000000003,null,"2017-01-16",33.5]
[null,null,null,"2017-01-15",35,null,"2017-01-15",27.95]
[null,null,null,"2017-01-14",30.99,null,"2017-01-14",28.04]
[null,null,null,"2017-01-13",47,null,"2017-01-13",21.49]
[null,null,null,"2017-01-12",56.5,null,"2017-01-12",23.5]
[null,null,null,"2017-01-11",46.5,null,"2017-01-11",33.979999999999997]
[null,null,null,"2017-01-10",29.57,null,"2017-01-10",38]
[null,null,null,"2017-01-09",17.5,null,"2017-01-09",26]
[null,null,null,"2017-01-08",20.5,null,"2017-01-08",10.5]
[null,null,null,"2017-01-07",23.09,null,"2017-01-07",8.9600000000000009]
[null,null,null,"2017-01-06",29.49,null,"2017-01-06",4.5]
[null,null,null,"2017-01-05",29.58,null,"2017-01-05",7.97]
[null,null,null,"2017-01-04",43.5,null,"2017-01-04",13.01]
[null,null,null,"2017-01-03",41.55,null,"2017-01-03",29]
[null,null,null,"2017-01-02",37.049999999999997,null,"2017-01-02",32.54]
[null,null,null,"2017-01-01",41.5,null,"2017-01-01",28.5]
[null,null,null,"2016-12-31",36.5,null,"2016-12-31",32.450000000000003]
[null,null,null,"2016-12-30",36.5,null,"2016-12-30",30.05]
[null,null,null,"2016-12-29",37.950000000000003,null,"2016-12-29",32.53]
[null,null,null,"2016-12-28",38.04,null,"2016-12-28",32]
[null,null,null,"2016-12-27",50,null,"2016-12-27",23.99]
[null,null,null,"2016-12-26",38.479999999999997,null,"2016-12-26",41]
[null,null,null,"2016-12-25",41.99,null,"2016-12-25",34.97]
[null,null,null,"2016-12-24",41.54,null,"2016-12-24",35.51]
[null,null,null,"2016-12-23",41,null,"2016-12-23",31.03]
[null,null,null,"2016-12-22",41.54,null,"2016-12-22",30.56]
[null,null,null,"2016-12-21",33.08,null,"2016-12-21",27.5]
[null,null,null,"2016-12-20",25.97,null,"2016-12-20",19.04]
[null,null,null,"2016-12-19",26.51,null,"2016-12-19",1.05]
[null,null,null,"2016-12-18",44.96,null,"2016-12-18",5.45]
[null,null,null,"2016-12-17",30.05,null,"2016-12-17",19.489999999999998]
[null,null,null,"2016-12-16",22.1,null,"2016-12-16",11.93]
[null,null,null,"2016-12-15",24.98,null,"2016-12-15",3.5]
[null,null,null,"2016-12-14",37.04,null,"2016-12-14",10.49]
[null,null,null,"2016-12-13",38.57,null,"2016-12-13",11.93]
[null,null,null,"2016-12-12",37.58,null,"2016-12-12",19.489999999999998]
[null,null,null,"2016-12-11",29.49,null,"2016-12-11",27.41]
[null,null,null,"2016-12-10",30.02,null,"2016-12-10",20.5]
[null,null,null,"2016-12-09",34.97,null,"2016-12-09",21.5]
[null,null,null,"2016-12-08",38.590000000000003,null,"2016-12-08",20.93]
[null,null,null,"2016-12-07",42.53,null,"2016-12-07",24.45]
[null,null,null,"2016-12-06",40,null,"2016-12-06",33]
[null,null,null,"2016-12-05",43.5,null,"2016-12-05",32.450000000000003]
[null,null,null,"2016-12-04",43.52,null,"2016-12-04",29.85]
[null,null,null,"2016-12-03",45.5,null,"2016-12-03",31.47]
[null,null,null,"2016-12-02",45.48,null,"2016-12-02",36.950000000000003]
[null,null,null,"2016-12-01",47.48,null,"2016-12-01",38.03]
[null,null,null,"2016-11-30",54.5,null,"2016-11-30",39.5]
[null,null,null,"2016-11-29",53.87,null,"2016-11-29",50.55]
[null,null,null,"2016-11-28",42.98,null,"2016-11-28",44.42]
[null,null,null,"2016-11-27",43.52,null,"2016-11-27",38.03]
[null,null,null,"2016-11-26",46.49,null,"2016-11-26",38.93]
[null,null,null,"2016-11-25",50,null,"2016-11-25",37.04]
[null,null,null,"2016-11-24",42.53,null,"2016-11-24",39.03]
[null,null,null,"2016-11-23",40.549999999999997,null,"2016-11-23",40.799999999999997]
[null,null,null,"2016-11-22",40,null,"2016-11-22",32]
[null,null,null,"2016-11-21",39.549999999999997,null,"2016-11-21",31.46]
[null,null,null,"2016-11-20",38.49,null,"2016-11-20",29.03]
[null,null,null,"2016-11-19",48.47,null,"2016-11-19",33.53]
[null,null,null,"2016-11-18",55.5,null,"2016-11-18",52.52]
[null,null,null,"2016-11-17",54.95,null,"2016-11-17",58.05]
[null,null,null,"2016-11-16",52.52,null,"2016-11-16",49.56]
[null,null,null,"2016-11-15",49.48,null,"2016-11-15",45.95]
[null,null,null,"2016-11-14",50.02,null,"2016-11-14",50.54]
[null,null,null,"2016-11-13",48.5,null,"2016-11-13",45.5]
[null,null,null,"2016-11-12",45,null,"2016-11-12",41.45]
[null,null,null,"2016-11-11",53,null,"2016-11-11",44.51]
[null,null,null,"2016-11-10",49.5,null,"2016-11-10",52]
[null,null,null,"2016-11-09",53,null,"2016-11-09",49.46]
[null,null,null,"2016-11-08",53.5,null,"2016-11-08",55.94]
[null,null,null,"2016-11-07",46,null,"2016-11-07",54]
[null,null,null,"2016-11-06",51.5,null,"2016-11-06",55.59]
[null,null,null,"2016-11-05",52.4,null,"2016-11-05",55.5]
[null,null,null,"2016-11-04",54.5,null,"2016-11-04",51.44]
[null,null,null,"2016-11-03",65.45,null,"2016-11-03",57.45]
[null,null,null,"2016-11-02",62.05,null,"2016-11-02",59.97]
[null,null,null,"2016-11-01",48.56,null,"2016-11-01",68]
[null,null,null,"2016-10-31",50,null,"2016-10-31",49.5]
[null,null,null,"2016-10-30",66.02,null,"2016-10-30",48.5]
[null,null,null,"2016-10-29",51.53,null,"2016-10-29",63.5]
[null,null,null,"2016-10-28",46.5,null,"2016-10-28",51.5]
[null,null,null,"2016-10-27",49,null,"2016-10-27",46.5]
[null,null,null,"2016-10-26",44.51,null,"2016-10-26",48.02]
[null,null,null,"2016-10-25",48,null,"2016-10-25",45]
[null,null,null,"2016-10-24",56.5,null,"2016-10-24",49]
[null,null,null,"2016-10-23",54.5,null,"2016-10-23",57.02]
[null,null,null,"2016-10-22",52.5,null,"2016-10-22",48.56]
[null,null,null,"2016-10-21",64.5,null,"2016-10-21",45.5]
[null,null,null,"2016-10-20",65.5,null,"2016-10-20",50.5]
[null,null,null,"2016-10-19",75.56,null,"2016-10-19",59.99]
[null,null,null,"2016-10-18",73.5,null,"2016-10-18",65.48]
[null,null,null,"2016-10-17",71.510000000000005,null,"2016-10-17",74.45]
[null,null,null,"2016-10-16",59,null,"2016-10-16",68.5]
[null,null,null,"2016-10-15",53,null,"2016-10-15",61.5]
[null,null,null,"2016-10-14",55,null,"2016-10-14",51.98]
[null,null,null,"2016-10-13",59.9,null,"2016-10-13",47.5]
[null,null,null,"2016-10-12",56.93,null,"2016-10-12",57]
[null,null,null,"2016-10-11",53.5,null,"2016-10-11",63.5]
[null,null,null,"2016-10-10",56.45,null,"2016-10-10",58.01]
[null,null,null,"2016-10-09",59,null,"2016-10-09",54.95]
[null,null,null,"2016-10-08",62.06,null,"2016-10-08",52.4]
[null,null,null,"2016-10-07",63.5,null,"2016-10-07",58.44]
[null,null,null,"2016-10-06",63.05,null,"2016-10-06",66]
[null,null,null,"2016-10-05",59.99,null,"2016-10-05",69.5]
[null,null,null,"2016-10-04",66.02,null,"2016-10-04",67.55]
[null,null,null,"2016-10-03",67,null,"2016-10-03",62]
[null,null,null,"2016-10-02",60.95,null,"2016-10-02",60.5]
[null,null,null,"2016-10-01",59.45,null,"2016-10-01",60.5]
[null,null,null,"2016-09-30",58,null,"2016-09-30",62.05]
[null,null,null,"2016-09-29",61.43,null,"2016-09-29",62]
[null,null,null,"2016-09-28",64.5,null,"2016-09-28",55.04]
[null,null,null,"2016-09-27",69,null,"2016-09-27",60.53]
[null,null,null,"2016-09-26",62,null,"2016-09-26",62.5]
[null,null,null,"2016-09-25",61.55,null,"2016-09-25",73.95]
[null,null,null,"2016-09-24",65,null,"2016-09-24",70]
[null,null,null,"2016-09-23",75.05,null,"2016-09-23",70]
[null,null,null,"2016-09-22",72.5,null,"2016-09-22",72.5]
[null,null,null,"2016-09-21",76.5,null,"2016-09-21",69.5]
[null,null,null,"2016-09-20",76.55,null,"2016-09-20",74.5]
[null,null,null,"2016-09-19",72.95,null,"2016-09-19",71.959999999999994]
[null,null,null,"2016-09-18",77.540000000000006,null,"2016-09-18",68.989999999999995]
[null,null,null,"2016-09-17",68,null,"2016-09-17",72.05]
[null,null,null,"2016-09-16",65.03,null,"2016-09-16",73.94]
[null,null,null,"2016-09-15",67.55,null,"2016-09-15",69.08]
[null,null,null,"2016-09-14",80,null,"2016-09-14",69]
[null,null,null,"2016-09-13",72.05,null,"2016-09-13",74.930000000000007]
[null,null,null,"2016-09-12",67.55,null,"2016-09-12",66.47]
[null,null,null,"2016-09-11",76.010000000000005,null,"2016-09-11",63.5]
[null,null,null,"2016-09-10",83.92,null,"2016-09-10",66.02]
[null,null,null,"2016-09-09",85.5,null,"2016-09-09",71.959999999999994]
[null,null,null,"2016-09-08",81.5,null,"2016-09-08",76]
[null,null,null,"2016-09-07",78.08,null,"2016-09-07",81.5]
[null,null,null,"2016-09-06",75.5,null,"2016-09-06",83.03]
[null,null,null,"2016-09-05",71.959999999999994,null,"2016-09-05",74.599999999999994]
[null,null,null,"2016-09-04",72.05,null,"2016-09-04",69.55]
[null,null,null,"2016-09-03",71,null,"2016-09-03",66]
[null,null,null,"2016-09-02",73.5,null,"2016-09-02",68]
[null,null,null,"2016-09-01",73.5,null,"2016-09-01",67.55]
[null,null,null,"2016-08-31",83,null,"2016-08-31",69.5]
[null,null,null,"2016-08-30",76.5,null,"2016-08-30",77]
[null,null,null,"2016-08-29",82.45,null,"2016-08-29",78]
[null,null,null,"2016-08-28",79.5,null,"2016-08-28",77]
[null,null,null,"2016-08-27",79.55,null,"2016-08-27",75.47]
[null,null,null,"2016-08-26",85,null,"2016-08-26",73.48]
[null,null,null,"2016-08-25",77.45,null,"2016-08-25",76]
[null,null,null,"2016-08-24",76.459999999999994,null,"2016-08-24",77]
[null,null,null,"2016-08-23",71.510000000000005,null,"2016-08-23",70.5]
[null,null,null,"2016-08-22",73.94,null,"2016-08-22",67]
[null,null,null,"2016-08-21",80.510000000000005,null,"2016-08-21",67]
[null,null,null,"2016-08-20",79.52,null,"2016-08-20",71.5]
[null,null,null,"2016-08-19",82,null,"2016-08-19",75]
[null,null,null,"2016-08-18",80.05,null,"2016-08-18",77.45]
[null,null,null,"2016-08-17",82,null,"2016-08-17",79]
[null,null,null,"2016-08-16",85.01,null,"2016-08-16",79.55]
[null,null,null,"2016-08-15",85.45,null,"2016-08-15",72.5]
[null,null,null,"2016-08-14",88.5,null,"2016-08-14",76]
[null,null,null,"2016-08-13",88.5,null,"2016-08-13",77.95]
[null,null,null,"2016-08-12",85.5,null,"2016-08-12",78.5]
[null,null,null,"2016-08-11",85.5,null,"2016-08-11",82.49]
[null,null,null,"2016-08-10",82.49,null,"2016-08-10",79.069999999999993]
[null,null,null,"2016-08-09",77.55,null,"2016-08-09",77.45]
[null,null,null,"2016-08-08",78.08,null,"2016-08-08",78]
[null,null,null,"2016-08-07",80.08,null,"2016-08-07",72.5]
[null,null,null,"2016-08-06",81.5,null,"2016-08-06",75]
[null,null,null,"2016-08-05",75.47,null,"2016-08-05",78.98]
[null,null,null,"2016-08-04",72.5,null,"2016-08-04",80.510000000000005]
[null,null,null,"2016-08-03",72.5,null,"2016-08-03",79.52]
[null,null,null,"2016-08-02",73.489999999999995,null,"2016-08-02",77]
[null,null,null,"2016-08-01",75,null,"2016-08-01",74.48]
[null,null,null,"2016-07-31",76.010000000000005,null,"2016-07-31",72.95]
[null,null,null,"2016-07-30",79.5,null,"2016-07-30",73.05]
[null,null,null,"2016-07-29",78,null,"2016-07-29",75.5]
[null,null,null,"2016-07-28",84,null,"2016-07-28",77]
[null,null,null,"2016-07-27",83,null,"2016-07-27",78.55]
[null,null,null,"2016-07-26",82.5,null,"2016-07-26",78.5]
[null,null,null,"2016-07-25",86,null,"2016-07-25",80.53]
[null,null,null,"2016-07-24",84.56,null,"2016-07-24",82.04]
[null,null,null,"2016-07-23",89.06,null,"2016-07-23",80.5]
[null,null,null,"2016-07-22",85,null,"2016-07-22",80.98]
[null,null,null,"2016-07-21",80.5,null,"2016-07-21",81.5]
[null,null,null,"2016-07-20",76.010000000000005,null,"2016-07-20",78.53]
[null,null,null,"2016-07-19",78.5,null,"2016-07-19",79.5]
[null,null,null,"2016-07-18",83.48,null,"2016-07-18",79.55]
[null,null,null,"2016-07-17",83,null,"2016-07-17",72]
[null,null,null,"2016-07-16",83,null,"2016-07-16",67]
[null,null,null,"2016-07-15",86,null,"2016-07-15",67.5]
[null,null,null,"2016-07-14",83.5,null,"2016-07-14",77.5]
[null,null,null,"2016-07-13",78.5,null,"2016-07-13",76]
[null,null,null,"2016-07-12",75.5,null,"2016-07-12",80.95]
[null,null,null,"2016-07-11",74.5,null,"2016-07-11",79.5]
[null,null,null,"2016-07-10",75.5,null,"2016-07-10",71.06]
[null,null,null,"2016-07-09",68.55,null,"2016-07-09",72]
[null,null,null,"2016-07-08",79.5,null,"2016-07-08",77]
[null,null,null,"2016-07-07",86,null,"2016-07-07",77]
[null,null,null,"2016-07-06",84.5,null,"2016-07-06",77.45]
[null,null,null,"2016-07-05",79.5,null,"2016-07-05",76.5]
[null,null,null,"2016-07-04",73,null,"2016-07-04",72.5]
[null,null,null,"2016-07-03",72.95,null,"2016-07-03",66.02]
[null,null,null,"2016-07-02",73,null,"2016-07-02",64.94]
[null,null,null,"2016-07-01",75,null,"2016-07-01",65.48]
[null,null,null,"2016-06-30",77.5,null,"2016-06-30",67.5]
[null,null,null,"2016-06-29",77.5,null,"2016-06-29",68]
[null,null,null,"2016-06-28",73.5,null,"2016-06-28",64]
[null,null,null,"2016-06-27",75.5,null,"2016-06-27",79.55]
[null,null,null,"2016-06-26",75.47,null,"2016-06-26",80.95]
[null,null,null,"2016-06-25",73.02,null,"2016-06-25",76.98]
[null,null,null,"2016-06-24",75.47,null,"2016-06-24",72.05]
[null,null,null,"2016-06-23",76.010000000000005,null,"2016-06-23",71.069999999999993]
[null,null,null,"2016-06-22",78.430000000000007,null,"2016-06-22",71.5]
[null,null,null,"2016-06-21",82,null,"2016-06-21",74.010000000000005]
[null,null,null,"2016-06-20",74.930000000000007,null,"2016-06-20",81.5]
[null,null,null,"2016-06-19",75.47,null,"2016-06-19",75.56]
[null,null,null,"2016-06-18",71.959999999999994,null,"2016-06-18",72.5]
[null,null,null,"2016-06-17",70.97,null,"2016-06-17",72.95]
[null,null,null,"2016-06-16",71.95,null,"2016-06-16",70]
[null,null,null,"2016-06-15",73,null,"2016-06-15",79]
[null,null,null,"2016-06-14",70.5,null,"2016-06-14",75.5]
[null,null,null,"2016-06-13",66.5,null,"2016-06-13",69.98]
[null,null,null,"2016-06-12",75.55,null,"2016-06-12",69]
[null,null,null,"2016-06-11",73,null,"2016-06-11",81]
[null,null,null,"2016-06-10",67.98,null,"2016-06-10",76.5]
[null,null,null,"2016-06-09",64.040000000000006,null,"2016-06-09",62.51]
[null,null,null,"2016-06-08",61.5,null,"2016-06-08",60.98]
[null,null,null,"2016-06-07",75.5,null,"2016-06-07",59]
[null,null,null,"2016-06-06",76,null,"2016-06-06",70.5]
[null,null,null,"2016-06-05",63,null,"2016-06-05",70]
[null,null,null,"2016-06-04",74.930000000000007,null,"2016-06-04",67.05]
[null,null,null,"2016-06-03",66.5,null,"2016-06-03",69.53]
[null,null,null,"2016-06-02",67.48,null,"2016-06-02",68]
[null,null,null,"2016-06-01",75.459999999999994,null,"2016-06-01",70.53]
[null,null,null,"2016-05-31",78,null,"2016-05-31",73]
[null,null,null,"2016-05-30",76.010000000000005,null,"2016-05-30",75.03]
[null,null,null,"2016-05-29",78.540000000000006,null,"2016-05-29",70.97]
[null,null,null,"2016-05-28",83.57,null,"2016-05-28",72.52]
[null,null,null,"2016-05-27",79.52,null,"2016-05-27",73.5]
[null,null,null,"2016-05-26",78.5,null,"2016-05-26",72.5]
[null,null,null,"2016-05-25",74.02,null,"2016-05-25",75]
[null,null,null,"2016-05-24",67.45,null,"2016-05-24",73.05]
[null,null,null,"2016-05-23",64.489999999999995,null,"2016-05-23",64.510000000000005]
[null,null,null,"2016-05-22",61,null,"2016-05-22",65.03]
[null,null,null,"2016-05-21",59,null,"2016-05-21",64.040000000000006]
[null,null,null,"2016-05-20",63.95,null,"2016-05-20",56.03]
[null,null,null,"2016-05-19",62.96,null,"2016-05-19",54.05]
[null,null,null,"2016-05-18",58.46,null,"2016-05-18",52.97]
[null,null,null,"2016-05-17",59,null,"2016-05-17",50.5]
[null,null,null,"2016-05-16",54.5,null,"2016-05-16",58]
[null,null,null,"2016-05-15",51.5,null,"2016-05-15",45.05]
[null,null,null,"2016-05-14",65.91,null,"2016-05-14",43.97]
[null,null,null,"2016-05-13",62,null,"2016-05-13",54.5]
[null,null,null,"2016-05-12",65.5,null,"2016-05-12",61.5]
[null,null,null,"2016-05-11",61.4,null,"2016-05-11",60.08]
[null,null,null,"2016-05-10",54.03,null,"2016-05-10",57.04]
[null,null,null,"2016-05-09",59.99,null,"2016-05-09",53.96]
[null,null,null,"2016-05-08",57.45,null,"2016-05-08",56.03]
[null,null,null,"2016-05-07",53.5,null,"2016-05-07",57]
[null,null,null,"2016-05-06",51.5,null,"2016-05-06",62]
[null,null,null,"2016-05-05",52.5,null,"2016-05-05",51]
[null,null,null,"2016-05-04",52,null,"2016-05-04",49.55]
[null,null,null,"2016-05-03",53,null,"2016-05-03",53.5]
[null,null,null,"2016-05-02",50.5,null,"2016-05-02",50.5]
[null,null,null,"2016-05-01",46.94,null,"2016-05-01",45.5]
[null,null,null,"2016-04-30",53.5,null,"2016-04-30",45.5]
[null,null,null,"2016-04-29",51.98,null,"2016-04-29",46.04]
[null,null,null,"2016-04-28",52.4,null,"2016-04-28",46]
[null,null,null,"2016-04-27",56.5,null,"2016-04-27",44.95]
[null,null,null,"2016-04-26",57,null,"2016-04-26",55.04]
[null,null,null,"2016-04-25",58,null,"2016-04-25",70.42]
[null,null,null,"2016-04-24",58.5,null,"2016-04-24",59.54]
[null,null,null,"2016-04-23",63.5,null,"2016-04-23",49]
[null,null,null,"2016-04-22",71.959999999999994,null,"2016-04-22",47.5]
[null,null,null,"2016-04-21",60.5,null,"2016-04-21",60]
[null,null,null,"2016-04-20",59.5,null,"2016-04-20",61.09]
[null,null,null,"2016-04-19",64,null,"2016-04-19",51.51]
[null,null,null,"2016-04-18",64,null,"2016-04-18",65.930000000000007]
[null,null,null,"2016-04-17",57.5,null,"2016-04-17",62]
[null,null,null,"2016-04-16",54.5,null,"2016-04-16",58.46]
[null,null,null,"2016-04-15",52,null,"2016-04-15",55]
[null,null,null,"2016-04-14",51.55,null,"2016-04-14",49]
[null,null,null,"2016-04-13",48.5,null,"2016-04-13",45]
[null,null,null,"2016-04-12",52.55,null,"2016-04-12",38.479999999999997]
[null,null,null,"2016-04-11",54.95,null,"2016-04-11",43.5]
[null,null,null,"2016-04-10",41.5,null,"2016-04-10",41.5]
[null,null,null,"2016-04-09",38,null,"2016-04-09",29.93]
[null,null,null,"2016-04-08",44,null,"2016-04-08",33.5]
[null,null,null,"2016-04-07",53.49,null,"2016-04-07",37]
[null,null,null,"2016-04-06",37.94,null,"2016-04-06",44.96]
[null,null,null,"2016-04-05",35.1,null,"2016-04-05",34.5]
[null,null,null,"2016-04-04",37,null,"2016-04-04",33.5]
[null,null,null,"2016-04-03",40,null,"2016-04-03",48.58]
[null,null,null,"2016-04-02",53,null,"2016-04-02",33.5]
[null,null,null,"2016-04-01",71,null,"2016-04-01",41.99]
[null,null,null,"2016-03-31",59.97,null,"2016-03-31",55.5]
[null,null,null,"2016-03-30",44.06,null,"2016-03-30",52.07]
[null,null,null,"2016-03-29",48,null,"2016-03-29",44.42]
[null,null,null,"2016-03-28",54,null,"2016-03-28",44.08]
[null,null,null,"2016-03-27",47.57,null,"2016-03-27",49.46]
[null,null,null,"2016-03-26",46,null,"2016-03-26",42.5]
[null,null,null,"2016-03-25",60,null,"2016-03-25",38]
[null,null,null,"2016-03-24",50,null,"2016-03-24",34.5]
[null,null,null,"2016-03-23",59.5,null,"2016-03-23",39]
[null,null,null,"2016-03-22",45.95,null,"2016-03-22",51.5]
[null,null,null,"2016-03-21",43,null,"2016-03-21",38.450000000000003]
[null,null,null,"2016-03-20",38.5,null,"2016-03-20",37.049999999999997]
[null,null,null,"2016-03-19",41,null,"2016-03-19",40.5]
[null,null,null,"2016-03-18",51.5,null,"2016-03-18",40.5]
[null,null,null,"2016-03-17",55,null,"2016-03-17",48]
[null,null,null,"2016-03-16",55,null,"2016-03-16",50.5]
[null,null,null,"2016-03-15",51,null,"2016-03-15",52]
[null,null,null,"2016-03-14",46.5,null,"2016-03-14",49]
[null,null,null,"2016-03-13",55.5,null,"2016-03-13",45.5]
[null,null,null,"2016-03-12",49,null,"2016-03-12",46]
[null,null,null,"2016-03-11",58.5,null,"2016-03-11",44.5]
[null,null,null,"2016-03-10",70,null,"2016-03-10",44]
[null,null,null,"2016-03-09",62,null,"2016-03-09",55.5]
[null,null,null,"2016-03-08",55,null,"2016-03-08",64]
[null,null,null,"2016-03-07",47,null,"2016-03-07",53.5]
[null,null,null,"2016-03-06",37,null,"2016-03-06",42.5]
[null,null,null,"2016-03-05",35.5,null,"2016-03-05",34]
[null,null,null,"2016-03-04",34.5,null,"2016-03-04",29.5]
[null,null,null,"2016-03-03",32,null,"2016-03-03",30]
[null,null,null,"2016-03-02",43,null,"2016-03-02",21.5]
[null,null,null,"2016-03-01",46,null,"2016-03-01",24]
[null,null,null,"2016-02-29",52,null,"2016-02-29",40]
[null,null,null,"2016-02-28",48.5,null,"2016-02-28",49]
[null,null,null,"2016-02-27",33.5,null,"2016-02-27",41]
[null,null,null,"2016-02-26",33.5,null,"2016-02-26",28.5]
[null,null,null,"2016-02-25",49.5,null,"2016-02-25",34]
[null,null,null,"2016-02-24",49.5,null,"2016-02-24",34]
[null,null,null,"2016-02-23",38,null,"2016-02-23",35.6]
[null,null,null,"2016-02-22",44.5,null,"2016-02-22",35]
[null,null,null,"2016-02-21",47,null,"2016-02-21",35]
[null,null,null,"2016-02-20",51,null,"2016-02-20",47.5]
[null,null,null,"2016-02-19",28.5,null,"2016-02-19",51.5]
[null,null,null,"2016-02-18",32.5,null,"2016-02-18",32.5]
[null,null,null,"2016-02-17",36.5,null,"2016-02-17",27.5]
[null,null,null,"2016-02-16",44,null,"2016-02-16",28.5]
[null,null,null,"2016-02-15",21.5,null,"2016-02-15",22.5]
[null,null,null,"2016-02-14",9,null,"2016-02-14",13.5]
[null,null,null,"2016-02-13",15.5,null,"2016-02-13",9.5]
[null,null,null,"2016-02-12",21,null,"2016-02-12",15]
[null,null,null,"2016-02-11",25,null,"2016-02-11",14]
[null,null,null,"2016-02-10",36.5,null,"2016-02-10",13.5]
[null,null,null,"2016-02-09",31.5,null,"2016-02-09",17]
[null,null,null,"2016-02-08",34.5,null,"2016-02-08",26]
[null,null,null,"2016-02-07",37.5,null,"2016-02-07",37.5]
[null,null,null,"2016-02-06",33,null,"2016-02-06",32.5]
[null,null,null,"2016-02-05",37,null,"2016-02-05",29.5]
[null,null,null,"2016-02-04",49,null,"2016-02-04",25.5]
[null,null,null,"2016-02-03",48.5,null,"2016-02-03",32.5]
[null,null,null,"2016-02-02",41.5,null,"2016-02-02",35]
[null,null,null,"2016-02-01",47,null,"2016-02-01",37.5]
[null,null,null,"2016-01-31",42,null,"2016-01-31",40.5]
[null,null,null,"2016-01-30",32,null,"2016-01-30",40.5]
[null,null,null,"2016-01-29",35.5,null,"2016-01-29",27.5]
[null,null,null,"2016-01-28",33,null,"2016-01-28",34]
[null,null,null,"2016-01-27",38.5,null,"2016-01-27",28.5]
[null,null,null,"2016-01-26",35.5,null,"2016-01-26",30]
[null,null,null,"2016-01-25",27.5,null,"2016-01-25",32.5]
[null,null,null,"2016-01-24",26.5,null,"2016-01-24",29]
[null,null,null,"2016-01-23",25,null,"2016-01-23",26.5]
[null,null,null,"2016-01-22",25,null,"2016-01-22",24.5]
[null,null,null,"2016-01-21",32,null,"2016-01-21",19]
[null,null,null,"2016-01-20",33,null,"2016-01-20",17.5]
[null,null,null,"2016-01-19",23.5,null,"2016-01-19",8.5]
[null,null,null,"2016-01-18",24,null,"2016-01-18",1.5]
[null,null,null,"2016-01-17",35.5,null,"2016-01-17",4]
[null,null,null,"2016-01-16",48.5,null,"2016-01-16",19.5]
[null,null,null,"2016-01-15",39,null,"2016-01-15",36.5]
[null,null,null,"2016-01-14",31,null,"2016-01-14",34]
[null,null,null,"2016-01-13",26.5,null,"2016-01-13",11.5]
[null,null,null,"2016-01-12",33,null,"2016-01-12",11.5]
[null,null,null,"2016-01-11",31.5,null,"2016-01-11",11.5]
[null,null,null,"2016-01-10",52,null,"2016-01-10",12.5]
[null,null,null,"2016-01-09",43,null,"2016-01-09",31.5]
[null,null,null,"2016-01-08",38,null,"2016-01-08",39]
[null,null,null,"2016-01-07",35,null,"2016-01-07",37.5]
[null,null,null,"2016-01-06",28.5,null,"2016-01-06",28.5]
[null,null,null,"2016-01-05",20.5,null,"2016-01-05",25]
[null,null,null,"2016-01-04",24.5,null,"2016-01-04",26.5]
[null,null,null,"2016-01-03",37.5,null,"2016-01-03",25.5]
[null,null,null,"2016-01-02",36,null,"2016-01-02",26]
[null,null,null,"2016-01-01",38.5,null,"2016-01-01",25]
[null,null,null,"2015-12-31",45.5,null,"2015-12-31",25]
[null,null,null,"2015-12-30",43.5,null,"2015-12-30",27.98]
[null,null,null,"2015-12-29",39.5,null,"2015-12-29",34]
[null,null,null,"2015-12-28",40,null,"2015-12-28",35]
[null,null,null,"2015-12-27",54,null,"2015-12-27",37.5]
[null,null,null,"2015-12-26",54,null,"2015-12-26",39.5]
[null,null,null,"2015-12-25",58.5,null,"2015-12-25",38]
[null,null,null,"2015-12-24",65,null,"2015-12-24",38]
[null,null,null,"2015-12-23",58,null,"2015-12-23",49.5]
[null,null,null,"2015-12-22",56.5,null,"2015-12-22",38]
[null,null,null,"2015-12-21",44,null,"2015-12-21",46.5]
[null,null,null,"2015-12-20",39,null,"2015-12-20",36.5]
[null,null,null,"2015-12-19",37.5,null,"2015-12-19",22.5]
[null,null,null,"2015-12-18",46.5,null,"2015-12-18",28]
[null,null,null,"2015-12-17",54.5,null,"2015-12-17",31.5]
[null,null,null,"2015-12-16",48,null,"2015-12-16",44]
[null,null,null,"2015-12-15",60,null,"2015-12-15",41]
[null,null,null,"2015-12-14",59.5,null,"2015-12-14",51.5]
[null,null,null,"2015-12-13",61,null,"2015-12-13",54.5]
[null,null,null,"2015-12-12",56.5,null,"2015-12-12",52]
[null,null,null,"2015-12-11",53,null,"2015-12-11",46]
[null,null,null,"2015-12-10",55,null,"2015-12-10",49]
[null,null,null,"2015-12-09",43,null,"2015-12-09",46]
[null,null,null,"2015-12-08",43.5,null,"2015-12-08",42.5]
[null,null,null,"2015-12-07",46,null,"2015-12-07",33]
[null,null,null,"2015-12-06",44,null,"2015-12-06",37]
[null,null,null,"2015-12-05",44.5,null,"2015-12-05",37.5]
[null,null,null,"2015-12-04",46,null,"2015-12-04",39.5]
[null,null,null,"2015-12-03",49.5,null,"2015-12-03",32.5]
[null,null,null,"2015-12-02",50.5,null,"2015-12-02",34.5]
[null,null,null,"2015-12-01",47,null,"2015-12-01",40]
[null,null,null,"2015-11-30",38.5,null,"2015-11-30",41]
[null,null,null,"2015-11-29",43.5,null,"2015-11-29",33]
[null,null,null,"2015-11-28",54,null,"2015-11-28",34]
[null,null,null,"2015-11-27",54,null,"2015-11-27",45]
[null,null,null,"2015-11-26",47,null,"2015-11-26",54]
[null,null,null,"2015-11-25",41,null,"2015-11-25",40.5]
[null,null,null,"2015-11-24",37.5,null,"2015-11-24",31]
[null,null,null,"2015-11-23",39,null,"2015-11-23",31]
[null,null,null,"2015-11-22",48.5,null,"2015-11-22",17]
[null,null,null,"2015-11-21",45,null,"2015-11-21",25.5]
[null,null,null,"2015-11-20",53,null,"2015-11-20",35.5]
[null,null,null,"2015-11-19",61,null,"2015-11-19",41]
[null,null,null,"2015-11-18",50,null,"2015-11-18",54.5]
[null,null,null,"2015-11-17",46,null,"2015-11-17",54]
[null,null,null,"2015-11-16",57,null,"2015-11-16",50]
[null,null,null,"2015-11-15",47.5,null,"2015-11-15",54]
[null,null,null,"2015-11-14",46,null,"2015-11-14",41]
[null,null,null,"2015-11-13",54,null,"2015-11-13",39.5]
[null,null,null,"2015-11-12",56.5,null,"2015-11-12",49]
[null,null,null,"2015-11-11",56.5,null,"2015-11-11",49.5]
[null,null,null,"2015-11-10",55.5,null,"2015-11-10",44]
[null,null,null,"2015-11-09",49,null,"2015-11-09",42.5]
[null,null,null,"2015-11-08",52,null,"2015-11-08",40]
[null,null,null,"2015-11-07",62,null,"2015-11-07",44]
[null,null,null,"2015-11-06",69.5,null,"2015-11-06",53]
[null,null,null,"2015-11-05",62.5,null,"2015-11-05",64.5]
[null,null,null,"2015-11-04",59.5,null,"2015-11-04",59.5]
[null,null,null,"2015-11-03",60,null,"2015-11-03",57]
[null,null,null,"2015-11-02",57.5,null,"2015-11-02",59.5]
[null,null,null,"2015-11-01",58,null,"2015-11-01",53.5]
[null,null,null,"2015-10-31",48.5,null,"2015-10-31",48.5]
[null,null,null,"2015-10-30",53.5,null,"2015-10-30",46]
[null,null,null,"2015-10-29",65.5,null,"2015-10-29",41.5]
[null,null,null,"2015-10-28",62,null,"2015-10-28",46.5]
[null,null,null,"2015-10-27",49,null,"2015-10-27",53]
[null,null,null,"2015-10-26",52.5,null,"2015-10-26",49]
[null,null,null,"2015-10-25",59.5,null,"2015-10-25",51.5]
[null,null,null,"2015-10-24",48,null,"2015-10-24",56]
[null,null,null,"2015-10-23",54,null,"2015-10-23",58]
[null,null,null,"2015-10-22",63.5,null,"2015-10-22",56.5]
[null,null,null,"2015-10-21",63,null,"2015-10-21",63.5]
[null,null,null,"2015-10-20",58.5,null,"2015-10-20",65.5]
[null,null,null,"2015-10-19",42.5,null,"2015-10-19",60]
[null,null,null,"2015-10-18",43.5,null,"2015-10-18",46.5]
[null,null,null,"2015-10-17",48,null,"2015-10-17",43]
[null,null,null,"2015-10-16",57,null,"2015-10-16",46]
[null,null,null,"2015-10-15",57.5,null,"2015-10-15",57.5]
[null,null,null,"2015-10-14",63,null,"2015-10-14",52.5]
[null,null,null,"2015-10-13",65,null,"2015-10-13",55]
[null,null,null,"2015-10-12",63.5,null,"2015-10-12",64]
[null,null,null,"2015-10-11",58.5,null,"2015-10-11",65]
[null,null,null,"2015-10-10",57.5,null,"2015-10-10",53.5]
[null,null,null,"2015-10-09",70.5,null,"2015-10-09",55.5]
[null,null,null,"2015-10-08",63,null,"2015-10-08",63.5]
[null,null,null,"2015-10-07",65.5,null,"2015-10-07",62.5]
[null,null,null,"2015-10-06",62.5,null,"2015-10-06",63]
[null,null,null,"2015-10-05",58.5,null,"2015-10-05",57.5]
[null,null,null,"2015-10-04",57.5,null,"2015-10-04",53.5]
[null,null,null,"2015-10-03",51.5,null,"2015-10-03",51]
[null,null,null,"2015-10-02",51,null,"2015-10-02",55.5]
[null,null,null,"2015-10-01",59,null,"2015-10-01",55.5]
[null,null,null,"2015-09-30",69.5,null,"2015-09-30",56.5]
[null,null,null,"2015-09-29",76.5,null,"2015-09-29",61.5]
[null,null,null,"2015-09-28",72.5,null,"2015-09-28",70.5]
[null,null,null,"2015-09-27",62,null,"2015-09-27",67.5]
[null,null,null,"2015-09-26",66,null,"2015-09-26",67.5]
[null,null,null,"2015-09-25",69,null,"2015-09-25",66.5]
[null,null,null,"2015-09-24",68,null,"2015-09-24",66]
[null,null,null,"2015-09-23",68.5,null,"2015-09-23",68.5]
[null,null,null,"2015-09-22",65.5,null,"2015-09-22",66.5]
[null,null,null,"2015-09-21",65,null,"2015-09-21",63]
[null,null,null,"2015-09-20",70.5,null,"2015-09-20",61.5]
[null,null,null,"2015-09-19",73.5,null,"2015-09-19",62]
[null,null,null,"2015-09-18",74.5,null,"2015-09-18",69.5]
[null,null,null,"2015-09-17",76,null,"2015-09-17",73]
[null,null,null,"2015-09-16",75,null,"2015-09-16",69.5]
[null,null,null,"2015-09-15",71.5,null,"2015-09-15",72]
[null,null,null,"2015-09-14",67,null,"2015-09-14",67]
[null,null,null,"2015-09-13",70,null,"2015-09-13",59]
[null,null,null,"2015-09-12",72.5,null,"2015-09-12",57.5]
[null,null,null,"2015-09-11",75,null,"2015-09-11",60.5]
[null,null,null,"2015-09-10",74.5,null,"2015-09-10",64]
[null,null,null,"2015-09-09",83,null,"2015-09-09",67.5]
[null,null,null,"2015-09-08",85,null,"2015-09-08",74.5]
[null,null,null,"2015-09-07",80,null,"2015-09-07",82]
[null,null,null,"2015-09-06",72,null,"2015-09-06",81]
[null,null,null,"2015-09-05",73.5,null,"2015-09-05",78]
[null,null,null,"2015-09-04",78,null,"2015-09-04",76.5]
[null,null,null,"2015-09-03",84,null,"2015-09-03",81]
[null,null,null,"2015-09-02",81,null,"2015-09-02",81]
[null,null,null,"2015-09-01",81.5,null,"2015-09-01",78]
[null,null,null,"2015-08-31",84.5,null,"2015-08-31",72.5]
[null,null,null,"2015-08-30",79,null,"2015-08-30",69.5]
[null,null,null,"2015-08-29",75.5,null,"2015-08-29",66.5]
[null,null,null,"2015-08-28",73,null,"2015-08-28",64]
[null,null,null,"2015-08-27",74,null,"2015-08-27",63.5]
[null,null,null,"2015-08-26",75.5,null,"2015-08-26",61.5]
[null,null,null,"2015-08-25",83,null,"2015-08-25",65.5]
[null,null,null,"2015-08-24",78.5,null,"2015-08-24",65]
[null,null,null,"2015-08-23",75,null,"2015-08-23",69]
[null,null,null,"2015-08-22",77.5,null,"2015-08-22",70.5]
[null,null,null,"2015-08-21",80.5,null,"2015-08-21",68.5]
[null,null,null,"2015-08-20",81.5,null,"2015-08-20",66.5]
[null,null,null,"2015-08-19",81,null,"2015-08-19",68.5]
[null,null,null,"2015-08-18",84,null,"2015-08-18",75]
[null,null,null,"2015-08-17",85,null,"2015-08-17",78]
[null,null,null,"2015-08-16",84,null,"2015-08-16",80]
[null,null,null,"2015-08-15",81,null,"2015-08-15",79.5]
[null,null,null,"2015-08-14",76.5,null,"2015-08-14",78.5]
[null,null,null,"2015-08-13",76.5,null,"2015-08-13",75]
[null,null,null,"2015-08-12",78,null,"2015-08-12",71]
[null,null,null,"2015-08-11",76.5,null,"2015-08-11",73.5]
[null,null,null,"2015-08-10",74.5,null,"2015-08-10",76]
[null,null,null,"2015-08-09",77,null,"2015-08-09",73.5]
[null,null,null,"2015-08-08",74,null,"2015-08-08",75]
[null,null,null,"2015-08-07",75.5,null,"2015-08-07",73]
[null,null,null,"2015-08-06",75.5,null,"2015-08-06",73.5]
[null,null,null,"2015-08-05",79.5,null,"2015-08-05",71.5]
[null,null,null,"2015-08-04",81,null,"2015-08-04",71.5]
[null,null,null,"2015-08-03",81.5,null,"2015-08-03",74.5]
[null,null,null,"2015-08-02",79,null,"2015-08-02",79]
[null,null,null,"2015-08-01",82,null,"2015-08-01",75.5]
[null,null,null,"2015-07-31",83,null,"2015-07-31",77]
[null,null,null,"2015-07-30",83,null,"2015-07-30",76.5]
[null,null,null,"2015-07-29",85.5,null,"2015-07-29",79]
[null,null,null,"2015-07-28",83,null,"2015-07-28",79]
[null,null,null,"2015-07-27",79.5,null,"2015-07-27",77.5]
[null,null,null,"2015-07-26",82,null,"2015-07-26",72]
[null,null,null,"2015-07-25",76,null,"2015-07-25",80]
[null,null,null,"2015-07-24",78,null,"2015-07-24",74]
[null,null,null,"2015-07-23",77,null,"2015-07-23",74]
[null,null,null,"2015-07-22",77.5,null,"2015-07-22",73.5]
[null,null,null,"2015-07-21",83.5,null,"2015-07-21",73.5]
[null,null,null,"2015-07-20",88.5,null,"2015-07-20",74]
[null,null,null,"2015-07-19",86,null,"2015-07-19",75]
[null,null,null,"2015-07-18",80.5,null,"2015-07-18",81]
[null,null,null,"2015-07-17",72,null,"2015-07-17",81.5]
[null,null,null,"2015-07-16",72,null,"2015-07-16",66.5]
[null,null,null,"2015-07-15",77.5,null,"2015-07-15",67]
[null,null,null,"2015-07-14",77,null,"2015-07-14",72]
[null,null,null,"2015-07-13",78.5,null,"2015-07-13",77]
[null,null,null,"2015-07-12",79.5,null,"2015-07-12",76]
[null,null,null,"2015-07-11",77,null,"2015-07-11",69.5]
[null,null,null,"2015-07-10",78.5,null,"2015-07-10",71]
[null,null,null,"2015-07-09",74,null,"2015-07-09",67.5]
[null,null,null,"2015-07-08",83.5,null,"2015-07-08",60.5]
[null,null,null,"2015-07-07",82.5,null,"2015-07-07",63]
[null,null,null,"2015-07-06",76.5,null,"2015-07-06",74.5]
[null,null,null,"2015-07-05",76.5,null,"2015-07-05",71.5]
[null,null,null,"2015-07-04",74.5,null,"2015-07-04",70]
[null,null,null,"2015-07-03",74,null,"2015-07-03",66]
[null,null,null,"2015-07-02",74.5,null,"2015-07-02",61]
[null,null,null,"2015-07-01",76.5,null,"2015-07-01",61.5]
[null,null,null,"2015-06-30",74.5,null,"2015-06-30",67]
[null,null,null,"2015-06-29",70.5,null,"2015-06-29",69.5]
[null,null,null,"2015-06-28",69,null,"2015-06-28",66.5]
[null,null,null,"2015-06-27",66.5,null,"2015-06-27",66]
[null,null,null,"2015-06-26",75.5,null,"2015-06-26",62.5]
[null,null,null,"2015-06-25",75.5,null,"2015-06-25",70]
[null,null,null,"2015-06-24",77,null,"2015-06-24",69.5]
[null,null,null,"2015-06-23",83.5,null,"2015-06-23",72.5]
[null,null,null,"2015-06-22",80.5,null,"2015-06-22",74.5]
[null,null,null,"2015-06-21",81,null,"2015-06-21",75.5]
[null,null,null,"2015-06-20",69.5,null,"2015-06-20",65.5]
[null,null,null,"2015-06-19",78,null,"2015-06-19",60.5]
[null,null,null,"2015-06-18",67,null,"2015-06-18",68.5]
[null,null,null,"2015-06-17",73.5,null,"2015-06-17",64]
[null,null,null,"2015-06-16",71.5,null,"2015-06-16",64]
[null,null,null,"2015-06-15",74.5,null,"2015-06-15",74]
[null,null,null,"2015-06-14",76.5,null,"2015-06-14",75.5]
[null,null,null,"2015-06-13",80,null,"2015-06-13",71]
[null,null,null,"2015-06-12",81,null,"2015-06-12",61.5]
[null,null,null,"2015-06-11",81.5,null,"2015-06-11",65]
[null,null,null,"2015-06-10",75.5,null,"2015-06-10",80]
[null,null,null,"2015-06-09",77,null,"2015-06-09",72.5]
[null,null,null,"2015-06-08",73,null,"2015-06-08",72.5]
[null,null,null,"2015-06-07",62.5,null,"2015-06-07",68]
[null,null,null,"2015-06-06",69.5,null,"2015-06-06",61.5]
[null,null,null,"2015-06-05",64,null,"2015-06-05",62.5]
[null,null,null,"2015-06-04",61.5,null,"2015-06-04",69]
[null,null,null,"2015-06-03",61.5,null,"2015-06-03",63.5]
[null,null,null,"2015-06-02",53,null,"2015-06-02",56]
[null,null,null,"2015-06-01",56.5,null,"2015-06-01",52]
[null,null,null,"2015-05-31",74.5,null,"2015-05-31",48.5]
[null,null,null,"2015-05-30",75.5,null,"2015-05-30",57.5]
[null,null,null,"2015-05-29",73.5,null,"2015-05-29",72]
[null,null,null,"2015-05-28",79.5,null,"2015-05-28",68]
[null,null,null,"2015-05-27",78.5,null,"2015-05-27",66.5]
[null,null,null,"2015-05-26",78,null,"2015-05-26",69]
[null,null,null,"2015-05-25",75,null,"2015-05-25",71.5]
[null,null,null,"2015-05-24",65.5,null,"2015-05-24",65.5]
[null,null,null,"2015-05-23",60,null,"2015-05-23",63]
[null,null,null,"2015-05-22",65.5,null,"2015-05-22",56.5]
[null,null,null,"2015-05-21",56.5,null,"2015-05-21",57]
[null,null,null,"2015-05-20",60.5,null,"2015-05-20",43.5]
[null,null,null,"2015-05-19",69.5,null,"2015-05-19",46.5]
[null,null,null,"2015-05-18",66.5,null,"2015-05-18",63]
[null,null,null,"2015-05-17",76,null,"2015-05-17",74]
[null,null,null,"2015-05-16",69.5,null,"2015-05-16",70.5]
[null,null,null,"2015-05-15",63,null,"2015-05-15",66.5]
[null,null,null,"2015-05-14",62,null,"2015-05-14",54.5]
[null,null,null,"2015-05-13",63,null,"2015-05-13",46]
[null,null,null,"2015-05-12",75,null,"2015-05-12",50]
[null,null,null,"2015-05-11",75.5,null,"2015-05-11",57.5]
[null,null,null,"2015-05-10",73.5,null,"2015-05-10",49.5]
[null,null,null,"2015-05-09",62.5,null,"2015-05-09",55.5]
[null,null,null,"2015-05-08",67.5,null,"2015-05-08",72]
[null,null,null,"2015-05-07",65.5,null,"2015-05-07",67.5]
[null,null,null,"2015-05-06",64,null,"2015-05-06",61.5]
[null,null,null,"2015-05-05",74,null,"2015-05-05",51.5]
[null,null,null,"2015-05-04",71.5,null,"2015-05-04",64.5]
[null,null,null,"2015-05-03",62.5,null,"2015-05-03",66.5]
[null,null,null,"2015-05-02",58,null,"2015-05-02",63]
[null,null,null,"2015-05-01",53,null,"2015-05-01",52.5]
[null,null,null,"2015-04-30",55,null,"2015-04-30",44.5]
[null,null,null,"2015-04-29",64,null,"2015-04-29",49.5]
[null,null,null,"2015-04-28",61,null,"2015-04-28",46.5]
[null,null,null,"2015-04-27",55,null,"2015-04-27",46.5]
[null,null,null,"2015-04-26",53,null,"2015-04-26",45.5]
[null,null,null,"2015-04-25",49,null,"2015-04-25",43.5]
[null,null,null,"2015-04-24",47,null,"2015-04-24",43]
[null,null,null,"2015-04-23",46.5,null,"2015-04-23",43.5]
[null,null,null,"2015-04-22",59.5,null,"2015-04-22",40]
[null,null,null,"2015-04-21",60,null,"2015-04-21",46]
[null,null,null,"2015-04-20",53.5,null,"2015-04-20",46.5]
[null,null,null,"2015-04-19",54.5,null,"2015-04-19",58]
[null,null,null,"2015-04-18",67.5,null,"2015-04-18",56]
[null,null,null,"2015-04-17",63.5,null,"2015-04-17",61.5]
[null,null,null,"2015-04-16",53,null,"2015-04-16",55.5]
[null,null,null,"2015-04-15",61.5,null,"2015-04-15",53.5]
[null,null,null,"2015-04-14",61,null,"2015-04-14",52.5]
[null,null,null,"2015-04-13",58,null,"2015-04-13",57]
[null,null,null,"2015-04-12",54,null,"2015-04-12",54.5]
[null,null,null,"2015-04-11",53,null,"2015-04-11",50]
[null,null,null,"2015-04-10",48.5,null,"2015-04-10",50.5]
[null,null,null,"2015-04-09",40.5,null,"2015-04-09",56]
[null,null,null,"2015-04-08",43,null,"2015-04-08",45]
[null,null,null,"2015-04-07",52,null,"2015-04-07",42]
[null,null,null,"2015-04-06",52,null,"2015-04-06",48]
[null,null,null,"2015-04-05",49.5,null,"2015-04-05",51]
[null,null,null,"2015-04-04",51.5,null,"2015-04-04",43]
[null,null,null,"2015-04-03",61.5,null,"2015-04-03",41.5]
[null,null,null,"2015-04-02",51,null,"2015-04-02",57.5]
[null,null,null,"2015-04-01",43.5,null,"2015-04-01",53.5]
[null,null,null,"2015-03-31",40.5,null,"2015-03-31",48.5]
[null,null,null,"2015-03-30",47,null,"2015-03-30",47.5]
[null,null,null,"2015-03-29",37,null,"2015-03-29",35.5]
[null,null,null,"2015-03-28",36,null,"2015-03-28",28]
[null,null,null,"2015-03-27",43.5,null,"2015-03-27",26]
[null,null,null,"2015-03-26",52.5,null,"2015-03-26",36.5]
[null,null,null,"2015-03-25",38,null,"2015-03-25",38]
[null,null,null,"2015-03-24",35.5,null,"2015-03-24",28]
[null,null,null,"2015-03-23",32,null,"2015-03-23",29.5]
[null,null,null,"2015-03-22",36.5,null,"2015-03-22",30.5]
[null,null,null,"2015-03-21",38.5,null,"2015-03-21",40.5]
[null,null,null,"2015-03-20",33.5,null,"2015-03-20",44]
[null,null,null,"2015-03-19",36,null,"2015-03-19",41.5]
[null,null,null,"2015-03-18",35.5,null,"2015-03-18",39]
[null,null,null,"2015-03-17",46.5,null,"2015-03-17",36.5]
[null,null,null,"2015-03-16",43,null,"2015-03-16",57.5]
[null,null,null,"2015-03-15",41,null,"2015-03-15",45.5]
[null,null,null,"2015-03-14",44.5,null,"2015-03-14",48.5]
[null,null,null,"2015-03-13",35,null,"2015-03-13",51]
[null,null,null,"2015-03-12",42,null,"2015-03-12",42]
[null,null,null,"2015-03-11",52.5,null,"2015-03-11",40.5]
[null,null,null,"2015-03-10",43.5,null,"2015-03-10",43]
[null,null,null,"2015-03-09",43,null,"2015-03-09",37.5]
[null,null,null,"2015-03-08",39,null,"2015-03-08",34]
[null,null,null,"2015-03-07",24.5,null,"2015-03-07",34]
[null,null,null,"2015-03-06",19.5,null,"2015-03-06",13.5]
[null,null,null,"2015-03-05",30,null,"2015-03-05",9.5]
[null,null,null,"2015-03-04",39,null,"2015-03-04",20.5]
[null,null,null,"2015-03-03",27.5,null,"2015-03-03",29]
[null,null,null,"2015-03-02",33,null,"2015-03-02",23]
[null,null,null,"2015-03-01",23,null,"2015-03-01",17.5]
[null,null,null,"2015-02-28",22,null,"2015-02-28",5.5]
[null,null,null,"2015-02-27",24,null,"2015-02-27",6]
[null,null,null,"2015-02-26",24.5,null,"2015-02-26",9.5]
[null,null,null,"2015-02-25",25,null,"2015-02-25",18]
[null,null,null,"2015-02-24",13,null,"2015-02-24",16.5]
[null,null,null,"2015-02-23",22,null,"2015-02-23",4]
[null,null,null,"2015-02-22",36.5,null,"2015-02-22",15]
[null,null,null,"2015-02-21",19.5,null,"2015-02-21",24.5]
[null,null,null,"2015-02-20",10.5,null,"2015-02-20",5.5]
[null,null,null,"2015-02-19",16,null,"2015-02-19",-2]
[null,null,null,"2015-02-18",20.5,null,"2015-02-18",2.5]
[null,null,null,"2015-02-17",21,null,"2015-02-17",13.5]
[null,null,null,"2015-02-16",11.5,null,"2015-02-16",11.5]
[null,null,null,"2015-02-15",14,null,"2015-02-15",6]
[null,null,null,"2015-02-14",22,null,"2015-02-14",14]
[null,null,null,"2015-02-13",14,null,"2015-02-13",15.5]
[null,null,null,"2015-02-12",27.5,null,"2015-02-12",13]
[null,null,null,"2015-02-11",27,null,"2015-02-11",26.5]
[null,null,null,"2015-02-10",31.5,null,"2015-02-10",23.5]
[null,null,null,"2015-02-09",28,null,"2015-02-09",23]
[null,null,null,"2015-02-08",33.5,null,"2015-02-08",32]
[null,null,null,"2015-02-07",27,null,"2015-02-07",29.5]
[null,null,null,"2015-02-06",18,null,"2015-02-06",22]
[null,null,null,"2015-02-05",26,null,"2015-02-05",6.5]
[null,null,null,"2015-02-04",29,null,"2015-02-04",14.5]
[null,null,null,"2015-02-03",19,null,"2015-02-03",14]
[null,null,null,"2015-02-02",24,null,"2015-02-02",12.5]
[null,null,null,"2015-02-01",25.5,null,"2015-02-01",25]
[null,null,null,"2015-01-31",19.5,null,"2015-01-31",27.5]
[null,null,null,"2015-01-30",28,null,"2015-01-30",24]
[null,null,null,"2015-01-29",22,null,"2015-01-29",31.5]
[null,null,null,"2015-01-28",24,null,"2015-01-28",26.5]
[null,null,null,"2015-01-27",24,null,"2015-01-27",26]
[null,null,null,"2015-01-26",25,null,"2015-01-26",20.5]
[null,null,null,"2015-01-25",35.5,null,"2015-01-25",29]
[null,null,null,"2015-01-24",35,null,"2015-01-24",36]
[null,null,null,"2015-01-23",32.5,null,"2015-01-23",30]
[null,null,null,"2015-01-22",35,null,"2015-01-22",29.5]
[null,null,null,"2015-01-21",28,null,"2015-01-21",31]
[null,null,null,"2015-01-20",36.5,null,"2015-01-20",32.5]
[null,null,null,"2015-01-19",38.5,null,"2015-01-19",33]
[null,null,null,"2015-01-18",31.5,null,"2015-01-18",33.5]
[null,null,null,"2015-01-17",22.5,null,"2015-01-17",34]
[null,null,null,"2015-01-16",31.5,null,"2015-01-16",28.5]
[null,null,null,"2015-01-15",30.5,null,"2015-01-15",25.5]
[null,null,null,"2015-01-14",23,null,"2015-01-14",10]
[null,null,null,"2015-01-13",25.5,null,"2015-01-13",11]
[null,null,null,"2015-01-12",36.5,null,"2015-01-12",21.5]
[null,null,null,"2015-01-11",26.5,null,"2015-01-11",27]
[null,null,null,"2015-01-10",18.5,null,"2015-01-10",11]
[null,null,null,"2015-01-09",25,null,"2015-01-09",5.5]
[null,null,null,"2015-01-08",13.5,null,"2015-01-08",5]
[null,null,null,"2015-01-07",16.5,null,"2015-01-07",0]
[null,null,null,"2015-01-06",17,null,"2015-01-06",2.5]
[null,null,null,"2015-01-05",34,null,"2015-01-05",1.5]
[null,null,null,"2015-01-04",47.5,null,"2015-01-04",17.5]
[null,null,null,"2015-01-03",32.5,null,"2015-01-03",31.5]
[null,null,null,"2015-01-02",37.5,null,"2015-01-02",24.5]
[null,null,null,"2015-01-01",29.5,null,"2015-01-01",23]
[null,null,null,"2014-12-31",28.5,null,"2014-12-31",11]
[null,null,null,"2014-12-30",30.5,null,"2014-12-30",14.45]
[null,null,null,"2014-12-29",39,null,"2014-12-29",24.5]
[null,null,null,"2014-12-28",48.5,null,"2014-12-28",28.5]
[null,null,null,"2014-12-27",46,null,"2014-12-27",40]
[null,null,null,"2014-12-26",42.5,null,"2014-12-26",43]
[null,null,null,"2014-12-25",52.5,null,"2014-12-25",37.5]
[null,null,null,"2014-12-24",49.5,null,"2014-12-24",38]
[null,null,null,"2014-12-23",45.5,null,"2014-12-23",43]
[null,null,null,"2014-12-22",40,null,"2014-12-22",34.5]
[null,null,null,"2014-12-21",34,null,"2014-12-21",33.5]
[null,null,null,"2014-12-20",32,null,"2014-12-20",30.5]
[null,null,null,"2014-12-19",35.5,null,"2014-12-19",29.5]
[null,null,null,"2014-12-18",41,null,"2014-12-18",23.5]
[null,null,null,"2014-12-17",47.5,null,"2014-12-17",26.5]
[null,null,null,"2014-12-16",40,null,"2014-12-16",37]
[null,null,null,"2014-12-15",42,null,"2014-12-15",44]
[null,null,null,"2014-12-14",41.5,null,"2014-12-14",47.5]
[null,null,null,"2014-12-13",39.5,null,"2014-12-13",41]
[null,null,null,"2014-12-12",35.5,null,"2014-12-12",30]
[null,null,null,"2014-12-11",35,null,"2014-12-11",27.5]
[null,null,null,"2014-12-10",37.5,null,"2014-12-10",30.5]
[null,null,null,"2014-12-09",40,null,"2014-12-09",34.5]
[null,null,null,"2014-12-08",29.5,null,"2014-12-08",34.5]
[null,null,null,"2014-12-07",35,null,"2014-12-07",31]
[null,null,null,"2014-12-06",44,null,"2014-12-06",33]
[null,null,null,"2014-12-05",36,null,"2014-12-05",36]
[null,null,null,"2014-12-04",39.5,null,"2014-12-04",29]
[null,null,null,"2014-12-03",43,null,"2014-12-03",30.5]
[null,null,null,"2014-12-02",38,null,"2014-12-02",26]
[null,null,null,"2014-12-01",53.5,null,"2014-12-01",21.5]
[null,null,null,"2014-11-30",46.5,null,"2014-11-30",37]
[null,null,null,"2014-11-29",31.5,null,"2014-11-29",40]
[null,null,null,"2014-11-28",32.5,null,"2014-11-28",26]
[null,null,null,"2014-11-27",34.5,null,"2014-11-27",21]
[null,null,null,"2014-11-26",40.5,null,"2014-11-26",23]
[null,null,null,"2014-11-25",56.5,null,"2014-11-25",22]
[null,null,null,"2014-11-24",62,null,"2014-11-24",36.5]
[null,null,null,"2014-11-23",48.5,null,"2014-11-23",50]
[null,null,null,"2014-11-22",34,null,"2014-11-22",42.5]
[null,null,null,"2014-11-21",31,null,"2014-11-21",21]
[null,null,null,"2014-11-20",38.5,null,"2014-11-20",20.5]
[null,null,null,"2014-11-19",27,null,"2014-11-19",24.5]
[null,null,null,"2014-11-18",33.5,null,"2014-11-18",14]
[null,null,null,"2014-11-17",44,null,"2014-11-17",16]
[null,null,null,"2014-11-16",36.5,null,"2014-11-16",24.5]
[null,null,null,"2014-11-15",36.5,null,"2014-11-15",24]
[null,null,null,"2014-11-14",39,null,"2014-11-14",24]
[null,null,null,"2014-11-13",41.5,null,"2014-11-13",26.5]
[null,null,null,"2014-11-12",55.5,null,"2014-11-12",27.5]
[null,null,null,"2014-11-11",53.5,null,"2014-11-11",44.5]
[null,null,null,"2014-11-10",49,null,"2014-11-10",51.5]
[null,null,null,"2014-11-09",50.5,null,"2014-11-09",43.5]
[null,null,null,"2014-11-08",40.5,null,"2014-11-08",41.5]
[null,null,null,"2014-11-07",46,null,"2014-11-07",36]
[null,null,null,"2014-11-06",50.5,null,"2014-11-06",44.5]
[null,null,null,"2014-11-05",57.5,null,"2014-11-05",47]
[null,null,null,"2014-11-04",60,null,"2014-11-04",52]
[null,null,null,"2014-11-03",49.5,null,"2014-11-03",52.5]
[null,null,null,"2014-11-02",45,null,"2014-11-02",38]
[null,null,null,"2014-11-01",45,null,"2014-11-01",36]
[null,null,null,"2014-10-31",47.5,null,"2014-10-31",40]
[null,null,null,"2014-10-30",52,null,"2014-10-30",41.5]
[null,null,null,"2014-10-29",61.5,null,"2014-10-29",42.5]
[null,null,null,"2014-10-28",61.5,null,"2014-10-28",56.5]
[null,null,null,"2014-10-27",56.5,null,"2014-10-27",64]
[null,null,null,"2014-10-26",58.5,null,"2014-10-26",53]
[null,null,null,"2014-10-25",59,null,"2014-10-25",60.5]
[null,null,null,"2014-10-24",59.5,null,"2014-10-24",59.5]
[null,null,null,"2014-10-23",53,null,"2014-10-23",47.5]
[null,null,null,"2014-10-22",54,null,"2014-10-22",45.5]
[null,null,null,"2014-10-21",60,null,"2014-10-21",49]
[null,null,null,"2014-10-20",50.5,null,"2014-10-20",55.5]
[null,null,null,"2014-10-19",49.5,null,"2014-10-19",43.5]
[null,null,null,"2014-10-18",62.5,null,"2014-10-18",43]
[null,null,null,"2014-10-17",66,null,"2014-10-17",55]
[null,null,null,"2014-10-16",66,null,"2014-10-16",53]
[null,null,null,"2014-10-15",72.5,null,"2014-10-15",52.5]
[null,null,null,"2014-10-14",71,null,"2014-10-14",58.5]
[null,null,null,"2014-10-13",56.5,null,"2014-10-13",61.5]
[null,null,null,"2014-10-12",54,null,"2014-10-12",50.5]
[null,null,null,"2014-10-11",54,null,"2014-10-11",47.5]
[null,null,null,"2014-10-10",56,null,"2014-10-10",48.5]
[null,null,null,"2014-10-09",61,null,"2014-10-09",52.5]
[null,null,null,"2014-10-08",67.5,null,"2014-10-08",54.5]
[null,null,null,"2014-10-07",67,null,"2014-10-07",57]
[null,null,null,"2014-10-06",57.5,null,"2014-10-06",51.5]
[null,null,null,"2014-10-05",53,null,"2014-10-05",46]
[null,null,null,"2014-10-04",60.5,null,"2014-10-04",41]
[null,null,null,"2014-10-03",63,null,"2014-10-03",54]
[null,null,null,"2014-10-02",64.5,null,"2014-10-02",67.5]
[null,null,null,"2014-10-01",63.5,null,"2014-10-01",59.5]
[null,null,null,"2014-09-30",68,null,"2014-09-30",52.5]
[null,null,null,"2014-09-29",72,null,"2014-09-29",68]
[null,null,null,"2014-09-28",73,null,"2014-09-28",65.5]
[null,null,null,"2014-09-27",70,null,"2014-09-27",66.5]
[null,null,null,"2014-09-26",67,null,"2014-09-26",65]
[null,null,null,"2014-09-25",61.5,null,"2014-09-25",65]
[null,null,null,"2014-09-24",63.5,null,"2014-09-24",65.5]
[null,null,null,"2014-09-23",62,null,"2014-09-23",62.5]
[null,null,null,"2014-09-22",63.5,null,"2014-09-22",56.5]
[null,null,null,"2014-09-21",71,null,"2014-09-21",60]
[null,null,null,"2014-09-20",66,null,"2014-09-20",70]
[null,null,null,"2014-09-19",60,null,"2014-09-19",65.5]
[null,null,null,"2014-09-18",66,null,"2014-09-18",61.5]
[null,null,null,"2014-09-17",63.5,null,"2014-09-17",59]
[null,null,null,"2014-09-16",65,null,"2014-09-16",56]
[null,null,null,"2014-09-15",63,null,"2014-09-15",56.5]
[null,null,null,"2014-09-14",62.5,null,"2014-09-14",53.5]
[null,null,null,"2014-09-13",63.5,null,"2014-09-13",50]
[null,null,null,"2014-09-12",70.5,null,"2014-09-12",49.5]
[null,null,null,"2014-09-11",76,null,"2014-09-11",53]
[null,null,null,"2014-09-10",71,null,"2014-09-10",68]
[null,null,null,"2014-09-09",68.5,null,"2014-09-09",71]
[null,null,null,"2014-09-08",69.5,null,"2014-09-08",66]
[null,null,null,"2014-09-07",73.5,null,"2014-09-07",67]
[null,null,null,"2014-09-06",81.5,null,"2014-09-06",67.5]
[null,null,null,"2014-09-05",78.5,null,"2014-09-05",76]
[null,null,null,"2014-09-04",76,null,"2014-09-04",78]
[null,null,null,"2014-09-03",80,null,"2014-09-03",72]
[null,null,null,"2014-09-02",85,null,"2014-09-02",74.5]
[null,null,null,"2014-09-01",83,null,"2014-09-01",76.5]
[null,null,null,"2014-08-31",82,null,"2014-08-31",76.5]
[null,null,null,"2014-08-30",70,null,"2014-08-30",76.5]
[null,null,null,"2014-08-29",70,null,"2014-08-29",78.5]
[null,null,null,"2014-08-28",74,null,"2014-08-28",72]
[null,null,null,"2014-08-27",80,null,"2014-08-27",74.5]
[null,null,null,"2014-08-26",77.5,null,"2014-08-26",78]
[null,null,null,"2014-08-25",74,null,"2014-08-25",79.5]
[null,null,null,"2014-08-24",72,null,"2014-08-24",79]
[null,null,null,"2014-08-23",71,null,"2014-08-23",77]
[null,null,null,"2014-08-22",72,null,"2014-08-22",79]
[null,null,null,"2014-08-21",73,null,"2014-08-21",74.5]
[null,null,null,"2014-08-20",76,null,"2014-08-20",76]
[null,null,null,"2014-08-19",72.5,null,"2014-08-19",77.5]
[null,null,null,"2014-08-18",73.5,null,"2014-08-18",74]
[null,null,null,"2014-08-17",75.5,null,"2014-08-17",67.5]
[null,null,null,"2014-08-16",69.5,null,"2014-08-16",72]
[null,null,null,"2014-08-15",67,null,"2014-08-15",65]
[null,null,null,"2014-08-14",71.5,null,"2014-08-14",64.5]
[null,null,null,"2014-08-13",77.5,null,"2014-08-13",69.5]
[null,null,null,"2014-08-12",76,null,"2014-08-12",65.5]
[null,null,null,"2014-08-11",76.5,null,"2014-08-11",74.5]
[null,null,null,"2014-08-10",76,null,"2014-08-10",75]
[null,null,null,"2014-08-09",76.5,null,"2014-08-09",73]
[null,null,null,"2014-08-08",73,null,"2014-08-08",74]
[null,null,null,"2014-08-07",76,null,"2014-08-07",71]
[null,null,null,"2014-08-06",78.5,null,"2014-08-06",71]
[null,null,null,"2014-08-05",78.5,null,"2014-08-05",72]
[null,null,null,"2014-08-04",77.5,null,"2014-08-04",77]
[null,null,null,"2014-08-03",72.5,null,"2014-08-03",74.5]
[null,null,null,"2014-08-02",71,null,"2014-08-02",72.5]
[null,null,null,"2014-08-01",77.5,null,"2014-08-01",73.5]
[null,null,null,"2014-07-31",74.5,null,"2014-07-31",71.5]
[null,null,null,"2014-07-30",72.5,null,"2014-07-30",69]
[null,null,null,"2014-07-29",70.5,null,"2014-07-29",69.5]
[null,null,null,"2014-07-28",76,null,"2014-07-28",66]
[null,null,null,"2014-07-27",79.5,null,"2014-07-27",76]
[null,null,null,"2014-07-26",74,null,"2014-07-26",76]
[null,null,null,"2014-07-25",75.5,null,"2014-07-25",65]
[null,null,null,"2014-07-24",77,null,"2014-07-24",66]
[null,null,null,"2014-07-23",81.5,null,"2014-07-23",67]
[null,null,null,"2014-07-22",78.5,null,"2014-07-22",79.5]
[null,null,null,"2014-07-21",75.5,null,"2014-07-21",74.5]
[null,null,null,"2014-07-20",73,null,"2014-07-20",71]
[null,null,null,"2014-07-19",73,null,"2014-07-19",68.5]
[null,null,null,"2014-07-18",73.5,null,"2014-07-18",69]
[null,null,null,"2014-07-17",74.5,null,"2014-07-17",66]
[null,null,null,"2014-07-16",77,null,"2014-07-16",63.5]
[null,null,null,"2014-07-15",80,null,"2014-07-15",62.5]
[null,null,null,"2014-07-14",78.5,null,"2014-07-14",70.5]
[null,null,null,"2014-07-13",78.5,null,"2014-07-13",76.5]
[null,null,null,"2014-07-12",77,null,"2014-07-12",75]
[null,null,null,"2014-07-11",78,null,"2014-07-11",70.5]
[null,null,null,"2014-07-10",78,null,"2014-07-10",69.5]
[null,null,null,"2014-07-09",80.5,null,"2014-07-09",71]
[null,null,null,"2014-07-08",83.5,null,"2014-07-08",73.5]
[null,null,null,"2014-07-07",82.5,null,"2014-07-07",79.5]
[null,null,null,"2014-07-06",74.5,null,"2014-07-06",75]
[null,null,null,"2014-07-05",73,null,"2014-07-05",68.5]
[null,null,null,"2014-07-04",71,null,"2014-07-04",68.5]
[null,null,null,"2014-07-03",79,null,"2014-07-03",66]
[null,null,null,"2014-07-02",84.5,null,"2014-07-02",63]
[null,null,null,"2014-07-01",83,null,"2014-07-01",73.5]
[null,null,null,"2014-06-30",76,null,"2014-06-30",77]
[null,null,null,"2014-06-29",74,null,"2014-06-29",77]
[null,null,null,"2014-06-28",75.5,null,"2014-06-28",79]
[null,null,null,"2014-06-27",75,null,"2014-06-27",73.5]
[null,null,null,"2014-06-26",80,null,"2014-06-26",68.5]
[null,null,null,"2014-06-25",77.5,null,"2014-06-25",69.5]
[null,null,null,"2014-06-24",74.5,null,"2014-06-24",78.5]
[null,null,null,"2014-06-23",73,null,"2014-06-23",73.5]
[null,null,null,"2014-06-22",70.5,null,"2014-06-22",72.5]
[null,null,null,"2014-06-21",68,null,"2014-06-21",72]
[null,null,null,"2014-06-20",72,null,"2014-06-20",74]
[null,null,null,"2014-06-19",77.5,null,"2014-06-19",69]
[null,null,null,"2014-06-18",83.5,null,"2014-06-18",71.5]
[null,null,null,"2014-06-17",80.5,null,"2014-06-17",84]
[null,null,null,"2014-06-16",71,null,"2014-06-16",77.5]
[null,null,null,"2014-06-15",70.5,null,"2014-06-15",72]
[null,null,null,"2014-06-14",68.5,null,"2014-06-14",65.5]
[null,null,null,"2014-06-13",75,null,"2014-06-13",65]
[null,null,null,"2014-06-12",67,null,"2014-06-12",68.5]
[null,null,null,"2014-06-11",67.5,null,"2014-06-11",62]
[null,null,null,"2014-06-10",71.5,null,"2014-06-10",61]
[null,null,null,"2014-06-09",67.5,null,"2014-06-09",66.5]
[null,null,null,"2014-06-08",74,null,"2014-06-08",63]
[null,null,null,"2014-06-07",73.5,null,"2014-06-07",70.5]
[null,null,null,"2014-06-06",70,null,"2014-06-06",65]
[null,null,null,"2014-06-05",70,null,"2014-06-05",64]
[null,null,null,"2014-06-04",74.5,null,"2014-06-04",62.5]
[null,null,null,"2014-06-03",76,null,"2014-06-03",73.5]
[null,null,null,"2014-06-02",68.5,null,"2014-06-02",75.5]
[null,null,null,"2014-06-01",65.5,null,"2014-06-01",76.5]
[null,null,null,"2014-05-31",64.5,null,"2014-05-31",71]
[null,null,null,"2014-05-30",65.5,null,"2014-05-30",66]
[null,null,null,"2014-05-29",58,null,"2014-05-29",65]
[null,null,null,"2014-05-28",63.5,null,"2014-05-28",63.5]
[null,null,null,"2014-05-27",78,null,"2014-05-27",71.5]
[null,null,null,"2014-05-26",74,null,"2014-05-26",74]
[null,null,null,"2014-05-25",68,null,"2014-05-25",66.5]
[null,null,null,"2014-05-24",63.5,null,"2014-05-24",60.5]
[null,null,null,"2014-05-23",63,null,"2014-05-23",58.5]
[null,null,null,"2014-05-22",62.5,null,"2014-05-22",61.5]
[null,null,null,"2014-05-21",70,null,"2014-05-21",74.5]
[null,null,null,"2014-05-20",67.5,null,"2014-05-20",73.5]
[null,null,null,"2014-05-19",61.5,null,"2014-05-19",57]
[null,null,null,"2014-05-18",58.5,null,"2014-05-18",58]
[null,null,null,"2014-05-17",61.5,null,"2014-05-17",49.5]
[null,null,null,"2014-05-16",63.5,null,"2014-05-16",41.5]
[null,null,null,"2014-05-15",65.5,null,"2014-05-15",47.5]
[null,null,null,"2014-05-14",59.5,null,"2014-05-14",50]
[null,null,null,"2014-05-13",61.5,null,"2014-05-13",59.5]
[null,null,null,"2014-05-12",71.5,null,"2014-05-12",74]
[null,null,null,"2014-05-11",71,null,"2014-05-11",66.5]
[null,null,null,"2014-05-10",70,null,"2014-05-10",62]
[null,null,null,"2014-05-09",58.5,null,"2014-05-09",63.5]
[null,null,null,"2014-05-08",55.5,null,"2014-05-08",70]
[null,null,null,"2014-05-07",58,null,"2014-05-07",63]
[null,null,null,"2014-05-06",63.5,null,"2014-05-06",52]
[null,null,null,"2014-05-05",60,null,"2014-05-05",49]
[null,null,null,"2014-05-04",59.5,null,"2014-05-04",51]
[null,null,null,"2014-05-03",60,null,"2014-05-03",56.5]
[null,null,null,"2014-05-02",63,null,"2014-05-02",49.5]
[null,null,null,"2014-05-01",66,null,"2014-05-01",45.5]
[null,null,null,"2014-04-30",48.5,null,"2014-04-30",48]
[null,null,null,"2014-04-29",48,null,"2014-04-29",53]
[null,null,null,"2014-04-28",54.5,null,"2014-04-28",50]
[null,null,null,"2014-04-27",53,null,"2014-04-27",51]
[null,null,null,"2014-04-26",57.5,null,"2014-04-26",48.5]
[null,null,null,"2014-04-25",50.5,null,"2014-04-25",57.5]
[null,null,null,"2014-04-24",53,null,"2014-04-24",51.5]
[null,null,null,"2014-04-23",53.5,null,"2014-04-23",42]
[null,null,null,"2014-04-22",62,null,"2014-04-22",48.5]
[null,null,null,"2014-04-21",50.5,null,"2014-04-21",66]
[null,null,null,"2014-04-20",48,null,"2014-04-20",60]
[null,null,null,"2014-04-19",53.5,null,"2014-04-19",51.5]
[null,null,null,"2014-04-18",42.5,null,"2014-04-18",44.5]
[null,null,null,"2014-04-17",40.5,null,"2014-04-17",51]
[null,null,null,"2014-04-16",40.5,null,"2014-04-16",39]
[null,null,null,"2014-04-15",50,null,"2014-04-15",32]
[null,null,null,"2014-04-14",71,null,"2014-04-14",46.5]
[null,null,null,"2014-04-13",67,null,"2014-04-13",55.5]
[null,null,null,"2014-04-12",62,null,"2014-04-12",62]
[null,null,null,"2014-04-11",64.5,null,"2014-04-11",53.5]
[null,null,null,"2014-04-10",51,null,"2014-04-10",53.5]
[null,null,null,"2014-04-09",54.5,null,"2014-04-09",47.5]
[null,null,null,"2014-04-08",56,null,"2014-04-08",50]
[null,null,null,"2014-04-07",45.5,null,"2014-04-07",45]
[null,null,null,"2014-04-06",48.5,null,"2014-04-06",44]
[null,null,null,"2014-04-05",48.5,null,"2014-04-05",41]
[null,null,null,"2014-04-04",44,null,"2014-04-04",41]
[null,null,null,"2014-04-03",53,null,"2014-04-03",39]
[null,null,null,"2014-04-02",47,null,"2014-04-02",39.5]
[null,null,null,"2014-04-01",49,null,"2014-04-01",44.5]
[null,null,null,"2014-03-31",46.5,null,"2014-03-31",54.5]
[null,null,null,"2014-03-30",44.5,null,"2014-03-30",41]
[null,null,null,"2014-03-29",49.5,null,"2014-03-29",34.5]
[null,null,null,"2014-03-28",49,null,"2014-03-28",44.5]
[null,null,null,"2014-03-27",34,null,"2014-03-27",44.5]
[null,null,null,"2014-03-26",31,null,"2014-03-26",27]
[null,null,null,"2014-03-25",30.5,null,"2014-03-25",25.5]
[null,null,null,"2014-03-24",29,null,"2014-03-24",28]
[null,null,null,"2014-03-23",35.5,null,"2014-03-23",25.5]
[null,null,null,"2014-03-22",52.5,null,"2014-03-22",33.5]
[null,null,null,"2014-03-21",46,null,"2014-03-21",44]
[null,null,null,"2014-03-20",47.5,null,"2014-03-20",38.5]
[null,null,null,"2014-03-19",38.5,null,"2014-03-19",40]
[null,null,null,"2014-03-18",33.5,null,"2014-03-18",39.5]
[null,null,null,"2014-03-17",28.5,null,"2014-03-17",30]
[null,null,null,"2014-03-16",36,null,"2014-03-16",23]
[null,null,null,"2014-03-15",51.5,null,"2014-03-15",33.5]
[null,null,null,"2014-03-14",34.5,null,"2014-03-14",45]
[null,null,null,"2014-03-13",25,null,"2014-03-13",25]
[null,null,null,"2014-03-12",45,null,"2014-03-12",24]
[null,null,null,"2014-03-11",52.5,null,"2014-03-11",42]
[null,null,null,"2014-03-10",45.5,null,"2014-03-10",46.5]
[null,null,null,"2014-03-09",42,null,"2014-03-09",30.5]
[null,null,null,"2014-03-08",46.5,null,"2014-03-08",29.5]
[null,null,null,"2014-03-07",32,null,"2014-03-07",30]
[null,null,null,"2014-03-06",23,null,"2014-03-06",24.5]
[null,null,null,"2014-03-05",32.5,null,"2014-03-05",21]
[null,null,null,"2014-03-04",21,null,"2014-03-04",19.5]
[null,null,null,"2014-03-03",24.5,null,"2014-03-03",8.5]
[null,null,null,"2014-03-02",36,null,"2014-03-02",7.5]
[null,null,null,"2014-03-01",28.5,null,"2014-03-01",21]
[null,null,null,"2014-02-28",17,null,"2014-02-28",16.5]
[null,null,null,"2014-02-27",23.5,null,"2014-02-27",11]
[null,null,null,"2014-02-26",25.5,null,"2014-02-26",9.5]
[null,null,null,"2014-02-25",29.5,null,"2014-02-25",14]
[null,null,null,"2014-02-24",34.5,null,"2014-02-24",18.5]
[null,null,null,"2014-02-23",43.5,null,"2014-02-23",21.5]
[null,null,null,"2014-02-22",41.5,null,"2014-02-22",28]
[null,null,null,"2014-02-21",40,null,"2014-02-21",31.5]
[null,null,null,"2014-02-20",41,null,"2014-02-20",41.5]
[null,null,null,"2014-02-19",34,null,"2014-02-19",37]
[null,null,null,"2014-02-18",33.5,null,"2014-02-18",31]
[null,null,null,"2014-02-17",24,null,"2014-02-17",25.5]
[null,null,null,"2014-02-16",24.5,null,"2014-02-16",23]
[null,null,null,"2014-02-15",31.5,null,"2014-02-15",13.5]
[null,null,null,"2014-02-14",34,null,"2014-02-14",17]
[null,null,null,"2014-02-13",28.5,null,"2014-02-13",21]
[null,null,null,"2014-02-12",16,null,"2014-02-12",9.5]
[null,null,null,"2014-02-11",21,null,"2014-02-11",3]
[null,null,null,"2014-02-10",24.5,null,"2014-02-10",4.5]
[null,null,null,"2014-02-09",23,null,"2014-02-09",11.5]
[null,null,null,"2014-02-08",24,null,"2014-02-08",10.5]
[null,null,null,"2014-02-07",27,null,"2014-02-07",3.5]
[null,null,null,"2014-02-06",26,null,"2014-02-06",6]
[null,null,null,"2014-02-05",31.5,null,"2014-02-05",17]
[null,null,null,"2014-02-04",26.5,null,"2014-02-04",15.5]
[null,null,null,"2014-02-03",33,null,"2014-02-03",7.5]
[null,null,null,"2014-02-02",41.5,null,"2014-02-02",10]
[null,null,null,"2014-02-01",36,null,"2014-02-01",25.5]
[null,null,null,"2014-01-31",30.5,null,"2014-01-31",22.5]
[null,null,null,"2014-01-30",19,null,"2014-01-30",26.5]
[null,null,null,"2014-01-29",17,null,"2014-01-29",12]
[null,null,null,"2014-01-28",16,null,"2014-01-28",-4]
[null,null,null,"2014-01-27",31.5,null,"2014-01-27",-0.5]
[null,null,null,"2014-01-26",22,null,"2014-01-26",18.5]
[null,null,null,"2014-01-25",21.5,null,"2014-01-25",20]
[null,null,null,"2014-01-24",14,null,"2014-01-24",11]
[null,null,null,"2014-01-23",13,null,"2014-01-23",2.5]
[null,null,null,"2014-01-22",10.5,null,"2014-01-22",7.5]
[null,null,null,"2014-01-21",21.5,null,"2014-01-21",6.5]
[null,null,null,"2014-01-20",39.5,null,"2014-01-20",24]
[null,null,null,"2014-01-19",29.5,null,"2014-01-19",23.5]
[null,null,null,"2014-01-18",33.5,null,"2014-01-18",14]
[null,null,null,"2014-01-17",36.5,null,"2014-01-17",16]
[null,null,null,"2014-01-16",38.5,null,"2014-01-16",26.5]
[null,null,null,"2014-01-15",39,null,"2014-01-15",18.5]
[null,null,null,"2014-01-14",44.5,null,"2014-01-14",28.5]
[null,null,null,"2014-01-13",42,null,"2014-01-13",36]
[null,null,null,"2014-01-12",43.5,null,"2014-01-12",36]
[null,null,null,"2014-01-11",48,null,"2014-01-11",35.5]
[null,null,null,"2014-01-10",30.5,null,"2014-01-10",33.5]
[null,null,null,"2014-01-09",26.5,null,"2014-01-09",11.5]
[null,null,null,"2014-01-08",15,null,"2014-01-08",5.5]
[null,null,null,"2014-01-07",9.5,null,"2014-01-07",-4.5]
[null,null,null,"2014-01-06",37,null,"2014-01-06",-9]
[null,null,null,"2014-01-05",31,null,"2014-01-05",13]
[null,null,null,"2014-01-04",15.5,null,"2014-01-04",25]
[null,null,null,"2014-01-03",13.5,null,"2014-01-03",4]
[null,null,null,"2014-01-02",24,null,"2014-01-02",10]
[null,null,null,"2014-01-01",27,null,"2014-01-01",16]
[null,null,null,"2013-12-31",25.95,null,"2013-12-31",6.95]
[null,null,null,"2013-12-30",34.5,null,"2013-12-30",6.95]
[null,null,null,"2013-12-29",42,null,"2013-12-29",25.5]
[null,null,null,"2013-12-28",41.5,null,"2013-12-28",41.55]
[null,null,null,"2013-12-27",35.049999999999997,null,"2013-12-27",31]
[null,null,null,"2013-12-26",31.48,null,"2013-12-26",24]
[null,null,null,"2013-12-25",24.5,null,"2013-12-25",22.5]
[null,null,null,"2013-12-24",34.5,null,"2013-12-24",7.97]
[null,null,null,"2013-12-23",52,null,"2013-12-23",12.5]
[null,null,null,"2013-12-22",64,null,"2013-12-22",29.04]
[null,null,null,"2013-12-21",53,null,"2013-12-21",32.549999999999997]
[null,null,null,"2013-12-20",41.55,null,"2013-12-20",34.549999999999997]
[null,null,null,"2013-12-19",33.549999999999997,null,"2013-12-19",36.06]
[null,null,null,"2013-12-18",29,null,"2013-12-18",25]
[null,null,null,"2013-12-17",26.5,null,"2013-12-17",24.55]
[null,null,null,"2013-12-16",27.5,null,"2013-12-16",14]
[null,null,null,"2013-12-15",34.5,null,"2013-12-15",16]
[null,null,null,"2013-12-14",26,null,"2013-12-14",26.5]
[null,null,null,"2013-12-13",26,null,"2013-12-13",22.5]
[null,null,null,"2013-12-12",24,null,"2013-12-12",8]
[null,null,null,"2013-12-11",28,null,"2013-12-11",11]
[null,null,null,"2013-12-10",31,null,"2013-12-10",7.5]
[null,null,null,"2013-12-09",34,null,"2013-12-09",12.5]
[null,null,null,"2013-12-08",30.55,null,"2013-12-08",20.5]
[null,null,null,"2013-12-07",36.5,null,"2013-12-07",14.54]
[null,null,null,"2013-12-06",49.5,null,"2013-12-06",17]
[null,null,null,"2013-12-05",52.95,null,"2013-12-05",30]
[null,null,null,"2013-12-04",43.5,null,"2013-12-04",47.5]
[null,null,null,"2013-12-03",45.5,null,"2013-12-03",43.5]
[null,null,null,"2013-12-02",44.52,null,"2013-12-02",36.590000000000003]
[null,null,null,"2013-12-01",41.54,null,"2013-12-01",35.520000000000003]
[null,null,null,"2013-11-30",30.45,null,"2013-11-30",39.47]
[null,null,null,"2013-11-29",34,null,"2013-11-29",25.5]
[null,null,null,"2013-11-28",32.99,null,"2013-11-28",26.5]
[null,null,null,"2013-11-27",48,null,"2013-11-27",20.92]
[null,null,null,"2013-11-26",42.5,null,"2013-11-26",25.53]
[null,null,null,"2013-11-25",29.02,null,"2013-11-25",26.42]
[null,null,null,"2013-11-24",27,null,"2013-11-24",19.05]
[null,null,null,"2013-11-23",42,null,"2013-11-23",21]
[null,null,null,"2013-11-22",52.97,null,"2013-11-22",35]
[null,null,null,"2013-11-21",39.049999999999997,null,"2013-11-21",46.05]
[null,null,null,"2013-11-20",37.51,null,"2013-11-20",36.5]
[null,null,null,"2013-11-19",43.5,null,"2013-11-19",33.54]
[null,null,null,"2013-11-18",58.5,null,"2013-11-18",36.5]
[null,null,null,"2013-11-17",54,null,"2013-11-17",56]
[null,null,null,"2013-11-16",51.54,null,"2013-11-16",51.53]
[null,null,null,"2013-11-15",46.05,null,"2013-11-15",43.95]
[null,null,null,"2013-11-14",42.98,null,"2013-11-14",40.46]
[null,null,null,"2013-11-13",34.5,null,"2013-11-13",30]
[null,null,null,"2013-11-12",40.56,null,"2013-11-12",27.5]
[null,null,null,"2013-11-11",45.5,null,"2013-11-11",35.96]
[null,null,null,"2013-11-10",49.5,null,"2013-11-10",42]
[null,null,null,"2013-11-09",43.55,null,"2013-11-09",49.5]
[null,null,null,"2013-11-08",45,null,"2013-11-08",38]
[null,null,null,"2013-11-07",53,null,"2013-11-07",37.049999999999997]
[null,null,null,"2013-11-06",53,null,"2013-11-06",46]
[null,null,null,"2013-11-05",45,null,"2013-11-05",52.52]
[null,null,null,"2013-11-04",39.47,null,"2013-11-04",50]
[null,null,null,"2013-11-03",44.53,null,"2013-11-03",43.07]
[null,null,null,"2013-11-02",59.99,null,"2013-11-02",43.07]
[null,null,null,"2013-11-01",65.05,null,"2013-11-01",45.5]
[null,null,null,"2013-10-31",60,null,"2013-10-31",55]
[null,null,null,"2013-10-30",52.09,null,"2013-10-30",53]
[null,null,null,"2013-10-29",49.55,null,"2013-10-29",49.55]
[null,null,null,"2013-10-28",50,null,"2013-10-28",44]
[null,null,null,"2013-10-27",50.45,null,"2013-10-27",41.47]
[null,null,null,"2013-10-26",45.05,null,"2013-10-26",46.02]
[null,null,null,"2013-10-25",46.04,null,"2013-10-25",40]
[null,null,null,"2013-10-24",48.02,null,"2013-10-24",37.49]
[null,null,null,"2013-10-23",50.45,null,"2013-10-23",39]
[null,null,null,"2013-10-22",57.47,null,"2013-10-22",35.5]
[null,null,null,"2013-10-21",55,null,"2013-10-21",44.06]
[null,null,null,"2013-10-20",55,null,"2013-10-20",48.55]
[null,null,null,"2013-10-19",55,null,"2013-10-19",48]
[null,null,null,"2013-10-18",62.5,null,"2013-10-18",44.5]
[null,null,null,"2013-10-17",68,null,"2013-10-17",46.5]
[null,null,null,"2013-10-16",60.95,null,"2013-10-16",50.5]
[null,null,null,"2013-10-15",60.55,null,"2013-10-15",56.5]
[null,null,null,"2013-10-14",58,null,"2013-10-14",52]
[null,null,null,"2013-10-13",61,null,"2013-10-13",54]
[null,null,null,"2013-10-12",66,null,"2013-10-12",59.5]
[null,null,null,"2013-10-11",64.05,null,"2013-10-11",63.5]
[null,null,null,"2013-10-10",58.05,null,"2013-10-10",60]
[null,null,null,"2013-10-09",57.05,null,"2013-10-09",59.45]
[null,null,null,"2013-10-08",61,null,"2013-10-08",59]
[null,null,null,"2013-10-07",69.5,null,"2013-10-07",56.5]
[null,null,null,"2013-10-06",67.5,null,"2013-10-06",54.5]
[null,null,null,"2013-10-05",70.5,null,"2013-10-05",70.5]
[null,null,null,"2013-10-04",76,null,"2013-10-04",69.44]
[null,null,null,"2013-10-03",72,null,"2013-10-03",69]
[null,null,null,"2013-10-02",72,null,"2013-10-02",69]
[null,null,null,"2013-10-01",68.5,null,"2013-10-01",70.55]
[null,null,null,"2013-09-30",63.5,null,"2013-09-30",60.44]
[null,null,null,"2013-09-29",62.06,null,"2013-09-29",59.54]
[null,null,null,"2013-09-28",64.45,null,"2013-09-28",69.5]
[null,null,null,"2013-09-27",62,null,"2013-09-27",66.5]
[null,null,null,"2013-09-26",62.05,null,"2013-09-26",62.5]
[null,null,null,"2013-09-25",62.51,null,"2013-09-25",60.5]
[null,null,null,"2013-09-24",61.5,null,"2013-09-24",59.55]
[null,null,null,"2013-09-23",59,null,"2013-09-23",56.48]
[null,null,null,"2013-09-22",63,null,"2013-09-22",58]
[null,null,null,"2013-09-21",68.56,null,"2013-09-21",59.5]
[null,null,null,"2013-09-20",66.02,null,"2013-09-20",67]
[null,null,null,"2013-09-19",63.5,null,"2013-09-19",76.5]
[null,null,null,"2013-09-18",61,null,"2013-09-18",70.52]
[null,null,null,"2013-09-17",57.02,null,"2013-09-17",60]
[null,null,null,"2013-09-16",64.5,null,"2013-09-16",57.56]
[null,null,null,"2013-09-15",60.95,null,"2013-09-15",59]
[null,null,null,"2013-09-14",61,null,"2013-09-14",59.55]
[null,null,null,"2013-09-13",69,null,"2013-09-13",59.45]
[null,null,null,"2013-09-12",78.5,null,"2013-09-12",72]
[null,null,null,"2013-09-11",85.54,null,"2013-09-11",83]
[null,null,null,"2013-09-10",78.5,null,"2013-09-10",86]
[null,null,null,"2013-09-09",62.5,null,"2013-09-09",80.95]
[null,null,null,"2013-09-08",71.5,null,"2013-09-08",74]
[null,null,null,"2013-09-07",66,null,"2013-09-07",76.5]
[null,null,null,"2013-09-06",64,null,"2013-09-06",71.5]
[null,null,null,"2013-09-05",70.5,null,"2013-09-05",66.5]
[null,null,null,"2013-09-04",73.040000000000006,null,"2013-09-04",71.510000000000005]
[null,null,null,"2013-09-03",76.55,null,"2013-09-03",67]
[null,null,null,"2013-09-02",78,null,"2013-09-02",69.5]
[null,null,null,"2013-09-01",78.53,null,"2013-09-01",75]
[null,null,null,"2013-08-31",80,null,"2013-08-31",74.569999999999993]
[null,null,null,"2013-08-30",78,null,"2013-08-30",81.510000000000005]
[null,null,null,"2013-08-29",76,null,"2013-08-29",77.540000000000006]
[null,null,null,"2013-08-28",78.5,null,"2013-08-28",77]
[null,null,null,"2013-08-27",81,null,"2013-08-27",86.54]
[null,null,null,"2013-08-26",76.5,null,"2013-08-26",80.959999999999994]
[null,null,null,"2013-08-25",72.05,null,"2013-08-25",77]
[null,null,null,"2013-08-24",71,null,"2013-08-24",73.040000000000006]
[null,null,null,"2013-08-23",76,null,"2013-08-23",72]
[null,null,null,"2013-08-22",75,null,"2013-08-22",73.05]
[null,null,null,"2013-08-21",79.5,null,"2013-08-21",79]
[null,null,null,"2013-08-20",77,null,"2013-08-20",77.010000000000005]
[null,null,null,"2013-08-19",71.5,null,"2013-08-19",70.95]
[null,null,null,"2013-08-18",71.5,null,"2013-08-18",70]
[null,null,null,"2013-08-17",72.5,null,"2013-08-17",68.989999999999995]
[null,null,null,"2013-08-16",69.5,null,"2013-08-16",68.540000000000006]
[null,null,null,"2013-08-15",69,null,"2013-08-15",65]
[null,null,null,"2013-08-14",68.5,null,"2013-08-14",64]
[null,null,null,"2013-08-13",74.5,null,"2013-08-13",63.95]
[null,null,null,"2013-08-12",76.5,null,"2013-08-12",74.48]
[null,null,null,"2013-08-11",73.489999999999995,null,"2013-08-11",70.52]
[null,null,null,"2013-08-10",76.459999999999994,null,"2013-08-10",72.5]
[null,null,null,"2013-08-09",80.95,null,"2013-08-09",70.5]
[null,null,null,"2013-08-08",77,null,"2013-08-08",71.5]
[null,null,null,"2013-08-07",74.5,null,"2013-08-07",78]
[null,null,null,"2013-08-06",71,null,"2013-08-06",75]
[null,null,null,"2013-08-05",71,null,"2013-08-05",66.5]
[null,null,null,"2013-08-04",73,null,"2013-08-04",67.5]
[null,null,null,"2013-08-03",74.599999999999994,null,"2013-08-03",72.5]
[null,null,null,"2013-08-02",77,null,"2013-08-02",73]
[null,null,null,"2013-08-01",71.5,null,"2013-08-01",71]
[null,null,null,"2013-07-31",74.47,null,"2013-07-31",68.45]
[null,null,null,"2013-07-30",74,null,"2013-07-30",65.45]
[null,null,null,"2013-07-29",78.5,null,"2013-07-29",66.5]
[null,null,null,"2013-07-28",74.5,null,"2013-07-28",61.52]
[null,null,null,"2013-07-27",75.5,null,"2013-07-27",60]
[null,null,null,"2013-07-26",75.45,null,"2013-07-26",66]
[null,null,null,"2013-07-25",66,null,"2013-07-25",69]
[null,null,null,"2013-07-24",76,null,"2013-07-24",66.040000000000006]
[null,null,null,"2013-07-23",82,null,"2013-07-23",70.5]
[null,null,null,"2013-07-22",81,null,"2013-07-22",79]
[null,null,null,"2013-07-21",82.5,null,"2013-07-21",78]
[null,null,null,"2013-07-20",87,null,"2013-07-20",80]
[null,null,null,"2013-07-19",91,null,"2013-07-19",83.5]
[null,null,null,"2013-07-18",90.05,null,"2013-07-18",86]
[null,null,null,"2013-07-17",86.45,null,"2013-07-17",84.9]
[null,null,null,"2013-07-16",87,null,"2013-07-16",82.5]
[null,null,null,"2013-07-15",87,null,"2013-07-15",80.099999999999994]
[null,null,null,"2013-07-14",84.5,null,"2013-07-14",80]
[null,null,null,"2013-07-13",76,null,"2013-07-13",73]
[null,null,null,"2013-07-12",74.5,null,"2013-07-12",70.5]
[null,null,null,"2013-07-11",81.5,null,"2013-07-11",72.5]
[null,null,null,"2013-07-10",82,null,"2013-07-10",75.5]
[null,null,null,"2013-07-09",81.5,null,"2013-07-09",79]
[null,null,null,"2013-07-08",82,null,"2013-07-08",78]
[null,null,null,"2013-07-07",86.5,null,"2013-07-07",79]
[null,null,null,"2013-07-06",86,null,"2013-07-06",74]
[null,null,null,"2013-07-05",84,null,"2013-07-05",73]
[null,null,null,"2013-07-04",83.5,null,"2013-07-04",69.45]
[null,null,null,"2013-07-03",80.5,null,"2013-07-03",65.5]
[null,null,null,"2013-07-02",80,null,"2013-07-02",64]
[null,null,null,"2013-07-01",76,null,"2013-07-01",67]
[null,null,null,"2013-06-30",79.5,null,"2013-06-30",69.53]
[null,null,null,"2013-06-29",77.5,null,"2013-06-29",68]
[null,null,null,"2013-06-28",81.5,null,"2013-06-28",75]
[null,null,null,"2013-06-27",80.5,null,"2013-06-27",77]
[null,null,null,"2013-06-26",81,null,"2013-06-26",73]
[null,null,null,"2013-06-25",82,null,"2013-06-25",76]
[null,null,null,"2013-06-24",84.5,null,"2013-06-24",78]
[null,null,null,"2013-06-23",78,null,"2013-06-23",76.55]
[null,null,null,"2013-06-22",73,null,"2013-06-22",73.5]
[null,null,null,"2013-06-21",72,null,"2013-06-21",75]
[null,null,null,"2013-06-20",69.55,null,"2013-06-20",71]
[null,null,null,"2013-06-19",69,null,"2013-06-19",64]
[null,null,null,"2013-06-18",74,null,"2013-06-18",63.5]
[null,null,null,"2013-06-17",77,null,"2013-06-17",73.5]
[null,null,null,"2013-06-16",72.5,null,"2013-06-16",77.55]
[null,null,null,"2013-06-15",70.5,null,"2013-06-15",69]
[null,null,null,"2013-06-14",63.5,null,"2013-06-14",67]
[null,null,null,"2013-06-13",62,null,"2013-06-13",65.5]
[null,null,null,"2013-06-12",73.5,null,"2013-06-12",74.5]
[null,null,null,"2013-06-11",74.5,null,"2013-06-11",71.5]
[null,null,null,"2013-06-10",68.5,null,"2013-06-10",68]
[null,null,null,"2013-06-09",72.5,null,"2013-06-09",67.5]
[null,null,null,"2013-06-08",68.5,null,"2013-06-08",61.5]
[null,null,null,"2013-06-07",62.5,null,"2013-06-07",60]
[null,null,null,"2013-06-06",65,null,"2013-06-06",58.05]
[null,null,null,"2013-06-05",63,null,"2013-06-05",63.5]
[null,null,null,"2013-06-04",67.5,null,"2013-06-04",61]
[null,null,null,"2013-06-03",73,null,"2013-06-03",55.5]
[null,null,null,"2013-06-02",80,null,"2013-06-02",53]
[null,null,null,"2013-06-01",82.5,null,"2013-06-01",69.5]
[null,null,null,"2013-05-31",83,null,"2013-05-31",70.5]
[null,null,null,"2013-05-30",82.5,null,"2013-05-30",73.5]
[null,null,null,"2013-05-29",74.5,null,"2013-05-29",74]
[null,null,null,"2013-05-28",61.5,null,"2013-05-28",66]
[null,null,null,"2013-05-27",61,null,"2013-05-27",57.5]
[null,null,null,"2013-05-26",59.55,null,"2013-05-26",56]
[null,null,null,"2013-05-25",52,null,"2013-05-25",50.5]
[null,null,null,"2013-05-24",58,null,"2013-05-24",49]
[null,null,null,"2013-05-23",76,null,"2013-05-23",48.05]
[null,null,null,"2013-05-22",71.5,null,"2013-05-22",62.5]
[null,null,null,"2013-05-21",77,null,"2013-05-21",72.5]
[null,null,null,"2013-05-20",70,null,"2013-05-20",77]
[null,null,null,"2013-05-19",57.45,null,"2013-05-19",71.95]
[null,null,null,"2013-05-18",60.5,null,"2013-05-18",68]
[null,null,null,"2013-05-17",67.55,null,"2013-05-17",62.5]
[null,null,null,"2013-05-16",71.5,null,"2013-05-16",68]
[null,null,null,"2013-05-15",61,null,"2013-05-15",72]
[null,null,null,"2013-05-14",53,null,"2013-05-14",70.55]
[null,null,null,"2013-05-13",51.95,null,"2013-05-13",50]
[null,null,null,"2013-05-12",59.5,null,"2013-05-12",46]
[null,null,null,"2013-05-11",68,null,"2013-05-11",51.5]
[null,null,null,"2013-05-10",68,null,"2013-05-10",45.5]
[null,null,null,"2013-05-09",64,null,"2013-05-09",60.5]
[null,null,null,"2013-05-08",63,null,"2013-05-08",63.5]
[null,null,null,"2013-05-07",61,null,"2013-05-07",61.5]
[null,null,null,"2013-05-06",56.45,null,"2013-05-06",60.5]
[null,null,null,"2013-05-05",52.4,null,"2013-05-05",58.45]
[null,null,null,"2013-05-04",54.5,null,"2013-05-04",59.53]
[null,null,null,"2013-05-03",55.5,null,"2013-05-03",44]
[null,null,null,"2013-05-02",57.5,null,"2013-05-02",49]
[null,null,null,"2013-05-01",54.05,null,"2013-05-01",70]
[null,null,null,"2013-04-30",58.02,null,"2013-04-30",73]
[null,null,null,"2013-04-29",55,null,"2013-04-29",60.5]
[null,null,null,"2013-04-28",57.5,null,"2013-04-28",57]
[null,null,null,"2013-04-27",56.5,null,"2013-04-27",55.5]
[null,null,null,"2013-04-26",56,null,"2013-04-26",50.5]
[null,null,null,"2013-04-25",57.5,null,"2013-04-25",44.5]
[null,null,null,"2013-04-24",56.5,null,"2013-04-24",43.5]
[null,null,null,"2013-04-23",47,null,"2013-04-23",48.5]
[null,null,null,"2013-04-22",48,null,"2013-04-22",52.43]
[null,null,null,"2013-04-21",45.5,null,"2013-04-21",41.45]
[null,null,null,"2013-04-20",52.5,null,"2013-04-20",38.92]
[null,null,null,"2013-04-19",65,null,"2013-04-19",36.5]
[null,null,null,"2013-04-18",54.5,null,"2013-04-18",51]
[null,null,null,"2013-04-17",63,null,"2013-04-17",45.5]
[null,null,null,"2013-04-16",56.5,null,"2013-04-16",49]
[null,null,null,"2013-04-15",51,null,"2013-04-15",55]
[null,null,null,"2013-04-14",53,null,"2013-04-14",53.5]
[null,null,null,"2013-04-13",50,null,"2013-04-13",39.47]
[null,null,null,"2013-04-12",45.5,null,"2013-04-12",41]
[null,null,null,"2013-04-11",54.5,null,"2013-04-11",42]
[null,null,null,"2013-04-10",64.5,null,"2013-04-10",39.5]
[null,null,null,"2013-04-09",68,null,"2013-04-09",47]
[null,null,null,"2013-04-08",59.55,null,"2013-04-08",52.52]
[null,null,null,"2013-04-07",49,null,"2013-04-07",49.5]
[null,null,null,"2013-04-06",45,null,"2013-04-06",52.98]
[null,null,null,"2013-04-05",53.5,null,"2013-04-05",40.5]
[null,null,null,"2013-04-04",42.44,null,"2013-04-04",41.55]
[null,null,null,"2013-04-03",40,null,"2013-04-03",34.5]
[null,null,null,"2013-04-02",39,null,"2013-04-02",34.97]
[null,null,null,"2013-04-01",50.95,null,"2013-04-01",35]
[null,null,null,"2013-03-31",47,null,"2013-03-31",47.45]
[null,null,null,"2013-03-30",49.5,null,"2013-03-30",43.5]
[null,null,null,"2013-03-29",47,null,"2013-03-29",43.5]
[null,null,null,"2013-03-28",43.5,null,"2013-03-28",39.5]
[null,null,null,"2013-03-27",45.5,null,"2013-03-27",36.5]
[null,null,null,"2013-03-26",44.5,null,"2013-03-26",35.96]
[null,null,null,"2013-03-25",37.51,null,"2013-03-25",35]
[null,null,null,"2013-03-24",39.450000000000003,null,"2013-03-24",34.5]
[null,null,null,"2013-03-23",39,null,"2013-03-23",33]
[null,null,null,"2013-03-22",35.5,null,"2013-03-22",30.5]
[null,null,null,"2013-03-21",36,null,"2013-03-21",23.55]
[null,null,null,"2013-03-20",39.5,null,"2013-03-20",19.5]
[null,null,null,"2013-03-19",41,null,"2013-03-19",24.55]
[null,null,null,"2013-03-18",30.5,null,"2013-03-18",28.06]
[null,null,null,"2013-03-17",33.950000000000003,null,"2013-03-17",30.5]
[null,null,null,"2013-03-16",37.5,null,"2013-03-16",32.5]
[null,null,null,"2013-03-15",38.5,null,"2013-03-15",35.5]
[null,null,null,"2013-03-14",37,null,"2013-03-14",30]
[null,null,null,"2013-03-13",45,null,"2013-03-13",27.5]
[null,null,null,"2013-03-12",51,null,"2013-03-12",31.5]
[null,null,null,"2013-03-11",46.05,null,"2013-03-11",40.5]
[null,null,null,"2013-03-10",38,null,"2013-03-10",45.05]
[null,null,null,"2013-03-09",44.95,null,"2013-03-09",37]
[null,null,null,"2013-03-08",36,null,"2013-03-08",29.5]
[null,null,null,"2013-03-07",36.950000000000003,null,"2013-03-07",33]
[null,null,null,"2013-03-06",40.5,null,"2013-03-06",31]
[null,null,null,"2013-03-05",40.450000000000003,null,"2013-03-05",31]
[null,null,null,"2013-03-04",35.5,null,"2013-03-04",26]
[null,null,null,"2013-03-03",34.950000000000003,null,"2013-03-03",24.55]
[null,null,null,"2013-03-02",35.950000000000003,null,"2013-03-02",24]
[null,null,null,"2013-03-01",40.5,null,"2013-03-01",27.5]
[null,null,null,"2013-02-28",44.5,null,"2013-02-28",31]
[null,null,null,"2013-02-27",44,null,"2013-02-27",33]
[null,null,null,"2013-02-26",38.049999999999997,null,"2013-02-26",34]
[null,null,null,"2013-02-25",38,null,"2013-02-25",31.5]
[null,null,null,"2013-02-24",42.5,null,"2013-02-24",28]
[null,null,null,"2013-02-23",40.5,null,"2013-02-23",25]
[null,null,null,"2013-02-22",31,null,"2013-02-22",29.05]
[null,null,null,"2013-02-21",30.05,null,"2013-02-21",25.5]
[null,null,null,"2013-02-20",31.5,null,"2013-02-20",16]
[null,null,null,"2013-02-19",40,null,"2013-02-19",21]
[null,null,null,"2013-02-18",27.05,null,"2013-02-18",39.5]
[null,null,null,"2013-02-17",26,null,"2013-02-17",19.45]
[null,null,null,"2013-02-16",36,null,"2013-02-16",16]
[null,null,null,"2013-02-15",44.5,null,"2013-02-15",26.5]
[null,null,null,"2013-02-14",40,null,"2013-02-14",36]
[null,null,null,"2013-02-13",37.5,null,"2013-02-13",31.45]
[null,null,null,"2013-02-12",41,null,"2013-02-12",25]
[null,null,null,"2013-02-11",37.5,null,"2013-02-11",36.950000000000003]
[null,null,null,"2013-02-10",25,null,"2013-02-10",39.450000000000003]
[null,null,null,"2013-02-09",27,null,"2013-02-09",26]
[null,null,null,"2013-02-08",32,null,"2013-02-08",28]
[null,null,null,"2013-02-07",29.05,null,"2013-02-07",32.450000000000003]
[null,null,null,"2013-02-06",35.5,null,"2013-02-06",23.5]
[null,null,null,"2013-02-05",29.5,null,"2013-02-05",18.5]
[null,null,null,"2013-02-04",27,null,"2013-02-04",20.5]
[null,null,null,"2013-02-03",27.5,null,"2013-02-03",15]
[null,null,null,"2013-02-02",24.5,null,"2013-02-02",15.5]
[null,null,null,"2013-02-01",29,null,"2013-02-01",7]
[null,null,null,"2013-01-31",46,null,"2013-01-31",13.5]
[null,null,null,"2013-01-30",53,null,"2013-01-30",32.549999999999997]
[null,null,null,"2013-01-29",43.5,null,"2013-01-29",51.1]
[null,null,null,"2013-01-28",30,null,"2013-01-28",42.6]
[null,null,null,"2013-01-27",26,null,"2013-01-27",30]
[null,null,null,"2013-01-26",20.5,null,"2013-01-26",20.55]
[null,null,null,"2013-01-25",18,null,"2013-01-25",23.5]
[null,null,null,"2013-01-24",18.05,null,"2013-01-24",13]
[null,null,null,"2013-01-23",16,null,"2013-01-23",16.5]
[null,null,null,"2013-01-22",20.5,null,"2013-01-22",5]
[null,null,null,"2013-01-21",29.05,null,"2013-01-21",10.050000000000001]
[null,null,null,"2013-01-20",43,null,"2013-01-20",20.55]
[null,null,null,"2013-01-19",40,null,"2013-01-19",37.5]
[null,null,null,"2013-01-18",31.5,null,"2013-01-18",31]
[null,null,null,"2013-01-17",41,null,"2013-01-17",26.5]
[null,null,null,"2013-01-16",34.5,null,"2013-01-16",26]
[null,null,null,"2013-01-15",38,null,"2013-01-15",21.5]
[null,null,null,"2013-01-14",49.5,null,"2013-01-14",18.5]
[null,null,null,"2013-01-13",46,null,"2013-01-13",22]
[null,null,null,"2013-01-12",46,null,"2013-01-12",41.5]
[null,null,null,"2013-01-11",40,null,"2013-01-11",47]
[null,null,null,"2013-01-10",43.5,null,"2013-01-10",33.5]
[null,null,null,"2013-01-09",41,null,"2013-01-09",38.5]
[null,null,null,"2013-01-08",38.5,null,"2013-01-08",33]
[null,null,null,"2013-01-07",39,null,"2013-01-07",28]
[null,null,null,"2013-01-06",40.5,null,"2013-01-06",27]
[null,null,null,"2013-01-05",37.5,null,"2013-01-05",28.5]
[null,null,null,"2013-01-04",34,null,"2013-01-04",24.5]
[null,null,null,"2013-01-03",30,null,"2013-01-03",23.5]
[null,null,null,"2013-01-02",29.5,null,"2013-01-02",20]
[null,null,null,"2013-01-01",34,null,"2013-01-01",18]
[null,null,null,"2012-12-31",32,null,"2012-12-31",27.5]
[null,null,null,"2012-12-30",31.5,null,"2012-12-30",23.5]
[null,null,null,"2012-12-29",30,null,"2012-12-29",26]
[null,null,null,"2012-12-28",33.5,null,"2012-12-28",30.5]
[null,null,null,"2012-12-27",35,null,"2012-12-27",30.5]
[null,null,null,"2012-12-26",34,null,"2012-12-26",30.5]
[null,null,null,"2012-12-25",37,null,"2012-12-25",29]
[null,null,null,"2012-12-24",33.5,null,"2012-12-24",31]
[null,null,null,"2012-12-23",38.5,null,"2012-12-23",27.5]
[null,null,null,"2012-12-22",37.5,null,"2012-12-22",24.5]
[null,null,null,"2012-12-21",46.5,null,"2012-12-21",26.5]
[null,null,null,"2012-12-20",40,null,"2012-12-20",41]
[null,null,null,"2012-12-19",44,null,"2012-12-19",37.5]
[null,null,null,"2012-12-18",50,null,"2012-12-18",36]
[null,null,null,"2012-12-17",42.5,null,"2012-12-17",35]
[null,null,null,"2012-12-16",47,null,"2012-12-16",43.5]
[null,null,null,"2012-12-15",40,null,"2012-12-15",43.5]
[null,null,null,"2012-12-14",39.5,null,"2012-12-14",38]
[null,null,null,"2012-12-13",39,null,"2012-12-13",40.5]
[null,null,null,"2012-12-12",40,null,"2012-12-12",37]
[null,null,null,"2012-12-11",49,null,"2012-12-11",29]
[null,null,null,"2012-12-10",51,null,"2012-12-10",34.5]
[null,null,null,"2012-12-09",45.5,null,"2012-12-09",38]
[null,null,null,"2012-12-08",46,null,"2012-12-08",39]
[null,null,null,"2012-12-07",37.5,null,"2012-12-07",43.5]
[null,null,null,"2012-12-06",36,null,"2012-12-06",39]
[null,null,null,"2012-12-05",46,null,"2012-12-05",33.5]
[null,null,null,"2012-12-04",53.5,null,"2012-12-04",48.5]
[null,null,null,"2012-12-03",53.5,null,"2012-12-03",58]
[null,null,null,"2012-12-02",46,null,"2012-12-02",53.5]
[null,null,null,"2012-12-01",39,null,"2012-12-01",44]
[null,null,null,"2012-11-30",39,null,"2012-11-30",43.5]
[null,null,null,"2012-11-29",37,null,"2012-11-29",42]
[null,null,null,"2012-11-28",37.5,null,"2012-11-28",35.5]
[null,null,null,"2012-11-27",36.5,null,"2012-11-27",25]
[null,null,null,"2012-11-26",40,null,"2012-11-26",29.5]
[null,null,null,"2012-11-25",37.5,null,"2012-11-25",36]
[null,null,null,"2012-11-24",42.5,null,"2012-11-24",28]
[null,null,null,"2012-11-23",47,null,"2012-11-23",35]
[null,null,null,"2012-11-22",46.5,null,"2012-11-22",52.5]
[null,null,null,"2012-11-21",45,null,"2012-11-21",44]
[null,null,null,"2012-11-20",43,null,"2012-11-20",49]
[null,null,null,"2012-11-19",42,null,"2012-11-19",47.5]
[null,null,null,"2012-11-18",41.5,null,"2012-11-18",44]
[null,null,null,"2012-11-17",43,null,"2012-11-17",40.5]
[null,null,null,"2012-11-16",42,null,"2012-11-16",40.5]
[null,null,null,"2012-11-15",40,null,"2012-11-15",39]
[null,null,null,"2012-11-14",42,null,"2012-11-14",37]
[null,null,null,"2012-11-13",51,null,"2012-11-13",32.5]
[null,null,null,"2012-11-12",56.5,null,"2012-11-12",34.5]
[null,null,null,"2012-11-11",54,null,"2012-11-11",55]
[null,null,null,"2012-11-10",47,null,"2012-11-10",58]
[null,null,null,"2012-11-09",46,null,"2012-11-09",44.5]
[null,null,null,"2012-11-08",41,null,"2012-11-08",40]
[null,null,null,"2012-11-07",36,null,"2012-11-07",43.5]
[null,null,null,"2012-11-06",36,null,"2012-11-06",35.5]
[null,null,null,"2012-11-05",41.5,null,"2012-11-05",38]
[null,null,null,"2012-11-04",45.5,null,"2012-11-04",40]
[null,null,null,"2012-11-03",46.5,null,"2012-11-03",40.5]
[null,null,null,"2012-11-02",48,null,"2012-11-02",41]
[null,null,null,"2012-11-01",47,null,"2012-11-01",44]
[null,null,null,"2012-10-31",46.5,null,"2012-10-31",42]
[null,null,null,"2012-10-30",52.5,null,"2012-10-30",43.5]
[null,null,null,"2012-10-29",59,null,"2012-10-29",43.5]
[null,null,null,"2012-10-28",58,null,"2012-10-28",43.5]
[null,null,null,"2012-10-27",63,null,"2012-10-27",41]
[null,null,null,"2012-10-26",63,null,"2012-10-26",44]
[null,null,null,"2012-10-25",60,null,"2012-10-25",60]
[null,null,null,"2012-10-24",59,null,"2012-10-24",68]
[null,null,null,"2012-10-23",57,null,"2012-10-23",63.5]
[null,null,null,"2012-10-22",60,null,"2012-10-22",57]
[null,null,null,"2012-10-21",59,null,"2012-10-21",52.5]
[null,null,null,"2012-10-20",61,null,"2012-10-20",49]
[null,null,null,"2012-10-19",66.5,null,"2012-10-19",47.5]
[null,null,null,"2012-10-18",55,null,"2012-10-18",49.5]
[null,null,null,"2012-10-17",53.5,null,"2012-10-17",61]
[null,null,null,"2012-10-16",54.5,null,"2012-10-16",55]
[null,null,null,"2012-10-15",65.5,null,"2012-10-15",50.5]
[null,null,null,"2012-10-14",61.5,null,"2012-10-14",59.5]
[null,null,null,"2012-10-13",44,null,"2012-10-13",55.5]
[null,null,null,"2012-10-12",51,null,"2012-10-12",45]
[null,null,null,"2012-10-11",54,null,"2012-10-11",51]
[null,null,null,"2012-10-10",60.5,null,"2012-10-10",43]
[null,null,null,"2012-10-09",55,null,"2012-10-09",53.5]
[null,null,null,"2012-10-08",49.5,null,"2012-10-08",46]
[null,null,null,"2012-10-07",51,null,"2012-10-07",43.5]
[null,null,null,"2012-10-06",66,null,"2012-10-06",42]
[null,null,null,"2012-10-05",70,null,"2012-10-05",44.5]
[null,null,null,"2012-10-04",70,null,"2012-10-04",62.5]
[null,null,null,"2012-10-03",68.5,null,"2012-10-03",61]
[null,null,null,"2012-10-02",66,null,"2012-10-02",61]
[null,null,null,"2012-10-01",61.5,null,"2012-10-01",56.5]
[null,null,null,"2012-09-30",62,null,"2012-09-30",58]
[null,null,null,"2012-09-29",63,null,"2012-09-29",63.5]
[null,null,null,"2012-09-28",68,null,"2012-09-28",58.5]
[null,null,null,"2012-09-27",70,null,"2012-09-27",55.5]
[null,null,null,"2012-09-26",71,null,"2012-09-26",60.5]
[null,null,null,"2012-09-25",61.5,null,"2012-09-25",63]
[null,null,null,"2012-09-24",60,null,"2012-09-24",53.5]
[null,null,null,"2012-09-23",62.5,null,"2012-09-23",50.5]
[null,null,null,"2012-09-22",68.5,null,"2012-09-22",51.5]
[null,null,null,"2012-09-21",66.5,null,"2012-09-21",54]
[null,null,null,"2012-09-20",61,null,"2012-09-20",61.5]
[null,null,null,"2012-09-19",64,null,"2012-09-19",57]
[null,null,null,"2012-09-18",74,null,"2012-09-18",55]
[null,null,null,"2012-09-17",66.5,null,"2012-09-17",66.5]
[null,null,null,"2012-09-16",66.5,null,"2012-09-16",63]
[null,null,null,"2012-09-15",67.5,null,"2012-09-15",64.5]
[null,null,null,"2012-09-14",71,null,"2012-09-14",63.5]
[null,null,null,"2012-09-13",70,null,"2012-09-13",62.5]
[null,null,null,"2012-09-12",68,null,"2012-09-12",74.5]
[null,null,null,"2012-09-11",65,null,"2012-09-11",67.5]
[null,null,null,"2012-09-10",67,null,"2012-09-10",63.5]
[null,null,null,"2012-09-09",72,null,"2012-09-09",63.5]
[null,null,null,"2012-09-08",77,null,"2012-09-08",63.5]
[null,null,null,"2012-09-07",80,null,"2012-09-07",68.5]
[null,null,null,"2012-09-06",74.5,null,"2012-09-06",77]
[null,null,null,"2012-09-05",77.5,null,"2012-09-05",74.5]
[null,null,null,"2012-09-04",75.5,null,"2012-09-04",78]
[null,null,null,"2012-09-03",75,null,"2012-09-03",79.5]
[null,null,null,"2012-09-02",77,null,"2012-09-02",77.5]
[null,null,null,"2012-09-01",82.5,null,"2012-09-01",73]
[null,null,null,"2012-08-31",78.5,null,"2012-08-31",81.5]
[null,null,null,"2012-08-30",73,null,"2012-08-30",77]
[null,null,null,"2012-08-29",74,null,"2012-08-29",74.5]
[null,null,null,"2012-08-28",81.5,null,"2012-08-28",74.5]
[null,null,null,"2012-08-27",76.5,null,"2012-08-27",77]
[null,null,null,"2012-08-26",75.5,null,"2012-08-26",72.5]
[null,null,null,"2012-08-25",77.5,null,"2012-08-25",79.5]
[null,null,null,"2012-08-24",78.5,null,"2012-08-24",79]
[null,null,null,"2012-08-23",76,null,"2012-08-23",78]
[null,null,null,"2012-08-22",76,null,"2012-08-22",69.5]
[null,null,null,"2012-08-21",75,null,"2012-08-21",66]
[null,null,null,"2012-08-20",72,null,"2012-08-20",66]
[null,null,null,"2012-08-19",67.5,null,"2012-08-19",69.5]
[null,null,null,"2012-08-18",73.5,null,"2012-08-18",65]
[null,null,null,"2012-08-17",79,null,"2012-08-17",67]
[null,null,null,"2012-08-16",78,null,"2012-08-16",69]
[null,null,null,"2012-08-15",77.5,null,"2012-08-15",75]
[null,null,null,"2012-08-14",74.5,null,"2012-08-14",70]
[null,null,null,"2012-08-13",78,null,"2012-08-13",64.5]
[null,null,null,"2012-08-12",80.5,null,"2012-08-12",65.5]
[null,null,null,"2012-08-11",82,null,"2012-08-11",67]
[null,null,null,"2012-08-10",77,null,"2012-08-10",68.5]
[null,null,null,"2012-08-09",81.5,null,"2012-08-09",69]
[null,null,null,"2012-08-08",80,null,"2012-08-08",78]
[null,null,null,"2012-08-07",74.5,null,"2012-08-07",77]
[null,null,null,"2012-08-06",81.5,null,"2012-08-06",73.5]
[null,null,null,"2012-08-05",84.5,null,"2012-08-05",75]
[null,null,null,"2012-08-04",83,null,"2012-08-04",82]
[null,null,null,"2012-08-03",83.5,null,"2012-08-03",83]
[null,null,null,"2012-08-02",80.5,null,"2012-08-02",79.5]
[null,null,null,"2012-08-01",75.5,null,"2012-08-01",79]
[null,null,null,"2012-07-31",77,null,"2012-07-31",76.5]
[null,null,null,"2012-07-30",77,null,"2012-07-30",80.5]
[null,null,null,"2012-07-29",75.5,null,"2012-07-29",74]
[null,null,null,"2012-07-28",76.5,null,"2012-07-28",74.5]
[null,null,null,"2012-07-27",81,null,"2012-07-27",76]
[null,null,null,"2012-07-26",82,null,"2012-07-26",79]
[null,null,null,"2012-07-25",79,null,"2012-07-25",84.5]
[null,null,null,"2012-07-24",85.5,null,"2012-07-24",76.5]
[null,null,null,"2012-07-23",80.5,null,"2012-07-23",89]
[null,null,null,"2012-07-22",75,null,"2012-07-22",78.5]
[null,null,null,"2012-07-21",71.5,null,"2012-07-21",76]
[null,null,null,"2012-07-20",68.5,null,"2012-07-20",74.5]
[null,null,null,"2012-07-19",74.5,null,"2012-07-19",77]
[null,null,null,"2012-07-18",89,null,"2012-07-18",83]
[null,null,null,"2012-07-17",87,null,"2012-07-17",89]
[null,null,null,"2012-07-16",83,null,"2012-07-16",84.5]
[null,null,null,"2012-07-15",82.5,null,"2012-07-15",83]
[null,null,null,"2012-07-14",80,null,"2012-07-14",80]
[null,null,null,"2012-07-13",81,null,"2012-07-13",81.5]
[null,null,null,"2012-07-12",80,null,"2012-07-12",78.5]
[null,null,null,"2012-07-11",79.5,null,"2012-07-11",75.5]
[null,null,null,"2012-07-10",79,null,"2012-07-10",75]
[null,null,null,"2012-07-09",80,null,"2012-07-09",78.5]
[null,null,null,"2012-07-08",86.5,null,"2012-07-08",76.5]
[null,null,null,"2012-07-07",89.5,null,"2012-07-07",85.5]
[null,null,null,"2012-07-06",84,null,"2012-07-06",92.5]
[null,null,null,"2012-07-05",87,null,"2012-07-05",91]
[null,null,null,"2012-07-04",85,null,"2012-07-04",90.5]
[null,null,null,"2012-07-03",82.5,null,"2012-07-03",86.5]
[null,null,null,"2012-07-02",81,null,"2012-07-02",84.5]
[null,null,null,"2012-07-01",85,null,"2012-07-01",79.5]
[null,null,null,"2012-06-30",87,null,"2012-06-30",80.5]
[null,null,null,"2012-06-29",84.5,null,"2012-06-29",78.5]
[null,null,null,"2012-06-28",79,null,"2012-06-28",88]
[null,null,null,"2012-06-27",74,null,"2012-06-27",74.5]
[null,null,null,"2012-06-26",68,null,"2012-06-26",69.5]
[null,null,null,"2012-06-25",69,null,"2012-06-25",68]
[null,null,null,"2012-06-24",76.5,null,"2012-06-24",79.5]
[null,null,null,"2012-06-23",78.5,null,"2012-06-23",74.5]
[null,null,null,"2012-06-22",83.5,null,"2012-06-22",75.5]
[null,null,null,"2012-06-21",89,null,"2012-06-21",77.5]
[null,null,null,"2012-06-20",84,null,"2012-06-20",86]
[null,null,null,"2012-06-19",72.5,null,"2012-06-19",86.5]
[null,null,null,"2012-06-18",64.5,null,"2012-06-18",81.5]
[null,null,null,"2012-06-17",65.5,null,"2012-06-17",78]
[null,null,null,"2012-06-16",70.5,null,"2012-06-16",81.5]
[null,null,null,"2012-06-15",70,null,"2012-06-15",76.5]
[null,null,null,"2012-06-14",70.5,null,"2012-06-14",71.5]
[null,null,null,"2012-06-13",69,null,"2012-06-13",63]
[null,null,null,"2012-06-12",70,null,"2012-06-12",68.5]
[null,null,null,"2012-06-11",70.5,null,"2012-06-11",80]
[null,null,null,"2012-06-10",77,null,"2012-06-10",80]
[null,null,null,"2012-06-09",73,null,"2012-06-09",77.5]
[null,null,null,"2012-06-08",72,null,"2012-06-08",71]
[null,null,null,"2012-06-07",69.5,null,"2012-06-07",68]
[null,null,null,"2012-06-06",63,null,"2012-06-06",64]
[null,null,null,"2012-06-05",58.5,null,"2012-06-05",63.5]
[null,null,null,"2012-06-04",59,null,"2012-06-04",67]
[null,null,null,"2012-06-03",67,null,"2012-06-03",69]
[null,null,null,"2012-06-02",69.5,null,"2012-06-02",62.5]
[null,null,null,"2012-06-01",67,null,"2012-06-01",57]
[null,null,null,"2012-05-31",74,null,"2012-05-31",50.5]
[null,null,null,"2012-05-30",74,null,"2012-05-30",61.5]
[null,null,null,"2012-05-29",81,null,"2012-05-29",73]
[null,null,null,"2012-05-28",80.5,null,"2012-05-28",86]
[null,null,null,"2012-05-27",76.5,null,"2012-05-27",83.5]
[null,null,null,"2012-05-26",76,null,"2012-05-26",73]
[null,null,null,"2012-05-25",70,null,"2012-05-25",74]
[null,null,null,"2012-05-24",65,null,"2012-05-24",77]
[null,null,null,"2012-05-23",70,null,"2012-05-23",64.5]
[null,null,null,"2012-05-22",66.5,null,"2012-05-22",60.5]
[null,null,null,"2012-05-21",62.5,null,"2012-05-21",60.5]
[null,null,null,"2012-05-20",67.5,null,"2012-05-20",79]
[null,null,null,"2012-05-19",65,null,"2012-05-19",75.5]
[null,null,null,"2012-05-18",61.5,null,"2012-05-18",69]
[null,null,null,"2012-05-17",64,null,"2012-05-17",59.5]
[null,null,null,"2012-05-16",72,null,"2012-05-16",57.5]
[null,null,null,"2012-05-15",65,null,"2012-05-15",71.5]
[null,null,null,"2012-05-14",67,null,"2012-05-14",62.5]
[null,null,null,"2012-05-13",72,null,"2012-05-13",61]
[null,null,null,"2012-05-12",65.5,null,"2012-05-12",61]
[null,null,null,"2012-05-11",60.5,null,"2012-05-11",60.5]
[null,null,null,"2012-05-10",59.5,null,"2012-05-10",56.5]
[null,null,null,"2012-05-09",65,null,"2012-05-09",53.5]
[null,null,null,"2012-05-08",64.5,null,"2012-05-08",61]
[null,null,null,"2012-05-07",57.5,null,"2012-05-07",58]
[null,null,null,"2012-05-06",58.5,null,"2012-05-06",60.5]
[null,null,null,"2012-05-05",59.5,null,"2012-05-05",56]
[null,null,null,"2012-05-04",65,null,"2012-05-04",64]
[null,null,null,"2012-05-03",54.5,null,"2012-05-03",76]
[null,null,null,"2012-05-02",54.5,null,"2012-05-02",69]
[null,null,null,"2012-05-01",63,null,"2012-05-01",57]
[null,null,null,"2012-04-30",49.5,null,"2012-04-30",56]
[null,null,null,"2012-04-29",54.5,null,"2012-04-29",50]
[null,null,null,"2012-04-28",49.5,null,"2012-04-28",47.5]
[null,null,null,"2012-04-27",49.5,null,"2012-04-27",44.5]
[null,null,null,"2012-04-26",49.5,null,"2012-04-26",47]
[null,null,null,"2012-04-25",53,null,"2012-04-25",53.5]
[null,null,null,"2012-04-24",51,null,"2012-04-24",52]
[null,null,null,"2012-04-23",48.5,null,"2012-04-23",49.5]
[null,null,null,"2012-04-22",51.5,null,"2012-04-22",47]
[null,null,null,"2012-04-21",65,null,"2012-04-21",44.5]
[null,null,null,"2012-04-20",59.5,null,"2012-04-20",44.5]
[null,null,null,"2012-04-19",59.5,null,"2012-04-19",53]
[null,null,null,"2012-04-18",56.5,null,"2012-04-18",56]
[null,null,null,"2012-04-17",72.5,null,"2012-04-17",48]
[null,null,null,"2012-04-16",74.5,null,"2012-04-16",55]
[null,null,null,"2012-04-15",69.5,null,"2012-04-15",69]
[null,null,null,"2012-04-14",58,null,"2012-04-14",60.5]
[null,null,null,"2012-04-13",53.5,null,"2012-04-13",53]
[null,null,null,"2012-04-12",52.5,null,"2012-04-12",47.5]
[null,null,null,"2012-04-11",49.5,null,"2012-04-11",43]
[null,null,null,"2012-04-10",52.5,null,"2012-04-10",40]
[null,null,null,"2012-04-09",58,null,"2012-04-09",52]
[null,null,null,"2012-04-08",56.5,null,"2012-04-08",55.5]
[null,null,null,"2012-04-07",52,null,"2012-04-07",50.5]
[null,null,null,"2012-04-06",49,null,"2012-04-06",43]
[null,null,null,"2012-04-05",51,null,"2012-04-05",43.5]
[null,null,null,"2012-04-04",59.5,null,"2012-04-04",52]
[null,null,null,"2012-04-03",53,null,"2012-04-03",59]
[null,null,null,"2012-04-02",50,null,"2012-04-02",54.5]
[null,null,null,"2012-04-01",48,null,"2012-04-01",49.5]
[null,null,null,"2012-03-31",42.5,null,"2012-03-31",44.5]
[null,null,null,"2012-03-30",48.5,null,"2012-03-30",46.5]
[null,null,null,"2012-03-29",53,null,"2012-03-29",44]
[null,null,null,"2012-03-28",55,null,"2012-03-28",56.5]
[null,null,null,"2012-03-27",41.5,null,"2012-03-27",57]
[null,null,null,"2012-03-26",45.5,null,"2012-03-26",42]
[null,null,null,"2012-03-25",49.5,null,"2012-03-25",57]
[null,null,null,"2012-03-24",55.5,null,"2012-03-24",56]
[null,null,null,"2012-03-23",67,null,"2012-03-23",59]
[null,null,null,"2012-03-22",67.5,null,"2012-03-22",71.5]
[null,null,null,"2012-03-21",61.5,null,"2012-03-21",74]
[null,null,null,"2012-03-20",64,null,"2012-03-20",74]
[null,null,null,"2012-03-19",62.5,null,"2012-03-19",69.5]
[null,null,null,"2012-03-18",56,null,"2012-03-18",69]
[null,null,null,"2012-03-17",50.5,null,"2012-03-17",70]
[null,null,null,"2012-03-16",47.5,null,"2012-03-16",64]
[null,null,null,"2012-03-15",49,null,"2012-03-15",64.5]
[null,null,null,"2012-03-14",63,null,"2012-03-14",63.5]
[null,null,null,"2012-03-13",65,null,"2012-03-13",59]
[null,null,null,"2012-03-12",56.5,null,"2012-03-12",58.5]
[null,null,null,"2012-03-11",46.5,null,"2012-03-11",55]
[null,null,null,"2012-03-10",36.5,null,"2012-03-10",43.5]
[null,null,null,"2012-03-09",51.5,null,"2012-03-09",34]
[null,null,null,"2012-03-08",62,null,"2012-03-08",50]
[null,null,null,"2012-03-07",49.5,null,"2012-03-07",61]
[null,null,null,"2012-03-06",35,null,"2012-03-06",49.5]
[null,null,null,"2012-03-05",38,null,"2012-03-05",29]
[null,null,null,"2012-03-04",41,null,"2012-03-04",29]
[null,null,null,"2012-03-03",50.5,null,"2012-03-03",32.5]
[null,null,null,"2012-03-02",39,null,"2012-03-02",37]
[null,null,null,"2012-03-01",40,null,"2012-03-01",37.5]
[null,null,null,"2012-02-29",40,null,"2012-02-29",47]
[null,null,null,"2012-02-28",43.5,null,"2012-02-28",33.5]
[null,null,null,"2012-02-27",46,null,"2012-02-27",32.5]
[null,null,null,"2012-02-26",37.5,null,"2012-02-26",35]
[null,null,null,"2012-02-25",40,null,"2012-02-25",21.5]
[null,null,null,"2012-02-24",43,null,"2012-02-24",30.5]
[null,null,null,"2012-02-23",52.5,null,"2012-02-23",34.5]
[null,null,null,"2012-02-22",48.5,null,"2012-02-22",36.5]
[null,null,null,"2012-02-21",37,null,"2012-02-21",37]
[null,null,null,"2012-02-20",40,null,"2012-02-20",33.5]
[null,null,null,"2012-02-19",38.5,null,"2012-02-19",31]
[null,null,null,"2012-02-18",41.5,null,"2012-02-18",33]
[null,null,null,"2012-02-17",45.5,null,"2012-02-17",38.5]
[null,null,null,"2012-02-16",37.5,null,"2012-02-16",40.5]
[null,null,null,"2012-02-15",41.5,null,"2012-02-15",36.5]
[null,null,null,"2012-02-14",41,null,"2012-02-14",32.5]
[null,null,null,"2012-02-13",35.5,null,"2012-02-13",25.5]
[null,null,null,"2012-02-12",27,null,"2012-02-12",25.5]
[null,null,null,"2012-02-11",35,null,"2012-02-11",15]
[null,null,null,"2012-02-10",38,null,"2012-02-10",25]
[null,null,null,"2012-02-09",38.5,null,"2012-02-09",28.5]
[null,null,null,"2012-02-08",34,null,"2012-02-08",31]
[null,null,null,"2012-02-07",42,null,"2012-02-07",32.5]
[null,null,null,"2012-02-06",39.5,null,"2012-02-06",31.5]
[null,null,null,"2012-02-05",36.5,null,"2012-02-05",37]
[null,null,null,"2012-02-04",40,null,"2012-02-04",35.5]
[null,null,null,"2012-02-03",38.5,null,"2012-02-03",36]
[null,null,null,"2012-02-02",42.5,null,"2012-02-02",37]
[null,null,null,"2012-02-01",55,null,"2012-02-01",40]
[null,null,null,"2012-01-31",47.5,null,"2012-01-31",50]
[null,null,null,"2012-01-30",37,null,"2012-01-30",37.5]
[null,null,null,"2012-01-29",39.5,null,"2012-01-29",26]
[null,null,null,"2012-01-28",42,null,"2012-01-28",30]
[null,null,null,"2012-01-27",49.5,null,"2012-01-27",38.5]
[null,null,null,"2012-01-26",36.5,null,"2012-01-26",35]
[null,null,null,"2012-01-25",42,null,"2012-01-25",29]
[null,null,null,"2012-01-24",47.5,null,"2012-01-24",31]
[null,null,null,"2012-01-23",43.5,null,"2012-01-23",38]
[null,null,null,"2012-01-22",26,null,"2012-01-22",28]
[null,null,null,"2012-01-21",25,null,"2012-01-21",20.5]
[null,null,null,"2012-01-20",30.5,null,"2012-01-20",14.5]
[null,null,null,"2012-01-19",26.5,null,"2012-01-19",16.5]
[null,null,null,"2012-01-18",38,null,"2012-01-18",18]
[null,null,null,"2012-01-17",44,null,"2012-01-17",28]
[null,null,null,"2012-01-16",25,null,"2012-01-16",37.5]
[null,null,null,"2012-01-15",22,null,"2012-01-15",18]
[null,null,null,"2012-01-14",30.5,null,"2012-01-14",13.5]
[null,null,null,"2012-01-13",39,null,"2012-01-13",19.5]
[null,null,null,"2012-01-12",45.5,null,"2012-01-12",28]
[null,null,null,"2012-01-11",38.5,null,"2012-01-11",40.5]
[null,null,null,"2012-01-10",39,null,"2012-01-10",38.5]
[null,null,null,"2012-01-09",35,null,"2012-01-09",35.5]
[null,null,null,"2012-01-08",40.5,null,"2012-01-08",33.5]
[null,null,null,"2012-01-07",50.5,null,"2012-01-07",36]
[null,null,null,"2012-01-06",43,null,"2012-01-06",46.5]
[null,null,null,"2012-01-05",33.5,null,"2012-01-05",36]
[null,null,null,"2012-01-04",20,null,"2012-01-04",33]
[null,null,null,"2012-01-03",23.5,null,"2012-01-03",20]
[null,null,null,"2012-01-02",41,null,"2012-01-02",23.5]
[null,null,null,"2012-01-01",44.5,null,"2012-01-01",36.5]
[null,null,null,"2011-12-31",49,null,"2011-12-31",34.5]
[null,null,null,"2011-12-30",42,null,"2011-12-30",38]
[null,null,null,"2011-12-29",30,null,"2011-12-29",39.5]
[null,null,null,"2011-12-28",39.5,null,"2011-12-28",25.5]
[null,null,null,"2011-12-27",45,null,"2011-12-27",33.5]
[null,null,null,"2011-12-26",40.5,null,"2011-12-26",34]
[null,null,null,"2011-12-25",36.5,null,"2011-12-25",37]
[null,null,null,"2011-12-24",32.5,null,"2011-12-24",30]
[null,null,null,"2011-12-23",43.5,null,"2011-12-23",28.5]
[null,null,null,"2011-12-22",54,null,"2011-12-22",35.5]
[null,null,null,"2011-12-21",51.5,null,"2011-12-21",40]
[null,null,null,"2011-12-20",44,null,"2011-12-20",37.5]
[null,null,null,"2011-12-19",36.5,null,"2011-12-19",44]
[null,null,null,"2011-12-18",28,null,"2011-12-18",34.5]
[null,null,null,"2011-12-17",38.5,null,"2011-12-17",30]
[null,null,null,"2011-12-16",50,null,"2011-12-16",30]
[null,null,null,"2011-12-15",53,null,"2011-12-15",45]
[null,null,null,"2011-12-14",43,null,"2011-12-14",48]
[null,null,null,"2011-12-13",38.5,null,"2011-12-13",41.5]
[null,null,null,"2011-12-12",34.5,null,"2011-12-12",35]
[null,null,null,"2011-12-11",34,null,"2011-12-11",36]
[null,null,null,"2011-12-10",38.5,null,"2011-12-10",19.5]
[null,null,null,"2011-12-09",41.5,null,"2011-12-09",25]
[null,null,null,"2011-12-08",41,null,"2011-12-08",30]
[null,null,null,"2011-12-07",52.5,null,"2011-12-07",29.5]
[null,null,null,"2011-12-06",57.5,null,"2011-12-06",32]
[null,null,null,"2011-12-05",50.5,null,"2011-12-05",37.5]
[null,null,null,"2011-12-04",44.5,null,"2011-12-04",44]
[null,null,null,"2011-12-03",40,null,"2011-12-03",43.5]
[null,null,null,"2011-12-02",44.5,null,"2011-12-02",37]
[null,null,null,"2011-12-01",44,null,"2011-12-01",36.5]
[null,null,null,"2011-11-30",48.5,null,"2011-11-30",34.5]
[null,null,null,"2011-11-29",57.5,null,"2011-11-29",37.5]
[null,null,null,"2011-11-28",62.5,null,"2011-11-28",37.5]
[null,null,null,"2011-11-27",51.5,null,"2011-11-27",41]
[null,null,null,"2011-11-26",54,null,"2011-11-26",50.5]
[null,null,null,"2011-11-25",50.5,null,"2011-11-25",49.5]
[null,null,null,"2011-11-24",47,null,"2011-11-24",43.5]
[null,null,null,"2011-11-23",45.5,null,"2011-11-23",42]
[null,null,null,"2011-11-22",46.5,null,"2011-11-22",41.5]
[null,null,null,"2011-11-21",51.5,null,"2011-11-21",44]
[null,null,null,"2011-11-20",55.5,null,"2011-11-20",47]
[null,null,null,"2011-11-19",43,null,"2011-11-19",51]
[null,null,null,"2011-11-18",41,null,"2011-11-18",38]
[null,null,null,"2011-11-17",46.5,null,"2011-11-17",30]
[null,null,null,"2011-11-16",56,null,"2011-11-16",38.5]
[null,null,null,"2011-11-15",61,null,"2011-11-15",49]
[null,null,null,"2011-11-14",60.5,null,"2011-11-14",44.5]
[null,null,null,"2011-11-13",51.5,null,"2011-11-13",58.5]
[null,null,null,"2011-11-12",47,null,"2011-11-12",48]
[null,null,null,"2011-11-11",44.5,null,"2011-11-11",37.5]
[null,null,null,"2011-11-10",58,null,"2011-11-10",36.5]
[null,null,null,"2011-11-09",56,null,"2011-11-09",49.5]
[null,null,null,"2011-11-08",58.5,null,"2011-11-08",49]
[null,null,null,"2011-11-07",51.5,null,"2011-11-07",54.5]
[null,null,null,"2011-11-06",44.5,null,"2011-11-06",50]
[null,null,null,"2011-11-05",42,null,"2011-11-05",46]
[null,null,null,"2011-11-04",47.5,null,"2011-11-04",44.5]
[null,null,null,"2011-11-03",51,null,"2011-11-03",47]
[null,null,null,"2011-11-02",48.5,null,"2011-11-02",56.5]
[null,null,null,"2011-11-01",49,null,"2011-11-01",50]
[null,null,null,"2011-10-31",43.5,null,"2011-10-31",44.5]
[null,null,null,"2011-10-30",41,null,"2011-10-30",45]
[null,null,null,"2011-10-29",39.5,null,"2011-10-29",44.5]
[null,null,null,"2011-10-28",44,null,"2011-10-28",45]
[null,null,null,"2011-10-27",49.5,null,"2011-10-27",46]
[null,null,null,"2011-10-26",56.5,null,"2011-10-26",50]
[null,null,null,"2011-10-25",58,null,"2011-10-25",59.5]
[null,null,null,"2011-10-24",55,null,"2011-10-24",54]
[null,null,null,"2011-10-23",56,null,"2011-10-23",53]
[null,null,null,"2011-10-22",52.5,null,"2011-10-22",50]
[null,null,null,"2011-10-21",55.5,null,"2011-10-21",46.5]
[null,null,null,"2011-10-20",61.5,null,"2011-10-20",45]
[null,null,null,"2011-10-19",63,null,"2011-10-19",46.5]
[null,null,null,"2011-10-18",61,null,"2011-10-18",47.5]
[null,null,null,"2011-10-17",62,null,"2011-10-17",50]
[null,null,null,"2011-10-16",61.5,null,"2011-10-16",55]
[null,null,null,"2011-10-15",61,null,"2011-10-15",54.5]
[null,null,null,"2011-10-14",65.5,null,"2011-10-14",55]
[null,null,null,"2011-10-13",63,null,"2011-10-13",59]
[null,null,null,"2011-10-12",62.5,null,"2011-10-12",66.5]
[null,null,null,"2011-10-11",69.5,null,"2011-10-11",68]
[null,null,null,"2011-10-10",72.5,null,"2011-10-10",65]
[null,null,null,"2011-10-09",71.5,null,"2011-10-09",66]
[null,null,null,"2011-10-08",65.5,null,"2011-10-08",68]
[null,null,null,"2011-10-07",58,null,"2011-10-07",69]
[null,null,null,"2011-10-06",58.5,null,"2011-10-06",65.5]
[null,null,null,"2011-10-05",65,null,"2011-10-05",64.5]
[null,null,null,"2011-10-04",59,null,"2011-10-04",59.5]
[null,null,null,"2011-10-03",54,null,"2011-10-03",56.5]
[null,null,null,"2011-10-02",57,null,"2011-10-02",53.5]
[null,null,null,"2011-10-01",59.5,null,"2011-10-01",49]
[null,null,null,"2011-09-30",69,null,"2011-09-30",51]
[null,null,null,"2011-09-29",68.5,null,"2011-09-29",57.5]
[null,null,null,"2011-09-28",73,null,"2011-09-28",58]
[null,null,null,"2011-09-27",75,null,"2011-09-27",58.5]
[null,null,null,"2011-09-26",76,null,"2011-09-26",56.5]
[null,null,null,"2011-09-25",76,null,"2011-09-25",57.5]
[null,null,null,"2011-09-24",74.5,null,"2011-09-24",56.5]
[null,null,null,"2011-09-23",73,null,"2011-09-23",55]
[null,null,null,"2011-09-22",75,null,"2011-09-22",57.5]
[null,null,null,"2011-09-21",68.5,null,"2011-09-21",63.5]
[null,null,null,"2011-09-20",65.5,null,"2011-09-20",61.5]
[null,null,null,"2011-09-19",61,null,"2011-09-19",61.5]
[null,null,null,"2011-09-18",61,null,"2011-09-18",60]
[null,null,null,"2011-09-17",58.5,null,"2011-09-17",59]
[null,null,null,"2011-09-16",60,null,"2011-09-16",52]
[null,null,null,"2011-09-15",65.5,null,"2011-09-15",50.5]
[null,null,null,"2011-09-14",78.5,null,"2011-09-14",52.5]
[null,null,null,"2011-09-13",76,null,"2011-09-13",64.5]
[null,null,null,"2011-09-12",74.5,null,"2011-09-12",75]
[null,null,null,"2011-09-11",69,null,"2011-09-11",70]
[null,null,null,"2011-09-10",76,null,"2011-09-10",67]
[null,null,null,"2011-09-09",77.5,null,"2011-09-09",66]
[null,null,null,"2011-09-08",72.5,null,"2011-09-08",66]
[null,null,null,"2011-09-07",66.5,null,"2011-09-07",61]
[null,null,null,"2011-09-06",67,null,"2011-09-06",58.5]
[null,null,null,"2011-09-05",78.5,null,"2011-09-05",58.5]
[null,null,null,"2011-09-04",79.5,null,"2011-09-04",65.5]
[null,null,null,"2011-09-03",75,null,"2011-09-03",79]
[null,null,null,"2011-09-02",72.5,null,"2011-09-02",84]
[null,null,null,"2011-09-01",74.5,null,"2011-09-01",82]
[null,null,null,"2011-08-31",74.5,null,"2011-08-31",76]
[null,null,null,"2011-08-30",72.5,null,"2011-08-30",68.5]
[null,null,null,"2011-08-29",68,null,"2011-08-29",69]
[null,null,null,"2011-08-28",71,null,"2011-08-28",69]
[null,null,null,"2011-08-27",77,null,"2011-08-27",72.5]
[null,null,null,"2011-08-26",78.5,null,"2011-08-26",71]
[null,null,null,"2011-08-25",76.5,null,"2011-08-25",73.5]
[null,null,null,"2011-08-24",72.5,null,"2011-08-24",80.5]
[null,null,null,"2011-08-23",72,null,"2011-08-23",67.5]
[null,null,null,"2011-08-22",74.5,null,"2011-08-22",70.5]
[null,null,null,"2011-08-21",79.5,null,"2011-08-21",72]
[null,null,null,"2011-08-20",77,null,"2011-08-20",73]
[null,null,null,"2011-08-19",76.5,null,"2011-08-19",75.5]
[null,null,null,"2011-08-18",78,null,"2011-08-18",75.5]
[null,null,null,"2011-08-17",77.5,null,"2011-08-17",72.5]
[null,null,null,"2011-08-16",73.5,null,"2011-08-16",73]
[null,null,null,"2011-08-15",75.5,null,"2011-08-15",69.5]
[null,null,null,"2011-08-14",71.5,null,"2011-08-14",68.5]
[null,null,null,"2011-08-13",78,null,"2011-08-13",72.5]
[null,null,null,"2011-08-12",75,null,"2011-08-12",70.5]
[null,null,null,"2011-08-11",77.5,null,"2011-08-11",69]
[null,null,null,"2011-08-10",80,null,"2011-08-10",69]
[null,null,null,"2011-08-09",78,null,"2011-08-09",72]
[null,null,null,"2011-08-08",85,null,"2011-08-08",74]
[null,null,null,"2011-08-07",85,null,"2011-08-07",77]
[null,null,null,"2011-08-06",78.5,null,"2011-08-06",78.5]
[null,null,null,"2011-08-05",77.5,null,"2011-08-05",76]
[null,null,null,"2011-08-04",76.5,null,"2011-08-04",76.5]
[null,null,null,"2011-08-03",78,null,"2011-08-03",79]
[null,null,null,"2011-08-02",83,null,"2011-08-02",83.5]
[null,null,null,"2011-08-01",85.5,null,"2011-08-01",82.5]
[null,null,null,"2011-07-31",82.5,null,"2011-07-31",79]
[null,null,null,"2011-07-30",85.5,null,"2011-07-30",79]
[null,null,null,"2011-07-29",80,null,"2011-07-29",78.5]
[null,null,null,"2011-07-28",81,null,"2011-07-28",80]
[null,null,null,"2011-07-27",80,null,"2011-07-27",79]
[null,null,null,"2011-07-26",83,null,"2011-07-26",77]
[null,null,null,"2011-07-25",77,null,"2011-07-25",80]
[null,null,null,"2011-07-24",87,null,"2011-07-24",79.5]
[null,null,null,"2011-07-23",94,null,"2011-07-23",78.5]
[null,null,null,"2011-07-22",97,null,"2011-07-22",79]
[null,null,null,"2011-07-21",90,null,"2011-07-21",87]
[null,null,null,"2011-07-20",81.5,null,"2011-07-20",86]
[null,null,null,"2011-07-19",87,null,"2011-07-19",85.5]
[null,null,null,"2011-07-18",86,null,"2011-07-18",86]
[null,null,null,"2011-07-17",83,null,"2011-07-17",82]
[null,null,null,"2011-07-16",81.5,null,"2011-07-16",80]
[null,null,null,"2011-07-15",78.5,null,"2011-07-15",78.5]
[null,null,null,"2011-07-14",76.5,null,"2011-07-14",70.5]
[null,null,null,"2011-07-13",80,null,"2011-07-13",68.5]
[null,null,null,"2011-07-12",89,null,"2011-07-12",78.5]
[null,null,null,"2011-07-11",84,null,"2011-07-11",79.5]
[null,null,null,"2011-07-10",77,null,"2011-07-10",82.5]
[null,null,null,"2011-07-09",81,null,"2011-07-09",76]
[null,null,null,"2011-07-08",79,null,"2011-07-08",73.5]
[null,null,null,"2011-07-07",85,null,"2011-07-07",72.5]
[null,null,null,"2011-07-06",83,null,"2011-07-06",78]
[null,null,null,"2011-07-05",81.5,null,"2011-07-05",79.5]
[null,null,null,"2011-07-04",81.5,null,"2011-07-04",77]
[null,null,null,"2011-07-03",74,null,"2011-07-03",76.5]
[null,null,null,"2011-07-02",79.5,null,"2011-07-02",82.5]
[null,null,null,"2011-07-01",76,null,"2011-07-01",80.5]
[null,null,null,"2011-06-30",76,null,"2011-06-30",74]
[null,null,null,"2011-06-29",79.5,null,"2011-06-29",70]
[null,null,null,"2011-06-28",79,null,"2011-06-28",72]
[null,null,null,"2011-06-27",75.5,null,"2011-06-27",73]
[null,null,null,"2011-06-26",74.5,null,"2011-06-26",69]
[null,null,null,"2011-06-25",76,null,"2011-06-25",68.5]
[null,null,null,"2011-06-24",70,null,"2011-06-24",64]
[null,null,null,"2011-06-23",73,null,"2011-06-23",66.5]
[null,null,null,"2011-06-22",76,null,"2011-06-22",68.5]
[null,null,null,"2011-06-21",78.53,null,"2011-06-21",77.5]
[null,null,null,"2011-06-20",74.5,null,"2011-06-20",72]
[null,null,null,"2011-06-19",78,null,"2011-06-19",72]
[null,null,null,"2011-06-18",76.5,null,"2011-06-18",72.5]
[null,null,null,"2011-06-17",73,null,"2011-06-17",71]
[null,null,null,"2011-06-16",75.5,null,"2011-06-16",71]
[null,null,null,"2011-06-15",71,null,"2011-06-15",64]
[null,null,null,"2011-06-14",64.5,null,"2011-06-14",65]
[null,null,null,"2011-06-13",69.5,null,"2011-06-13",63]
[null,null,null,"2011-06-12",67.5,null,"2011-06-12",57]
[null,null,null,"2011-06-11",67.5,null,"2011-06-11",57]
[null,null,null,"2011-06-10",79,null,"2011-06-10",60]
[null,null,null,"2011-06-09",87,null,"2011-06-09",59.5]
[null,null,null,"2011-06-08",85,null,"2011-06-08",80.5]
[null,null,null,"2011-06-07",78.5,null,"2011-06-07",85.5]
[null,null,null,"2011-06-06",73,null,"2011-06-06",76.5]
[null,null,null,"2011-06-05",64.5,null,"2011-06-05",72.5]
[null,null,null,"2011-06-04",69,null,"2011-06-04",78]
[null,null,null,"2011-06-03",68.5,null,"2011-06-03",71]
[null,null,null,"2011-06-02",72.5,null,"2011-06-02",62.5]
[null,null,null,"2011-06-01",82,null,"2011-06-01",70]
[null,null,null,"2011-05-31",79,null,"2011-05-31",77]
[null,null,null,"2011-05-30",81.5,null,"2011-05-30",72]
[null,null,null,"2011-05-29",78,null,"2011-05-29",61]
[null,null,null,"2011-05-28",77,null,"2011-05-28",56.5]
[null,null,null,"2011-05-27",78,null,"2011-05-27",49]
[null,null,null,"2011-05-26",72,null,"2011-05-26",46]
[null,null,null,"2011-05-25",75,null,"2011-05-25",57]
[null,null,null,"2011-05-24",76.5,null,"2011-05-24",56.5]
[null,null,null,"2011-05-23",63,null,"2011-05-23",69.5]
[null,null,null,"2011-05-22",57.5,null,"2011-05-22",74]
[null,null,null,"2011-05-21",66.5,null,"2011-05-21",62.5]
[null,null,null,"2011-05-20",62,null,"2011-05-20",61.5]
[null,null,null,"2011-05-19",67.5,null,"2011-05-19",60.5]
[null,null,null,"2011-05-18",64.5,null,"2011-05-18",53]
[null,null,null,"2011-05-17",60,null,"2011-05-17",50]
[null,null,null,"2011-05-16",59.5,null,"2011-05-16",44.5]
[null,null,null,"2011-05-15",64.5,null,"2011-05-15",43.5]
[null,null,null,"2011-05-14",60,null,"2011-05-14",49]
[null,null,null,"2011-05-13",59.5,null,"2011-05-13",62]
[null,null,null,"2011-05-12",63.5,null,"2011-05-12",72]
[null,null,null,"2011-05-11",62,null,"2011-05-11",75]
[null,null,null,"2011-05-10",64.5,null,"2011-05-10",76]
[null,null,null,"2011-05-09",64.5,null,"2011-05-09",60]
[null,null,null,"2011-05-08",61.5,null,"2011-05-08",53.5]
[null,null,null,"2011-05-07",62.5,null,"2011-05-07",51.5]
[null,null,null,"2011-05-06",58.5,null,"2011-05-06",56]
[null,null,null,"2011-05-05",58.5,null,"2011-05-05",49]
[null,null,null,"2011-05-04",58.5,null,"2011-05-04",48]
[null,null,null,"2011-05-03",64.5,null,"2011-05-03",43.5]
[null,null,null,"2011-05-02",57.5,null,"2011-05-02",50.5]
[null,null,null,"2011-05-01",56.5,null,"2011-05-01",55]
[null,null,null,"2011-04-30",60,null,"2011-04-30",59.5]
[null,null,null,"2011-04-29",62.5,null,"2011-04-29",49]
[null,null,null,"2011-04-28",71.5,null,"2011-04-28",42.5]
[null,null,null,"2011-04-27",69.5,null,"2011-04-27",49]
[null,null,null,"2011-04-26",70,null,"2011-04-26",57.5]
[null,null,null,"2011-04-25",64,null,"2011-04-25",49.5]
[null,null,null,"2011-04-24",70,null,"2011-04-24",50.5]
[null,null,null,"2011-04-23",53.5,null,"2011-04-23",54.5]
[null,null,null,"2011-04-22",44,null,"2011-04-22",42.5]
[null,null,null,"2011-04-21",53,null,"2011-04-21",41]
[null,null,null,"2011-04-20",57,null,"2011-04-20",37.5]
[null,null,null,"2011-04-19",50,null,"2011-04-19",36]
[null,null,null,"2011-04-18",55.5,null,"2011-04-18",36.5]
[null,null,null,"2011-04-17",56.5,null,"2011-04-17",44]
[null,null,null,"2011-04-16",50,null,"2011-04-16",42]
[null,null,null,"2011-04-15",49.5,null,"2011-04-15",44]
[null,null,null,"2011-04-14",58.5,null,"2011-04-14",46.5]
[null,null,null,"2011-04-13",48.5,null,"2011-04-13",52]
[null,null,null,"2011-04-12",60,null,"2011-04-12",49]
[null,null,null,"2011-04-11",68.5,null,"2011-04-11",55.5]
[null,null,null,"2011-04-10",52,null,"2011-04-10",69.5]
[null,null,null,"2011-04-09",48,null,"2011-04-09",55]
[null,null,null,"2011-04-08",45.5,null,"2011-04-08",42.5]
[null,null,null,"2011-04-07",46,null,"2011-04-07",42.5]
[null,null,null,"2011-04-06",47.5,null,"2011-04-06",50.5]
[null,null,null,"2011-04-05",56.5,null,"2011-04-05",43]
[null,null,null,"2011-04-04",54.5,null,"2011-04-04",54]
[null,null,null,"2011-04-03",51,null,"2011-04-03",53.5]
[null,null,null,"2011-04-02",49,null,"2011-04-02",45]
[null,null,null,"2011-04-01",42,null,"2011-04-01",36.5]
[null,null,null,"2011-03-31",42,null,"2011-03-31",35.5]
[null,null,null,"2011-03-30",43.5,null,"2011-03-30",35.5]
[null,null,null,"2011-03-29",42.5,null,"2011-03-29",33]
[null,null,null,"2011-03-28",38,null,"2011-03-28",28.5]
[null,null,null,"2011-03-27",38.5,null,"2011-03-27",29]
[null,null,null,"2011-03-26",35,null,"2011-03-26",28.5]
[null,null,null,"2011-03-25",37.5,null,"2011-03-25",29]
[null,null,null,"2011-03-24",39,null,"2011-03-24",29]
[null,null,null,"2011-03-23",38,null,"2011-03-23",34.5]
[null,null,null,"2011-03-22",46,null,"2011-03-22",39.5]
[null,null,null,"2011-03-21",41.5,null,"2011-03-21",50.5]
[null,null,null,"2011-03-20",41,null,"2011-03-20",48.5]
[null,null,null,"2011-03-19",50,null,"2011-03-19",39]
[null,null,null,"2011-03-18",65,null,"2011-03-18",43.5]
[null,null,null,"2011-03-17",56,null,"2011-03-17",57.5]
[null,null,null,"2011-03-16",50,null,"2011-03-16",46]
[null,null,null,"2011-03-15",40,null,"2011-03-15",35]
[null,null,null,"2011-03-14",42,null,"2011-03-14",34]
[null,null,null,"2011-03-13",47,null,"2011-03-13",32.5]
[null,null,null,"2011-03-12",48,null,"2011-03-12",36]
[null,null,null,"2011-03-11",48.5,null,"2011-03-11",37]
[null,null,null,"2011-03-10",47,null,"2011-03-10",34.5]
[null,null,null,"2011-03-09",37.5,null,"2011-03-09",38.5]
[null,null,null,"2011-03-08",39,null,"2011-03-08",38.5]
[null,null,null,"2011-03-07",44.5,null,"2011-03-07",29]
[null,null,null,"2011-03-06",54.5,null,"2011-03-06",30]
[null,null,null,"2011-03-05",53.5,null,"2011-03-05",31.5]
[null,null,null,"2011-03-04",34,null,"2011-03-04",44.5]
[null,null,null,"2011-03-03",29,null,"2011-03-03",35]
[null,null,null,"2011-03-02",42,null,"2011-03-02",30.5]
[null,null,null,"2011-03-01",40.5,null,"2011-03-01",32.5]
[null,null,null,"2011-02-28",51.5,null,"2011-02-28",31]
[null,null,null,"2011-02-27",46,null,"2011-02-27",30.5]
[null,null,null,"2011-02-26",38.5,null,"2011-02-26",28.5]
[null,null,null,"2011-02-25",47.5,null,"2011-02-25",32.5]
[null,null,null,"2011-02-24",35,null,"2011-02-24",34]
[null,null,null,"2011-02-23",32,null,"2011-02-23",28.5]
[null,null,null,"2011-02-22",27.5,null,"2011-02-22",25]
[null,null,null,"2011-02-21",32,null,"2011-02-21",29]
[null,null,null,"2011-02-20",33,null,"2011-02-20",32]
[null,null,null,"2011-02-19",39.5,null,"2011-02-19",30]
[null,null,null,"2011-02-18",59,null,"2011-02-18",41.5]
[null,null,null,"2011-02-17",54,null,"2011-02-17",51.5]
[null,null,null,"2011-02-16",37.5,null,"2011-02-16",43]
[null,null,null,"2011-02-15",33,null,"2011-02-15",30.5]
[null,null,null,"2011-02-14",49,null,"2011-02-14",34]
[null,null,null,"2011-02-13",36,null,"2011-02-13",38.5]
[null,null,null,"2011-02-12",33,null,"2011-02-12",30.5]
[null,null,null,"2011-02-11",26.5,null,"2011-02-11",17.5]
[null,null,null,"2011-02-10",25,null,"2011-02-10",3.5]
[null,null,null,"2011-02-09",23,null,"2011-02-09",5]
[null,null,null,"2011-02-08",29.5,null,"2011-02-08",11]
[null,null,null,"2011-02-07",38.5,null,"2011-02-07",25.5]
[null,null,null,"2011-02-06",39.5,null,"2011-02-06",28]
[null,null,null,"2011-02-05",34,null,"2011-02-05",16]
[null,null,null,"2011-02-04",25.5,null,"2011-02-04",15]
[null,null,null,"2011-02-03",30,null,"2011-02-03",5]
[null,null,null,"2011-02-02",34.5,null,"2011-02-02",14]
[null,null,null,"2011-02-01",28,null,"2011-02-01",21.5]
[null,null,null,"2011-01-31",28,null,"2011-01-31",23]
[null,null,null,"2011-01-30",33.5,null,"2011-01-30",28]
[null,null,null,"2011-01-29",31,null,"2011-01-29",29.5]
[null,null,null,"2011-01-28",29,null,"2011-01-28",25]
[null,null,null,"2011-01-27",33,null,"2011-01-27",21]
[null,null,null,"2011-01-26",30.5,null,"2011-01-26",23]
[null,null,null,"2011-01-25",30,null,"2011-01-25",25]
[null,null,null,"2011-01-24",14.5,null,"2011-01-24",21]
[null,null,null,"2011-01-23",19,null,"2011-01-23",12]
[null,null,null,"2011-01-22",19,null,"2011-01-22",11]
[null,null,null,"2011-01-21",26.5,null,"2011-01-21",2]
[null,null,null,"2011-01-20",34,null,"2011-01-20",12]
[null,null,null,"2011-01-19",39,null,"2011-01-19",19]
[null,null,null,"2011-01-18",32.5,null,"2011-01-18",25.5]
[null,null,null,"2011-01-17",25,null,"2011-01-17",25]
[null,null,null,"2011-01-16",31.5,null,"2011-01-16",14]
[null,null,null,"2011-01-15",28,null,"2011-01-15",18.5]
[null,null,null,"2011-01-14",23,null,"2011-01-14",20]
[null,null,null,"2011-01-13",24.5,null,"2011-01-13",19.5]
[null,null,null,"2011-01-12",28.5,null,"2011-01-12",23]
[null,null,null,"2011-01-11",26.5,null,"2011-01-11",24.5]
[null,null,null,"2011-01-10",29.5,null,"2011-01-10",25.5]
[null,null,null,"2011-01-09",29.5,null,"2011-01-09",20]
[null,null,null,"2011-01-08",25,null,"2011-01-08",16.5]
[null,null,null,"2011-01-07",27.5,null,"2011-01-07",17]
[null,null,null,"2011-01-06",29,null,"2011-01-06",23]
[null,null,null,"2011-01-05",34.5,null,"2011-01-05",19.5]
[null,null,null,"2011-01-04",33,null,"2011-01-04",21.5]
[null,null,null,"2011-01-03",33.5,null,"2011-01-03",29]
[null,null,null,"2011-01-02",44,null,"2011-01-02",18]
[null,null,null,"2011-01-01",42,null,"2011-01-01",27.5]
[null,null,null,"2010-12-31",36.5,null,"2010-12-31",47]
[null,null,null,"2010-12-30",30.5,null,"2010-12-30",40]
[null,null,null,"2010-12-29",34,null,"2010-12-29",22.5]
[null,null,null,"2010-12-28",31.5,null,"2010-12-28",19.5]
[null,null,null,"2010-12-27",24,null,"2010-12-27",16.5]
[null,null,null,"2010-12-26",27.5,null,"2010-12-26",26]
[null,null,null,"2010-12-25",30,null,"2010-12-25",25.5]
[null,null,null,"2010-12-24",36,null,"2010-12-24",29.5]
[null,null,null,"2010-12-23",34,null,"2010-12-23",24]
[null,null,null,"2010-12-22",34,null,"2010-12-22",26.5]
[null,null,null,"2010-12-21",35,null,"2010-12-21",28.5]
[null,null,null,"2010-12-20",32,null,"2010-12-20",16.5]
[null,null,null,"2010-12-19",31.5,null,"2010-12-19",14.5]
[null,null,null,"2010-12-18",29.5,null,"2010-12-18",14.5]
[null,null,null,"2010-12-17",29.5,null,"2010-12-17",17.5]
[null,null,null,"2010-12-16",26,null,"2010-12-16",23.5]
[null,null,null,"2010-12-15",26,null,"2010-12-15",13.5]
[null,null,null,"2010-12-14",23,null,"2010-12-14",13.5]
[null,null,null,"2010-12-13",34,null,"2010-12-13",11.5]
[null,null,null,"2010-12-12",47.5,null,"2010-12-12",21.5]
[null,null,null,"2010-12-11",37,null,"2010-12-11",30]
[null,null,null,"2010-12-10",26.5,null,"2010-12-10",30]
[null,null,null,"2010-12-09",26.5,null,"2010-12-09",17]
[null,null,null,"2010-12-08",31.5,null,"2010-12-08",16]
[null,null,null,"2010-12-07",35,null,"2010-12-07",15.5]
[null,null,null,"2010-12-06",33,null,"2010-12-06",14]
[null,null,null,"2010-12-05",33.5,null,"2010-12-05",19]
[null,null,null,"2010-12-04",36.5,null,"2010-12-04",27.5]
[null,null,null,"2010-12-03",38.5,null,"2010-12-03",24.5]
[null,null,null,"2010-12-02",38.5,null,"2010-12-02",27.5]
[null,null,null,"2010-12-01",51,null,"2010-12-01",24]
[null,null,null,"2010-11-30",47,null,"2010-11-30",37]
[null,null,null,"2010-11-29",39.5,null,"2010-11-29",41]
[null,null,null,"2010-11-28",40,null,"2010-11-28",34]
[null,null,null,"2010-11-27",38.5,null,"2010-11-27",27.5]
[null,null,null,"2010-11-26",44.5,null,"2010-11-26",25]
[null,null,null,"2010-11-25",43.5,null,"2010-11-25",30]
[null,null,null,"2010-11-24",46,null,"2010-11-24",32.5]
[null,null,null,"2010-11-23",55.5,null,"2010-11-23",32.5]
[null,null,null,"2010-11-22",56,null,"2010-11-22",53]
[null,null,null,"2010-11-21",42.5,null,"2010-11-21",50.5]
[null,null,null,"2010-11-20",46,null,"2010-11-20",36.5]
[null,null,null,"2010-11-19",43.5,null,"2010-11-19",38]
[null,null,null,"2010-11-18",47.5,null,"2010-11-18",32.5]
[null,null,null,"2010-11-17",56.5,null,"2010-11-17",42]
[null,null,null,"2010-11-16",56,null,"2010-11-16",41]
[null,null,null,"2010-11-15",54.5,null,"2010-11-15",41.5]
[null,null,null,"2010-11-14",48.5,null,"2010-11-14",42.5]
[null,null,null,"2010-11-13",52,null,"2010-11-13",48]
[null,null,null,"2010-11-12",49.5,null,"2010-11-12",52]
[null,null,null,"2010-11-11",47,null,"2010-11-11",56.5]
[null,null,null,"2010-11-10",50.5,null,"2010-11-10",55.5]
[null,null,null,"2010-11-09",49,null,"2010-11-09",54.5]
[null,null,null,"2010-11-08",44,null,"2010-11-08",52.5]
[null,null,null,"2010-11-07",44.5,null,"2010-11-07",47]
[null,null,null,"2010-11-06",44.5,null,"2010-11-06",35.5]
[null,null,null,"2010-11-05",48.5,null,"2010-11-05",34]
[null,null,null,"2010-11-04",49.5,null,"2010-11-04",44.5]
[null,null,null,"2010-11-03",45,null,"2010-11-03",42.5]
[null,null,null,"2010-11-02",44.5,null,"2010-11-02",42]
[null,null,null,"2010-11-01",44,null,"2010-11-01",43]
[null,null,null,"2010-10-31",51.5,null,"2010-10-31",44]
[null,null,null,"2010-10-30",48,null,"2010-10-30",52.5]
[null,null,null,"2010-10-29",52.5,null,"2010-10-29",40.5]
[null,null,null,"2010-10-28",66.5,null,"2010-10-28",42.5]
[null,null,null,"2010-10-27",69,null,"2010-10-27",54]
[null,null,null,"2010-10-26",68,null,"2010-10-26",62]
[null,null,null,"2010-10-25",65,null,"2010-10-25",64]
[null,null,null,"2010-10-24",59.5,null,"2010-10-24",63]
[null,null,null,"2010-10-23",54.5,null,"2010-10-23",59.5]
[null,null,null,"2010-10-22",50,null,"2010-10-22",48.5]
[null,null,null,"2010-10-21",55.5,null,"2010-10-21",47]
[null,null,null,"2010-10-20",52.5,null,"2010-10-20",57]
[null,null,null,"2010-10-19",54.5,null,"2010-10-19",49.5]
[null,null,null,"2010-10-18",53.5,null,"2010-10-18",52]
[null,null,null,"2010-10-17",56.5,null,"2010-10-17",56]
[null,null,null,"2010-10-16",55.5,null,"2010-10-16",55.5]
[null,null,null,"2010-10-15",54.5,null,"2010-10-15",53.5]
[null,null,null,"2010-10-14",54.5,null,"2010-10-14",54.5]
[null,null,null,"2010-10-13",56,null,"2010-10-13",56.5]
[null,null,null,"2010-10-12",63,null,"2010-10-12",64]
[null,null,null,"2010-10-11",65.5,null,"2010-10-11",68]
[null,null,null,"2010-10-10",57,null,"2010-10-10",70.5]
[null,null,null,"2010-10-09",64.5,null,"2010-10-09",70.5]
[null,null,null,"2010-10-08",63.5,null,"2010-10-08",63.5]
[null,null,null,"2010-10-07",63,null,"2010-10-07",62.5]
[null,null,null,"2010-10-06",59,null,"2010-10-06",62]
[null,null,null,"2010-10-05",57.5,null,"2010-10-05",53.5]
[null,null,null,"2010-10-04",54.5,null,"2010-10-04",49]
[null,null,null,"2010-10-03",57,null,"2010-10-03",49]
[null,null,null,"2010-10-02",59.5,null,"2010-10-02",51]
[null,null,null,"2010-10-01",66.5,null,"2010-10-01",60.5]
[null,null,null,"2010-09-30",74,null,"2010-09-30",63]
[null,null,null,"2010-09-29",70,null,"2010-09-29",63.5]
[null,null,null,"2010-09-28",74.5,null,"2010-09-28",58.5]
[null,null,null,"2010-09-27",67.5,null,"2010-09-27",56.5]
[null,null,null,"2010-09-26",67.5,null,"2010-09-26",55]
[null,null,null,"2010-09-25",78.5,null,"2010-09-25",56]
[null,null,null,"2010-09-24",76.5,null,"2010-09-24",68]
[null,null,null,"2010-09-23",73.5,null,"2010-09-23",77]
[null,null,null,"2010-09-22",76,null,"2010-09-22",68.5]
[null,null,null,"2010-09-21",62.5,null,"2010-09-21",78]
[null,null,null,"2010-09-20",67.5,null,"2010-09-20",68.5]
[null,null,null,"2010-09-19",71,null,"2010-09-19",61]
[null,null,null,"2010-09-18",65.5,null,"2010-09-18",61.5]
[null,null,null,"2010-09-17",66,null,"2010-09-17",61.5]
[null,null,null,"2010-09-16",64,null,"2010-09-16",61]
[null,null,null,"2010-09-15",65.5,null,"2010-09-15",67]
[null,null,null,"2010-09-14",68,null,"2010-09-14",65.5]
[null,null,null,"2010-09-13",69,null,"2010-09-13",69.5]
[null,null,null,"2010-09-12",64.5,null,"2010-09-12",68.5]
[null,null,null,"2010-09-11",70,null,"2010-09-11",66.5]
[null,null,null,"2010-09-10",67.5,null,"2010-09-10",63.5]
[null,null,null,"2010-09-09",66.5,null,"2010-09-09",58.5]
[null,null,null,"2010-09-08",79,null,"2010-09-08",61]
[null,null,null,"2010-09-07",79.5,null,"2010-09-07",67.5]
[null,null,null,"2010-09-06",68,null,"2010-09-06",74]
[null,null,null,"2010-09-05",68,null,"2010-09-05",62.5]
[null,null,null,"2010-09-04",73.5,null,"2010-09-04",59.5]
[null,null,null,"2010-09-03",82,null,"2010-09-03",63]
[null,null,null,"2010-09-02",85,null,"2010-09-02",74]
[null,null,null,"2010-09-01",86.5,null,"2010-09-01",76]
[null,null,null,"2010-08-31",85.5,null,"2010-08-31",84]
[null,null,null,"2010-08-30",83.5,null,"2010-08-30",83]
[null,null,null,"2010-08-29",79,null,"2010-08-29",82.5]
[null,null,null,"2010-08-28",72,null,"2010-08-28",76.5]
[null,null,null,"2010-08-27",70.5,null,"2010-08-27",72.5]
[null,null,null,"2010-08-26",75.5,null,"2010-08-26",69]
[null,null,null,"2010-08-25",68,null,"2010-08-25",70]
[null,null,null,"2010-08-24",68,null,"2010-08-24",74]
[null,null,null,"2010-08-23",68.5,null,"2010-08-23",72.5]
[null,null,null,"2010-08-22",76,null,"2010-08-22",74.5]
[null,null,null,"2010-08-21",73.5,null,"2010-08-21",78.5]
[null,null,null,"2010-08-20",80.5,null,"2010-08-20",81.5]
[null,null,null,"2010-08-19",78,null,"2010-08-19",77]
[null,null,null,"2010-08-18",77,null,"2010-08-18",73.5]
[null,null,null,"2010-08-17",82.5,null,"2010-08-17",71.5]
[null,null,null,"2010-08-16",80,null,"2010-08-16",71.5]
[null,null,null,"2010-08-15",73.5,null,"2010-08-15",74.5]
[null,null,null,"2010-08-14",74,null,"2010-08-14",80]
[null,null,null,"2010-08-13",75.5,null,"2010-08-13",82.5]
[null,null,null,"2010-08-12",74,null,"2010-08-12",83]
[null,null,null,"2010-08-11",85,null,"2010-08-11",82.5]
[null,null,null,"2010-08-10",85,null,"2010-08-10",82]
[null,null,null,"2010-08-09",84.5,null,"2010-08-09",80]
[null,null,null,"2010-08-08",80,null,"2010-08-08",78]
[null,null,null,"2010-08-07",76,null,"2010-08-07",72.5]
[null,null,null,"2010-08-06",81,null,"2010-08-06",73]
[null,null,null,"2010-08-05",87.5,null,"2010-08-05",75.5]
[null,null,null,"2010-08-04",83,null,"2010-08-04",77]
[null,null,null,"2010-08-03",80.5,null,"2010-08-03",76]
[null,null,null,"2010-08-02",77,null,"2010-08-02",75.5]
[null,null,null,"2010-08-01",74,null,"2010-08-01",75.5]
[null,null,null,"2010-07-31",74.5,null,"2010-07-31",72.5]
[null,null,null,"2010-07-30",77.5,null,"2010-07-30",74.5]
[null,null,null,"2010-07-29",82.5,null,"2010-07-29",74.5]
[null,null,null,"2010-07-28",82,null,"2010-07-28",80.5]
[null,null,null,"2010-07-27",79,null,"2010-07-27",78]
[null,null,null,"2010-07-26",78,null,"2010-07-26",72.5]
[null,null,null,"2010-07-25",83.5,null,"2010-07-25",73.5]
[null,null,null,"2010-07-24",90.5,null,"2010-07-24",78]
[null,null,null,"2010-07-23",84.5,null,"2010-07-23",82]
[null,null,null,"2010-07-22",83.5,null,"2010-07-22",79.5]
[null,null,null,"2010-07-21",86,null,"2010-07-21",81.5]
[null,null,null,"2010-07-20",83.5,null,"2010-07-20",77]
[null,null,null,"2010-07-19",85.5,null,"2010-07-19",76.5]
[null,null,null,"2010-07-18",86.5,null,"2010-07-18",82]
[null,null,null,"2010-07-17",86,null,"2010-07-17",82]
[null,null,null,"2010-07-16",87,null,"2010-07-16",78.5]
[null,null,null,"2010-07-15",80.5,null,"2010-07-15",80.5]
[null,null,null,"2010-07-14",78.5,null,"2010-07-14",80]
[null,null,null,"2010-07-13",78,null,"2010-07-13",77]
[null,null,null,"2010-07-12",81.5,null,"2010-07-12",74.5]
[null,null,null,"2010-07-11",82.5,null,"2010-07-11",75.5]
[null,null,null,"2010-07-10",79,null,"2010-07-10",79]
[null,null,null,"2010-07-09",81,null,"2010-07-09",79]
[null,null,null,"2010-07-08",82,null,"2010-07-08",80.5]
[null,null,null,"2010-07-07",90.5,null,"2010-07-07",82]
[null,null,null,"2010-07-06",92,null,"2010-07-06",81.5]
[null,null,null,"2010-07-05",87.5,null,"2010-07-05",84.5]
[null,null,null,"2010-07-04",84,null,"2010-07-04",79.5]
[null,null,null,"2010-07-03",78,null,"2010-07-03",73.5]
[null,null,null,"2010-07-02",73.5,null,"2010-07-02",71]
[null,null,null,"2010-07-01",72.5,null,"2010-07-01",66]
[null,null,null,"2010-06-30",73,null,"2010-06-30",65.5]
[null,null,null,"2010-06-29",81.5,null,"2010-06-29",67]
[null,null,null,"2010-06-28",89,null,"2010-06-28",72.5]
[null,null,null,"2010-06-27",84,null,"2010-06-27",78.5]
[null,null,null,"2010-06-26",80.5,null,"2010-06-26",78]
[null,null,null,"2010-06-25",81,null,"2010-06-25",73]
[null,null,null,"2010-06-24",86.5,null,"2010-06-24",74.5]
[null,null,null,"2010-06-23",82.5,null,"2010-06-23",78]
[null,null,null,"2010-06-22",77,null,"2010-06-22",77]
[null,null,null,"2010-06-21",82,null,"2010-06-21",76]
[null,null,null,"2010-06-20",82,null,"2010-06-20",72.5]
[null,null,null,"2010-06-19",71,null,"2010-06-19",75.5]
[null,null,null,"2010-06-18",73.5,null,"2010-06-18",78.5]
[null,null,null,"2010-06-17",71,null,"2010-06-17",74]
[null,null,null,"2010-06-16",69.5,null,"2010-06-16",72.5]
[null,null,null,"2010-06-15",72,null,"2010-06-15",69.5]
[null,null,null,"2010-06-14",75,null,"2010-06-14",65]
[null,null,null,"2010-06-13",73,null,"2010-06-13",66.5]
[null,null,null,"2010-06-12",73.5,null,"2010-06-12",69.5]
[null,null,null,"2010-06-11",65,null,"2010-06-11",76.5]
[null,null,null,"2010-06-10",68,null,"2010-06-10",67.5]
[null,null,null,"2010-06-09",62.5,null,"2010-06-09",74]
[null,null,null,"2010-06-08",68,null,"2010-06-08",62.5]
[null,null,null,"2010-06-07",67.5,null,"2010-06-07",62]
[null,null,null,"2010-06-06",77.5,null,"2010-06-06",65.5]
[null,null,null,"2010-06-05",83.5,null,"2010-06-05",69.5]
[null,null,null,"2010-06-04",81.5,null,"2010-06-04",70]
[null,null,null,"2010-06-03",80,null,"2010-06-03",63.5]
[null,null,null,"2010-06-02",76.5,null,"2010-06-02",67]
[null,null,null,"2010-06-01",78.5,null,"2010-06-01",74]
[null,null,null,"2010-05-31",77.5,null,"2010-05-31",73.5]
[null,null,null,"2010-05-30",77.5,null,"2010-05-30",76]
[null,null,null,"2010-05-29",71.5,null,"2010-05-29",72.5]
[null,null,null,"2010-05-28",63,null,"2010-05-28",68]
[null,null,null,"2010-05-27",70.5,null,"2010-05-27",69]
[null,null,null,"2010-05-26",79,null,"2010-05-26",76.5]
[null,null,null,"2010-05-25",70,null,"2010-05-25",78.5]
[null,null,null,"2010-05-24",67,null,"2010-05-24",80.5]
[null,null,null,"2010-05-23",66.5,null,"2010-05-23",75.5]
[null,null,null,"2010-05-22",66,null,"2010-05-22",66]
[null,null,null,"2010-05-21",72.5,null,"2010-05-21",64.5]
[null,null,null,"2010-05-20",69,null,"2010-05-20",60.5]
[null,null,null,"2010-05-19",58.5,null,"2010-05-19",59]
[null,null,null,"2010-05-18",56.5,null,"2010-05-18",55.5]
[null,null,null,"2010-05-17",64,null,"2010-05-17",54]
[null,null,null,"2010-05-16",64.5,null,"2010-05-16",53.5]
[null,null,null,"2010-05-15",68,null,"2010-05-15",52]
[null,null,null,"2010-05-14",69.5,null,"2010-05-14",56.5]
[null,null,null,"2010-05-13",56.5,null,"2010-05-13",60.5]
[null,null,null,"2010-05-12",47.5,null,"2010-05-12",47.5]
[null,null,null,"2010-05-11",50,null,"2010-05-11",48]
[null,null,null,"2010-05-10",51.5,null,"2010-05-10",49.5]
[null,null,null,"2010-05-09",51,null,"2010-05-09",48]
[null,null,null,"2010-05-08",65,null,"2010-05-08",46]
[null,null,null,"2010-05-07",62.5,null,"2010-05-07",52]
[null,null,null,"2010-05-06",70,null,"2010-05-06",54.5]
[null,null,null,"2010-05-05",67.5,null,"2010-05-05",64]
[null,null,null,"2010-05-04",72,null,"2010-05-04",64.5]
[null,null,null,"2010-05-03",76.5,null,"2010-05-03",61]
[null,null,null,"2010-05-02",78.5,null,"2010-05-02",61]
[null,null,null,"2010-05-01",73,null,"2010-05-01",64]
[null,null,null,"2010-04-30",68.5,null,"2010-04-30",71.5]
[null,null,null,"2010-04-29",58.5,null,"2010-04-29",62.5]
[null,null,null,"2010-04-28",49,null,"2010-04-28",48.5]
[null,null,null,"2010-04-27",50.5,null,"2010-04-27",44]
[null,null,null,"2010-04-26",52,null,"2010-04-26",55]
[null,null,null,"2010-04-25",49,null,"2010-04-25",53.5]
[null,null,null,"2010-04-24",56,null,"2010-04-24",55.5]
[null,null,null,"2010-04-23",57,null,"2010-04-23",52]
[null,null,null,"2010-04-22",61,null,"2010-04-22",49]
[null,null,null,"2010-04-21",58,null,"2010-04-21",51.5]
[null,null,null,"2010-04-20",59,null,"2010-04-20",51]
[null,null,null,"2010-04-19",54,null,"2010-04-19",45.5]
[null,null,null,"2010-04-18",51,null,"2010-04-18",44]
[null,null,null,"2010-04-17",51,null,"2010-04-17",48]
[null,null,null,"2010-04-16",50,null,"2010-04-16",53.5]
[null,null,null,"2010-04-15",59.5,null,"2010-04-15",71.5]
[null,null,null,"2010-04-14",54,null,"2010-04-14",63]
[null,null,null,"2010-04-13",50.5,null,"2010-04-13",55.5]
[null,null,null,"2010-04-12",58.5,null,"2010-04-12",57]
[null,null,null,"2010-04-11",63,null,"2010-04-11",53.5]
[null,null,null,"2010-04-10",53.5,null,"2010-04-10",56]
[null,null,null,"2010-04-09",57,null,"2010-04-09",43]
[null,null,null,"2010-04-08",72.5,null,"2010-04-08",37]
[null,null,null,"2010-04-07",75.5,null,"2010-04-07",43]
[null,null,null,"2010-04-06",68,null,"2010-04-06",61.5]
[null,null,null,"2010-04-05",67.5,null,"2010-04-05",61]
[null,null,null,"2010-04-04",62.5,null,"2010-04-04",57.5]
[null,null,null,"2010-04-03",56,null,"2010-04-03",54]
[null,null,null,"2010-04-02",56,null,"2010-04-02",70]
[null,null,null,"2010-04-01",57.5,null,"2010-04-01",68.5]
[null,null,null,"2010-03-31",54,null,"2010-03-31",64]
[null,null,null,"2010-03-30",46.5,null,"2010-03-30",46.5]
[null,null,null,"2010-03-29",50.5,null,"2010-03-29",38]
[null,null,null,"2010-03-28",40.5,null,"2010-03-28",44.5]
[null,null,null,"2010-03-27",35,null,"2010-03-27",40.5]
[null,null,null,"2010-03-26",45.5,null,"2010-03-26",34]
[null,null,null,"2010-03-25",53,null,"2010-03-25",38]
[null,null,null,"2010-03-24",54,null,"2010-03-24",44]
[null,null,null,"2010-03-23",49.5,null,"2010-03-23",43.5]
[null,null,null,"2010-03-22",53.5,null,"2010-03-22",41.5]
[null,null,null,"2010-03-21",56,null,"2010-03-21",37.5]
[null,null,null,"2010-03-20",61,null,"2010-03-20",35]
[null,null,null,"2010-03-19",59,null,"2010-03-19",52]
[null,null,null,"2010-03-18",56.5,null,"2010-03-18",51]
[null,null,null,"2010-03-17",53.5,null,"2010-03-17",47.5]
[null,null,null,"2010-03-16",52,null,"2010-03-16",48]
[null,null,null,"2010-03-15",44,null,"2010-03-15",43.5]
[null,null,null,"2010-03-14",47.5,null,"2010-03-14",45]
[null,null,null,"2010-03-13",45,null,"2010-03-13",43]
[null,null,null,"2010-03-12",43,null,"2010-03-12",47.5]
[null,null,null,"2010-03-11",49.5,null,"2010-03-11",52]
[null,null,null,"2010-03-10",46.5,null,"2010-03-10",54]
[null,null,null,"2010-03-09",52.5,null,"2010-03-09",41.5]
[null,null,null,"2010-03-08",50.5,null,"2010-03-08",38.5]
[null,null,null,"2010-03-07",47.5,null,"2010-03-07",36]
[null,null,null,"2010-03-06",43.5,null,"2010-03-06",32.5]
[null,null,null,"2010-03-05",42.5,null,"2010-03-05",30.5]
[null,null,null,"2010-03-04",43,null,"2010-03-04",32]
[null,null,null,"2010-03-03",37.5,null,"2010-03-03",31.5]
[null,null,null,"2010-03-02",40,null,"2010-03-02",28]
[null,null,null,"2010-03-01",42,null,"2010-03-01",31.5]
[null,null,null,"2010-02-28",36,null,"2010-02-28",35]
[null,null,null,"2010-02-27",33.5,null,"2010-02-27",31]
[null,null,null,"2010-02-26",30.5,null,"2010-02-26",24]
[null,null,null,"2010-02-25",33,null,"2010-02-25",23]
[null,null,null,"2010-02-24",39.5,null,"2010-02-24",25]
[null,null,null,"2010-02-23",36.5,null,"2010-02-23",27.5]
[null,null,null,"2010-02-22",36.5,null,"2010-02-22",31]
[null,null,null,"2010-02-21",40.5,null,"2010-02-21",34.5]
[null,null,null,"2010-02-20",40.5,null,"2010-02-20",34.5]
[null,null,null,"2010-02-19",40.5,null,"2010-02-19",30.5]
[null,null,null,"2010-02-18",36,null,"2010-02-18",32]
[null,null,null,"2010-02-17",29.5,null,"2010-02-17",29]
[null,null,null,"2010-02-16",32,null,"2010-02-16",28.5]
[null,null,null,"2010-02-15",32,null,"2010-02-15",17]
[null,null,null,"2010-02-14",32,null,"2010-02-14",19]
[null,null,null,"2010-02-13",28,null,"2010-02-13",20.5]
[null,null,null,"2010-02-12",30.5,null,"2010-02-12",21]
[null,null,null,"2010-02-11",32.5,null,"2010-02-11",20]
[null,null,null,"2010-02-10",33,null,"2010-02-10",21.5]
[null,null,null,"2010-02-09",34,null,"2010-02-09",25.5]
[null,null,null,"2010-02-08",30.5,null,"2010-02-08",25]
[null,null,null,"2010-02-07",26.5,null,"2010-02-07",27]
[null,null,null,"2010-02-06",27,null,"2010-02-06",28]
[null,null,null,"2010-02-05",32,null,"2010-02-05",32.5]
[null,null,null,"2010-02-04",34,null,"2010-02-04",27]
[null,null,null,"2010-02-03",35.5,null,"2010-02-03",27.5]
[null,null,null,"2010-02-02",29,null,"2010-02-02",28.5]
[null,null,null,"2010-02-01",29.5,null,"2010-02-01",22]
[null,null,null,"2010-01-31",23,null,"2010-01-31",22]
[null,null,null,"2010-01-30",17.5,null,"2010-01-30",21.5]
[null,null,null,"2010-01-29",21,null,"2010-01-29",13]
[null,null,null,"2010-01-28",31.5,null,"2010-01-28",11.5]
[null,null,null,"2010-01-27",34,null,"2010-01-27",16]
[null,null,null,"2010-01-26",41,null,"2010-01-26",18]
[null,null,null,"2010-01-25",53,null,"2010-01-25",25.5]
[null,null,null,"2010-01-24",39,null,"2010-01-24",38]
[null,null,null,"2010-01-23",32.5,null,"2010-01-23",39]
[null,null,null,"2010-01-22",37,null,"2010-01-22",34]
[null,null,null,"2010-01-21",34,null,"2010-01-21",32.5]
[null,null,null,"2010-01-20",37.5,null,"2010-01-20",28.5]
[null,null,null,"2010-01-19",40.5,null,"2010-01-19",32.5]
[null,null,null,"2010-01-18",45.5,null,"2010-01-18",29]
[null,null,null,"2010-01-17",36,null,"2010-01-17",24]
[null,null,null,"2010-01-16",44,null,"2010-01-16",25]
[null,null,null,"2010-01-15",39.5,null,"2010-01-15",29.5]
[null,null,null,"2010-01-14",34.5,null,"2010-01-14",35.5]
[null,null,null,"2010-01-13",30.5,null,"2010-01-13",27]
[null,null,null,"2010-01-12",30.5,null,"2010-01-12",25.5]
[null,null,null,"2010-01-11",24,null,"2010-01-11",20.5]
[null,null,null,"2010-01-10",23,null,"2010-01-10",9]
[null,null,null,"2010-01-09",25,null,"2010-01-09",14]
[null,null,null,"2010-01-08",28.5,null,"2010-01-08",19]
[null,null,null,"2010-01-07",35,null,"2010-01-07",19]
[null,null,null,"2010-01-06",31.5,null,"2010-01-06",15]
[null,null,null,"2010-01-05",26.5,null,"2010-01-05",18]
[null,null,null,"2010-01-04",25,null,"2010-01-04",12.5]
[null,null,null,"2010-01-03",21,null,"2010-01-03",8.5]
[null,null,null,"2010-01-02",25.5,null,"2010-01-02",6.5]
[null,null,null,"2010-01-01",38,null,"2010-01-01",10.5]
[null,null,null,"2009-12-31",31.5,null,"2009-12-31",20.5]
[null,null,null,"2009-12-30",24.5,null,"2009-12-30",23]
[null,null,null,"2009-12-29",23.5,null,"2009-12-29",16]
[null,null,null,"2009-12-28",35.5,null,"2009-12-28",22]
[null,null,null,"2009-12-27",44.5,null,"2009-12-27",17.5]
[null,null,null,"2009-12-26",45.5,null,"2009-12-26",23]
[null,null,null,"2009-12-25",35.5,null,"2009-12-25",32]
[null,null,null,"2009-12-24",31,null,"2009-12-24",34]
[null,null,null,"2009-12-23",25,null,"2009-12-23",31.5]
[null,null,null,"2009-12-22",30,null,"2009-12-22",29.5]
[null,null,null,"2009-12-21",31.5,null,"2009-12-21",27]
[null,null,null,"2009-12-20",27.5,null,"2009-12-20",28]
[null,null,null,"2009-12-19",26,null,"2009-12-19",31]
[null,null,null,"2009-12-18",24,null,"2009-12-18",33.5]
[null,null,null,"2009-12-17",27,null,"2009-12-17",26]
[null,null,null,"2009-12-16",34.5,null,"2009-12-16",14]
[null,null,null,"2009-12-15",47,null,"2009-12-15",17.5]
[null,null,null,"2009-12-14",43,null,"2009-12-14",32.5]
[null,null,null,"2009-12-13",40,null,"2009-12-13",34.5]
[null,null,null,"2009-12-12",31.5,null,"2009-12-12",26]
[null,null,null,"2009-12-11",26,null,"2009-12-11",15]
[null,null,null,"2009-12-10",36,null,"2009-12-10",6.5]
[null,null,null,"2009-12-09",44,null,"2009-12-09",23]
[null,null,null,"2009-12-08",39,null,"2009-12-08",30]
[null,null,null,"2009-12-07",34,null,"2009-12-07",28.5]
[null,null,null,"2009-12-06",35,null,"2009-12-06",31]
[null,null,null,"2009-12-05",39.5,null,"2009-12-05",27.5]
[null,null,null,"2009-12-04",47.5,null,"2009-12-04",25.5]
[null,null,null,"2009-12-03",57,null,"2009-12-03",32]
[null,null,null,"2009-12-02",45.5,null,"2009-12-02",39]
[null,null,null,"2009-12-01",41,null,"2009-12-01",43.5]
[null,null,null,"2009-11-30",47,null,"2009-11-30",35.5]
[null,null,null,"2009-11-29",47.5,null,"2009-11-29",38.5]
[null,null,null,"2009-11-28",48,null,"2009-11-28",41.5]
[null,null,null,"2009-11-27",47,null,"2009-11-27",34.5]
[null,null,null,"2009-11-26",53.5,null,"2009-11-26",37.5]
[null,null,null,"2009-11-25",51,null,"2009-11-25",43]
[null,null,null,"2009-11-24",54,null,"2009-11-24",45]
[null,null,null,"2009-11-23",47,null,"2009-11-23",45]
[null,null,null,"2009-11-22",47.5,null,"2009-11-22",45.5]
[null,null,null,"2009-11-21",49,null,"2009-11-21",43.5]
[null,null,null,"2009-11-20",52,null,"2009-11-20",48]
[null,null,null,"2009-11-19",53,null,"2009-11-19",44]
[null,null,null,"2009-11-18",46,null,"2009-11-18",45]
[null,null,null,"2009-11-17",48.5,null,"2009-11-17",45.5]
[null,null,null,"2009-11-16",54,null,"2009-11-16",46]
[null,null,null,"2009-11-15",62.5,null,"2009-11-15",48]
[null,null,null,"2009-11-14",54,null,"2009-11-14",53]
[null,null,null,"2009-11-13",52,null,"2009-11-13",44]
[null,null,null,"2009-11-12",49,null,"2009-11-12",42]
[null,null,null,"2009-11-11",53,null,"2009-11-11",44.5]
[null,null,null,"2009-11-10",58,null,"2009-11-10",47]
[null,null,null,"2009-11-09",56.5,null,"2009-11-09",56.5]
[null,null,null,"2009-11-08",57,null,"2009-11-08",57.5]
[null,null,null,"2009-11-07",42,null,"2009-11-07",58.5]
[null,null,null,"2009-11-06",44.5,null,"2009-11-06",48]
[null,null,null,"2009-11-05",48,null,"2009-11-05",45]
[null,null,null,"2009-11-04",46.5,null,"2009-11-04",46]
[null,null,null,"2009-11-03",52,null,"2009-11-03",40.5]
[null,null,null,"2009-11-02",51.5,null,"2009-11-02",50.5]
[null,null,null,"2009-11-01",52.5,null,"2009-11-01",41]
[null,null,null,"2009-10-31",64.5,null,"2009-10-31",40.5]
[null,null,null,"2009-10-30",55,null,"2009-10-30",56.5]
[null,null,null,"2009-10-29",54,null,"2009-10-29",53.5]
[null,null,null,"2009-10-28",54.5,null,"2009-10-28",53.5]
[null,null,null,"2009-10-27",51,null,"2009-10-27",48]
[null,null,null,"2009-10-26",52,null,"2009-10-26",52]
[null,null,null,"2009-10-25",57.5,null,"2009-10-25",53]
[null,null,null,"2009-10-24",63.5,null,"2009-10-24",44]
[null,null,null,"2009-10-23",57,null,"2009-10-23",51.5]
[null,null,null,"2009-10-22",63.5,null,"2009-10-22",53]
[null,null,null,"2009-10-21",58,null,"2009-10-21",62]
[null,null,null,"2009-10-20",53.5,null,"2009-10-20",55]
[null,null,null,"2009-10-19",48,null,"2009-10-19",54.5]
[null,null,null,"2009-10-18",44.5,null,"2009-10-18",42]
[null,null,null,"2009-10-17",45,null,"2009-10-17",44]
[null,null,null,"2009-10-16",42,null,"2009-10-16",42]
[null,null,null,"2009-10-15",43,null,"2009-10-15",42.5]
[null,null,null,"2009-10-14",46,null,"2009-10-14",45]
[null,null,null,"2009-10-13",57,null,"2009-10-13",40.5]
[null,null,null,"2009-10-12",48,null,"2009-10-12",44.5]
[null,null,null,"2009-10-11",54.5,null,"2009-10-11",36.5]
[null,null,null,"2009-10-10",58.5,null,"2009-10-10",39.5]
[null,null,null,"2009-10-09",66,null,"2009-10-09",45.5]
[null,null,null,"2009-10-08",60,null,"2009-10-08",49]
[null,null,null,"2009-10-07",65,null,"2009-10-07",52.5]
[null,null,null,"2009-10-06",58.5,null,"2009-10-06",55]
[null,null,null,"2009-10-05",61.5,null,"2009-10-05",52.5]
[null,null,null,"2009-10-04",67,null,"2009-10-04",52.5]
[null,null,null,"2009-10-03",68,null,"2009-10-03",52]
[null,null,null,"2009-10-02",54.5,null,"2009-10-02",51.5]
[null,null,null,"2009-10-01",51.5,null,"2009-10-01",50]
[null,null,null,"2009-09-30",56,null,"2009-09-30",54.5]
[null,null,null,"2009-09-29",59.5,null,"2009-09-29",54]
[null,null,null,"2009-09-28",66.5,null,"2009-09-28",55.5]
[null,null,null,"2009-09-27",65,null,"2009-09-27",62]
[null,null,null,"2009-09-26",57,null,"2009-09-26",62]
[null,null,null,"2009-09-25",62,null,"2009-09-25",65]
[null,null,null,"2009-09-24",75.5,null,"2009-09-24",68.5]
[null,null,null,"2009-09-23",75,null,"2009-09-23",69]
[null,null,null,"2009-09-22",69,null,"2009-09-22",68]
[null,null,null,"2009-09-21",65,null,"2009-09-21",63.5]
[null,null,null,"2009-09-20",61.5,null,"2009-09-20",63.5]
[null,null,null,"2009-09-19",63,null,"2009-09-19",65.5]
[null,null,null,"2009-09-18",65.5,null,"2009-09-18",64.5]
[null,null,null,"2009-09-17",60,null,"2009-09-17",61]
[null,null,null,"2009-09-16",66.5,null,"2009-09-16",65]
[null,null,null,"2009-09-15",72,null,"2009-09-15",73]
[null,null,null,"2009-09-14",71,null,"2009-09-14",71]
[null,null,null,"2009-09-13",74,null,"2009-09-13",69]
[null,null,null,"2009-09-12",66.5,null,"2009-09-12",68.5]
[null,null,null,"2009-09-11",62.5,null,"2009-09-11",70.5]
[null,null,null,"2009-09-10",65,null,"2009-09-10",72.5]
[null,null,null,"2009-09-09",70,null,"2009-09-09",71.5]
[null,null,null,"2009-09-08",69,null,"2009-09-08",69]
[null,null,null,"2009-09-07",69,null,"2009-09-07",68]
[null,null,null,"2009-09-06",70.5,null,"2009-09-06",69]
[null,null,null,"2009-09-05",77.5,null,"2009-09-05",66]
[null,null,null,"2009-09-04",73,null,"2009-09-04",64.5]
[null,null,null,"2009-09-03",69.5,null,"2009-09-03",65.5]
[null,null,null,"2009-09-02",66,null,"2009-09-02",61.5]
[null,null,null,"2009-09-01",65,null,"2009-09-01",59.5]
[null,null,null,"2009-08-31",67,null,"2009-08-31",58.5]
[null,null,null,"2009-08-30",76,null,"2009-08-30",58.5]
[null,null,null,"2009-08-29",71,null,"2009-08-29",62.5]
[null,null,null,"2009-08-28",69,null,"2009-08-28",64]
[null,null,null,"2009-08-27",73.5,null,"2009-08-27",64]
[null,null,null,"2009-08-26",79,null,"2009-08-26",67.5]
[null,null,null,"2009-08-25",77,null,"2009-08-25",71]
[null,null,null,"2009-08-24",78,null,"2009-08-24",66.5]
[null,null,null,"2009-08-23",79,null,"2009-08-23",65]
[null,null,null,"2009-08-22",77.5,null,"2009-08-22",62.5]
[null,null,null,"2009-08-21",83.5,null,"2009-08-21",66]
[null,null,null,"2009-08-20",83,null,"2009-08-20",71]
[null,null,null,"2009-08-19",83,null,"2009-08-19",71]
[null,null,null,"2009-08-18",81,null,"2009-08-18",74]
[null,null,null,"2009-08-17",83.5,null,"2009-08-17",76.5]
[null,null,null,"2009-08-16",81.5,null,"2009-08-16",79]
[null,null,null,"2009-08-15",79.5,null,"2009-08-15",78]
[null,null,null,"2009-08-14",78,null,"2009-08-14",75.5]
[null,null,null,"2009-08-13",72,null,"2009-08-13",73]
[null,null,null,"2009-08-12",78.5,null,"2009-08-12",71.5]
[null,null,null,"2009-08-11",84,null,"2009-08-11",72]
[null,null,null,"2009-08-10",83,null,"2009-08-10",77.5]
[null,null,null,"2009-08-09",74.5,null,"2009-08-09",84]
[null,null,null,"2009-08-08",70.5,null,"2009-08-08",78.5]
[null,null,null,"2009-08-07",74,null,"2009-08-07",69]
[null,null,null,"2009-08-06",74,null,"2009-08-06",71]
[null,null,null,"2009-08-05",82,null,"2009-08-05",70]
[null,null,null,"2009-08-04",76.5,null,"2009-08-04",76]
[null,null,null,"2009-08-03",78.5,null,"2009-08-03",75.5]
[null,null,null,"2009-08-02",72.5,null,"2009-08-02",67.5]
[null,null,null,"2009-08-01",74.5,null,"2009-08-01",68]
[null,null,null,"2009-07-31",79,null,"2009-07-31",69.5]
[null,null,null,"2009-07-30",81,null,"2009-07-30",69]
[null,null,null,"2009-07-29",79,null,"2009-07-29",71.5]
[null,null,null,"2009-07-28",79.5,null,"2009-07-28",75]
[null,null,null,"2009-07-27",77.5,null,"2009-07-27",74]
[null,null,null,"2009-07-26",78,null,"2009-07-26",72.5]
[null,null,null,"2009-07-25",74,null,"2009-07-25",73.5]
[null,null,null,"2009-07-24",74,null,"2009-07-24",72]
[null,null,null,"2009-07-23",72,null,"2009-07-23",72]
[null,null,null,"2009-07-22",73.5,null,"2009-07-22",70.5]
[null,null,null,"2009-07-21",69,null,"2009-07-21",69]
[null,null,null,"2009-07-20",75,null,"2009-07-20",65.5]
[null,null,null,"2009-07-19",74,null,"2009-07-19",64]
[null,null,null,"2009-07-18",78,null,"2009-07-18",64.5]
[null,null,null,"2009-07-17",78.5,null,"2009-07-17",63.5]
[null,null,null,"2009-07-16",81,null,"2009-07-16",72]
[null,null,null,"2009-07-15",74.5,null,"2009-07-15",75]
[null,null,null,"2009-07-14",71.5,null,"2009-07-14",67.5]
[null,null,null,"2009-07-13",72,null,"2009-07-13",70]
[null,null,null,"2009-07-12",74,null,"2009-07-12",70]
[null,null,null,"2009-07-11",70.5,null,"2009-07-11",74]
[null,null,null,"2009-07-10",67.5,null,"2009-07-10",72.5]
[null,null,null,"2009-07-09",68,null,"2009-07-09",69]
[null,null,null,"2009-07-08",69.5,null,"2009-07-08",63]
[null,null,null,"2009-07-07",73,null,"2009-07-07",68]
[null,null,null,"2009-07-06",73,null,"2009-07-06",73]
[null,null,null,"2009-07-05",72,null,"2009-07-05",69]
[null,null,null,"2009-07-04",74,null,"2009-07-04",64]
[null,null,null,"2009-07-03",73,null,"2009-07-03",71]
[null,null,null,"2009-07-02",73.5,null,"2009-07-02",66]
[null,null,null,"2009-07-01",73.5,null,"2009-07-01",61]
[null,null,null,"2009-06-30",76,null,"2009-06-30",62.5]
[null,null,null,"2009-06-29",75,null,"2009-06-29",70]
[null,null,null,"2009-06-28",74,null,"2009-06-28",74.5]
[null,null,null,"2009-06-27",73,null,"2009-06-27",75.5]
[null,null,null,"2009-06-26",77,null,"2009-06-26",83.45]
[null,null,null,"2009-06-25",73.5,null,"2009-06-25",84.5]
[null,null,null,"2009-06-24",72,null,"2009-06-24",84.5]
[null,null,null,"2009-06-23",75.5,null,"2009-06-23",82.5]
[null,null,null,"2009-06-22",72,null,"2009-06-22",78.5]
[null,null,null,"2009-06-21",72.5,null,"2009-06-21",77]
[null,null,null,"2009-06-20",67,null,"2009-06-20",77.5]
[null,null,null,"2009-06-19",72.5,null,"2009-06-19",75.5]
[null,null,null,"2009-06-18",64.5,null,"2009-06-18",70.5]
[null,null,null,"2009-06-17",61.5,null,"2009-06-17",66]
[null,null,null,"2009-06-16",62,null,"2009-06-16",65]
[null,null,null,"2009-06-15",65,null,"2009-06-15",67]
[null,null,null,"2009-06-14",66.5,null,"2009-06-14",64]
[null,null,null,"2009-06-13",69.5,null,"2009-06-13",61]
[null,null,null,"2009-06-12",72.5,null,"2009-06-12",61.5]
[null,null,null,"2009-06-11",63,null,"2009-06-11",58.5]
[null,null,null,"2009-06-10",65.5,null,"2009-06-10",60.5]
[null,null,null,"2009-06-09",67.5,null,"2009-06-09",61]
[null,null,null,"2009-06-08",69,null,"2009-06-08",66]
[null,null,null,"2009-06-07",71,null,"2009-06-07",62.5]
[null,null,null,"2009-06-06",68,null,"2009-06-06",57]
[null,null,null,"2009-06-05",59,null,"2009-06-05",61.5]
[null,null,null,"2009-06-04",61.5,null,"2009-06-04",55]
[null,null,null,"2009-06-03",65,null,"2009-06-03",52]
[null,null,null,"2009-06-02",72,null,"2009-06-02",54]
[null,null,null,"2009-06-01",62,null,"2009-06-01",64.5]
[null,null,null,"2009-05-31",69,null,"2009-05-31",59]
[null,null,null,"2009-05-30",70.5,null,"2009-05-30",64.5]
[null,null,null,"2009-05-29",65.5,null,"2009-05-29",62]
[null,null,null,"2009-05-28",60.5,null,"2009-05-28",58]
[null,null,null,"2009-05-27",61.5,null,"2009-05-27",64]
[null,null,null,"2009-05-26",60,null,"2009-05-26",63.5]
[null,null,null,"2009-05-25",73.5,null,"2009-05-25",60.5]
[null,null,null,"2009-05-24",73,null,"2009-05-24",63]
[null,null,null,"2009-05-23",67.5,null,"2009-05-23",65]
[null,null,null,"2009-05-22",72.5,null,"2009-05-22",61]
[null,null,null,"2009-05-21",71.5,null,"2009-05-21",72]
[null,null,null,"2009-05-20",66,null,"2009-05-20",72.5]
[null,null,null,"2009-05-19",55.5,null,"2009-05-19",66]
[null,null,null,"2009-05-18",53,null,"2009-05-18",53]
[null,null,null,"2009-05-17",60.5,null,"2009-05-17",51]
[null,null,null,"2009-05-16",64.5,null,"2009-05-16",53.5]
[null,null,null,"2009-05-15",68,null,"2009-05-15",56.5]
[null,null,null,"2009-05-14",65,null,"2009-05-14",60.5]
[null,null,null,"2009-05-13",55.5,null,"2009-05-13",61.5]
[null,null,null,"2009-05-12",60,null,"2009-05-12",55]
[null,null,null,"2009-05-11",59,null,"2009-05-11",50]
[null,null,null,"2009-05-10",63.5,null,"2009-05-10",53.5]
[null,null,null,"2009-05-09",70,null,"2009-05-09",54.5]
[null,null,null,"2009-05-08",66,null,"2009-05-08",65]
[null,null,null,"2009-05-07",62,null,"2009-05-07",66.5]
[null,null,null,"2009-05-06",57.5,null,"2009-05-06",63]
[null,null,null,"2009-05-05",54,null,"2009-05-05",60]
[null,null,null,"2009-05-04",55,null,"2009-05-04",56.5]
[null,null,null,"2009-05-03",56.5,null,"2009-05-03",56.5]
[null,null,null,"2009-05-02",62.5,null,"2009-05-02",55]
[null,null,null,"2009-05-01",62.5,null,"2009-05-01",53]
[null,null,null,"2009-04-30",53,null,"2009-04-30",58.5]
[null,null,null,"2009-04-29",59.5,null,"2009-04-29",50.5]
[null,null,null,"2009-04-28",79,null,"2009-04-28",46.5]
[null,null,null,"2009-04-27",72.5,null,"2009-04-27",61]
[null,null,null,"2009-04-26",79.5,null,"2009-04-26",60.5]
[null,null,null,"2009-04-25",71.5,null,"2009-04-25",59]
[null,null,null,"2009-04-24",56.5,null,"2009-04-24",66.5]
[null,null,null,"2009-04-23",52.5,null,"2009-04-23",52]
[null,null,null,"2009-04-22",51,null,"2009-04-22",49]
[null,null,null,"2009-04-21",56,null,"2009-04-21",40.5]
[null,null,null,"2009-04-20",47.5,null,"2009-04-20",45.5]
[null,null,null,"2009-04-19",54.5,null,"2009-04-19",53]
[null,null,null,"2009-04-18",64.5,null,"2009-04-18",56.5]
[null,null,null,"2009-04-17",54.5,null,"2009-04-17",51]
[null,null,null,"2009-04-16",47.5,null,"2009-04-16",47.5]
[null,null,null,"2009-04-15",48.5,null,"2009-04-15",46.5]
[null,null,null,"2009-04-14",47.5,null,"2009-04-14",40]
[null,null,null,"2009-04-13",46,null,"2009-04-13",41]
[null,null,null,"2009-04-12",43.5,null,"2009-04-12",39]
[null,null,null,"2009-04-11",46.5,null,"2009-04-11",39]
[null,null,null,"2009-04-10",50,null,"2009-04-10",42.5]
[null,null,null,"2009-04-09",49,null,"2009-04-09",44.5]
[null,null,null,"2009-04-08",42.5,null,"2009-04-08",42.5]
[null,null,null,"2009-04-07",44,null,"2009-04-07",39]
[null,null,null,"2009-04-06",51,null,"2009-04-06",36]
[null,null,null,"2009-04-05",56.5,null,"2009-04-05",38]
[null,null,null,"2009-04-04",51.5,null,"2009-04-04",40.5]
[null,null,null,"2009-04-03",57,null,"2009-04-03",43.5]
[null,null,null,"2009-04-02",54,null,"2009-04-02",43.5]
[null,null,null,"2009-04-01",46,null,"2009-04-01",44.5]
[null,null,null,"2009-03-31",49.5,null,"2009-03-31",45]
[null,null,null,"2009-03-30",49.5,null,"2009-03-30",36]
[null,null,null,"2009-03-29",50.5,null,"2009-03-29",36]
[null,null,null,"2009-03-28",53,null,"2009-03-28",35]
[null,null,null,"2009-03-27",53,null,"2009-03-27",37.5]
[null,null,null,"2009-03-26",43,null,"2009-03-26",46]
[null,null,null,"2009-03-25",41.5,null,"2009-03-25",42.5]
[null,null,null,"2009-03-24",38,null,"2009-03-24",58.5]
[null,null,null,"2009-03-23",37,null,"2009-03-23",47]
[null,null,null,"2009-03-22",42.5,null,"2009-03-22",48.5]
[null,null,null,"2009-03-21",37,null,"2009-03-21",49]
[null,null,null,"2009-03-20",39.5,null,"2009-03-20",33.5]
[null,null,null,"2009-03-19",47,null,"2009-03-19",37]
[null,null,null,"2009-03-18",50.5,null,"2009-03-18",49.5]
[null,null,null,"2009-03-17",44,null,"2009-03-17",57.5]
[null,null,null,"2009-03-16",42,null,"2009-03-16",52]
[null,null,null,"2009-03-15",45.5,null,"2009-03-15",43]
[null,null,null,"2009-03-14",40.5,null,"2009-03-14",37.5]
[null,null,null,"2009-03-13",33,null,"2009-03-13",29.5]
[null,null,null,"2009-03-12",39.5,null,"2009-03-12",20]
[null,null,null,"2009-03-11",49.5,null,"2009-03-11",25]
[null,null,null,"2009-03-10",41.5,null,"2009-03-10",47]
[null,null,null,"2009-03-09",46.5,null,"2009-03-09",38.5]
[null,null,null,"2009-03-08",58,null,"2009-03-08",38.5]
[null,null,null,"2009-03-07",57.5,null,"2009-03-07",42]
[null,null,null,"2009-03-06",45.5,null,"2009-03-06",52]
[null,null,null,"2009-03-05",32,null,"2009-03-05",50.5]
[null,null,null,"2009-03-04",25.5,null,"2009-03-04",35]
[null,null,null,"2009-03-03",19.5,null,"2009-03-03",23]
[null,null,null,"2009-03-02",22,null,"2009-03-02",18]
[null,null,null,"2009-03-01",33,null,"2009-03-01",18]
[null,null,null,"2009-02-28",41.5,null,"2009-02-28",23.5]
[null,null,null,"2009-02-27",51.5,null,"2009-02-27",33.5]
[null,null,null,"2009-02-26",40.5,null,"2009-02-26",42.5]
[null,null,null,"2009-02-25",32.5,null,"2009-02-25",44.5]
[null,null,null,"2009-02-24",30,null,"2009-02-24",28]
[null,null,null,"2009-02-23",30.5,null,"2009-02-23",18]
[null,null,null,"2009-02-22",36.5,null,"2009-02-22",18.5]
[null,null,null,"2009-02-21",34.5,null,"2009-02-21",24.5]
[null,null,null,"2009-02-20",28.5,null,"2009-02-20",20]
[null,null,null,"2009-02-19",38,null,"2009-02-19",17]
[null,null,null,"2009-02-18",35.5,null,"2009-02-18",27.5]
[null,null,null,"2009-02-17",33,null,"2009-02-17",34.5]
[null,null,null,"2009-02-16",35,null,"2009-02-16",25]
[null,null,null,"2009-02-15",36.5,null,"2009-02-15",25]
[null,null,null,"2009-02-14",36,null,"2009-02-14",28.5]
[null,null,null,"2009-02-13",39.5,null,"2009-02-13",30.5]
[null,null,null,"2009-02-12",50.5,null,"2009-02-12",34]
[null,null,null,"2009-02-11",53,null,"2009-02-11",43]
[null,null,null,"2009-02-10",43,null,"2009-02-10",51]
[null,null,null,"2009-02-09",40,null,"2009-02-09",39.5]
[null,null,null,"2009-02-08",48.5,null,"2009-02-08",34]
[null,null,null,"2009-02-07",36,null,"2009-02-07",46]
[null,null,null,"2009-02-06",23.5,null,"2009-02-06",25]
[null,null,null,"2009-02-05",17.5,null,"2009-02-05",10.5]
[null,null,null,"2009-02-04",22.5,null,"2009-02-04",8.5]
[null,null,null,"2009-02-03",30,null,"2009-02-03",10.5]
[null,null,null,"2009-02-02",42.5,null,"2009-02-02",17]
[null,null,null,"2009-02-01",39.5,null,"2009-02-01",30]
[null,null,null,"2009-01-31",24.5,null,"2009-01-31",22.5]
[null,null,null,"2009-01-30",29,null,"2009-01-30",9]
[null,null,null,"2009-01-29",30.5,null,"2009-01-29",22]
[null,null,null,"2009-01-28",32.5,null,"2009-01-28",13]
[null,null,null,"2009-01-27",28.5,null,"2009-01-27",13.5]
[null,null,null,"2009-01-26",24.5,null,"2009-01-26",8]
[null,null,null,"2009-01-25",21.5,null,"2009-01-25",5.5]
[null,null,null,"2009-01-24",31,null,"2009-01-24",6]
[null,null,null,"2009-01-23",37.5,null,"2009-01-23",23.5]
[null,null,null,"2009-01-22",27.5,null,"2009-01-22",23.5]
[null,null,null,"2009-01-21",22,null,"2009-01-21",20.5]
[null,null,null,"2009-01-20",23,null,"2009-01-20",17.5]
[null,null,null,"2009-01-19",26,null,"2009-01-19",16]
[null,null,null,"2009-01-18",28,null,"2009-01-18",12.5]
[null,null,null,"2009-01-17",13,null,"2009-01-17",13.5]
[null,null,null,"2009-01-16",13,null,"2009-01-16",-7.5]
[null,null,null,"2009-01-15",19,null,"2009-01-15",-7]
[null,null,null,"2009-01-14",26,null,"2009-01-14",6]
[null,null,null,"2009-01-13",31.5,null,"2009-01-13",13.5]
[null,null,null,"2009-01-12",27.5,null,"2009-01-12",16]
[null,null,null,"2009-01-11",28.5,null,"2009-01-11",16.5]
[null,null,null,"2009-01-10",26.5,null,"2009-01-10",24.5]
[null,null,null,"2009-01-09",30,null,"2009-01-09",20.5]
[null,null,null,"2009-01-08",34.5,null,"2009-01-08",16.5]
[null,null,null,"2009-01-07",35,null,"2009-01-07",21]
[null,null,null,"2009-01-06",34.5,null,"2009-01-06",23]
[null,null,null,"2009-01-05",41.5,null,"2009-01-05",20]
[null,null,null,"2009-01-04",34.5,null,"2009-01-04",27]
[null,null,null,"2009-01-03",34,null,"2009-01-03",26.5]
[null,null,null,"2009-01-02",27.5,null,"2009-01-02",24]
[null,null,null,"2009-01-01",22,null,"2009-01-01",24]
[null,null,null,"2008-12-31",27,null,"2008-12-31",17.5]
[null,null,null,"2008-12-30",37.5,null,"2008-12-30",32]
[null,null,null,"2008-12-29",40,null,"2008-12-29",36]
[null,null,null,"2008-12-28",55.5,null,"2008-12-28",28]
[null,null,null,"2008-12-27",42,null,"2008-12-27",46.5]
[null,null,null,"2008-12-26",33.5,null,"2008-12-26",38]
[null,null,null,"2008-12-25",44,null,"2008-12-25",12]
[null,null,null,"2008-12-24",41.5,null,"2008-12-24",20]
[null,null,null,"2008-12-23",23.5,null,"2008-12-23",20.5]
[null,null,null,"2008-12-22",19,null,"2008-12-22",1.5]
[null,null,null,"2008-12-21",30,null,"2008-12-21",5.5]
[null,null,null,"2008-12-20",26.5,null,"2008-12-20",24]
[null,null,null,"2008-12-19",32.5,null,"2008-12-19",27]
[null,null,null,"2008-12-18",38,null,"2008-12-18",13]
[null,null,null,"2008-12-17",36.5,null,"2008-12-17",13]
[null,null,null,"2008-12-16",44,null,"2008-12-16",14]
[null,null,null,"2008-12-15",57,null,"2008-12-15",18]
[null,null,null,"2008-12-14",37,null,"2008-12-14",40.5]
[null,null,null,"2008-12-13",30.5,null,"2008-12-13",29]
[null,null,null,"2008-12-12",39.5,null,"2008-12-12",16]
[null,null,null,"2008-12-11",40.5,null,"2008-12-11",24.5]
[null,null,null,"2008-12-10",54.5,null,"2008-12-10",23.5]
[null,null,null,"2008-12-09",43,null,"2008-12-09",31.5]
[null,null,null,"2008-12-08",24.5,null,"2008-12-08",27]
[null,null,null,"2008-12-07",29,null,"2008-12-07",12]
[null,null,null,"2008-12-06",30.5,null,"2008-12-06",22.5]
[null,null,null,"2008-12-05",35,null,"2008-12-05",15]
[null,null,null,"2008-12-04",42.5,null,"2008-12-04",17]
[null,null,null,"2008-12-03",35.5,null,"2008-12-03",29]
[null,null,null,"2008-12-02",40.5,null,"2008-12-02",28]
[null,null,null,"2008-12-01",48.5,null,"2008-12-01",27]
[null,null,null,"2008-11-30",37,null,"2008-11-30",36]
[null,null,null,"2008-11-29",39.5,null,"2008-11-29",32]
[null,null,null,"2008-11-28",41,null,"2008-11-28",35]
[null,null,null,"2008-11-27",38.5,null,"2008-11-27",33.5]
[null,null,null,"2008-11-26",39.5,null,"2008-11-26",33]
[null,null,null,"2008-11-25",39,null,"2008-11-25",34]
[null,null,null,"2008-11-24",38,null,"2008-11-24",35]
[null,null,null,"2008-11-23",31.5,null,"2008-11-23",32.5]
[null,null,null,"2008-11-22",28.5,null,"2008-11-22",26]
[null,null,null,"2008-11-21",32,null,"2008-11-21",23]
[null,null,null,"2008-11-20",35.5,null,"2008-11-20",29]
[null,null,null,"2008-11-19",31.5,null,"2008-11-19",36.5]
[null,null,null,"2008-11-18",34.5,null,"2008-11-18",27.5]
[null,null,null,"2008-11-17",42,null,"2008-11-17",31]
[null,null,null,"2008-11-16",50,null,"2008-11-16",33]
[null,null,null,"2008-11-15",63.5,null,"2008-11-15",38.5]
[null,null,null,"2008-11-14",59.5,null,"2008-11-14",47]
[null,null,null,"2008-11-13",51.5,null,"2008-11-13",49.5]
[null,null,null,"2008-11-12",44.5,null,"2008-11-12",43]
[null,null,null,"2008-11-11",42.5,null,"2008-11-11",30.5]
[null,null,null,"2008-11-10",47.5,null,"2008-11-10",32.5]
[null,null,null,"2008-11-09",50.5,null,"2008-11-09",34.5]
[null,null,null,"2008-11-08",56.5,null,"2008-11-08",37.5]
[null,null,null,"2008-11-07",61.5,null,"2008-11-07",41]
[null,null,null,"2008-11-06",60.5,null,"2008-11-06",55]
[null,null,null,"2008-11-05",59.5,null,"2008-11-05",59]
[null,null,null,"2008-11-04",55,null,"2008-11-04",60.5]
[null,null,null,"2008-11-03",51,null,"2008-11-03",63.5]
[null,null,null,"2008-11-02",43.5,null,"2008-11-02",57.5]
[null,null,null,"2008-11-01",56.5,null,"2008-11-01",51]
[null,null,null,"2008-10-31",49.5,null,"2008-10-31",59]
[null,null,null,"2008-10-30",42.5,null,"2008-10-30",46.5]
[null,null,null,"2008-10-29",41.5,null,"2008-10-29",41.5]
[null,null,null,"2008-10-28",42,null,"2008-10-28",38]
[null,null,null,"2008-10-27",54.5,null,"2008-10-27",40]
[null,null,null,"2008-10-26",55.5,null,"2008-10-26",46.5]
[null,null,null,"2008-10-25",57.5,null,"2008-10-25",48]
[null,null,null,"2008-10-24",45,null,"2008-10-24",49]
[null,null,null,"2008-10-23",46.5,null,"2008-10-23",49.5]
[null,null,null,"2008-10-22",47,null,"2008-10-22",43.5]
[null,null,null,"2008-10-21",51,null,"2008-10-21",46.5]
[null,null,null,"2008-10-20",50.5,null,"2008-10-20",49]
[null,null,null,"2008-10-19",47.5,null,"2008-10-19",51]
[null,null,null,"2008-10-18",50,null,"2008-10-18",51.5]
[null,null,null,"2008-10-17",54,null,"2008-10-17",50]
[null,null,null,"2008-10-16",67.5,null,"2008-10-16",51]
[null,null,null,"2008-10-15",65.5,null,"2008-10-15",55]
[null,null,null,"2008-10-14",65.5,null,"2008-10-14",61]
[null,null,null,"2008-10-13",66,null,"2008-10-13",69]
[null,null,null,"2008-10-12",60.5,null,"2008-10-12",70.5]
[null,null,null,"2008-10-11",60.5,null,"2008-10-11",65]
[null,null,null,"2008-10-10",66,null,"2008-10-10",57]
[null,null,null,"2008-10-09",68.5,null,"2008-10-09",58]
[null,null,null,"2008-10-08",55,null,"2008-10-08",57]
[null,null,null,"2008-10-07",54.5,null,"2008-10-07",59.5]
[null,null,null,"2008-10-06",57,null,"2008-10-06",61.5]
[null,null,null,"2008-10-05",59,null,"2008-10-05",51]
[null,null,null,"2008-10-04",54.5,null,"2008-10-04",49.5]
[null,null,null,"2008-10-03",56.5,null,"2008-10-03",52]
[null,null,null,"2008-10-02",57.5,null,"2008-10-02",51.5]
[null,null,null,"2008-10-01",66,null,"2008-10-01",53.5]
[null,null,null,"2008-09-30",65,null,"2008-09-30",53.5]
[null,null,null,"2008-09-29",67.5,null,"2008-09-29",59]
[null,null,null,"2008-09-28",70,null,"2008-09-28",62.5]
[null,null,null,"2008-09-27",67.5,null,"2008-09-27",67]
[null,null,null,"2008-09-26",62.5,null,"2008-09-26",69]
[null,null,null,"2008-09-25",59.5,null,"2008-09-25",70]
[null,null,null,"2008-09-24",62.5,null,"2008-09-24",69.5]
[null,null,null,"2008-09-23",62.5,null,"2008-09-23",70.5]
[null,null,null,"2008-09-22",67,null,"2008-09-22",71]
[null,null,null,"2008-09-21",66,null,"2008-09-21",69]
[null,null,null,"2008-09-20",61,null,"2008-09-20",69]
[null,null,null,"2008-09-19",59,null,"2008-09-19",65.5]
[null,null,null,"2008-09-18",67,null,"2008-09-18",65]
[null,null,null,"2008-09-17",65.5,null,"2008-09-17",69.5]
[null,null,null,"2008-09-16",66.5,null,"2008-09-16",60]
[null,null,null,"2008-09-15",75.5,null,"2008-09-15",58]
[null,null,null,"2008-09-14",81.5,null,"2008-09-14",65]
[null,null,null,"2008-09-13",74.5,null,"2008-09-13",71.5]
[null,null,null,"2008-09-12",68,null,"2008-09-12",71]
[null,null,null,"2008-09-11",67,null,"2008-09-11",67]
[null,null,null,"2008-09-10",66.5,null,"2008-09-10",60]
[null,null,null,"2008-09-09",71,null,"2008-09-09",59]
[null,null,null,"2008-09-08",74.5,null,"2008-09-08",59.5]
[null,null,null,"2008-09-07",75,null,"2008-09-07",64.5]
[null,null,null,"2008-09-06",76,null,"2008-09-06",63.5]
[null,null,null,"2008-09-05",78.5,null,"2008-09-05",63.5]
[null,null,null,"2008-09-04",81,null,"2008-09-04",64]
[null,null,null,"2008-09-03",76.5,null,"2008-09-03",71.5]
[null,null,null,"2008-09-02",78,null,"2008-09-02",79.5]
[null,null,null,"2008-09-01",73.5,null,"2008-09-01",76]
[null,null,null,"2008-08-31",75,null,"2008-08-31",75]
[null,null,null,"2008-08-30",76,null,"2008-08-30",71.5]
[null,null,null,"2008-08-29",74.5,null,"2008-08-29",74.5]
[null,null,null,"2008-08-28",71,null,"2008-08-28",71.5]
[null,null,null,"2008-08-27",69,null,"2008-08-27",72]
[null,null,null,"2008-08-26",70.5,null,"2008-08-26",68.5]
[null,null,null,"2008-08-25",76,null,"2008-08-25",69]
[null,null,null,"2008-08-24",75,null,"2008-08-24",70]
[null,null,null,"2008-08-23",70.5,null,"2008-08-23",77.5]
[null,null,null,"2008-08-22",73,null,"2008-08-22",77.5]
[null,null,null,"2008-08-21",71,null,"2008-08-21",75]
[null,null,null,"2008-08-20",68.5,null,"2008-08-20",73]
[null,null,null,"2008-08-19",76,null,"2008-08-19",72.5]
[null,null,null,"2008-08-18",77.5,null,"2008-08-18",75]
[null,null,null,"2008-08-17",74,null,"2008-08-17",73.5]
[null,null,null,"2008-08-16",73.5,null,"2008-08-16",70.5]
[null,null,null,"2008-08-15",73.5,null,"2008-08-15",69.5]
[null,null,null,"2008-08-14",75,null,"2008-08-14",71]
[null,null,null,"2008-08-13",73,null,"2008-08-13",72.5]
[null,null,null,"2008-08-12",71.5,null,"2008-08-12",69]
[null,null,null,"2008-08-11",68,null,"2008-08-11",68]
[null,null,null,"2008-08-10",72.5,null,"2008-08-10",66]
[null,null,null,"2008-08-09",72.5,null,"2008-08-09",71]
[null,null,null,"2008-08-08",74,null,"2008-08-08",71]
[null,null,null,"2008-08-07",78.5,null,"2008-08-07",73]
[null,null,null,"2008-08-06",81,null,"2008-08-06",75.5]
[null,null,null,"2008-08-05",77,null,"2008-08-05",78]
[null,null,null,"2008-08-04",76.5,null,"2008-08-04",78.5]
[null,null,null,"2008-08-03",75.5,null,"2008-08-03",72.5]
[null,null,null,"2008-08-02",75,null,"2008-08-02",73]
[null,null,null,"2008-08-01",82,null,"2008-08-01",78.5]
[null,null,null,"2008-07-31",82.5,null,"2008-07-31",80.5]
[null,null,null,"2008-07-30",79,null,"2008-07-30",80.5]
[null,null,null,"2008-07-29",79.5,null,"2008-07-29",76.5]
[null,null,null,"2008-07-28",76.5,null,"2008-07-28",75.5]
[null,null,null,"2008-07-27",74,null,"2008-07-27",72.5]
[null,null,null,"2008-07-26",78,null,"2008-07-26",74.5]
[null,null,null,"2008-07-25",76.5,null,"2008-07-25",71.5]
[null,null,null,"2008-07-24",77.5,null,"2008-07-24",70.5]
[null,null,null,"2008-07-23",75,null,"2008-07-23",70.5]
[null,null,null,"2008-07-22",79,null,"2008-07-22",70]
[null,null,null,"2008-07-21",83,null,"2008-07-21",75.5]
[null,null,null,"2008-07-20",86.5,null,"2008-07-20",77]
[null,null,null,"2008-07-19",87,null,"2008-07-19",72.5]
[null,null,null,"2008-07-18",84,null,"2008-07-18",80]
[null,null,null,"2008-07-17",81,null,"2008-07-17",80]
[null,null,null,"2008-07-16",79,null,"2008-07-16",80.5]
[null,null,null,"2008-07-15",78.5,null,"2008-07-15",75.5]
[null,null,null,"2008-07-14",76.5,null,"2008-07-14",73]
[null,null,null,"2008-07-13",76.5,null,"2008-07-13",70.5]
[null,null,null,"2008-07-12",77.5,null,"2008-07-12",73]
[null,null,null,"2008-07-11",75.5,null,"2008-07-11",76]
[null,null,null,"2008-07-10",80,null,"2008-07-10",73]
[null,null,null,"2008-07-09",80,null,"2008-07-09",76]
[null,null,null,"2008-07-08",82.5,null,"2008-07-08",77.5]
[null,null,null,"2008-07-07",77.5,null,"2008-07-07",79]
[null,null,null,"2008-07-06",73.5,null,"2008-07-06",73]
[null,null,null,"2008-07-05",72.5,null,"2008-07-05",67]
[null,null,null,"2008-07-04",75.5,null,"2008-07-04",64]
[null,null,null,"2008-07-03",79.5,null,"2008-07-03",63]
[null,null,null,"2008-07-02",78,null,"2008-07-02",75]
[null,null,null,"2008-07-01",78.5,null,"2008-07-01",70.5]
[null,null,null,"2008-06-30",77.5,null,"2008-06-30",69.5]
[null,null,null,"2008-06-29",81,null,"2008-06-29",67.5]
[null,null,null,"2008-06-28",81.5,null,"2008-06-28",73.5]
[null,null,null,"2008-06-27",79.5,null,"2008-06-27",75]
[null,null,null,"2008-06-26",77.5,null,"2008-06-26",78]
[null,null,null,"2008-06-25",74,null,"2008-06-25",72.5]
[null,null,null,"2008-06-24",72.5,null,"2008-06-24",68.5]
[null,null,null,"2008-06-23",77,null,"2008-06-23",66.5]
[null,null,null,"2008-06-22",74.5,null,"2008-06-22",69.5]
[null,null,null,"2008-06-21",74.5,null,"2008-06-21",71.5]
[null,null,null,"2008-06-20",70,null,"2008-06-20",70]
[null,null,null,"2008-06-19",67,null,"2008-06-19",66.5]
[null,null,null,"2008-06-18",66.5,null,"2008-06-18",66.5]
[null,null,null,"2008-06-17",70,null,"2008-06-17",65.5]
[null,null,null,"2008-06-16",74,null,"2008-06-16",65.5]
[null,null,null,"2008-06-15",73.5,null,"2008-06-15",71]
[null,null,null,"2008-06-14",80,null,"2008-06-14",71.5]
[null,null,null,"2008-06-13",72,null,"2008-06-13",73.5]
[null,null,null,"2008-06-12",79,null,"2008-06-12",82]
[null,null,null,"2008-06-11",79.5,null,"2008-06-11",73.5]
[null,null,null,"2008-06-10",85,null,"2008-06-10",69]
[null,null,null,"2008-06-09",86.5,null,"2008-06-09",69.5]
[null,null,null,"2008-06-08",85,null,"2008-06-08",74.5]
[null,null,null,"2008-06-07",80,null,"2008-06-07",77]
[null,null,null,"2008-06-06",67.5,null,"2008-06-06",80]
[null,null,null,"2008-06-05",68.5,null,"2008-06-05",73.5]
[null,null,null,"2008-06-04",66.5,null,"2008-06-04",66]
[null,null,null,"2008-06-03",72,null,"2008-06-03",62]
[null,null,null,"2008-06-02",71.5,null,"2008-06-02",71]
[null,null,null,"2008-06-01",74.5,null,"2008-06-01",63.5]
[null,null,null,"2008-05-31",72,null,"2008-05-31",69]
[null,null,null,"2008-05-30",69,null,"2008-05-30",66]
[null,null,null,"2008-05-29",64,null,"2008-05-29",54.5]
[null,null,null,"2008-05-28",62.5,null,"2008-05-28",52.5]
[null,null,null,"2008-05-27",73.5,null,"2008-05-27",46]
[null,null,null,"2008-05-26",69,null,"2008-05-26",64]
[null,null,null,"2008-05-25",67,null,"2008-05-25",61]
[null,null,null,"2008-05-24",63,null,"2008-05-24",53.5]
[null,null,null,"2008-05-23",60.5,null,"2008-05-23",51.5]
[null,null,null,"2008-05-22",56,null,"2008-05-22",52]
[null,null,null,"2008-05-21",57.5,null,"2008-05-21",53.5]
[null,null,null,"2008-05-20",49,null,"2008-05-20",56.5]
[null,null,null,"2008-05-19",55,null,"2008-05-19",50]
[null,null,null,"2008-05-18",59,null,"2008-05-18",49.5]
[null,null,null,"2008-05-17",61,null,"2008-05-17",62.5]
[null,null,null,"2008-05-16",56.5,null,"2008-05-16",56.5]
[null,null,null,"2008-05-15",65.5,null,"2008-05-15",50]
[null,null,null,"2008-05-14",60.5,null,"2008-05-14",54.5]
[null,null,null,"2008-05-13",59,null,"2008-05-13",56.5]
[null,null,null,"2008-05-12",51.5,null,"2008-05-12",48]
[null,null,null,"2008-05-11",54.5,null,"2008-05-11",52]
[null,null,null,"2008-05-10",58.5,null,"2008-05-10",49.5]
[null,null,null,"2008-05-09",57,null,"2008-05-09",49.5]
[null,null,null,"2008-05-08",69.5,null,"2008-05-08",52]
[null,null,null,"2008-05-07",64.5,null,"2008-05-07",59.5]
[null,null,null,"2008-05-06",63.5,null,"2008-05-06",63.5]
[null,null,null,"2008-05-05",60.5,null,"2008-05-05",62.5]
[null,null,null,"2008-05-04",60,null,"2008-05-04",51.5]
[null,null,null,"2008-05-03",53,null,"2008-05-03",49.5]
[null,null,null,"2008-05-02",55,null,"2008-05-02",62.5]
[null,null,null,"2008-05-01",47.5,null,"2008-05-01",61]
[null,null,null,"2008-04-30",49.5,null,"2008-04-30",44]
[null,null,null,"2008-04-29",52.5,null,"2008-04-29",37.5]
[null,null,null,"2008-04-28",55,null,"2008-04-28",40.5]
[null,null,null,"2008-04-27",51.5,null,"2008-04-27",46]
[null,null,null,"2008-04-26",56.5,null,"2008-04-26",47.5]
[null,null,null,"2008-04-25",64,null,"2008-04-25",63]
[null,null,null,"2008-04-24",70.5,null,"2008-04-24",64]
[null,null,null,"2008-04-23",65.5,null,"2008-04-23",63.5]
[null,null,null,"2008-04-22",58,null,"2008-04-22",61.5]
[null,null,null,"2008-04-21",56.5,null,"2008-04-21",58.5]
[null,null,null,"2008-04-20",57,null,"2008-04-20",58]
[null,null,null,"2008-04-19",62.5,null,"2008-04-19",56]
[null,null,null,"2008-04-18",65.5,null,"2008-04-18",60]
[null,null,null,"2008-04-17",57.5,null,"2008-04-17",57]
[null,null,null,"2008-04-16",52,null,"2008-04-16",59]
[null,null,null,"2008-04-15",48,null,"2008-04-15",45]
[null,null,null,"2008-04-14",48,null,"2008-04-14",41.5]
[null,null,null,"2008-04-13",50.5,null,"2008-04-13",37]
[null,null,null,"2008-04-12",63.5,null,"2008-04-12",37.5]
[null,null,null,"2008-04-11",56,null,"2008-04-11",52]
[null,null,null,"2008-04-10",62,null,"2008-04-10",45]
[null,null,null,"2008-04-09",46,null,"2008-04-09",44.5]
[null,null,null,"2008-04-08",48.5,null,"2008-04-08",42.5]
[null,null,null,"2008-04-07",46,null,"2008-04-07",47.5]
[null,null,null,"2008-04-06",46.5,null,"2008-04-06",50.5]
[null,null,null,"2008-04-05",54,null,"2008-04-05",50]
[null,null,null,"2008-04-04",47.5,null,"2008-04-04",46]
[null,null,null,"2008-04-03",41,null,"2008-04-03",44]
[null,null,null,"2008-04-02",46.5,null,"2008-04-02",39]
[null,null,null,"2008-04-01",62,null,"2008-04-01",45]
[null,null,null,"2008-03-31",47.5,null,"2008-03-31",49.5]
[null,null,null,"2008-03-30",36,null,"2008-03-30",39]
[null,null,null,"2008-03-29",40.5,null,"2008-03-29",35]
[null,null,null,"2008-03-28",44,null,"2008-03-28",33.5]
[null,null,null,"2008-03-27",46,null,"2008-03-27",38.5]
[null,null,null,"2008-03-26",53,null,"2008-03-26",41]
[null,null,null,"2008-03-25",38,null,"2008-03-25",46.5]
[null,null,null,"2008-03-24",39,null,"2008-03-24",33]
[null,null,null,"2008-03-23",39.5,null,"2008-03-23",34]
[null,null,null,"2008-03-22",43.5,null,"2008-03-22",32]
[null,null,null,"2008-03-21",40.5,null,"2008-03-21",31.5]
[null,null,null,"2008-03-20",47,null,"2008-03-20",38.5]
[null,null,null,"2008-03-19",49,null,"2008-03-19",40.5]
[null,null,null,"2008-03-18",38,null,"2008-03-18",39]
[null,null,null,"2008-03-17",41,null,"2008-03-17",34.5]
[null,null,null,"2008-03-16",42,null,"2008-03-16",31.5]
[null,null,null,"2008-03-15",50,null,"2008-03-15",33]
[null,null,null,"2008-03-14",45.5,null,"2008-03-14",43.5]
[null,null,null,"2008-03-13",37.5,null,"2008-03-13",46]
[null,null,null,"2008-03-12",43,null,"2008-03-12",36]
[null,null,null,"2008-03-11",41,null,"2008-03-11",35.5]
[null,null,null,"2008-03-10",37.5,null,"2008-03-10",30]
[null,null,null,"2008-03-09",36.5,null,"2008-03-09",27.5]
[null,null,null,"2008-03-08",49,null,"2008-03-08",19.5]
[null,null,null,"2008-03-07",40,null,"2008-03-07",20]
[null,null,null,"2008-03-06",40,null,"2008-03-06",26.5]
[null,null,null,"2008-03-05",48,null,"2008-03-05",28.5]
[null,null,null,"2008-03-04",53.5,null,"2008-03-04",26]
[null,null,null,"2008-03-03",48,null,"2008-03-03",40]
[null,null,null,"2008-03-02",36.5,null,"2008-03-02",44.5]
[null,null,null,"2008-03-01",40,null,"2008-03-01",27]
[null,null,null,"2008-02-29",25.5,null,"2008-02-29",30.5]
[null,null,null,"2008-02-28",24.5,null,"2008-02-28",17]
[null,null,null,"2008-02-27",33,null,"2008-02-27",23]
[null,null,null,"2008-02-26",39,null,"2008-02-26",26]
[null,null,null,"2008-02-25",36.5,null,"2008-02-25",32.5]
[null,null,null,"2008-02-24",30,null,"2008-02-24",26.5]
[null,null,null,"2008-02-23",30.5,null,"2008-02-23",26]
[null,null,null,"2008-02-22",29,null,"2008-02-22",24]
[null,null,null,"2008-02-21",27.5,null,"2008-02-21",15.5]
[null,null,null,"2008-02-20",29.5,null,"2008-02-20",12]
[null,null,null,"2008-02-19",36,null,"2008-02-19",9]
[null,null,null,"2008-02-18",53.5,null,"2008-02-18",19.5]
[null,null,null,"2008-02-17",41,null,"2008-02-17",38.5]
[null,null,null,"2008-02-16",29.5,null,"2008-02-16",19]
[null,null,null,"2008-02-15",39,null,"2008-02-15",16.5]
[null,null,null,"2008-02-14",35.5,null,"2008-02-14",23.5]
[null,null,null,"2008-02-13",40,null,"2008-02-13",14]
[null,null,null,"2008-02-12",25,null,"2008-02-12",17.5]
[null,null,null,"2008-02-11",18,null,"2008-02-11",6]
[null,null,null,"2008-02-10",30.5,null,"2008-02-10",6]
[null,null,null,"2008-02-09",39.5,null,"2008-02-09",26]
[null,null,null,"2008-02-08",40.5,null,"2008-02-08",30.5]
[null,null,null,"2008-02-07",45,null,"2008-02-07",25.5]
[null,null,null,"2008-02-06",56.5,null,"2008-02-06",30]
[null,null,null,"2008-02-05",46,null,"2008-02-05",36]
[null,null,null,"2008-02-04",37,null,"2008-02-04",38]
[null,null,null,"2008-02-03",40.5,null,"2008-02-03",28.5]
[null,null,null,"2008-02-02",39,null,"2008-02-02",27.5]
[null,null,null,"2008-02-01",38.5,null,"2008-02-01",21]
[null,null,null,"2008-01-31",33,null,"2008-01-31",18]
[null,null,null,"2008-01-30",40.5,null,"2008-01-30",5]
[null,null,null,"2008-01-29",33.5,null,"2008-01-29",25]
[null,null,null,"2008-01-28",35.5,null,"2008-01-28",32]
[null,null,null,"2008-01-27",34.5,null,"2008-01-27",20.5]
[null,null,null,"2008-01-26",27.5,null,"2008-01-26",25.5]
[null,null,null,"2008-01-25",27,null,"2008-01-25",7.5]
[null,null,null,"2008-01-24",29,null,"2008-01-24",3]
[null,null,null,"2008-01-23",35,null,"2008-01-23",9.5]
[null,null,null,"2008-01-22",29,null,"2008-01-22",19.5]
[null,null,null,"2008-01-21",21,null,"2008-01-21",17.5]
[null,null,null,"2008-01-20",25.5,null,"2008-01-20",2.5]
[null,null,null,"2008-01-19",33.5,null,"2008-01-19",1.5]
[null,null,null,"2008-01-18",42,null,"2008-01-18",16.5]
[null,null,null,"2008-01-17",33.5,null,"2008-01-17",22.5]
[null,null,null,"2008-01-16",34.5,null,"2008-01-16",30]
[null,null,null,"2008-01-15",36.5,null,"2008-01-15",19.5]
[null,null,null,"2008-01-14",36.5,null,"2008-01-14",21]
[null,null,null,"2008-01-13",38,null,"2008-01-13",32]
[null,null,null,"2008-01-12",43.5,null,"2008-01-12",33]
[null,null,null,"2008-01-11",47,null,"2008-01-11",32]
[null,null,null,"2008-01-10",43.5,null,"2008-01-10",38]
[null,null,null,"2008-01-09",55.5,null,"2008-01-09",34.5]
[null,null,null,"2008-01-08",55.5,null,"2008-01-08",46.5]
[null,null,null,"2008-01-07",52,null,"2008-01-07",58]
[null,null,null,"2008-01-06",40,null,"2008-01-06",50.5]
[null,null,null,"2008-01-05",33.5,null,"2008-01-05",39]
[null,null,null,"2008-01-04",26,null,"2008-01-04",29]
[null,null,null,"2008-01-03",18,null,"2008-01-03",11.5]
[null,null,null,"2008-01-02",28,null,"2008-01-02",11]
[null,null,null,"2008-01-01",38,null,"2008-01-01",15.5]
[null,null,null,"2007-12-31",39,null,"2007-12-31",29]
[null,null,null,"2007-12-30",36.5,null,"2007-12-30",26.5]
[null,null,null,"2007-12-29",45,null,"2007-12-29",25]
[null,null,null,"2007-12-28",42,null,"2007-12-28",32]
[null,null,null,"2007-12-27",39,null,"2007-12-27",34]
[null,null,null,"2007-12-26",33.5,null,"2007-12-26",35]
[null,null,null,"2007-12-25",39,null,"2007-12-25",31.5]
[null,null,null,"2007-12-24",41,null,"2007-12-24",23]
[null,null,null,"2007-12-23",50.5,null,"2007-12-23",33]
[null,null,null,"2007-12-22",38.5,null,"2007-12-22",43]
[null,null,null,"2007-12-21",37.5,null,"2007-12-21",35.5]
[null,null,null,"2007-12-20",41,null,"2007-12-20",30.5]
[null,null,null,"2007-12-19",36.5,null,"2007-12-19",28]
[null,null,null,"2007-12-18",31,null,"2007-12-18",29]
[null,null,null,"2007-12-17",31,null,"2007-12-17",19]
[null,null,null,"2007-12-16",33,null,"2007-12-16",23]
[null,null,null,"2007-12-15",32.5,null,"2007-12-15",28]
[null,null,null,"2007-12-14",37,null,"2007-12-14",23]
[null,null,null,"2007-12-13",33.5,null,"2007-12-13",31]
[null,null,null,"2007-12-12",44,null,"2007-12-12",29.5]
[null,null,null,"2007-12-11",40,null,"2007-12-11",30]
[null,null,null,"2007-12-10",39,null,"2007-12-10",28.5]
[null,null,null,"2007-12-09",37,null,"2007-12-09",25.5]
[null,null,null,"2007-12-08",40,null,"2007-12-08",18.5]
[null,null,null,"2007-12-07",28,null,"2007-12-07",27]
[null,null,null,"2007-12-06",28,null,"2007-12-06",12]
[null,null,null,"2007-12-05",28.5,null,"2007-12-05",19.5]
[null,null,null,"2007-12-04",32,null,"2007-12-04",27.5]
[null,null,null,"2007-12-03",41,null,"2007-12-03",24]
[null,null,null,"2007-12-02",26,null,"2007-12-02",36]
[null,null,null,"2007-12-01",31,null,"2007-12-01",26.5]
[null,null,null,"2007-11-30",37.5,null,"2007-11-30",28]
[null,null,null,"2007-11-29",44,null,"2007-11-29",26]
[null,null,null,"2007-11-28",40,null,"2007-11-28",35.5]
[null,null,null,"2007-11-27",53,null,"2007-11-27",29.5]
[null,null,null,"2007-11-26",51,null,"2007-11-26",35]
[null,null,null,"2007-11-25",39,null,"2007-11-25",33]
[null,null,null,"2007-11-24",33,null,"2007-11-24",32.5]
[null,null,null,"2007-11-23",36,null,"2007-11-23",27]
[null,null,null,"2007-11-22",54.5,null,"2007-11-22",29]
[null,null,null,"2007-11-21",49,null,"2007-11-21",39]
[null,null,null,"2007-11-20",44.5,null,"2007-11-20",50]
[null,null,null,"2007-11-19",39,null,"2007-11-19",48.5]
[null,null,null,"2007-11-18",41,null,"2007-11-18",40]
[null,null,null,"2007-11-17",40,null,"2007-11-17",40]
[null,null,null,"2007-11-16",42.5,null,"2007-11-16",32.5]
[null,null,null,"2007-11-15",52.5,null,"2007-11-15",34]
[null,null,null,"2007-11-14",49,null,"2007-11-14",47.5]
[null,null,null,"2007-11-13",52.5,null,"2007-11-13",46.5]
[null,null,null,"2007-11-12",42,null,"2007-11-12",55]
[null,null,null,"2007-11-11",39.5,null,"2007-11-11",49.5]
[null,null,null,"2007-11-10",40.5,null,"2007-11-10",39]
[null,null,null,"2007-11-09",40.5,null,"2007-11-09",40]
[null,null,null,"2007-11-08",39.5,null,"2007-11-08",43.5]
[null,null,null,"2007-11-07",44,null,"2007-11-07",37]
[null,null,null,"2007-11-06",48,null,"2007-11-06",39]
[null,null,null,"2007-11-05",48.5,null,"2007-11-05",45.5]
[null,null,null,"2007-11-04",49.5,null,"2007-11-04",45]
[null,null,null,"2007-11-03",49,null,"2007-11-03",45.5]
[null,null,null,"2007-11-02",48.5,null,"2007-11-02",44]
[null,null,null,"2007-11-01",58,null,"2007-11-01",44.5]
[null,null,null,"2007-10-31",54,null,"2007-10-31",51.5]
[null,null,null,"2007-10-30",51,null,"2007-10-30",53.5]
[null,null,null,"2007-10-29",47,null,"2007-10-29",50]
[null,null,null,"2007-10-28",50.5,null,"2007-10-28",45]
[null,null,null,"2007-10-27",62,null,"2007-10-27",46]
[null,null,null,"2007-10-26",54.5,null,"2007-10-26",59]
[null,null,null,"2007-10-25",54,null,"2007-10-25",50]
[null,null,null,"2007-10-24",61,null,"2007-10-24",49]
[null,null,null,"2007-10-23",72,null,"2007-10-23",50.5]
[null,null,null,"2007-10-22",65.5,null,"2007-10-22",56.5]
[null,null,null,"2007-10-21",63,null,"2007-10-21",70]
[null,null,null,"2007-10-20",64.5,null,"2007-10-20",60]
[null,null,null,"2007-10-19",69,null,"2007-10-19",56]
[null,null,null,"2007-10-18",69,null,"2007-10-18",68.5]
[null,null,null,"2007-10-17",65.5,null,"2007-10-17",59.5]
[null,null,null,"2007-10-16",64,null,"2007-10-16",59.5]
[null,null,null,"2007-10-15",59,null,"2007-10-15",62.5]
[null,null,null,"2007-10-14",56,null,"2007-10-14",57]
[null,null,null,"2007-10-13",53.5,null,"2007-10-13",49.5]
[null,null,null,"2007-10-12",54.5,null,"2007-10-12",48.5]
[null,null,null,"2007-10-11",62,null,"2007-10-11",50]
[null,null,null,"2007-10-10",68,null,"2007-10-10",50.5]
[null,null,null,"2007-10-09",70.5,null,"2007-10-09",62.5]
[null,null,null,"2007-10-08",77.5,null,"2007-10-08",73.5]
[null,null,null,"2007-10-07",74.5,null,"2007-10-07",77]
[null,null,null,"2007-10-06",74,null,"2007-10-06",78]
[null,null,null,"2007-10-05",74.5,null,"2007-10-05",73]
[null,null,null,"2007-10-04",77.5,null,"2007-10-04",66.5]
[null,null,null,"2007-10-03",73,null,"2007-10-03",64.5]
[null,null,null,"2007-10-02",64,null,"2007-10-02",67.5]
[null,null,null,"2007-10-01",64.5,null,"2007-10-01",64]
[null,null,null,"2007-09-30",62.5,null,"2007-09-30",71]
[null,null,null,"2007-09-29",67.5,null,"2007-09-29",65]
[null,null,null,"2007-09-28",69,null,"2007-09-28",63]
[null,null,null,"2007-09-27",75.5,null,"2007-09-27",62]
[null,null,null,"2007-09-26",78.5,null,"2007-09-26",61]
[null,null,null,"2007-09-25",73,null,"2007-09-25",74]
[null,null,null,"2007-09-24",67.5,null,"2007-09-24",79]
[null,null,null,"2007-09-23",71,null,"2007-09-23",67]
[null,null,null,"2007-09-22",69,null,"2007-09-22",62.5]
[null,null,null,"2007-09-21",72.5,null,"2007-09-21",76]
[null,null,null,"2007-09-20",68.5,null,"2007-09-20",69]
[null,null,null,"2007-09-19",64.5,null,"2007-09-19",74.5]
[null,null,null,"2007-09-18",61,null,"2007-09-18",75.5]
[null,null,null,"2007-09-17",59,null,"2007-09-17",66]
[null,null,null,"2007-09-16",57,null,"2007-09-16",57.5]
[null,null,null,"2007-09-15",63.5,null,"2007-09-15",50]
[null,null,null,"2007-09-14",68.5,null,"2007-09-14",55.5]
[null,null,null,"2007-09-13",66,null,"2007-09-13",64]
[null,null,null,"2007-09-12",68.5,null,"2007-09-12",56.5]
[null,null,null,"2007-09-11",72.5,null,"2007-09-11",60.5]
[null,null,null,"2007-09-10",77,null,"2007-09-10",64]
[null,null,null,"2007-09-09",77.5,null,"2007-09-09",71.5]
[null,null,null,"2007-09-08",81,null,"2007-09-08",71]
[null,null,null,"2007-09-07",78.5,null,"2007-09-07",77]
[null,null,null,"2007-09-06",73,null,"2007-09-06",77.5]
[null,null,null,"2007-09-05",72,null,"2007-09-05",78]
[null,null,null,"2007-09-04",75,null,"2007-09-04",76]
[null,null,null,"2007-09-03",72.5,null,"2007-09-03",77]
[null,null,null,"2007-09-02",68,null,"2007-09-02",73]
[null,null,null,"2007-09-01",72,null,"2007-09-01",69]
[null,null,null,"2007-08-31",75,null,"2007-08-31",67]
[null,null,null,"2007-08-30",76,null,"2007-08-30",66]
[null,null,null,"2007-08-29",75.5,null,"2007-08-29",76.5]
[null,null,null,"2007-08-28",75,null,"2007-08-28",79]
[null,null,null,"2007-08-27",75.5,null,"2007-08-27",69.5]
[null,null,null,"2007-08-26",77.5,null,"2007-08-26",69.5]
[null,null,null,"2007-08-25",81.5,null,"2007-08-25",71.5]
[null,null,null,"2007-08-24",75,null,"2007-08-24",74.5]
[null,null,null,"2007-08-23",69,null,"2007-08-23",78]
[null,null,null,"2007-08-22",62.5,null,"2007-08-22",79.5]
[null,null,null,"2007-08-21",59,null,"2007-08-21",78]
[null,null,null,"2007-08-20",65.5,null,"2007-08-20",73]
[null,null,null,"2007-08-19",67,null,"2007-08-19",65]
[null,null,null,"2007-08-18",67.5,null,"2007-08-18",63.5]
[null,null,null,"2007-08-17",75,null,"2007-08-17",69.5]
[null,null,null,"2007-08-16",81,null,"2007-08-16",71]
[null,null,null,"2007-08-15",75.5,null,"2007-08-15",75.5]
[null,null,null,"2007-08-14",72.5,null,"2007-08-14",74.5]
[null,null,null,"2007-08-13",80,null,"2007-08-13",73]
[null,null,null,"2007-08-12",78,null,"2007-08-12",77.5]
[null,null,null,"2007-08-11",70.5,null,"2007-08-11",78]
[null,null,null,"2007-08-10",66,null,"2007-08-10",78]
[null,null,null,"2007-08-09",78,null,"2007-08-09",78]
[null,null,null,"2007-08-08",85,null,"2007-08-08",80]
[null,null,null,"2007-08-07",83.5,null,"2007-08-07",81.5]
[null,null,null,"2007-08-06",80,null,"2007-08-06",81]
[null,null,null,"2007-08-05",75.5,null,"2007-08-05",77.5]
[null,null,null,"2007-08-04",82,null,"2007-08-04",72.5]
[null,null,null,"2007-08-03",84.5,null,"2007-08-03",79.5]
[null,null,null,"2007-08-02",83,null,"2007-08-02",80.5]
[null,null,null,"2007-08-01",82,null,"2007-08-01",80.5]
[null,null,null,"2007-07-31",80.5,null,"2007-07-31",79.5]
[null,null,null,"2007-07-30",77.5,null,"2007-07-30",75.5]
[null,null,null,"2007-07-29",76.5,null,"2007-07-29",74]
[null,null,null,"2007-07-28",79.5,null,"2007-07-28",73]
[null,null,null,"2007-07-27",77.5,null,"2007-07-27",76.5]
[null,null,null,"2007-07-26",78.5,null,"2007-07-26",74.5]
[null,null,null,"2007-07-25",75.5,null,"2007-07-25",78]
[null,null,null,"2007-07-24",69,null,"2007-07-24",73.5]
[null,null,null,"2007-07-23",66.5,null,"2007-07-23",71.5]
[null,null,null,"2007-07-22",75.5,null,"2007-07-22",69.5]
[null,null,null,"2007-07-21",73.5,null,"2007-07-21",66]
[null,null,null,"2007-07-20",74,null,"2007-07-20",66.5]
[null,null,null,"2007-07-19",78.5,null,"2007-07-19",73]
[null,null,null,"2007-07-18",75.5,null,"2007-07-18",77]
[null,null,null,"2007-07-17",78.5,null,"2007-07-17",75.5]
[null,null,null,"2007-07-16",77.5,null,"2007-07-16",73.5]
[null,null,null,"2007-07-15",80.5,null,"2007-07-15",71]
[null,null,null,"2007-07-14",74,null,"2007-07-14",72.5]
[null,null,null,"2007-07-13",74.5,null,"2007-07-13",68]
[null,null,null,"2007-07-12",75.5,null,"2007-07-12",70.5]
[null,null,null,"2007-07-11",79,null,"2007-07-11",69.5]
[null,null,null,"2007-07-10",84.5,null,"2007-07-10",79]
[null,null,null,"2007-07-09",86,null,"2007-07-09",82]
[null,null,null,"2007-07-08",80.5,null,"2007-07-08",84.5]
[null,null,null,"2007-07-07",76.5,null,"2007-07-07",77]
[null,null,null,"2007-07-06",77.5,null,"2007-07-06",76]
[null,null,null,"2007-07-05",74,null,"2007-07-05",80]
[null,null,null,"2007-07-04",68,null,"2007-07-04",76.5]
[null,null,null,"2007-07-03",72,null,"2007-07-03",71.5]
[null,null,null,"2007-07-02",68,null,"2007-07-02",66]
[null,null,null,"2007-07-01",69.5,null,"2007-07-01",64.5]
[null,null,null,"2007-06-30",74.5,null,"2007-06-30",66.5]
[null,null,null,"2007-06-29",73,null,"2007-06-29",63]
[null,null,null,"2007-06-28",80.5,null,"2007-06-28",66]
[null,null,null,"2007-06-27",84,null,"2007-06-27",81]
[null,null,null,"2007-06-26",82,null,"2007-06-26",81]
[null,null,null,"2007-06-25",72,null,"2007-06-25",77]
[null,null,null,"2007-06-24",70.5,null,"2007-06-24",70]
[null,null,null,"2007-06-23",66.5,null,"2007-06-23",64.5]
[null,null,null,"2007-06-22",69.5,null,"2007-06-22",68.5]
[null,null,null,"2007-06-21",72.5,null,"2007-06-21",69]
[null,null,null,"2007-06-20",74,null,"2007-06-20",72.5]
[null,null,null,"2007-06-19",75,null,"2007-06-19",72.5]
[null,null,null,"2007-06-18",76,null,"2007-06-18",79]
[null,null,null,"2007-06-17",77,null,"2007-06-17",80.5]
[null,null,null,"2007-06-16",70.5,null,"2007-06-16",79.5]
[null,null,null,"2007-06-15",69,null,"2007-06-15",77]
[null,null,null,"2007-06-14",61.5,null,"2007-06-14",76.5]
[null,null,null,"2007-06-13",63.5,null,"2007-06-13",73.5]
[null,null,null,"2007-06-12",75.5,null,"2007-06-12",72.5]
[null,null,null,"2007-06-11",75.5,null,"2007-06-11",72]
[null,null,null,"2007-06-10",69,null,"2007-06-10",68]
[null,null,null,"2007-06-09",75,null,"2007-06-09",65.5]
[null,null,null,"2007-06-08",74.5,null,"2007-06-08",69]
[null,null,null,"2007-06-07",64,null,"2007-06-07",81]
[null,null,null,"2007-06-06",65,null,"2007-06-06",57.5]
[null,null,null,"2007-06-05",75,null,"2007-06-05",55.5]
[null,null,null,"2007-06-04",66.5,null,"2007-06-04",64.5]
[null,null,null,"2007-06-03",72,null,"2007-06-03",70]
[null,null,null,"2007-06-02",80,null,"2007-06-02",73]
[null,null,null,"2007-06-01",78,null,"2007-06-01",73.5]
[null,null,null,"2007-05-31",79,null,"2007-05-31",71.5]
[null,null,null,"2007-05-30",71.5,null,"2007-05-30",76.5]
[null,null,null,"2007-05-29",72,null,"2007-05-29",74]
[null,null,null,"2007-05-28",76,null,"2007-05-28",64.5]
[null,null,null,"2007-05-27",76,null,"2007-05-27",66]
[null,null,null,"2007-05-26",78,null,"2007-05-26",57]
[null,null,null,"2007-05-25",77.5,null,"2007-05-25",63]
[null,null,null,"2007-05-24",70.5,null,"2007-05-24",75.5]
[null,null,null,"2007-05-23",64.5,null,"2007-05-23",74.5]
[null,null,null,"2007-05-22",62,null,"2007-05-22",71]
[null,null,null,"2007-05-21",62.5,null,"2007-05-21",62]
[null,null,null,"2007-05-20",65,null,"2007-05-20",56]
[null,null,null,"2007-05-19",54.5,null,"2007-05-19",68]
[null,null,null,"2007-05-18",54.5,null,"2007-05-18",56.5]
[null,null,null,"2007-05-17",61,null,"2007-05-17",52.5]
[null,null,null,"2007-05-16",74.5,null,"2007-05-16",55]
[null,null,null,"2007-05-15",70,null,"2007-05-15",68.5]
[null,null,null,"2007-05-14",58.5,null,"2007-05-14",73]
[null,null,null,"2007-05-13",60.5,null,"2007-05-13",56]
[null,null,null,"2007-05-12",64.5,null,"2007-05-12",55]
[null,null,null,"2007-05-11",69.5,null,"2007-05-11",60.5]
[null,null,null,"2007-05-10",68.5,null,"2007-05-10",70]
[null,null,null,"2007-05-09",67.5,null,"2007-05-09",69]
[null,null,null,"2007-05-08",56.5,null,"2007-05-08",68]
[null,null,null,"2007-05-07",53,null,"2007-05-07",65]
[null,null,null,"2007-05-06",54,null,"2007-05-06",58.5]
[null,null,null,"2007-05-05",59.5,null,"2007-05-05",59.5]
[null,null,null,"2007-05-04",59.5,null,"2007-05-04",57.5]
[null,null,null,"2007-05-03",59.5,null,"2007-05-03",56]
[null,null,null,"2007-05-02",59.5,null,"2007-05-02",50.5]
[null,null,null,"2007-05-01",60,null,"2007-05-01",66.5]
[null,null,null,"2007-04-30",65.5,null,"2007-04-30",59]
[null,null,null,"2007-04-29",61.5,null,"2007-04-29",63.5]
[null,null,null,"2007-04-28",62,null,"2007-04-28",56]
[null,null,null,"2007-04-27",53,null,"2007-04-27",48]
[null,null,null,"2007-04-26",52,null,"2007-04-26",50.5]
[null,null,null,"2007-04-25",56,null,"2007-04-25",47]
[null,null,null,"2007-04-24",68,null,"2007-04-24",56]
[null,null,null,"2007-04-23",69,null,"2007-04-23",60.5]
[null,null,null,"2007-04-22",61.5,null,"2007-04-22",67.5]
[null,null,null,"2007-04-21",59,null,"2007-04-21",60]
[null,null,null,"2007-04-20",55.5,null,"2007-04-20",53]
[null,null,null,"2007-04-19",52.5,null,"2007-04-19",49.5]
[null,null,null,"2007-04-18",47,null,"2007-04-18",44.5]
[null,null,null,"2007-04-17",47,null,"2007-04-17",53]
[null,null,null,"2007-04-16",42.5,null,"2007-04-16",47]
[null,null,null,"2007-04-15",47.5,null,"2007-04-15",43.5]
[null,null,null,"2007-04-14",48,null,"2007-04-14",42]
[null,null,null,"2007-04-13",48,null,"2007-04-13",41.5]
[null,null,null,"2007-04-12",42.5,null,"2007-04-12",35.5]
[null,null,null,"2007-04-11",40,null,"2007-04-11",38]
[null,null,null,"2007-04-10",42.5,null,"2007-04-10",39]
[null,null,null,"2007-04-09",41,null,"2007-04-09",36]
[null,null,null,"2007-04-08",37,null,"2007-04-08",34]
[null,null,null,"2007-04-07",38,null,"2007-04-07",27]
[null,null,null,"2007-04-06",37.5,null,"2007-04-06",29.5]
[null,null,null,"2007-04-05",40.5,null,"2007-04-05",33.5]
[null,null,null,"2007-04-04",42,null,"2007-04-04",31.5]
[null,null,null,"2007-04-03",51.5,null,"2007-04-03",52.5]
[null,null,null,"2007-04-02",48.5,null,"2007-04-02",51]
[null,null,null,"2007-04-01",45.5,null,"2007-04-01",53.5]
[null,null,null,"2007-03-31",47.5,null,"2007-03-31",54]
[null,null,null,"2007-03-30",53.5,null,"2007-03-30",50.5]
[null,null,null,"2007-03-29",47.5,null,"2007-03-29",53]
[null,null,null,"2007-03-28",56.5,null,"2007-03-28",47]
[null,null,null,"2007-03-27",64.5,null,"2007-03-27",59]
[null,null,null,"2007-03-26",47,null,"2007-03-26",71]
[null,null,null,"2007-03-25",45.5,null,"2007-03-25",63.5]
[null,null,null,"2007-03-24",48.5,null,"2007-03-24",58]
[null,null,null,"2007-03-23",54,null,"2007-03-23",48]
[null,null,null,"2007-03-22",54.5,null,"2007-03-22",54]
[null,null,null,"2007-03-21",32,null,"2007-03-21",52]
[null,null,null,"2007-03-20",41.5,null,"2007-03-20",36.5]
[null,null,null,"2007-03-19",34,null,"2007-03-19",48.5]
[null,null,null,"2007-03-18",32.5,null,"2007-03-18",34]
[null,null,null,"2007-03-17",32,null,"2007-03-17",31.5]
[null,null,null,"2007-03-16",31,null,"2007-03-16",32]
[null,null,null,"2007-03-15",52,null,"2007-03-15",33]
[null,null,null,"2007-03-14",63,null,"2007-03-14",48]
[null,null,null,"2007-03-13",48,null,"2007-03-13",60.5]
[null,null,null,"2007-03-12",44,null,"2007-03-12",49.5]
[null,null,null,"2007-03-11",44.5,null,"2007-03-11",41]
[null,null,null,"2007-03-10",43.5,null,"2007-03-10",40.5]
[null,null,null,"2007-03-09",23,null,"2007-03-09",42]
[null,null,null,"2007-03-08",25.5,null,"2007-03-08",26.5]
[null,null,null,"2007-03-07",17.5,null,"2007-03-07",24.5]
[null,null,null,"2007-03-06",18,null,"2007-03-06",20]
[null,null,null,"2007-03-05",32,null,"2007-03-05",26]
[null,null,null,"2007-03-04",37.5,null,"2007-03-04",22.5]
[null,null,null,"2007-03-03",46.5,null,"2007-03-03",23.5]
[null,null,null,"2007-03-02",48,null,"2007-03-02",28.5]
[null,null,null,"2007-03-01",37,null,"2007-03-01",38.5]
[null,null,null,"2007-02-28",39,null,"2007-02-28",31.5]
[null,null,null,"2007-02-27",37,null,"2007-02-27",31]
[null,null,null,"2007-02-26",33.5,null,"2007-02-26",32]
[null,null,null,"2007-02-25",30,null,"2007-02-25",34.5]
[null,null,null,"2007-02-24",32,null,"2007-02-24",29]
[null,null,null,"2007-02-23",30.5,null,"2007-02-23",28]
[null,null,null,"2007-02-22",39.5,null,"2007-02-22",33.5]
[null,null,null,"2007-02-21",43.5,null,"2007-02-21",35.5]
[null,null,null,"2007-02-20",36.5,null,"2007-02-20",37.5]
[null,null,null,"2007-02-19",20,null,"2007-02-19",27.5]
[null,null,null,"2007-02-18",25.5,null,"2007-02-18",16.5]
[null,null,null,"2007-02-17",25.5,null,"2007-02-17",21]
[null,null,null,"2007-02-16",20.5,null,"2007-02-16",7.5]
[null,null,null,"2007-02-15",19.5,null,"2007-02-15",8]
[null,null,null,"2007-02-14",24,null,"2007-02-14",14]
[null,null,null,"2007-02-13",26,null,"2007-02-13",21]
[null,null,null,"2007-02-12",32,null,"2007-02-12",28]
[null,null,null,"2007-02-11",24.5,null,"2007-02-11",16]
[null,null,null,"2007-02-10",28.5,null,"2007-02-10",6]
[null,null,null,"2007-02-09",26,null,"2007-02-09",9.5]
[null,null,null,"2007-02-08",22,null,"2007-02-08",3.5]
[null,null,null,"2007-02-07",20,null,"2007-02-07",4.5]
[null,null,null,"2007-02-06",17,null,"2007-02-06",2.5]
[null,null,null,"2007-02-05",13.5,null,"2007-02-05",-2.5]
[null,null,null,"2007-02-04",21.5,null,"2007-02-04",-2]
[null,null,null,"2007-02-03",28.5,null,"2007-02-03",2.5]
[null,null,null,"2007-02-02",35.5,null,"2007-02-02",9]
[null,null,null,"2007-02-01",29.5,null,"2007-02-01",17.5]
[null,null,null,"2007-01-31",29.5,null,"2007-01-31",11.5]
[null,null,null,"2007-01-30",27.5,null,"2007-01-30",12.5]
[null,null,null,"2007-01-29",25.5,null,"2007-01-29",17]
[null,null,null,"2007-01-28",35.5,null,"2007-01-28",15.5]
[null,null,null,"2007-01-27",29,null,"2007-01-27",24.5]
[null,null,null,"2007-01-26",16.5,null,"2007-01-26",31.5]
[null,null,null,"2007-01-25",26,null,"2007-01-25",19.5]
[null,null,null,"2007-01-24",35,null,"2007-01-24",25]
[null,null,null,"2007-01-23",34,null,"2007-01-23",24]
[null,null,null,"2007-01-22",28.5,null,"2007-01-22",28]
[null,null,null,"2007-01-21",24,null,"2007-01-21",27.5]
[null,null,null,"2007-01-20",27.5,null,"2007-01-20",18.5]
[null,null,null,"2007-01-19",37.5,null,"2007-01-19",22.5]
[null,null,null,"2007-01-18",29,null,"2007-01-18",26]
[null,null,null,"2007-01-17",25,null,"2007-01-17",15.5]
[null,null,null,"2007-01-16",38.5,null,"2007-01-16",17]
[null,null,null,"2007-01-15",45,null,"2007-01-15",27]
[null,null,null,"2007-01-14",43,null,"2007-01-14",31.5]
[null,null,null,"2007-01-13",49,null,"2007-01-13",31]
[null,null,null,"2007-01-12",42,null,"2007-01-12",40.5]
[null,null,null,"2007-01-11",31,null,"2007-01-11",40]
[null,null,null,"2007-01-10",32.5,null,"2007-01-10",26.5]
[null,null,null,"2007-01-09",38.5,null,"2007-01-09",27.5]
[null,null,null,"2007-01-08",47,null,"2007-01-08",32.5]
[null,null,null,"2007-01-07",50,null,"2007-01-07",34]
[null,null,null,"2007-01-06",63.5,null,"2007-01-06",35.5]
[null,null,null,"2007-01-05",54.5,null,"2007-01-05",46]
[null,null,null,"2007-01-04",46.5,null,"2007-01-04",45.5]
[null,null,null,"2007-01-03",42.5,null,"2007-01-03",40.5]
[null,null,null,"2007-01-02",44.5,null,"2007-01-02",34.5]
[null,null,null,"2007-01-01",50.5,null,"2007-01-01",36]
[null,null,null,"2006-12-31",38,null,"2006-12-31",49.5]
[null,null,null,"2006-12-30",40,null,"2006-12-30",45]
[null,null,null,"2006-12-29",41,null,"2006-12-29",45]
[null,null,null,"2006-12-28",40,null,"2006-12-28",42]
[null,null,null,"2006-12-27",40,null,"2006-12-27",33]
[null,null,null,"2006-12-26",49,null,"2006-12-26",31]
[null,null,null,"2006-12-25",40,null,"2006-12-25",33.5]
[null,null,null,"2006-12-24",45.5,null,"2006-12-24",36.5]
[null,null,null,"2006-12-23",53,null,"2006-12-23",36.5]
[null,null,null,"2006-12-22",42.5,null,"2006-12-22",47]
[null,null,null,"2006-12-21",44.5,null,"2006-12-21",44]
[null,null,null,"2006-12-20",39,null,"2006-12-20",32]
[null,null,null,"2006-12-19",41.5,null,"2006-12-19",33.5]
[null,null,null,"2006-12-18",52.5,null,"2006-12-18",35]
[null,null,null,"2006-12-17",45.5,null,"2006-12-17",47.5]
[null,null,null,"2006-12-16",46,null,"2006-12-16",43.5]
[null,null,null,"2006-12-15",48.5,null,"2006-12-15",37]
[null,null,null,"2006-12-14",52,null,"2006-12-14",42.5]
[null,null,null,"2006-12-13",51.5,null,"2006-12-13",39]
[null,null,null,"2006-12-12",46,null,"2006-12-12",44]
[null,null,null,"2006-12-11",48.5,null,"2006-12-11",41]
[null,null,null,"2006-12-10",44,null,"2006-12-10",36.5]
[null,null,null,"2006-12-09",31,null,"2006-12-09",27.5]
[null,null,null,"2006-12-08",24.5,null,"2006-12-08",12.5]
[null,null,null,"2006-12-07",40.5,null,"2006-12-07",13]
[null,null,null,"2006-12-06",37.5,null,"2006-12-06",26]
[null,null,null,"2006-12-05",32.5,null,"2006-12-05",20.5]
[null,null,null,"2006-12-04",35,null,"2006-12-04",16]
[null,null,null,"2006-12-03",39,null,"2006-12-03",11.5]
[null,null,null,"2006-12-02",44,null,"2006-12-02",21]
[null,null,null,"2006-12-01",60,null,"2006-12-01",25.5]
[null,null,null,"2006-11-30",62.5,null,"2006-11-30",32.5]
[null,null,null,"2006-11-29",54,null,"2006-11-29",49]
[null,null,null,"2006-11-28",53,null,"2006-11-28",57.5]
[null,null,null,"2006-11-27",52.5,null,"2006-11-27",57]
[null,null,null,"2006-11-26",49.5,null,"2006-11-26",53.5]
[null,null,null,"2006-11-25",44,null,"2006-11-25",47]
[null,null,null,"2006-11-24",51,null,"2006-11-24",45.5]
[null,null,null,"2006-11-23",42,null,"2006-11-23",44]
[null,null,null,"2006-11-22",42,null,"2006-11-22",42]
[null,null,null,"2006-11-21",39.5,null,"2006-11-21",39]
[null,null,null,"2006-11-20",42,null,"2006-11-20",36.5]
[null,null,null,"2006-11-19",45.5,null,"2006-11-19",36.5]
[null,null,null,"2006-11-18",47,null,"2006-11-18",37]
[null,null,null,"2006-11-17",56.5,null,"2006-11-17",37]
[null,null,null,"2006-11-16",62.5,null,"2006-11-16",40]
[null,null,null,"2006-11-15",59.5,null,"2006-11-15",45]
[null,null,null,"2006-11-14",59.5,null,"2006-11-14",40]
[null,null,null,"2006-11-13",56.5,null,"2006-11-13",38]
[null,null,null,"2006-11-12",56,null,"2006-11-12",40]
[null,null,null,"2006-11-11",56,null,"2006-11-11",37.5]
[null,null,null,"2006-11-10",56,null,"2006-11-10",42.5]
[null,null,null,"2006-11-09",61.5,null,"2006-11-09",57.5]
[null,null,null,"2006-11-08",57.5,null,"2006-11-08",55]
[null,null,null,"2006-11-07",51,null,"2006-11-07",50]
[null,null,null,"2006-11-06",46,null,"2006-11-06",50]
[null,null,null,"2006-11-05",42,null,"2006-11-05",43.5]
[null,null,null,"2006-11-04",40,null,"2006-11-04",38]
[null,null,null,"2006-11-03",42.5,null,"2006-11-03",30.5]
[null,null,null,"2006-11-02",50,null,"2006-11-02",29]
[null,null,null,"2006-11-01",62.5,null,"2006-11-01",34.5]
[null,null,null,"2006-10-31",57,null,"2006-10-31",48.5]
[null,null,null,"2006-10-30",50.5,null,"2006-10-30",54]
[null,null,null,"2006-10-29",48.5,null,"2006-10-29",43.5]
[null,null,null,"2006-10-28",57,null,"2006-10-28",44.5]
[null,null,null,"2006-10-27",42,null,"2006-10-27",41.5]
[null,null,null,"2006-10-26",44.5,null,"2006-10-26",44.5]
[null,null,null,"2006-10-25",48,null,"2006-10-25",39]
[null,null,null,"2006-10-24",46.5,null,"2006-10-24",38.5]
[null,null,null,"2006-10-23",49.5,null,"2006-10-23",37]
[null,null,null,"2006-10-22",50.5,null,"2006-10-22",41.5]
[null,null,null,"2006-10-21",50,null,"2006-10-21",52.5]
[null,null,null,"2006-10-20",57,null,"2006-10-20",42.5]
[null,null,null,"2006-10-19",63.5,null,"2006-10-19",41.5]
[null,null,null,"2006-10-18",68.5,null,"2006-10-18",52.5]
[null,null,null,"2006-10-17",56.5,null,"2006-10-17",54]
[null,null,null,"2006-10-16",49.5,null,"2006-10-16",52]
[null,null,null,"2006-10-15",47.5,null,"2006-10-15",41.5]
[null,null,null,"2006-10-14",49,null,"2006-10-14",41]
[null,null,null,"2006-10-13",47.5,null,"2006-10-13",41]
[null,null,null,"2006-10-12",59.5,null,"2006-10-12",34.5]
[null,null,null,"2006-10-11",62,null,"2006-10-11",44.5]
[null,null,null,"2006-10-10",66.5,null,"2006-10-10",55]
[null,null,null,"2006-10-09",65.5,null,"2006-10-09",56.5]
[null,null,null,"2006-10-08",60,null,"2006-10-08",57.5]
[null,null,null,"2006-10-07",57,null,"2006-10-07",53.5]
[null,null,null,"2006-10-06",54,null,"2006-10-06",50]
[null,null,null,"2006-10-05",59.5,null,"2006-10-05",53]
[null,null,null,"2006-10-04",72,null,"2006-10-04",68.5]
[null,null,null,"2006-10-03",66.5,null,"2006-10-03",68.5]
[null,null,null,"2006-10-02",59.5,null,"2006-10-02",69]
[null,null,null,"2006-10-01",63.5,null,"2006-10-01",59]
[null,null,null,"2006-09-30",56,null,"2006-09-30",58]
[null,null,null,"2006-09-29",57,null,"2006-09-29",48]
[null,null,null,"2006-09-28",65.5,null,"2006-09-28",49.5]
[null,null,null,"2006-09-27",62.5,null,"2006-09-27",58.5]
[null,null,null,"2006-09-26",64,null,"2006-09-26",59]
[null,null,null,"2006-09-25",66.5,null,"2006-09-25",59.5]
[null,null,null,"2006-09-24",73.5,null,"2006-09-24",57.5]
[null,null,null,"2006-09-23",69.5,null,"2006-09-23",62.5]
[null,null,null,"2006-09-22",60.5,null,"2006-09-22",64]
[null,null,null,"2006-09-21",60.5,null,"2006-09-21",54]
[null,null,null,"2006-09-20",64.5,null,"2006-09-20",52]
[null,null,null,"2006-09-19",73,null,"2006-09-19",51]
[null,null,null,"2006-09-18",72.5,null,"2006-09-18",61]
[null,null,null,"2006-09-17",72,null,"2006-09-17",70.5]
[null,null,null,"2006-09-16",72.5,null,"2006-09-16",68.5]
[null,null,null,"2006-09-15",66.5,null,"2006-09-15",65.5]
[null,null,null,"2006-09-14",67,null,"2006-09-14",65]
[null,null,null,"2006-09-13",61.5,null,"2006-09-13",62.5]
[null,null,null,"2006-09-12",60,null,"2006-09-12",67.5]
[null,null,null,"2006-09-11",63,null,"2006-09-11",63]
[null,null,null,"2006-09-10",68.5,null,"2006-09-10",62]
[null,null,null,"2006-09-09",75,null,"2006-09-09",66.5]
[null,null,null,"2006-09-08",73.5,null,"2006-09-08",71.5]
[null,null,null,"2006-09-07",71,null,"2006-09-07",69.5]
[null,null,null,"2006-09-06",69.5,null,"2006-09-06",69.5]
[null,null,null,"2006-09-05",66.5,null,"2006-09-05",68.5]
[null,null,null,"2006-09-04",67.5,null,"2006-09-04",65.5]
[null,null,null,"2006-09-03",70,null,"2006-09-03",65.5]
[null,null,null,"2006-09-02",64.5,null,"2006-09-02",67]
[null,null,null,"2006-09-01",65,null,"2006-09-01",70]
[null,null,null,"2006-08-31",67.5,null,"2006-08-31",68.5]
[null,null,null,"2006-08-30",69.5,null,"2006-08-30",70]
[null,null,null,"2006-08-29",69.5,null,"2006-08-29",67]
[null,null,null,"2006-08-28",75.5,null,"2006-08-28",68.5]
[null,null,null,"2006-08-27",70.5,null,"2006-08-27",75]
[null,null,null,"2006-08-26",68,null,"2006-08-26",74]
[null,null,null,"2006-08-25",74,null,"2006-08-25",75]
[null,null,null,"2006-08-24",75,null,"2006-08-24",75.5]
[null,null,null,"2006-08-23",79,null,"2006-08-23",75]
[null,null,null,"2006-08-22",78.5,null,"2006-08-22",75.5]
[null,null,null,"2006-08-21",78.5,null,"2006-08-21",69.5]
[null,null,null,"2006-08-20",84,null,"2006-08-20",68.5]
[null,null,null,"2006-08-19",75,null,"2006-08-19",73.5]
[null,null,null,"2006-08-18",76.5,null,"2006-08-18",78]
[null,null,null,"2006-08-17",78.5,null,"2006-08-17",72.5]
[null,null,null,"2006-08-16",77.5,null,"2006-08-16",72]
[null,null,null,"2006-08-15",78.5,null,"2006-08-15",73.5]
[null,null,null,"2006-08-14",76,null,"2006-08-14",74.5]
[null,null,null,"2006-08-13",71,null,"2006-08-13",71]
[null,null,null,"2006-08-12",70.5,null,"2006-08-12",69.5]
[null,null,null,"2006-08-11",73.5,null,"2006-08-11",72.5]
[null,null,null,"2006-08-10",76,null,"2006-08-10",76.5]
[null,null,null,"2006-08-09",75,null,"2006-08-09",77]
[null,null,null,"2006-08-08",81,null,"2006-08-08",73.5]
[null,null,null,"2006-08-07",82,null,"2006-08-07",78.5]
[null,null,null,"2006-08-06",77.5,null,"2006-08-06",76.5]
[null,null,null,"2006-08-05",83,null,"2006-08-05",74.5]
[null,null,null,"2006-08-04",84,null,"2006-08-04",77]
[null,null,null,"2006-08-03",90.5,null,"2006-08-03",75]
[null,null,null,"2006-08-02",90.5,null,"2006-08-02",87]
[null,null,null,"2006-08-01",89,null,"2006-08-01",89.5]
[null,null,null,"2006-07-31",83,null,"2006-07-31",87.5]
[null,null,null,"2006-07-30",86,null,"2006-07-30",83.5]
[null,null,null,"2006-07-29",82.5,null,"2006-07-29",84]
[null,null,null,"2006-07-28",84,null,"2006-07-28",80.5]
[null,null,null,"2006-07-27",84,null,"2006-07-27",78.5]
[null,null,null,"2006-07-26",79,null,"2006-07-26",79]
[null,null,null,"2006-07-25",77,null,"2006-07-25",81.5]
[null,null,null,"2006-07-24",75.5,null,"2006-07-24",77]
[null,null,null,"2006-07-23",75,null,"2006-07-23",71]
[null,null,null,"2006-07-22",78,null,"2006-07-22",72.5]
[null,null,null,"2006-07-21",81.5,null,"2006-07-21",70.5]
[null,null,null,"2006-07-20",78,null,"2006-07-20",75]
[null,null,null,"2006-07-19",80.5,null,"2006-07-19",76.5]
[null,null,null,"2006-07-18",85.5,null,"2006-07-18",74.5]
[null,null,null,"2006-07-17",86.5,null,"2006-07-17",83.5]
[null,null,null,"2006-07-16",84.5,null,"2006-07-16",84]
[null,null,null,"2006-07-15",76,null,"2006-07-15",85.5]
[null,null,null,"2006-07-14",78,null,"2006-07-14",80.5]
[null,null,null,"2006-07-13",78,null,"2006-07-13",76.5]
[null,null,null,"2006-07-12",79.5,null,"2006-07-12",74]
[null,null,null,"2006-07-11",82.5,null,"2006-07-11",72]
[null,null,null,"2006-07-10",76.5,null,"2006-07-10",69]
[null,null,null,"2006-07-09",75.5,null,"2006-07-09",79.5]
[null,null,null,"2006-07-08",75.5,null,"2006-07-08",73]
[null,null,null,"2006-07-07",73.5,null,"2006-07-07",68]
[null,null,null,"2006-07-06",71.5,null,"2006-07-06",66.5]
[null,null,null,"2006-07-05",74.5,null,"2006-07-05",68.5]
[null,null,null,"2006-07-04",82.5,null,"2006-07-04",70]
[null,null,null,"2006-07-03",81.5,null,"2006-07-03",75]
[null,null,null,"2006-07-02",81.5,null,"2006-07-02",76.5]
[null,null,null,"2006-07-01",74.5,null,"2006-07-01",77.5]
[null,null,null,"2006-06-30",73.5,null,"2006-06-30",69]
[null,null,null,"2006-06-29",77,null,"2006-06-29",68]
[null,null,null,"2006-06-28",80,null,"2006-06-28",66.5]
[null,null,null,"2006-06-27",75.5,null,"2006-06-27",70.5]
[null,null,null,"2006-06-26",74.5,null,"2006-06-26",66]
[null,null,null,"2006-06-25",74,null,"2006-06-25",67]
[null,null,null,"2006-06-24",74,null,"2006-06-24",66.5]
[null,null,null,"2006-06-23",82.5,null,"2006-06-23",63.5]
[null,null,null,"2006-06-22",81,null,"2006-06-22",73.5]
[null,null,null,"2006-06-21",76.5,null,"2006-06-21",78]
[null,null,null,"2006-06-20",78.5,null,"2006-06-20",71]
[null,null,null,"2006-06-19",82.5,null,"2006-06-19",75]
[null,null,null,"2006-06-18",82,null,"2006-06-18",72]
[null,null,null,"2006-06-17",75.5,null,"2006-06-17",82]
[null,null,null,"2006-06-16",73.5,null,"2006-06-16",81]
[null,null,null,"2006-06-15",73.5,null,"2006-06-15",74]
[null,null,null,"2006-06-14",71.5,null,"2006-06-14",65.5]
[null,null,null,"2006-06-13",73,null,"2006-06-13",62.5]
[null,null,null,"2006-06-12",66.5,null,"2006-06-12",59.5]
[null,null,null,"2006-06-11",62.5,null,"2006-06-11",58]
[null,null,null,"2006-06-10",63,null,"2006-06-10",56.5]
[null,null,null,"2006-06-09",69,null,"2006-06-09",61]
[null,null,null,"2006-06-08",63.5,null,"2006-06-08",72.5]
[null,null,null,"2006-06-07",61,null,"2006-06-07",71.5]
[null,null,null,"2006-06-06",66,null,"2006-06-06",67.5]
[null,null,null,"2006-06-05",65,null,"2006-06-05",64.5]
[null,null,null,"2006-06-04",64,null,"2006-06-04",64.5]
[null,null,null,"2006-06-03",63.5,null,"2006-06-03",64]
[null,null,null,"2006-06-02",75,null,"2006-06-02",68]
[null,null,null,"2006-06-01",79,null,"2006-06-01",69.5]
[null,null,null,"2006-05-31",69,null,"2006-05-31",70.5]
[null,null,null,"2006-05-30",76,null,"2006-05-30",78]
[null,null,null,"2006-05-29",78.5,null,"2006-05-29",79.5]
[null,null,null,"2006-05-28",74,null,"2006-05-28",83]
[null,null,null,"2006-05-27",75.5,null,"2006-05-27",73]
[null,null,null,"2006-05-26",68.5,null,"2006-05-26",71.5]
[null,null,null,"2006-05-25",65.5,null,"2006-05-25",69.5]
[null,null,null,"2006-05-24",64,null,"2006-05-24",64.5]
[null,null,null,"2006-05-23",58,null,"2006-05-23",56.5]
[null,null,null,"2006-05-22",58,null,"2006-05-22",49]
[null,null,null,"2006-05-21",59.5,null,"2006-05-21",50.5]
[null,null,null,"2006-05-20",59.5,null,"2006-05-20",56]
[null,null,null,"2006-05-19",57,null,"2006-05-19",53.5]
[null,null,null,"2006-05-18",64,null,"2006-05-18",54]
[null,null,null,"2006-05-17",61.5,null,"2006-05-17",59]
[null,null,null,"2006-05-16",60,null,"2006-05-16",56.5]
[null,null,null,"2006-05-15",58.5,null,"2006-05-15",55.5]
[null,null,null,"2006-05-14",56.5,null,"2006-05-14",49]
[null,null,null,"2006-05-13",63,null,"2006-05-13",46]
[null,null,null,"2006-05-12",66,null,"2006-05-12",41.5]
[null,null,null,"2006-05-11",59,null,"2006-05-11",48.5]
[null,null,null,"2006-05-10",62,null,"2006-05-10",64]
[null,null,null,"2006-05-09",60.5,null,"2006-05-09",62.5]
[null,null,null,"2006-05-08",60,null,"2006-05-08",60]
[null,null,null,"2006-05-07",56.5,null,"2006-05-07",54]
[null,null,null,"2006-05-06",65.5,null,"2006-05-06",49]
[null,null,null,"2006-05-05",72,null,"2006-05-05",52.5]
[null,null,null,"2006-05-04",69,null,"2006-05-04",61]
[null,null,null,"2006-05-03",62,null,"2006-05-03",61.5]
[null,null,null,"2006-05-02",60,null,"2006-05-02",62]
[null,null,null,"2006-05-01",59,null,"2006-05-01",56.5]
[null,null,null,"2006-04-30",55,null,"2006-04-30",55.5]
[null,null,null,"2006-04-29",53.5,null,"2006-04-29",56]
[null,null,null,"2006-04-28",56,null,"2006-04-28",52.5]
[null,null,null,"2006-04-27",59,null,"2006-04-27",54.5]
[null,null,null,"2006-04-26",50,null,"2006-04-26",45.5]
[null,null,null,"2006-04-25",60.5,null,"2006-04-25",39]
[null,null,null,"2006-04-24",57,null,"2006-04-24",56]
[null,null,null,"2006-04-23",54.5,null,"2006-04-23",56.5]
[null,null,null,"2006-04-22",46.5,null,"2006-04-22",57.5]
[null,null,null,"2006-04-21",53.5,null,"2006-04-21",57.5]
[null,null,null,"2006-04-20",69.5,null,"2006-04-20",64]
[null,null,null,"2006-04-19",64,null,"2006-04-19",63]
[null,null,null,"2006-04-18",60,null,"2006-04-18",55.5]
[null,null,null,"2006-04-17",54,null,"2006-04-17",49]
[null,null,null,"2006-04-16",60,null,"2006-04-16",54.5]
[null,null,null,"2006-04-15",66.5,null,"2006-04-15",58]
[null,null,null,"2006-04-14",58.5,null,"2006-04-14",72]
[null,null,null,"2006-04-13",67.5,null,"2006-04-13",66]
[null,null,null,"2006-04-12",58,null,"2006-04-12",67]
[null,null,null,"2006-04-11",54.5,null,"2006-04-11",61.5]
[null,null,null,"2006-04-10",49.5,null,"2006-04-10",52.5]
[null,null,null,"2006-04-09",47.5,null,"2006-04-09",41.5]
[null,null,null,"2006-04-08",49.5,null,"2006-04-08",34.5]
[null,null,null,"2006-04-07",53,null,"2006-04-07",44]
[null,null,null,"2006-04-06",46.5,null,"2006-04-06",48.5]
[null,null,null,"2006-04-05",40.5,null,"2006-04-05",45.5]
[null,null,null,"2006-04-04",50.5,null,"2006-04-04",46]
[null,null,null,"2006-04-03",52.5,null,"2006-04-03",46.5]
[null,null,null,"2006-04-02",57.5,null,"2006-04-02",49.5]
[null,null,null,"2006-04-01",65.5,null,"2006-04-01",44]
[null,null,null,"2006-03-31",59.5,null,"2006-03-31",56.5]
[null,null,null,"2006-03-30",53.5,null,"2006-03-30",52.5]
[null,null,null,"2006-03-29",49.5,null,"2006-03-29",42.5]
[null,null,null,"2006-03-28",46.5,null,"2006-03-28",41]
[null,null,null,"2006-03-27",48,null,"2006-03-27",37.5]
[null,null,null,"2006-03-26",42.5,null,"2006-03-26",37.5]
[null,null,null,"2006-03-25",43.5,null,"2006-03-25",36.5]
[null,null,null,"2006-03-24",42.5,null,"2006-03-24",35.5]
[null,null,null,"2006-03-23",44,null,"2006-03-23",36.5]
[null,null,null,"2006-03-22",39,null,"2006-03-22",37]
[null,null,null,"2006-03-21",34.5,null,"2006-03-21",29.5]
[null,null,null,"2006-03-20",35.5,null,"2006-03-20",31]
[null,null,null,"2006-03-19",37,null,"2006-03-19",36.5]
[null,null,null,"2006-03-18",37.5,null,"2006-03-18",33]
[null,null,null,"2006-03-17",40,null,"2006-03-17",32]
[null,null,null,"2006-03-16",43,null,"2006-03-16",35]
[null,null,null,"2006-03-15",41.5,null,"2006-03-15",34]
[null,null,null,"2006-03-14",50.5,null,"2006-03-14",34.5]
[null,null,null,"2006-03-13",55,null,"2006-03-13",46.5]
[null,null,null,"2006-03-12",51.5,null,"2006-03-12",48]
[null,null,null,"2006-03-11",56.5,null,"2006-03-11",55]
[null,null,null,"2006-03-10",59.5,null,"2006-03-10",46]
[null,null,null,"2006-03-09",46.5,null,"2006-03-09",48]
[null,null,null,"2006-03-08",38,null,"2006-03-08",46]
[null,null,null,"2006-03-07",38,null,"2006-03-07",32]
[null,null,null,"2006-03-06",37.5,null,"2006-03-06",32]
[null,null,null,"2006-03-05",39,null,"2006-03-05",30]
[null,null,null,"2006-03-04",33,null,"2006-03-04",31]
[null,null,null,"2006-03-03",28.5,null,"2006-03-03",28]
[null,null,null,"2006-03-02",31.5,null,"2006-03-02",31]
[null,null,null,"2006-03-01",35.5,null,"2006-03-01",36]
[null,null,null,"2006-02-28",28,null,"2006-02-28",32]
[null,null,null,"2006-02-27",24.5,null,"2006-02-27",32.5]
[null,null,null,"2006-02-26",24.5,null,"2006-02-26",25]
[null,null,null,"2006-02-25",38.5,null,"2006-02-25",31]
[null,null,null,"2006-02-24",35,null,"2006-02-24",31]
[null,null,null,"2006-02-23",41.5,null,"2006-02-23",33]
[null,null,null,"2006-02-22",36,null,"2006-02-22",35]
[null,null,null,"2006-02-21",34.5,null,"2006-02-21",28]
[null,null,null,"2006-02-20",28,null,"2006-02-20",22.5]
[null,null,null,"2006-02-19",22.5,null,"2006-02-19",10.5]
[null,null,null,"2006-02-18",25.5,null,"2006-02-18",7.5]
[null,null,null,"2006-02-17",46,null,"2006-02-17",13.5]
[null,null,null,"2006-02-16",46,null,"2006-02-16",29.5]
[null,null,null,"2006-02-15",41,null,"2006-02-15",37]
[null,null,null,"2006-02-14",31,null,"2006-02-14",40]
[null,null,null,"2006-02-13",25,null,"2006-02-13",27.5]
[null,null,null,"2006-02-12",25.5,null,"2006-02-12",26.5]
[null,null,null,"2006-02-11",32.5,null,"2006-02-11",30.5]
[null,null,null,"2006-02-10",31,null,"2006-02-10",31]
[null,null,null,"2006-02-09",31,null,"2006-02-09",24]
[null,null,null,"2006-02-08",33,null,"2006-02-08",25.5]
[null,null,null,"2006-02-07",37.5,null,"2006-02-07",26.5]
[null,null,null,"2006-02-06",36.5,null,"2006-02-06",28]
[null,null,null,"2006-02-05",46.5,null,"2006-02-05",27.5]
[null,null,null,"2006-02-04",46.5,null,"2006-02-04",28.5]
[null,null,null,"2006-02-03",54.5,null,"2006-02-03",38]
[null,null,null,"2006-02-02",43,null,"2006-02-02",35]
[null,null,null,"2006-02-01",39.5,null,"2006-02-01",39.5]
[null,null,null,"2006-01-31",41,null,"2006-01-31",34]
[null,null,null,"2006-01-30",50.5,null,"2006-01-30",35.5]
[null,null,null,"2006-01-29",43.5,null,"2006-01-29",44.5]
[null,null,null,"2006-01-28",45.5,null,"2006-01-28",42.5]
[null,null,null,"2006-01-27",33,null,"2006-01-27",43]
[null,null,null,"2006-01-26",30,null,"2006-01-26",30]
[null,null,null,"2006-01-25",39,null,"2006-01-25",30]
[null,null,null,"2006-01-24",38,null,"2006-01-24",34.5]
[null,null,null,"2006-01-23",37.5,null,"2006-01-23",26.5]
[null,null,null,"2006-01-22",36,null,"2006-01-22",30]
[null,null,null,"2006-01-21",50.5,null,"2006-01-21",26]
[null,null,null,"2006-01-20",49,null,"2006-01-20",39]
[null,null,null,"2006-01-19",39.5,null,"2006-01-19",41]
[null,null,null,"2006-01-18",49.5,null,"2006-01-18",27.5]
[null,null,null,"2006-01-17",33,null,"2006-01-17",35]
[null,null,null,"2006-01-16",23,null,"2006-01-16",38.5]
[null,null,null,"2006-01-15",22.5,null,"2006-01-15",36]
[null,null,null,"2006-01-14",43.5,null,"2006-01-14",32.5]
[null,null,null,"2006-01-13",44,null,"2006-01-13",40.5]
[null,null,null,"2006-01-12",50,null,"2006-01-12",47.5]
[null,null,null,"2006-01-11",43,null,"2006-01-11",39.5]
[null,null,null,"2006-01-10",42,null,"2006-01-10",29]
[null,null,null,"2006-01-09",51.5,null,"2006-01-09",35.5]
[null,null,null,"2006-01-08",39.5,null,"2006-01-08",38.5]
[null,null,null,"2006-01-07",29,null,"2006-01-07",33.5]
[null,null,null,"2006-01-06",36,null,"2006-01-06",29.5]
[null,null,null,"2006-01-05",43.5,null,"2006-01-05",34]
[null,null,null,"2006-01-04",33.5,null,"2006-01-04",39.5]
[null,null,null,"2006-01-03",39,null,"2006-01-03",40.5]
[null,null,null,"2006-01-02",37.5,null,"2006-01-02",41]
[null,null,null,"2006-01-01",36.5,null,"2006-01-01",35.5]
[null,null,null,"2005-12-31",33.5,null,"2005-12-31",34.5]
[null,null,null,"2005-12-30",39.5,null,"2005-12-30",35.5]
[null,null,null,"2005-12-29",46.5,null,"2005-12-29",34.5]
[null,null,null,"2005-12-28",40,null,"2005-12-28",36.5]
[null,null,null,"2005-12-27",39.5,null,"2005-12-27",39.5]
[null,null,null,"2005-12-26",43.5,null,"2005-12-26",34.5]
[null,null,null,"2005-12-25",42,null,"2005-12-25",34.5]
[null,null,null,"2005-12-24",44.5,null,"2005-12-24",36.5]
[null,null,null,"2005-12-23",42,null,"2005-12-23",40.5]
[null,null,null,"2005-12-22",30.5,null,"2005-12-22",22]
[null,null,null,"2005-12-21",28,null,"2005-12-21",11.5]
[null,null,null,"2005-12-20",27.5,null,"2005-12-20",13]
[null,null,null,"2005-12-19",31.5,null,"2005-12-19",5]
[null,null,null,"2005-12-18",35.5,null,"2005-12-18",9.5]
[null,null,null,"2005-12-17",36.5,null,"2005-12-17",15.5]
[null,null,null,"2005-12-16",43,null,"2005-12-16",21]
[null,null,null,"2005-12-15",26,null,"2005-12-15",29.5]
[null,null,null,"2005-12-14",17.5,null,"2005-12-14",31.5]
[null,null,null,"2005-12-13",20,null,"2005-12-13",25.5]
[null,null,null,"2005-12-12",29,null,"2005-12-12",18.5]
[null,null,null,"2005-12-11",30.5,null,"2005-12-11",20]
[null,null,null,"2005-12-10",28.5,null,"2005-12-10",22]
[null,null,null,"2005-12-09",31.5,null,"2005-12-09",19.5]
[null,null,null,"2005-12-08",27,null,"2005-12-08",15.5]
[null,null,null,"2005-12-07",28,null,"2005-12-07",7.5]
[null,null,null,"2005-12-06",32.5,null,"2005-12-06",10.5]
[null,null,null,"2005-12-05",31,null,"2005-12-05",10.5]
[null,null,null,"2005-12-04",30,null,"2005-12-04",20]
[null,null,null,"2005-12-03",33,null,"2005-12-03",25]
[null,null,null,"2005-12-02",37.5,null,"2005-12-02",18.5]
[null,null,null,"2005-12-01",41.5,null,"2005-12-01",24.5]
[null,null,null,"2005-11-30",54.5,null,"2005-11-30",23.5]
[null,null,null,"2005-11-29",59.5,null,"2005-11-29",32.5]
[null,null,null,"2005-11-28",55.5,null,"2005-11-28",50]
[null,null,null,"2005-11-27",42.5,null,"2005-11-27",47.5]
[null,null,null,"2005-11-26",33,null,"2005-11-26",32]
[null,null,null,"2005-11-25",28,null,"2005-11-25",20]
[null,null,null,"2005-11-24",37,null,"2005-11-24",28.5]
[null,null,null,"2005-11-23",31.5,null,"2005-11-23",37]
[null,null,null,"2005-11-22",40.5,null,"2005-11-22",31.5]
[null,null,null,"2005-11-21",45,null,"2005-11-21",42]
[null,null,null,"2005-11-20",45.5,null,"2005-11-20",38.5]
[null,null,null,"2005-11-19",38,null,"2005-11-19",42.5]
[null,null,null,"2005-11-18",36.5,null,"2005-11-18",29.5]
[null,null,null,"2005-11-17",41,null,"2005-11-17",21.5]
[null,null,null,"2005-11-16",60.5,null,"2005-11-16",29]
[null,null,null,"2005-11-15",55.5,null,"2005-11-15",46]
[null,null,null,"2005-11-14",58,null,"2005-11-14",38.5]
[null,null,null,"2005-11-13",53.5,null,"2005-11-13",48.5]
[null,null,null,"2005-11-12",45.5,null,"2005-11-12",54]
[null,null,null,"2005-11-11",43,null,"2005-11-11",47]
[null,null,null,"2005-11-10",52.5,null,"2005-11-10",38.5]
[null,null,null,"2005-11-09",52,null,"2005-11-09",53.5]
[null,null,null,"2005-11-08",54,null,"2005-11-08",54.5]
[null,null,null,"2005-11-07",56,null,"2005-11-07",49]
[null,null,null,"2005-11-06",60,null,"2005-11-06",50.5]
[null,null,null,"2005-11-05",61,null,"2005-11-05",54]
[null,null,null,"2005-11-04",57.5,null,"2005-11-04",59.5]
[null,null,null,"2005-11-03",54,null,"2005-11-03",61.5]
[null,null,null,"2005-11-02",52.5,null,"2005-11-02",52]
[null,null,null,"2005-11-01",58,null,"2005-11-01",47.5]
[null,null,null,"2005-10-31",56,null,"2005-10-31",53.5]
[null,null,null,"2005-10-30",56,null,"2005-10-30",54]
[null,null,null,"2005-10-29",45,null,"2005-10-29",44.5]
[null,null,null,"2005-10-28",45.5,null,"2005-10-28",44]
[null,null,null,"2005-10-27",44,null,"2005-10-27",44]
[null,null,null,"2005-10-26",46.5,null,"2005-10-26",43.5]
[null,null,null,"2005-10-25",45.5,null,"2005-10-25",44.5]
[null,null,null,"2005-10-24",46.5,null,"2005-10-24",45.5]
[null,null,null,"2005-10-23",51,null,"2005-10-23",40]
[null,null,null,"2005-10-22",50.5,null,"2005-10-22",46]
[null,null,null,"2005-10-21",53,null,"2005-10-21",52.5]
[null,null,null,"2005-10-20",56,null,"2005-10-20",50.5]
[null,null,null,"2005-10-19",60.5,null,"2005-10-19",55.5]
[null,null,null,"2005-10-18",61,null,"2005-10-18",58]
[null,null,null,"2005-10-17",58,null,"2005-10-17",58]
[null,null,null,"2005-10-16",59,null,"2005-10-16",52]
[null,null,null,"2005-10-15",65.5,null,"2005-10-15",57.5]
[null,null,null,"2005-10-14",60.5,null,"2005-10-14",62]
[null,null,null,"2005-10-13",59,null,"2005-10-13",60.5]
[null,null,null,"2005-10-12",55,null,"2005-10-12",59]
[null,null,null,"2005-10-11",60.5,null,"2005-10-11",57.5]
[null,null,null,"2005-10-10",58.5,null,"2005-10-10",53.5]
[null,null,null,"2005-10-09",57,null,"2005-10-09",52.5]
[null,null,null,"2005-10-08",65,null,"2005-10-08",48]
[null,null,null,"2005-10-07",73,null,"2005-10-07",48.5]
[null,null,null,"2005-10-06",70,null,"2005-10-06",58]
[null,null,null,"2005-10-05",71,null,"2005-10-05",76.5]
[null,null,null,"2005-10-04",69.5,null,"2005-10-04",79]
[null,null,null,"2005-10-03",65,null,"2005-10-03",77.5]
[null,null,null,"2005-10-02",66,null,"2005-10-02",69]
[null,null,null,"2005-10-01",61,null,"2005-10-01",65]
[null,null,null,"2005-09-30",57.5,null,"2005-09-30",57.5]
[null,null,null,"2005-09-29",64.5,null,"2005-09-29",52.5]
[null,null,null,"2005-09-28",63,null,"2005-09-28",61.5]
[null,null,null,"2005-09-27",68,null,"2005-09-27",60.5]
[null,null,null,"2005-09-26",73,null,"2005-09-26",60]
[null,null,null,"2005-09-25",66,null,"2005-09-25",71]
[null,null,null,"2005-09-24",66,null,"2005-09-24",67]
[null,null,null,"2005-09-23",77.5,null,"2005-09-23",64.5]
[null,null,null,"2005-09-22",75,null,"2005-09-22",75]
[null,null,null,"2005-09-21",75.5,null,"2005-09-21",70]
[null,null,null,"2005-09-20",77,null,"2005-09-20",69]
[null,null,null,"2005-09-19",77,null,"2005-09-19",74.5]
[null,null,null,"2005-09-18",75,null,"2005-09-18",67.5]
[null,null,null,"2005-09-17",79.5,null,"2005-09-17",64.5]
[null,null,null,"2005-09-16",78.5,null,"2005-09-16",62]
[null,null,null,"2005-09-15",81,null,"2005-09-15",62]
[null,null,null,"2005-09-14",76,null,"2005-09-14",66.5]
[null,null,null,"2005-09-13",81,null,"2005-09-13",82.5]
[null,null,null,"2005-09-12",78,null,"2005-09-12",79]
[null,null,null,"2005-09-11",70,null,"2005-09-11",79.5]
[null,null,null,"2005-09-10",72,null,"2005-09-10",79.5]
[null,null,null,"2005-09-09",75,null,"2005-09-09",74]
[null,null,null,"2005-09-08",75.5,null,"2005-09-08",72]
[null,null,null,"2005-09-07",71,null,"2005-09-07",77.5]
[null,null,null,"2005-09-06",71.5,null,"2005-09-06",73.5]
[null,null,null,"2005-09-05",73,null,"2005-09-05",72.5]
[null,null,null,"2005-09-04",75.5,null,"2005-09-04",70]
[null,null,null,"2005-09-03",76,null,"2005-09-03",69]
[null,null,null,"2005-09-02",78.5,null,"2005-09-02",72]
[null,null,null,"2005-09-01",77.5,null,"2005-09-01",75.5]
[null,null,null,"2005-08-31",83.5,null,"2005-08-31",71]
[null,null,null,"2005-08-30",81,null,"2005-08-30",70.5]
[null,null,null,"2005-08-29",79.5,null,"2005-08-29",73.5]
[null,null,null,"2005-08-28",77.5,null,"2005-08-28",75]
[null,null,null,"2005-08-27",75.5,null,"2005-08-27",75.5]
[null,null,null,"2005-08-26",74.5,null,"2005-08-26",74.5]
[null,null,null,"2005-08-25",74,null,"2005-08-25",72]
[null,null,null,"2005-08-24",75.5,null,"2005-08-24",66.5]
[null,null,null,"2005-08-23",76.5,null,"2005-08-23",65.5]
[null,null,null,"2005-08-22",81.5,null,"2005-08-22",67]
[null,null,null,"2005-08-21",86,null,"2005-08-21",73.5]
[null,null,null,"2005-08-20",79.5,null,"2005-08-20",77.5]
[null,null,null,"2005-08-19",75,null,"2005-08-19",78.5]
[null,null,null,"2005-08-18",74.5,null,"2005-08-18",76.5]
[null,null,null,"2005-08-17",79,null,"2005-08-17",71]
[null,null,null,"2005-08-16",73.5,null,"2005-08-16",73.5]
[null,null,null,"2005-08-15",76,null,"2005-08-15",71]
[null,null,null,"2005-08-14",86,null,"2005-08-14",68.5]
[null,null,null,"2005-08-13",91,null,"2005-08-13",71.5]
[null,null,null,"2005-08-12",86,null,"2005-08-12",78.5]
[null,null,null,"2005-08-11",85.5,null,"2005-08-11",72]
[null,null,null,"2005-08-10",80.5,null,"2005-08-10",79]
[null,null,null,"2005-08-09",78,null,"2005-08-09",80]
[null,null,null,"2005-08-08",79,null,"2005-08-08",78]
[null,null,null,"2005-08-07",78.5,null,"2005-08-07",73.5]
[null,null,null,"2005-08-06",79.5,null,"2005-08-06",71.5]
[null,null,null,"2005-08-05",89,null,"2005-08-05",73]
[null,null,null,"2005-08-04",85.5,null,"2005-08-04",82]
[null,null,null,"2005-08-03",86,null,"2005-08-03",83.5]
[null,null,null,"2005-08-02",85,null,"2005-08-02",78.5]
[null,null,null,"2005-08-01",80,null,"2005-08-01",81]
[null,null,null,"2005-07-31",75,null,"2005-07-31",79]
[null,null,null,"2005-07-30",79,null,"2005-07-30",72.5]
[null,null,null,"2005-07-29",77.5,null,"2005-07-29",72]
[null,null,null,"2005-07-28",75.5,null,"2005-07-28",66]
[null,null,null,"2005-07-27",87.5,null,"2005-07-27",65]
[null,null,null,"2005-07-26",87,null,"2005-07-26",75]
[null,null,null,"2005-07-25",81,null,"2005-07-25",80.5]
[null,null,null,"2005-07-24",79,null,"2005-07-24",90]
[null,null,null,"2005-07-23",81.5,null,"2005-07-23",73.5]
[null,null,null,"2005-07-22",85.5,null,"2005-07-22",75]
[null,null,null,"2005-07-21",83.5,null,"2005-07-21",79]
[null,null,null,"2005-07-20",85,null,"2005-07-20",77.5]
[null,null,null,"2005-07-19",85.5,null,"2005-07-19",79]
[null,null,null,"2005-07-18",83,null,"2005-07-18",83]
[null,null,null,"2005-07-17",77.5,null,"2005-07-17",83.5]
[null,null,null,"2005-07-16",78,null,"2005-07-16",80.5]
[null,null,null,"2005-07-15",79.5,null,"2005-07-15",78.5]
[null,null,null,"2005-07-14",78.5,null,"2005-07-14",79]
[null,null,null,"2005-07-13",73.5,null,"2005-07-13",79.5]
[null,null,null,"2005-07-12",78.5,null,"2005-07-12",78.5]
[null,null,null,"2005-07-11",80,null,"2005-07-11",76]
[null,null,null,"2005-07-10",79.5,null,"2005-07-10",75.5]
[null,null,null,"2005-07-09",72,null,"2005-07-09",72]
[null,null,null,"2005-07-08",65,null,"2005-07-08",72.5]
[null,null,null,"2005-07-07",70.5,null,"2005-07-07",72.5]
[null,null,null,"2005-07-06",77.5,null,"2005-07-06",72]
[null,null,null,"2005-07-05",76,null,"2005-07-05",75]
[null,null,null,"2005-07-04",71.5,null,"2005-07-04",77]
[null,null,null,"2005-07-03",70.5,null,"2005-07-03",70]
[null,null,null,"2005-07-02",76,null,"2005-07-02",64.5]
[null,null,null,"2005-07-01",77,null,"2005-07-01",69]
[null,null,null,"2005-06-30",77,null,"2005-06-30",81.5]
[null,null,null,"2005-06-29",79,null,"2005-06-29",81.5]
[null,null,null,"2005-06-28",81,null,"2005-06-28",85]
[null,null,null,"2005-06-27",75.5,null,"2005-06-27",81.5]
[null,null,null,"2005-06-26",83,null,"2005-06-26",81.5]
[null,null,null,"2005-06-25",81,null,"2005-06-25",80]
[null,null,null,"2005-06-24",74.5,null,"2005-06-24",86]
[null,null,null,"2005-06-23",68,null,"2005-06-23",76.5]
[null,null,null,"2005-06-22",72,null,"2005-06-22",72]
[null,null,null,"2005-06-21",72,null,"2005-06-21",74.5]
[null,null,null,"2005-06-20",68,null,"2005-06-20",69]
[null,null,null,"2005-06-19",66.5,null,"2005-06-19",65]
[null,null,null,"2005-06-18",68,null,"2005-06-18",62]
[null,null,null,"2005-06-17",67.5,null,"2005-06-17",60.5]
[null,null,null,"2005-06-16",67,null,"2005-06-16",66]
[null,null,null,"2005-06-15",73,null,"2005-06-15",64]
[null,null,null,"2005-06-14",88,null,"2005-06-14",73.5]
[null,null,null,"2005-06-13",83.5,null,"2005-06-13",78]
[null,null,null,"2005-06-12",82,null,"2005-06-12",75]
[null,null,null,"2005-06-11",79,null,"2005-06-11",80]
[null,null,null,"2005-06-10",81,null,"2005-06-10",77.5]
[null,null,null,"2005-06-09",81,null,"2005-06-09",76.5]
[null,null,null,"2005-06-08",81.5,null,"2005-06-08",77.5]
[null,null,null,"2005-06-07",79,null,"2005-06-07",76.5]
[null,null,null,"2005-06-06",79,null,"2005-06-06",77.5]
[null,null,null,"2005-06-05",77,null,"2005-06-05",77.5]
[null,null,null,"2005-06-04",73,null,"2005-06-04",71.5]
[null,null,null,"2005-06-03",62,null,"2005-06-03",66.5]
[null,null,null,"2005-06-02",60,null,"2005-06-02",66]
[null,null,null,"2005-06-01",59.5,null,"2005-06-01",65]
[null,null,null,"2005-05-31",67,null,"2005-05-31",59]
[null,null,null,"2005-05-30",67,null,"2005-05-30",60]
[null,null,null,"2005-05-29",66,null,"2005-05-29",56.5]
[null,null,null,"2005-05-28",67.5,null,"2005-05-28",58]
[null,null,null,"2005-05-27",69.5,null,"2005-05-27",59]
[null,null,null,"2005-05-26",56.5,null,"2005-05-26",65.5]
[null,null,null,"2005-05-25",51,null,"2005-05-25",58]
[null,null,null,"2005-05-24",56,null,"2005-05-24",57]
[null,null,null,"2005-05-23",56,null,"2005-05-23",61]
[null,null,null,"2005-05-22",57,null,"2005-05-22",68.5]
[null,null,null,"2005-05-21",60.5,null,"2005-05-21",58]
[null,null,null,"2005-05-20",52.5,null,"2005-05-20",57.5]
[null,null,null,"2005-05-19",61,null,"2005-05-19",61.5]
[null,null,null,"2005-05-18",62.5,null,"2005-05-18",66]
[null,null,null,"2005-05-17",61.5,null,"2005-05-17",60]
[null,null,null,"2005-05-16",63.5,null,"2005-05-16",52]
[null,null,null,"2005-05-15",71.5,null,"2005-05-15",47.5]
[null,null,null,"2005-05-14",65,null,"2005-05-14",55.5]
[null,null,null,"2005-05-13",52.5,null,"2005-05-13",61]
[null,null,null,"2005-05-12",60.5,null,"2005-05-12",48.5]
[null,null,null,"2005-05-11",61.5,null,"2005-05-11",53.5]
[null,null,null,"2005-05-10",56.5,null,"2005-05-10",71]
[null,null,null,"2005-05-09",60.5,null,"2005-05-09",69.5]
[null,null,null,"2005-05-08",58,null,"2005-05-08",64]
[null,null,null,"2005-05-07",55.5,null,"2005-05-07",52.5]
[null,null,null,"2005-05-06",50,null,"2005-05-06",63]
[null,null,null,"2005-05-05",51.5,null,"2005-05-05",54]
[null,null,null,"2005-05-04",52.5,null,"2005-05-04",47.5]
[null,null,null,"2005-05-03",49.5,null,"2005-05-03",42.5]
[null,null,null,"2005-05-02",53,null,"2005-05-02",39.5]
[null,null,null,"2005-05-01",58.5,null,"2005-05-01",42]
[null,null,null,"2005-04-30",55,null,"2005-04-30",46]
[null,null,null,"2005-04-29",54,null,"2005-04-29",46]
[null,null,null,"2005-04-28",57,null,"2005-04-28",47.5]
[null,null,null,"2005-04-27",59,null,"2005-04-27",47.5]
[null,null,null,"2005-04-26",58.5,null,"2005-04-26",50]
[null,null,null,"2005-04-25",46.5,null,"2005-04-25",53]
[null,null,null,"2005-04-24",50,null,"2005-04-24",43.5]
[null,null,null,"2005-04-23",55.5,null,"2005-04-23",38.5]
[null,null,null,"2005-04-22",50,null,"2005-04-22",42]
[null,null,null,"2005-04-21",60.5,null,"2005-04-21",49.5]
[null,null,null,"2005-04-20",74.5,null,"2005-04-20",56.5]
[null,null,null,"2005-04-19",62,null,"2005-04-19",70.5]
[null,null,null,"2005-04-18",64,null,"2005-04-18",64]
[null,null,null,"2005-04-17",56.5,null,"2005-04-17",61.5]
[null,null,null,"2005-04-16",47.5,null,"2005-04-16",55.5]
[null,null,null,"2005-04-15",49,null,"2005-04-15",48]
[null,null,null,"2005-04-14",52.5,null,"2005-04-14",48]
[null,null,null,"2005-04-13",47.5,null,"2005-04-13",46.5]
[null,null,null,"2005-04-12",46.5,null,"2005-04-12",48]
[null,null,null,"2005-04-11",50,null,"2005-04-11",64.5]
[null,null,null,"2005-04-10",57,null,"2005-04-10",61.5]
[null,null,null,"2005-04-09",52.5,null,"2005-04-09",51.5]
[null,null,null,"2005-04-08",54.5,null,"2005-04-08",48.5]
[null,null,null,"2005-04-07",64,null,"2005-04-07",47.5]
[null,null,null,"2005-04-06",61,null,"2005-04-06",62.5]
[null,null,null,"2005-04-05",56,null,"2005-04-05",61.5]
[null,null,null,"2005-04-04",51.5,null,"2005-04-04",52]
[null,null,null,"2005-04-03",44.5,null,"2005-04-03",47.5]
[null,null,null,"2005-04-02",47.5,null,"2005-04-02",43]
[null,null,null,"2005-04-01",46,null,"2005-04-01",45]
[null,null,null,"2005-03-31",44,null,"2005-03-31",49]
[null,null,null,"2005-03-30",51,null,"2005-03-30",65.5]
[null,null,null,"2005-03-29",52.5,null,"2005-03-29",52]
[null,null,null,"2005-03-28",42.5,null,"2005-03-28",43.5]
[null,null,null,"2005-03-27",43,null,"2005-03-27",37.5]
[null,null,null,"2005-03-26",40,null,"2005-03-26",37]
[null,null,null,"2005-03-25",42,null,"2005-03-25",36]
[null,null,null,"2005-03-24",38,null,"2005-03-24",36]
[null,null,null,"2005-03-23",38.5,null,"2005-03-23",33.5]
[null,null,null,"2005-03-22",46,null,"2005-03-22",36.5]
[null,null,null,"2005-03-21",42,null,"2005-03-21",32]
[null,null,null,"2005-03-20",40,null,"2005-03-20",34]
[null,null,null,"2005-03-19",41.5,null,"2005-03-19",42]
[null,null,null,"2005-03-18",41.5,null,"2005-03-18",38.5]
[null,null,null,"2005-03-17",39.5,null,"2005-03-17",32]
[null,null,null,"2005-03-16",38.5,null,"2005-03-16",37]
[null,null,null,"2005-03-15",38,null,"2005-03-15",31]
[null,null,null,"2005-03-14",35.5,null,"2005-03-14",28.5]
[null,null,null,"2005-03-13",38.5,null,"2005-03-13",23]
[null,null,null,"2005-03-12",38.5,null,"2005-03-12",26]
[null,null,null,"2005-03-11",36,null,"2005-03-11",30]
[null,null,null,"2005-03-10",26.5,null,"2005-03-10",28.5]
[null,null,null,"2005-03-09",22.5,null,"2005-03-09",24]
[null,null,null,"2005-03-08",36,null,"2005-03-08",24]
[null,null,null,"2005-03-07",51.5,null,"2005-03-07",42]
[null,null,null,"2005-03-06",37.5,null,"2005-03-06",49.5]
[null,null,null,"2005-03-05",32.5,null,"2005-03-05",38]
[null,null,null,"2005-03-04",28,null,"2005-03-04",32]
[null,null,null,"2005-03-03",27.5,null,"2005-03-03",24]
[null,null,null,"2005-03-02",32,null,"2005-03-02",20]
[null,null,null,"2005-03-01",33,null,"2005-03-01",23]
[null,null,null,"2005-02-28",31.5,null,"2005-02-28",30.5]
[null,null,null,"2005-02-27",29.5,null,"2005-02-27",33]
[null,null,null,"2005-02-26",30.5,null,"2005-02-26",29]
[null,null,null,"2005-02-25",27.5,null,"2005-02-25",34]
[null,null,null,"2005-02-24",27,null,"2005-02-24",31.5]
[null,null,null,"2005-02-23",35,null,"2005-02-23",28]
[null,null,null,"2005-02-22",37.5,null,"2005-02-22",28.5]
[null,null,null,"2005-02-21",31.5,null,"2005-02-21",34.5]
[null,null,null,"2005-02-20",31,null,"2005-02-20",34]
[null,null,null,"2005-02-19",24.5,null,"2005-02-19",31.5]
[null,null,null,"2005-02-18",25,null,"2005-02-18",18.5]
[null,null,null,"2005-02-17",34.5,null,"2005-02-17",21.5]
[null,null,null,"2005-02-16",46,null,"2005-02-16",29.5]
[null,null,null,"2005-02-15",50,null,"2005-02-15",37.5]
[null,null,null,"2005-02-14",40,null,"2005-02-14",43]
[null,null,null,"2005-02-13",37,null,"2005-02-13",38]
[null,null,null,"2005-02-12",36.5,null,"2005-02-12",42]
[null,null,null,"2005-02-11",35.5,null,"2005-02-11",32.5]
[null,null,null,"2005-02-10",37.5,null,"2005-02-10",27]
[null,null,null,"2005-02-09",48,null,"2005-02-09",27.5]
[null,null,null,"2005-02-08",44,null,"2005-02-08",29]
[null,null,null,"2005-02-07",62.5,null,"2005-02-07",39]
[null,null,null,"2005-02-06",44.5,null,"2005-02-06",43]
[null,null,null,"2005-02-05",43,null,"2005-02-05",45.5]
[null,null,null,"2005-02-04",38.5,null,"2005-02-04",36]
[null,null,null,"2005-02-03",31,null,"2005-02-03",29.5]
[null,null,null,"2005-02-02",28.5,null,"2005-02-02",26]
[null,null,null,"2005-02-01",28,null,"2005-02-01",28]
[null,null,null,"2005-01-31",27,null,"2005-01-31",28]
[null,null,null,"2005-01-30",30,null,"2005-01-30",30]
[null,null,null,"2005-01-29",21.5,null,"2005-01-29",27.5]
[null,null,null,"2005-01-28",13,null,"2005-01-28",14.5]
[null,null,null,"2005-01-27",13.5,null,"2005-01-27",13]
[null,null,null,"2005-01-26",26.5,null,"2005-01-26",26]
[null,null,null,"2005-01-25",25.5,null,"2005-01-25",33]
[null,null,null,"2005-01-24",14,null,"2005-01-24",26]
[null,null,null,"2005-01-23",15.5,null,"2005-01-23",15.5]
[null,null,null,"2005-01-22",13.5,null,"2005-01-22",17]
[null,null,null,"2005-01-21",14,null,"2005-01-21",20.5]
[null,null,null,"2005-01-20",24.5,null,"2005-01-20",25.5]
[null,null,null,"2005-01-19",16,null,"2005-01-19",29]
[null,null,null,"2005-01-18",13,null,"2005-01-18",12]
[null,null,null,"2005-01-17",23,null,"2005-01-17",6.5]
[null,null,null,"2005-01-16",28,null,"2005-01-16",8.5]
[null,null,null,"2005-01-15",28.5,null,"2005-01-15",9.5]
[null,null,null,"2005-01-14",50,null,"2005-01-14",9.5]
[null,null,null,"2005-01-13",49.5,null,"2005-01-13",30.5]
[null,null,null,"2005-01-12",38,null,"2005-01-12",48]
[null,null,null,"2005-01-11",36,null,"2005-01-11",34.5]
[null,null,null,"2005-01-10",42.5,null,"2005-01-10",32]
[null,null,null,"2005-01-09",35,null,"2005-01-09",30]
[null,null,null,"2005-01-08",36.5,null,"2005-01-08",25.5]
[null,null,null,"2005-01-07",37,null,"2005-01-07",17.5]
[null,null,null,"2005-01-06",35.5,null,"2005-01-06",19.5]
[null,null,null,"2005-01-05",38.5,null,"2005-01-05",28.5]
[null,null,null,"2005-01-04",47,null,"2005-01-04",32.5]
[null,null,null,"2005-01-03",51,null,"2005-01-03",34]
[null,null,null,"2005-01-02",38,null,"2005-01-02",43.5]
[null,null,null,"2005-01-01",49,null,"2005-01-01",33]
[null,null,null,"2004-12-31",47.5,null,"2004-12-31",42.5]
[null,null,null,"2004-12-30",42.5,null,"2004-12-30",44]
[null,null,null,"2004-12-29",37,null,"2004-12-29",33]
[null,null,null,"2004-12-28",22,null,"2004-12-28",32.5]
[null,null,null,"2004-12-27",21.5,null,"2004-12-27",17]
[null,null,null,"2004-12-26",25.5,null,"2004-12-26",18]
[null,null,null,"2004-12-25",27.5,null,"2004-12-25",15]
[null,null,null,"2004-12-24",32.5,null,"2004-12-24",5]
[null,null,null,"2004-12-23",49,null,"2004-12-23",11.5]
[null,null,null,"2004-12-22",37.5,null,"2004-12-22",11]
[null,null,null,"2004-12-21",22,null,"2004-12-21",24.5]
[null,null,null,"2004-12-20",15,null,"2004-12-20",19.5]
[null,null,null,"2004-12-19",32,null,"2004-12-19",11]
[null,null,null,"2004-12-18",32,null,"2004-12-18",28]
[null,null,null,"2004-12-17",36.5,null,"2004-12-17",26]
[null,null,null,"2004-12-16",33,null,"2004-12-16",35.5]
[null,null,null,"2004-12-15",27.5,null,"2004-12-15",28]
[null,null,null,"2004-12-14",31.5,null,"2004-12-14",22]
[null,null,null,"2004-12-13",41.5,null,"2004-12-13",24.5]
[null,null,null,"2004-12-12",42.5,null,"2004-12-12",37]
[null,null,null,"2004-12-11",46,null,"2004-12-11",34.5]
[null,null,null,"2004-12-10",46.5,null,"2004-12-10",41]
[null,null,null,"2004-12-09",42.5,null,"2004-12-09",43.5]
[null,null,null,"2004-12-08",51.5,null,"2004-12-08",38.5]
[null,null,null,"2004-12-07",41,null,"2004-12-07",45.5]
[null,null,null,"2004-12-06",36.5,null,"2004-12-06",45]
[null,null,null,"2004-12-05",45,null,"2004-12-05",36.5]
[null,null,null,"2004-12-04",35.5,null,"2004-12-04",35.5]
[null,null,null,"2004-12-03",40.5,null,"2004-12-03",29.5]
[null,null,null,"2004-12-02",41,null,"2004-12-02",31]
[null,null,null,"2004-12-01",49.5,null,"2004-12-01",28.5]
[null,null,null,"2004-11-30",42,null,"2004-11-30",36]
[null,null,null,"2004-11-29",44.5,null,"2004-11-29",35]
[null,null,null,"2004-11-28",52.5,null,"2004-11-28",38.5]
[null,null,null,"2004-11-27",45,null,"2004-11-27",42]
[null,null,null,"2004-11-26",38.5,null,"2004-11-26",36.5]
[null,null,null,"2004-11-25",50.5,null,"2004-11-25",27]
[null,null,null,"2004-11-24",57,null,"2004-11-24",36.5]
[null,null,null,"2004-11-23",48.5,null,"2004-11-23",45]
[null,null,null,"2004-11-22",53,null,"2004-11-22",41.5]
[null,null,null,"2004-11-21",50.5,null,"2004-11-21",38]
[null,null,null,"2004-11-20",49,null,"2004-11-20",48.5]
[null,null,null,"2004-11-19",57,null,"2004-11-19",52]
[null,null,null,"2004-11-18",48.5,null,"2004-11-18",55]
[null,null,null,"2004-11-17",47,null,"2004-11-17",58.5]
[null,null,null,"2004-11-16",50.5,null,"2004-11-16",51]
[null,null,null,"2004-11-15",49,null,"2004-11-15",40]
[null,null,null,"2004-11-14",39,null,"2004-11-14",38]
[null,null,null,"2004-11-13",38.5,null,"2004-11-13",36]
[null,null,null,"2004-11-12",41,null,"2004-11-12",38.5]
[null,null,null,"2004-11-11",48,null,"2004-11-11",43.5]
[null,null,null,"2004-11-10",36,null,"2004-11-10",54.5]
[null,null,null,"2004-11-09",37,null,"2004-11-09",44.5]
[null,null,null,"2004-11-08",48,null,"2004-11-08",38.5]
[null,null,null,"2004-11-07",55,null,"2004-11-07",47]
[null,null,null,"2004-11-06",48,null,"2004-11-06",53.5]
[null,null,null,"2004-11-05",48,null,"2004-11-05",44.5]
[null,null,null,"2004-11-04",43.5,null,"2004-11-04",46]
[null,null,null,"2004-11-03",52.5,null,"2004-11-03",49]
[null,null,null,"2004-11-02",52,null,"2004-11-02",47]
[null,null,null,"2004-11-01",54,null,"2004-11-01",49.5]
[null,null,null,"2004-10-31",65.5,null,"2004-10-31",50.5]
[null,null,null,"2004-10-30",58.5,null,"2004-10-30",61]
[null,null,null,"2004-10-29",50,null,"2004-10-29",68.5]
[null,null,null,"2004-10-28",49,null,"2004-10-28",53.5]
[null,null,null,"2004-10-27",55.5,null,"2004-10-27",57.5]
[null,null,null,"2004-10-26",56,null,"2004-10-26",56.5]
[null,null,null,"2004-10-25",50,null,"2004-10-25",56.5]
[null,null,null,"2004-10-24",49,null,"2004-10-24",54.5]
[null,null,null,"2004-10-23",48,null,"2004-10-23",65.5]
[null,null,null,"2004-10-22",52,null,"2004-10-22",54]
[null,null,null,"2004-10-21",50.5,null,"2004-10-21",53]
[null,null,null,"2004-10-20",52,null,"2004-10-20",51.5]
[null,null,null,"2004-10-19",49.5,null,"2004-10-19",50.5]
[null,null,null,"2004-10-18",49.5,null,"2004-10-18",44.5]
[null,null,null,"2004-10-17",49,null,"2004-10-17",42.5]
[null,null,null,"2004-10-16",54,null,"2004-10-16",43]
[null,null,null,"2004-10-15",59.5,null,"2004-10-15",48.5]
[null,null,null,"2004-10-14",56,null,"2004-10-14",52]
[null,null,null,"2004-10-13",57,null,"2004-10-13",57.5]
[null,null,null,"2004-10-12",55.5,null,"2004-10-12",50.5]
[null,null,null,"2004-10-11",53.5,null,"2004-10-11",52.5]
[null,null,null,"2004-10-10",60,null,"2004-10-10",52]
[null,null,null,"2004-10-09",64.5,null,"2004-10-09",57]
[null,null,null,"2004-10-08",64,null,"2004-10-08",63.5]
[null,null,null,"2004-10-07",61,null,"2004-10-07",59.5]
[null,null,null,"2004-10-06",53.5,null,"2004-10-06",60.5]
[null,null,null,"2004-10-05",53,null,"2004-10-05",45.5]
[null,null,null,"2004-10-04",61.5,null,"2004-10-04",47]
[null,null,null,"2004-10-03",60.5,null,"2004-10-03",53]
[null,null,null,"2004-10-02",63,null,"2004-10-02",47.5]
[null,null,null,"2004-10-01",63,null,"2004-10-01",61.5]
[null,null,null,"2004-09-30",62,null,"2004-09-30",54]
[null,null,null,"2004-09-29",64.5,null,"2004-09-29",58.5]
[null,null,null,"2004-09-28",68.5,null,"2004-09-28",59]
[null,null,null,"2004-09-27",67.5,null,"2004-09-27",60.5]
[null,null,null,"2004-09-26",72,null,"2004-09-26",59]
[null,null,null,"2004-09-25",67.5,null,"2004-09-25",62]
[null,null,null,"2004-09-24",67.5,null,"2004-09-24",69]
[null,null,null,"2004-09-23",75.5,null,"2004-09-23",69.5]
[null,null,null,"2004-09-22",72.5,null,"2004-09-22",66]
[null,null,null,"2004-09-21",68,null,"2004-09-21",66.5]
[null,null,null,"2004-09-20",60,null,"2004-09-20",64]
[null,null,null,"2004-09-19",58.5,null,"2004-09-19",67.5]
[null,null,null,"2004-09-18",66,null,"2004-09-18",64]
[null,null,null,"2004-09-17",72,null,"2004-09-17",61.5]
[null,null,null,"2004-09-16",72.5,null,"2004-09-16",65.5]
[null,null,null,"2004-09-15",68,null,"2004-09-15",77]
[null,null,null,"2004-09-14",69,null,"2004-09-14",74.5]
[null,null,null,"2004-09-13",74,null,"2004-09-13",71]
[null,null,null,"2004-09-12",68.5,null,"2004-09-12",71]
[null,null,null,"2004-09-11",67,null,"2004-09-11",69.5]
[null,null,null,"2004-09-10",73.5,null,"2004-09-10",65.5]
[null,null,null,"2004-09-09",76.5,null,"2004-09-09",63.5]
[null,null,null,"2004-09-08",72.5,null,"2004-09-08",64.5]
[null,null,null,"2004-09-07",73.5,null,"2004-09-07",65.5]
[null,null,null,"2004-09-06",67.5,null,"2004-09-06",68]
[null,null,null,"2004-09-05",69.5,null,"2004-09-05",75.5]
[null,null,null,"2004-09-04",77,null,"2004-09-04",72.5]
[null,null,null,"2004-09-03",71,null,"2004-09-03",73]
[null,null,null,"2004-09-02",71.5,null,"2004-09-02",73]
[null,null,null,"2004-09-01",73.5,null,"2004-09-01",69.5]
[null,null,null,"2004-08-31",77.5,null,"2004-08-31",66.5]
[null,null,null,"2004-08-30",79.5,null,"2004-08-30",64]
[null,null,null,"2004-08-29",80.5,null,"2004-08-29",61]
[null,null,null,"2004-08-28",81.5,null,"2004-08-28",68]
[null,null,null,"2004-08-27",77.5,null,"2004-08-27",77.5]
[null,null,null,"2004-08-26",69,null,"2004-08-26",75]
[null,null,null,"2004-08-25",71,null,"2004-08-25",72]
[null,null,null,"2004-08-24",73,null,"2004-08-24",73]
[null,null,null,"2004-08-23",71,null,"2004-08-23",72]
[null,null,null,"2004-08-22",66,null,"2004-08-22",64.5]
[null,null,null,"2004-08-21",74.5,null,"2004-08-21",63]
[null,null,null,"2004-08-20",83,null,"2004-08-20",65.5]
[null,null,null,"2004-08-19",78,null,"2004-08-19",64]
[null,null,null,"2004-08-18",72.5,null,"2004-08-18",70]
[null,null,null,"2004-08-17",70,null,"2004-08-17",71.5]
[null,null,null,"2004-08-16",68.5,null,"2004-08-16",63]
[null,null,null,"2004-08-15",71.5,null,"2004-08-15",61.5]
[null,null,null,"2004-08-14",73.5,null,"2004-08-14",60]
[null,null,null,"2004-08-13",75.5,null,"2004-08-13",61]
[null,null,null,"2004-08-12",77,null,"2004-08-12",55.5]
[null,null,null,"2004-08-11",77,null,"2004-08-11",57.5]
[null,null,null,"2004-08-10",75,null,"2004-08-10",63.5]
[null,null,null,"2004-08-09",75.5,null,"2004-08-09",75]
[null,null,null,"2004-08-08",69,null,"2004-08-08",70]
[null,null,null,"2004-08-07",65.5,null,"2004-08-07",65]
[null,null,null,"2004-08-06",68,null,"2004-08-06",65]
[null,null,null,"2004-08-05",72.5,null,"2004-08-05",65]
[null,null,null,"2004-08-04",81,null,"2004-08-04",70]
[null,null,null,"2004-08-03",79,null,"2004-08-03",78]
[null,null,null,"2004-08-02",80,null,"2004-08-02",77.5]
[null,null,null,"2004-08-01",77.5,null,"2004-08-01",76.5]
[null,null,null,"2004-07-31",81.5,null,"2004-07-31",73.5]
[null,null,null,"2004-07-30",78,null,"2004-07-30",67.5]
[null,null,null,"2004-07-29",75,null,"2004-07-29",72]
[null,null,null,"2004-07-28",71.5,null,"2004-07-28",69.5]
[null,null,null,"2004-07-27",68.5,null,"2004-07-27",70]
[null,null,null,"2004-07-26",73,null,"2004-07-26",66.5]
[null,null,null,"2004-07-25",72,null,"2004-07-25",66.5]
[null,null,null,"2004-07-24",71.5,null,"2004-07-24",63]
[null,null,null,"2004-07-23",75.5,null,"2004-07-23",64.5]
[null,null,null,"2004-07-22",79,null,"2004-07-22",78.5]
[null,null,null,"2004-07-21",79.5,null,"2004-07-21",79]
[null,null,null,"2004-07-20",77,null,"2004-07-20",79.5]
[null,null,null,"2004-07-19",74,null,"2004-07-19",71]
[null,null,null,"2004-07-18",71.5,null,"2004-07-18",70.5]
[null,null,null,"2004-07-17",76.5,null,"2004-07-17",69.5]
[null,null,null,"2004-07-16",72,null,"2004-07-16",72.5]
[null,null,null,"2004-07-15",73.5,null,"2004-07-15",72]
[null,null,null,"2004-07-14",72,null,"2004-07-14",72]
[null,null,null,"2004-07-13",67,null,"2004-07-13",77.5]
[null,null,null,"2004-07-12",70,null,"2004-07-12",78]
[null,null,null,"2004-07-11",76,null,"2004-07-11",74]
[null,null,null,"2004-07-10",76,null,"2004-07-10",72.5]
[null,null,null,"2004-07-09",75,null,"2004-07-09",68]
[null,null,null,"2004-07-08",82,null,"2004-07-08",65]
[null,null,null,"2004-07-07",74.5,null,"2004-07-07",63.5]
[null,null,null,"2004-07-06",76.5,null,"2004-07-06",73]
[null,null,null,"2004-07-05",81,null,"2004-07-05",68]
[null,null,null,"2004-07-04",75,null,"2004-07-04",76]
[null,null,null,"2004-07-03",76.5,null,"2004-07-03",73]
[null,null,null,"2004-07-02",80,null,"2004-07-02",70.5]
[null,null,null,"2004-07-01",74,null,"2004-07-01",71]
[null,null,null,"2004-06-30",74,null,"2004-06-30",72.5]
[null,null,null,"2004-06-29",71.5,null,"2004-06-29",69]
[null,null,null,"2004-06-28",71,null,"2004-06-28",64.5]
[null,null,null,"2004-06-27",70,null,"2004-06-27",66.5]
[null,null,null,"2004-06-26",74.5,null,"2004-06-26",63.5]
[null,null,null,"2004-06-25",75,null,"2004-06-25",60.5]
[null,null,null,"2004-06-24",74,null,"2004-06-24",62]
[null,null,null,"2004-06-23",78.5,null,"2004-06-23",69.5]
[null,null,null,"2004-06-22",71.5,null,"2004-06-22",65]
[null,null,null,"2004-06-21",71,null,"2004-06-21",62.5]
[null,null,null,"2004-06-20",67,null,"2004-06-20",60.5]
[null,null,null,"2004-06-19",74,null,"2004-06-19",56]
[null,null,null,"2004-06-18",81,null,"2004-06-18",71]
[null,null,null,"2004-06-17",82,null,"2004-06-17",72]
[null,null,null,"2004-06-16",81,null,"2004-06-16",72]
[null,null,null,"2004-06-15",81,null,"2004-06-15",71]
[null,null,null,"2004-06-14",74.5,null,"2004-06-14",74.5]
[null,null,null,"2004-06-13",67,null,"2004-06-13",72]
[null,null,null,"2004-06-12",66.5,null,"2004-06-12",70.5]
[null,null,null,"2004-06-11",66,null,"2004-06-11",72.5]
[null,null,null,"2004-06-10",72.5,null,"2004-06-10",63.5]
[null,null,null,"2004-06-09",83,null,"2004-06-09",73]
[null,null,null,"2004-06-08",77,null,"2004-06-08",82.5]
[null,null,null,"2004-06-07",72,null,"2004-06-07",73.5]
[null,null,null,"2004-06-06",58,null,"2004-06-06",72]
[null,null,null,"2004-06-05",64,null,"2004-06-05",60.5]
[null,null,null,"2004-06-04",65.5,null,"2004-06-04",58]
[null,null,null,"2004-06-03",70,null,"2004-06-03",58.5]
[null,null,null,"2004-06-02",69,null,"2004-06-02",59]
[null,null,null,"2004-06-01",63,null,"2004-06-01",65]
[null,null,null,"2004-05-31",61.5,null,"2004-05-31",62]
[null,null,null,"2004-05-30",62,null,"2004-05-30",66]
[null,null,null,"2004-05-29",61,null,"2004-05-29",56.5]
[null,null,null,"2004-05-28",70.5,null,"2004-05-28",53]
[null,null,null,"2004-05-27",66.5,null,"2004-05-27",63.5]
[null,null,null,"2004-05-26",59,null,"2004-05-26",57]
[null,null,null,"2004-05-25",67,null,"2004-05-25",59]
[null,null,null,"2004-05-24",70,null,"2004-05-24",55.5]
[null,null,null,"2004-05-23",76.5,null,"2004-05-23",67.5]
[null,null,null,"2004-05-22",75.5,null,"2004-05-22",65]
[null,null,null,"2004-05-21",71.5,null,"2004-05-21",63]
[null,null,null,"2004-05-20",64.5,null,"2004-05-20",73.5]
[null,null,null,"2004-05-19",66.5,null,"2004-05-19",57.5]
[null,null,null,"2004-05-18",72,null,"2004-05-18",56.5]
[null,null,null,"2004-05-17",64,null,"2004-05-17",69.5]
[null,null,null,"2004-05-16",71.5,null,"2004-05-16",53.5]
[null,null,null,"2004-05-15",74.5,null,"2004-05-15",47]
[null,null,null,"2004-05-14",63,null,"2004-05-14",58.5]
[null,null,null,"2004-05-13",73.5,null,"2004-05-13",71.5]
[null,null,null,"2004-05-12",79,null,"2004-05-12",75.5]
[null,null,null,"2004-05-11",74,null,"2004-05-11",67.5]
[null,null,null,"2004-05-10",63,null,"2004-05-10",70]
[null,null,null,"2004-05-09",60.5,null,"2004-05-09",70]
[null,null,null,"2004-05-08",55.5,null,"2004-05-08",66.5]
[null,null,null,"2004-05-07",70,null,"2004-05-07",51]
[null,null,null,"2004-05-06",60.5,null,"2004-05-06",69]
[null,null,null,"2004-05-05",55.5,null,"2004-05-05",52.5]
[null,null,null,"2004-05-04",52,null,"2004-05-04",54.5]
[null,null,null,"2004-05-03",58.5,null,"2004-05-03",49.5]
[null,null,null,"2004-05-02",66.5,null,"2004-05-02",41.5]
[null,null,null,"2004-05-01",69.5,null,"2004-05-01",45.5]
[null,null,null,"2004-04-30",65.5,null,"2004-04-30",51]
[null,null,null,"2004-04-29",64,null,"2004-04-29",68.5]
[null,null,null,"2004-04-28",51,null,"2004-04-28",63.5]
[null,null,null,"2004-04-27",60,null,"2004-04-27",44]
[null,null,null,"2004-04-26",53,null,"2004-04-26",51.5]
[null,null,null,"2004-04-25",49,null,"2004-04-25",53.5]
[null,null,null,"2004-04-24",59,null,"2004-04-24",44.5]
[null,null,null,"2004-04-23",57,null,"2004-04-23",51]
[null,null,null,"2004-04-22",67,null,"2004-04-22",47.5]
[null,null,null,"2004-04-21",55,null,"2004-04-21",53.5]
[null,null,null,"2004-04-20",66.5,null,"2004-04-20",54]
[null,null,null,"2004-04-19",67.5,null,"2004-04-19",59.5]
[null,null,null,"2004-04-18",62.5,null,"2004-04-18",69]
[null,null,null,"2004-04-17",62.5,null,"2004-04-17",64]
[null,null,null,"2004-04-16",52,null,"2004-04-16",70]
[null,null,null,"2004-04-15",53.5,null,"2004-04-15",60]
[null,null,null,"2004-04-14",53,null,"2004-04-14",48.5]
[null,null,null,"2004-04-13",50.5,null,"2004-04-13",37.5]
[null,null,null,"2004-04-12",48,null,"2004-04-12",36]
[null,null,null,"2004-04-11",48,null,"2004-04-11",36.5]
[null,null,null,"2004-04-10",52,null,"2004-04-10",44]
[null,null,null,"2004-04-09",54,null,"2004-04-09",45]
[null,null,null,"2004-04-08",49,null,"2004-04-08",45.5]
[null,null,null,"2004-04-07",56.5,null,"2004-04-07",52]
[null,null,null,"2004-04-06",44,null,"2004-04-06",55.5]
[null,null,null,"2004-04-05",38,null,"2004-04-05",39]
[null,null,null,"2004-04-04",41.5,null,"2004-04-04",37]
[null,null,null,"2004-04-03",46,null,"2004-04-03",43]
[null,null,null,"2004-04-02",46,null,"2004-04-02",44]
[null,null,null,"2004-04-01",49.5,null,"2004-04-01",41.5]
[null,null,null,"2004-03-31",44,null,"2004-03-31",42]
[null,null,null,"2004-03-30",40.5,null,"2004-03-30",47.5]
[null,null,null,"2004-03-29",42.5,null,"2004-03-29",51]
[null,null,null,"2004-03-28",52,null,"2004-03-28",61]
[null,null,null,"2004-03-27",61.5,null,"2004-03-27",50.5]
[null,null,null,"2004-03-26",54.5,null,"2004-03-26",56]
[null,null,null,"2004-03-25",48,null,"2004-03-25",59.5]
[null,null,null,"2004-03-24",47,null,"2004-03-24",53.5]
[null,null,null,"2004-03-23",35.5,null,"2004-03-23",46]
[null,null,null,"2004-03-22",31.5,null,"2004-03-22",29.5]
[null,null,null,"2004-03-21",40.5,null,"2004-03-21",27.5]
[null,null,null,"2004-03-20",41,null,"2004-03-20",47]
[null,null,null,"2004-03-19",38,null,"2004-03-19",38]
[null,null,null,"2004-03-18",33.5,null,"2004-03-18",35]
[null,null,null,"2004-03-17",29.5,null,"2004-03-17",31.5]
[null,null,null,"2004-03-16",36.5,null,"2004-03-16",31.5]
[null,null,null,"2004-03-15",49,null,"2004-03-15",31.5]
[null,null,null,"2004-03-14",34,null,"2004-03-14",38.5]
[null,null,null,"2004-03-13",37.5,null,"2004-03-13",32.5]
[null,null,null,"2004-03-12",41.5,null,"2004-03-12",24.5]
[null,null,null,"2004-03-11",46.5,null,"2004-03-11",30.5]
[null,null,null,"2004-03-10",40.5,null,"2004-03-10",37]
[null,null,null,"2004-03-09",36.5,null,"2004-03-09",32.5]
[null,null,null,"2004-03-08",37.5,null,"2004-03-08",34]
[null,null,null,"2004-03-07",47,null,"2004-03-07",39.5]
[null,null,null,"2004-03-06",54.5,null,"2004-03-06",41]
[null,null,null,"2004-03-05",45.5,null,"2004-03-05",50]
[null,null,null,"2004-03-04",48,null,"2004-03-04",41]
[null,null,null,"2004-03-03",54,null,"2004-03-03",42.5]
[null,null,null,"2004-03-02",56.5,null,"2004-03-02",43.5]
[null,null,null,"2004-03-01",51,null,"2004-03-01",53.5]
[null,null,null,"2004-02-29",47,null,"2004-02-29",46.5]
[null,null,null,"2004-02-28",44,null,"2004-02-28",40]
[null,null,null,"2004-02-27",37.5,null,"2004-02-27",35]
[null,null,null,"2004-02-26",35.5,null,"2004-02-26",33.5]
[null,null,null,"2004-02-25",33,null,"2004-02-25",31]
[null,null,null,"2004-02-24",35,null,"2004-02-24",34]
[null,null,null,"2004-02-23",38.5,null,"2004-02-23",41]
[null,null,null,"2004-02-22",39.5,null,"2004-02-22",33.5]
[null,null,null,"2004-02-21",44,null,"2004-02-21",33]
[null,null,null,"2004-02-20",35,null,"2004-02-20",39]
[null,null,null,"2004-02-19",38.5,null,"2004-02-19",35.5]
[null,null,null,"2004-02-18",36.5,null,"2004-02-18",28.5]
[null,null,null,"2004-02-17",27.5,null,"2004-02-17",24]
[null,null,null,"2004-02-16",23.5,null,"2004-02-16",16]
[null,null,null,"2004-02-15",25,null,"2004-02-15",14]
[null,null,null,"2004-02-14",37.5,null,"2004-02-14",26]
[null,null,null,"2004-02-13",37.5,null,"2004-02-13",20]
[null,null,null,"2004-02-12",33.5,null,"2004-02-12",21.5]
[null,null,null,"2004-02-11",35.5,null,"2004-02-11",23]
[null,null,null,"2004-02-10",42.5,null,"2004-02-10",20]
[null,null,null,"2004-02-09",33.5,null,"2004-02-09",28]
[null,null,null,"2004-02-08",26,null,"2004-02-08",15.5]
[null,null,null,"2004-02-07",35,null,"2004-02-07",20]
[null,null,null,"2004-02-06",33.5,null,"2004-02-06",28]
[null,null,null,"2004-02-05",30,null,"2004-02-05",26]
[null,null,null,"2004-02-04",36.5,null,"2004-02-04",13]
[null,null,null,"2004-02-03",32,null,"2004-02-03",20.5]
[null,null,null,"2004-02-02",27,null,"2004-02-02",28.5]
[null,null,null,"2004-02-01",26.5,null,"2004-02-01",20.5]
[null,null,null,"2004-01-31",20.5,null,"2004-01-31",4]
[null,null,null,"2004-01-30",18.5,null,"2004-01-30",-3]
[null,null,null,"2004-01-29",21.5,null,"2004-01-29",1.49]
[null,null,null,"2004-01-28",24,null,"2004-01-28",6.5]
[null,null,null,"2004-01-27",21.5,null,"2004-01-27",17]
[null,null,null,"2004-01-26",18.5,null,"2004-01-26",22]
[null,null,null,"2004-01-25",12.5,null,"2004-01-25",17.5]
[null,null,null,"2004-01-24",16,null,"2004-01-24",15]
[null,null,null,"2004-01-23",15.5,null,"2004-01-23",15]
[null,null,null,"2004-01-22",29,null,"2004-01-22",11]
[null,null,null,"2004-01-21",21.5,null,"2004-01-21",23.5]
[null,null,null,"2004-01-20",22.5,null,"2004-01-20",14.5]
[null,null,null,"2004-01-19",23,null,"2004-01-19",10.5]
[null,null,null,"2004-01-18",30.5,null,"2004-01-18",18]
[null,null,null,"2004-01-17",25.5,null,"2004-01-17",31]
[null,null,null,"2004-01-16",12.5,null,"2004-01-16",26.5]
[null,null,null,"2004-01-15",9.5,null,"2004-01-15",19]
[null,null,null,"2004-01-14",13,null,"2004-01-14",27]
[null,null,null,"2004-01-13",30.5,null,"2004-01-13",29.5]
[null,null,null,"2004-01-12",30.5,null,"2004-01-12",34.5]
[null,null,null,"2004-01-11",16.5,null,"2004-01-11",33]
[null,null,null,"2004-01-10",9,null,"2004-01-10",20.5]
[null,null,null,"2004-01-09",17,null,"2004-01-09",21.5]
[null,null,null,"2004-01-08",24.5,null,"2004-01-08",23.5]
[null,null,null,"2004-01-07",22.5,null,"2004-01-07",15]
[null,null,null,"2004-01-06",31.5,null,"2004-01-06",3]
[null,null,null,"2004-01-05",38.5,null,"2004-01-05",17]
[null,null,null,"2004-01-04",45.5,null,"2004-01-04",31]
[null,null,null,"2004-01-03",48,null,"2004-01-03",41]
[null,null,null,"2004-01-02",42,null,"2004-01-02",49]
[null,null,null,"2004-01-01",39,null,"2004-01-01",35]
[null,null,null,"2003-12-31",40.5,null,"2003-12-31",32]
[null,null,null,"2003-12-30",44,null,"2003-12-30",33.5]
[null,null,null,"2003-12-29",43,null,"2003-12-29",39.5]
[null,null,null,"2003-12-28",41,null,"2003-12-28",45]
[null,null,null,"2003-12-27",44,null,"2003-12-27",38.5]
[null,null,null,"2003-12-26",36,null,"2003-12-26",30]
[null,null,null,"2003-12-25",38.5,null,"2003-12-25",26.5]
[null,null,null,"2003-12-24",50,null,"2003-12-24",21.5]
[null,null,null,"2003-12-23",49,null,"2003-12-23",31.5]
[null,null,null,"2003-12-22",40.5,null,"2003-12-22",41.5]
[null,null,null,"2003-12-21",31.5,null,"2003-12-21",36.5]
[null,null,null,"2003-12-20",33,null,"2003-12-20",20]
[null,null,null,"2003-12-19",31,null,"2003-12-19",24.5]
[null,null,null,"2003-12-18",33.5,null,"2003-12-18",22.5]
[null,null,null,"2003-12-17",43,null,"2003-12-17",22.5]
[null,null,null,"2003-12-16",36.5,null,"2003-12-16",33.5]
[null,null,null,"2003-12-15",34,null,"2003-12-15",30.5]
[null,null,null,"2003-12-14",33,null,"2003-12-14",28]
[null,null,null,"2003-12-13",31,null,"2003-12-13",21]
[null,null,null,"2003-12-12",37.5,null,"2003-12-12",17]
[null,null,null,"2003-12-11",49.5,null,"2003-12-11",21.5]
[null,null,null,"2003-12-10",41,null,"2003-12-10",41]
[null,null,null,"2003-12-09",31.5,null,"2003-12-09",45]
[null,null,null,"2003-12-08",29.5,null,"2003-12-08",40]
[null,null,null,"2003-12-07",25,null,"2003-12-07",33.5]
[null,null,null,"2003-12-06",26,null,"2003-12-06",33.5]
[null,null,null,"2003-12-05",29.5,null,"2003-12-05",37]
[null,null,null,"2003-12-04",32,null,"2003-12-04",36.5]
[null,null,null,"2003-12-03",26.5,null,"2003-12-03",33.5]
[null,null,null,"2003-12-02",30,null,"2003-12-02",29.5]
[null,null,null,"2003-12-01",43,null,"2003-12-01",34.5]
[null,null,null,"2003-11-30",43.5,null,"2003-11-30",46]
[null,null,null,"2003-11-29",43,null,"2003-11-29",31]
[null,null,null,"2003-11-28",54.5,null,"2003-11-28",32.5]
[null,null,null,"2003-11-27",45,null,"2003-11-27",40.5]
[null,null,null,"2003-11-26",40,null,"2003-11-26",39.5]
[null,null,null,"2003-11-25",41,null,"2003-11-25",32.5]
[null,null,null,"2003-11-24",48.5,null,"2003-11-24",25]
[null,null,null,"2003-11-23",47.5,null,"2003-11-23",47.5]
[null,null,null,"2003-11-22",53.5,null,"2003-11-22",52.5]
[null,null,null,"2003-11-21",54,null,"2003-11-21",45.5]
[null,null,null,"2003-11-20",50.5,null,"2003-11-20",49.5]
[null,null,null,"2003-11-19",60.5,null,"2003-11-19",46.5]
[null,null,null,"2003-11-18",51,null,"2003-11-18",54.5]
[null,null,null,"2003-11-17",48.5,null,"2003-11-17",43.5]
[null,null,null,"2003-11-16",42.5,null,"2003-11-16",44.5]
[null,null,null,"2003-11-15",43.5,null,"2003-11-15",40]
[null,null,null,"2003-11-14",41,null,"2003-11-14",36]
[null,null,null,"2003-11-13",50,null,"2003-11-13",34.5]
[null,null,null,"2003-11-12",52,null,"2003-11-12",48]
[null,null,null,"2003-11-11",43.5,null,"2003-11-11",50]
[null,null,null,"2003-11-10",39,null,"2003-11-10",38]
[null,null,null,"2003-11-09",36.5,null,"2003-11-09",30.5]
[null,null,null,"2003-11-08",42,null,"2003-11-08",27]
[null,null,null,"2003-11-07",53.5,null,"2003-11-07",35]
[null,null,null,"2003-11-06",55.5,null,"2003-11-06",38]
[null,null,null,"2003-11-05",56,null,"2003-11-05",42]
[null,null,null,"2003-11-04",58.5,null,"2003-11-04",58.5]
[null,null,null,"2003-11-03",68.5,null,"2003-11-03",48.5]
[null,null,null,"2003-11-02",62,null,"2003-11-02",51.5]
[null,null,null,"2003-11-01",64.5,null,"2003-11-01",47]
[null,null,null,"2003-10-31",58,null,"2003-10-31",58]
[null,null,null,"2003-10-30",51.5,null,"2003-10-30",55]
[null,null,null,"2003-10-29",54,null,"2003-10-29",43.5]
[null,null,null,"2003-10-28",51.5,null,"2003-10-28",48]
[null,null,null,"2003-10-27",58,null,"2003-10-27",38]
[null,null,null,"2003-10-26",63.5,null,"2003-10-26",59.5]
[null,null,null,"2003-10-25",47.5,null,"2003-10-25",51.5]
[null,null,null,"2003-10-24",43.5,null,"2003-10-24",47.5]
[null,null,null,"2003-10-23",42,null,"2003-10-23",45.5]
[null,null,null,"2003-10-22",48.5,null,"2003-10-22",48]
[null,null,null,"2003-10-21",62,null,"2003-10-21",55]
[null,null,null,"2003-10-20",49,null,"2003-10-20",65.5]
[null,null,null,"2003-10-19",51.5,null,"2003-10-19",56]
[null,null,null,"2003-10-18",50.5,null,"2003-10-18",56.5]
[null,null,null,"2003-10-17",52,null,"2003-10-17",44]
[null,null,null,"2003-10-16",56,null,"2003-10-16",44.5]
[null,null,null,"2003-10-15",58,null,"2003-10-15",50]
[null,null,null,"2003-10-14",59.5,null,"2003-10-14",52.5]
[null,null,null,"2003-10-13",65,null,"2003-10-13",57]
[null,null,null,"2003-10-12",67,null,"2003-10-12",57.5]
[null,null,null,"2003-10-11",63.5,null,"2003-10-11",66]
[null,null,null,"2003-10-10",60,null,"2003-10-10",63.5]
[null,null,null,"2003-10-09",66.5,null,"2003-10-09",61.5]
[null,null,null,"2003-10-08",62,null,"2003-10-08",64]
[null,null,null,"2003-10-07",53,null,"2003-10-07",60.5]
[null,null,null,"2003-10-06",51,null,"2003-10-06",48]
[null,null,null,"2003-10-05",52,null,"2003-10-05",47]
[null,null,null,"2003-10-04",53.5,null,"2003-10-04",48.5]
[null,null,null,"2003-10-03",48.5,null,"2003-10-03",47.5]
[null,null,null,"2003-10-02",52,null,"2003-10-02",42]
[null,null,null,"2003-10-01",55.5,null,"2003-10-01",43.5]
[null,null,null,"2003-09-30",57,null,"2003-09-30",47.5]
[null,null,null,"2003-09-29",61,null,"2003-09-29",49.5]
[null,null,null,"2003-09-28",64.5,null,"2003-09-28",52]
[null,null,null,"2003-09-27",72,null,"2003-09-27",53.5]
[null,null,null,"2003-09-26",66,null,"2003-09-26",56.5]
[null,null,null,"2003-09-25",69,null,"2003-09-25",53]
[null,null,null,"2003-09-24",65,null,"2003-09-24",62]
[null,null,null,"2003-09-23",67.5,null,"2003-09-23",59]
[null,null,null,"2003-09-22",67,null,"2003-09-22",62]
[null,null,null,"2003-09-21",68,null,"2003-09-21",61.5]
[null,null,null,"2003-09-20",74.5,null,"2003-09-20",56]
[null,null,null,"2003-09-19",75.5,null,"2003-09-19",57.5]
[null,null,null,"2003-09-18",68.5,null,"2003-09-18",67.5]
[null,null,null,"2003-09-17",68.5,null,"2003-09-17",67.5]
[null,null,null,"2003-09-16",72,null,"2003-09-16",66]
[null,null,null,"2003-09-15",73,null,"2003-09-15",63]
[null,null,null,"2003-09-14",76,null,"2003-09-14",66.5]
[null,null,null,"2003-09-13",68.5,null,"2003-09-13",75]
[null,null,null,"2003-09-12",68.5,null,"2003-09-12",72]
[null,null,null,"2003-09-11",71,null,"2003-09-11",73.5]
[null,null,null,"2003-09-10",68,null,"2003-09-10",72]
[null,null,null,"2003-09-09",68.5,null,"2003-09-09",72]
[null,null,null,"2003-09-08",71,null,"2003-09-08",71.5]
[null,null,null,"2003-09-07",69.5,null,"2003-09-07",73]
[null,null,null,"2003-09-06",69,null,"2003-09-06",65.5]
[null,null,null,"2003-09-05",72.5,null,"2003-09-05",61.5]
[null,null,null,"2003-09-04",72.5,null,"2003-09-04",62]
[null,null,null,"2003-09-03",65.5,null,"2003-09-03",71.5]
[null,null,null,"2003-09-02",62.5,null,"2003-09-02",67]
[null,null,null,"2003-09-01",65.5,null,"2003-09-01",63]
[null,null,null,"2003-08-31",68,null,"2003-08-31",65.5]
[null,null,null,"2003-08-30",77,null,"2003-08-30",68]
[null,null,null,"2003-08-29",76,null,"2003-08-29",76]
[null,null,null,"2003-08-28",77.5,null,"2003-08-28",75.5]
[null,null,null,"2003-08-27",80.5,null,"2003-08-27",73.5]
[null,null,null,"2003-08-26",78.5,null,"2003-08-26",81.5]
[null,null,null,"2003-08-25",75.5,null,"2003-08-25",83]
[null,null,null,"2003-08-24",71.5,null,"2003-08-24",72]
[null,null,null,"2003-08-23",76.5,null,"2003-08-23",69]
[null,null,null,"2003-08-22",84,null,"2003-08-22",71]
[null,null,null,"2003-08-21",81.5,null,"2003-08-21",83.5]
[null,null,null,"2003-08-20",78.5,null,"2003-08-20",76.5]
[null,null,null,"2003-08-19",77,null,"2003-08-19",71]
[null,null,null,"2003-08-18",72,null,"2003-08-18",72.5]
[null,null,null,"2003-08-17",75,null,"2003-08-17",77.5]
[null,null,null,"2003-08-16",80.5,null,"2003-08-16",82.5]
[null,null,null,"2003-08-15",81.5,null,"2003-08-15",79]
[null,null,null,"2003-08-14",83,null,"2003-08-14",76.5]
[null,null,null,"2003-08-13",82.5,null,"2003-08-13",72]
[null,null,null,"2003-08-12",78.5,null,"2003-08-12",71]
[null,null,null,"2003-08-11",77,null,"2003-08-11",68.5]
[null,null,null,"2003-08-10",78,null,"2003-08-10",73]
[null,null,null,"2003-08-09",76.5,null,"2003-08-09",70]
[null,null,null,"2003-08-08",77,null,"2003-08-08",69]
[null,null,null,"2003-08-07",75.5,null,"2003-08-07",73]
[null,null,null,"2003-08-06",75.5,null,"2003-08-06",74]
[null,null,null,"2003-08-05",75,null,"2003-08-05",70.5]
[null,null,null,"2003-08-04",80,null,"2003-08-04",69]
[null,null,null,"2003-08-03",81,null,"2003-08-03",71]
[null,null,null,"2003-08-02",79,null,"2003-08-02",72]
[null,null,null,"2003-08-01",75.5,null,"2003-08-01",74.5]
[null,null,null,"2003-07-31",74.5,null,"2003-07-31",74.5]
[null,null,null,"2003-07-30",73.5,null,"2003-07-30",68.5]
[null,null,null,"2003-07-29",74,null,"2003-07-29",68]
[null,null,null,"2003-07-28",78.5,null,"2003-07-28",64.5]
[null,null,null,"2003-07-27",82.5,null,"2003-07-27",74]
[null,null,null,"2003-07-26",78,null,"2003-07-26",77]
[null,null,null,"2003-07-25",77.5,null,"2003-07-25",71]
[null,null,null,"2003-07-24",77.5,null,"2003-07-24",67]
[null,null,null,"2003-07-23",76,null,"2003-07-23",67]
[null,null,null,"2003-07-22",78,null,"2003-07-22",67.5]
[null,null,null,"2003-07-21",78.5,null,"2003-07-21",74.5]
[null,null,null,"2003-07-20",74.5,null,"2003-07-20",75.5]
[null,null,null,"2003-07-19",75,null,"2003-07-19",68]
[null,null,null,"2003-07-18",75.5,null,"2003-07-18",66]
[null,null,null,"2003-07-17",77,null,"2003-07-17",75]
[null,null,null,"2003-07-16",80.5,null,"2003-07-16",71.5]
[null,null,null,"2003-07-15",74.5,null,"2003-07-15",76.5]
[null,null,null,"2003-07-14",72.5,null,"2003-07-14",69.5]
[null,null,null,"2003-07-13",76.5,null,"2003-07-13",70]
[null,null,null,"2003-07-12",77,null,"2003-07-12",71]
[null,null,null,"2003-07-11",76,null,"2003-07-11",69]
[null,null,null,"2003-07-10",68,null,"2003-07-10",73]
[null,null,null,"2003-07-09",78,null,"2003-07-09",68.5]
[null,null,null,"2003-07-08",74.5,null,"2003-07-08",71.5]
[null,null,null,"2003-07-07",84,null,"2003-07-07",78.5]
[null,null,null,"2003-07-06",83.5,null,"2003-07-06",78]
[null,null,null,"2003-07-05",85,null,"2003-07-05",78]
[null,null,null,"2003-07-04",80.5,null,"2003-07-04",83.5]
[null,null,null,"2003-07-03",72,null,"2003-07-03",78.5]
[null,null,null,"2003-07-02",77,null,"2003-07-02",74.5]
[null,null,null,"2003-07-01",77,null,"2003-07-01",72.5]
[null,null,null,"2003-06-30",79.5,null,"2003-06-30",71.5]
[null,null,null,"2003-06-29",74.5,null,"2003-06-29",73.5]
[null,null,null,"2003-06-28",76,null,"2003-06-28",72.5]
[null,null,null,"2003-06-27",82.5,null,"2003-06-27",70]
[null,null,null,"2003-06-26",86.5,null,"2003-06-26",67.5]
[null,null,null,"2003-06-25",82,null,"2003-06-25",82]
[null,null,null,"2003-06-24",80.5,null,"2003-06-24",79]
[null,null,null,"2003-06-23",74,null,"2003-06-23",74.5]
[null,null,null,"2003-06-22",63,null,"2003-06-22",69.5]
[null,null,null,"2003-06-21",61,null,"2003-06-21",63.5]
[null,null,null,"2003-06-20",66.5,null,"2003-06-20",59]
[null,null,null,"2003-06-19",68.5,null,"2003-06-19",59.5]
[null,null,null,"2003-06-18",65,null,"2003-06-18",73.5]
[null,null,null,"2003-06-17",61,null,"2003-06-17",66.5]
[null,null,null,"2003-06-16",62.5,null,"2003-06-16",66]
[null,null,null,"2003-06-15",72.5,null,"2003-06-15",66]
[null,null,null,"2003-06-14",72.5,null,"2003-06-14",65]
[null,null,null,"2003-06-13",64.5,null,"2003-06-13",63.5]
[null,null,null,"2003-06-12",74.5,null,"2003-06-12",61]
[null,null,null,"2003-06-11",73,null,"2003-06-11",60.5]
[null,null,null,"2003-06-10",72.5,null,"2003-06-10",66.5]
[null,null,null,"2003-06-09",67.5,null,"2003-06-09",65]
[null,null,null,"2003-06-08",64,null,"2003-06-08",61.5]
[null,null,null,"2003-06-07",61.5,null,"2003-06-07",66]
[null,null,null,"2003-06-06",67.5,null,"2003-06-06",60.5]
[null,null,null,"2003-06-05",66,null,"2003-06-05",62.5]
[null,null,null,"2003-06-04",54.5,null,"2003-06-04",58]
[null,null,null,"2003-06-03",62,null,"2003-06-03",56.5]
[null,null,null,"2003-06-02",62,null,"2003-06-02",53]
[null,null,null,"2003-06-01",60,null,"2003-06-01",50.5]
[null,null,null,"2003-05-31",64,null,"2003-05-31",48]
[null,null,null,"2003-05-30",69.5,null,"2003-05-30",58]
[null,null,null,"2003-05-29",64.5,null,"2003-05-29",57.5]
[null,null,null,"2003-05-28",61,null,"2003-05-28",59]
[null,null,null,"2003-05-27",59.5,null,"2003-05-27",62]
[null,null,null,"2003-05-26",54.5,null,"2003-05-26",58.5]
[null,null,null,"2003-05-25",57,null,"2003-05-25",57]
[null,null,null,"2003-05-24",55,null,"2003-05-24",56.5]
[null,null,null,"2003-05-23",54,null,"2003-05-23",53]
[null,null,null,"2003-05-22",53.5,null,"2003-05-22",50]
[null,null,null,"2003-05-21",58,null,"2003-05-21",50.5]
[null,null,null,"2003-05-20",65,null,"2003-05-20",57.5]
[null,null,null,"2003-05-19",60.5,null,"2003-05-19",66]
[null,null,null,"2003-05-18",53,null,"2003-05-18",59.5]
[null,null,null,"2003-05-17",54,null,"2003-05-17",58.5]
[null,null,null,"2003-05-16",57,null,"2003-05-16",54.5]
[null,null,null,"2003-05-15",59,null,"2003-05-15",51.5]
[null,null,null,"2003-05-14",58,null,"2003-05-14",52.5]
[null,null,null,"2003-05-13",57.5,null,"2003-05-13",61]
[null,null,null,"2003-05-12",61.5,null,"2003-05-12",58.5]
[null,null,null,"2003-05-11",59.5,null,"2003-05-11",59.5]
[null,null,null,"2003-05-10",60.5,null,"2003-05-10",65]
[null,null,null,"2003-05-09",58,null,"2003-05-09",69]
[null,null,null,"2003-05-08",57,null,"2003-05-08",54.5]
[null,null,null,"2003-05-07",66,null,"2003-05-07",52.5]
[null,null,null,"2003-05-06",54,null,"2003-05-06",60]
[null,null,null,"2003-05-05",52.5,null,"2003-05-05",60.5]
[null,null,null,"2003-05-04",55.5,null,"2003-05-04",45.5]
[null,null,null,"2003-05-03",58.5,null,"2003-05-03",45.5]
[null,null,null,"2003-05-02",65.5,null,"2003-05-02",44.5]
[null,null,null,"2003-05-01",64,null,"2003-05-01",50]
[null,null,null,"2003-04-30",58,null,"2003-04-30",57]
[null,null,null,"2003-04-29",66.5,null,"2003-04-29",53.5]
[null,null,null,"2003-04-28",66,null,"2003-04-28",65.5]
[null,null,null,"2003-04-27",62,null,"2003-04-27",55.5]
[null,null,null,"2003-04-26",54,null,"2003-04-26",47.5]
[null,null,null,"2003-04-25",54,null,"2003-04-25",49.5]
[null,null,null,"2003-04-24",52.5,null,"2003-04-24",48.5]
[null,null,null,"2003-04-23",46.5,null,"2003-04-23",43]
[null,null,null,"2003-04-22",54,null,"2003-04-22",45.5]
[null,null,null,"2003-04-21",50.5,null,"2003-04-21",47]
[null,null,null,"2003-04-20",53.5,null,"2003-04-20",59]
[null,null,null,"2003-04-19",50.5,null,"2003-04-19",60]
[null,null,null,"2003-04-18",42.5,null,"2003-04-18",42.5]
[null,null,null,"2003-04-17",44.5,null,"2003-04-17",41.5]
[null,null,null,"2003-04-16",70,null,"2003-04-16",54.5]
[null,null,null,"2003-04-15",65.5,null,"2003-04-15",75]
[null,null,null,"2003-04-14",47.5,null,"2003-04-14",66.5]
[null,null,null,"2003-04-13",54,null,"2003-04-13",48]
[null,null,null,"2003-04-12",57.5,null,"2003-04-12",42.5]
[null,null,null,"2003-04-11",43,null,"2003-04-11",51]
[null,null,null,"2003-04-10",43.5,null,"2003-04-10",42]
[null,null,null,"2003-04-09",37,null,"2003-04-09",36]
[null,null,null,"2003-04-08",34,null,"2003-04-08",31.5]
[null,null,null,"2003-04-07",34.5,null,"2003-04-07",31]
[null,null,null,"2003-04-06",41.5,null,"2003-04-06",33.5]
[null,null,null,"2003-04-05",40,null,"2003-04-05",29]
[null,null,null,"2003-04-04",40.5,null,"2003-04-04",35.5]
[null,null,null,"2003-04-03",48,null,"2003-04-03",42]
[null,null,null,"2003-04-02",47.5,null,"2003-04-02",54]
[null,null,null,"2003-04-01",36.5,null,"2003-04-01",60]
[null,null,null,"2003-03-31",38,null,"2003-03-31",39.5]
[null,null,null,"2003-03-30",46.5,null,"2003-03-30",33]
[null,null,null,"2003-03-29",62.5,null,"2003-03-29",32]
[null,null,null,"2003-03-28",50.5,null,"2003-03-28",48.5]
[null,null,null,"2003-03-27",52,null,"2003-03-27",53.5]
[null,null,null,"2003-03-26",56,null,"2003-03-26",45]
[null,null,null,"2003-03-25",49,null,"2003-03-25",49]
[null,null,null,"2003-03-24",49.5,null,"2003-03-24",58]
[null,null,null,"2003-03-23",53,null,"2003-03-23",52]
[null,null,null,"2003-03-22",58,null,"2003-03-22",43]
[null,null,null,"2003-03-21",57.5,null,"2003-03-21",43.5]
[null,null,null,"2003-03-20",43,null,"2003-03-20",54]
[null,null,null,"2003-03-19",39.5,null,"2003-03-19",42.5]
[null,null,null,"2003-03-18",54.5,null,"2003-03-18",40.5]
[null,null,null,"2003-03-17",58.5,null,"2003-03-17",56.5]
[null,null,null,"2003-03-16",54,null,"2003-03-16",54.5]
[null,null,null,"2003-03-15",44,null,"2003-03-15",43.5]
[null,null,null,"2003-03-14",31,null,"2003-03-14",39]
[null,null,null,"2003-03-13",39.5,null,"2003-03-13",31]
[null,null,null,"2003-03-12",42.5,null,"2003-03-12",35]
[null,null,null,"2003-03-11",29.5,null,"2003-03-11",30.5]
[null,null,null,"2003-03-10",25,null,"2003-03-10",11]
[null,null,null,"2003-03-09",39,null,"2003-03-09",9.5]
[null,null,null,"2003-03-08",37,null,"2003-03-08",27.5]
[null,null,null,"2003-03-07",21,null,"2003-03-07",29]
[null,null,null,"2003-03-06",32,null,"2003-03-06",19.5]
[null,null,null,"2003-03-05",43,null,"2003-03-05",21.5]
[null,null,null,"2003-03-04",28.5,null,"2003-03-04",24.5]
[null,null,null,"2003-03-03",25.5,null,"2003-03-03",19.5]
[null,null,null,"2003-03-02",41.5,null,"2003-03-02",21]
[null,null,null,"2003-03-01",35,null,"2003-03-01",30]
[null,null,null,"2003-02-28",33.5,null,"2003-02-28",26.5]
[null,null,null,"2003-02-27",27.5,null,"2003-02-27",21]
[null,null,null,"2003-02-26",20,null,"2003-02-26",17.5]
[null,null,null,"2003-02-25",26.5,null,"2003-02-25",7.5]
[null,null,null,"2003-02-24",30.5,null,"2003-02-24",14.5]
[null,null,null,"2003-02-23",38,null,"2003-02-23",20]
[null,null,null,"2003-02-22",38,null,"2003-02-22",27.5]
[null,null,null,"2003-02-21",37,null,"2003-02-21",36.5]
[null,null,null,"2003-02-20",40,null,"2003-02-20",38.5]
[null,null,null,"2003-02-19",31,null,"2003-02-19",32.5]
[null,null,null,"2003-02-18",28.5,null,"2003-02-18",31]
[null,null,null,"2003-02-17",20,null,"2003-02-17",27]
[null,null,null,"2003-02-16",11,null,"2003-02-16",23]
[null,null,null,"2003-02-15",21.5,null,"2003-02-15",24]
[null,null,null,"2003-02-14",20.5,null,"2003-02-14",24.5]
[null,null,null,"2003-02-13",21,null,"2003-02-13",21.5]
[null,null,null,"2003-02-12",25.5,null,"2003-02-12",12.5]
[null,null,null,"2003-02-11",23.5,null,"2003-02-11",18.5]
[null,null,null,"2003-02-10",32.5,null,"2003-02-10",18]
[null,null,null,"2003-02-09",26,null,"2003-02-09",15]
[null,null,null,"2003-02-08",22.5,null,"2003-02-08",20]
[null,null,null,"2003-02-07",28.5,null,"2003-02-07",13]
[null,null,null,"2003-02-06",26.5,null,"2003-02-06",23.5]
[null,null,null,"2003-02-05",31,null,"2003-02-05",17.5]
[null,null,null,"2003-02-04",42.5,null,"2003-02-04",21]
[null,null,null,"2003-02-03",41.5,null,"2003-02-03",38.5]
[null,null,null,"2003-02-02",42,null,"2003-02-02",36.5]
[null,null,null,"2003-02-01",30,null,"2003-02-01",33]
[null,null,null,"2003-01-31",33,null,"2003-01-31",33.5]
[null,null,null,"2003-01-30",27,null,"2003-01-30",25]
[null,null,null,"2003-01-29",29,null,"2003-01-29",20.5]
[null,null,null,"2003-01-28",16.5,null,"2003-01-28",25.5]
[null,null,null,"2003-01-27",19,null,"2003-01-27",6.5]
[null,null,null,"2003-01-26",27,null,"2003-01-26",10]
[null,null,null,"2003-01-25",25,null,"2003-01-25",24.5]
[null,null,null,"2003-01-24",18.5,null,"2003-01-24",9]
[null,null,null,"2003-01-23",15,null,"2003-01-23",4]
[null,null,null,"2003-01-22",17.5,null,"2003-01-22",8.5]
[null,null,null,"2003-01-21",21.5,null,"2003-01-21",12]
[null,null,null,"2003-01-20",26.5,null,"2003-01-20",16.5]
[null,null,null,"2003-01-19",21,null,"2003-01-19",15.5]
[null,null,null,"2003-01-18",14,null,"2003-01-18",15]
[null,null,null,"2003-01-17",21,null,"2003-01-17",16.5]
[null,null,null,"2003-01-16",30.5,null,"2003-01-16",21.5]
[null,null,null,"2003-01-15",26,null,"2003-01-15",13]
[null,null,null,"2003-01-14",25.5,null,"2003-01-14",13.5]
[null,null,null,"2003-01-13",32.5,null,"2003-01-13",24]
[null,null,null,"2003-01-12",29.5,null,"2003-01-12",20.5]
[null,null,null,"2003-01-11",28.5,null,"2003-01-11",14]
[null,null,null,"2003-01-10",38.5,null,"2003-01-10",21]
[null,null,null,"2003-01-09",44.5,null,"2003-01-09",36.5]
[null,null,null,"2003-01-08",35.5,null,"2003-01-08",45.5]
[null,null,null,"2003-01-07",28,null,"2003-01-07",36.5]
[null,null,null,"2003-01-06",32.5,null,"2003-01-06",29.5]
[null,null,null,"2003-01-05",34.5,null,"2003-01-05",31]
[null,null,null,"2003-01-04",35,null,"2003-01-04",24.5]
[null,null,null,"2003-01-03",31.5,null,"2003-01-03",26.5]
[null,null,null,"2003-01-02",33,null,"2003-01-02",29.5]
[null,null,null,"2003-01-01",42,null,"2003-01-01",30]
[null,null,null,"2002-12-31",43,null,"2002-12-31",34.5]
[null,null,null,"2002-12-30",37,null,"2002-12-30",48.5]
[null,null,null,"2002-12-29",38.5,null,"2002-12-29",31]
[null,null,null,"2002-12-28",33.5,null,"2002-12-28",30.5]
[null,null,null,"2002-12-27",34,null,"2002-12-27",25.5]
[null,null,null,"2002-12-26",34,null,"2002-12-26",23.5]
[null,null,null,"2002-12-25",35,null,"2002-12-25",26]
[null,null,null,"2002-12-24",36.5,null,"2002-12-24",25.5]
[null,null,null,"2002-12-23",40.5,null,"2002-12-23",28]
[null,null,null,"2002-12-22",43,null,"2002-12-22",27.5]
[null,null,null,"2002-12-21",41,null,"2002-12-21",31]
[null,null,null,"2002-12-20",50,null,"2002-12-20",32]
[null,null,null,"2002-12-19",36.5,null,"2002-12-19",44.5]
[null,null,null,"2002-12-18",29,null,"2002-12-18",46]
[null,null,null,"2002-12-17",28.5,null,"2002-12-17",33.5]
[null,null,null,"2002-12-16",35,null,"2002-12-16",31.5]
[null,null,null,"2002-12-15",44,null,"2002-12-15",38]
[null,null,null,"2002-12-14",43.5,null,"2002-12-14",34.5]
[null,null,null,"2002-12-13",39,null,"2002-12-13",36]
[null,null,null,"2002-12-12",43,null,"2002-12-12",33.5]
[null,null,null,"2002-12-11",32,null,"2002-12-11",32]
[null,null,null,"2002-12-10",28,null,"2002-12-10",34]
[null,null,null,"2002-12-09",23.5,null,"2002-12-09",19.5]
[null,null,null,"2002-12-08",33.5,null,"2002-12-08",21.5]
[null,null,null,"2002-12-07",26.5,null,"2002-12-07",34.5]
[null,null,null,"2002-12-06",29,null,"2002-12-06",20.5]
[null,null,null,"2002-12-05",28.5,null,"2002-12-05",19.5]
[null,null,null,"2002-12-04",25,null,"2002-12-04",19]
[null,null,null,"2002-12-03",28.5,null,"2002-12-03",19]
[null,null,null,"2002-12-02",33,null,"2002-12-02",28.5]
[null,null,null,"2002-12-01",34,null,"2002-12-01",24.5]
[null,null,null,"2002-11-30",44,null,"2002-11-30",28.5]
[null,null,null,"2002-11-29",33,null,"2002-11-29",39.5]
[null,null,null,"2002-11-28",30,null,"2002-11-28",24]
[null,null,null,"2002-11-27",34.5,null,"2002-11-27",22]
[null,null,null,"2002-11-26",43.5,null,"2002-11-26",24.5]
[null,null,null,"2002-11-25",48,null,"2002-11-25",25.5]
[null,null,null,"2002-11-24",44,null,"2002-11-24",32]
[null,null,null,"2002-11-23",41,null,"2002-11-23",38.5]
[null,null,null,"2002-11-22",47,null,"2002-11-22",30.5]
[null,null,null,"2002-11-21",46,null,"2002-11-21",38.5]
[null,null,null,"2002-11-20",47.5,null,"2002-11-20",44]
[null,null,null,"2002-11-19",41.5,null,"2002-11-19",43.5]
[null,null,null,"2002-11-18",43,null,"2002-11-18",34.5]
[null,null,null,"2002-11-17",40.5,null,"2002-11-17",31.5]
[null,null,null,"2002-11-16",45,null,"2002-11-16",35]
[null,null,null,"2002-11-15",53,null,"2002-11-15",38]
[null,null,null,"2002-11-14",48,null,"2002-11-14",47]
[null,null,null,"2002-11-13",47,null,"2002-11-13",45.5]
[null,null,null,"2002-11-12",55,null,"2002-11-12",39.5]
[null,null,null,"2002-11-11",64.5,null,"2002-11-11",38]
[null,null,null,"2002-11-10",62.5,null,"2002-11-10",51]
[null,null,null,"2002-11-09",53.5,null,"2002-11-09",58]
[null,null,null,"2002-11-08",48,null,"2002-11-08",46.5]
[null,null,null,"2002-11-07",41.5,null,"2002-11-07",43.5]
[null,null,null,"2002-11-06",48,null,"2002-11-06",39.5]
[null,null,null,"2002-11-05",44,null,"2002-11-05",37.5]
[null,null,null,"2002-11-04",43,null,"2002-11-04",38.5]
[null,null,null,"2002-11-03",41,null,"2002-11-03",35.5]
[null,null,null,"2002-11-02",39.5,null,"2002-11-02",38]
[null,null,null,"2002-11-01",43.5,null,"2002-11-01",32.5]
[null,null,null,"2002-10-31",45,null,"2002-10-31",40]
[null,null,null,"2002-10-30",44.5,null,"2002-10-30",44.5]
[null,null,null,"2002-10-29",41.5,null,"2002-10-29",44]
[null,null,null,"2002-10-28",47,null,"2002-10-28",43.5]
[null,null,null,"2002-10-27",53,null,"2002-10-27",42]
[null,null,null,"2002-10-26",54,null,"2002-10-26",42.5]
[null,null,null,"2002-10-25",61.5,null,"2002-10-25",44.5]
[null,null,null,"2002-10-24",43,null,"2002-10-24",44]
[null,null,null,"2002-10-23",49,null,"2002-10-23",43]
[null,null,null,"2002-10-22",48,null,"2002-10-22",43.5]
[null,null,null,"2002-10-21",50,null,"2002-10-21",44.5]
[null,null,null,"2002-10-20",54,null,"2002-10-20",40.5]
[null,null,null,"2002-10-19",53,null,"2002-10-19",41.5]
[null,null,null,"2002-10-18",51.5,null,"2002-10-18",49]
[null,null,null,"2002-10-17",53,null,"2002-10-17",40.5]
[null,null,null,"2002-10-16",52,null,"2002-10-16",41.5]
[null,null,null,"2002-10-15",48.5,null,"2002-10-15",49.5]
[null,null,null,"2002-10-14",51.5,null,"2002-10-14",43.5]
[null,null,null,"2002-10-13",59.5,null,"2002-10-13",41.5]
[null,null,null,"2002-10-12",60,null,"2002-10-12",60.5]
[null,null,null,"2002-10-11",59,null,"2002-10-11",60.5]
[null,null,null,"2002-10-10",60.5,null,"2002-10-10",62]
[null,null,null,"2002-10-09",56.5,null,"2002-10-09",56.5]
[null,null,null,"2002-10-08",56,null,"2002-10-08",55.5]
[null,null,null,"2002-10-07",68,null,"2002-10-07",47.5]
[null,null,null,"2002-10-06",60.5,null,"2002-10-06",58]
[null,null,null,"2002-10-05",73,null,"2002-10-05",54.5]
[null,null,null,"2002-10-04",67,null,"2002-10-04",63]
[null,null,null,"2002-10-03",73.5,null,"2002-10-03",60.5]
[null,null,null,"2002-10-02",75.5,null,"2002-10-02",65.5]
[null,null,null,"2002-10-01",69.5,null,"2002-10-01",74.5]
[null,null,null,"2002-09-30",64,null,"2002-09-30",76.5]
[null,null,null,"2002-09-29",62,null,"2002-09-29",72]
[null,null,null,"2002-09-28",66.5,null,"2002-09-28",62]
[null,null,null,"2002-09-27",66.5,null,"2002-09-27",60]
[null,null,null,"2002-09-26",62,null,"2002-09-26",62]
[null,null,null,"2002-09-25",67,null,"2002-09-25",58.5]
[null,null,null,"2002-09-24",67.5,null,"2002-09-24",51.5]
[null,null,null,"2002-09-23",69.5,null,"2002-09-23",54]
[null,null,null,"2002-09-22",76,null,"2002-09-22",55.5]
[null,null,null,"2002-09-21",76,null,"2002-09-21",69]
[null,null,null,"2002-09-20",72.5,null,"2002-09-20",67]
[null,null,null,"2002-09-19",69,null,"2002-09-19",76]
[null,null,null,"2002-09-18",68.5,null,"2002-09-18",71]
[null,null,null,"2002-09-17",72,null,"2002-09-17",64.5]
[null,null,null,"2002-09-16",75.5,null,"2002-09-16",62]
[null,null,null,"2002-09-15",76,null,"2002-09-15",62.5]
[null,null,null,"2002-09-14",73.5,null,"2002-09-14",68]
[null,null,null,"2002-09-13",69.5,null,"2002-09-13",64]
[null,null,null,"2002-09-12",65.5,null,"2002-09-12",63.5]
[null,null,null,"2002-09-11",71.5,null,"2002-09-11",63.5]
[null,null,null,"2002-09-10",78.5,null,"2002-09-10",75.5]
[null,null,null,"2002-09-09",76,null,"2002-09-09",78]
[null,null,null,"2002-09-08",71.5,null,"2002-09-08",76]
[null,null,null,"2002-09-07",72,null,"2002-09-07",74]
[null,null,null,"2002-09-06",70,null,"2002-09-06",71]
[null,null,null,"2002-09-05",73.5,null,"2002-09-05",71.5]
[null,null,null,"2002-09-04",79.5,null,"2002-09-04",71.5]
[null,null,null,"2002-09-03",73.5,null,"2002-09-03",72]
[null,null,null,"2002-09-02",65,null,"2002-09-02",74]
[null,null,null,"2002-09-01",64,null,"2002-09-01",73.5]
[null,null,null,"2002-08-31",68,null,"2002-08-31",73]
[null,null,null,"2002-08-30",66.5,null,"2002-08-30",72.5]
[null,null,null,"2002-08-29",62.5,null,"2002-08-29",69.5]
[null,null,null,"2002-08-28",70,null,"2002-08-28",72]
[null,null,null,"2002-08-27",75,null,"2002-08-27",74]
[null,null,null,"2002-08-26",76,null,"2002-08-26",73.5]
[null,null,null,"2002-08-25",74.5,null,"2002-08-25",74]
[null,null,null,"2002-08-24",70.5,null,"2002-08-24",74]
[null,null,null,"2002-08-23",74.5,null,"2002-08-23",72.5]
[null,null,null,"2002-08-22",77,null,"2002-08-22",74]
[null,null,null,"2002-08-21",75.5,null,"2002-08-21",74.5]
[null,null,null,"2002-08-20",75,null,"2002-08-20",65.5]
[null,null,null,"2002-08-19",86,null,"2002-08-19",65.5]
[null,null,null,"2002-08-18",87,null,"2002-08-18",66]
[null,null,null,"2002-08-17",85.5,null,"2002-08-17",76]
[null,null,null,"2002-08-16",86,null,"2002-08-16",75]
[null,null,null,"2002-08-15",83.5,null,"2002-08-15",73.5]
[null,null,null,"2002-08-14",85,null,"2002-08-14",70]
[null,null,null,"2002-08-13",87.5,null,"2002-08-13",76]
[null,null,null,"2002-08-12",81.5,null,"2002-08-12",79]
[null,null,null,"2002-08-11",79,null,"2002-08-11",80]
[null,null,null,"2002-08-10",77,null,"2002-08-10",74]
[null,null,null,"2002-08-09",75,null,"2002-08-09",70]
[null,null,null,"2002-08-08",73.5,null,"2002-08-08",69]
[null,null,null,"2002-08-07",72,null,"2002-08-07",67]
[null,null,null,"2002-08-06",73,null,"2002-08-06",68.5]
[null,null,null,"2002-08-05",84.5,null,"2002-08-05",76.5]
[null,null,null,"2002-08-04",83,null,"2002-08-04",81.5]
[null,null,null,"2002-08-03",80,null,"2002-08-03",74.5]
[null,null,null,"2002-08-02",83,null,"2002-08-02",72]
[null,null,null,"2002-08-01",88,null,"2002-08-01",84.5]
[null,null,null,"2002-07-31",85.5,null,"2002-07-31",81.5]
[null,null,null,"2002-07-30",88.5,null,"2002-07-30",80]
[null,null,null,"2002-07-29",88.5,null,"2002-07-29",77]
[null,null,null,"2002-07-28",79.5,null,"2002-07-28",81]
[null,null,null,"2002-07-27",71,null,"2002-07-27",80]
[null,null,null,"2002-07-26",69,null,"2002-07-26",78.5]
[null,null,null,"2002-07-25",73,null,"2002-07-25",72.5]
[null,null,null,"2002-07-24",74.5,null,"2002-07-24",71]
[null,null,null,"2002-07-23",86,null,"2002-07-23",69.5]
[null,null,null,"2002-07-22",82,null,"2002-07-22",83]
[null,null,null,"2002-07-21",76,null,"2002-07-21",87]
[null,null,null,"2002-07-20",79.5,null,"2002-07-20",76]
[null,null,null,"2002-07-19",80.5,null,"2002-07-19",74]
[null,null,null,"2002-07-18",87.5,null,"2002-07-18",82]
[null,null,null,"2002-07-17",84,null,"2002-07-17",77.5]
[null,null,null,"2002-07-16",83.5,null,"2002-07-16",79]
[null,null,null,"2002-07-15",81,null,"2002-07-15",75.5]
[null,null,null,"2002-07-14",77,null,"2002-07-14",72]
[null,null,null,"2002-07-13",73.5,null,"2002-07-13",69.5]
[null,null,null,"2002-07-12",71.5,null,"2002-07-12",68]
[null,null,null,"2002-07-11",71,null,"2002-07-11",68.5]
[null,null,null,"2002-07-10",78,null,"2002-07-10",73.5]
[null,null,null,"2002-07-09",85,null,"2002-07-09",74]
[null,null,null,"2002-07-08",79,null,"2002-07-08",81]
[null,null,null,"2002-07-07",77.5,null,"2002-07-07",76.5]
[null,null,null,"2002-07-06",74,null,"2002-07-06",75]
[null,null,null,"2002-07-05",78,null,"2002-07-05",74.5]
[null,null,null,"2002-07-04",90.5,null,"2002-07-04",79.5]
[null,null,null,"2002-07-03",90,null,"2002-07-03",83.5]
[null,null,null,"2002-07-02",86,null,"2002-07-02",84]
[null,null,null,"2002-07-01",80,null,"2002-07-01",84]
[null,null,null,"2002-06-30",78,null,"2002-06-30",81]
[null,null,null,"2002-06-29",78.5,null,"2002-06-29",73.5]
[null,null,null,"2002-06-28",78.5,null,"2002-06-28",73.5]
[null,null,null,"2002-06-27",82,null,"2002-06-27",74]
[null,null,null,"2002-06-26",84.5,null,"2002-06-26",79]
[null,null,null,"2002-06-25",78.5,null,"2002-06-25",80.5]
[null,null,null,"2002-06-24",82.5,null,"2002-06-24",78]
[null,null,null,"2002-06-23",79,null,"2002-06-23",82]
[null,null,null,"2002-06-22",76.5,null,"2002-06-22",79.5]
[null,null,null,"2002-06-21",72.5,null,"2002-06-21",79.5]
[null,null,null,"2002-06-20",70,null,"2002-06-20",82]
[null,null,null,"2002-06-19",68.5,null,"2002-06-19",74.5]
[null,null,null,"2002-06-18",70.5,null,"2002-06-18",69.5]
[null,null,null,"2002-06-17",70,null,"2002-06-17",67]
[null,null,null,"2002-06-16",68.5,null,"2002-06-16",66]
[null,null,null,"2002-06-15",59.5,null,"2002-06-15",66.5]
[null,null,null,"2002-06-14",58.5,null,"2002-06-14",60.5]
[null,null,null,"2002-06-13",63.5,null,"2002-06-13",59.5]
[null,null,null,"2002-06-12",75.5,null,"2002-06-12",63.5]
[null,null,null,"2002-06-11",77.5,null,"2002-06-11",76]
[null,null,null,"2002-06-10",72.5,null,"2002-06-10",79.5]
[null,null,null,"2002-06-09",69.5,null,"2002-06-09",71.5]
[null,null,null,"2002-06-08",61.5,null,"2002-06-08",71]
[null,null,null,"2002-06-07",64,null,"2002-06-07",63.5]
[null,null,null,"2002-06-06",71,null,"2002-06-06",58]
[null,null,null,"2002-06-05",78.5,null,"2002-06-05",55.5]
[null,null,null,"2002-06-04",67,null,"2002-06-04",64.5]
[null,null,null,"2002-06-03",66,null,"2002-06-03",61.5]
[null,null,null,"2002-06-02",71.5,null,"2002-06-02",61.5]
[null,null,null,"2002-06-01",76.5,null,"2002-06-01",76]
[null,null,null,"2002-05-31",77.5,null,"2002-05-31",76.5]
[null,null,null,"2002-05-30",71,null,"2002-05-30",74.5]
[null,null,null,"2002-05-29",71,null,"2002-05-29",72.5]
[null,null,null,"2002-05-28",71.5,null,"2002-05-28",68.5]
[null,null,null,"2002-05-27",68,null,"2002-05-27",63.5]
[null,null,null,"2002-05-26",63.5,null,"2002-05-26",55]
[null,null,null,"2002-05-25",63.5,null,"2002-05-25",49]
[null,null,null,"2002-05-24",69.5,null,"2002-05-24",53.5]
[null,null,null,"2002-05-23",59.5,null,"2002-05-23",64.5]
[null,null,null,"2002-05-22",56.5,null,"2002-05-22",54.5]
[null,null,null,"2002-05-21",52.5,null,"2002-05-21",44.5]
[null,null,null,"2002-05-20",50,null,"2002-05-20",40.5]
[null,null,null,"2002-05-19",49.5,null,"2002-05-19",46]
[null,null,null,"2002-05-18",50,null,"2002-05-18",44]
[null,null,null,"2002-05-17",67.5,null,"2002-05-17",40.5]
[null,null,null,"2002-05-16",66,null,"2002-05-16",54.5]
[null,null,null,"2002-05-15",58.5,null,"2002-05-15",57.5]
[null,null,null,"2002-05-14",56,null,"2002-05-14",53.5]
[null,null,null,"2002-05-13",53,null,"2002-05-13",50]
[null,null,null,"2002-05-12",57,null,"2002-05-12",47.5]
[null,null,null,"2002-05-11",62.5,null,"2002-05-11",51]
[null,null,null,"2002-05-10",65,null,"2002-05-10",55.5]
[null,null,null,"2002-05-09",52.16,null,"2002-05-09",58]
[null,null,null,"2002-05-08",64,null,"2002-05-08",55]
[null,null,null,"2002-05-07",69.5,null,"2002-05-07",56]
[null,null,null,"2002-05-06",64,null,"2002-05-06",67.5]
[null,null,null,"2002-05-05",59,null,"2002-05-05",58.5]
[null,null,null,"2002-05-04",54.5,null,"2002-05-04",51.5]
[null,null,null,"2002-05-03",56,null,"2002-05-03",45.5]
[null,null,null,"2002-05-02",53,null,"2002-05-02",48.5]
[null,null,null,"2002-05-01",56.5,null,"2002-05-01",53]
[null,null,null,"2002-04-30",49.5,null,"2002-04-30",53.5]
[null,null,null,"2002-04-29",50,null,"2002-04-29",50.5]
[null,null,null,"2002-04-28",52.5,null,"2002-04-28",50]
[null,null,null,"2002-04-27",51.5,null,"2002-04-27",53]
[null,null,null,"2002-04-26",50.5,null,"2002-04-26",44.5]
[null,null,null,"2002-04-25",47.5,null,"2002-04-25",45.5]
[null,null,null,"2002-04-24",49,null,"2002-04-24",57.5]
[null,null,null,"2002-04-23",47.5,null,"2002-04-23",45.5]
[null,null,null,"2002-04-22",50,null,"2002-04-22",39.5]
[null,null,null,"2002-04-21",52,null,"2002-04-21",40.5]
[null,null,null,"2002-04-20",61.5,null,"2002-04-20",44.5]
[null,null,null,"2002-04-19",77,null,"2002-04-19",56]
[null,null,null,"2002-04-18",83.5,null,"2002-04-18",76]
[null,null,null,"2002-04-17",82.5,null,"2002-04-17",75]
[null,null,null,"2002-04-16",78,null,"2002-04-16",77.5]
[null,null,null,"2002-04-15",70,null,"2002-04-15",75]
[null,null,null,"2002-04-14",64.5,null,"2002-04-14",59]
[null,null,null,"2002-04-13",64,null,"2002-04-13",52]
[null,null,null,"2002-04-12",49,null,"2002-04-12",57]
[null,null,null,"2002-04-11",52,null,"2002-04-11",62.5]
[null,null,null,"2002-04-10",57.5,null,"2002-04-10",49]
[null,null,null,"2002-04-09",66,null,"2002-04-09",43]
[null,null,null,"2002-04-08",51,null,"2002-04-08",49]
[null,null,null,"2002-04-07",38.5,null,"2002-04-07",42]
[null,null,null,"2002-04-06",40.5,null,"2002-04-06",34]
[null,null,null,"2002-04-05",38.5,null,"2002-04-05",32.5]
[null,null,null,"2002-04-04",44.5,null,"2002-04-04",31]
[null,null,null,"2002-04-03",59,null,"2002-04-03",35]
[null,null,null,"2002-04-02",48.5,null,"2002-04-02",38.5]
[null,null,null,"2002-04-01",53.5,null,"2002-04-01",34]
[null,null,null,"2002-03-31",53,null,"2002-03-31",37.5]
[null,null,null,"2002-03-30",57.5,null,"2002-03-30",42.5]
[null,null,null,"2002-03-29",50,null,"2002-03-29",41]
[null,null,null,"2002-03-28",46,null,"2002-03-28",39.5]
[null,null,null,"2002-03-27",46.5,null,"2002-03-27",35.5]
[null,null,null,"2002-03-26",42,null,"2002-03-26",31.5]
[null,null,null,"2002-03-25",43.5,null,"2002-03-25",27.5]
[null,null,null,"2002-03-24",44.5,null,"2002-03-24",33.5]
[null,null,null,"2002-03-23",36.5,null,"2002-03-23",39]
[null,null,null,"2002-03-22",28.5,null,"2002-03-22",27.5]
[null,null,null,"2002-03-21",43,null,"2002-03-21",28]
[null,null,null,"2002-03-20",41,null,"2002-03-20",39.5]
[null,null,null,"2002-03-19",42,null,"2002-03-19",41.5]
[null,null,null,"2002-03-18",37,null,"2002-03-18",41.5]
[null,null,null,"2002-03-17",34.5,null,"2002-03-17",37.5]
[null,null,null,"2002-03-16",51.5,null,"2002-03-16",36.5]
[null,null,null,"2002-03-15",51.5,null,"2002-03-15",47]
[null,null,null,"2002-03-14",54,null,"2002-03-14",50]
[null,null,null,"2002-03-13",43,null,"2002-03-13",47.5]
[null,null,null,"2002-03-12",42.5,null,"2002-03-12",40]
[null,null,null,"2002-03-11",34,null,"2002-03-11",33]
[null,null,null,"2002-03-10",46.5,null,"2002-03-10",21]
[null,null,null,"2002-03-09",55.5,null,"2002-03-09",42]
[null,null,null,"2002-03-08",48,null,"2002-03-08",50.5]
[null,null,null,"2002-03-07",52.5,null,"2002-03-07",35.5]
[null,null,null,"2002-03-06",44.5,null,"2002-03-06",34.5]
[null,null,null,"2002-03-05",27.5,null,"2002-03-05",22.5]
[null,null,null,"2002-03-04",34,null,"2002-03-04",6]
[null,null,null,"2002-03-03",53,null,"2002-03-03",10.5]
[null,null,null,"2002-03-02",40.5,null,"2002-03-02",27.5]
[null,null,null,"2002-03-01",37.5,null,"2002-03-01",26]
[null,null,null,"2002-02-28",34,null,"2002-02-28",23]
[null,null,null,"2002-02-27",38,null,"2002-02-27",21]
[null,null,null,"2002-02-26",54,null,"2002-02-26",25.5]
[null,null,null,"2002-02-25",42,null,"2002-02-25",42]
[null,null,null,"2002-02-24",38.5,null,"2002-02-24",47.5]
[null,null,null,"2002-02-23",41,null,"2002-02-23",35.5]
[null,null,null,"2002-02-22",46.5,null,"2002-02-22",30]
[null,null,null,"2002-02-21",56.5,null,"2002-02-21",31.5]
[null,null,null,"2002-02-20",49.5,null,"2002-02-20",44]
[null,null,null,"2002-02-19",42,null,"2002-02-19",42.5]
[null,null,null,"2002-02-18",38,null,"2002-02-18",37.5]
[null,null,null,"2002-02-17",41.5,null,"2002-02-17",32.5]
[null,null,null,"2002-02-16",49,null,"2002-02-16",37]
[null,null,null,"2002-02-15",40,null,"2002-02-15",38.5]
[null,null,null,"2002-02-14",29.5,null,"2002-02-14",37.5]
[null,null,null,"2002-02-13",31.5,null,"2002-02-13",25]
[null,null,null,"2002-02-12",33.5,null,"2002-02-12",34.5]
[null,null,null,"2002-02-11",40,null,"2002-02-11",28.5]
[null,null,null,"2002-02-10",47,null,"2002-02-10",36.5]
[null,null,null,"2002-02-09",40,null,"2002-02-09",33.5]
[null,null,null,"2002-02-08",44,null,"2002-02-08",36]
[null,null,null,"2002-02-07",39,null,"2002-02-07",32]
[null,null,null,"2002-02-06",35.5,null,"2002-02-06",29]
[null,null,null,"2002-02-05",26.5,null,"2002-02-05",20]
[null,null,null,"2002-02-04",34.5,null,"2002-02-04",17.5]
[null,null,null,"2002-02-03",35,null,"2002-02-03",27]
[null,null,null,"2002-02-02",34.5,null,"2002-02-02",20.5]
[null,null,null,"2002-02-01",47,null,"2002-02-01",26.5]
[null,null,null,"2002-01-31",39,null,"2002-01-31",32]
[null,null,null,"2002-01-30",51.5,null,"2002-01-30",31.5]
[null,null,null,"2002-01-29",56,null,"2002-01-29",33.5]
[null,null,null,"2002-01-28",49,null,"2002-01-28",40.5]
[null,null,null,"2002-01-27",48,null,"2002-01-27",47.5]
[null,null,null,"2002-01-26",46,null,"2002-01-26",43.5]
[null,null,null,"2002-01-25",42,null,"2002-01-25",38.5]
[null,null,null,"2002-01-24",47.5,null,"2002-01-24",36]
[null,null,null,"2002-01-23",42,null,"2002-01-23",41.5]
[null,null,null,"2002-01-22",41,null,"2002-01-22",43.5]
[null,null,null,"2002-01-21",33.5,null,"2002-01-21",30.5]
[null,null,null,"2002-01-20",32,null,"2002-01-20",29]
[null,null,null,"2002-01-19",29,null,"2002-01-19",20]
[null,null,null,"2002-01-18",34.5,null,"2002-01-18",16]
[null,null,null,"2002-01-17",41.5,null,"2002-01-17",18.5]
[null,null,null,"2002-01-16",40,null,"2002-01-16",28.5]
[null,null,null,"2002-01-15",42,null,"2002-01-15",32]
[null,null,null,"2002-01-14",38,null,"2002-01-14",35]
[null,null,null,"2002-01-13",41.5,null,"2002-01-13",33]
[null,null,null,"2002-01-12",43.5,null,"2002-01-12",35]
[null,null,null,"2002-01-11",43.5,null,"2002-01-11",38]
[null,null,null,"2002-01-10",45,null,"2002-01-10",39]
[null,null,null,"2002-01-09",34.5,null,"2002-01-09",46.5]
[null,null,null,"2002-01-08",30,null,"2002-01-08",31]
[null,null,null,"2002-01-07",32.5,null,"2002-01-07",21.5]
[null,null,null,"2002-01-06",35,null,"2002-01-06",28.5]
[null,null,null,"2002-01-05",37.5,null,"2002-01-05",31.5]
[null,null,null,"2002-01-04",35,null,"2002-01-04",28]
[null,null,null,"2002-01-03",32,null,"2002-01-03",20]
[null,null,null,"2002-01-02",30.5,null,"2002-01-02",21]
[null,null,null,"2002-01-01",28,null,"2002-01-01",17.5]
[null,null,null,"2001-12-31",25.5,null,"2001-12-31",14]
[null,null,null,"2001-12-30",27.5,null,"2001-12-30",12.5]
[null,null,null,"2001-12-29",34.5,null,"2001-12-29",13.5]
[null,null,null,"2001-12-28",33,null,"2001-12-28",21]
[null,null,null,"2001-12-27",28.5,null,"2001-12-27",22.5]
[null,null,null,"2001-12-26",33.5,null,"2001-12-26",13.5]
[null,null,null,"2001-12-25",34.5,null,"2001-12-25",17]
[null,null,null,"2001-12-24",42,null,"2001-12-24",18]
[null,null,null,"2001-12-23",38,null,"2001-12-23",27]
[null,null,null,"2001-12-22",37.5,null,"2001-12-22",41]
[null,null,null,"2001-12-21",39,null,"2001-12-21",31]
[null,null,null,"2001-12-20",42.5,null,"2001-12-20",32.5]
[null,null,null,"2001-12-19",45.5,null,"2001-12-19",35.5]
[null,null,null,"2001-12-18",50.5,null,"2001-12-18",38.5]
[null,null,null,"2001-12-17",44,null,"2001-12-17",39.5]
[null,null,null,"2001-12-16",37.5,null,"2001-12-16",42]
[null,null,null,"2001-12-15",49,null,"2001-12-15",34.5]
[null,null,null,"2001-12-14",57,null,"2001-12-14",34.5]
[null,null,null,"2001-12-13",50,null,"2001-12-13",38.5]
[null,null,null,"2001-12-12",43,null,"2001-12-12",42.5]
[null,null,null,"2001-12-11",47,null,"2001-12-11",35.5]
[null,null,null,"2001-12-10",39,null,"2001-12-10",38.5]
[null,null,null,"2001-12-09",39,null,"2001-12-09",31]
[null,null,null,"2001-12-08",43.5,null,"2001-12-08",38.5]
[null,null,null,"2001-12-07",55.5,null,"2001-12-07",40.5]
[null,null,null,"2001-12-06",63,null,"2001-12-06",44]
[null,null,null,"2001-12-05",61,null,"2001-12-05",56]
[null,null,null,"2001-12-04",52,null,"2001-12-04",58]
[null,null,null,"2001-12-03",47.5,null,"2001-12-03",48]
[null,null,null,"2001-12-02",48,null,"2001-12-02",39]
[null,null,null,"2001-12-01",61.5,null,"2001-12-01",36]
[null,null,null,"2001-11-30",62,null,"2001-11-30",44.5]
[null,null,null,"2001-11-29",53.5,null,"2001-11-29",42]
[null,null,null,"2001-11-28",58.5,null,"2001-11-28",38.5]
[null,null,null,"2001-11-27",51,null,"2001-11-27",44]
[null,null,null,"2001-11-26",57,null,"2001-11-26",43]
[null,null,null,"2001-11-25",62,null,"2001-11-25",45.5]
[null,null,null,"2001-11-24",53.5,null,"2001-11-24",56.5]
[null,null,null,"2001-11-23",47.5,null,"2001-11-23",51.5]
[null,null,null,"2001-11-22",44,null,"2001-11-22",48]
[null,null,null,"2001-11-21",39,null,"2001-11-21",44]
[null,null,null,"2001-11-20",47,null,"2001-11-20",35.5]
[null,null,null,"2001-11-19",51,null,"2001-11-19",45.5]
[null,null,null,"2001-11-18",47,null,"2001-11-18",55.5]
[null,null,null,"2001-11-17",47,null,"2001-11-17",52]
[null,null,null,"2001-11-16",62,null,"2001-11-16",50]
[null,null,null,"2001-11-15",57.5,null,"2001-11-15",61]
[null,null,null,"2001-11-14",48.5,null,"2001-11-14",56.5]
[null,null,null,"2001-11-13",43,null,"2001-11-13",51.5]
[null,null,null,"2001-11-12",41,null,"2001-11-12",42]
[null,null,null,"2001-11-11",43.5,null,"2001-11-11",42.5]
[null,null,null,"2001-11-10",51,null,"2001-11-10",49]
[null,null,null,"2001-11-09",49,null,"2001-11-09",40.5]
[null,null,null,"2001-11-08",48.5,null,"2001-11-08",45]
[null,null,null,"2001-11-07",55.5,null,"2001-11-07",56]
[null,null,null,"2001-11-06",48.5,null,"2001-11-06",47.5]
[null,null,null,"2001-11-05",47,null,"2001-11-05",43]
[null,null,null,"2001-11-04",54.5,null,"2001-11-04",48.5]
[null,null,null,"2001-11-03",62,null,"2001-11-03",50.5]
[null,null,null,"2001-11-02",66,null,"2001-11-02",56]
[null,null,null,"2001-11-01",59,null,"2001-11-01",62]
[null,null,null,"2001-10-31",48,null,"2001-10-31",59]
[null,null,null,"2001-10-30",54,null,"2001-10-30",49.5]
[null,null,null,"2001-10-29",47,null,"2001-10-29",51.5]
[null,null,null,"2001-10-28",45.5,null,"2001-10-28",43]
[null,null,null,"2001-10-27",47,null,"2001-10-27",37.5]
[null,null,null,"2001-10-26",50.5,null,"2001-10-26",38.5]
[null,null,null,"2001-10-25",66.5,null,"2001-10-25",37.5]
[null,null,null,"2001-10-24",72.5,null,"2001-10-24",51.5]
[null,null,null,"2001-10-23",60.5,null,"2001-10-23",61.5]
[null,null,null,"2001-10-22",63,null,"2001-10-22",55.5]
[null,null,null,"2001-10-21",62.5,null,"2001-10-21",59]
[null,null,null,"2001-10-20",59.5,null,"2001-10-20",56]
[null,null,null,"2001-10-19",51,null,"2001-10-19",53]
[null,null,null,"2001-10-18",49,null,"2001-10-18",51]
[null,null,null,"2001-10-17",52.5,null,"2001-10-17",42]
[null,null,null,"2001-10-16",57.5,null,"2001-10-16",45]
[null,null,null,"2001-10-15",61.5,null,"2001-10-15",47]
[null,null,null,"2001-10-14",62.5,null,"2001-10-14",53]
[null,null,null,"2001-10-13",67,null,"2001-10-13",60]
[null,null,null,"2001-10-12",65.5,null,"2001-10-12",51.5]
[null,null,null,"2001-10-11",64,null,"2001-10-11",57.5]
[null,null,null,"2001-10-10",56,null,"2001-10-10",60]
[null,null,null,"2001-10-09",48.5,null,"2001-10-09",64.5]
[null,null,null,"2001-10-08",47,null,"2001-10-08",52]
[null,null,null,"2001-10-07",50.5,null,"2001-10-07",40.5]
[null,null,null,"2001-10-06",60,null,"2001-10-06",40]
[null,null,null,"2001-10-05",68.5,null,"2001-10-05",46]
[null,null,null,"2001-10-04",70.5,null,"2001-10-04",54]
[null,null,null,"2001-10-03",69,null,"2001-10-03",65.5]
[null,null,null,"2001-10-02",61.5,null,"2001-10-02",64]
[null,null,null,"2001-10-01",53.5,null,"2001-10-01",63.5]
[null,null,null,"2001-09-30",53,null,"2001-09-30",57.5]
[null,null,null,"2001-09-29",58.5,null,"2001-09-29",55.5]
[null,null,null,"2001-09-28",57,null,"2001-09-28",54]
[null,null,null,"2001-09-27",57.5,null,"2001-09-27",53.5]
[null,null,null,"2001-09-26",56.5,null,"2001-09-26",59.5]
[null,null,null,"2001-09-25",64,null,"2001-09-25",49]
[null,null,null,"2001-09-24",72,null,"2001-09-24",50]
[null,null,null,"2001-09-23",71.5,null,"2001-09-23",58]
[null,null,null,"2001-09-22",73,null,"2001-09-22",62.5]
[null,null,null,"2001-09-21",71,null,"2001-09-21",61.5]
[null,null,null,"2001-09-20",69.5,null,"2001-09-20",63]
[null,null,null,"2001-09-19",69,null,"2001-09-19",62]
[null,null,null,"2001-09-18",67,null,"2001-09-18",62]
[null,null,null,"2001-09-17",65.5,null,"2001-09-17",58.5]
[null,null,null,"2001-09-16",61.5,null,"2001-09-16",59.5]
[null,null,null,"2001-09-15",60,null,"2001-09-15",58]
[null,null,null,"2001-09-14",61.5,null,"2001-09-14",58.5]
[null,null,null,"2001-09-13",72.5,null,"2001-09-13",62.5]
[null,null,null,"2001-09-12",68,null,"2001-09-12",69]
[null,null,null,"2001-09-11",73,null,"2001-09-11",64]
[null,null,null,"2001-09-10",76.5,null,"2001-09-10",65]
[null,null,null,"2001-09-09",75,null,"2001-09-09",63.5]
[null,null,null,"2001-09-08",75,null,"2001-09-08",72]
[null,null,null,"2001-09-07",74,null,"2001-09-07",77.5]
[null,null,null,"2001-09-06",70,null,"2001-09-06",73]
[null,null,null,"2001-09-05",72,null,"2001-09-05",66]
[null,null,null,"2001-09-04",72,null,"2001-09-04",66.5]
[null,null,null,"2001-09-03",68,null,"2001-09-03",73.5]
[null,null,null,"2001-09-02",65.5,null,"2001-09-02",63.5]
[null,null,null,"2001-09-01",72.5,null,"2001-09-01",59.5]
[null,null,null,"2001-08-31",79.5,null,"2001-08-31",68]
[null,null,null,"2001-08-30",73,null,"2001-08-30",76.5]
[null,null,null,"2001-08-29",75.5,null,"2001-08-29",69]
[null,null,null,"2001-08-28",79,null,"2001-08-28",68]
[null,null,null,"2001-08-27",79,null,"2001-08-27",74]
[null,null,null,"2001-08-26",71.5,null,"2001-08-26",75]
[null,null,null,"2001-08-25",72,null,"2001-08-25",74]
[null,null,null,"2001-08-24",75,null,"2001-08-24",73.5]
[null,null,null,"2001-08-23",75.5,null,"2001-08-23",71.5]
[null,null,null,"2001-08-22",78,null,"2001-08-22",77]
[null,null,null,"2001-08-21",77,null,"2001-08-21",72]
[null,null,null,"2001-08-20",81,null,"2001-08-20",68.5]
[null,null,null,"2001-08-19",78,null,"2001-08-19",67.5]
[null,null,null,"2001-08-18",78,null,"2001-08-18",65.5]
[null,null,null,"2001-08-17",80,null,"2001-08-17",69.5]
[null,null,null,"2001-08-16",75.5,null,"2001-08-16",67.5]
[null,null,null,"2001-08-15",75,null,"2001-08-15",67]
[null,null,null,"2001-08-14",77.5,null,"2001-08-14",66]
[null,null,null,"2001-08-13",80,null,"2001-08-13",67]
[null,null,null,"2001-08-12",76.5,null,"2001-08-12",72]
[null,null,null,"2001-08-11",75.5,null,"2001-08-11",68.5]
[null,null,null,"2001-08-10",87.5,null,"2001-08-10",69.5]
[null,null,null,"2001-08-09",91,null,"2001-08-09",83.5]
[null,null,null,"2001-08-08",91.5,null,"2001-08-08",84.5]
[null,null,null,"2001-08-07",88.5,null,"2001-08-07",85]
[null,null,null,"2001-08-06",85,null,"2001-08-06",81]
[null,null,null,"2001-08-05",78.5,null,"2001-08-05",76]
[null,null,null,"2001-08-04",77,null,"2001-08-04",75.5]
[null,null,null,"2001-08-03",79.5,null,"2001-08-03",75]
[null,null,null,"2001-08-02",81,null,"2001-08-02",78.5]
[null,null,null,"2001-08-01",78.5,null,"2001-08-01",84]
[null,null,null,"2001-07-31",73.5,null,"2001-07-31",82.5]
[null,null,null,"2001-07-30",71.5,null,"2001-07-30",80]
[null,null,null,"2001-07-29",70.5,null,"2001-07-29",77.5]
[null,null,null,"2001-07-28",71.5,null,"2001-07-28",71.5]
[null,null,null,"2001-07-27",70.5,null,"2001-07-27",71]
[null,null,null,"2001-07-26",72.5,null,"2001-07-26",73]
[null,null,null,"2001-07-25",87,null,"2001-07-25",71]
[null,null,null,"2001-07-24",84.5,null,"2001-07-24",79]
[null,null,null,"2001-07-23",80,null,"2001-07-23",82.5]
[null,null,null,"2001-07-22",74.5,null,"2001-07-22",81.5]
[null,null,null,"2001-07-21",74,null,"2001-07-21",83]
[null,null,null,"2001-07-20",72,null,"2001-07-20",81.5]
[null,null,null,"2001-07-19",73,null,"2001-07-19",77]
[null,null,null,"2001-07-18",74.5,null,"2001-07-18",77.5]
[null,null,null,"2001-07-17",79,null,"2001-07-17",78.5]
[null,null,null,"2001-07-16",76.5,null,"2001-07-16",74.5]
[null,null,null,"2001-07-15",74.5,null,"2001-07-15",73.5]
[null,null,null,"2001-07-14",71,null,"2001-07-14",74]
[null,null,null,"2001-07-13",70,null,"2001-07-13",68]
[null,null,null,"2001-07-12",72,null,"2001-07-12",69]
[null,null,null,"2001-07-11",76,null,"2001-07-11",69]
[null,null,null,"2001-07-10",81,null,"2001-07-10",80.5]
[null,null,null,"2001-07-09",79,null,"2001-07-09",78.5]
[null,null,null,"2001-07-08",70,null,"2001-07-08",78.5]
[null,null,null,"2001-07-07",71,null,"2001-07-07",74]
[null,null,null,"2001-07-06",68.5,null,"2001-07-06",65.5]
[null,null,null,"2001-07-05",75,null,"2001-07-05",63.5]
[null,null,null,"2001-07-04",73,null,"2001-07-04",78]
[null,null,null,"2001-07-03",69.5,null,"2001-07-03",71.5]
[null,null,null,"2001-07-02",65.5,null,"2001-07-02",63.5]
[null,null,null,"2001-07-01",77.5,null,"2001-07-01",64]
[null,null,null,"2001-06-30",84,null,"2001-06-30",78]
[null,null,null,"2001-06-29",77.5,null,"2001-06-29",76.5]
[null,null,null,"2001-06-28",84.5,null,"2001-06-28",74.5]
[null,null,null,"2001-06-27",80.5,null,"2001-06-27",75]
[null,null,null,"2001-06-26",78.5,null,"2001-06-26",73.5]
[null,null,null,"2001-06-25",74.5,null,"2001-06-25",71.5]
[null,null,null,"2001-06-24",70.5,null,"2001-06-24",65.5]
[null,null,null,"2001-06-23",74,null,"2001-06-23",61.5]
[null,null,null,"2001-06-22",75,null,"2001-06-22",60]
[null,null,null,"2001-06-21",72,null,"2001-06-21",62]
[null,null,null,"2001-06-20",79.5,null,"2001-06-20",69.5]
[null,null,null,"2001-06-19",77.5,null,"2001-06-19",74.5]
[null,null,null,"2001-06-18",77,null,"2001-06-18",77.5]
[null,null,null,"2001-06-17",74,null,"2001-06-17",70.5]
[null,null,null,"2001-06-16",77,null,"2001-06-16",70.5]
[null,null,null,"2001-06-15",74.5,null,"2001-06-15",70]
[null,null,null,"2001-06-14",75.5,null,"2001-06-14",79.5]
[null,null,null,"2001-06-13",76,null,"2001-06-13",73.5]
[null,null,null,"2001-06-12",75.5,null,"2001-06-12",74.5]
[null,null,null,"2001-06-11",75,null,"2001-06-11",75.5]
[null,null,null,"2001-06-10",71,null,"2001-06-10",74]
[null,null,null,"2001-06-09",71.5,null,"2001-06-09",65.5]
[null,null,null,"2001-06-08",72.5,null,"2001-06-08",61]
[null,null,null,"2001-06-07",70,null,"2001-06-07",59]
[null,null,null,"2001-06-06",72,null,"2001-06-06",57]
[null,null,null,"2001-06-05",69.5,null,"2001-06-05",52.5]
[null,null,null,"2001-06-04",65.5,null,"2001-06-04",50.5]
[null,null,null,"2001-06-03",67.5,null,"2001-06-03",52]
[null,null,null,"2001-06-02",66.5,null,"2001-06-02",53]
[null,null,null,"2001-06-01",58,null,"2001-06-01",57]
[null,null,null,"2001-05-31",60,null,"2001-05-31",53]
[null,null,null,"2001-05-30",61,null,"2001-05-30",52.5]
[null,null,null,"2001-05-29",66,null,"2001-05-29",53]
[null,null,null,"2001-05-28",66.5,null,"2001-05-28",58.5]
[null,null,null,"2001-05-27",64.5,null,"2001-05-27",55]
[null,null,null,"2001-05-26",59.5,null,"2001-05-26",47.5]
[null,null,null,"2001-05-25",55.5,null,"2001-05-25",51]
[null,null,null,"2001-05-24",63.5,null,"2001-05-24",51]
[null,null,null,"2001-05-23",59,null,"2001-05-23",53.5]
[null,null,null,"2001-05-22",59,null,"2001-05-22",55.5]
[null,null,null,"2001-05-21",56.5,null,"2001-05-21",61.5]
[null,null,null,"2001-05-20",60.5,null,"2001-05-20",63]
[null,null,null,"2001-05-19",71.5,null,"2001-05-19",61]
[null,null,null,"2001-05-18",58.5,null,"2001-05-18",64.5]
[null,null,null,"2001-05-17",57,null,"2001-05-17",73.5]
[null,null,null,"2001-05-16",56.5,null,"2001-05-16",76.5]
[null,null,null,"2001-05-15",63.5,null,"2001-05-15",71.5]
[null,null,null,"2001-05-14",61.5,null,"2001-05-14",54]
[null,null,null,"2001-05-13",63.5,null,"2001-05-13",52.5]
[null,null,null,"2001-05-12",73,null,"2001-05-12",47.5]
[null,null,null,"2001-05-11",74.5,null,"2001-05-11",54]
[null,null,null,"2001-05-10",71,null,"2001-05-10",69.5]
[null,null,null,"2001-05-09",63.5,null,"2001-05-09",66.5]
[null,null,null,"2001-05-08",55.5,null,"2001-05-08",62]
[null,null,null,"2001-05-07",51.5,null,"2001-05-07",60]
[null,null,null,"2001-05-06",57,null,"2001-05-06",64.5]
[null,null,null,"2001-05-05",68.5,null,"2001-05-05",58]
[null,null,null,"2001-05-04",80.5,null,"2001-05-04",54.5]
[null,null,null,"2001-05-03",77.5,null,"2001-05-03",72]
[null,null,null,"2001-05-02",76,null,"2001-05-02",73]
[null,null,null,"2001-05-01",70.5,null,"2001-05-01",72.5]
[null,null,null,"2001-04-30",60.5,null,"2001-04-30",67.5]
[null,null,null,"2001-04-29",53,null,"2001-04-29",60.5]
[null,null,null,"2001-04-28",59.5,null,"2001-04-28",52.5]
[null,null,null,"2001-04-27",58.5,null,"2001-04-27",51.5]
[null,null,null,"2001-04-26",52,null,"2001-04-26",61]
[null,null,null,"2001-04-25",50.5,null,"2001-04-25",51]
[null,null,null,"2001-04-24",69.5,null,"2001-04-24",51.5]
[null,null,null,"2001-04-23",67,null,"2001-04-23",58]
[null,null,null,"2001-04-22",69,null,"2001-04-22",64.5]
[null,null,null,"2001-04-21",59,null,"2001-04-21",68.5]
[null,null,null,"2001-04-20",52.5,null,"2001-04-20",64]
[null,null,null,"2001-04-19",44,null,"2001-04-19",50.5]
[null,null,null,"2001-04-18",46.5,null,"2001-04-18",40.5]
[null,null,null,"2001-04-17",46.5,null,"2001-04-17",37.5]
[null,null,null,"2001-04-16",55,null,"2001-04-16",36]
[null,null,null,"2001-04-15",57,null,"2001-04-15",48.5]
[null,null,null,"2001-04-14",58,null,"2001-04-14",51.5]
[null,null,null,"2001-04-13",63,null,"2001-04-13",48]
[null,null,null,"2001-04-12",52.5,null,"2001-04-12",56.5]
[null,null,null,"2001-04-11",48.5,null,"2001-04-11",64]
[null,null,null,"2001-04-10",55,null,"2001-04-10",47]
[null,null,null,"2001-04-09",58.5,null,"2001-04-09",51.5]
[null,null,null,"2001-04-08",44,null,"2001-04-08",61]
[null,null,null,"2001-04-07",47.5,null,"2001-04-07",63.5]
[null,null,null,"2001-04-06",48,null,"2001-04-06",53]
[null,null,null,"2001-04-05",50,null,"2001-04-05",48]
[null,null,null,"2001-04-04",46,null,"2001-04-04",41.5]
[null,null,null,"2001-04-03",45,null,"2001-04-03",40.5]
[null,null,null,"2001-04-02",44.5,null,"2001-04-02",45]
[null,null,null,"2001-04-01",40.5,null,"2001-04-01",39.5]
[null,null,null,"2001-03-31",43,null,"2001-03-31",45.5]
[null,null,null,"2001-03-30",41,null,"2001-03-30",41.5]
[null,null,null,"2001-03-29",39.5,null,"2001-03-29",40.5]
[null,null,null,"2001-03-28",39,null,"2001-03-28",35.5]
[null,null,null,"2001-03-27",33.5,null,"2001-03-27",31.5]
[null,null,null,"2001-03-26",33,null,"2001-03-26",24.5]
[null,null,null,"2001-03-25",37.5,null,"2001-03-25",22]
[null,null,null,"2001-03-24",43,null,"2001-03-24",28.5]
[null,null,null,"2001-03-23",49,null,"2001-03-23",42]
[null,null,null,"2001-03-22",42,null,"2001-03-22",42]
[null,null,null,"2001-03-21",43,null,"2001-03-21",40.5]
[null,null,null,"2001-03-20",42.5,null,"2001-03-20",37.5]
[null,null,null,"2001-03-19",43.5,null,"2001-03-19",35.5]
[null,null,null,"2001-03-18",41.5,null,"2001-03-18",32]
[null,null,null,"2001-03-17",41,null,"2001-03-17",32]
[null,null,null,"2001-03-16",46.5,null,"2001-03-16",32]
[null,null,null,"2001-03-15",43.5,null,"2001-03-15",39]
[null,null,null,"2001-03-14",45.5,null,"2001-03-14",37.5]
[null,null,null,"2001-03-13",42.5,null,"2001-03-13",36.770000000000003]
[null,null,null,"2001-03-12",39.5,null,"2001-03-12",39.5]
[null,null,null,"2001-03-11",43,null,"2001-03-11",33]
[null,null,null,"2001-03-10",40.5,null,"2001-03-10",34]
[null,null,null,"2001-03-09",40,null,"2001-03-09",30.5]
[null,null,null,"2001-03-08",36,null,"2001-03-08",31]
[null,null,null,"2001-03-07",39.5,null,"2001-03-07",33]
[null,null,null,"2001-03-06",31,null,"2001-03-06",27.5]
[null,null,null,"2001-03-05",31,null,"2001-03-05",23]
[null,null,null,"2001-03-04",34.5,null,"2001-03-04",29.5]
[null,null,null,"2001-03-03",44,null,"2001-03-03",35.5]
[null,null,null,"2001-03-02",38.5,null,"2001-03-02",35]
[null,null,null,"2001-03-01",32,null,"2001-03-01",31]
[null,null,null,"2001-02-28",32.5,null,"2001-02-28",19.5]
[null,null,null,"2001-02-27",42,null,"2001-02-27",23]
[null,null,null,"2001-02-26",44,null,"2001-02-26",31]
[null,null,null,"2001-02-25",43.5,null,"2001-02-25",41.5]
[null,null,null,"2001-02-24",29.5,null,"2001-02-24",43]
[null,null,null,"2001-02-23",29.5,null,"2001-02-23",24]
[null,null,null,"2001-02-22",21,null,"2001-02-22",23]
[null,null,null,"2001-02-21",35,null,"2001-02-21",15]
[null,null,null,"2001-02-20",46.5,null,"2001-02-20",27]
[null,null,null,"2001-02-19",32.5,null,"2001-02-19",35]
[null,null,null,"2001-02-18",26,null,"2001-02-18",17.5]
[null,null,null,"2001-02-17",30,null,"2001-02-17",12.5]
[null,null,null,"2001-02-16",37,null,"2001-02-16",22.5]
[null,null,null,"2001-02-15",42.5,null,"2001-02-15",29]
[null,null,null,"2001-02-14",41,null,"2001-02-14",32.5]
[null,null,null,"2001-02-13",41.5,null,"2001-02-13",34.5]
[null,null,null,"2001-02-12",24.5,null,"2001-02-12",29]
[null,null,null,"2001-02-11",26.5,null,"2001-02-11",18.5]
[null,null,null,"2001-02-10",44,null,"2001-02-10",16]
[null,null,null,"2001-02-09",44,null,"2001-02-09",37]
[null,null,null,"2001-02-08",35,null,"2001-02-08",43.5]
[null,null,null,"2001-02-07",40.5,null,"2001-02-07",26]
[null,null,null,"2001-02-06",39,null,"2001-02-06",27.5]
[null,null,null,"2001-02-05",34.5,null,"2001-02-05",29]
[null,null,null,"2001-02-04",30.5,null,"2001-02-04",30]
[null,null,null,"2001-02-03",29.5,null,"2001-02-03",20]
[null,null,null,"2001-02-02",36,null,"2001-02-02",5]
[null,null,null,"2001-02-01",42,null,"2001-02-01",18]
[null,null,null,"2001-01-31",42,null,"2001-01-31",31]
[null,null,null,"2001-01-30",44.5,null,"2001-01-30",36]
[null,null,null,"2001-01-29",32,null,"2001-01-29",33.5]
[null,null,null,"2001-01-28",34,null,"2001-01-28",21.5]
[null,null,null,"2001-01-27",34.5,null,"2001-01-27",20.5]
[null,null,null,"2001-01-26",29,null,"2001-01-26",26]
[null,null,null,"2001-01-25",32,null,"2001-01-25",19]
[null,null,null,"2001-01-24",35,null,"2001-01-24",22]
[null,null,null,"2001-01-23",28,null,"2001-01-23",28]
[null,null,null,"2001-01-22",26.5,null,"2001-01-22",17.5]
[null,null,null,"2001-01-21",27.5,null,"2001-01-21",17]
[null,null,null,"2001-01-20",32.5,null,"2001-01-20",17.5]
[null,null,null,"2001-01-19",37.5,null,"2001-01-19",22]
[null,null,null,"2001-01-18",34.5,null,"2001-01-18",25]
[null,null,null,"2001-01-17",39,null,"2001-01-17",22.5]
[null,null,null,"2001-01-16",41,null,"2001-01-16",28.5]
[null,null,null,"2001-01-15",36.5,null,"2001-01-15",33]
[null,null,null,"2001-01-14",34,null,"2001-01-14",34]
[null,null,null,"2001-01-13",31.5,null,"2001-01-13",34]
[null,null,null,"2001-01-12",35,null,"2001-01-12",30]
[null,null,null,"2001-01-11",35.5,null,"2001-01-11",28.5]
[null,null,null,"2001-01-10",28,null,"2001-01-10",26]
[null,null,null,"2001-01-09",29.5,null,"2001-01-09",16.5]
[null,null,null,"2001-01-08",31,null,"2001-01-08",19]
[null,null,null,"2001-01-07",32,null,"2001-01-07",27.5]
[null,null,null,"2001-01-06",32.5,null,"2001-01-06",25]
[null,null,null,"2001-01-05",25.5,null,"2001-01-05",28.5]
[null,null,null,"2001-01-04",27,null,"2001-01-04",24.5]
[null,null,null,"2001-01-03",22,null,"2001-01-03",17.5]
[null,null,null,"2001-01-02",22.5,null,"2001-01-02",12]
[null,null,null,"2001-01-01",26,null,"2001-01-01",14.5]
[null,null,null,"2000-12-31",26,null,"2000-12-31",16]
[null,null,null,"2000-12-30",27.5,null,"2000-12-30",27]
[null,null,null,"2000-12-29",23.5,null,"2000-12-29",20.5]
[null,null,null,"2000-12-28",22.5,null,"2000-12-28",13]
[null,null,null,"2000-12-27",26,null,"2000-12-27",11.5]
[null,null,null,"2000-12-26",22,null,"2000-12-26",11]
[null,null,null,"2000-12-25",20.5,null,"2000-12-25",5]
[null,null,null,"2000-12-24",26,null,"2000-12-24",4.5]
[null,null,null,"2000-12-23",21.5,null,"2000-12-23",8]
[null,null,null,"2000-12-22",24.5,null,"2000-12-22",-1]
[null,null,null,"2000-12-21",27,null,"2000-12-21",6]
[null,null,null,"2000-12-20",30,null,"2000-12-20",6]
[null,null,null,"2000-12-19",33,null,"2000-12-19",13.5]
[null,null,null,"2000-12-18",30,null,"2000-12-18",7.5]
[null,null,null,"2000-12-17",48.5,null,"2000-12-17",7.5]
[null,null,null,"2000-12-16",43.5,null,"2000-12-16",25]
[null,null,null,"2000-12-15",36,null,"2000-12-15",17]
[null,null,null,"2000-12-14",40.5,null,"2000-12-14",16.5]
[null,null,null,"2000-12-13",26.5,null,"2000-12-13",8]
[null,null,null,"2000-12-12",39,null,"2000-12-12",3.5]
[null,null,null,"2000-12-11",38,null,"2000-12-11",23]
[null,null,null,"2000-12-10",33,null,"2000-12-10",29.5]
[null,null,null,"2000-12-09",31,null,"2000-12-09",16]
[null,null,null,"2000-12-08",28,null,"2000-12-08",18]
[null,null,null,"2000-12-07",31.5,null,"2000-12-07",25]
[null,null,null,"2000-12-06",29,null,"2000-12-06",15]
[null,null,null,"2000-12-05",37.5,null,"2000-12-05",20]
[null,null,null,"2000-12-04",34.5,null,"2000-12-04",31.5]
[null,null,null,"2000-12-03",27.5,null,"2000-12-03",28]
[null,null,null,"2000-12-02",30.5,null,"2000-12-02",31]
[null,null,null,"2000-12-01",37,null,"2000-12-01",33.5]
[null,null,null,"2000-11-30",41.5,null,"2000-11-30",34]
[null,null,null,"2000-11-29",43,null,"2000-11-29",34.5]
[null,null,null,"2000-11-28",46,null,"2000-11-28",33.5]
[null,null,null,"2000-11-27",48.5,null,"2000-11-27",33.5]
[null,null,null,"2000-11-26",49.5,null,"2000-11-26",39]
[null,null,null,"2000-11-25",34,null,"2000-11-25",37.5]
[null,null,null,"2000-11-24",30,null,"2000-11-24",32]
[null,null,null,"2000-11-23",31,null,"2000-11-23",28.5]
[null,null,null,"2000-11-22",32,null,"2000-11-22",22]
[null,null,null,"2000-11-21",35,null,"2000-11-21",19]
[null,null,null,"2000-11-20",35.5,null,"2000-11-20",23.5]
[null,null,null,"2000-11-19",35,null,"2000-11-19",30]
[null,null,null,"2000-11-18",40.5,null,"2000-11-18",26.5]
[null,null,null,"2000-11-17",46.5,null,"2000-11-17",29.5]
[null,null,null,"2000-11-16",43.5,null,"2000-11-16",36]
[null,null,null,"2000-11-15",42.5,null,"2000-11-15",30.5]
[null,null,null,"2000-11-14",47.5,null,"2000-11-14",32]
[null,null,null,"2000-11-13",46.5,null,"2000-11-13",36]
[null,null,null,"2000-11-12",48,null,"2000-11-12",44.5]
[null,null,null,"2000-11-11",53,null,"2000-11-11",37.5]
[null,null,null,"2000-11-10",57.5,null,"2000-11-10",37]
[null,null,null,"2000-11-09",55.5,null,"2000-11-09",39]
[null,null,null,"2000-11-08",52,null,"2000-11-08",40]
[null,null,null,"2000-11-07",49.5,null,"2000-11-07",48.5]
[null,null,null,"2000-11-06",49,null,"2000-11-06",49]
[null,null,null,"2000-11-05",48,null,"2000-11-05",45.5]
[null,null,null,"2000-11-04",60,null,"2000-11-04",45.5]
[null,null,null,"2000-11-03",55.5,null,"2000-11-03",48]
[null,null,null,"2000-11-02",53,null,"2000-11-02",55]
[null,null,null,"2000-11-01",51,null,"2000-11-01",63]
[null,null,null,"2000-10-31",50.5,null,"2000-10-31",58.5]
[null,null,null,"2000-10-30",43.5,null,"2000-10-30",49.5]
[null,null,null,"2000-10-29",43,null,"2000-10-29",46]
[null,null,null,"2000-10-28",53,null,"2000-10-28",49.5]
[null,null,null,"2000-10-27",60.5,null,"2000-10-27",61]
[null,null,null,"2000-10-26",61,null,"2000-10-26",67.5]
[null,null,null,"2000-10-25",61.5,null,"2000-10-25",62]
[null,null,null,"2000-10-24",57,null,"2000-10-24",59.5]
[null,null,null,"2000-10-23",50.5,null,"2000-10-23",64.5]
[null,null,null,"2000-10-22",56.5,null,"2000-10-22",58.5]
[null,null,null,"2000-10-21",61.5,null,"2000-10-21",58]
[null,null,null,"2000-10-20",55.5,null,"2000-10-20",66]
[null,null,null,"2000-10-19",58,null,"2000-10-19",61.5]
[null,null,null,"2000-10-18",56.5,null,"2000-10-18",54]
[null,null,null,"2000-10-17",55,null,"2000-10-17",51.5]
[null,null,null,"2000-10-16",58,null,"2000-10-16",50.5]
[null,null,null,"2000-10-15",67.5,null,"2000-10-15",54.5]
[null,null,null,"2000-10-14",66.5,null,"2000-10-14",67]
[null,null,null,"2000-10-13",62.5,null,"2000-10-13",66]
[null,null,null,"2000-10-12",58.5,null,"2000-10-12",58]
[null,null,null,"2000-10-11",56.5,null,"2000-10-11",53]
[null,null,null,"2000-10-10",44.5,null,"2000-10-10",49]
[null,null,null,"2000-10-09",44.5,null,"2000-10-09",43.5]
[null,null,null,"2000-10-08",47,null,"2000-10-08",38.5]
[null,null,null,"2000-10-07",54.5,null,"2000-10-07",39.5]
[null,null,null,"2000-10-06",64,null,"2000-10-06",41]
[null,null,null,"2000-10-05",61,null,"2000-10-05",51.5]
[null,null,null,"2000-10-04",65.5,null,"2000-10-04",56.5]
[null,null,null,"2000-10-03",69.5,null,"2000-10-03",58.5]
[null,null,null,"2000-10-02",63,null,"2000-10-02",68.5]
[null,null,null,"2000-10-01",59,null,"2000-10-01",72]
[null,null,null,"2000-09-30",55,null,"2000-09-30",65]
[null,null,null,"2000-09-29",51,null,"2000-09-29",60.5]
[null,null,null,"2000-09-28",59,null,"2000-09-28",54.5]
[null,null,null,"2000-09-27",57.5,null,"2000-09-27",58.5]
[null,null,null,"2000-09-26",52,null,"2000-09-26",55.5]
[null,null,null,"2000-09-25",58,null,"2000-09-25",49]
[null,null,null,"2000-09-24",67.5,null,"2000-09-24",52.5]
[null,null,null,"2000-09-23",62.5,null,"2000-09-23",62.5]
[null,null,null,"2000-09-22",62.5,null,"2000-09-22",58.5]
[null,null,null,"2000-09-21",69,null,"2000-09-21",54]
[null,null,null,"2000-09-20",73.5,null,"2000-09-20",57.5]
[null,null,null,"2000-09-19",68.5,null,"2000-09-19",74.5]
[null,null,null,"2000-09-18",65.5,null,"2000-09-18",68.5]
[null,null,null,"2000-09-17",60,null,"2000-09-17",67.5]
[null,null,null,"2000-09-16",61,null,"2000-09-16",55.5]
[null,null,null,"2000-09-15",67,null,"2000-09-15",55.5]
[null,null,null,"2000-09-14",68.5,null,"2000-09-14",64.5]
[null,null,null,"2000-09-13",73,null,"2000-09-13",63]
[null,null,null,"2000-09-12",77.5,null,"2000-09-12",62.5]
[null,null,null,"2000-09-11",72.5,null,"2000-09-11",75]
[null,null,null,"2000-09-10",74,null,"2000-09-10",76.5]
[null,null,null,"2000-09-09",75,null,"2000-09-09",76]
[null,null,null,"2000-09-08",66,null,"2000-09-08",74.5]
[null,null,null,"2000-09-07",62.5,null,"2000-09-07",73.5]
[null,null,null,"2000-09-06",60.5,null,"2000-09-06",61]
[null,null,null,"2000-09-05",60.5,null,"2000-09-05",62.5]
[null,null,null,"2000-09-04",72.5,null,"2000-09-04",65.5]
[null,null,null,"2000-09-03",79.5,null,"2000-09-03",77]
[null,null,null,"2000-09-02",81,null,"2000-09-02",79]
[null,null,null,"2000-09-01",79,null,"2000-09-01",80]
[null,null,null,"2000-08-31",78.5,null,"2000-08-31",80]
[null,null,null,"2000-08-30",73,null,"2000-08-30",77]
[null,null,null,"2000-08-29",73.5,null,"2000-08-29",76.5]
[null,null,null,"2000-08-28",76,null,"2000-08-28",74.5]
[null,null,null,"2000-08-27",73.5,null,"2000-08-27",71.5]
[null,null,null,"2000-08-26",74.5,null,"2000-08-26",73]
[null,null,null,"2000-08-25",73,null,"2000-08-25",70]
[null,null,null,"2000-08-24",75,null,"2000-08-24",71]
[null,null,null,"2000-08-23",69,null,"2000-08-23",75.5]
[null,null,null,"2000-08-22",69,null,"2000-08-22",75.5]
[null,null,null,"2000-08-21",66.5,null,"2000-08-21",67]
[null,null,null,"2000-08-20",67.5,null,"2000-08-20",65]
[null,null,null,"2000-08-19",69,null,"2000-08-19",64]
[null,null,null,"2000-08-18",66,null,"2000-08-18",66.5]
[null,null,null,"2000-08-17",69.5,null,"2000-08-17",67.5]
[null,null,null,"2000-08-16",76.5,null,"2000-08-16",69.5]
[null,null,null,"2000-08-15",73,null,"2000-08-15",81.5]
[null,null,null,"2000-08-14",66.5,null,"2000-08-14",75.5]
[null,null,null,"2000-08-13",67.5,null,"2000-08-13",73.5]
[null,null,null,"2000-08-12",70,null,"2000-08-12",71]
[null,null,null,"2000-08-11",75,null,"2000-08-11",71]
[null,null,null,"2000-08-10",79.5,null,"2000-08-10",73.5]
[null,null,null,"2000-08-09",81,null,"2000-08-09",78.5]
[null,null,null,"2000-08-08",82,null,"2000-08-08",77]
[null,null,null,"2000-08-07",83.5,null,"2000-08-07",75.5]
[null,null,null,"2000-08-06",70,null,"2000-08-06",78]
[null,null,null,"2000-08-05",73.5,null,"2000-08-05",66.5]
[null,null,null,"2000-08-04",75.5,null,"2000-08-04",67]
[null,null,null,"2000-08-03",76,null,"2000-08-03",63]
[null,null,null,"2000-08-02",80,null,"2000-08-02",76]
[null,null,null,"2000-08-01",72,null,"2000-08-01",72.5]
[null,null,null,"2000-07-31",74,null,"2000-07-31",70]
[null,null,null,"2000-07-30",73.5,null,"2000-07-30",71]
[null,null,null,"2000-07-29",70.5,null,"2000-07-29",73]
[null,null,null,"2000-07-28",70,null,"2000-07-28",74]
[null,null,null,"2000-07-27",67.5,null,"2000-07-27",76.5]
[null,null,null,"2000-07-26",67,null,"2000-07-26",72.5]
[null,null,null,"2000-07-25",72,null,"2000-07-25",69]
[null,null,null,"2000-07-24",72.5,null,"2000-07-24",66]
[null,null,null,"2000-07-23",73,null,"2000-07-23",62.5]
[null,null,null,"2000-07-22",73.5,null,"2000-07-22",62.5]
[null,null,null,"2000-07-21",72.5,null,"2000-07-21",66.5]
[null,null,null,"2000-07-20",70.5,null,"2000-07-20",67.5]
[null,null,null,"2000-07-19",66.5,null,"2000-07-19",62.5]
[null,null,null,"2000-07-18",80,null,"2000-07-18",66]
[null,null,null,"2000-07-17",75.5,null,"2000-07-17",76.5]
[null,null,null,"2000-07-16",72.5,null,"2000-07-16",73]
[null,null,null,"2000-07-15",68.5,null,"2000-07-15",73]
[null,null,null,"2000-07-14",73.5,null,"2000-07-14",77]
[null,null,null,"2000-07-13",75,null,"2000-07-13",75]
[null,null,null,"2000-07-12",78,null,"2000-07-12",72]
[null,null,null,"2000-07-11",77,null,"2000-07-11",68.5]
[null,null,null,"2000-07-10",82.49,null,"2000-07-10",73]
[null,null,null,"2000-07-09",73.5,null,"2000-07-09",80.5]
[null,null,null,"2000-07-08",71,null,"2000-07-08",72.5]
[null,null,null,"2000-07-07",73,null,"2000-07-07",70]
[null,null,null,"2000-07-06",72,null,"2000-07-06",73.5]
[null,null,null,"2000-07-05",79,null,"2000-07-05",75.5]
[null,null,null,"2000-07-04",79.5,null,"2000-07-04",70]
[null,null,null,"2000-07-03",79.5,null,"2000-07-03",68]
[null,null,null,"2000-07-02",76.5,null,"2000-07-02",74]
[null,null,null,"2000-07-01",75.5,null,"2000-07-01",71]
[null,null,null,"2000-06-30",73,null,"2000-06-30",66]
[null,null,null,"2000-06-29",70.5,null,"2000-06-29",65.5]
[null,null,null,"2000-06-28",74.5,null,"2000-06-28",62]
[null,null,null,"2000-06-27",81,null,"2000-06-27",68]
[null,null,null,"2000-06-26",83,null,"2000-06-26",72]
[null,null,null,"2000-06-25",82,null,"2000-06-25",75]
[null,null,null,"2000-06-24",75,null,"2000-06-24",70.5]
[null,null,null,"2000-06-23",74.5,null,"2000-06-23",71]
[null,null,null,"2000-06-22",78,null,"2000-06-22",71.5]
[null,null,null,"2000-06-21",75,null,"2000-06-21",73.5]
[null,null,null,"2000-06-20",72.5,null,"2000-06-20",73.5]
[null,null,null,"2000-06-19",67.5,null,"2000-06-19",66]
[null,null,null,"2000-06-18",69.5,null,"2000-06-18",64.5]
[null,null,null,"2000-06-17",82,null,"2000-06-17",60]
[null,null,null,"2000-06-16",78,null,"2000-06-16",67]
[null,null,null,"2000-06-15",67,null,"2000-06-15",69.5]
[null,null,null,"2000-06-14",58.5,null,"2000-06-14",72]
[null,null,null,"2000-06-13",59.5,null,"2000-06-13",69]
[null,null,null,"2000-06-12",66.5,null,"2000-06-12",56.5]
[null,null,null,"2000-06-11",84,null,"2000-06-11",69.5]
[null,null,null,"2000-06-10",82.5,null,"2000-06-10",80]
[null,null,null,"2000-06-09",78,null,"2000-06-09",77]
[null,null,null,"2000-06-08",69.5,null,"2000-06-08",77.5]
[null,null,null,"2000-06-07",63,null,"2000-06-07",63.5]
[null,null,null,"2000-06-06",56,null,"2000-06-06",59.5]
[null,null,null,"2000-06-05",65,null,"2000-06-05",54]
[null,null,null,"2000-06-04",65,null,"2000-06-04",56]
[null,null,null,"2000-06-03",68,null,"2000-06-03",54.5]
[null,null,null,"2000-06-02",81.5,null,"2000-06-02",60]
[null,null,null,"2000-06-01",72.95,null,"2000-06-01",72.5]
[null,null,null,"2000-05-31",61,null,"2000-05-31",66.5]
[null,null,null,"2000-05-30",58.5,null,"2000-05-30",64.5]
[null,null,null,"2000-05-29",60,null,"2000-05-29",55.5]
[null,null,null,"2000-05-28",62,null,"2000-05-28",55]
[null,null,null,"2000-05-27",62,null,"2000-05-27",59.5]
[null,null,null,"2000-05-26",68,null,"2000-05-26",61]
[null,null,null,"2000-05-25",68,null,"2000-05-25",63.5]
[null,null,null,"2000-05-24",69,null,"2000-05-24",68]
[null,null,null,"2000-05-23",58.5,null,"2000-05-23",69]
[null,null,null,"2000-05-22",55,null,"2000-05-22",66.5]
[null,null,null,"2000-05-21",54,null,"2000-05-21",56.5]
[null,null,null,"2000-05-20",49.5,null,"2000-05-20",55]
[null,null,null,"2000-05-19",56.5,null,"2000-05-19",46]
[null,null,null,"2000-05-18",71,null,"2000-05-18",57.5]
[null,null,null,"2000-05-17",64.5,null,"2000-05-17",60.5]
[null,null,null,"2000-05-16",60.5,null,"2000-05-16",61]
[null,null,null,"2000-05-15",59.5,null,"2000-05-15",56.5]
[null,null,null,"2000-05-14",64.5,null,"2000-05-14",51.5]
[null,null,null,"2000-05-13",65,null,"2000-05-13",52.5]
[null,null,null,"2000-05-12",63,null,"2000-05-12",72.5]
[null,null,null,"2000-05-11",65,null,"2000-05-11",67]
[null,null,null,"2000-05-10",66.5,null,"2000-05-10",55]
[null,null,null,"2000-05-09",83,null,"2000-05-09",59]
[null,null,null,"2000-05-08",81,null,"2000-05-08",75.5]
[null,null,null,"2000-05-07",80.5,null,"2000-05-07",70.5]
[null,null,null,"2000-05-06",76.5,null,"2000-05-06",74]
[null,null,null,"2000-05-05",73.5,null,"2000-05-05",74]
[null,null,null,"2000-05-04",60.5,null,"2000-05-04",72]
[null,null,null,"2000-05-03",56.5,null,"2000-05-03",62.5]
[null,null,null,"2000-05-02",61.5,null,"2000-05-02",57]
[null,null,null,"2000-05-01",56,null,"2000-05-01",56.5]
[null,null,null,"2000-04-30",57.5,null,"2000-04-30",54]
[null,null,null,"2000-04-29",55.5,null,"2000-04-29",48]
[null,null,null,"2000-04-28",53.5,null,"2000-04-28",53.5]
[null,null,null,"2000-04-27",45.5,null,"2000-04-27",53]
[null,null,null,"2000-04-26",44.5,null,"2000-04-26",51.5]
[null,null,null,"2000-04-25",52.5,null,"2000-04-25",49]
[null,null,null,"2000-04-24",57,null,"2000-04-24",52]
[null,null,null,"2000-04-23",49,null,"2000-04-23",46.5]
[null,null,null,"2000-04-22",48,null,"2000-04-22",48]
[null,null,null,"2000-04-21",48,null,"2000-04-21",43.5]
[null,null,null,"2000-04-20",55.5,null,"2000-04-20",53]
[null,null,null,"2000-04-19",52.5,null,"2000-04-19",52]
[null,null,null,"2000-04-18",43.5,null,"2000-04-18",47.5]
[null,null,null,"2000-04-17",47.5,null,"2000-04-17",40.5]
[null,null,null,"2000-04-16",64.5,null,"2000-04-16",44]
[null,null,null,"2000-04-15",54,null,"2000-04-15",56]
[null,null,null,"2000-04-14",45,null,"2000-04-14",58]
[null,null,null,"2000-04-13",43.5,null,"2000-04-13",48.5]
[null,null,null,"2000-04-12",46.5,null,"2000-04-12",39]
[null,null,null,"2000-04-11",41.5,null,"2000-04-11",34]
[null,null,null,"2000-04-10",46,null,"2000-04-10",36.5]
[null,null,null,"2000-04-09",40.5,null,"2000-04-09",45]
[null,null,null,"2000-04-08",64,null,"2000-04-08",34]
[null,null,null,"2000-04-07",58,null,"2000-04-07",41]
[null,null,null,"2000-04-06",54.5,null,"2000-04-06",53]
[null,null,null,"2000-04-05",43.5,null,"2000-04-05",44]
[null,null,null,"2000-04-04",57.5,null,"2000-04-04",37.5]
[null,null,null,"2000-04-03",63,null,"2000-04-03",51.5]
[null,null,null,"2000-04-02",57,null,"2000-04-02",50.5]
[null,null,null,"2000-04-01",52.5,null,"2000-04-01",52]
[null,null,null,"2000-03-31",49.5,null,"2000-03-31",44.5]
[null,null,null,"2000-03-30",50.5,null,"2000-03-30",37]
[null,null,null,"2000-03-29",50,null,"2000-03-29",40]
[null,null,null,"2000-03-28",53.5,null,"2000-03-28",38.5]
[null,null,null,"2000-03-27",49,null,"2000-03-27",46.94]
[null,null,null,"2000-03-26",58.5,null,"2000-03-26",51.98]
[null,null,null,"2000-03-25",58,null,"2000-03-25",52.5]
[null,null,null,"2000-03-24",57.5,null,"2000-03-24",57]
[null,null,null,"2000-03-23",50.5,null,"2000-03-23",50]
[null,null,null,"2000-03-22",45.5,null,"2000-03-22",51]
[null,null,null,"2000-03-21",41.5,null,"2000-03-21",46.5]
[null,null,null,"2000-03-20",40.5,null,"2000-03-20",48.5]
[null,null,null,"2000-03-19",35.5,null,"2000-03-19",39]
[null,null,null,"2000-03-18",30,null,"2000-03-18",34]
[null,null,null,"2000-03-17",40.5,null,"2000-03-17",31.5]
[null,null,null,"2000-03-16",58,null,"2000-03-16",32.5]
[null,null,null,"2000-03-15",53.5,null,"2000-03-15",49.5]
[null,null,null,"2000-03-14",46.5,null,"2000-03-14",45]
[null,null,null,"2000-03-13",40,null,"2000-03-13",39]
[null,null,null,"2000-03-12",42.5,null,"2000-03-12",33.5]
[null,null,null,"2000-03-11",42,null,"2000-03-11",29.5]
[null,null,null,"2000-03-10",53.5,null,"2000-03-10",30]
[null,null,null,"2000-03-09",60.5,null,"2000-03-09",45.5]
[null,null,null,"2000-03-08",57.5,null,"2000-03-08",67]
[null,null,null,"2000-03-07",50.5,null,"2000-03-07",65.5]
[null,null,null,"2000-03-06",46.5,null,"2000-03-06",51]
[null,null,null,"2000-03-05",50.5,null,"2000-03-05",51.5]
[null,null,null,"2000-03-04",44,null,"2000-03-04",45.5]
[null,null,null,"2000-03-03",42,null,"2000-03-03",35]
[null,null,null,"2000-03-02",42.5,null,"2000-03-02",32.5]
[null,null,null,"2000-03-01",41.5,null,"2000-03-01",46]
[null,null,null,"2000-02-29",45.5,null,"2000-02-29",54]
[null,null,null,"2000-02-28",49.5,null,"2000-02-28",42.5]
[null,null,null,"2000-02-27",49.5,null,"2000-02-27",45]
[null,null,null,"2000-02-26",42.5,null,"2000-02-26",56]
[null,null,null,"2000-02-25",48,null,"2000-02-25",55]
[null,null,null,"2000-02-24",54.5,null,"2000-02-24",49]
[null,null,null,"2000-02-23",45,null,"2000-02-23",58.5]
[null,null,null,"2000-02-22",41,null,"2000-02-22",49]
[null,null,null,"2000-02-21",36.5,null,"2000-02-21",34.5]
[null,null,null,"2000-02-20",35,null,"2000-02-20",26.5]
[null,null,null,"2000-02-19",32,null,"2000-02-19",29]
[null,null,null,"2000-02-18",32.5,null,"2000-02-18",30]
[null,null,null,"2000-02-17",33.5,null,"2000-02-17",26.5]
[null,null,null,"2000-02-16",42.5,null,"2000-02-16",28]
[null,null,null,"2000-02-15",38,null,"2000-02-15",31]
[null,null,null,"2000-02-14",46.5,null,"2000-02-14",26]
[null,null,null,"2000-02-13",31.5,null,"2000-02-13",30]
[null,null,null,"2000-02-12",28,null,"2000-02-12",24]
[null,null,null,"2000-02-11",40,null,"2000-02-11",23.5]
[null,null,null,"2000-02-10",41,null,"2000-02-10",35]
[null,null,null,"2000-02-09",34.5,null,"2000-02-09",40.5]
[null,null,null,"2000-02-08",26,null,"2000-02-08",21.5]
[null,null,null,"2000-02-07",35,null,"2000-02-07",25.5]
[null,null,null,"2000-02-06",32,null,"2000-02-06",23]
[null,null,null,"2000-02-05",30.5,null,"2000-02-05",21]
[null,null,null,"2000-02-04",28.5,null,"2000-02-04",24.5]
[null,null,null,"2000-02-03",27.5,null,"2000-02-03",33]
[null,null,null,"2000-02-02",26,null,"2000-02-02",21]
[null,null,null,"2000-02-01",31.5,null,"2000-02-01",24.5]
[null,null,null,"2000-01-31",33,null,"2000-01-31",19.5]
[null,null,null,"2000-01-30",28.5,null,"2000-01-30",36.5]
[null,null,null,"2000-01-29",26,null,"2000-01-29",27.5]
[null,null,null,"2000-01-28",18,null,"2000-01-28",20.5]
[null,null,null,"2000-01-27",17.5,null,"2000-01-27",20]
[null,null,null,"2000-01-26",27,null,"2000-01-26",14.5]
[null,null,null,"2000-01-25",27,null,"2000-01-25",17]
[null,null,null,"2000-01-24",32.5,null,"2000-01-24",6]
[null,null,null,"2000-01-23",23.5,null,"2000-01-23",15.5]
[null,null,null,"2000-01-22",14,null,"2000-01-22",17]
[null,null,null,"2000-01-21",16,null,"2000-01-21",5]
[null,null,null,"2000-01-20",26,null,"2000-01-20",9.5]
[null,null,null,"2000-01-19",21.5,null,"2000-01-19",20.5]
[null,null,null,"2000-01-18",12.5,null,"2000-01-18",24.5]
[null,null,null,"2000-01-17",14.5,null,"2000-01-17",22]
[null,null,null,"2000-01-16",35,null,"2000-01-16",31]
[null,null,null,"2000-01-15",22,null,"2000-01-15",34]
[null,null,null,"2000-01-14",18,null,"2000-01-14",19.5]
[null,null,null,"2000-01-13",29,null,"2000-01-13",25]
[null,null,null,"2000-01-12",42.5,null,"2000-01-12",31]
[null,null,null,"2000-01-11",45.5,null,"2000-01-11",33]
[null,null,null,"2000-01-10",51.5,null,"2000-01-10",41.5]
[null,null,null,"2000-01-09",43,null,"2000-01-09",39]
[null,null,null,"2000-01-08",34,null,"2000-01-08",37]
[null,null,null,"2000-01-07",41.5,null,"2000-01-07",25]
[null,null,null,"2000-01-06",34,null,"2000-01-06",33.5]
[null,null,null,"2000-01-05",38.5,null,"2000-01-05",19.5]
[null,null,null,"2000-01-04",58,null,"2000-01-04",28]
[null,null,null,"2000-01-03",57.5,null,"2000-01-03",35]
[null,null,null,"2000-01-02",49,null,"2000-01-02",47.5]
[null,null,null,"2000-01-01",40.5,null,"2000-01-01",41.5]

{"sheet":"Aug","index":2,"n_rows":535,"n_cols":33,"rows_kept":535,"cut":false,"hidden":false,"merged":[]}
[]
[null,null,"OLS Data",null,null,null,null,"Explanatory variables",null,null,null,null,null,null,"OLS fitted data",null,null,null,"Data projections",null,null,null,null,null,null,null,null,null,null,null,null,"Statistics"]
[]
[null,null,null,"Average",{"$f":"AVERAGE(E9:E535)","v":76.856944971537004},{"$f":"AVERAGE(F9:F535)","v":73.187950664136622},null,"π",{"$f":"PI()","v":3.1415926535897931},null,null,null,null,null,null,null,{"$f":"AVERAGE(Q9:Q535)","v":12.961790074806188}]
[null,null,null,"StDev",{"$f":"STDEV(E9:E535)","v":5.1224894771716389},{"$f":"STDEV(F9:F535)","v":5.2373662195528619},null,"p",1,null,null,null,null,null,null,null,{"$f":"SQRT(Q4)","v":3.6002486129163618}]
[]
[null,null,"August",null,null,null,null,{"$f":"'ols A'!D10","v":-1.7492439385307392},{"$f":"'ols A'!D11","v":3.1938681422955995},{"$f":"'ols A'!D12","v":0.80084974269388987},{"$f":"'ols A'!D13","v":-0.16513831703072412},{"$f":"'ols A'!D14","v":49.606298589895175},{"$f":"'ols A'!D15","v":-12.785552297580125},null,{"$f":"'ols A'!D9","v":27.772606618107716},{"$f":"SUM(P9:P535)","v":-4.6704684564247145E-10},null,null,null,null,{"$f":"SUM(U9:U39)","v":369.49436577780114}]
[null,"#","Year","Date","EWR: Aug","ORD",null,"Linear","Quadratic","EWR \nT[t-1]","EWR \nT[t-2]","Aug 1st","Aug 2nd",null,"EWR: Aug, fitted","res","res2",null,"Date","EWR: proj","CDD: µ","Ak","Bk","CDD: σ factor","CDD: σ","CDD: \nx=-μ/σ","CDD mean","CDD s2","CDD stdev","CDD cum: σ factor",null,"Statistics","Value"]
[null,1,2016,{"$f":"DATE(C9, 8, 31)","v":"2016-08-31"},{"$f":"VLOOKUP($D9, data!$D$5:$E$6326,2, FALSE)","v":83},{"$f":"VLOOKUP($D9, data!$G$5:$H$6326,2, FALSE)","v":69.5},null,{"$f":"B9/31","v":3.2258064516129031E-2},{"$f":"H9*H9","v":1.0405827263267429E-3},{"$f":"E10","v":76.5},{"$f":"E11","v":82.45},0,0,null,{"$f":"$O$7+SUMPRODUCT(H$7:M$7, H9:M9)","v":75.368853955202553},{"$f":"E9-O9","v":7.6311460447974468},{"$f":"P9*P9","v":58.234389957027716},null,"2017-08-31",{"$f":"$O$7+SUMPRODUCT(H$7:I$7, H9:I9) + $J$7*T10+$K$7*T11","v":75.949596251482888},{"$f":"T9-65","v":10.949596251482888},{"$f":"V10*$J$7+W10","v":-8.9826155211636666E-12},{"$f":"V10*$K$7","v":4.0204799935108071E-12},{"$f":"SQRT(SUMPRODUCT(V9:V$39, V9:V$39))","v":1.3959448631510973},{"$f":"X9*$AG$17","v":4.9067552571228683},{"$f":"-U9/Y9","v":-2.2315350323593086},{"$f":"U9*(1-NORMDIST(Z9, 0, 1, TRUE)) + Y9*NORMDIST(Z9, 0, 1, FALSE)","v":10.971508835734369},{"$f":"(U9*U9+Y9*Y9)*(1-NORMDIST(Z9, 0, 1, TRUE)) + 2*U9*Y9*NORMDIST(Z9, 0, 1, FALSE)","v":145.67842587466757},{"$f":"SQRT(AB9-AA9*AA9)","v":5.0303498627898868},{"$f":"SUM(V9:V$39)","v":2.7450764872934332},null,"Number of years",17]
[null,{"$f":"B9+1","v":2},{"$f":"C9","v":2016},{"$f":"D9-1","v":"2016-08-30"},{"$f":"VLOOKUP($D10, data!$D$5:$E$6326,2, FALSE)","v":76.5},{"$f":"VLOOKUP($D10, data!$G$5:$H$6326,2, FALSE)","v":77},null,6.4516129032258063E-2,{"$f":"H10*H10","v":4.1623309053069714E-3},{"$f":"E11","v":82.45},{"$f":"E12","v":79.5},0,0,null,{"$f":"$O$7+SUMPRODUCT(H$7:M$7, H10:M10)","v":80.574611187705358},{"$f":"E10-O10","v":-4.0746111877053579},{"$f":"P10*P10","v":16.602456330973666},null,{"$f":"S9-1","v":"2017-08-30"},75.845638860347762,{"$f":"T10-65","v":10.845638860347762},-2.434613641340909E-11,1.0514981561105345E-11,{"$f":"SQRT(SUMPRODUCT(V10:V$39, V10:V$39))","v":1.3959448631510973},{"$f":"X10*$AG$17","v":4.9067552571228683},-2.2103484465836645,10.86892148458133,143.4758947002621,{"$f":"SQRT(AB10-AA10*AA10)","v":5.0341275770751466},{"$f":"SUM(V10:V$39)","v":2.7450764873024163},null,"Cumulative projected CDD",{"$f":"SUM(AA9:AA39)","v":369.9765290773729}]
[null,{"$f":"B10+1","v":3},2016,{"$f":"D10-1","v":"2016-08-29"},{"$f":"VLOOKUP($D11, data!$D$5:$E$6326,2, FALSE)","v":82.45},{"$f":"VLOOKUP($D11, data!$G$5:$H$6326,2, FALSE)","v":78},null,9.6774193548387094E-2,9.3652445369406864E-3,79.5,79.55,0,0,null,78.164037727178481,4.2859622728215214,18.36947260404942,null,{"$f":"S10-1","v":"2017-08-29"},75.759927904895804,10.759927904895804,-6.3673784196002332E-11,2.6646997276305649E-11,{"$f":"SQRT(SUMPRODUCT(V11:V$39, V11:V$39))","v":1.3959448631510973},4.9067552571228683,-2.1928804965921636,10.784397391515908,141.67716083682936,5.0372545834704674,{"$f":"SUM(V11:V$39)","v":2.7450764873267621},null,"Variance on Aug 1st",{"$f":"SUMPRODUCT(L9:L535, Q9:Q535)/AG9","v":26.262975778546711}]
[null,4,2016,"2016-08-28",{"$f":"VLOOKUP($D12, data!$D$5:$E$6326,2, FALSE)","v":79.5},{"$f":"VLOOKUP($D12, data!$G$5:$H$6326,2, FALSE)","v":77},null,0.12903225806451613,1.6649323621227886E-2,79.55,85,0,0,null,77.270913550805432,2.2290864491945683,4.9688263979828484,null,"2017-08-28",75.692463385144151,10.692463385144151,-1.6136168610309837E-10,6.5552680600316227E-11,{"$f":"SQRT(SUMPRODUCT(V12:V$39, V12:V$39))","v":1.3959448631510973},4.9067552571228683,-2.1791311823882977,10.717904915334252,140.27227452898796,5.0397210989142884,{"$f":"SUM(V12:V$39)","v":2.7450764873904361},null,"StDev on Aug 1st",{"$f":"SQRT(AG11)","v":5.1247415328528234}]
[null,5,2016,"2016-08-27",{"$f":"VLOOKUP($D13, data!$D$5:$E$6326,2, FALSE)","v":79.55},{"$f":"VLOOKUP($D13, data!$G$5:$H$6326,2, FALSE)","v":75.47},null,0.16129032258064516,2.6014568158168574E-2,85,77.45,0,0,null,82.855823074416861,-3.305823074416864,10.928466199346966,null,"2017-08-27",75.643245301136446,10.643245301136446,-3.9695621088423774E-10,1.565405932442849E-10,{"$f":"SQRT(SUMPRODUCT(V13:V$39, V13:V$39))","v":1.3959448631510973},4.9067552571228683,-2.1691005039809617,10.669417649018648,139.25341900098971,5.0415221939211081,{"$f":"SUM(V13:V$39)","v":2.7450764875517977},null,"AR(1) coefficient",{"$f":"J7","v":0.80084974269388987}]
[null,6,2016,"2016-08-26",{"$f":"VLOOKUP($D14, data!$D$5:$E$6326,2, FALSE)","v":85},{"$f":"VLOOKUP($D14, data!$G$5:$H$6326,2, FALSE)","v":73.48},null,0.19354838709677419,3.7460978147762745E-2,77.45,76.459999999999994,0,0,null,76.953025551324259,8.0469744486757406,64.753797777640244,null,"2017-08-26",75.612273652980704,10.612273652980704,-9.4793622739391484E-10,3.6219827291439568E-10,{"$f":"SQRT(SUMPRODUCT(V14:V$39, V14:V$39))","v":1.3959448631510973},4.9067552571228683,-2.1627884613921688,10.638915464527644,138.61490081230531,5.0426559024922426,{"$f":"SUM(V14:V$39)","v":2.7450764879487539},null,"AR(2) coefficient",{"$f":"K7","v":-0.16513831703072412}]
[null,7,2016,"2016-08-25",{"$f":"VLOOKUP($D15, data!$D$5:$E$6326,2, FALSE)","v":77.45},{"$f":"VLOOKUP($D15, data!$G$5:$H$6326,2, FALSE)","v":76},null,0.22580645161290322,5.0988553590010401E-2,76.459999999999994,71.510000000000005,0,0,null,76.964397043783308,0.48560295621669525,0.23581023108639365,null,"2017-08-25",75.599548440936445,10.599548440936445,-2.1933024353579211E-9,8.0856946361235823E-10,{"$f":"SQRT(SUMPRODUCT(V15:V$39, V15:V$39))","v":1.3959448631510973},4.9067552571228683,-2.1601950546748099,10.626385313566457,138.35314152863438,5.0431217213402153,{"$f":"SUM(V15:V$39)","v":2.7450764888966903},null,"AR(1) cumulative",{"$f":"1/(1-AG13)","v":5.0213342102938823}]
[null,8,2016,"2016-08-24",{"$f":"VLOOKUP($D16, data!$D$5:$E$6326,2, FALSE)","v":76.459999999999994},{"$f":"VLOOKUP($D16, data!$G$5:$H$6326,2, FALSE)","v":77},null,0.25806451612903225,6.6597294484911543E-2,71.510000000000005,73.94,0,0,null,72.592329743525909,3.867670256474085,14.958873212814314,null,"2017-08-24",75.605069665607999,10.605069665607999,-4.8963164827574404E-9,1.7279113600062263E-9,{"$f":"SQRT(SUMPRODUCT(V16:V$39, V16:V$39))","v":1.3959448631510973},4.9067552571228683,-2.1613202839520476,10.631821748590975,138.46667190751847,5.0429196120606985,{"$f":"SUM(V16:V$39)","v":2.7450764910899927},null,"Variance on days other than Aug 1st",{"$f":"(SUM(Q9:Q533) - AG11*AG9) / (30*AG9)","v":12.355270642189929}]
[null,9,2016,"2016-08-23",{"$f":"VLOOKUP($D17, data!$D$5:$E$6326,2, FALSE)","v":71.510000000000005},{"$f":"VLOOKUP($D17, data!$G$5:$H$6326,2, FALSE)","v":70.5},null,0.29032258064516131,8.4287200832466186E-2,73.94,80.510000000000005,0,0,null,73.453507879880263,-1.9435078798802579,3.7772228791566547,null,"2017-08-23",75.62883732835482,10.62883732835482,-1.0463418733307951E-8,3.48330971751066E-9,{"$f":"SQRT(SUMPRODUCT(V17:V$39, V17:V$39))","v":1.3959448631510973},4.9067552571228683,-2.1661641495009389,10.655227141039422,138.95612938515347,5.0420495790908628,{"$f":"SUM(V17:V$39)","v":2.745076495986309},null,"StDev on days other than Aug 1st",{"$f":"SQRT(AG16)","v":3.5150064924819029}]
[null,10,2016,"2016-08-22",{"$f":"VLOOKUP($D18, data!$D$5:$E$6326,2, FALSE)","v":73.94},{"$f":"VLOOKUP($D18, data!$G$5:$H$6326,2, FALSE)","v":67},null,0.32258064516129031,0.1040582726326743,80.510000000000005,79.52,0,0,null,78.885296595777689,-4.9452965957776911,24.455958420210422,null,"2017-08-22",75.670851432109927,10.670851432109927,-2.1093285799095234E-8,6.429133771466148E-9,{"$f":"SQRT(SUMPRODUCT(V18:V$39, V18:V$39))","v":1.3959448631510973},4.9067552571228683,-2.1747266519192365,10.696611587353727,139.82425919753416,5.0405118536537667,{"$f":"SUM(V18:V$39)","v":2.7450765064497276},null,"Cumulative CDD StDev",{"$f":"AG17*SQRT(SUMPRODUCT(AD9:AD39, AD9:AD39))","v":51.939664944166097}]
[null,11,2016,"2016-08-21",{"$f":"VLOOKUP($D19, data!$D$5:$E$6326,2, FALSE)","v":80.510000000000005},{"$f":"VLOOKUP($D19, data!$G$5:$H$6326,2, FALSE)","v":67},null,0.35483870967741937,0.12591050988553593,79.52,82,0,0,null,77.696278264850775,2.8137217351492296,7.9170300028511917,null,"2017-08-21",75.731111982864945,10.731111982864945,-3.8931811145138424E-8,1.0085245139095988E-8,{"$f":"SQRT(SUMPRODUCT(V19:V$39, V19:V$39))","v":1.3959448631510971},4.9067552571228674,-2.1870077924280364,10.755992507233984,141.07591899884264,5.0383076705545724,{"$f":"SUM(V19:V$39)","v":2.7450765275430138}]
[null,12,2016,"2016-08-20",{"$f":"VLOOKUP($D20, data!$D$5:$E$6326,2, FALSE)","v":79.52},{"$f":"VLOOKUP($D20, data!$G$5:$H$6326,2, FALSE)","v":71.5},null,0.38709677419354838,0.14984391259105098,82,80.05,0,0,null,80.024418253555837,-0.50441825355584058,0.25443777452032429,null,"2017-08-20",75.809618991915954,10.809618991915954,-6.1071502486122703E-8,9.9772859068021981E-9,{"$f":"SQRT(SUMPRODUCT(V20:V$39, V20:V$39))","v":1.3959448631510967},4.9067552571228665,-2.2030075733294878,10.833393952082323,142.71808637251539,5.0354405816672605,{"$f":"SUM(V20:V$39)","v":2.7450765664748249}]
[null,13,2016,"2016-08-19",{"$f":"VLOOKUP($D21, data!$D$5:$E$6326,2, FALSE)","v":82},{"$f":"VLOOKUP($D21, data!$G$5:$H$6326,2, FALSE)","v":75},null,0.41935483870967744,0.17585848074921959,80.05,82,0,0,null,78.167401413745225,3.8325985862547753,14.688811923362103,null,"2017-08-19",75.906372477761508,10.906372477761508,-6.0417752137718074E-8,-1.2685961232487965E-8,{"$f":"SQRT(SUMPRODUCT(V21:V$39, V21:V$39))","v":1.3959448631510951},4.9067552571228612,-2.2227259983936105,10.928845653468699,144.75986817256216,5.0319182083198148,{"$f":"SUM(V21:V$39)","v":2.745076627546327}]
[null,14,2016,"2016-08-18",{"$f":"VLOOKUP($D22, data!$D$5:$E$6326,2, FALSE)","v":80.05},{"$f":"VLOOKUP($D22, data!$G$5:$H$6326,2, FALSE)","v":77.45},null,0.45161290322580644,0.2039542143600416,82,85.01,0,0,null,79.265298922426283,0.78470107757371466,0.6157557811453489,null,"2017-08-18",76.021372461707713,11.021372461707713,7.6820216292550263E-8,-1.2193920258929592E-7,{"$f":"SQRT(SUMPRODUCT(V22:V$39, V22:V$39))","v":1.395944863151094},4.9067552571228568,-2.2461630719626,11.04238184863101,147.21251015179786,5.0277542959876484,{"$f":"SUM(V22:V$39)","v":2.7450766879640796}]
[null,15,2016,"2016-08-17",{"$f":"VLOOKUP($D23, data!$D$5:$E$6326,2, FALSE)","v":82},{"$f":"VLOOKUP($D23, data!$G$5:$H$6326,2, FALSE)","v":79},null,0.4838709677419355,0.2341311134235172,85.01,85.45,0,0,null,81.64314960116991,0.3568503988300904,0.12734220714519459,null,"2017-08-17",76.154618935061592,11.154618935061592,7.384064751405273E-7,-5.1453241932724321E-7,{"$f":"SQRT(SUMPRODUCT(V23:V$39, V23:V$39))","v":1.3959448631510918},4.9067552571228488,-2.2733187922648241,11.17403991434549,150.08940467765007,5.0229709007980414,{"$f":"SUM(V23:V$39)","v":2.7450766111438631}]
[null,16,2016,"2016-08-16",{"$f":"VLOOKUP($D24, data!$D$5:$E$6326,2, FALSE)","v":85.01},{"$f":"VLOOKUP($D24, data!$G$5:$H$6326,2, FALSE)","v":79.55},null,0.5161290322580645,0.26638917793964617,85.45,88.5,0,0,null,81.53845240177813,3.4715475982218749,12.051642726720068,null,"2017-08-16",76.306111726646236,11.306111726646236,3.1157663986094395E-6,-1.7568542434801103E-6,{"$f":"SQRT(SUMPRODUCT(V24:V$39, V24:V$39))","v":1.3959448631508964},4.9067552571221622,-2.3041931244146321,11.323858799924347,153.40609301226507,5.0176005113640718,{"$f":"SUM(V24:V$39)","v":2.7450758727373881}]
[null,17,2016,"2016-08-15",{"$f":"VLOOKUP($D25, data!$D$5:$E$6326,2, FALSE)","v":85.45},{"$f":"VLOOKUP($D25, data!$G$5:$H$6326,2, FALSE)","v":72.5},null,0.54838709677419351,0.3007284079084287,88.5,88.5,0,0,null,84.034291865799162,1.4157081342008411,2.0042295212424266,null,"2017-08-15",76.475850058967936,11.475850058967936,1.0638683226699265E-5,-5.4042203260944688E-6,{"$f":"SQRT(SUMPRODUCT(V25:V$39, V25:V$39))","v":1.3959448631474192},4.90675525710994,-2.3387859099634749,11.491877116052041,157.18025521692275,5.0116878959570261,{"$f":"SUM(V25:V$39)","v":2.7450727569709894}]
[null,18,2016,"2016-08-14",{"$f":"VLOOKUP($D26, data!$D$5:$E$6326,2, FALSE)","v":88.5},{"$f":"VLOOKUP($D26, data!$G$5:$H$6326,2, FALSE)","v":76},null,0.58064516129032262,0.33714880332986474,88.5,85.5,0,0,null,84.589601533734083,3.9103984662659172,15.291216164974838,null,"2017-08-14",76.663831198083543,11.663831198083543,3.2725417233657586E-5,-1.5569458744425601E-5,{"$f":"SQRT(SUMPRODUCT(V26:V$39, V26:V$39))","v":1.3959448631068798},4.9067552569674433,-2.3770965917897082,11.678130357018704,161.43167134553448,5.0052914710346963,{"$f":"SUM(V26:V$39)","v":2.7450621182877626}]
[null,19,2016,"2016-08-13",{"$f":"VLOOKUP($D27, data!$D$5:$E$6326,2, FALSE)","v":88.5},{"$f":"VLOOKUP($D27, data!$G$5:$H$6326,2, FALSE)","v":77.95},null,0.61290322580645162,0.3756503642039542,85.5,85.5,0,0,null,82.253593990533261,6.2464060094667389,39.017588035102186,null,"2017-08-13",76.870046593682432,11.870046593682432,9.4281321406036186E-5,-4.2779754755206418E-5,{"$f":"SQRT(SUMPRODUCT(V27:V$39, V27:V$39))","v":1.3959448627232856},4.9067552556191076,-2.4191234278679614,11.88264572771077,166.18211202673703,4.9984840238270252,{"$f":"SUM(V27:V$39)","v":2.7450293928705287}]
[null,20,2016,"2016-08-12",{"$f":"VLOOKUP($D28, data!$D$5:$E$6326,2, FALSE)","v":85.5},{"$f":"VLOOKUP($D28, data!$G$5:$H$6326,2, FALSE)","v":78.5},null,0.64516129032258063,0.41623309053069718,85.5,82.49,0,0,null,82.823848977714647,2.6761510222853531,7.1617842940789407,null,"2017-08-12",77.094471335913212,12.094471335913212,2.5905407978238755E-4,-1.131820717314913E-4,{"$f":"SQRT(SUMPRODUCT(V28:V$39, V28:V$39))","v":1.3959448595394321},4.9067552444278419,-2.464861345926681,12.10543047835376,171.45504889533868,4.9913527053377544,{"$f":"SUM(V28:V$39)","v":2.7449351115491227}]
[null,21,2016,"2016-08-11",{"$f":"VLOOKUP($D29, data!$D$5:$E$6326,2, FALSE)","v":85.5},{"$f":"VLOOKUP($D29, data!$G$5:$H$6326,2, FALSE)","v":82.49},null,0.67741935483870963,0.45889698231009357,82.49,77.55,0,0,null,81.308910159294811,4.1910898407051889,17.565234052862245,null,"2017-08-11",77.337036399381518,12.337036399381518,6.8537740826336315E-4,-2.8983024127353195E-4,{"$f":"SQRT(SUMPRODUCT(V29:V$39, V29:V$39))","v":1.3959448355023019},4.9067551599371733,-2.5142963113609857,12.346443296449699,177.27490163579535,4.9839983510578767,{"$f":"SUM(V29:V$39)","v":2.7446760574693405}]
[null,22,2016,"2016-08-10",{"$f":"VLOOKUP($D30, data!$D$5:$E$6326,2, FALSE)","v":82.49},{"$f":"VLOOKUP($D30, data!$G$5:$H$6326,2, FALSE)","v":79.069999999999993},null,0.70967741935483875,0.5036420395421437,77.55,78.08,0,0,null,77.351671711355777,5.1383282886442174,26.402417601881414,null,"2017-08-10",77.597557882988838,12.597557882988838,1.7550756631461175E-3,-7.2017448497551306E-4,{"$f":"SQRT(SUMPRODUCT(V30:V$39, V30:V$39))","v":1.3959446672498723},4.9067545685287905,-2.5673910742933304,12.605523048082981,183.66510488332045,4.976534292815554,{"$f":"SUM(V30:V$39)","v":2.7439906800610769}]
[null,23,2016,"2016-08-09",{"$f":"VLOOKUP($D31, data!$D$5:$E$6326,2, FALSE)","v":77.55},{"$f":"VLOOKUP($D31, data!$G$5:$H$6326,2, FALSE)","v":77.45},null,0.74193548387096775,0.55046826222684708,78.08,80.08,0,0,null,77.538974997955236,1.1025002044760868E-2,1.2155067008698132E-4,null,"2017-08-09",77.875561930912482,12.875561930912482,4.361038055398881E-3,-1.7374605413983382E-3,{"$f":"SQRT(SUMPRODUCT(V31:V$39, V31:V$39))","v":1.3959435639497657},4.9067506904217533,-2.6240505669151455,12.88221363870063,190.64322514914829,4.9690841123917142,{"$f":"SUM(V31:V$39)","v":2.7422356043979312}]
[null,24,2016,"2016-08-08",{"$f":"VLOOKUP($D32, data!$D$5:$E$6326,2, FALSE)","v":78.08},{"$f":"VLOOKUP($D32, data!$G$5:$H$6326,2, FALSE)","v":78},null,0.77419354838709675,0.59937565036420393,80.08,81.5,0,0,null,79.005954598230602,-0.92595459823060366,0.85739191798439862,null,"2017-08-08",78.169864164997946,13.169864164997946,1.0521244085799191E-2,-4.0648975635330115E-3,{"$f":"SQRT(SUMPRODUCT(V32:V$39, V32:V$39))","v":1.3959367518193124},4.9067267457389816,-2.6840427126769799,13.175343874972237,198.20886356263486,4.9617715927747446,{"$f":"SUM(V32:V$39)","v":2.7378745663425321}]
[null,25,2016,"2016-08-07",{"$f":"VLOOKUP($D33, data!$D$5:$E$6326,2, FALSE)","v":80.08},{"$f":"VLOOKUP($D33, data!$G$5:$H$6326,2, FALSE)","v":72.5},null,0.80645161290322576,0.65036420395421424,81.5,75.47,0,0,null,81.245368777660502,-1.165368777660504,1.358084387945937,null,"2017-08-07",78.477590309146663,13.477590309146663,2.4615108332348659E-2,-9.1917590885444555E-3,{"$f":"SQRT(SUMPRODUCT(V33:V$39, V33:V$39))","v":1.3958971016886381},4.9065873752722338,-2.7468358919011164,13.48204886401207,206.31429872538956,4.9546601451341168,{"$f":"SUM(V33:V$39)","v":2.7273533222567332}]
[null,26,2016,"2016-08-06",{"$f":"VLOOKUP($D34, data!$D$5:$E$6326,2, FALSE)","v":81.5},{"$f":"VLOOKUP($D34, data!$G$5:$H$6326,2, FALSE)","v":75},null,0.83870967741935487,0.70343392299687835,75.47,72.5,0,0,null,77.019776091944948,4.4802239080550521,20.072406266308082,null,"2017-08-06",78.791973398916042,13.791973398916042,5.5660971080590108E-2,-1.9960966035633972E-2,{"$f":"SQRT(SUMPRODUCT(V34:V$39, V34:V$39))","v":1.3956800546488177},4.9058244535180915,-2.8113467021889598,13.795567398766579,214.79463113740493,4.9474186484967753,{"$f":"SUM(V34:V$39)","v":2.7027382139243841}]
[null,27,2016,"2016-08-05",{"$f":"VLOOKUP($D35, data!$D$5:$E$6326,2, FALSE)","v":75.47},{"$f":"VLOOKUP($D35, data!$G$5:$H$6326,2, FALSE)","v":78.98},null,0.87096774193548387,0.75858480749219559,72.5,72.5,0,0,null,74.760969785329536,0.70903021467046301,0.50272384531564285,null,"2017-08-05",79.097601834624967,14.097601834624967,0.12087422467748787,-4.1141120650699484E-2,{"$f":"SQRT(SUMPRODUCT(V35:V$39, V35:V$39))","v":1.3945697082766757},4.9019215788111081,-2.8759337757590444,14.100485838316565,223.20443069048483,4.9376846612474967,{"$f":"SUM(V35:V$39)","v":2.6470772428437943}]
[null,28,2016,"2016-08-04",{"$f":"VLOOKUP($D36, data!$D$5:$E$6326,2, FALSE)","v":72.5},{"$f":"VLOOKUP($D36, data!$G$5:$H$6326,2, FALSE)","v":80.510000000000005},null,0.90322580645161288,0.81581685744016641,72.5,73.489999999999995,0,0,null,74.72384724869265,-2.2238472486926497,4.9454965855178674,null,"2017-08-04",79.360713547622126,14.360713547622126,0.24913128213027108,-7.8642498513538606E-2,{"$f":"SQRT(SUMPRODUCT(V36:V$39, V36:V$39))","v":1.3893214505835245},4.8834739189454641,-2.9406757947267126,14.363011300358545,230.44305337385669,4.9139556122974319,{"$f":"SUM(V36:V$39)","v":2.5262030181663064}]
[null,29,2016,"2016-08-03",{"$f":"VLOOKUP($D37, data!$D$5:$E$6326,2, FALSE)","v":72.5},{"$f":"VLOOKUP($D37, data!$G$5:$H$6326,2, FALSE)","v":79.52},null,0.93548387096774188,0.8751300728407907,73.489999999999995,75,0,0,null,75.400341000504795,-2.9003410005047954,8.4119779192091571,null,"2017-08-03",{"$f":"$O$7+SUMPRODUCT(H$7:I$7, H37:I37) + $J$7*T38+$K$7*T39","v":79.510902441247666},14.510902441247666,0.47622199334214543,-0.13225097870295743,{"$f":"SQRT(SUMPRODUCT(V37:V$39, V37:V$39))","v":1.3668019963826641},4.8043178912222908,-3.0203876533148963,14.512610547299643,233.93398635417134,4.8288840798447934,{"$f":"SUM(V37:V$39)","v":2.2770717360360351}]
[null,30,2016,"2016-08-02",{"$f":"VLOOKUP($D38, data!$D$5:$E$6326,2, FALSE)","v":73.489999999999995},{"$f":"VLOOKUP($D38, data!$G$5:$H$6326,2, FALSE)","v":77},null,0.967741935483871,0.93652445369406878,75,0,0,1,null,76.349103924996442,-2.8591039249964467,8.1744752539300869,null,"2017-08-02",{"$f":"O7 + M7 + SUMPRODUCT(H7:I7, H38:I38) + J7*T39","v":79.411176470593162},14.411176470593162,{"$f":"J7","v":0.80084974269388987},{"$f":"K7","v":-0.16513831703072412},{"$f":"SQRT(SUMPRODUCT(V38:V$39, V38:V$39))","v":1.2811558493691817},4.5032711284138403,-3.2001574099468275,14.412010200208455,228.11418926741425,4.5175381853949723,{"$f":"SUM(V38:V$39)","v":1.8008497426938899}]
[null,31,2016,"2016-08-01",{"$f":"VLOOKUP($D39, data!$D$5:$E$6326,2, FALSE)","v":75},{"$f":"VLOOKUP($D39, data!$G$5:$H$6326,2, FALSE)","v":74.48},null,1,1,0,0,1,0,null,78.823529411767751,-3.8235294117677512,14.619377162653045,null,"2017-08-01",{"$f":"O7 + L7 + SUMPRODUCT(H7:I7, H39:I39)","v":78.823529411767751},13.823529411767751,1,null,{"$f":"SQRT(SUMPRODUCT(V39:V$39, V39:V$39))","v":1},3.5150064924819029,-3.9327180309152507,13.823563184121586,203.45367577601644,3.5160740422543326,{"$f":"SUM(V39:V$39)","v":1}]
[null,32,{"$f":"C9-1","v":2015},{"$f":"DATE(C40, 8, 31)","v":"2015-08-31"},{"$f":"VLOOKUP($D40, data!$D$5:$E$6326,2, FALSE)","v":84.5},{"$f":"VLOOKUP($D40, data!$G$5:$H$6326,2, FALSE)","v":72.5},null,{"$f":"H9","v":3.2258064516129031E-2},{"$f":"I9","v":1.0405827263267429E-3},{"$f":"E41","v":79},{"$f":"E42","v":75.5},0,0,null,78.518689615300815,5.9813103846991851,35.776073918110313]
[null,33,2015,{"$f":"D40-1","v":"2015-08-30"},{"$f":"VLOOKUP($D41, data!$D$5:$E$6326,2, FALSE)","v":79},{"$f":"VLOOKUP($D41, data!$G$5:$H$6326,2, FALSE)","v":69.5},null,{"$f":"H10","v":6.4516129032258063E-2},4.1623309053069714E-3,{"$f":"E42","v":75.5},{"$f":"E43","v":73},0,0,null,76.08210453668255,2.9178954633174499,8.5141139348485559]
[null,34,2015,"2015-08-29",{"$f":"VLOOKUP($D42, data!$D$5:$E$6326,2, FALSE)","v":75.5},{"$f":"VLOOKUP($D42, data!$G$5:$H$6326,2, FALSE)","v":66.5},null,{"$f":"H11","v":9.6774193548387094E-2},9.3652445369406864E-3,73,74,0,0,null,73.875032059188726,1.624967940811274,2.6405208086644323]
[null,35,2015,"2015-08-28",{"$f":"VLOOKUP($D43, data!$D$5:$E$6326,2, FALSE)","v":73},{"$f":"VLOOKUP($D43, data!$G$5:$H$6326,2, FALSE)","v":64},null,{"$f":"H12","v":0.12903225806451613},1.6649323621227886E-2,74,75.5,0,0,null,74.395011490646226,-1.3950114906462261,1.9460570590350057]
[null,36,2015,"2015-08-27",{"$f":"VLOOKUP($D44, data!$D$5:$E$6326,2, FALSE)","v":74},{"$f":"VLOOKUP($D44, data!$G$5:$H$6326,2, FALSE)","v":63.5},null,{"$f":"H13","v":0.16129032258064516},2.6014568158168574E-2,75.5,83,0,0,null,74.331232859304393,-0.33123285930439295,0.10971520708296377]
[null,37,2015,"2015-08-26",{"$f":"VLOOKUP($D45, data!$D$5:$E$6326,2, FALSE)","v":75.5},{"$f":"VLOOKUP($D45, data!$G$5:$H$6326,2, FALSE)","v":61.5},null,{"$f":"H14","v":0.19354838709677419},3.7460978147762745E-2,83,78.5,0,0,null,81.060859456532654,-5.5608594565326541,30.923157895308645]
[null,38,2015,"2015-08-25",{"$f":"VLOOKUP($D46, data!$D$5:$E$6326,2, FALSE)","v":83},{"$f":"VLOOKUP($D46, data!$G$5:$H$6326,2, FALSE)","v":65.5},null,{"$f":"H15","v":0.22580645161290322},5.0988553590010401E-2,78.5,75,0,0,null,78.021797792441618,4.9782022075583825,24.782497219339152]
[null,39,2015,"2015-08-24",{"$f":"VLOOKUP($D47, data!$D$5:$E$6326,2, FALSE)","v":78.5},{"$f":"VLOOKUP($D47, data!$G$5:$H$6326,2, FALSE)","v":65},null,{"$f":"H16","v":0.25806451612903225},6.6597294484911543E-2,75,77.5,0,0,null,74.79940293689819,3.7005970631018101,13.694418623437743]
[null,40,2015,"2015-08-23",{"$f":"VLOOKUP($D48, data!$D$5:$E$6326,2, FALSE)","v":75},{"$f":"VLOOKUP($D48, data!$G$5:$H$6326,2, FALSE)","v":69},null,{"$f":"H17","v":0.29032258064516131},8.4287200832466186E-2,77.5,80.5,0,0,null,76.306184347040812,-1.3061843470408121,1.7061175484544326]
[null,41,2015,"2015-08-22",{"$f":"VLOOKUP($D49, data!$D$5:$E$6326,2, FALSE)","v":77.5},{"$f":"VLOOKUP($D49, data!$G$5:$H$6326,2, FALSE)","v":70.5},null,{"$f":"H18","v":0.32258064516129031},0.1040582726326743,80.5,81.5,0,0,null,78.550314230629908,-1.0503142306299083,1.103159983063696]
[null,42,2015,"2015-08-21",{"$f":"VLOOKUP($D50, data!$D$5:$E$6326,2, FALSE)","v":80.5},{"$f":"VLOOKUP($D50, data!$G$5:$H$6326,2, FALSE)","v":68.5},null,{"$f":"H19","v":0.35483870967741937},0.12591050988553593,81.5,81,0,0,null,79.447099072415412,1.052900927584588,1.1086003633084858]
[null,43,2015,"2015-08-20",{"$f":"VLOOKUP($D51, data!$D$5:$E$6326,2, FALSE)","v":81.5},{"$f":"VLOOKUP($D51, data!$G$5:$H$6326,2, FALSE)","v":66.5},null,{"$f":"H20","v":0.38709677419354838},0.14984391259105098,81,84,0,0,null,78.571272158590574,2.928727841409426,8.5774467690467162]
[null,44,2015,"2015-08-19",{"$f":"VLOOKUP($D52, data!$D$5:$E$6326,2, FALSE)","v":81},{"$f":"VLOOKUP($D52, data!$G$5:$H$6326,2, FALSE)","v":68.5},null,{"$f":"H21","v":0.41935483870967744},0.17585848074921959,84,85,0,0,null,80.83534294629392,0.16465705370607964,2.7111945335166796E-2]
[null,45,2015,"2015-08-18",{"$f":"VLOOKUP($D53, data!$D$5:$E$6326,2, FALSE)","v":84},{"$f":"VLOOKUP($D53, data!$G$5:$H$6326,2, FALSE)","v":75},null,{"$f":"H22","v":0.45161290322580644},0.2039542143600416,85,84,0,0,null,81.834637850708987,2.1653621492910133,4.688793237582197]
[null,46,2015,"2015-08-17",{"$f":"VLOOKUP($D54, data!$D$5:$E$6326,2, FALSE)","v":85},{"$f":"VLOOKUP($D54, data!$G$5:$H$6326,2, FALSE)","v":78},null,{"$f":"H23","v":0.4838709677419355},0.2341311134235172,84,81,0,0,null,81.569156871835801,3.4308431281641987,11.770684570071504]
[null,47,2015,"2015-08-16",{"$f":"VLOOKUP($D55, data!$D$5:$E$6326,2, FALSE)","v":84},{"$f":"VLOOKUP($D55, data!$G$5:$H$6326,2, FALSE)","v":80},null,{"$f":"H24","v":0.5161290322580645},0.26638917793964617,81,76.5,0,0,null,79.956330851158981,4.043669148841019,16.351260185288652]
[null,48,2015,"2015-08-15",{"$f":"VLOOKUP($D56, data!$D$5:$E$6326,2, FALSE)","v":81},{"$f":"VLOOKUP($D56, data!$G$5:$H$6326,2, FALSE)","v":79.5},null,{"$f":"H25","v":0.54838709677419351},0.3007284079084287,76.5,76.5,0,0,null,76.40575475784118,4.59424524215882,21.107089345098956]
[null,49,2015,"2015-08-14",{"$f":"VLOOKUP($D57, data!$D$5:$E$6326,2, FALSE)","v":76.5},{"$f":"VLOOKUP($D57, data!$G$5:$H$6326,2, FALSE)","v":78.5},null,{"$f":"H26","v":0.58064516129032262},0.33714880332986474,76.5,78,0,0,null,76.21794199913785,0.28205800086215049,7.9556715850352885E-2]
[null,50,2015,"2015-08-13",{"$f":"VLOOKUP($D58, data!$D$5:$E$6326,2, FALSE)","v":76.5},{"$f":"VLOOKUP($D58, data!$G$5:$H$6326,2, FALSE)","v":75},null,{"$f":"H27","v":0.61290322580645162},0.3756503642039542,78,76.5,0,0,null,77.733465773605602,-1.2334657736056016,1.5214378146564653]
[null,51,2015,"2015-08-12",{"$f":"VLOOKUP($D59, data!$D$5:$E$6326,2, FALSE)","v":78},{"$f":"VLOOKUP($D59, data!$G$5:$H$6326,2, FALSE)","v":71},null,{"$f":"H28","v":0.64516129032258063},0.41623309053069718,76.5,74.5,0,0,null,76.935656446545124,1.0643435534548757,1.132827199780952]
[null,52,2015,"2015-08-11",{"$f":"VLOOKUP($D60, data!$D$5:$E$6326,2, FALSE)","v":76.5},{"$f":"VLOOKUP($D60, data!$G$5:$H$6326,2, FALSE)","v":73.5},null,{"$f":"H29","v":0.67741935483870963},0.45889698231009357,74.5,77,0,0,null,75.000946789537522,1.4990532104624776,2.2471605277978615]
[null,53,2015,"2015-08-10",{"$f":"VLOOKUP($D61, data!$D$5:$E$6326,2, FALSE)","v":74.5},{"$f":"VLOOKUP($D61, data!$G$5:$H$6326,2, FALSE)","v":76},null,{"$f":"H30","v":0.70967741935483875},0.5036420395421437,77,74,0,0,null,77.584968686359502,-3.0849686863595025,9.5170317958186743]
[null,54,2015,"2015-08-09",{"$f":"VLOOKUP($D62, data!$D$5:$E$6326,2, FALSE)","v":77},{"$f":"VLOOKUP($D62, data!$G$5:$H$6326,2, FALSE)","v":73.5},null,{"$f":"H31","v":0.74193548387096775},0.55046826222684708,74,75.5,0,0,null,75.027841539764893,1.9721584602351072,3.8894089922769091]
[null,55,2015,"2015-08-08",{"$f":"VLOOKUP($D63, data!$D$5:$E$6326,2, FALSE)","v":74},{"$f":"VLOOKUP($D63, data!$G$5:$H$6326,2, FALSE)","v":75},null,{"$f":"H32","v":0.77419354838709675},0.59937565036420393,75.5,75.5,0,0,null,76.32889267887694,-2.3288926788769402,5.4237411097266106]
[null,56,2015,"2015-08-07",{"$f":"VLOOKUP($D64, data!$D$5:$E$6326,2, FALSE)","v":75.5},{"$f":"VLOOKUP($D64, data!$G$5:$H$6326,2, FALSE)","v":73},null,{"$f":"H33","v":0.80645161290322576},0.65036420395421424,75.5,79.5,0,0,null,75.774762903863333,-0.27476290386333346,7.5494653339411424E-2]
[null,57,2015,"2015-08-06",{"$f":"VLOOKUP($D65, data!$D$5:$E$6326,2, FALSE)","v":75.5},{"$f":"VLOOKUP($D65, data!$G$5:$H$6326,2, FALSE)","v":73.5},null,{"$f":"H34","v":0.83870967741935487},0.70343392299687835,79.5,81,0,0,null,78.84352486024018,-3.3435248602401799,11.179158491044115]
[null,58,2015,"2015-08-05",{"$f":"VLOOKUP($D66, data!$D$5:$E$6326,2, FALSE)","v":79.5},{"$f":"VLOOKUP($D66, data!$G$5:$H$6326,2, FALSE)","v":71.5},null,{"$f":"H35","v":0.87096774193548387},0.75858480749219559,81,81.5,0,0,null,80.081947744951094,-0.58194774495109414,0.33866317785366373]
[null,59,2015,"2015-08-04",{"$f":"VLOOKUP($D67, data!$D$5:$E$6326,2, FALSE)","v":81},{"$f":"VLOOKUP($D67, data!$G$5:$H$6326,2, FALSE)","v":71.5},null,{"$f":"H36","v":0.90322580645161288},0.81581685744016641,81.5,79,0,0,null,81.02158280609838,-2.1582806098379592E-2,4.6581751908025132E-4]
[null,60,2015,"2015-08-03",{"$f":"VLOOKUP($D68, data!$D$5:$E$6326,2, FALSE)","v":81.5},{"$f":"VLOOKUP($D68, data!$G$5:$H$6326,2, FALSE)","v":74.5},null,{"$f":"H37","v":0.93548387096774188},0.8751300728407907,79,82,0,0,null,78.657054863533062,2.8429451364669376,8.0823370489610138]
[null,61,2015,"2015-08-02",{"$f":"VLOOKUP($D69, data!$D$5:$E$6326,2, FALSE)","v":79},{"$f":"VLOOKUP($D69, data!$G$5:$H$6326,2, FALSE)","v":79},null,{"$f":"H38","v":0.967741935483871},0.93652445369406878,82,0,0,1,null,81.955052123853676,-2.955052123853676,8.7323330546921216]
[null,62,2015,"2015-08-01",{"$f":"VLOOKUP($D70, data!$D$5:$E$6326,2, FALSE)","v":82},{"$f":"VLOOKUP($D70, data!$G$5:$H$6326,2, FALSE)","v":75.5},null,{"$f":"H39","v":1},1,0,0,1,0,null,78.823529411767751,3.1764705882322488,10.089965397904528]
[null,63,2014,{"$f":"DATE(C71, 8, 31)","v":"2014-08-31"},{"$f":"VLOOKUP($D71, data!$D$5:$E$6326,2, FALSE)","v":82},{"$f":"VLOOKUP($D71, data!$G$5:$H$6326,2, FALSE)","v":76.5},null,{"$f":"H40","v":3.2258064516129031E-2},{"$f":"I40","v":1.0405827263267429E-3},{"$f":"E72","v":70},{"$f":"E73","v":70},0,0,null,72.219302674724787,9.780697325275213,95.662040168645703]
[null,64,{"$f":"C41-1","v":2014},{"$f":"D71-1","v":"2014-08-30"},{"$f":"VLOOKUP($D72, data!$D$5:$E$6326,2, FALSE)","v":70},{"$f":"VLOOKUP($D72, data!$G$5:$H$6326,2, FALSE)","v":76.5},null,{"$f":"H41","v":6.4516129032258063E-2},4.1623309053069714E-3,{"$f":"E73","v":70},{"$f":"E74","v":74},0,0,null,71.512292634835433,-1.5122926348354326,2.2870290133774951]
[null,65,2014,"2014-08-29",{"$f":"VLOOKUP($D73, data!$D$5:$E$6326,2, FALSE)","v":70},{"$f":"VLOOKUP($D73, data!$G$5:$H$6326,2, FALSE)","v":78.5},null,{"$f":"H42","v":9.6774193548387094E-2},9.3652445369406864E-3,74,80,0,0,null,73.685051899698266,-3.6850518996982657,13.579607503469797]
[null,66,2014,"2014-08-28",{"$f":"VLOOKUP($D74, data!$D$5:$E$6326,2, FALSE)","v":74},{"$f":"VLOOKUP($D74, data!$G$5:$H$6326,2, FALSE)","v":72},null,{"$f":"H43","v":0.12903225806451613},1.6649323621227886E-2,80,77.5,0,0,null,{"$f":"$O$7+SUMPRODUCT(H$7:M$7, H74:M74)","v":78.869833312748113},{"$f":"E74-O74","v":-4.8698333127481135},{"$f":"P74*P74","v":23.715276493951265}]
[null,{"$f":"B74+1","v":67},2014,"2014-08-27",{"$f":"VLOOKUP($D75, data!$D$5:$E$6326,2, FALSE)","v":80},{"$f":"VLOOKUP($D75, data!$G$5:$H$6326,2, FALSE)","v":74.5},null,{"$f":"H44","v":0.16129032258064516},2.6014568158168574E-2,77.5,74,0,0,null,77.419177197968679,2.5808228020313209,6.660646335484798]
[null,68,2014,"2014-08-26",{"$f":"VLOOKUP($D76, data!$D$5:$E$6326,2, FALSE)","v":77.5},{"$f":"VLOOKUP($D76, data!$G$5:$H$6326,2, FALSE)","v":78},null,{"$f":"H45","v":0.19354838709677419},3.7460978147762745E-2,74,72,0,0,null,74.926610832987365,2.5733891670126354,6.6223318048979856]
[null,69,2014,"2014-08-25",{"$f":"VLOOKUP($D77, data!$D$5:$E$6326,2, FALSE)","v":74},{"$f":"VLOOKUP($D77, data!$G$5:$H$6326,2, FALSE)","v":79.5},null,{"$f":"H46","v":0.22580645161290322},5.0988553590010401E-2,72,71,0,0,null,73.476827733054236,0.52317226694576391,0.27370922090116967]
[null,70,2014,"2014-08-24",{"$f":"VLOOKUP($D78, data!$D$5:$E$6326,2, FALSE)","v":72},{"$f":"VLOOKUP($D78, data!$G$5:$H$6326,2, FALSE)","v":79},null,{"$f":"H47","v":0.25806451612903225},6.6597294484911543E-2,71,72,0,0,null,72.504264709791613,-0.50426470979161309,0.25428289754121974]
[null,71,2014,"2014-08-23",{"$f":"VLOOKUP($D79, data!$D$5:$E$6326,2, FALSE)","v":71},{"$f":"VLOOKUP($D79, data!$G$5:$H$6326,2, FALSE)","v":77},null,{"$f":"H48","v":0.29032258064516131},8.4287200832466186E-2,72,73,0,0,null,73.140048139954857,-2.1400481399548568,4.5798060413242423]
[null,72,2014,"2014-08-22",{"$f":"VLOOKUP($D80, data!$D$5:$E$6326,2, FALSE)","v":72},{"$f":"VLOOKUP($D80, data!$G$5:$H$6326,2, FALSE)","v":79},null,{"$f":"H49","v":0.32258064516129031},0.1040582726326743,73,76,0,0,null,73.452201904094721,-1.4522019040947214,2.1088903702563342]
[null,73,2014,"2014-08-21",{"$f":"VLOOKUP($D81, data!$D$5:$E$6326,2, FALSE)","v":73},{"$f":"VLOOKUP($D81, data!$G$5:$H$6326,2, FALSE)","v":74.5},null,{"$f":"H50","v":0.35483870967741937},0.12591050988553593,76,72.5,0,0,null,76.446101182360167,-3.4461011823601666,11.875613359064138]
[null,74,2014,"2014-08-20",{"$f":"VLOOKUP($D82, data!$D$5:$E$6326,2, FALSE)","v":76},{"$f":"VLOOKUP($D82, data!$G$5:$H$6326,2, FALSE)","v":76},null,{"$f":"H51","v":0.38709677419354838},0.14984391259105098,72.5,73.5,0,0,null,73.498001674515123,2.5019983254848768,6.2599956207291276]
[null,75,2014,"2014-08-19",{"$f":"VLOOKUP($D83, data!$D$5:$E$6326,2, FALSE)","v":72.5},{"$f":"VLOOKUP($D83, data!$G$5:$H$6326,2, FALSE)","v":77.5},null,{"$f":"H52","v":0.41935483870967744},0.17585848074921959,73.5,75.5,0,0,null,73.995234659799948,-1.495234659799948,2.2357266878670661]
[null,76,2014,"2014-08-18",{"$f":"VLOOKUP($D84, data!$D$5:$E$6326,2, FALSE)","v":73.5},{"$f":"VLOOKUP($D84, data!$G$5:$H$6326,2, FALSE)","v":74},null,{"$f":"H53","v":0.45161290322580644},0.2039542143600416,75.5,69.5,0,0,null,76.621070892062534,-3.1210708920625336,9.7410835132800191]
[null,77,2014,"2014-08-17",{"$f":"VLOOKUP($D85, data!$D$5:$E$6326,2, FALSE)","v":75.5},{"$f":"VLOOKUP($D85, data!$G$5:$H$6326,2, FALSE)","v":67.5},null,{"$f":"H54","v":0.4838709677419355},0.2341311134235172,69.5,67,0,0,null,72.268772041204528,3.231227958795472,10.440834121701553]
[null,78,2014,"2014-08-16",{"$f":"VLOOKUP($D86, data!$D$5:$E$6326,2, FALSE)","v":69.5},{"$f":"VLOOKUP($D86, data!$G$5:$H$6326,2, FALSE)","v":72},null,{"$f":"H55","v":0.5161290322580645},0.26638917793964617,67,71.5,0,0,null,69.570126038598147,-7.0126038598147034E-2,4.9176612894688077E-3]
[null,79,2014,"2014-08-15",{"$f":"VLOOKUP($D87, data!$D$5:$E$6326,2, FALSE)","v":67},{"$f":"VLOOKUP($D87, data!$G$5:$H$6326,2, FALSE)","v":65},null,{"$f":"H56","v":0.54838709677419351},0.3007284079084287,71.5,77.5,0,0,null,72.236367727341005,-5.2363677273410048,27.419546975938399]
[null,80,2014,"2014-08-14",{"$f":"VLOOKUP($D88, data!$D$5:$E$6326,2, FALSE)","v":71.5},{"$f":"VLOOKUP($D88, data!$G$5:$H$6326,2, FALSE)","v":64.5},null,{"$f":"H57","v":0.58064516129032262},0.33714880332986474,77.5,76,0,0,null,77.349068375893182,-5.8490683758931823,34.211600865873706]
[null,81,2014,"2014-08-13",{"$f":"VLOOKUP($D89, data!$D$5:$E$6326,2, FALSE)","v":77.5},{"$f":"VLOOKUP($D89, data!$G$5:$H$6326,2, FALSE)","v":69.5},null,{"$f":"H58","v":0.61290322580645162},0.3756503642039542,76,76.5,0,0,null,76.131766288217818,1.3682337117821817,1.8720634900572461]
[null,82,2014,"2014-08-12",{"$f":"VLOOKUP($D90, data!$D$5:$E$6326,2, FALSE)","v":76},{"$f":"VLOOKUP($D90, data!$G$5:$H$6326,2, FALSE)","v":65.5},null,{"$f":"H59","v":0.64516129032258063},0.41623309053069718,76.5,76,0,0,null,76.687948970999045,-0.68794897099904517,0.47327378669864512]
[null,83,2014,"2014-08-11",{"$f":"VLOOKUP($D91, data!$D$5:$E$6326,2, FALSE)","v":76.5},{"$f":"VLOOKUP($D91, data!$G$5:$H$6326,2, FALSE)","v":74.5},null,{"$f":"H60","v":0.67741935483870963},0.45889698231009357,76,76.5,0,0,null,76.284790562093718,0.21520943790628166,4.6315102163937701E-2]
[null,84,2014,"2014-08-10",{"$f":"VLOOKUP($D92, data!$D$5:$E$6326,2, FALSE)","v":76},{"$f":"VLOOKUP($D92, data!$G$5:$H$6326,2, FALSE)","v":75},null,{"$f":"H61","v":0.70967741935483875},0.5036420395421437,76.5,73,0,0,null,77.34968213204327,-1.3496821320432701,1.8216418575568674]
[null,85,2014,"2014-08-09",{"$f":"VLOOKUP($D93, data!$D$5:$E$6326,2, FALSE)","v":76.5},{"$f":"VLOOKUP($D93, data!$G$5:$H$6326,2, FALSE)","v":73},null,{"$f":"H62","v":0.74193548387096775},0.55046826222684708,73,76,0,0,null,74.144422638555625,2.3555773614443751,5.5487447057492441]
[null,86,2014,"2014-08-08",{"$f":"VLOOKUP($D94, data!$D$5:$E$6326,2, FALSE)","v":73},{"$f":"VLOOKUP($D94, data!$G$5:$H$6326,2, FALSE)","v":74},null,{"$f":"H63","v":0.77419354838709675},0.59937565036420393,76,78.5,0,0,null,76.23390259913171,-3.2339025991317101,10.45812602067083]
[null,87,2014,"2014-08-07",{"$f":"VLOOKUP($D95, data!$D$5:$E$6326,2, FALSE)","v":76},{"$f":"VLOOKUP($D95, data!$G$5:$H$6326,2, FALSE)","v":71},null,{"$f":"H64","v":0.80645161290322576},0.65036420395421424,78.5,78.5,0,0,null,78.342450448975725,-2.3424504489757254,5.4870741059065775]
[null,88,2014,"2014-08-06",{"$f":"VLOOKUP($D96, data!$D$5:$E$6326,2, FALSE)","v":78.5},{"$f":"VLOOKUP($D96, data!$G$5:$H$6326,2, FALSE)","v":71},null,{"$f":"H65","v":0.83870967741935487},0.70343392299687835,78.5,77.5,0,0,null,78.620659227153823,-0.12065922715382271,1.4558649097357788E-2]
[null,89,2014,"2014-08-05",{"$f":"VLOOKUP($D97, data!$D$5:$E$6326,2, FALSE)","v":78.5},{"$f":"VLOOKUP($D97, data!$G$5:$H$6326,2, FALSE)","v":72},null,{"$f":"H66","v":0.87096774193548387},0.75858480749219559,77.5,72.5,0,0,null,78.765218498798987,-0.26521849879898696,7.0340852105188242E-2]
[null,90,2014,"2014-08-04",{"$f":"VLOOKUP($D98, data!$D$5:$E$6326,2, FALSE)","v":77.5},{"$f":"VLOOKUP($D98, data!$G$5:$H$6326,2, FALSE)","v":77},null,{"$f":"H67","v":0.90322580645161288},0.81581685744016641,72.5,71,0,0,null,75.135041658099141,2.3649583419008593,5.593027958926462]
[null,91,2014,"2014-08-03",{"$f":"VLOOKUP($D99, data!$D$5:$E$6326,2, FALSE)","v":72.5},{"$f":"VLOOKUP($D99, data!$G$5:$H$6326,2, FALSE)","v":74.5},null,{"$f":"H68","v":0.93548387096774188},0.8751300728407907,71,77.5,0,0,null,72.993379348620209,-0.49337934862020916,0.24342318164490187]
[null,92,2014,"2014-08-02",{"$f":"VLOOKUP($D100, data!$D$5:$E$6326,2, FALSE)","v":71},{"$f":"VLOOKUP($D100, data!$G$5:$H$6326,2, FALSE)","v":72.5},null,{"$f":"H69","v":0.967741935483871},0.93652445369406878,77.5,0,0,1,null,78.351228281731167,-7.3512282817311672,54.040557250124166]
[null,93,2014,"2014-08-01",{"$f":"VLOOKUP($D101, data!$D$5:$E$6326,2, FALSE)","v":77.5},{"$f":"VLOOKUP($D101, data!$G$5:$H$6326,2, FALSE)","v":73.5},null,{"$f":"H70","v":1},1,0,0,1,0,null,78.823529411767751,-1.3235294117677512,1.7517301038142894]
[null,94,2013,{"$f":"DATE(C102, 8, 31)","v":"2013-08-31"},{"$f":"VLOOKUP($D102, data!$D$5:$E$6326,2, FALSE)","v":80},{"$f":"VLOOKUP($D102, data!$G$5:$H$6326,2, FALSE)","v":74.569999999999993},null,{"$f":"H71","v":3.2258064516129031E-2},{"$f":"I71","v":1.0405827263267429E-3},{"$f":"E103","v":78},{"$f":"E104","v":76},0,0,null,77.635270714091547,2.364729285908453,5.5919445956331018]
[null,95,2013,{"$f":"D102-1","v":"2013-08-30"},{"$f":"VLOOKUP($D103, data!$D$5:$E$6326,2, FALSE)","v":78},{"$f":"VLOOKUP($D103, data!$G$5:$H$6326,2, FALSE)","v":81.510000000000005},null,{"$f":"H72","v":6.4516129032258063E-2},4.1623309053069714E-3,{"$f":"E104","v":76},{"$f":"E105","v":78.5},0,0,null,75.574268664360517,2.4257313356394832,5.8841725127033113]
[null,96,{"$f":"C73-1","v":2013},"2013-08-29",{"$f":"VLOOKUP($D104, data!$D$5:$E$6326,2, FALSE)","v":76},{"$f":"VLOOKUP($D104, data!$G$5:$H$6326,2, FALSE)","v":77.540000000000006},null,{"$f":"H73","v":9.6774193548387094E-2},9.3652445369406864E-3,78.5,81,0,0,null,77.12373742479005,-1.1237374247900505,1.2627857998737744]
[null,97,2013,"2013-08-28",{"$f":"VLOOKUP($D105, data!$D$5:$E$6326,2, FALSE)","v":78.5},{"$f":"VLOOKUP($D105, data!$G$5:$H$6326,2, FALSE)","v":77},null,{"$f":"H74","v":0.12903225806451613},1.6649323621227886E-2,81,76.5,0,0,null,79.835821372472708,-1.3358213724727079,1.7844187391548691]
[null,98,2013,"2013-08-27",{"$f":"VLOOKUP($D106, data!$D$5:$E$6326,2, FALSE)","v":81},{"$f":"VLOOKUP($D106, data!$G$5:$H$6326,2, FALSE)","v":86.54},null,{"$f":"H75","v":0.16129032258064516},2.6014568158168574E-2,76.5,72.05,0,0,null,76.94034717348471,4.0596528265152898,16.480781071833583]
[null,99,2013,"2013-08-26",{"$f":"VLOOKUP($D107, data!$D$5:$E$6326,2, FALSE)","v":76.5},{"$f":"VLOOKUP($D107, data!$G$5:$H$6326,2, FALSE)","v":80.959999999999994},null,{"$f":"H76","v":0.19354838709677419},3.7460978147762745E-2,72.05,71,0,0,null,73.530092151765004,2.9699078482349961,8.820352627007825]
[null,100,2013,"2013-08-25",{"$f":"VLOOKUP($D108, data!$D$5:$E$6326,2, FALSE)","v":72.05},{"$f":"VLOOKUP($D108, data!$G$5:$H$6326,2, FALSE)","v":77},null,{"$f":"H77","v":0.22580645161290322},5.0988553590010401E-2,71,76,0,0,null,71.850286405206731,0.19971359479326622,3.9885519945248936E-2]
[null,101,2013,"2013-08-24",{"$f":"VLOOKUP($D109, data!$D$5:$E$6326,2, FALSE)","v":71},{"$f":"VLOOKUP($D109, data!$G$5:$H$6326,2, FALSE)","v":73.040000000000006},null,{"$f":"H78","v":0.25806451612903225},6.6597294484911543E-2,76,75,0,0,null,76.013098472168906,-5.013098472168906,25.131156291662219]
[null,102,2013,"2013-08-23",{"$f":"VLOOKUP($D110, data!$D$5:$E$6326,2, FALSE)","v":76},{"$f":"VLOOKUP($D110, data!$G$5:$H$6326,2, FALSE)","v":72},null,{"$f":"H79","v":0.29032258064516131},8.4287200832466186E-2,75,79.5,0,0,null,74.469198307336825,1.5308016926631751,2.343353822260442]
[null,103,2013,"2013-08-22",{"$f":"VLOOKUP($D111, data!$D$5:$E$6326,2, FALSE)","v":75},{"$f":"VLOOKUP($D111, data!$G$5:$H$6326,2, FALSE)","v":73.05},null,{"$f":"H80","v":0.32258064516129031},0.1040582726326743,79.5,77,0,0,null,78.492586914574289,-3.4925869145742894,12.198163355855554]
[null,104,2013,"2013-08-21",{"$f":"VLOOKUP($D112, data!$D$5:$E$6326,2, FALSE)","v":79.5},{"$f":"VLOOKUP($D112, data!$G$5:$H$6326,2, FALSE)","v":79},null,{"$f":"H81","v":0.35483870967741937},0.12591050988553593,77,71.5,0,0,null,77.412089242084775,2.0879107579152247,4.3593713330181281]
[null,105,2013,"2013-08-20",{"$f":"VLOOKUP($D113, data!$D$5:$E$6326,2, FALSE)","v":77},{"$f":"VLOOKUP($D113, data!$G$5:$H$6326,2, FALSE)","v":77.010000000000005},null,{"$f":"H82","v":0.38709677419354838},0.14984391259105098,71.5,71.5,0,0,null,73.027428565882687,3.9725714341173131,15.781323799164886]
[null,106,2013,"2013-08-19",{"$f":"VLOOKUP($D114, data!$D$5:$E$6326,2, FALSE)","v":71.5},{"$f":"VLOOKUP($D114, data!$G$5:$H$6326,2, FALSE)","v":70.95},null,{"$f":"H83","v":0.41935483870967744},0.17585848074921959,71.5,72.5,0,0,null,72.888950125504351,-1.3889501255043513,1.9291824511385531]
[null,107,2013,"2013-08-18",{"$f":"VLOOKUP($D115, data!$D$5:$E$6326,2, FALSE)","v":71.5},{"$f":"VLOOKUP($D115, data!$G$5:$H$6326,2, FALSE)","v":70},null,{"$f":"H84","v":0.45161290322580644},0.2039542143600416,72.5,69.5,0,0,null,74.218521663980852,-2.7185216639808516,7.3903600375332186]
[null,108,2013,"2013-08-17",{"$f":"VLOOKUP($D116, data!$D$5:$E$6326,2, FALSE)","v":72.5},{"$f":"VLOOKUP($D116, data!$G$5:$H$6326,2, FALSE)","v":68.989999999999995},null,{"$f":"H85","v":0.4838709677419355},0.2341311134235172,69.5,69,0,0,null,71.93849540714308,0.56150459285692023,0.31528740779941578]
[null,109,2013,"2013-08-16",{"$f":"VLOOKUP($D117, data!$D$5:$E$6326,2, FALSE)","v":69.5},{"$f":"VLOOKUP($D117, data!$G$5:$H$6326,2, FALSE)","v":68.540000000000006},null,{"$f":"H86","v":0.5161290322580645},0.26638917793964617,69,68.5,0,0,null,71.667240475078103,-2.1672404750781027,4.6969312768167599]
[null,110,2013,"2013-08-15",{"$f":"VLOOKUP($D118, data!$D$5:$E$6326,2, FALSE)","v":69},{"$f":"VLOOKUP($D118, data!$G$5:$H$6326,2, FALSE)","v":65},null,{"$f":"H87","v":0.54838709677419351},0.3007284079084287,68.5,74.5,0,0,null,70.329233450351495,-1.3292334503514951,1.7668615655333406]
[null,111,2013,"2013-08-14",{"$f":"VLOOKUP($D119, data!$D$5:$E$6326,2, FALSE)","v":68.5},{"$f":"VLOOKUP($D119, data!$G$5:$H$6326,2, FALSE)","v":64},null,{"$f":"H88","v":0.58064516129032262},0.33714880332986474,74.5,76.5,0,0,null,74.863949989296145,-6.3639499892961453,40.499859466262407]
[null,112,2013,"2013-08-13",{"$f":"VLOOKUP($D120, data!$D$5:$E$6326,2, FALSE)","v":74.5},{"$f":"VLOOKUP($D120, data!$G$5:$H$6326,2, FALSE)","v":63.95},null,{"$f":"H89","v":0.61290322580645162},0.3756503642039542,76.5,73.489999999999995,0,0,null,77.029257493827245,-2.5292574938272452,6.3971434700812768]
[null,113,2013,"2013-08-12",{"$f":"VLOOKUP($D121, data!$D$5:$E$6326,2, FALSE)","v":76.5},{"$f":"VLOOKUP($D121, data!$G$5:$H$6326,2, FALSE)","v":74.48},null,{"$f":"H90","v":0.64516129032258063},0.41623309053069718,73.489999999999995,76.459999999999994,0,0,null,74.2014276196563,2.2985723803436997,5.283434987678902]
[null,114,2013,"2013-08-11",{"$f":"VLOOKUP($D122, data!$D$5:$E$6326,2, FALSE)","v":73.489999999999995},{"$f":"VLOOKUP($D122, data!$G$5:$H$6326,2, FALSE)","v":70.52},null,{"$f":"H91","v":0.67741935483870963},0.45889698231009357,76.459999999999994,80.95,0,0,null,75.918315932946186,-2.428315932946191,5.8967182702003296]
[null,115,2013,"2013-08-10",{"$f":"VLOOKUP($D123, data!$D$5:$E$6326,2, FALSE)","v":76.459999999999994},{"$f":"VLOOKUP($D123, data!$G$5:$H$6326,2, FALSE)","v":72.5},null,{"$f":"H92","v":0.70967741935483875},0.5036420395421437,80.95,77,0,0,null,80.252910218908198,-3.7929102189082045,14.386167928698283]
[null,116,2013,"2013-08-09",{"$f":"VLOOKUP($D124, data!$D$5:$E$6326,2, FALSE)","v":80.95},{"$f":"VLOOKUP($D124, data!$G$5:$H$6326,2, FALSE)","v":70.5},null,{"$f":"H93","v":0.74193548387096775},0.55046826222684708,77,74.5,0,0,null,77.595529084877285,3.3544709151227181,11.252475120404245]
[null,117,2013,"2013-08-08",{"$f":"VLOOKUP($D125, data!$D$5:$E$6326,2, FALSE)","v":77},{"$f":"VLOOKUP($D125, data!$G$5:$H$6326,2, FALSE)","v":71.5},null,{"$f":"H94","v":0.77419354838709675},0.59937565036420393,74.5,71,0,0,null,76.271165362821307,0.7288346371786929,0.53119992835139695]
[null,118,2013,"2013-08-07",{"$f":"VLOOKUP($D126, data!$D$5:$E$6326,2, FALSE)","v":74.5},{"$f":"VLOOKUP($D126, data!$G$5:$H$6326,2, FALSE)","v":78},null,{"$f":"H95","v":0.80645161290322576},0.65036420395421424,71,71,0,0,null,73.574614756501973,0.92538524349802742,0.85633784888390352]
[null,119,2013,"2013-08-06",{"$f":"VLOOKUP($D127, data!$D$5:$E$6326,2, FALSE)","v":71},{"$f":"VLOOKUP($D127, data!$G$5:$H$6326,2, FALSE)","v":75},null,{"$f":"H96","v":0.83870967741935487},0.70343392299687835,71,73,0,0,null,73.357408583587898,-2.3574085835878975,5.5573752299738972]
[null,120,2013,"2013-08-05",{"$f":"VLOOKUP($D128, data!$D$5:$E$6326,2, FALSE)","v":71},{"$f":"VLOOKUP($D128, data!$G$5:$H$6326,2, FALSE)","v":66.5},null,{"$f":"H97","v":0.87096774193548387},0.75858480749219559,73,74.599999999999994,0,0,null,74.814604190911979,-3.8146041909119788,14.551205133323233]
[null,121,2013,"2013-08-04",{"$f":"VLOOKUP($D129, data!$D$5:$E$6326,2, FALSE)","v":73},{"$f":"VLOOKUP($D129, data!$G$5:$H$6326,2, FALSE)","v":67.5},null,{"$f":"H98","v":0.90322580645161288},0.81581685744016641,74.599999999999994,77,0,0,null,75.825996215571962,-2.825996215571962,7.9862546104270509]
[null,122,2013,"2013-08-03",{"$f":"VLOOKUP($D130, data!$D$5:$E$6326,2, FALSE)","v":74.599999999999994},{"$f":"VLOOKUP($D130, data!$G$5:$H$6326,2, FALSE)","v":72.5},null,{"$f":"H99","v":0.93548387096774188},0.8751300728407907,77,71.5,0,0,null,78.78930770696789,-4.1893077069678952,17.550299063660603]
[null,123,2013,"2013-08-02",{"$f":"VLOOKUP($D131, data!$D$5:$E$6326,2, FALSE)","v":77},{"$f":"VLOOKUP($D131, data!$G$5:$H$6326,2, FALSE)","v":73},null,{"$f":"H100","v":0.967741935483871},0.93652445369406878,71.5,0,0,1,null,73.546129825567832,3.4538701744321685,11.929219181832098]
[null,124,2013,"2013-08-01",{"$f":"VLOOKUP($D132, data!$D$5:$E$6326,2, FALSE)","v":71.5},{"$f":"VLOOKUP($D132, data!$G$5:$H$6326,2, FALSE)","v":71},null,{"$f":"H101","v":1},1,0,0,1,0,null,78.823529411767751,-7.3235294117677512,53.634083045027303]
[null,125,2012,{"$f":"DATE(C133, 8, 31)","v":"2012-08-31"},{"$f":"VLOOKUP($D133, data!$D$5:$E$6326,2, FALSE)","v":78.5},{"$f":"VLOOKUP($D133, data!$G$5:$H$6326,2, FALSE)","v":81.5},null,{"$f":"H102","v":3.2258064516129031E-2},{"$f":"I102","v":1.0405827263267429E-3},{"$f":"E134","v":73},{"$f":"E135","v":74},0,0,null,73.961298634683558,4.5387013653164416,20.59981008352533]
[null,126,2012,{"$f":"D133-1","v":"2012-08-30"},{"$f":"VLOOKUP($D134, data!$D$5:$E$6326,2, FALSE)","v":73},{"$f":"VLOOKUP($D134, data!$G$5:$H$6326,2, FALSE)","v":77},null,{"$f":"H103","v":6.4516129032258063E-2},4.1623309053069714E-3,{"$f":"E135","v":74},{"$f":"E136","v":81.5},0,0,null,73.477154227880561,-0.47715422788056117,0.22767615718429449]
[null,127,2012,"2012-08-29",{"$f":"VLOOKUP($D135, data!$D$5:$E$6326,2, FALSE)","v":74},{"$f":"VLOOKUP($D135, data!$G$5:$H$6326,2, FALSE)","v":74.5},null,{"$f":"H104","v":9.6774193548387094E-2},9.3652445369406864E-3,81.5,76.5,0,0,null,80.269409079509984,-6.2694090795099839,39.305490206242226]
[null,128,{"$f":"C105-1","v":2012},"2012-08-28",{"$f":"VLOOKUP($D136, data!$D$5:$E$6326,2, FALSE)","v":81.5},{"$f":"VLOOKUP($D136, data!$G$5:$H$6326,2, FALSE)","v":74.5},null,{"$f":"H105","v":0.12903225806451613},1.6649323621227886E-2,76.5,75.5,0,0,null,76.397135847380937,5.1028641526190626,26.039222560084664]
[null,129,2012,"2012-08-27",{"$f":"VLOOKUP($D137, data!$D$5:$E$6326,2, FALSE)","v":76.5},{"$f":"VLOOKUP($D137, data!$G$5:$H$6326,2, FALSE)","v":77},null,{"$f":"H106","v":0.16129032258064516},2.6014568158168574E-2,75.5,77.5,0,0,null,75.239493602973369,1.2605063970266315,1.58887637694506]
[null,130,2012,"2012-08-26",{"$f":"VLOOKUP($D138, data!$D$5:$E$6326,2, FALSE)","v":75.5},{"$f":"VLOOKUP($D138, data!$G$5:$H$6326,2, FALSE)","v":72.5},null,{"$f":"H107","v":0.19354838709677419},3.7460978147762745E-2,77.5,78.5,0,0,null,{"$f":"$O$7+SUMPRODUCT(H$7:M$7, H138:M138)","v":76.656185871716275},{"$f":"E138-O138","v":-1.156185871716275},{"$f":"P138*P138","v":1.3367657699563227}]
[null,{"$f":"B138+1","v":131},2012,"2012-08-25",{"$f":"VLOOKUP($D139, data!$D$5:$E$6326,2, FALSE)","v":77.5},{"$f":"VLOOKUP($D139, data!$G$5:$H$6326,2, FALSE)","v":79.5},null,{"$f":"H108","v":0.22580645161290322},5.0988553590010401E-2,78.5,76,0,0,null,77.856659475410908,-0.35665947541090759,0.12720598140038381]
[null,132,2012,"2012-08-24",{"$f":"VLOOKUP($D140, data!$D$5:$E$6326,2, FALSE)","v":78.5},{"$f":"VLOOKUP($D140, data!$G$5:$H$6326,2, FALSE)","v":79},null,{"$f":"H109","v":0.25806451612903225},6.6597294484911543E-2,76,76,0,0,null,75.847960155138168,2.6520398448618323,7.0333153387347718]
[null,133,2012,"2012-08-23",{"$f":"VLOOKUP($D141, data!$D$5:$E$6326,2, FALSE)","v":76},{"$f":"VLOOKUP($D141, data!$G$5:$H$6326,2, FALSE)","v":78},null,{"$f":"H110","v":0.29032258064516131},8.4287200832466186E-2,76,75,0,0,null,76.013170476668961,-1.3170476668960873E-2,1.734614556876427E-4]
[null,134,2012,"2012-08-22",{"$f":"VLOOKUP($D142, data!$D$5:$E$6326,2, FALSE)","v":76},{"$f":"VLOOKUP($D142, data!$G$5:$H$6326,2, FALSE)","v":69.5},null,{"$f":"H111","v":0.32258064516129031},0.1040582726326743,75,72,0,0,null,75.714454657605401,0.28554534239459883,8.1536142563248676E-2]
[null,135,2012,"2012-08-21",{"$f":"VLOOKUP($D143, data!$D$5:$E$6326,2, FALSE)","v":75},{"$f":"VLOOKUP($D143, data!$G$5:$H$6326,2, FALSE)","v":66},null,{"$f":"H112","v":0.35483870967741937},0.12591050988553593,72,67.5,0,0,null,74.068393796738221,0.93160620326177934,0.86789011795582771]
[null,136,2012,"2012-08-20",{"$f":"VLOOKUP($D144, data!$D$5:$E$6326,2, FALSE)","v":72},{"$f":"VLOOKUP($D144, data!$G$5:$H$6326,2, FALSE)","v":66},null,{"$f":"H113","v":0.38709677419354838},0.14984391259105098,67.5,73.5,0,0,null,69.493752961045686,2.5062470389543137,6.2812742202672647]
[null,137,2012,"2012-08-19",{"$f":"VLOOKUP($D145, data!$D$5:$E$6326,2, FALSE)","v":67.5},{"$f":"VLOOKUP($D145, data!$G$5:$H$6326,2, FALSE)","v":69.5},null,{"$f":"H114","v":0.41935483870967744},0.17585848074921959,73.5,79,0,0,null,73.417250550192421,-5.9172505501924206,35.013854073752505]
[null,138,2012,"2012-08-18",{"$f":"VLOOKUP($D146, data!$D$5:$E$6326,2, FALSE)","v":73.5},{"$f":"VLOOKUP($D146, data!$G$5:$H$6326,2, FALSE)","v":65},null,{"$f":"H115","v":0.45161290322580644},0.2039542143600416,79,78,0,0,null,78.020369296729982,-4.5203692967299816,20.433738578819106]
[null,139,2012,"2012-08-17",{"$f":"VLOOKUP($D147, data!$D$5:$E$6326,2, FALSE)","v":79},{"$f":"VLOOKUP($D147, data!$G$5:$H$6326,2, FALSE)","v":67},null,{"$f":"H116","v":0.4838709677419355},0.2341311134235172,78,77.5,0,0,null,77.342042525279993,1.657957474720007,2.7488229879799424]
[null,140,2012,"2012-08-16",{"$f":"VLOOKUP($D148, data!$D$5:$E$6326,2, FALSE)","v":78},{"$f":"VLOOKUP($D148, data!$G$5:$H$6326,2, FALSE)","v":69},null,{"$f":"H117","v":0.5161290322580645},0.26638917793964617,77.5,74.5,0,0,null,77.483633385791819,0.51636661420818086,0.26663448026882031]
[null,141,2012,"2012-08-15",{"$f":"VLOOKUP($D149, data!$D$5:$E$6326,2, FALSE)","v":77.5},{"$f":"VLOOKUP($D149, data!$G$5:$H$6326,2, FALSE)","v":75},null,{"$f":"H118","v":0.54838709677419351},0.3007284079084287,74.5,78,0,0,null,74.556347796907318,2.9436522030926824,8.6650882927724027]
[null,142,2012,"2012-08-14",{"$f":"VLOOKUP($D150, data!$D$5:$E$6326,2, FALSE)","v":74.5},{"$f":"VLOOKUP($D150, data!$G$5:$H$6326,2, FALSE)","v":70},null,{"$f":"H119","v":0.58064516129032262},0.33714880332986474,78,80.5,0,0,null,77.006370820601859,-2.5063708206018589,6.2818946903644353]
[null,143,2012,"2012-08-13",{"$f":"VLOOKUP($D151, data!$D$5:$E$6326,2, FALSE)","v":78},{"$f":"VLOOKUP($D151, data!$G$5:$H$6326,2, FALSE)","v":64.5},null,{"$f":"H120","v":0.61290322580645162},0.3756503642039542,80.5,82,0,0,null,78.827329386671352,-0.82732938667135159,0.6844739140499948]
[null,144,2012,"2012-08-12",{"$f":"VLOOKUP($D152, data!$D$5:$E$6326,2, FALSE)","v":80.5},{"$f":"VLOOKUP($D152, data!$G$5:$H$6326,2, FALSE)","v":65.5},null,{"$f":"H121","v":0.64516129032258063},0.41623309053069718,82,77,0,0,null,80.927484238784714,-0.42748423878471442,0.18274277440934675]
[null,145,2012,"2012-08-11",{"$f":"VLOOKUP($D153, data!$D$5:$E$6326,2, FALSE)","v":82},{"$f":"VLOOKUP($D153, data!$G$5:$H$6326,2, FALSE)","v":67},null,{"$f":"H122","v":0.67741935483870963},0.45889698231009357,77,81.5,0,0,null,76.259948719633996,5.7400512803660035,32.948188701231395]
[null,146,2012,"2012-08-10",{"$f":"VLOOKUP($D154, data!$D$5:$E$6326,2, FALSE)","v":77},{"$f":"VLOOKUP($D154, data!$G$5:$H$6326,2, FALSE)","v":68.5},null,{"$f":"H123","v":0.70967741935483875},0.5036420395421437,81.5,80,0,0,null,80.197962626297667,-3.1979626262976666,10.226964959196669]
[null,147,2012,"2012-08-09",{"$f":"VLOOKUP($D155, data!$D$5:$E$6326,2, FALSE)","v":81.5},{"$f":"VLOOKUP($D155, data!$G$5:$H$6326,2, FALSE)","v":69},null,{"$f":"H124","v":0.74193548387096775},0.55046826222684708,80,74.5,0,0,null,79.998078312958938,1.5019216870410617,2.2557687540042686]
[null,148,2012,"2012-08-08",{"$f":"VLOOKUP($D156, data!$D$5:$E$6326,2, FALSE)","v":80},{"$f":"VLOOKUP($D156, data!$G$5:$H$6326,2, FALSE)","v":78},null,{"$f":"H125","v":0.77419354838709675},0.59937565036420393,74.5,81.5,0,0,null,74.537213033998697,5.4627869660013033,29.842041435913725]
[null,149,2012,"2012-08-07",{"$f":"VLOOKUP($D157, data!$D$5:$E$6326,2, FALSE)","v":74.5},{"$f":"VLOOKUP($D157, data!$G$5:$H$6326,2, FALSE)","v":77},null,{"$f":"H126","v":0.80645161290322576},0.65036420395421424,81.5,84.5,0,0,null,79.754169774873048,-5.2541697748730485,27.606300023189501]
[null,150,2012,"2012-08-06",{"$f":"VLOOKUP($D158, data!$D$5:$E$6326,2, FALSE)","v":81.5},{"$f":"VLOOKUP($D158, data!$G$5:$H$6326,2, FALSE)","v":73.5},null,{"$f":"H127","v":0.83870967741935487},0.70343392299687835,84.5,83,0,0,null,82.517496939648183,-1.0174969396481828,1.0353000221934177]
[null,151,2012,"2012-08-05",{"$f":"VLOOKUP($D159, data!$D$5:$E$6326,2, FALSE)","v":84.5},{"$f":"VLOOKUP($D159, data!$G$5:$H$6326,2, FALSE)","v":75},null,{"$f":"H128","v":0.87096774193548387},0.75858480749219559,83,83.5,0,0,null,81.353370596277415,3.146629403722585,9.9012766043715512]
[null,152,2012,"2012-08-04",{"$f":"VLOOKUP($D160, data!$D$5:$E$6326,2, FALSE)","v":83},{"$f":"VLOOKUP($D160, data!$G$5:$H$6326,2, FALSE)","v":82},null,{"$f":"H129","v":0.90322580645161288},0.81581685744016641,83.5,80.5,0,0,null,82.37557481594007,0.62442518405993042,0.38990681048827797]
[null,153,2012,"2012-08-03",{"$f":"VLOOKUP($D161, data!$D$5:$E$6326,2, FALSE)","v":83.5},{"$f":"VLOOKUP($D161, data!$G$5:$H$6326,2, FALSE)","v":83},null,{"$f":"H130","v":0.93548387096774188},0.8751300728407907,80.5,75.5,0,0,null,80.931728538273603,2.5682714617263969,6.5960183011182432]
[null,154,2012,"2012-08-02",{"$f":"VLOOKUP($D162, data!$D$5:$E$6326,2, FALSE)","v":80.5},{"$f":"VLOOKUP($D162, data!$G$5:$H$6326,2, FALSE)","v":79.5},null,{"$f":"H131","v":0.967741935483871},0.93652445369406878,75.5,0,0,1,null,76.749528796343384,3.7504712036566161,14.066034249457507]
[null,155,2012,"2012-08-01",{"$f":"VLOOKUP($D163, data!$D$5:$E$6326,2, FALSE)","v":75.5},{"$f":"VLOOKUP($D163, data!$G$5:$H$6326,2, FALSE)","v":79},null,{"$f":"H132","v":1},1,0,0,1,0,null,78.823529411767751,-3.3235294117677512,11.045847750885294]
[null,156,2011,{"$f":"DATE(C164, 8, 31)","v":"2011-08-31"},{"$f":"VLOOKUP($D164, data!$D$5:$E$6326,2, FALSE)","v":74.5},{"$f":"VLOOKUP($D164, data!$G$5:$H$6326,2, FALSE)","v":76},null,{"$f":"H133","v":3.2258064516129031E-2},{"$f":"I133","v":1.0405827263267429E-3},{"$f":"E165","v":72.5},{"$f":"E166","v":68},0,0,null,74.551703665520961,-5.170366552096084E-2,2.6732690283033946E-3]
[null,157,{"$f":"C164","v":2011},{"$f":"D164-1","v":"2011-08-30"},{"$f":"VLOOKUP($D165, data!$D$5:$E$6326,2, FALSE)","v":72.5},{"$f":"VLOOKUP($D165, data!$G$5:$H$6326,2, FALSE)","v":68.5},null,{"$f":"H134","v":6.4516129032258063E-2},4.1623309053069714E-3,{"$f":"E166","v":68},{"$f":"E167","v":71},0,0,null,70.406008100539822,2.0939918994601783,4.3848020750048455]
[null,158,2011,"2011-08-29",{"$f":"VLOOKUP($D166, data!$D$5:$E$6326,2, FALSE)","v":68},{"$f":"VLOOKUP($D166, data!$G$5:$H$6326,2, FALSE)","v":69},null,{"$f":"H135","v":9.6774193548387094E-2},9.3652445369406864E-3,71,77,0,0,null,71.77791762270877,-3.7779176227087703,14.272661563973486]
[null,159,2011,"2011-08-28",{"$f":"VLOOKUP($D167, data!$D$5:$E$6326,2, FALSE)","v":71},{"$f":"VLOOKUP($D167, data!$G$5:$H$6326,2, FALSE)","v":69},null,{"$f":"H136","v":0.12903225806451613},1.6649323621227886E-2,77,78.5,0,0,null,76.302145767635722,-5.3021457676357215,28.112749741257396]
[null,160,2011,"2011-08-27",{"$f":"VLOOKUP($D168, data!$D$5:$E$6326,2, FALSE)","v":77},{"$f":"VLOOKUP($D168, data!$G$5:$H$6326,2, FALSE)","v":72.5},null,{"$f":"H137","v":0.16129032258064516},2.6014568158168574E-2,78.5,76.5,0,0,null,77.80718114808576,-0.80718114808576047,0.65154140582504638]
[null,161,2011,"2011-08-26",{"$f":"VLOOKUP($D169, data!$D$5:$E$6326,2, FALSE)","v":78.5},{"$f":"VLOOKUP($D169, data!$G$5:$H$6326,2, FALSE)","v":71},null,{"$f":"H138","v":0.19354838709677419},3.7460978147762745E-2,76.5,72.5,0,0,null,76.846166031206735,1.6538339687932648,2.7351667963344815]
[null,162,2011,"2011-08-25",{"$f":"VLOOKUP($D170, data!$D$5:$E$6326,2, FALSE)","v":76.5},{"$f":"VLOOKUP($D170, data!$G$5:$H$6326,2, FALSE)","v":73.5},null,{"$f":"H139","v":0.22580645161290322},5.0988553590010401E-2,72.5,72,0,0,null,73.712114287370454,2.7878857126295458,7.7723067466839506]
[null,163,2011,"2011-08-24",{"$f":"VLOOKUP($D171, data!$D$5:$E$6326,2, FALSE)","v":72.5},{"$f":"VLOOKUP($D171, data!$G$5:$H$6326,2, FALSE)","v":80.5},null,{"$f":"H140","v":0.25806451612903225},6.6597294484911543E-2,72,74.5,0,0,null,72.892268659908694,-0.39226865990869442,0.15387470154656296]
[null,164,2011,"2011-08-23",{"$f":"VLOOKUP($D172, data!$D$5:$E$6326,2, FALSE)","v":72},{"$f":"VLOOKUP($D172, data!$G$5:$H$6326,2, FALSE)","v":67.5},null,{"$f":"H141","v":0.29032258064516131},8.4287200832466186E-2,74.5,79.5,0,0,null,74.068773435989868,-2.0687734359898684,4.2798235294573264]
[null,165,2011,"2011-08-22",{"$f":"VLOOKUP($D173, data!$D$5:$E$6326,2, FALSE)","v":74.5},{"$f":"VLOOKUP($D173, data!$G$5:$H$6326,2, FALSE)","v":70.5},null,{"$f":"H142","v":0.32258064516129031},0.1040582726326743,79.5,77,0,0,null,78.492586914574289,-3.9925869145742894,15.940750270429843]
[null,166,2011,"2011-08-21",{"$f":"VLOOKUP($D174, data!$D$5:$E$6326,2, FALSE)","v":79.5},{"$f":"VLOOKUP($D174, data!$G$5:$H$6326,2, FALSE)","v":72},null,{"$f":"H143","v":0.35483870967741937},0.12591050988553593,77,76.5,0,0,null,76.586397656931155,2.9136023430688454,8.4890786135362664]
[null,167,2011,"2011-08-20",{"$f":"VLOOKUP($D175, data!$D$5:$E$6326,2, FALSE)","v":77},{"$f":"VLOOKUP($D175, data!$G$5:$H$6326,2, FALSE)","v":73},null,{"$f":"H144","v":0.38709677419354838},0.14984391259105098,76.5,78,0,0,null,75.958278218652424,1.0417217813475759,1.0851842697339666]
[null,168,2011,"2011-08-19",{"$f":"VLOOKUP($D176, data!$D$5:$E$6326,2, FALSE)","v":76.5},{"$f":"VLOOKUP($D176, data!$G$5:$H$6326,2, FALSE)","v":75.5},null,{"$f":"H145","v":0.41935483870967744},0.17585848074921959,78,77.5,0,0,null,77.268781867861009,-0.76878186786100855,0.59102556035186116]
[null,169,2011,"2011-08-18",{"$f":"VLOOKUP($D177, data!$D$5:$E$6326,2, FALSE)","v":78},{"$f":"VLOOKUP($D177, data!$G$5:$H$6326,2, FALSE)","v":75.5},null,{"$f":"H146","v":0.45161290322580644},0.2039542143600416,77.5,73.5,0,0,null,77.562217109327406,0.43778289067259379,0.19165385936565221]
[null,170,2011,"2011-08-17",{"$f":"VLOOKUP($D178, data!$D$5:$E$6326,2, FALSE)","v":77.5},{"$f":"VLOOKUP($D178, data!$G$5:$H$6326,2, FALSE)","v":72.5},null,{"$f":"H147","v":0.4838709677419355},0.2341311134235172,73.5,75.5,0,0,null,74.068495317218932,3.4315046827810676,11.775224387948395]
[null,171,2011,"2011-08-16",{"$f":"VLOOKUP($D179, data!$D$5:$E$6326,2, FALSE)","v":73.5},{"$f":"VLOOKUP($D179, data!$G$5:$H$6326,2, FALSE)","v":73},null,{"$f":"H148","v":0.5161290322580645},0.26638917793964617,75.5,71.5,0,0,null,76.377348851496222,-2.8773488514962224,8.279136413206631]
[null,172,2011,"2011-08-15",{"$f":"VLOOKUP($D180, data!$D$5:$E$6326,2, FALSE)","v":75.5},{"$f":"VLOOKUP($D180, data!$G$5:$H$6326,2, FALSE)","v":69.5},null,{"$f":"H149","v":0.54838709677419351},0.3007284079084287,71.5,78,0,0,null,72.153798568825636,3.3462014311743644,11.197064017993364]
[null,173,2011,"2011-08-14",{"$f":"VLOOKUP($D181, data!$D$5:$E$6326,2, FALSE)","v":71.5},{"$f":"VLOOKUP($D181, data!$G$5:$H$6326,2, FALSE)","v":68.5},null,{"$f":"H150","v":0.58064516129032262},0.33714880332986474,78,75,0,0,null,77.914631564270849,-6.4146315642708487,41.147498105339878]
[null,174,2011,"2011-08-13",{"$f":"VLOOKUP($D182, data!$D$5:$E$6326,2, FALSE)","v":78},{"$f":"VLOOKUP($D182, data!$G$5:$H$6326,2, FALSE)","v":72.5},null,{"$f":"H151","v":0.61290322580645162},0.3756503642039542,75,77.5,0,0,null,75.16577822849321,2.8342217715067903,8.0328130500830888]
[null,175,2011,"2011-08-12",{"$f":"VLOOKUP($D183, data!$D$5:$E$6326,2, FALSE)","v":75},{"$f":"VLOOKUP($D183, data!$G$5:$H$6326,2, FALSE)","v":70.5},null,{"$f":"H152","v":0.64516129032258063},0.41623309053069718,77.5,80,0,0,null,76.828245445570047,-1.8282454455700474,3.3424814092476214]
[null,176,2011,"2011-08-11",{"$f":"VLOOKUP($D184, data!$D$5:$E$6326,2, FALSE)","v":77.5},{"$f":"VLOOKUP($D184, data!$G$5:$H$6326,2, FALSE)","v":69},null,{"$f":"H153","v":0.67741935483870963},0.45889698231009357,80,78,0,0,null,79.240482057323206,-1.7404820573232058,3.0292777918640192]
[null,177,2011,"2011-08-10",{"$f":"VLOOKUP($D185, data!$D$5:$E$6326,2, FALSE)","v":80},{"$f":"VLOOKUP($D185, data!$G$5:$H$6326,2, FALSE)","v":69},null,{"$f":"H154","v":0.70967741935483875},0.5036420395421437,78,85,0,0,null,76.569296941715407,3.4307030582845925,11.769723474123257]
[null,178,2011,"2011-08-09",{"$f":"VLOOKUP($D186, data!$D$5:$E$6326,2, FALSE)","v":78},{"$f":"VLOOKUP($D186, data!$G$5:$H$6326,2, FALSE)","v":72},null,{"$f":"H155","v":0.74193548387096775},0.55046826222684708,85,85,0,0,null,82.268374697605793,-4.2683746976057932,18.219022559161345]
[null,179,2011,"2011-08-08",{"$f":"VLOOKUP($D187, data!$D$5:$E$6326,2, FALSE)","v":85},{"$f":"VLOOKUP($D187, data!$G$5:$H$6326,2, FALSE)","v":74},null,{"$f":"H156","v":0.77419354838709675},0.59937565036420393,85,78.5,0,0,null,83.441550283376728,1.5584497166232723,2.4287655192431576]
[null,180,2011,"2011-08-07",{"$f":"VLOOKUP($D188, data!$D$5:$E$6326,2, FALSE)","v":85},{"$f":"VLOOKUP($D188, data!$G$5:$H$6326,2, FALSE)","v":77},null,{"$f":"H157","v":0.80645161290322576},0.65036420395421424,78.5,77.5,0,0,null,78.50758876600645,6.4924112339935505,42.151403631285653]
[null,181,2011,"2011-08-06",{"$f":"VLOOKUP($D189, data!$D$5:$E$6326,2, FALSE)","v":78.5},{"$f":"VLOOKUP($D189, data!$G$5:$H$6326,2, FALSE)","v":78.5},null,{"$f":"H158","v":0.83870967741935487},0.70343392299687835,77.5,76.5,0,0,null,77.984947801490648,0.51505219850935191,0.26527876718931687]
[null,182,2011,"2011-08-05",{"$f":"VLOOKUP($D190, data!$D$5:$E$6326,2, FALSE)","v":77.5},{"$f":"VLOOKUP($D190, data!$G$5:$H$6326,2, FALSE)","v":76},null,{"$f":"H159","v":0.87096774193548387},0.75858480749219559,76.5,78,0,0,null,77.056108012436113,0.44389198756388737,0.19704009662341834]
[null,183,2011,"2011-08-04",{"$f":"VLOOKUP($D191, data!$D$5:$E$6326,2, FALSE)","v":76.5},{"$f":"VLOOKUP($D191, data!$G$5:$H$6326,2, FALSE)","v":76.5},null,{"$f":"H160","v":0.90322580645161288},0.81581685744016641,78,83,0,0,null,77.558055438546859,-1.0580554385468588,1.1194813110385857]
[null,184,2011,"2011-08-03",{"$f":"VLOOKUP($D192, data!$D$5:$E$6326,2, FALSE)","v":78},{"$f":"VLOOKUP($D192, data!$G$5:$H$6326,2, FALSE)","v":79},null,{"$f":"H161","v":0.93548387096774188},0.8751300728407907,83,85.5,0,0,null,81.282469724701087,-3.2824697247010874,10.774607493579232]
[null,185,2011,"2011-08-02",{"$f":"VLOOKUP($D193, data!$D$5:$E$6326,2, FALSE)","v":83},{"$f":"VLOOKUP($D193, data!$G$5:$H$6326,2, FALSE)","v":83.5},null,{"$f":"H162","v":0.967741935483871},0.93652445369406878,85.5,0,0,1,null,84.758026223282286,-1.7580262232822861,3.0906562017481782]
[null,186,2011,"2011-08-01",{"$f":"VLOOKUP($D194, data!$D$5:$E$6326,2, FALSE)","v":85.5},{"$f":"VLOOKUP($D194, data!$G$5:$H$6326,2, FALSE)","v":82.5},null,{"$f":"H163","v":1},1,0,0,1,0,null,78.823529411767751,6.6764705882322488,44.57525951553027]
[null,187,{"$f":"C164-1","v":2010},{"$f":"DATE(C195, 8, 31)","v":"2010-08-31"},{"$f":"VLOOKUP($D195, data!$D$5:$E$6326,2, FALSE)","v":85.5},{"$f":"VLOOKUP($D195, data!$G$5:$H$6326,2, FALSE)","v":84},null,{"$f":"H164","v":3.2258064516129031E-2},{"$f":"I164","v":1.0405827263267429E-3},{"$f":"E196","v":83.5},{"$f":"E197","v":79},0,0,null,81.544529347815782,3.9554706521842178,15.645748080290641]
[null,188,2010,{"$f":"D195-1","v":"2010-08-30"},{"$f":"VLOOKUP($D196, data!$D$5:$E$6326,2, FALSE)","v":83.5},{"$f":"VLOOKUP($D196, data!$G$5:$H$6326,2, FALSE)","v":83},null,{"$f":"H165","v":6.4516129032258063E-2},4.1623309053069714E-3,{"$f":"E197","v":79},{"$f":"E198","v":72},0,0,null,79.050216953141884,4.4497830468581157,19.800569164105895]
[null,189,2010,"2010-08-29",{"$f":"VLOOKUP($D197, data!$D$5:$E$6326,2, FALSE)","v":79},{"$f":"VLOOKUP($D197, data!$G$5:$H$6326,2, FALSE)","v":82.5},null,{"$f":"H166","v":9.6774193548387094E-2},9.3652445369406864E-3,72,70.5,0,0,null,73.652166426102355,5.3478335738976455,28.599323934106863]
[null,190,2010,"2010-08-28",{"$f":"VLOOKUP($D198, data!$D$5:$E$6326,2, FALSE)","v":72},{"$f":"VLOOKUP($D198, data!$G$5:$H$6326,2, FALSE)","v":76.5},null,{"$f":"H167","v":0.12903225806451613},1.6649323621227886E-2,70.5,75.5,0,0,null,71.592037391217602,0.40796260878239821,0.16643349016454009]
[null,191,2010,"2010-08-27",{"$f":"VLOOKUP($D199, data!$D$5:$E$6326,2, FALSE)","v":70.5},{"$f":"VLOOKUP($D199, data!$G$5:$H$6326,2, FALSE)","v":72.5},null,{"$f":"H168","v":0.16129032258064516},2.6014568158168574E-2,75.5,68,0,0,null,76.808307614765255,-6.3083076147652548,39.794744962505298]
[null,192,2010,"2010-08-26",{"$f":"VLOOKUP($D200, data!$D$5:$E$6326,2, FALSE)","v":75.5},{"$f":"VLOOKUP($D200, data!$G$5:$H$6326,2, FALSE)","v":69},null,{"$f":"H169","v":0.19354838709677419},3.7460978147762745E-2,68,68,0,0,null,70.782065644946925,4.7179343550530746,22.258904578590069]
[null,193,2010,"2010-08-25",{"$f":"VLOOKUP($D201, data!$D$5:$E$6326,2, FALSE)","v":68},{"$f":"VLOOKUP($D201, data!$G$5:$H$6326,2, FALSE)","v":70},null,{"$f":"H170","v":0.22580645161290322},5.0988553590010401E-2,68,68.5,0,0,null,70.686274554855487,-2.6862745548554869,7.2160709840640447]
[null,194,2010,"2010-08-24",{"$f":"VLOOKUP($D202, data!$D$5:$E$6326,2, FALSE)","v":68},{"$f":"VLOOKUP($D202, data!$G$5:$H$6326,2, FALSE)","v":74},null,{"$f":"H171","v":0.25806451612903225},6.6597294484911543E-2,68.5,76,0,0,null,{"$f":"$O$7+SUMPRODUCT(H$7:M$7, H202:M202)","v":69.841587084933991},{"$f":"E202-O202","v":-1.841587084933991},{"$f":"P202*P202","v":3.3914429913956745}]
[null,{"$f":"B202+1","v":195},2010,"2010-08-23",{"$f":"VLOOKUP($D203, data!$D$5:$E$6326,2, FALSE)","v":68.5},{"$f":"VLOOKUP($D203, data!$G$5:$H$6326,2, FALSE)","v":72.5},null,{"$f":"H172","v":0.29032258064516131},8.4287200832466186E-2,76,73.5,0,0,null,76.260877952215054,-7.7608779522150542,60.23122658917773]
[null,196,2010,"2010-08-22",{"$f":"VLOOKUP($D204, data!$D$5:$E$6326,2, FALSE)","v":76},{"$f":"VLOOKUP($D204, data!$G$5:$H$6326,2, FALSE)","v":74.5},null,{"$f":"H173","v":0.32258064516129031},0.1040582726326743,73.5,80.5,0,0,null,73.109504348803412,2.8904956511965878,8.3549651095863862]
[null,197,2010,"2010-08-21",{"$f":"VLOOKUP($D205, data!$D$5:$E$6326,2, FALSE)","v":73.5},{"$f":"VLOOKUP($D205, data!$G$5:$H$6326,2, FALSE)","v":78.5},null,{"$f":"H174","v":0.35483870967741937},0.12591050988553593,80.5,78,0,0,null,79.141664280813686,-5.6416642808136857,31.828375857409]
[null,198,2010,"2010-08-20",{"$f":"VLOOKUP($D206, data!$D$5:$E$6326,2, FALSE)","v":80.5},{"$f":"VLOOKUP($D206, data!$G$5:$H$6326,2, FALSE)","v":81.5},null,{"$f":"H175","v":0.38709677419354838},0.14984391259105098,78,77,0,0,null,77.324691149723975,3.1753088502760249,10.082586294641251]
[null,199,2010,"2010-08-19",{"$f":"VLOOKUP($D207, data!$D$5:$E$6326,2, FALSE)","v":78},{"$f":"VLOOKUP($D207, data!$G$5:$H$6326,2, FALSE)","v":77},null,{"$f":"H176","v":0.41935483870967744},0.17585848074921959,77,82.5,0,0,null,75.642240540013489,2.3577594599865108,5.5590296711558835]
[null,200,2010,"2010-08-18",{"$f":"VLOOKUP($D208, data!$D$5:$E$6326,2, FALSE)","v":77},{"$f":"VLOOKUP($D208, data!$G$5:$H$6326,2, FALSE)","v":73.5},null,{"$f":"H177","v":0.45161290322580644},0.2039542143600416,82.5,80,0,0,null,80.493066762097158,-3.4930667620971576,12.201515404467921]
[null,201,2010,"2010-08-17",{"$f":"VLOOKUP($D209, data!$D$5:$E$6326,2, FALSE)","v":82.5},{"$f":"VLOOKUP($D209, data!$G$5:$H$6326,2, FALSE)","v":71.5},null,{"$f":"H178","v":0.4838709677419355},0.2341311134235172,80,73.5,0,0,null,79.604295278790659,2.8957047212093414,8.3851058324340695]
[null,202,2010,"2010-08-16",{"$f":"VLOOKUP($D210, data!$D$5:$E$6326,2, FALSE)","v":80},{"$f":"VLOOKUP($D210, data!$G$5:$H$6326,2, FALSE)","v":71.5},null,{"$f":"H179","v":0.5161290322580645},0.26638917793964617,73.5,74,0,0,null,74.362803573531636,5.6371964264683641,31.777983550587695]
[null,203,2010,"2010-08-15",{"$f":"VLOOKUP($D211, data!$D$5:$E$6326,2, FALSE)","v":73.5},{"$f":"VLOOKUP($D211, data!$G$5:$H$6326,2, FALSE)","v":74.5},null,{"$f":"H180","v":0.54838709677419351},0.3007284079084287,74,75.5,0,0,null,74.568768718137179,-1.0687687181371786,1.1422665728685879]
[null,204,2010,"2010-08-14",{"$f":"VLOOKUP($D212, data!$D$5:$E$6326,2, FALSE)","v":74},{"$f":"VLOOKUP($D212, data!$G$5:$H$6326,2, FALSE)","v":80},null,{"$f":"H181","v":0.58064516129032262},0.33714880332986474,75.5,74,0,0,null,76.077645524566861,-2.0776455245668615,4.316610925752709]
[null,205,2010,"2010-08-13",{"$f":"VLOOKUP($D213, data!$D$5:$E$6326,2, FALSE)","v":75.5},{"$f":"VLOOKUP($D213, data!$G$5:$H$6326,2, FALSE)","v":82.5},null,{"$f":"H182","v":0.61290322580645162},0.3756503642039542,74,85,0,0,null,73.126391108068901,2.3736088919310987,5.6340191718543782]
[null,206,2010,"2010-08-12",{"$f":"VLOOKUP($D214, data!$D$5:$E$6326,2, FALSE)","v":74},{"$f":"VLOOKUP($D214, data!$G$5:$H$6326,2, FALSE)","v":83},null,{"$f":"H183","v":0.64516129032258063},0.41623309053069718,85,85,0,0,null,82.008926930620589,-8.0089269306205892,64.142910580019731]
[null,207,2010,"2010-08-11",{"$f":"VLOOKUP($D215, data!$D$5:$E$6326,2, FALSE)","v":85},{"$f":"VLOOKUP($D215, data!$G$5:$H$6326,2, FALSE)","v":82.5},null,{"$f":"H184","v":0.67741935483870963},0.45889698231009357,85,84.5,0,0,null,82.171331710092943,2.828668289907057,8.0013642943257146]
[null,208,2010,"2010-08-10",{"$f":"VLOOKUP($D216, data!$D$5:$E$6326,2, FALSE)","v":85},{"$f":"VLOOKUP($D216, data!$G$5:$H$6326,2, FALSE)","v":82},null,{"$f":"H185","v":0.70967741935483875},0.5036420395421437,84.5,80,0,0,null,82.600511854379334,2.3994881456206656,5.7575433609741005]
[null,209,2010,"2010-08-09",{"$f":"VLOOKUP($D217, data!$D$5:$E$6326,2, FALSE)","v":84.5},{"$f":"VLOOKUP($D217, data!$G$5:$H$6326,2, FALSE)","v":80},null,{"$f":"H186","v":0.74193548387096775},0.55046826222684708,80,76,0,0,null,79.750370837412859,4.7496291625871407,22.558977182098225]
[null,210,2010,"2010-08-08",{"$f":"VLOOKUP($D218, data!$D$5:$E$6326,2, FALSE)","v":80},{"$f":"VLOOKUP($D218, data!$G$5:$H$6326,2, FALSE)","v":78},null,{"$f":"H187","v":0.77419354838709675},0.59937565036420393,76,81,0,0,null,75.821056806554893,4.1789431934451073,17.46356621404119]
[null,211,2010,"2010-08-07",{"$f":"VLOOKUP($D219, data!$D$5:$E$6326,2, FALSE)","v":76},{"$f":"VLOOKUP($D219, data!$G$5:$H$6326,2, FALSE)","v":72.5},null,{"$f":"H188","v":0.80645161290322576},0.65036420395421424,81,87.5,0,0,null,78.858329952433934,-2.8583299524339338,8.1700501169809741]
[null,212,2010,"2010-08-06",{"$f":"VLOOKUP($D220, data!$D$5:$E$6326,2, FALSE)","v":81},{"$f":"VLOOKUP($D220, data!$G$5:$H$6326,2, FALSE)","v":73},null,{"$f":"H189","v":0.83870967741935487},0.70343392299687835,87.5,83,0,0,null,84.920046167729851,-3.9200461677298506,15.366761957133487]
[null,213,2010,"2010-08-05",{"$f":"VLOOKUP($D221, data!$D$5:$E$6326,2, FALSE)","v":87.5},{"$f":"VLOOKUP($D221, data!$G$5:$H$6326,2, FALSE)","v":75.5},null,{"$f":"H190","v":0.87096774193548387},0.75858480749219559,83,80.5,0,0,null,81.848785547369602,5.6512144526303985,31.936224789618695]
[null,214,2010,"2010-08-04",{"$f":"VLOOKUP($D222, data!$D$5:$E$6326,2, FALSE)","v":83},{"$f":"VLOOKUP($D222, data!$G$5:$H$6326,2, FALSE)","v":77},null,{"$f":"H191","v":0.90322580645161288},0.81581685744016641,80.5,77,0,0,null,80.551009697465929,2.4489903025340709,5.9975535019059203]
[null,215,2010,"2010-08-03",{"$f":"VLOOKUP($D223, data!$D$5:$E$6326,2, FALSE)","v":80.5},{"$f":"VLOOKUP($D223, data!$G$5:$H$6326,2, FALSE)","v":76},null,{"$f":"H192","v":0.93548387096774188},0.8751300728407907,77,74,0,0,null,78.376461914391086,2.1235380856089137,4.50941400103157]
[null,216,2010,"2010-08-02",{"$f":"VLOOKUP($D224, data!$D$5:$E$6326,2, FALSE)","v":77},{"$f":"VLOOKUP($D224, data!$G$5:$H$6326,2, FALSE)","v":75.5},null,{"$f":"H193","v":0.967741935483871},0.93652445369406878,74,0,0,1,null,75.548254182302557,1.4517458176974429,2.1075659192020173]
[null,217,2010,"2010-08-01",{"$f":"VLOOKUP($D225, data!$D$5:$E$6326,2, FALSE)","v":74},{"$f":"VLOOKUP($D225, data!$G$5:$H$6326,2, FALSE)","v":75.5},null,{"$f":"H194","v":1},1,0,0,1,0,null,78.823529411767751,-4.8235294117677512,23.266435986188547]
[null,218,2009,{"$f":"DATE(C226, 8, 31)","v":"2009-08-31"},{"$f":"VLOOKUP($D226, data!$D$5:$E$6326,2, FALSE)","v":67},{"$f":"VLOOKUP($D226, data!$G$5:$H$6326,2, FALSE)","v":58.5},null,{"$f":"H195","v":3.2258064516129031E-2},{"$f":"I195","v":1.0405827263267429E-3},{"$f":"E227","v":76},{"$f":"E228","v":71},0,0,null,76.859262813857399,-9.8592628138573986,97.205063232711311]
[null,219,{"$f":"C196-1","v":2009},{"$f":"D226-1","v":"2009-08-30"},{"$f":"VLOOKUP($D227, data!$D$5:$E$6326,2, FALSE)","v":76},{"$f":"VLOOKUP($D227, data!$G$5:$H$6326,2, FALSE)","v":58.5},null,{"$f":"H196","v":6.4516129032258063E-2},4.1623309053069714E-3,{"$f":"E228","v":71},{"$f":"E229","v":69},0,0,null,73.138833962682938,2.8611660373170622,8.1862710930966198]
[null,220,2009,"2009-08-29",{"$f":"VLOOKUP($D228, data!$D$5:$E$6326,2, FALSE)","v":71},{"$f":"VLOOKUP($D228, data!$G$5:$H$6326,2, FALSE)","v":62.5},null,{"$f":"H197","v":9.6774193548387094E-2},9.3652445369406864E-3,69,73.5,0,0,null,70.754202246928514,0.24579775307148566,6.0416535414991035E-2]
[null,221,2009,"2009-08-28",{"$f":"VLOOKUP($D229, data!$D$5:$E$6326,2, FALSE)","v":69},{"$f":"VLOOKUP($D229, data!$G$5:$H$6326,2, FALSE)","v":64},null,{"$f":"H198","v":0.12903225806451613},1.6649323621227886E-2,73.5,79,0,0,null,73.416602509691728,-4.4166025096917281,19.50637772861527]
[null,222,2009,"2009-08-27",{"$f":"VLOOKUP($D230, data!$D$5:$E$6326,2, FALSE)","v":73.5},{"$f":"VLOOKUP($D230, data!$G$5:$H$6326,2, FALSE)","v":64},null,{"$f":"H199","v":0.16129032258064516},2.6014568158168574E-2,79,77,0,0,null,78.125036860917348,-4.6250368609173478,21.390965964844195]
[null,223,2009,"2009-08-26",{"$f":"VLOOKUP($D231, data!$D$5:$E$6326,2, FALSE)","v":79},{"$f":"VLOOKUP($D231, data!$G$5:$H$6326,2, FALSE)","v":67.5},null,{"$f":"H200","v":0.19354838709677419},3.7460978147762745E-2,77,78,0,0,null,76.338330158884702,2.6616698411152981,7.0844863431027365]
[null,224,2009,"2009-08-25",{"$f":"VLOOKUP($D232, data!$D$5:$E$6326,2, FALSE)","v":77},{"$f":"VLOOKUP($D232, data!$G$5:$H$6326,2, FALSE)","v":71},null,{"$f":"H201","v":0.22580645161290322},5.0988553590010401E-2,78,79,0,0,null,76.960819652971779,3.9180347028221263E-2,1.5350995932518468E-3]
[null,225,2009,"2009-08-24",{"$f":"VLOOKUP($D233, data!$D$5:$E$6326,2, FALSE)","v":78},{"$f":"VLOOKUP($D233, data!$G$5:$H$6326,2, FALSE)","v":66.5},null,{"$f":"H202","v":0.25806451612903225},6.6597294484911543E-2,79,77.5,0,0,null,78.002801907673756,-2.8019076737564319E-3,7.8506866122551799E-6]
[null,226,2009,"2009-08-23",{"$f":"VLOOKUP($D234, data!$D$5:$E$6326,2, FALSE)","v":79},{"$f":"VLOOKUP($D234, data!$G$5:$H$6326,2, FALSE)","v":65},null,{"$f":"H203","v":0.29032258064516131},8.4287200832466186E-2,77.5,83.5,0,0,null,75.810769395948654,3.1892306040513461,10.171191845817713]
[null,227,2009,"2009-08-22",{"$f":"VLOOKUP($D235, data!$D$5:$E$6326,2, FALSE)","v":77.5},{"$f":"VLOOKUP($D235, data!$G$5:$H$6326,2, FALSE)","v":62.5},null,{"$f":"H204","v":0.32258064516129031},0.1040582726326743,83.5,83,0,0,null,80.705155983165497,-3.205155983165497,10.273024876421584]
[null,228,2009,"2009-08-21",{"$f":"VLOOKUP($D236, data!$D$5:$E$6326,2, FALSE)","v":83.5},{"$f":"VLOOKUP($D236, data!$G$5:$H$6326,2, FALSE)","v":66},null,{"$f":"H205","v":0.35483870967741937},0.12591050988553593,83,83,0,0,null,80.318097052394791,3.1819029476052094,10.12450636797872]
[null,229,2009,"2009-08-20",{"$f":"VLOOKUP($D237, data!$D$5:$E$6326,2, FALSE)","v":83},{"$f":"VLOOKUP($D237, data!$G$5:$H$6326,2, FALSE)","v":71},null,{"$f":"H206","v":0.38709677419354838},0.14984391259105098,83,81,0,0,null,80.66838659507053,2.3316134049294703,5.4364210700467979]
[null,230,2009,"2009-08-19",{"$f":"VLOOKUP($D238, data!$D$5:$E$6326,2, FALSE)","v":83},{"$f":"VLOOKUP($D238, data!$G$5:$H$6326,2, FALSE)","v":71},null,{"$f":"H207","v":0.41935483870967744},0.17585848074921959,81,83.5,0,0,null,78.680501193758317,4.3194988062416826,18.658069937123322]
[null,231,2009,"2009-08-18",{"$f":"VLOOKUP($D239, data!$D$5:$E$6326,2, FALSE)","v":81},{"$f":"VLOOKUP($D239, data!$G$5:$H$6326,2, FALSE)","v":74},null,{"$f":"H208","v":0.45161290322580644},0.2039542143600416,83.5,81.5,0,0,null,81.046209029244949,-4.6209029244948852E-2,2.135274383760538E-3]
[null,232,2009,"2009-08-17",{"$f":"VLOOKUP($D240, data!$D$5:$E$6326,2, FALSE)","v":83.5},{"$f":"VLOOKUP($D240, data!$G$5:$H$6326,2, FALSE)","v":76.5},null,{"$f":"H209","v":0.4838709677419355},0.2341311134235172,81.5,79.5,0,0,null,79.814739990647155,3.6852600093528451,13.581141336535332]
[null,233,2009,"2009-08-16",{"$f":"VLOOKUP($D241, data!$D$5:$E$6326,2, FALSE)","v":81.5},{"$f":"VLOOKUP($D241, data!$G$5:$H$6326,2, FALSE)","v":79},null,{"$f":"H210","v":0.5161290322580645},0.26638917793964617,79.5,78,0,0,null,78.507348761572075,2.9926512384279249,8.9559614348641929]
[null,234,2009,"2009-08-15",{"$f":"VLOOKUP($D242, data!$D$5:$E$6326,2, FALSE)","v":79.5},{"$f":"VLOOKUP($D242, data!$G$5:$H$6326,2, FALSE)","v":78},null,{"$f":"H211","v":0.54838709677419351},0.3007284079084287,78,72,0,0,null,78.350151798520272,1.1498482014797275,1.3221508864461642]
[null,235,2009,"2009-08-14",{"$f":"VLOOKUP($D243, data!$D$5:$E$6326,2, FALSE)","v":78},{"$f":"VLOOKUP($D243, data!$G$5:$H$6326,2, FALSE)","v":75.5},null,{"$f":"H212","v":0.58064516129032262},0.33714880332986474,72,78.5,0,0,null,72.531548998499972,5.4684510015000285,29.903956355806663]
[null,236,2009,"2009-08-13",{"$f":"VLOOKUP($D244, data!$D$5:$E$6326,2, FALSE)","v":72},{"$f":"VLOOKUP($D244, data!$G$5:$H$6326,2, FALSE)","v":73},null,{"$f":"H213","v":0.61290322580645162},0.3756503642039542,78.5,84,0,0,null,76.89535326722212,-4.8953532672221201,23.964483610902285]
[null,237,2009,"2009-08-12",{"$f":"VLOOKUP($D245, data!$D$5:$E$6326,2, FALSE)","v":78.5},{"$f":"VLOOKUP($D245, data!$G$5:$H$6326,2, FALSE)","v":71.5},null,{"$f":"H214","v":0.64516129032258063},0.41623309053069718,84,83,0,0,null,81.538353821988153,-3.038353821988153,9.2315939475900173]
[null,238,2009,"2009-08-11",{"$f":"VLOOKUP($D246, data!$D$5:$E$6326,2, FALSE)","v":84},{"$f":"VLOOKUP($D246, data!$G$5:$H$6326,2, FALSE)","v":72},null,{"$f":"H215","v":0.67741935483870963},0.45889698231009357,83,74.5,0,0,null,82.221015395012415,1.7789846049875848,3.1647862247828331]
[null,239,2009,"2009-08-10",{"$f":"VLOOKUP($D247, data!$D$5:$E$6326,2, FALSE)","v":83},{"$f":"VLOOKUP($D247, data!$G$5:$H$6326,2, FALSE)","v":77.5},null,{"$f":"H216","v":0.70967741935483875},0.5036420395421437,74.5,70.5,0,0,null,76.160828439232304,6.8391715607676957,46.77426763761364]
[null,240,2009,"2009-08-09",{"$f":"VLOOKUP($D248, data!$D$5:$E$6326,2, FALSE)","v":74.5},{"$f":"VLOOKUP($D248, data!$G$5:$H$6326,2, FALSE)","v":84},null,{"$f":"H217","v":0.74193548387096775},0.55046826222684708,70.5,74,0,0,null,72.472574915882348,2.0274250841176524,4.1104524717094701]
[null,241,2009,"2009-08-08",{"$f":"VLOOKUP($D249, data!$D$5:$E$6326,2, FALSE)","v":70.5},{"$f":"VLOOKUP($D249, data!$G$5:$H$6326,2, FALSE)","v":78.5},null,{"$f":"H218","v":0.77419354838709675},0.59937565036420393,74,74,0,0,null,75.375325540382192,-4.8753255403821925,23.768799124702916]
[null,242,2009,"2009-08-07",{"$f":"VLOOKUP($D250, data!$D$5:$E$6326,2, FALSE)","v":74},{"$f":"VLOOKUP($D250, data!$G$5:$H$6326,2, FALSE)","v":69},null,{"$f":"H219","v":0.80645161290322576},0.65036420395421424,74,82,0,0,null,74.160642497245689,-0.16064249724568924,2.5806011921331275E-2]
[null,243,2009,"2009-08-06",{"$f":"VLOOKUP($D251, data!$D$5:$E$6326,2, FALSE)","v":74},{"$f":"VLOOKUP($D251, data!$G$5:$H$6326,2, FALSE)","v":71},null,{"$f":"H220","v":0.83870967741935487},0.70343392299687835,82,76.5,0,0,null,81.588771643613171,-7.5887716436131711,57.589455058907348]
[null,244,2009,"2009-08-05",{"$f":"VLOOKUP($D252, data!$D$5:$E$6326,2, FALSE)","v":82},{"$f":"VLOOKUP($D252, data!$G$5:$H$6326,2, FALSE)","v":70},null,{"$f":"H221","v":0.87096774193548387},0.75858480749219559,76.5,78.5,0,0,null,76.973538853920758,5.0264611460792423,25.26531165304425]
[null,245,2009,"2009-08-04",{"$f":"VLOOKUP($D253, data!$D$5:$E$6326,2, FALSE)","v":76.5},{"$f":"VLOOKUP($D253, data!$G$5:$H$6326,2, FALSE)","v":76},null,{"$f":"H222","v":0.90322580645161288},0.81581685744016641,78.5,72.5,0,0,null,79.692432638716411,-3.1924326387164115,10.191626152741829]
[null,246,2009,"2009-08-03",{"$f":"VLOOKUP($D254, data!$D$5:$E$6326,2, FALSE)","v":78.5},{"$f":"VLOOKUP($D254, data!$G$5:$H$6326,2, FALSE)","v":75.5},null,{"$f":"H223","v":0.93548387096774188},0.8751300728407907,72.5,74.5,0,0,null,74.690068913753208,3.8099310862467917,14.515574881949657]
[null,247,2009,"2009-08-02",{"$f":"VLOOKUP($D255, data!$D$5:$E$6326,2, FALSE)","v":72.5},{"$f":"VLOOKUP($D255, data!$G$5:$H$6326,2, FALSE)","v":67.5},null,{"$f":"H224","v":0.967741935483871},0.93652445369406878,74.5,0,0,1,null,75.948679053649499,-3.4486790536494993,11.893387215080807]
[null,248,2009,"2009-08-01",{"$f":"VLOOKUP($D256, data!$D$5:$E$6326,2, FALSE)","v":74.5},{"$f":"VLOOKUP($D256, data!$G$5:$H$6326,2, FALSE)","v":68},null,{"$f":"H225","v":1},1,0,0,1,0,null,78.823529411767751,-4.3235294117677512,18.692906574420796]
[null,249,2008,{"$f":"DATE(C257, 8, 31)","v":"2008-08-31"},{"$f":"VLOOKUP($D257, data!$D$5:$E$6326,2, FALSE)","v":75},{"$f":"VLOOKUP($D257, data!$G$5:$H$6326,2, FALSE)","v":75},null,{"$f":"H226","v":3.2258064516129031E-2},{"$f":"I226","v":1.0405827263267429E-3},{"$f":"E258","v":76},{"$f":"E259","v":74.5},0,0,null,76.281278704249871,-1.2812787042498712,1.641675117964229]
[null,250,2008,{"$f":"D257-1","v":"2008-08-30"},{"$f":"VLOOKUP($D258, data!$D$5:$E$6326,2, FALSE)","v":76},{"$f":"VLOOKUP($D258, data!$G$5:$H$6326,2, FALSE)","v":71.5},null,{"$f":"H227","v":6.4516129032258063E-2},4.1623309053069714E-3,{"$f":"E259","v":74.5},{"$f":"E260","v":71},0,0,null,75.611531428050114,0.38846857194988615,0.15090783139278388]
[null,251,{"$f":"C228-1","v":2008},"2008-08-29",{"$f":"VLOOKUP($D259, data!$D$5:$E$6326,2, FALSE)","v":74.5},{"$f":"VLOOKUP($D259, data!$G$5:$H$6326,2, FALSE)","v":74.5},null,{"$f":"H228","v":9.6774193548387094E-2},9.3652445369406864E-3,71,69,0,0,null,73.099024158954563,1.4009758410454367,1.9627333071929687]
[null,252,2008,"2008-08-28",{"$f":"VLOOKUP($D260, data!$D$5:$E$6326,2, FALSE)","v":71},{"$f":"VLOOKUP($D260, data!$G$5:$H$6326,2, FALSE)","v":71.5},null,{"$f":"H229","v":0.12903225806451613},1.6649323621227886E-2,69,70.5,0,0,null,71.216454362330381,-0.2164543623303814,4.6852490971852033E-2]
[null,253,2008,"2008-08-27",{"$f":"VLOOKUP($D261, data!$D$5:$E$6326,2, FALSE)","v":69},{"$f":"VLOOKUP($D261, data!$G$5:$H$6326,2, FALSE)","v":72},null,{"$f":"H230","v":0.16129032258064516},2.6014568158168574E-2,70.5,76,0,0,null,71.482952365050011,-2.4829523650500107,6.1650524471074419]
[null,254,2008,"2008-08-26",{"$f":"VLOOKUP($D262, data!$D$5:$E$6326,2, FALSE)","v":70.5},{"$f":"VLOOKUP($D262, data!$G$5:$H$6326,2, FALSE)","v":68.5},null,{"$f":"H231","v":0.19354838709677419},3.7460978147762745E-2,76,75,0,0,null,76.032895367282975,-5.5328953672829755,30.612931145301413]
[null,255,2008,"2008-08-25",{"$f":"VLOOKUP($D263, data!$D$5:$E$6326,2, FALSE)","v":76},{"$f":"VLOOKUP($D263, data!$G$5:$H$6326,2, FALSE)","v":69},null,{"$f":"H232","v":0.22580645161290322},5.0988553590010401E-2,75,70.5,0,0,null,75.961946119651259,3.8053880348741131E-2,1.4480978095963064E-3]
[null,256,2008,"2008-08-24",{"$f":"VLOOKUP($D264, data!$D$5:$E$6326,2, FALSE)","v":75},{"$f":"VLOOKUP($D264, data!$G$5:$H$6326,2, FALSE)","v":70},null,{"$f":"H233","v":0.25806451612903225},6.6597294484911543E-2,70.5,73,0,0,null,71.938701521413947,3.0612984785860533,9.3715483749932851]
[null,257,2008,"2008-08-23",{"$f":"VLOOKUP($D265, data!$D$5:$E$6326,2, FALSE)","v":70.5},{"$f":"VLOOKUP($D265, data!$G$5:$H$6326,2, FALSE)","v":77.5},null,{"$f":"H234","v":0.29032258064516131},8.4287200832466186E-2,73,71,0,0,null,74.271174516710204,-3.7711745167102038,14.221757235484439]
[null,258,2008,"2008-08-22",{"$f":"VLOOKUP($D266, data!$D$5:$E$6326,2, FALSE)","v":73},{"$f":"VLOOKUP($D266, data!$G$5:$H$6326,2, FALSE)","v":77.5},null,{"$f":"H235","v":0.32258064516129031},0.1040582726326743,71,68.5,0,0,null,{"$f":"$O$7+SUMPRODUCT(H$7:M$7, H266:M266)","v":73.089039796437376},{"$f":"E266-O266","v":-8.903979643737614E-2},{"$f":"P266*P266","v":7.928085349609381E-3}]
[null,{"$f":"B266+1","v":259},2008,"2008-08-21",{"$f":"VLOOKUP($D267, data!$D$5:$E$6326,2, FALSE)","v":71},{"$f":"VLOOKUP($D267, data!$G$5:$H$6326,2, FALSE)","v":75},null,{"$f":"H236","v":0.35483870967741937},0.12591050988553593,68.5,76,0,0,null,69.861744002548448,1.1382559974515516,1.2956267157344266]
[null,260,2008,"2008-08-20",{"$f":"VLOOKUP($D268, data!$D$5:$E$6326,2, FALSE)","v":68.5},{"$f":"VLOOKUP($D268, data!$G$5:$H$6326,2, FALSE)","v":73},null,{"$f":"H237","v":0.38709677419354838},0.14984391259105098,76,77.5,0,0,null,75.640422505820851,-7.140422505820851,50.985633561632923]
[null,261,2008,"2008-08-19",{"$f":"VLOOKUP($D269, data!$D$5:$E$6326,2, FALSE)","v":76},{"$f":"VLOOKUP($D269, data!$G$5:$H$6326,2, FALSE)","v":72.5},null,{"$f":"H238","v":0.41935483870967744},0.17585848074921959,77.5,74,0,0,null,77.446341106121594,-1.4463411061215936,2.0919025952570349]
[null,262,2008,"2008-08-18",{"$f":"VLOOKUP($D270, data!$D$5:$E$6326,2, FALSE)","v":77.5},{"$f":"VLOOKUP($D270, data!$G$5:$H$6326,2, FALSE)","v":75},null,{"$f":"H239","v":0.45161290322580644},0.2039542143600416,74,73.5,0,0,null,74.759243009898796,2.7407569901012039,7.5117488787886106]
[null,263,2008,"2008-08-17",{"$f":"VLOOKUP($D271, data!$D$5:$E$6326,2, FALSE)","v":74},{"$f":"VLOOKUP($D271, data!$G$5:$H$6326,2, FALSE)","v":73.5},null,{"$f":"H240","v":0.4838709677419355},0.2341311134235172,73.5,73.5,0,0,null,74.398771951280381,-0.39877195128038068,0.15901906912796229]
[null,264,2008,"2008-08-16",{"$f":"VLOOKUP($D272, data!$D$5:$E$6326,2, FALSE)","v":73.5},{"$f":"VLOOKUP($D272, data!$G$5:$H$6326,2, FALSE)","v":70.5},null,{"$f":"H241","v":0.5161290322580645},0.26638917793964617,73.5,75,0,0,null,74.197665256500898,-0.69766525650089761,0.48673681012846326]
[null,265,2008,"2008-08-15",{"$f":"VLOOKUP($D273, data!$D$5:$E$6326,2, FALSE)","v":73.5},{"$f":"VLOOKUP($D273, data!$G$5:$H$6326,2, FALSE)","v":69.5},null,{"$f":"H242","v":0.54838709677419351},0.3007284079084287,75,73,0,0,null,75.782464253407881,-2.2824642534078805,5.2096430680847936]
[null,266,2008,"2008-08-14",{"$f":"VLOOKUP($D274, data!$D$5:$E$6326,2, FALSE)","v":75},{"$f":"VLOOKUP($D274, data!$G$5:$H$6326,2, FALSE)","v":71},null,{"$f":"H243","v":0.58064516129032262},0.33714880332986474,73,71.5,0,0,null,74.488366960408939,0.51163303959106088,0.26176836720118807]
[null,267,2008,"2008-08-13",{"$f":"VLOOKUP($D275, data!$D$5:$E$6326,2, FALSE)","v":73},{"$f":"VLOOKUP($D275, data!$G$5:$H$6326,2, FALSE)","v":72.5},null,{"$f":"H244","v":0.61290322580645162},0.3756503642039542,71.5,68,0,0,null,73.931618140856472,-0.93161814085647165,0.86791236037286867]
[null,268,2008,"2008-08-12",{"$f":"VLOOKUP($D276, data!$D$5:$E$6326,2, FALSE)","v":71.5},{"$f":"VLOOKUP($D276, data!$G$5:$H$6326,2, FALSE)","v":69},null,{"$f":"H245","v":0.64516129032258063},0.41623309053069718,68,72.5,0,0,null,70.458710267708511,1.0412897322914887,1.0842843065756802]
[null,269,2008,"2008-08-11",{"$f":"VLOOKUP($D277, data!$D$5:$E$6326,2, FALSE)","v":68},{"$f":"VLOOKUP($D277, data!$G$5:$H$6326,2, FALSE)","v":68},null,{"$f":"H246","v":0.67741935483870963},0.45889698231009357,72.5,72.5,0,0,null,74.142369730788005,-6.1423697307880047,37.728705909700707]
[null,270,2008,"2008-08-10",{"$f":"VLOOKUP($D278, data!$D$5:$E$6326,2, FALSE)","v":72.5},{"$f":"VLOOKUP($D278, data!$G$5:$H$6326,2, FALSE)","v":66},null,{"$f":"H247","v":0.70967741935483875},0.5036420395421437,72.5,74,0,0,null,73.981144844236979,-1.4811448442369795,2.193790049609786]
[null,271,2008,"2008-08-09",{"$f":"VLOOKUP($D279, data!$D$5:$E$6326,2, FALSE)","v":72.5},{"$f":"VLOOKUP($D279, data!$G$5:$H$6326,2, FALSE)","v":71},null,{"$f":"H248","v":0.74193548387096775},0.55046826222684708,74,78.5,0,0,null,74.532426588672706,-2.0324265886727062,4.130757838343774]
[null,272,2008,"2008-08-08",{"$f":"VLOOKUP($D280, data!$D$5:$E$6326,2, FALSE)","v":74},{"$f":"VLOOKUP($D280, data!$G$5:$H$6326,2, FALSE)","v":71},null,{"$f":"H249","v":0.77419354838709675},0.59937565036420393,78.5,81,0,0,null,77.823181163289618,-3.8231811632896182,14.616714207332558]
[null,273,2008,"2008-08-07",{"$f":"VLOOKUP($D281, data!$D$5:$E$6326,2, FALSE)","v":78.5},{"$f":"VLOOKUP($D281, data!$G$5:$H$6326,2, FALSE)","v":73},null,{"$f":"H250","v":0.80645161290322576},0.65036420395421424,81,77,0,0,null,80.59228228125653,-2.09228228125653,4.3776451444600291]
[null,274,2008,"2008-08-06",{"$f":"VLOOKUP($D282, data!$D$5:$E$6326,2, FALSE)","v":81},{"$f":"VLOOKUP($D282, data!$G$5:$H$6326,2, FALSE)","v":75.5},null,{"$f":"H251","v":0.83870967741935487},0.70343392299687835,77,76.5,0,0,null,77.584522930143706,3.4154770698562942,11.665483614714137]
[null,275,2008,"2008-08-05",{"$f":"VLOOKUP($D283, data!$D$5:$E$6326,2, FALSE)","v":77},{"$f":"VLOOKUP($D283, data!$G$5:$H$6326,2, FALSE)","v":78},null,{"$f":"H252","v":0.87096774193548387},0.75858480749219559,76.5,75.5,0,0,null,77.46895380501293,-0.46895380501293005,0.21991767123610523]
[null,276,2008,"2008-08-04",{"$f":"VLOOKUP($D284, data!$D$5:$E$6326,2, FALSE)","v":76.5},{"$f":"VLOOKUP($D284, data!$G$5:$H$6326,2, FALSE)","v":78.5},null,{"$f":"H253","v":0.90322580645161288},0.81581685744016641,75.5,75,0,0,null,76.877037618057926,-0.37703761805792624,0.14215736543079466]
[null,277,2008,"2008-08-03",{"$f":"VLOOKUP($D285, data!$D$5:$E$6326,2, FALSE)","v":75.5},{"$f":"VLOOKUP($D285, data!$G$5:$H$6326,2, FALSE)","v":72.5},null,{"$f":"H254","v":0.93548387096774188},0.8751300728407907,75,82,0,0,null,75.45365589275751,4.634410724248994E-2,2.1477762761034085E-3]
[null,278,2008,"2008-08-02",{"$f":"VLOOKUP($D286, data!$D$5:$E$6326,2, FALSE)","v":75},{"$f":"VLOOKUP($D286, data!$G$5:$H$6326,2, FALSE)","v":73},null,{"$f":"H255","v":0.967741935483871},0.93652445369406878,82,0,0,1,null,81.955052123853676,-6.955052123853676,48.372750045521528]
[null,279,2008,"2008-08-01",{"$f":"VLOOKUP($D287, data!$D$5:$E$6326,2, FALSE)","v":82},{"$f":"VLOOKUP($D287, data!$G$5:$H$6326,2, FALSE)","v":78.5},null,{"$f":"H256","v":1},1,0,0,1,0,null,78.823529411767751,3.1764705882322488,10.089965397904528]
[null,280,2007,{"$f":"DATE(C288, 8, 31)","v":"2007-08-31"},{"$f":"VLOOKUP($D288, data!$D$5:$E$6326,2, FALSE)","v":75},{"$f":"VLOOKUP($D288, data!$G$5:$H$6326,2, FALSE)","v":67},null,{"$f":"H257","v":3.2258064516129031E-2},{"$f":"I257","v":1.0405827263267429E-3},{"$f":"E289","v":76},{"$f":"E290","v":75.5},0,0,null,76.116140387219133,-1.1161403872191329,1.2457693639816758]
[null,281,2007,{"$f":"D288-1","v":"2007-08-30"},{"$f":"VLOOKUP($D289, data!$D$5:$E$6326,2, FALSE)","v":76},{"$f":"VLOOKUP($D289, data!$G$5:$H$6326,2, FALSE)","v":66},null,{"$f":"H258","v":6.4516129032258063E-2},4.1623309053069714E-3,{"$f":"E290","v":75.5},{"$f":"E291","v":75},0,0,null,75.751827902621102,0.24817209737889812,6.1589389917441291E-2]
[null,282,2007,"2007-08-29",{"$f":"VLOOKUP($D290, data!$D$5:$E$6326,2, FALSE)","v":75.5},{"$f":"VLOOKUP($D290, data!$G$5:$H$6326,2, FALSE)","v":76.5},null,{"$f":"H259","v":9.6774193548387094E-2},9.3652445369406864E-3,75,75.5,0,0,null,75.229024069030402,0.27097593096959827,7.3427955164840492E-2]
[null,283,{"$f":"C260-1","v":2007},"2007-08-28",{"$f":"VLOOKUP($D291, data!$D$5:$E$6326,2, FALSE)","v":75},{"$f":"VLOOKUP($D291, data!$G$5:$H$6326,2, FALSE)","v":79},null,{"$f":"H260","v":0.12903225806451613},1.6649323621227886E-2,75.5,77.5,0,0,null,75.266009470625605,-0.26600947062560465,7.0761038462514428E-2]
[null,284,2007,"2007-08-27",{"$f":"VLOOKUP($D292, data!$D$5:$E$6326,2, FALSE)","v":75.5},{"$f":"VLOOKUP($D292, data!$G$5:$H$6326,2, FALSE)","v":69.5},null,{"$f":"H261","v":0.16129032258064516},2.6014568158168574E-2,77.5,81.5,0,0,null,76.180639820238255,-0.68063982023825531,0.46327056489396451]
[null,285,2007,"2007-08-26",{"$f":"VLOOKUP($D293, data!$D$5:$E$6326,2, FALSE)","v":77.5},{"$f":"VLOOKUP($D293, data!$G$5:$H$6326,2, FALSE)","v":69.5},null,{"$f":"H262","v":0.19354838709677419},3.7460978147762745E-2,81.5,75,0,0,null,80.437568952099369,-2.9375689520993689,8.6293113483381845]
[null,286,2007,"2007-08-25",{"$f":"VLOOKUP($D294, data!$D$5:$E$6326,2, FALSE)","v":81.5},{"$f":"VLOOKUP($D294, data!$G$5:$H$6326,2, FALSE)","v":71.5},null,{"$f":"H263","v":0.22580645161290322},5.0988553590010401E-2,75,69,0,0,null,76.209653595197352,5.2903464048026478,27.987765082808302]
[null,287,2007,"2007-08-24",{"$f":"VLOOKUP($D295, data!$D$5:$E$6326,2, FALSE)","v":75},{"$f":"VLOOKUP($D295, data!$G$5:$H$6326,2, FALSE)","v":74.5},null,{"$f":"H264","v":0.25806451612903225},6.6597294484911543E-2,69,62.5,0,0,null,72.47137923619573,2.5286207638042697,6.3939229671420881]
[null,288,2007,"2007-08-23",{"$f":"VLOOKUP($D296, data!$D$5:$E$6326,2, FALSE)","v":69},{"$f":"VLOOKUP($D296, data!$G$5:$H$6326,2, FALSE)","v":78},null,{"$f":"H265","v":0.29032258064516131},8.4287200832466186E-2,62.5,59,0,0,null,67.843912022793035,1.1560879772069654,1.3365394110424931]
[null,289,2007,"2007-08-22",{"$f":"VLOOKUP($D297, data!$D$5:$E$6326,2, FALSE)","v":62.5},{"$f":"VLOOKUP($D297, data!$G$5:$H$6326,2, FALSE)","v":79.5},null,{"$f":"H266","v":0.32258064516129031},0.1040582726326743,59,65.5,0,0,null,63.97425783520287,-1.4742578352028701,2.173436164657053]
[null,290,2007,"2007-08-21",{"$f":"VLOOKUP($D298, data!$D$5:$E$6326,2, FALSE)","v":59},{"$f":"VLOOKUP($D298, data!$G$5:$H$6326,2, FALSE)","v":78},null,{"$f":"H267","v":0.35483870967741937},0.12591050988553593,65.5,67,0,0,null,68.945439627743298,-9.9454396277432977,98.911769389086743]
[null,291,2007,"2007-08-20",{"$f":"VLOOKUP($D299, data!$D$5:$E$6326,2, FALSE)","v":65.5},{"$f":"VLOOKUP($D299, data!$G$5:$H$6326,2, FALSE)","v":73},null,{"$f":"H268","v":0.38709677419354838},0.14984391259105098,67,67.5,0,0,null,70.084157991883075,-4.5841579918830746,21.014504494545463]
[null,292,2007,"2007-08-19",{"$f":"VLOOKUP($D300, data!$D$5:$E$6326,2, FALSE)","v":67},{"$f":"VLOOKUP($D300, data!$G$5:$H$6326,2, FALSE)","v":65},null,{"$f":"H269","v":0.41935483870967744},0.17585848074921959,67.5,75,0,0,null,69.272705362151981,-2.2727053621519815,5.1651896631543694]
[null,293,2007,"2007-08-18",{"$f":"VLOOKUP($D301, data!$D$5:$E$6326,2, FALSE)","v":67.5},{"$f":"VLOOKUP($D301, data!$G$5:$H$6326,2, FALSE)","v":63.5},null,{"$f":"H270","v":0.45161290322580644},0.2039542143600416,75,81,0,0,null,74.321555374862243,-6.8215553748622426,46.533617732311953]
[null,294,2007,"2007-08-17",{"$f":"VLOOKUP($D302, data!$D$5:$E$6326,2, FALSE)","v":75},{"$f":"VLOOKUP($D302, data!$G$5:$H$6326,2, FALSE)","v":69.5},null,{"$f":"H271","v":0.4838709677419355},0.2341311134235172,81,75.5,0,0,null,80.074868387423095,-5.0748683874230949,25.754289149666285]
[null,295,2007,"2007-08-16",{"$f":"VLOOKUP($D303, data!$D$5:$E$6326,2, FALSE)","v":81},{"$f":"VLOOKUP($D303, data!$G$5:$H$6326,2, FALSE)","v":71},null,{"$f":"H272","v":0.5161290322580645},0.26638917793964617,75.5,72.5,0,0,null,76.212210534465498,4.7877894655345017,22.922927966283151]
[null,296,2007,"2007-08-15",{"$f":"VLOOKUP($D304, data!$D$5:$E$6326,2, FALSE)","v":75.5},{"$f":"VLOOKUP($D304, data!$G$5:$H$6326,2, FALSE)","v":75.5},null,{"$f":"H273","v":0.54838709677419351},0.3007284079084287,72.5,80,0,0,null,72.624371677458072,2.8756283225419281,8.2692382494053032]
[null,297,2007,"2007-08-14",{"$f":"VLOOKUP($D305, data!$D$5:$E$6326,2, FALSE)","v":72.5},{"$f":"VLOOKUP($D305, data!$G$5:$H$6326,2, FALSE)","v":74.5},null,{"$f":"H274","v":0.58064516129032262},0.33714880332986474,80,78,0,0,null,79.02091609856646,-6.5209160985664596,42.522346764543215]
[null,298,2007,"2007-08-13",{"$f":"VLOOKUP($D306, data!$D$5:$E$6326,2, FALSE)","v":80},{"$f":"VLOOKUP($D306, data!$G$5:$H$6326,2, FALSE)","v":73},null,{"$f":"H275","v":0.61290322580645162},0.3756503642039542,78,70.5,0,0,null,78.724295675789946,1.2757043242100536,1.6274215228082296]
[null,299,2007,"2007-08-12",{"$f":"VLOOKUP($D307, data!$D$5:$E$6326,2, FALSE)","v":78},{"$f":"VLOOKUP($D307, data!$G$5:$H$6326,2, FALSE)","v":77.5},null,{"$f":"H276","v":0.64516129032258063},0.41623309053069718,70.5,66,0,0,null,73.534233685142951,4.4657663148570492,19.943068778911911]
[null,300,2007,"2007-08-11",{"$f":"VLOOKUP($D308, data!$D$5:$E$6326,2, FALSE)","v":70.5},{"$f":"VLOOKUP($D308, data!$G$5:$H$6326,2, FALSE)","v":78},null,{"$f":"H277","v":0.67741935483870963},0.45889698231009357,66,78,0,0,null,68.028585659608751,2.4714143403912487,6.1078888418915112]
[null,301,2007,"2007-08-10",{"$f":"VLOOKUP($D309, data!$D$5:$E$6326,2, FALSE)","v":66},{"$f":"VLOOKUP($D309, data!$G$5:$H$6326,2, FALSE)","v":78},null,{"$f":"H278","v":0.70967741935483875},0.5036420395421437,78,85,0,0,null,76.569296941715407,-10.569296941715407,111.71003784215466]
[null,302,2007,"2007-08-09",{"$f":"VLOOKUP($D310, data!$D$5:$E$6326,2, FALSE)","v":78},{"$f":"VLOOKUP($D310, data!$G$5:$H$6326,2, FALSE)","v":78},null,{"$f":"H279","v":0.74193548387096775},0.55046826222684708,85,83.5,0,0,null,82.516082173151887,-4.5160821731518865,20.394998194660268]
[null,303,2007,"2007-08-08",{"$f":"VLOOKUP($D311, data!$D$5:$E$6326,2, FALSE)","v":85},{"$f":"VLOOKUP($D311, data!$G$5:$H$6326,2, FALSE)","v":80},null,{"$f":"H280","v":0.77419354838709675},0.59937565036420393,83.5,80,0,0,null,81.992568193789793,3.0074318062102066,9.0446460690047861]
[null,304,2007,"2007-08-07",{"$f":"VLOOKUP($D312, data!$D$5:$E$6326,2, FALSE)","v":83.5},{"$f":"VLOOKUP($D312, data!$G$5:$H$6326,2, FALSE)","v":81.5},null,{"$f":"H281","v":0.80645161290322576},0.65036420395421424,80,75.5,0,0,null,80.039140014108739,3.4608599858912612,11.97755184194326]
[null,305,2007,"2007-08-06",{"$f":"VLOOKUP($D313, data!$D$5:$E$6326,2, FALSE)","v":80},{"$f":"VLOOKUP($D313, data!$G$5:$H$6326,2, FALSE)","v":81},null,{"$f":"H282","v":0.83870967741935487},0.70343392299687835,75.5,82,0,0,null,75.474987572433889,4.5250124275661108,20.475737469627745]
[null,306,2007,"2007-08-05",{"$f":"VLOOKUP($D314, data!$D$5:$E$6326,2, FALSE)","v":75.5},{"$f":"VLOOKUP($D314, data!$G$5:$H$6326,2, FALSE)","v":77.5},null,{"$f":"H283","v":0.87096774193548387},0.75858480749219559,82,84.5,0,0,null,80.387382536552821,-4.8873825365528205,23.886508058601482]
[null,307,2007,"2007-08-04",{"$f":"VLOOKUP($D315, data!$D$5:$E$6326,2, FALSE)","v":82},{"$f":"VLOOKUP($D315, data!$G$5:$H$6326,2, FALSE)","v":72.5},null,{"$f":"H284","v":0.90322580645161288},0.81581685744016641,84.5,83,0,0,null,82.763578766057151,-0.76357876605715092,0.58305253197336115]
[null,308,2007,"2007-08-03",{"$f":"VLOOKUP($D316, data!$D$5:$E$6326,2, FALSE)","v":84.5},{"$f":"VLOOKUP($D316, data!$G$5:$H$6326,2, FALSE)","v":79.5},null,{"$f":"H285","v":0.93548387096774188},0.8751300728407907,83,82,0,0,null,81.860453834308629,2.639546165691371,6.9672039608160183]
[null,309,2007,"2007-08-02",{"$f":"VLOOKUP($D317, data!$D$5:$E$6326,2, FALSE)","v":83},{"$f":"VLOOKUP($D317, data!$G$5:$H$6326,2, FALSE)","v":80.5},null,{"$f":"H286","v":0.967741935483871},0.93652445369406878,82,0,0,1,null,81.955052123853676,1.044947876146324,1.0919160638627132]
[null,310,2007,"2007-08-01",{"$f":"VLOOKUP($D318, data!$D$5:$E$6326,2, FALSE)","v":82},{"$f":"VLOOKUP($D318, data!$G$5:$H$6326,2, FALSE)","v":80.5},null,{"$f":"H287","v":1},1,0,0,1,0,null,78.823529411767751,3.1764705882322488,10.089965397904528]
[null,311,2006,{"$f":"DATE(C319, 8, 31)","v":"2006-08-31"},{"$f":"VLOOKUP($D319, data!$D$5:$E$6326,2, FALSE)","v":67.5},{"$f":"VLOOKUP($D319, data!$G$5:$H$6326,2, FALSE)","v":68.5},null,{"$f":"H288","v":3.2258064516129031E-2},{"$f":"I288","v":1.0405827263267429E-3},{"$f":"E320","v":69.5},{"$f":"E321","v":69.5},0,0,null,71.9014469618932,-4.4014469618931997,19.372735358358877]
[null,312,{"$f":"C319","v":2006},{"$f":"D319-1","v":"2006-08-30"},{"$f":"VLOOKUP($D320, data!$D$5:$E$6326,2, FALSE)","v":69.5},{"$f":"VLOOKUP($D320, data!$G$5:$H$6326,2, FALSE)","v":70},null,{"$f":"H289","v":6.4516129032258063E-2},4.1623309053069714E-3,{"$f":"E321","v":69.5},{"$f":"E322","v":75.5},0,0,null,70.864160287942397,-1.3641602879423971,1.8609332911990837]
[null,313,2006,"2006-08-29",{"$f":"VLOOKUP($D321, data!$D$5:$E$6326,2, FALSE)","v":69.5},{"$f":"VLOOKUP($D321, data!$G$5:$H$6326,2, FALSE)","v":67},null,{"$f":"H290","v":9.6774193548387094E-2},9.3652445369406864E-3,75.5,70.5,0,0,null,76.455140525530979,-6.9551405255309788,48.373979729883338]
[null,314,2006,"2006-08-28",{"$f":"VLOOKUP($D322, data!$D$5:$E$6326,2, FALSE)","v":75.5},{"$f":"VLOOKUP($D322, data!$G$5:$H$6326,2, FALSE)","v":68.5},null,{"$f":"H291","v":0.12903225806451613},1.6649323621227886E-2,70.5,68,0,0,null,72.830574768948026,2.6694252310519744,7.1258310641768867]
[null,315,2006,"2006-08-27",{"$f":"VLOOKUP($D323, data!$D$5:$E$6326,2, FALSE)","v":70.5},{"$f":"VLOOKUP($D323, data!$G$5:$H$6326,2, FALSE)","v":75},null,{"$f":"H292","v":0.16129032258064516},2.6014568158168574E-2,68,74,0,0,null,69.811104642376733,0.68889535762326659,0.47457681375488836]
[null,316,2006,"2006-08-26",{"$f":"VLOOKUP($D324, data!$D$5:$E$6326,2, FALSE)","v":68},{"$f":"VLOOKUP($D324, data!$G$5:$H$6326,2, FALSE)","v":74},null,{"$f":"H293","v":0.19354838709677419},3.7460978147762745E-2,74,75,0,0,null,74.431195881895206,-6.4311958818952064,41.360280471305863]
[null,317,2006,"2006-08-25",{"$f":"VLOOKUP($D325, data!$D$5:$E$6326,2, FALSE)","v":74},{"$f":"VLOOKUP($D325, data!$G$5:$H$6326,2, FALSE)","v":75},null,{"$f":"H294","v":0.22580645161290322},5.0988553590010401E-2,75,79,0,0,null,74.558270424890111,-0.55827042489011092,0.31166586730698498]
[null,318,2006,"2006-08-24",{"$f":"VLOOKUP($D326, data!$D$5:$E$6326,2, FALSE)","v":75},{"$f":"VLOOKUP($D326, data!$G$5:$H$6326,2, FALSE)","v":75.5},null,{"$f":"H295","v":0.25806451612903225},6.6597294484911543E-2,79,78.5,0,0,null,77.837663590643032,-2.8376635906430323,8.0523346536611076]
[null,319,2006,"2006-08-23",{"$f":"VLOOKUP($D327, data!$D$5:$E$6326,2, FALSE)","v":79},{"$f":"VLOOKUP($D327, data!$G$5:$H$6326,2, FALSE)","v":75},null,{"$f":"H296","v":0.29032258064516131},8.4287200832466186E-2,78.5,78.5,0,0,null,77.437310723796159,1.5626892762038409,2.4419977739624841]
[null,320,2006,"2006-08-22",{"$f":"VLOOKUP($D328, data!$D$5:$E$6326,2, FALSE)","v":78.5},{"$f":"VLOOKUP($D328, data!$G$5:$H$6326,2, FALSE)","v":75.5},null,{"$f":"H297","v":0.32258064516129031},0.1040582726326743,78.5,84,0,0,null,76.535768952665336,1.964231047334664,3.8582036073134311]
[null,321,2006,"2006-08-21",{"$f":"VLOOKUP($D329, data!$D$5:$E$6326,2, FALSE)","v":78.5},{"$f":"VLOOKUP($D329, data!$G$5:$H$6326,2, FALSE)","v":69.5},null,{"$f":"H298","v":0.35483870967741937},0.12591050988553593,84,75,0,0,null,82.440053331334482,-3.9400533313344823,15.524020253759952]
[null,322,2006,"2006-08-20",{"$f":"VLOOKUP($D330, data!$D$5:$E$6326,2, FALSE)","v":84},{"$f":"VLOOKUP($D330, data!$G$5:$H$6326,2, FALSE)","v":68.5},null,{"$f":"H299","v":0.38709677419354838},0.14984391259105098,75,76.5,0,0,null,{"$f":"$O$7+SUMPRODUCT(H$7:M$7, H330:M330)","v":75.004711080157676},{"$f":"E330-O330","v":8.9952889198423236},{"$f":"P330*P330","v":80.91522275143808}]
[null,{"$f":"B330+1","v":323},2006,"2006-08-19",{"$f":"VLOOKUP($D331, data!$D$5:$E$6326,2, FALSE)","v":75},{"$f":"VLOOKUP($D331, data!$G$5:$H$6326,2, FALSE)","v":73.5},null,{"$f":"H300","v":0.41935483870967744},0.17585848074921959,76.5,78.5,0,0,null,75.902368936789443,-0.90236893678944341,0.81426969808251048]
[null,324,2006,"2006-08-18",{"$f":"VLOOKUP($D332, data!$D$5:$E$6326,2, FALSE)","v":76.5},{"$f":"VLOOKUP($D332, data!$G$5:$H$6326,2, FALSE)","v":78},null,{"$f":"H301","v":0.45161290322580644},0.2039542143600416,78.5,77.5,0,0,null,77.702513583898394,-1.2025135838983942,1.4460389194601604]
[null,325,2006,"2006-08-17",{"$f":"VLOOKUP($D333, data!$D$5:$E$6326,2, FALSE)","v":78.5},{"$f":"VLOOKUP($D333, data!$G$5:$H$6326,2, FALSE)","v":72.5},null,{"$f":"H302","v":0.4838709677419355},0.2341311134235172,77.5,78.5,0,0,null,76.776479336902327,1.7235206630976734,2.9705234761246437]
[null,326,2006,"2006-08-16",{"$f":"VLOOKUP($D334, data!$D$5:$E$6326,2, FALSE)","v":77.5},{"$f":"VLOOKUP($D334, data!$G$5:$H$6326,2, FALSE)","v":72},null,{"$f":"H303","v":0.5161290322580645},0.26638917793964617,78.5,76,0,0,null,78.036775652939639,-0.5367756529396388,0.28812810158877555]
[null,327,2006,"2006-08-15",{"$f":"VLOOKUP($D335, data!$D$5:$E$6326,2, FALSE)","v":78.5},{"$f":"VLOOKUP($D335, data!$G$5:$H$6326,2, FALSE)","v":73.5},null,{"$f":"H304","v":0.54838709677419351},0.3007284079084287,76,71,0,0,null,76.913590630163213,1.5864093698367867,2.5166946887059507]
[null,328,2006,"2006-08-14",{"$f":"VLOOKUP($D336, data!$D$5:$E$6326,2, FALSE)","v":76},{"$f":"VLOOKUP($D336, data!$G$5:$H$6326,2, FALSE)","v":74.5},null,{"$f":"H305","v":0.58064516129032262},0.33714880332986474,71,70.5,0,0,null,73.05180579205188,2.94819420794812,8.6918490877788432]
[null,329,2006,"2006-08-13",{"$f":"VLOOKUP($D337, data!$D$5:$E$6326,2, FALSE)","v":71},{"$f":"VLOOKUP($D337, data!$G$5:$H$6326,2, FALSE)","v":71},null,{"$f":"H306","v":0.61290322580645162},0.3756503642039542,70.5,73.5,0,0,null,72.222507654493597,-1.2225076544935973,1.4945249652954367]
[null,330,2006,"2006-08-12",{"$f":"VLOOKUP($D338, data!$D$5:$E$6326,2, FALSE)","v":70.5},{"$f":"VLOOKUP($D338, data!$G$5:$H$6326,2, FALSE)","v":69.5},null,{"$f":"H307","v":0.64516129032258063},0.41623309053069718,73.5,76,0,0,null,74.285399742917377,-3.7853997429173774,14.329251213678946]
[null,331,2006,"2006-08-11",{"$f":"VLOOKUP($D339, data!$D$5:$E$6326,2, FALSE)","v":73.5},{"$f":"VLOOKUP($D339, data!$G$5:$H$6326,2, FALSE)","v":72.5},null,{"$f":"H308","v":0.67741935483870963},0.45889698231009357,76,75,0,0,null,76.532498037639812,-3.0324980376398116,9.1960443482893091]
[null,332,2006,"2006-08-10",{"$f":"VLOOKUP($D340, data!$D$5:$E$6326,2, FALSE)","v":76},{"$f":"VLOOKUP($D340, data!$G$5:$H$6326,2, FALSE)","v":76.5},null,{"$f":"H309","v":0.70967741935483875},0.5036420395421437,75,81,0,0,null,74.82730098175665,1.1726990182433497,1.3752229873889161]
[null,333,2006,"2006-08-09",{"$f":"VLOOKUP($D341, data!$D$5:$E$6326,2, FALSE)","v":75},{"$f":"VLOOKUP($D341, data!$G$5:$H$6326,2, FALSE)","v":77},null,{"$f":"H310","v":0.74193548387096775},0.55046826222684708,81,82,0,0,null,79.560390677922399,-4.560390677922399,20.797163135281519]
[null,334,2006,"2006-08-08",{"$f":"VLOOKUP($D342, data!$D$5:$E$6326,2, FALSE)","v":81},{"$f":"VLOOKUP($D342, data!$G$5:$H$6326,2, FALSE)","v":73.5},null,{"$f":"H311","v":0.77419354838709675},0.59937565036420393,82,77.5,0,0,null,81.204139372325784,-0.20413937232578405,4.1672883333565086E-2]
[null,335,2006,"2006-08-07",{"$f":"VLOOKUP($D343, data!$D$5:$E$6326,2, FALSE)","v":82},{"$f":"VLOOKUP($D343, data!$G$5:$H$6326,2, FALSE)","v":78.5},null,{"$f":"H312","v":0.80645161290322576},0.65036420395421424,77.5,83,0,0,null,76.798478279643575,5.2015217203564248,27.055828207339662]
[null,336,2006,"2006-08-06",{"$f":"VLOOKUP($D344, data!$D$5:$E$6326,2, FALSE)","v":77.5},{"$f":"VLOOKUP($D344, data!$G$5:$H$6326,2, FALSE)","v":76.5},null,{"$f":"H313","v":0.83870967741935487},0.70343392299687835,83,84,0,0,null,81.151084008576618,-3.6510840085766176,13.330414437683903]
[null,337,2006,"2006-08-05",{"$f":"VLOOKUP($D345, data!$D$5:$E$6326,2, FALSE)","v":83},{"$f":"VLOOKUP($D345, data!$G$5:$H$6326,2, FALSE)","v":74.5},null,{"$f":"H314","v":0.87096774193548387},0.75858480749219559,84,90.5,0,0,null,80.998252119756245,2.0017478802437552,4.0069945760603671]
[null,338,2006,"2006-08-04",{"$f":"VLOOKUP($D346, data!$D$5:$E$6326,2, FALSE)","v":84},{"$f":"VLOOKUP($D346, data!$G$5:$H$6326,2, FALSE)","v":77},null,{"$f":"H315","v":0.90322580645161288},0.81581685744016641,90.5,90.5,0,0,null,86.330139844490049,-2.3301398444900485,5.4295516948801072]
[null,339,2006,"2006-08-03",{"$f":"VLOOKUP($D347, data!$D$5:$E$6326,2, FALSE)","v":90.5},{"$f":"VLOOKUP($D347, data!$G$5:$H$6326,2, FALSE)","v":75},null,{"$f":"H316","v":0.93548387096774188},0.8751300728407907,90.5,89,0,0,null,86.710858685297737,3.7891413147022632,14.357591902783597]
[null,340,2006,"2006-08-02",{"$f":"VLOOKUP($D348, data!$D$5:$E$6326,2, FALSE)","v":90.5},{"$f":"VLOOKUP($D348, data!$G$5:$H$6326,2, FALSE)","v":87},null,{"$f":"H317","v":0.967741935483871},0.93652445369406878,89,0,0,1,null,87.561000322710896,2.9389996772891038,8.6377191031054572]
[null,341,2006,"2006-08-01",{"$f":"VLOOKUP($D349, data!$D$5:$E$6326,2, FALSE)","v":89},{"$f":"VLOOKUP($D349, data!$G$5:$H$6326,2, FALSE)","v":89.5},null,{"$f":"H318","v":1},1,0,0,1,0,null,78.823529411767751,10.176470588232249,103.56055363315602]
[null,342,{"$f":"C319-1","v":2005},{"$f":"DATE(C350, 8, 31)","v":"2005-08-31"},{"$f":"VLOOKUP($D350, data!$D$5:$E$6326,2, FALSE)","v":83.5},{"$f":"VLOOKUP($D350, data!$G$5:$H$6326,2, FALSE)","v":71},null,{"$f":"H319","v":3.2258064516129031E-2},{"$f":"I319","v":1.0405827263267429E-3},{"$f":"E351","v":81},{"$f":"E352","v":79.5},0,0,null,79.459835832565687,4.0401641674343125,16.322926499820191]
[null,343,2005,{"$f":"D350-1","v":"2005-08-30"},{"$f":"VLOOKUP($D351, data!$D$5:$E$6326,2, FALSE)","v":81},{"$f":"VLOOKUP($D351, data!$G$5:$H$6326,2, FALSE)","v":70.5},null,{"$f":"H320","v":6.4516129032258063E-2},4.1623309053069714E-3,{"$f":"E352","v":79.5},{"$f":"E353","v":77.5},0,0,null,78.542381080819851,2.457618919180149,6.0398907519122034]
[null,344,2005,"2005-08-29",{"$f":"VLOOKUP($D352, data!$D$5:$E$6326,2, FALSE)","v":79.5},{"$f":"VLOOKUP($D352, data!$G$5:$H$6326,2, FALSE)","v":73.5},null,{"$f":"H321","v":9.6774193548387094E-2},9.3652445369406864E-3,77.5,75.5,0,0,null,77.231148425765127,2.2688515742348727,5.14768746590806]
[null,345,2005,"2005-08-28",{"$f":"VLOOKUP($D353, data!$D$5:$E$6326,2, FALSE)","v":77.5},{"$f":"VLOOKUP($D353, data!$G$5:$H$6326,2, FALSE)","v":75},null,{"$f":"H322","v":0.12903225806451613},1.6649323621227886E-2,75.5,74.5,0,0,null,75.761424421717777,1.738575578282223,3.022645041399366]
[null,346,2005,"2005-08-27",{"$f":"VLOOKUP($D354, data!$D$5:$E$6326,2, FALSE)","v":75.5},{"$f":"VLOOKUP($D354, data!$G$5:$H$6326,2, FALSE)","v":75.5},null,{"$f":"H323","v":0.16129032258064516},2.6014568158168574E-2,74.5,74,0,0,null,75.016627969887026,0.48337203011297447,0.2336485194955383]
[null,347,2005,"2005-08-26",{"$f":"VLOOKUP($D355, data!$D$5:$E$6326,2, FALSE)","v":74.5},{"$f":"VLOOKUP($D355, data!$G$5:$H$6326,2, FALSE)","v":74.5},null,{"$f":"H324","v":0.19354838709677419},3.7460978147762745E-2,74,75.5,0,0,null,74.348626723379837,0.15137327662016276,2.2913868874724311E-2]
[null,348,2005,"2005-08-25",{"$f":"VLOOKUP($D356, data!$D$5:$E$6326,2, FALSE)","v":74},{"$f":"VLOOKUP($D356, data!$G$5:$H$6326,2, FALSE)","v":72},null,{"$f":"H325","v":0.22580645161290322},5.0988553590010401E-2,75.5,76.5,0,0,null,75.371541088813871,-1.3715410888138706,1.8811249583047376]
[null,349,2005,"2005-08-24",{"$f":"VLOOKUP($D357, data!$D$5:$E$6326,2, FALSE)","v":75.5},{"$f":"VLOOKUP($D357, data!$G$5:$H$6326,2, FALSE)","v":66.5},null,{"$f":"H326","v":0.25806451612903225},6.6597294484911543E-2,76.5,81.5,0,0,null,75.340124282816134,0.15987571718386562,2.5560244945055384E-2]
[null,350,2005,"2005-08-23",{"$f":"VLOOKUP($D358, data!$D$5:$E$6326,2, FALSE)","v":76.5},{"$f":"VLOOKUP($D358, data!$G$5:$H$6326,2, FALSE)","v":65.5},null,{"$f":"H327","v":0.29032258064516131},8.4287200832466186E-2,81.5,86,0,0,null,78.601322574147403,-2.1013225741474031,4.415556560621468]
[null,351,2005,"2005-08-22",{"$f":"VLOOKUP($D359, data!$D$5:$E$6326,2, FALSE)","v":81.5},{"$f":"VLOOKUP($D359, data!$G$5:$H$6326,2, FALSE)","v":67},null,{"$f":"H328","v":0.32258064516129031},0.1040582726326743,86,79.5,0,0,null,83.285264449507764,-1.7852644495077641,3.1871691546762597]
[null,352,2005,"2005-08-21",{"$f":"VLOOKUP($D360, data!$D$5:$E$6326,2, FALSE)","v":86},{"$f":"VLOOKUP($D360, data!$G$5:$H$6326,2, FALSE)","v":73.5},null,{"$f":"H329","v":0.35483870967741937},0.12591050988553593,79.5,75,0,0,null,78.836229489211973,7.1637705107880265,51.319607931236142]
[null,353,2005,"2005-08-20",{"$f":"VLOOKUP($D361, data!$D$5:$E$6326,2, FALSE)","v":79.5},{"$f":"VLOOKUP($D361, data!$G$5:$H$6326,2, FALSE)","v":77.5},null,{"$f":"H330","v":0.38709677419354838},0.14984391259105098,75,74.5,0,0,null,75.334987714219125,4.1650122857808753,17.347327340705633]
[null,354,2005,"2005-08-19",{"$f":"VLOOKUP($D362, data!$D$5:$E$6326,2, FALSE)","v":75},{"$f":"VLOOKUP($D362, data!$G$5:$H$6326,2, FALSE)","v":78.5},null,{"$f":"H331","v":0.41935483870967744},0.17585848074921959,74.5,79,0,0,null,74.218100292886305,0.78189970711369483,0.61136715198448177]
[null,355,2005,"2005-08-18",{"$f":"VLOOKUP($D363, data!$D$5:$E$6326,2, FALSE)","v":74.5},{"$f":"VLOOKUP($D363, data!$G$5:$H$6326,2, FALSE)","v":76.5},null,{"$f":"H332","v":0.45161290322580644},0.2039542143600416,79,73.5,0,0,null,78.763491723368247,-4.2634917233682472,18.177361675229548]
[null,356,2005,"2005-08-17",{"$f":"VLOOKUP($D364, data!$D$5:$E$6326,2, FALSE)","v":79},{"$f":"VLOOKUP($D364, data!$G$5:$H$6326,2, FALSE)","v":71},null,{"$f":"H333","v":0.4838709677419355},0.2341311134235172,73.5,76,0,0,null,73.985926158703563,5.0140738412964367,25.140936485973203]
[null,357,2005,"2005-08-16",{"$f":"VLOOKUP($D365, data!$D$5:$E$6326,2, FALSE)","v":73.5},{"$f":"VLOOKUP($D365, data!$G$5:$H$6326,2, FALSE)","v":73.5},null,{"$f":"H334","v":0.5161290322580645},0.26638917793964617,76,86,0,0,null,74.383268125897672,-0.88326812589767201,0.78016258222678581]
[null,358,2005,"2005-08-15",{"$f":"VLOOKUP($D366, data!$D$5:$E$6326,2, FALSE)","v":76},{"$f":"VLOOKUP($D366, data!$G$5:$H$6326,2, FALSE)","v":71},null,{"$f":"H335","v":0.54838709677419351},0.3007284079084287,86,91,0,0,null,81.619321716487619,-5.6193217164876188,31.576776553389358]
[null,359,2005,"2005-08-14",{"$f":"VLOOKUP($D367, data!$D$5:$E$6326,2, FALSE)","v":86},{"$f":"VLOOKUP($D367, data!$G$5:$H$6326,2, FALSE)","v":68.5},null,{"$f":"H336","v":0.58064516129032262},0.33714880332986474,91,86,0,0,null,86.509156731953453,-0.50915673195345335,0.25924057769352071]
[null,360,2005,"2005-08-13",{"$f":"VLOOKUP($D368, data!$D$5:$E$6326,2, FALSE)","v":91},{"$f":"VLOOKUP($D368, data!$G$5:$H$6326,2, FALSE)","v":71.5},null,{"$f":"H337","v":0.61290322580645162},0.3756503642039542,86,85.5,0,0,null,82.654018861880218,8.3459811381197824,69.655401157851173]
[null,361,2005,"2005-08-12",{"$f":"VLOOKUP($D369, data!$D$5:$E$6326,2, FALSE)","v":86},{"$f":"VLOOKUP($D369, data!$G$5:$H$6326,2, FALSE)","v":78.5},null,{"$f":"H338","v":0.64516129032258063},0.41623309053069718,85.5,80.5,0,0,null,83.152474228605797,2.8475257713942028,8.1084030187541494]
[null,362,2005,"2005-08-11",{"$f":"VLOOKUP($D370, data!$D$5:$E$6326,2, FALSE)","v":85.5},{"$f":"VLOOKUP($D370, data!$G$5:$H$6326,2, FALSE)","v":72},null,{"$f":"H339","v":0.67741935483870963},0.45889698231009357,80.5,78,0,0,null,79.640906928670148,5.8590930713298519,34.328971618505477]
[null,363,2005,"2005-08-10",{"$f":"VLOOKUP($D371, data!$D$5:$E$6326,2, FALSE)","v":80.5},{"$f":"VLOOKUP($D371, data!$G$5:$H$6326,2, FALSE)","v":79},null,{"$f":"H340","v":0.70967741935483875},0.5036420395421437,78,79,0,0,null,77.560126843899752,2.9398731561002478,8.6428541739588312]
[null,364,2005,"2005-08-09",{"$f":"VLOOKUP($D372, data!$D$5:$E$6326,2, FALSE)","v":78},{"$f":"VLOOKUP($D372, data!$G$5:$H$6326,2, FALSE)","v":80},null,{"$f":"H341","v":0.74193548387096775},0.55046826222684708,79,78.5,0,0,null,78.536675302142157,-0.53667530214215731,0.28802037992937585]
[null,365,2005,"2005-08-08",{"$f":"VLOOKUP($D373, data!$D$5:$E$6326,2, FALSE)","v":79},{"$f":"VLOOKUP($D373, data!$G$5:$H$6326,2, FALSE)","v":78},null,{"$f":"H342","v":0.77419354838709675},0.59937565036420393,78.5,79.5,0,0,null,78.070888638835697,0.92911136116430271,0.8632479214445834]
[null,366,2005,"2005-08-07",{"$f":"VLOOKUP($D374, data!$D$5:$E$6326,2, FALSE)","v":78.5},{"$f":"VLOOKUP($D374, data!$G$5:$H$6326,2, FALSE)","v":73.5},null,{"$f":"H343","v":0.80645161290322576},0.65036420395421424,79.5,89,0,0,null,77.409347862847014,1.0906521371529863,1.1895220842763763]
[null,367,2005,"2005-08-06",{"$f":"VLOOKUP($D375, data!$D$5:$E$6326,2, FALSE)","v":79.5},{"$f":"VLOOKUP($D375, data!$G$5:$H$6326,2, FALSE)","v":71.5},null,{"$f":"H344","v":0.83870967741935487},0.70343392299687835,89,85.5,0,0,null,85.70847498919386,-6.20847498919386,38.545161691445699]
[null,368,2005,"2005-08-05",{"$f":"VLOOKUP($D376, data!$D$5:$E$6326,2, FALSE)","v":89},{"$f":"VLOOKUP($D376, data!$G$5:$H$6326,2, FALSE)","v":73},null,{"$f":"H345","v":0.87096774193548387},0.75858480749219559,85.5,86,0,0,null,82.942649160435337,6.0573508395646627,36.691499193574721]
[null,369,2005,"2005-08-04",{"$f":"VLOOKUP($D377, data!$D$5:$E$6326,2, FALSE)","v":85.5},{"$f":"VLOOKUP($D377, data!$G$5:$H$6326,2, FALSE)","v":82},null,{"$f":"H346","v":0.90322580645161288},0.81581685744016641,86,85,0,0,null,83.634576746036529,1.8654232539634705,3.4798039164276626]
[null,370,2005,"2005-08-03",{"$f":"VLOOKUP($D378, data!$D$5:$E$6326,2, FALSE)","v":86},{"$f":"VLOOKUP($D378, data!$G$5:$H$6326,2, FALSE)","v":83.5},null,{"$f":"H347","v":0.93548387096774188},0.8751300728407907,85,80,0,0,null,83.792429953757861,2.2075700462421395,4.8733655090655219]
[null,371,2005,"2005-08-02",{"$f":"VLOOKUP($D379, data!$D$5:$E$6326,2, FALSE)","v":85},{"$f":"VLOOKUP($D379, data!$G$5:$H$6326,2, FALSE)","v":78.5},null,{"$f":"H348","v":0.967741935483871},0.93652445369406878,80,0,0,1,null,80.353352638465893,4.6466473615341073,21.591331702451882]
[null,372,2005,"2005-08-01",{"$f":"VLOOKUP($D380, data!$D$5:$E$6326,2, FALSE)","v":80},{"$f":"VLOOKUP($D380, data!$G$5:$H$6326,2, FALSE)","v":81},null,{"$f":"H349","v":1},1,0,0,1,0,null,78.823529411767751,1.1764705882322488,1.3840830449755335]
[null,373,2004,{"$f":"DATE(C381, 8, 31)","v":"2004-08-31"},{"$f":"VLOOKUP($D381, data!$D$5:$E$6326,2, FALSE)","v":77.5},{"$f":"VLOOKUP($D381, data!$G$5:$H$6326,2, FALSE)","v":66.5},null,{"$f":"H350","v":3.2258064516129031E-2},{"$f":"I350","v":1.0405827263267429E-3},{"$f":"E382","v":79.5},{"$f":"E383","v":80.5},0,0,null,78.093422901494137,-0.59342290149413657,0.35215074001771973]
[null,374,{"$f":"C351-1","v":2004},{"$f":"D381-1","v":"2004-08-30"},{"$f":"VLOOKUP($D382, data!$D$5:$E$6326,2, FALSE)","v":79.5},{"$f":"VLOOKUP($D382, data!$G$5:$H$6326,2, FALSE)","v":64},null,{"$f":"H351","v":6.4516129032258063E-2},4.1623309053069714E-3,{"$f":"E383","v":80.5},{"$f":"E384","v":81.5},0,0,null,78.682677555390825,0.81732244460917514,0.66801597846191818]
[null,375,2004,"2004-08-29",{"$f":"VLOOKUP($D383, data!$D$5:$E$6326,2, FALSE)","v":80.5},{"$f":"VLOOKUP($D383, data!$G$5:$H$6326,2, FALSE)","v":61},null,{"$f":"H352","v":9.6774193548387094E-2},9.3652445369406864E-3,81.5,77.5,0,0,null,80.104270762479246,0.3957292375207544,0.15660162942875766]
[null,376,2004,"2004-08-28",{"$f":"VLOOKUP($D384, data!$D$5:$E$6326,2, FALSE)","v":81.5},{"$f":"VLOOKUP($D384, data!$G$5:$H$6326,2, FALSE)","v":68},null,{"$f":"H353","v":0.12903225806451613},1.6649323621227886E-2,77.5,69,0,0,null,78.271384650774536,3.2286153492254641,10.423957073254266]
[null,377,2004,"2004-08-27",{"$f":"VLOOKUP($D385, data!$D$5:$E$6326,2, FALSE)","v":77.5},{"$f":"VLOOKUP($D385, data!$G$5:$H$6326,2, FALSE)","v":77.5},null,{"$f":"H354","v":0.16129032258064516},2.6014568158168574E-2,69,71,0,0,null,71.107369336162805,6.3926306638371955,40.865726804231585]
[null,378,2004,"2004-08-26",{"$f":"VLOOKUP($D386, data!$D$5:$E$6326,2, FALSE)","v":69},{"$f":"VLOOKUP($D386, data!$G$5:$H$6326,2, FALSE)","v":75},null,{"$f":"H355","v":0.19354838709677419},3.7460978147762745E-2,71,73,0,0,null,72.358923287874973,-3.3589232878749726,11.282365653828816]
[null,379,2004,"2004-08-25",{"$f":"VLOOKUP($D387, data!$D$5:$E$6326,2, FALSE)","v":71},{"$f":"VLOOKUP($D387, data!$G$5:$H$6326,2, FALSE)","v":72},null,{"$f":"H356","v":0.22580645161290322},5.0988553590010401E-2,73,71,0,0,null,74.277677475748135,-3.2776774757481348,10.743169635026666]
[null,380,2004,"2004-08-24",{"$f":"VLOOKUP($D388, data!$D$5:$E$6326,2, FALSE)","v":73},{"$f":"VLOOKUP($D388, data!$G$5:$H$6326,2, FALSE)","v":73},null,{"$f":"H357","v":0.25806451612903225},6.6597294484911543E-2,71,66,0,0,null,73.495094611975958,-0.49509461197595783,0.24511867480762425]
[null,381,2004,"2004-08-23",{"$f":"VLOOKUP($D389, data!$D$5:$E$6326,2, FALSE)","v":71},{"$f":"VLOOKUP($D389, data!$G$5:$H$6326,2, FALSE)","v":72},null,{"$f":"H358","v":0.29032258064516131},8.4287200832466186E-2,66,74.5,0,0,null,68.087242208245442,2.912757791754558,8.4841579534268892]
[null,382,2004,"2004-08-22",{"$f":"VLOOKUP($D390, data!$D$5:$E$6326,2, FALSE)","v":66},{"$f":"VLOOKUP($D390, data!$G$5:$H$6326,2, FALSE)","v":64.5},null,{"$f":"H359","v":0.32258064516129031},0.1040582726326743,74.5,83,0,0,null,73.497508298920494,-7.4975082989204935,56.212630692381673]
[null,383,2004,"2004-08-21",{"$f":"VLOOKUP($D391, data!$D$5:$E$6326,2, FALSE)","v":74.5},{"$f":"VLOOKUP($D391, data!$G$5:$H$6326,2, FALSE)","v":63},null,{"$f":"H360","v":0.35483870967741937},0.12591050988553593,83,78,0,0,null,81.143788637548411,-6.6437886375484112,44.139927460417375]
[null,384,2004,"2004-08-20",{"$f":"VLOOKUP($D392, data!$D$5:$E$6326,2, FALSE)","v":83},{"$f":"VLOOKUP($D392, data!$G$5:$H$6326,2, FALSE)","v":65.5},null,{"$f":"H361","v":0.38709677419354838},0.14984391259105098,78,72.5,0,0,null,78.067813576362241,4.9321864236377593,24.326462917516629]
[null,385,2004,"2004-08-19",{"$f":"VLOOKUP($D393, data!$D$5:$E$6326,2, FALSE)","v":78},{"$f":"VLOOKUP($D393, data!$G$5:$H$6326,2, FALSE)","v":64},null,{"$f":"H362","v":0.41935483870967744},0.17585848074921959,72.5,70,0,0,null,74.102645660775039,3.897354339224961,15.189370845475633]
[null,386,2004,"2004-08-18",{"$f":"VLOOKUP($D394, data!$D$5:$E$6326,2, FALSE)","v":72.5},{"$f":"VLOOKUP($D394, data!$G$5:$H$6326,2, FALSE)","v":70},null,{"$f":"H363","v":0.45161290322580644},0.2039542143600416,70,68.5,0,0,null,{"$f":"$O$7+SUMPRODUCT(H$7:M$7, H394:M394)","v":72.38153562427685},{"$f":"E394-O394","v":0.11846437572314983},{"$f":"P394*P394","v":1.4033808315475611E-2}]
[null,{"$f":"B394+1","v":387},2004,"2004-08-17",{"$f":"VLOOKUP($D395, data!$D$5:$E$6326,2, FALSE)","v":70},{"$f":"VLOOKUP($D395, data!$G$5:$H$6326,2, FALSE)","v":71.5},null,{"$f":"H364","v":0.4838709677419355},0.2341311134235172,68.5,71.5,0,0,null,70.724799871872378,-0.72479987187237782,0.52533485426621529]
[null,388,2004,"2004-08-16",{"$f":"VLOOKUP($D396, data!$D$5:$E$6326,2, FALSE)","v":68.5},{"$f":"VLOOKUP($D396, data!$G$5:$H$6326,2, FALSE)","v":63},null,{"$f":"H365","v":0.5161290322580645},0.26638917793964617,71.5,73.5,0,0,null,72.843673246659222,-4.3436732466592218,18.867497273743066]
[null,389,2004,"2004-08-15",{"$f":"VLOOKUP($D397, data!$D$5:$E$6326,2, FALSE)","v":71.5},{"$f":"VLOOKUP($D397, data!$G$5:$H$6326,2, FALSE)","v":61.5},null,{"$f":"H366","v":0.54838709677419351},0.3007284079084287,73.5,75.5,0,0,null,74.168343846790236,-2.6683438467902363,7.1200588847033162]
[null,390,2004,"2004-08-14",{"$f":"VLOOKUP($D398, data!$D$5:$E$6326,2, FALSE)","v":73.5},{"$f":"VLOOKUP($D398, data!$G$5:$H$6326,2, FALSE)","v":60},null,{"$f":"H367","v":0.58064516129032262},0.33714880332986474,75.5,77,0,0,null,75.582230573474675,-2.0822305734746749,4.3356841611126731]
[null,391,2004,"2004-08-13",{"$f":"VLOOKUP($D399, data!$D$5:$E$6326,2, FALSE)","v":75.5},{"$f":"VLOOKUP($D399, data!$G$5:$H$6326,2, FALSE)","v":61},null,{"$f":"H368","v":0.61290322580645162},0.3756503642039542,77,77,0,0,null,76.850046872396348,-1.3500468723963479,1.822626557667161]
[null,392,2004,"2004-08-12",{"$f":"VLOOKUP($D400, data!$D$5:$E$6326,2, FALSE)","v":77},{"$f":"VLOOKUP($D400, data!$G$5:$H$6326,2, FALSE)","v":55.5},null,{"$f":"H369","v":0.64516129032258063},0.41623309053069718,77,75,0,0,null,77.253512159376726,-0.25351215937672578,6.4268414951850414E-2]
[null,393,2004,"2004-08-11",{"$f":"VLOOKUP($D401, data!$D$5:$E$6326,2, FALSE)","v":77},{"$f":"VLOOKUP($D401, data!$G$5:$H$6326,2, FALSE)","v":57.5},null,{"$f":"H370","v":0.67741935483870963},0.45889698231009357,75,75.5,0,0,null,75.649079136430558,1.3509208635694421,1.824987179627207]
[null,394,2004,"2004-08-10",{"$f":"VLOOKUP($D402, data!$D$5:$E$6326,2, FALSE)","v":75},{"$f":"VLOOKUP($D402, data!$G$5:$H$6326,2, FALSE)","v":63.5},null,{"$f":"H371","v":0.70967741935483875},0.5036420395421437,75.5,69,0,0,null,77.209385657472282,-2.2093856574722821,4.881384983444228]
[null,395,2004,"2004-08-09",{"$f":"VLOOKUP($D403, data!$D$5:$E$6326,2, FALSE)","v":75.5},{"$f":"VLOOKUP($D403, data!$G$5:$H$6326,2, FALSE)","v":75},null,{"$f":"H372","v":0.74193548387096775},0.55046826222684708,69,65.5,0,0,null,72.674975996602683,2.8250240033973171,7.9807606197710044]
[null,396,2004,"2004-08-08",{"$f":"VLOOKUP($D404, data!$D$5:$E$6326,2, FALSE)","v":69},{"$f":"VLOOKUP($D404, data!$G$5:$H$6326,2, FALSE)","v":70},null,{"$f":"H373","v":0.77419354838709675},0.59937565036420393,65.5,68,0,0,null,69.558932629668462,-0.5589326296684618,0.31240568450810186]
[null,397,2004,"2004-08-07",{"$f":"VLOOKUP($D405, data!$D$5:$E$6326,2, FALSE)","v":65.5},{"$f":"VLOOKUP($D405, data!$G$5:$H$6326,2, FALSE)","v":65},null,{"$f":"H374","v":0.80645161290322576},0.65036420395421424,68,72.5,0,0,null,70.924358052874226,-5.4243580528742257,29.423660285781462]
[null,398,2004,"2004-08-06",{"$f":"VLOOKUP($D406, data!$D$5:$E$6326,2, FALSE)","v":68},{"$f":"VLOOKUP($D406, data!$G$5:$H$6326,2, FALSE)","v":65},null,{"$f":"H375","v":0.83870967741935487},0.70343392299687835,72.5,81,0,0,null,73.237576661382946,-5.2375766613829455,27.432209283863322]
[null,399,2004,"2004-08-05",{"$f":"VLOOKUP($D407, data!$D$5:$E$6326,2, FALSE)","v":72.5},{"$f":"VLOOKUP($D407, data!$G$5:$H$6326,2, FALSE)","v":65},null,{"$f":"H376","v":0.87096774193548387},0.75858480749219559,81,79,0,0,null,80.494793537527897,-7.9947935375278973,63.916723707697834]
[null,400,2004,"2004-08-04",{"$f":"VLOOKUP($D408, data!$D$5:$E$6326,2, FALSE)","v":81},{"$f":"VLOOKUP($D408, data!$G$5:$H$6326,2, FALSE)","v":70},null,{"$f":"H377","v":0.90322580645161288},0.81581685744016641,79,80,0,0,null,78.854320132332916,2.1456798676670843,4.6039420945118366]
[null,401,2004,"2004-08-03",{"$f":"VLOOKUP($D409, data!$D$5:$E$6326,2, FALSE)","v":79},{"$f":"VLOOKUP($D409, data!$G$5:$H$6326,2, FALSE)","v":78},null,{"$f":"H378","v":0.93548387096774188},0.8751300728407907,80,77.5,0,0,null,80.201027032865227,-1.2010270328652268,1.4424659336730505]
[null,402,2004,"2004-08-02",{"$f":"VLOOKUP($D410, data!$D$5:$E$6326,2, FALSE)","v":80},{"$f":"VLOOKUP($D410, data!$G$5:$H$6326,2, FALSE)","v":77.5},null,{"$f":"H379","v":0.967741935483871},0.93652445369406878,77.5,0,0,1,null,78.351228281731167,1.6487717182688328,2.7184481789631594]
[null,403,2004,"2004-08-01",{"$f":"VLOOKUP($D411, data!$D$5:$E$6326,2, FALSE)","v":77.5},{"$f":"VLOOKUP($D411, data!$G$5:$H$6326,2, FALSE)","v":76.5},null,{"$f":"H380","v":1},1,0,0,1,0,null,78.823529411767751,-1.3235294117677512,1.7517301038142894]
[null,404,2003,{"$f":"DATE(C412, 8, 31)","v":"2003-08-31"},{"$f":"VLOOKUP($D412, data!$D$5:$E$6326,2, FALSE)","v":68},{"$f":"VLOOKUP($D412, data!$G$5:$H$6326,2, FALSE)","v":65.5},null,{"$f":"H381","v":3.2258064516129031E-2},{"$f":"I381","v":1.0405827263267429E-3},{"$f":"E413","v":77},{"$f":"E414","v":76},0,0,null,76.834420971397662,-8.8344209713976625,78.046993899870813]
[null,405,2003,{"$f":"D412-1","v":"2003-08-30"},{"$f":"VLOOKUP($D413, data!$D$5:$E$6326,2, FALSE)","v":77},{"$f":"VLOOKUP($D413, data!$G$5:$H$6326,2, FALSE)","v":68},null,{"$f":"H382","v":6.4516129032258063E-2},4.1623309053069714E-3,{"$f":"E414","v":76},{"$f":"E415","v":77.5},0,0,null,75.739406981391227,1.2605930186087733,1.5890947585651789]
[null,406,{"$f":"C383-1","v":2003},"2003-08-29",{"$f":"VLOOKUP($D414, data!$D$5:$E$6326,2, FALSE)","v":76},{"$f":"VLOOKUP($D414, data!$G$5:$H$6326,2, FALSE)","v":76},null,{"$f":"H383","v":9.6774193548387094E-2},9.3652445369406864E-3,77.5,80.5,0,0,null,76.405456840611521,-0.40545684061152087,0.16439524959867624]
[null,407,2003,"2003-08-28",{"$f":"VLOOKUP($D415, data!$D$5:$E$6326,2, FALSE)","v":77.5},{"$f":"VLOOKUP($D415, data!$G$5:$H$6326,2, FALSE)","v":75.5},null,{"$f":"H384","v":0.12903225806451613},1.6649323621227886E-2,80.5,78.5,0,0,null,79.105119867064332,-1.6051198670643316,2.5764097876446175]
[null,408,2003,"2003-08-27",{"$f":"VLOOKUP($D416, data!$D$5:$E$6326,2, FALSE)","v":80.5},{"$f":"VLOOKUP($D416, data!$G$5:$H$6326,2, FALSE)","v":73.5},null,{"$f":"H385","v":0.16129032258064516},2.6014568158168574E-2,78.5,75.5,0,0,null,77.972319465116499,2.5276805348835012,6.3891688864289424]
[null,409,2003,"2003-08-26",{"$f":"VLOOKUP($D417, data!$D$5:$E$6326,2, FALSE)","v":78.5},{"$f":"VLOOKUP($D417, data!$G$5:$H$6326,2, FALSE)","v":81.5},null,{"$f":"H386","v":0.19354838709677419},3.7460978147762745E-2,75.5,71.5,0,0,null,76.210454605543561,2.2895453944564395,5.2420181132766928]
[null,410,2003,"2003-08-25",{"$f":"VLOOKUP($D418, data!$D$5:$E$6326,2, FALSE)","v":75.5},{"$f":"VLOOKUP($D418, data!$G$5:$H$6326,2, FALSE)","v":83},null,{"$f":"H387","v":0.22580645161290322},5.0988553590010401E-2,71.5,76.5,0,0,null,72.168142118038304,3.331857881961696,11.101276945590278]
[null,411,2003,"2003-08-24",{"$f":"VLOOKUP($D419, data!$D$5:$E$6326,2, FALSE)","v":71.5},{"$f":"VLOOKUP($D419, data!$G$5:$H$6326,2, FALSE)","v":72},null,{"$f":"H388","v":0.25806451612903225},6.6597294484911543E-2,76.5,84,0,0,null,74.927278490239331,-3.4272784902393312,11.74623784965719]
[null,412,2003,"2003-08-23",{"$f":"VLOOKUP($D420, data!$D$5:$E$6326,2, FALSE)","v":76.5},{"$f":"VLOOKUP($D420, data!$G$5:$H$6326,2, FALSE)","v":69},null,{"$f":"H389","v":0.29032258064516131},8.4287200832466186E-2,84,81.5,0,0,null,81.346569357520394,-4.8465693575203943,23.489234537255648]
[null,413,2003,"2003-08-22",{"$f":"VLOOKUP($D421, data!$D$5:$E$6326,2, FALSE)","v":84},{"$f":"VLOOKUP($D421, data!$G$5:$H$6326,2, FALSE)","v":71},null,{"$f":"H390","v":0.32258064516129031},0.1040582726326743,81.5,78.5,0,0,null,79.846578924415979,4.1534210755840206,17.250906631105522]
[null,414,2003,"2003-08-21",{"$f":"VLOOKUP($D422, data!$D$5:$E$6326,2, FALSE)","v":81.5},{"$f":"VLOOKUP($D422, data!$G$5:$H$6326,2, FALSE)","v":83.5},null,{"$f":"H391","v":0.35483870967741937},0.12591050988553593,78.5,77,0,0,null,77.705103112456626,3.7948968875433735,14.401242387086384]
[null,415,2003,"2003-08-20",{"$f":"VLOOKUP($D423, data!$D$5:$E$6326,2, FALSE)","v":78.5},{"$f":"VLOOKUP($D423, data!$G$5:$H$6326,2, FALSE)","v":76.5},null,{"$f":"H392","v":0.38709677419354838},0.14984391259105098,77,72,0,0,null,77.349532992183725,1.1504670078162746,1.3235743360737322]
[null,416,2003,"2003-08-19",{"$f":"VLOOKUP($D424, data!$D$5:$E$6326,2, FALSE)","v":77},{"$f":"VLOOKUP($D424, data!$G$5:$H$6326,2, FALSE)","v":71},null,{"$f":"H393","v":0.41935483870967744},0.17585848074921959,72,75,0,0,null,72.876529204274476,4.1234707957255239,17.003011403201285]
[null,417,2003,"2003-08-18",{"$f":"VLOOKUP($D425, data!$D$5:$E$6326,2, FALSE)","v":72},{"$f":"VLOOKUP($D425, data!$G$5:$H$6326,2, FALSE)","v":72.5},null,{"$f":"H394","v":0.45161290322580644},0.2039542143600416,75,80.5,0,0,null,74.404124533377612,-2.4041245333776118,5.7798147719881197]
[null,418,2003,"2003-08-17",{"$f":"VLOOKUP($D426, data!$D$5:$E$6326,2, FALSE)","v":75},{"$f":"VLOOKUP($D426, data!$G$5:$H$6326,2, FALSE)","v":77.5},null,{"$f":"H395","v":0.4838709677419355},0.2341311134235172,80.5,81.5,0,0,null,78.683613613891822,-3.6836136138918221,13.569009256449169]
[null,419,2003,"2003-08-16",{"$f":"VLOOKUP($D427, data!$D$5:$E$6326,2, FALSE)","v":80.5},{"$f":"VLOOKUP($D427, data!$G$5:$H$6326,2, FALSE)","v":82.5},null,{"$f":"H396","v":0.5161290322580645},0.26638917793964617,81.5,83,0,0,null,79.283356661806238,1.2166433381937622,1.4802210123712614]
[null,420,2003,"2003-08-15",{"$f":"VLOOKUP($D428, data!$D$5:$E$6326,2, FALSE)","v":81.5},{"$f":"VLOOKUP($D428, data!$G$5:$H$6326,2, FALSE)","v":79},null,{"$f":"H397","v":0.54838709677419351},0.3007284079084287,83,82.5,0,0,null,80.620448183167099,0.87955181683290107,0.77361139849405713]
[null,421,2003,"2003-08-14",{"$f":"VLOOKUP($D429, data!$D$5:$E$6326,2, FALSE)","v":83},{"$f":"VLOOKUP($D429, data!$G$5:$H$6326,2, FALSE)","v":76.5},null,{"$f":"H398","v":0.58064516129032262},0.33714880332986474,82.5,78.5,0,0,null,80.94047129678583,2.0595287032141698,4.2416584793630401]
[null,422,2003,"2003-08-13",{"$f":"VLOOKUP($D430, data!$D$5:$E$6326,2, FALSE)","v":82.5},{"$f":"VLOOKUP($D430, data!$G$5:$H$6326,2, FALSE)","v":72},null,{"$f":"H399","v":0.61290322580645162},0.3756503642039542,78.5,77,0,0,null,78.051321486437189,4.4486785135628111,19.790740517035424]
[null,423,2003,"2003-08-12",{"$f":"VLOOKUP($D431, data!$D$5:$E$6326,2, FALSE)","v":78.5},{"$f":"VLOOKUP($D431, data!$G$5:$H$6326,2, FALSE)","v":71},null,{"$f":"H400","v":0.64516129032258063},0.41623309053069718,77,78,0,0,null,76.758097208284539,1.7419027917154608,3.034225335786116]
[null,424,2003,"2003-08-11",{"$f":"VLOOKUP($D432, data!$D$5:$E$6326,2, FALSE)","v":77},{"$f":"VLOOKUP($D432, data!$G$5:$H$6326,2, FALSE)","v":68.5},null,{"$f":"H401","v":0.67741935483870963},0.45889698231009357,78,76.5,0,0,null,77.886490047481502,-0.88649004748150162,0.78586460428375504]
[null,425,2003,"2003-08-10",{"$f":"VLOOKUP($D433, data!$D$5:$E$6326,2, FALSE)","v":78},{"$f":"VLOOKUP($D433, data!$G$5:$H$6326,2, FALSE)","v":73},null,{"$f":"H402","v":0.70967741935483875},0.5036420395421437,76.5,77,0,0,null,76.689128863920374,1.3108711360796264,1.7183831354066903]
[null,426,2003,"2003-08-09",{"$f":"VLOOKUP($D434, data!$D$5:$E$6326,2, FALSE)","v":76.5},{"$f":"VLOOKUP($D434, data!$G$5:$H$6326,2, FALSE)","v":70},null,{"$f":"H403","v":0.74193548387096775},0.55046826222684708,77,75.5,0,0,null,77.430390767846546,-0.9303907678465464,0.86562698089408618]
[null,427,2003,"2003-08-08",{"$f":"VLOOKUP($D435, data!$D$5:$E$6326,2, FALSE)","v":77},{"$f":"VLOOKUP($D435, data!$G$5:$H$6326,2, FALSE)","v":69},null,{"$f":"H404","v":0.77419354838709675},0.59937565036420393,75.5,75.5,0,0,null,76.32889267887694,0.67110732112305982,0.45038503646496975]
[null,428,2003,"2003-08-07",{"$f":"VLOOKUP($D436, data!$D$5:$E$6326,2, FALSE)","v":75.5},{"$f":"VLOOKUP($D436, data!$G$5:$H$6326,2, FALSE)","v":73},null,{"$f":"H405","v":0.80645161290322576},0.65036420395421424,75.5,75,0,0,null,76.517885330501599,-1.0178853305015991,1.0360905460503498]
[null,429,2003,"2003-08-06",{"$f":"VLOOKUP($D437, data!$D$5:$E$6326,2, FALSE)","v":75.5},{"$f":"VLOOKUP($D437, data!$G$5:$H$6326,2, FALSE)","v":74},null,{"$f":"H406","v":0.83870967741935487},0.70343392299687835,75,80,0,0,null,75.404839335148381,9.5160664851619003E-2,9.0555521350021567E-3]
[null,430,2003,"2003-08-05",{"$f":"VLOOKUP($D438, data!$D$5:$E$6326,2, FALSE)","v":75},{"$f":"VLOOKUP($D438, data!$G$5:$H$6326,2, FALSE)","v":70.5},null,{"$f":"H407","v":0.87096774193548387},0.75858480749219559,80,81,0,0,null,79.363667160772565,-4.3636671607725646,19.041591090004896]
[null,431,2003,"2003-08-04",{"$f":"VLOOKUP($D439, data!$D$5:$E$6326,2, FALSE)","v":80},{"$f":"VLOOKUP($D439, data!$G$5:$H$6326,2, FALSE)","v":69},null,{"$f":"H408","v":0.90322580645161288},0.81581685744016641,81,79,0,0,null,80.621157934751423,-0.62115793475142311,0.38583717990465322]
[null,432,2003,"2003-08-03",{"$f":"VLOOKUP($D440, data!$D$5:$E$6326,2, FALSE)","v":81},{"$f":"VLOOKUP($D440, data!$G$5:$H$6326,2, FALSE)","v":71},null,{"$f":"H409","v":0.93548387096774188},0.8751300728407907,79,75.5,0,0,null,79.730453924232762,1.2695460757672379,1.6117472384959932]
[null,433,2003,"2003-08-02",{"$f":"VLOOKUP($D441, data!$D$5:$E$6326,2, FALSE)","v":79},{"$f":"VLOOKUP($D441, data!$G$5:$H$6326,2, FALSE)","v":72},null,{"$f":"H410","v":0.967741935483871},0.93652445369406878,75.5,0,0,1,null,76.749528796343384,2.2504712036566161,5.0646206384876589]
[null,434,2003,"2003-08-01",{"$f":"VLOOKUP($D442, data!$D$5:$E$6326,2, FALSE)","v":75.5},{"$f":"VLOOKUP($D442, data!$G$5:$H$6326,2, FALSE)","v":74.5},null,{"$f":"H411","v":1},1,0,0,1,0,null,78.823529411767751,-3.3235294117677512,11.045847750885294]
[null,435,2002,{"$f":"DATE(C443, 8, 31)","v":"2002-08-31"},{"$f":"VLOOKUP($D443, data!$D$5:$E$6326,2, FALSE)","v":68},{"$f":"VLOOKUP($D443, data!$G$5:$H$6326,2, FALSE)","v":73},null,{"$f":"H412","v":3.2258064516129031E-2},{"$f":"I412","v":1.0405827263267429E-3},{"$f":"E444","v":66.5},{"$f":"E445","v":62.5},0,0,null,70.654865953026601,-2.6548659530266008,7.0483132285398415]
[null,436,2002,{"$f":"D443-1","v":"2002-08-30"},{"$f":"VLOOKUP($D444, data!$D$5:$E$6326,2, FALSE)","v":66.5},{"$f":"VLOOKUP($D444, data!$G$5:$H$6326,2, FALSE)","v":72.5},null,{"$f":"H413","v":6.4516129032258063E-2},4.1623309053069714E-3,{"$f":"E445","v":62.5},{"$f":"E446","v":70},0,0,null,66.166472832754152,0.33352716724584752,0.11124037129103954]
[null,437,2002,"2002-08-29",{"$f":"VLOOKUP($D445, data!$D$5:$E$6326,2, FALSE)","v":62.5},{"$f":"VLOOKUP($D445, data!$G$5:$H$6326,2, FALSE)","v":69.5},null,{"$f":"H414","v":9.6774193548387094E-2},9.3652445369406864E-3,70,75,0,0,null,71.30734451407632,-8.8073445140763198,77.569317389630243]
[null,438,{"$f":"C415-1","v":2002},"2002-08-28",{"$f":"VLOOKUP($D446, data!$D$5:$E$6326,2, FALSE)","v":70},{"$f":"VLOOKUP($D446, data!$G$5:$H$6326,2, FALSE)","v":72},null,{"$f":"H415","v":0.12903225806451613},1.6649323621227886E-2,75,76,0,0,null,75.113292074824741,-5.1132920748247415,26.145755842465508]
[null,439,2002,"2002-08-27",{"$f":"VLOOKUP($D447, data!$D$5:$E$6326,2, FALSE)","v":75},{"$f":"VLOOKUP($D447, data!$G$5:$H$6326,2, FALSE)","v":74},null,{"$f":"H416","v":0.16129032258064516},2.6014568158168574E-2,76,74.5,0,0,null,76.135333425412483,-1.1353334254124832,1.2889819868588426]
[null,440,2002,"2002-08-26",{"$f":"VLOOKUP($D448, data!$D$5:$E$6326,2, FALSE)","v":76},{"$f":"VLOOKUP($D448, data!$G$5:$H$6326,2, FALSE)","v":73.5},null,{"$f":"H417","v":0.19354838709677419},3.7460978147762745E-2,74.5,70.5,0,0,null,75.5747431798804,0.42525682011959987,0.18084336305823373]
[null,441,2002,"2002-08-25",{"$f":"VLOOKUP($D449, data!$D$5:$E$6326,2, FALSE)","v":74.5},{"$f":"VLOOKUP($D449, data!$G$5:$H$6326,2, FALSE)","v":74},null,{"$f":"H418","v":0.22580645161290322},5.0988553590010401E-2,70.5,74.5,0,0,null,71.697569009405868,2.8024309905941323,7.8536194570424094]
[null,442,2002,"2002-08-24",{"$f":"VLOOKUP($D450, data!$D$5:$E$6326,2, FALSE)","v":70.5},{"$f":"VLOOKUP($D450, data!$G$5:$H$6326,2, FALSE)","v":74},null,{"$f":"H419","v":0.25806451612903225},6.6597294484911543E-2,74.5,77,0,0,null,74.481547224066617,-3.9815472240666168,15.852718297472581]
[null,443,2002,"2002-08-23",{"$f":"VLOOKUP($D451, data!$D$5:$E$6326,2, FALSE)","v":74.5},{"$f":"VLOOKUP($D451, data!$G$5:$H$6326,2, FALSE)","v":72.5},null,{"$f":"H420","v":0.29032258064516131},8.4287200832466186E-2,77,75.5,0,0,null,76.73145106084749,-2.2314510608474905,4.9793738369573903]
[null,444,2002,"2002-08-22",{"$f":"VLOOKUP($D452, data!$D$5:$E$6326,2, FALSE)","v":77},{"$f":"VLOOKUP($D452, data!$G$5:$H$6326,2, FALSE)","v":74},null,{"$f":"H421","v":0.32258064516129031},0.1040582726326743,75.5,75,0,0,null,75.619464577860185,1.3805354221398147,1.9058780517827565]
[null,445,2002,"2002-08-21",{"$f":"VLOOKUP($D453, data!$D$5:$E$6326,2, FALSE)","v":75.5},{"$f":"VLOOKUP($D453, data!$G$5:$H$6326,2, FALSE)","v":74.5},null,{"$f":"H422","v":0.35483870967741937},0.12591050988553593,75,86,0,0,null,73.415884159751499,2.0841158402485007,4.343538835574714]
[null,446,2002,"2002-08-20",{"$f":"VLOOKUP($D454, data!$D$5:$E$6326,2, FALSE)","v":75},{"$f":"VLOOKUP($D454, data!$G$5:$H$6326,2, FALSE)","v":65.5},null,{"$f":"H423","v":0.38709677419354838},0.14984391259105098,86,87,0,0,null,82.080105920967853,-7.0801059209678527,50.127899852124045]
[null,447,2002,"2002-08-19",{"$f":"VLOOKUP($D455, data!$D$5:$E$6326,2, FALSE)","v":86},{"$f":"VLOOKUP($D455, data!$G$5:$H$6326,2, FALSE)","v":65.5},null,{"$f":"H424","v":0.41935483870967744},0.17585848074921959,87,85.5,0,0,null,83.155323015860233,2.8446769841397668,8.0921871440945186]
[null,448,2002,"2002-08-18",{"$f":"VLOOKUP($D456, data!$D$5:$E$6326,2, FALSE)","v":87},{"$f":"VLOOKUP($D456, data!$G$5:$H$6326,2, FALSE)","v":66},null,{"$f":"H425","v":0.45161290322580644},0.2039542143600416,85.5,86,0,0,null,81.904786087994481,5.0952139120055193,25.961204809094589]
[null,449,2002,"2002-08-17",{"$f":"VLOOKUP($D457, data!$D$5:$E$6326,2, FALSE)","v":85.5},{"$f":"VLOOKUP($D457, data!$G$5:$H$6326,2, FALSE)","v":76},null,{"$f":"H426","v":0.4838709677419355},0.2341311134235172,86,83.5,0,0,null,82.758010564646753,2.741989435353247,7.5185060635888181]
[null,450,2002,"2002-08-16",{"$f":"VLOOKUP($D458, data!$D$5:$E$6326,2, FALSE)","v":86},{"$f":"VLOOKUP($D458, data!$G$5:$H$6326,2, FALSE)","v":75},null,{"$f":"H427","v":0.5161290322580645},0.26638917793964617,83.5,85,0,0,null,{"$f":"$O$7+SUMPRODUCT(H$7:M$7, H458:M458)","v":80.554779513132559},{"$f":"E458-O458","v":5.4452204868674414},{"$f":"P458*P458","v":29.650426150600897}]
[null,{"$f":"B458+1","v":451},2002,"2002-08-15",{"$f":"VLOOKUP($D459, data!$D$5:$E$6326,2, FALSE)","v":83.5},{"$f":"VLOOKUP($D459, data!$G$5:$H$6326,2, FALSE)","v":73.5},null,{"$f":"H428","v":0.54838709677419351},0.3007284079084287,85,87.5,0,0,null,81.396456083401262,2.1035439165987384,4.4248970090595598]
[null,452,2002,"2002-08-14",{"$f":"VLOOKUP($D460, data!$D$5:$E$6326,2, FALSE)","v":85},{"$f":"VLOOKUP($D460, data!$G$5:$H$6326,2, FALSE)","v":70},null,{"$f":"H429","v":0.58064516129032262},0.33714880332986474,87.5,81.5,0,0,null,84.449305059163095,0.55069494083690529,0.30326491786336263]
[null,453,2002,"2002-08-13",{"$f":"VLOOKUP($D461, data!$D$5:$E$6326,2, FALSE)","v":87.5},{"$f":"VLOOKUP($D461, data!$G$5:$H$6326,2, FALSE)","v":76},null,{"$f":"H430","v":0.61290322580645162},0.3756503642039542,81.5,79,0,0,null,80.123594080457423,7.3764059195425773,54.411364289862775]
[null,454,2002,"2002-08-12",{"$f":"VLOOKUP($D462, data!$D$5:$E$6326,2, FALSE)","v":81.5},{"$f":"VLOOKUP($D462, data!$G$5:$H$6326,2, FALSE)","v":79},null,{"$f":"H431","v":0.64516129032258063},0.41623309053069718,79,77,0,0,null,78.524935010703047,2.9750649892969534,8.8510116905404814]
[null,455,2002,"2002-08-11",{"$f":"VLOOKUP($D463, data!$D$5:$E$6326,2, FALSE)","v":79},{"$f":"VLOOKUP($D463, data!$G$5:$H$6326,2, FALSE)","v":80},null,{"$f":"H432","v":0.67741935483870963},0.45889698231009357,77,75,0,0,null,77.333347780333696,1.6666522196663038,2.7777296213186173]
[null,456,2002,"2002-08-10",{"$f":"VLOOKUP($D464, data!$D$5:$E$6326,2, FALSE)","v":77},{"$f":"VLOOKUP($D464, data!$G$5:$H$6326,2, FALSE)","v":74},null,{"$f":"H433","v":0.70967741935483875},0.5036420395421437,75,73.5,0,0,null,76.065838359487074,0.93416164051292583,0.87265797060580086]
[null,457,2002,"2002-08-09",{"$f":"VLOOKUP($D465, data!$D$5:$E$6326,2, FALSE)","v":75},{"$f":"VLOOKUP($D465, data!$G$5:$H$6326,2, FALSE)","v":70},null,{"$f":"H434","v":0.74193548387096775},0.55046826222684708,73.5,72,0,0,null,75.205400778025478,-0.20540077802547785,4.2189479613471623E-2]
[null,458,2002,"2002-08-08",{"$f":"VLOOKUP($D466, data!$D$5:$E$6326,2, FALSE)","v":73.5},{"$f":"VLOOKUP($D466, data!$G$5:$H$6326,2, FALSE)","v":69},null,{"$f":"H435","v":0.77419354838709675},0.59937565036420393,72,73,0,0,null,73.938764372025133,-0.4387643720251333,0.19251417415860958]
[null,459,2002,"2002-08-07",{"$f":"VLOOKUP($D467, data!$D$5:$E$6326,2, FALSE)","v":72},{"$f":"VLOOKUP($D467, data!$G$5:$H$6326,2, FALSE)","v":67},null,{"$f":"H436","v":0.80645161290322576},0.65036420395421424,73,84.5,0,0,null,72.946946961974987,-0.94694696197498729,0.89670854879365802]
[null,460,2002,"2002-08-06",{"$f":"VLOOKUP($D468, data!$D$5:$E$6326,2, FALSE)","v":73},{"$f":"VLOOKUP($D468, data!$G$5:$H$6326,2, FALSE)","v":68.5},null,{"$f":"H437","v":0.83870967741935487},0.70343392299687835,84.5,83,0,0,null,82.517496939648183,-9.5174969396481828,90.582747996212518]
[null,461,2002,"2002-08-05",{"$f":"VLOOKUP($D469, data!$D$5:$E$6326,2, FALSE)","v":84.5},{"$f":"VLOOKUP($D469, data!$G$5:$H$6326,2, FALSE)","v":76.5},null,{"$f":"H438","v":0.87096774193548387},0.75858480749219559,83,80,0,0,null,81.931354705884957,2.5686452941150435,6.5979386469793582]
[null,462,2002,"2002-08-04",{"$f":"VLOOKUP($D470, data!$D$5:$E$6326,2, FALSE)","v":83},{"$f":"VLOOKUP($D470, data!$G$5:$H$6326,2, FALSE)","v":81.5},null,{"$f":"H439","v":0.90322580645161288},0.81581685744016641,80,83,0,0,null,79.159754923934642,3.8402450760653579,14.747482244244226]
[null,463,2002,"2002-08-03",{"$f":"VLOOKUP($D471, data!$D$5:$E$6326,2, FALSE)","v":80},{"$f":"VLOOKUP($D471, data!$G$5:$H$6326,2, FALSE)","v":74.5},null,{"$f":"H440","v":0.93548387096774188},0.8751300728407907,83,88,0,0,null,80.869623932124284,-0.86962393212428424,0.75624578332330172]
[null,464,2002,"2002-08-02",{"$f":"VLOOKUP($D472, data!$D$5:$E$6326,2, FALSE)","v":83},{"$f":"VLOOKUP($D472, data!$G$5:$H$6326,2, FALSE)","v":72},null,{"$f":"H441","v":0.967741935483871},0.93652445369406878,88,0,0,1,null,86.760150580017012,-3.7601505800170116,14.138732384402269]
[null,465,2002,"2002-08-01",{"$f":"VLOOKUP($D473, data!$D$5:$E$6326,2, FALSE)","v":88},{"$f":"VLOOKUP($D473, data!$G$5:$H$6326,2, FALSE)","v":84.5},null,{"$f":"H442","v":1},1,0,0,1,0,null,78.823529411767751,9.1764705882322488,84.207612456691521]
[null,466,2001,{"$f":"DATE(C474, 8, 31)","v":"2001-08-31"},{"$f":"VLOOKUP($D474, data!$D$5:$E$6326,2, FALSE)","v":79.5},{"$f":"VLOOKUP($D474, data!$G$5:$H$6326,2, FALSE)","v":68},null,{"$f":"H443","v":3.2258064516129031E-2},{"$f":"I443","v":1.0405827263267429E-3},{"$f":"E475","v":73},{"$f":"E476","v":75.5},0,0,null,73.713591159137479,5.7864088408625207,33.482527273611943]
[null,467,{"$f":"C474","v":2001},{"$f":"D474-1","v":"2001-08-30"},{"$f":"VLOOKUP($D475, data!$D$5:$E$6326,2, FALSE)","v":73},{"$f":"VLOOKUP($D475, data!$G$5:$H$6326,2, FALSE)","v":76.5},null,{"$f":"H444","v":6.4516129032258063E-2},4.1623309053069714E-3,{"$f":"E476","v":75.5},{"$f":"E477","v":79},0,0,null,75.091274634498205,-2.0912746344982054,4.373429596895603]
[null,468,2001,"2001-08-29",{"$f":"VLOOKUP($D476, data!$D$5:$E$6326,2, FALSE)","v":75.5},{"$f":"VLOOKUP($D476, data!$G$5:$H$6326,2, FALSE)","v":69},null,{"$f":"H445","v":9.6774193548387094E-2},9.3652445369406864E-3,79,79,0,0,null,77.854438930198427,-2.3544389301984268,5.5433826760339127]
[null,469,2001,"2001-08-28",{"$f":"VLOOKUP($D477, data!$D$5:$E$6326,2, FALSE)","v":79},{"$f":"VLOOKUP($D477, data!$G$5:$H$6326,2, FALSE)","v":68},null,{"$f":"H446","v":0.12903225806451613},1.6649323621227886E-2,79,71.5,0,0,null,79.059813472238559,-5.9813472238559484E-2,3.5776514612329263E-3]
[null,470,2001,"2001-08-27",{"$f":"VLOOKUP($D478, data!$D$5:$E$6326,2, FALSE)","v":79},{"$f":"VLOOKUP($D478, data!$G$5:$H$6326,2, FALSE)","v":74},null,{"$f":"H447","v":0.16129032258064516},2.6014568158168574E-2,71.5,72,0,0,null,72.944355375866792,6.0556446241332083,36.670831813793427]
[null,471,2001,"2001-08-26",{"$f":"VLOOKUP($D479, data!$D$5:$E$6326,2, FALSE)","v":71.5},{"$f":"VLOOKUP($D479, data!$G$5:$H$6326,2, FALSE)","v":75},null,{"$f":"H448","v":0.19354838709677419},3.7460978147762745E-2,72,75,0,0,null,72.829496396507409,-1.3294963965074089,1.7675606683261855]
[null,472,2001,"2001-08-25",{"$f":"VLOOKUP($D480, data!$D$5:$E$6326,2, FALSE)","v":72},{"$f":"VLOOKUP($D480, data!$G$5:$H$6326,2, FALSE)","v":74},null,{"$f":"H449","v":0.22580645161290322},5.0988553590010401E-2,75,75.5,0,0,null,75.136254534497652,-3.1362545344976525,9.8360925051570867]
[null,473,2001,"2001-08-24",{"$f":"VLOOKUP($D481, data!$D$5:$E$6326,2, FALSE)","v":75},{"$f":"VLOOKUP($D481, data!$G$5:$H$6326,2, FALSE)","v":73.5},null,{"$f":"H450","v":0.25806451612903225},6.6597294484911543E-2,75.5,78,0,0,null,75.117258649729791,-0.11725864972979139,1.3749590936453905E-2]
[null,474,2001,"2001-08-23",{"$f":"VLOOKUP($D482, data!$D$5:$E$6326,2, FALSE)","v":75.5},{"$f":"VLOOKUP($D482, data!$G$5:$H$6326,2, FALSE)","v":71.5},null,{"$f":"H451","v":0.29032258064516131},8.4287200832466186E-2,78,77,0,0,null,77.284593327995296,-1.7845933279952959,3.1847733463253256]
[null,475,2001,"2001-08-22",{"$f":"VLOOKUP($D483, data!$D$5:$E$6326,2, FALSE)","v":78},{"$f":"VLOOKUP($D483, data!$G$5:$H$6326,2, FALSE)","v":77},null,{"$f":"H452","v":0.32258064516129031},0.1040582726326743,77,81,0,0,null,75.829909289716667,2.1700907102833327,4.7092936908580194]
[null,476,2001,"2001-08-21",{"$f":"VLOOKUP($D484, data!$D$5:$E$6326,2, FALSE)","v":77},{"$f":"VLOOKUP($D484, data!$G$5:$H$6326,2, FALSE)","v":72},null,{"$f":"H453","v":0.35483870967741937},0.12591050988553593,81,78,0,0,null,79.542089152160628,-2.5420891521606279,6.4622172575327399]
[null,477,2001,"2001-08-20",{"$f":"VLOOKUP($D485, data!$D$5:$E$6326,2, FALSE)","v":81},{"$f":"VLOOKUP($D485, data!$G$5:$H$6326,2, FALSE)","v":68.5},null,{"$f":"H454","v":0.38709677419354838},0.14984391259105098,78,78,0,0,null,77.159552832693265,3.8404471673067349,14.749034444874324]
[null,478,2001,"2001-08-19",{"$f":"VLOOKUP($D486, data!$D$5:$E$6326,2, FALSE)","v":78},{"$f":"VLOOKUP($D486, data!$G$5:$H$6326,2, FALSE)","v":67.5},null,{"$f":"H455","v":0.41935483870967744},0.17585848074921959,78,80,0,0,null,76.855936075284191,1.1440639247158089,1.3088822638361399]
[null,479,2001,"2001-08-18",{"$f":"VLOOKUP($D487, data!$D$5:$E$6326,2, FALSE)","v":78},{"$f":"VLOOKUP($D487, data!$G$5:$H$6326,2, FALSE)","v":65.5},null,{"$f":"H456","v":0.45161290322580644},0.2039542143600416,80,75.5,0,0,null,79.234064832000684,-1.2340648320006835,1.5229160095808751]
[null,480,2001,"2001-08-17",{"$f":"VLOOKUP($D488, data!$D$5:$E$6326,2, FALSE)","v":80},{"$f":"VLOOKUP($D488, data!$G$5:$H$6326,2, FALSE)","v":69.5},null,{"$f":"H457","v":0.4838709677419355},0.2341311134235172,75.5,75,0,0,null,75.752763961122071,4.2472360388779293,18.039013969943483]
[null,481,2001,"2001-08-16",{"$f":"VLOOKUP($D489, data!$D$5:$E$6326,2, FALSE)","v":75.5},{"$f":"VLOOKUP($D489, data!$G$5:$H$6326,2, FALSE)","v":67.5},null,{"$f":"H458","v":0.5161290322580645},0.26638917793964617,75,77.5,0,0,null,74.986094077964935,0.51390592203506458,0.26409929670270987]
[null,482,2001,"2001-08-15",{"$f":"VLOOKUP($D490, data!$D$5:$E$6326,2, FALSE)","v":75},{"$f":"VLOOKUP($D490, data!$G$5:$H$6326,2, FALSE)","v":67},null,{"$f":"H459","v":0.54838709677419351},0.3007284079084287,77.5,80,0,0,null,76.628620390927523,-1.628620390927523,2.6524043777449178]
[null,483,2001,"2001-08-14",{"$f":"VLOOKUP($D491, data!$D$5:$E$6326,2, FALSE)","v":77.5},{"$f":"VLOOKUP($D491, data!$G$5:$H$6326,2, FALSE)","v":66},null,{"$f":"H460","v":0.58064516129032262},0.33714880332986474,80,76.5,0,0,null,79.268623574112553,-1.7686235741125529,3.1280293469066609]
[null,484,2001,"2001-08-13",{"$f":"VLOOKUP($D492, data!$D$5:$E$6326,2, FALSE)","v":80},{"$f":"VLOOKUP($D492, data!$G$5:$H$6326,2, FALSE)","v":67},null,{"$f":"H461","v":0.61290322580645162},0.3756503642039542,76.5,75.5,0,0,null,76.697329476595485,3.3026705234045153,10.907632586165056]
[null,485,2001,"2001-08-12",{"$f":"VLOOKUP($D493, data!$D$5:$E$6326,2, FALSE)","v":76.5},{"$f":"VLOOKUP($D493, data!$G$5:$H$6326,2, FALSE)","v":72},null,{"$f":"H462","v":0.64516129032258063},0.41623309053069718,75.5,87.5,0,0,null,73.98800858245184,2.5119914175481597,6.3101008818356128]
[null,486,2001,"2001-08-11",{"$f":"VLOOKUP($D494, data!$D$5:$E$6326,2, FALSE)","v":75.5},{"$f":"VLOOKUP($D494, data!$G$5:$H$6326,2, FALSE)","v":68.5},null,{"$f":"H463","v":0.67741935483870963},0.45889698231009357,87.5,91,0,0,null,83.100057006127969,-7.6000570061279689,57.760866496394826]
[null,487,2001,"2001-08-10",{"$f":"VLOOKUP($D495, data!$D$5:$E$6326,2, FALSE)","v":87.5},{"$f":"VLOOKUP($D495, data!$G$5:$H$6326,2, FALSE)","v":69.5},null,{"$f":"H464","v":0.70967741935483875},0.5036420395421437,91,91.5,0,0,null,85.906944536036292,1.593055463963708,2.5378257112646252]
[null,488,2001,"2001-08-09",{"$f":"VLOOKUP($D496, data!$D$5:$E$6326,2, FALSE)","v":91},{"$f":"VLOOKUP($D496, data!$G$5:$H$6326,2, FALSE)","v":83.5},null,{"$f":"H465","v":0.74193548387096775},0.55046826222684708,91.5,88.5,0,0,null,86.895913915508544,4.1040860844914562,16.843522588916411]
[null,489,2001,"2001-08-08",{"$f":"VLOOKUP($D497, data!$D$5:$E$6326,2, FALSE)","v":91.5},{"$f":"VLOOKUP($D497, data!$G$5:$H$6326,2, FALSE)","v":84.5},null,{"$f":"H466","v":0.77419354838709675},0.59937565036420393,88.5,85,0,0,null,85.171125322105624,6.3288746778943761,40.05465468849264]
[null,490,2001,"2001-08-07",{"$f":"VLOOKUP($D498, data!$D$5:$E$6326,2, FALSE)","v":88.5},{"$f":"VLOOKUP($D498, data!$G$5:$H$6326,2, FALSE)","v":85},null,{"$f":"H467","v":0.80645161290322576},0.65036420395421424,85,78.5,0,0,null,83.547973776486003,4.9520262235139967,24.522563718370296]
[null,491,2001,"2001-08-06",{"$f":"VLOOKUP($D499, data!$D$5:$E$6326,2, FALSE)","v":85},{"$f":"VLOOKUP($D499, data!$G$5:$H$6326,2, FALSE)","v":81},null,{"$f":"H468","v":0.83870967741935487},0.70343392299687835,78.5,77,0,0,null,78.703228385669178,6.2967716143308223,39.649332763042388]
[null,492,2001,"2001-08-05",{"$f":"VLOOKUP($D500, data!$D$5:$E$6326,2, FALSE)","v":78.5},{"$f":"VLOOKUP($D500, data!$G$5:$H$6326,2, FALSE)","v":76},null,{"$f":"H469","v":0.87096774193548387},0.75858480749219559,77,79.5,0,0,null,77.208825408236976,1.2911745917630242,1.6671318264144122]
[null,493,2001,"2001-08-04",{"$f":"VLOOKUP($D501, data!$D$5:$E$6326,2, FALSE)","v":77},{"$f":"VLOOKUP($D501, data!$G$5:$H$6326,2, FALSE)","v":75.5},null,{"$f":"H470","v":0.90322580645161288},0.81581685744016641,79.5,81,0,0,null,79.089606686649148,-2.0896066866491481,4.3664561048888313]
[null,494,2001,"2001-08-03",{"$f":"VLOOKUP($D502, data!$D$5:$E$6326,2, FALSE)","v":79.5},{"$f":"VLOOKUP($D502, data!$G$5:$H$6326,2, FALSE)","v":75},null,{"$f":"H471","v":0.93548387096774188},0.8751300728407907,81,78.5,0,0,null,80.836738458528373,-1.336738458528373,1.7868697065088108]
[null,495,2001,"2001-08-02",{"$f":"VLOOKUP($D503, data!$D$5:$E$6326,2, FALSE)","v":81},{"$f":"VLOOKUP($D503, data!$G$5:$H$6326,2, FALSE)","v":78.5},null,{"$f":"H472","v":0.967741935483871},0.93652445369406878,78.5,0,0,1,null,79.152078024425052,1.8479219755749483,3.4148156278128199]
[null,496,2001,"2001-08-01",{"$f":"VLOOKUP($D504, data!$D$5:$E$6326,2, FALSE)","v":78.5},{"$f":"VLOOKUP($D504, data!$G$5:$H$6326,2, FALSE)","v":84},null,{"$f":"H473","v":1},1,0,0,1,0,null,78.823529411767751,-0.32352941176775118,0.1046712802787871]
[null,497,{"$f":"C474-1","v":2000},{"$f":"DATE(C505, 8, 31)","v":"2000-08-31"},{"$f":"VLOOKUP($D505, data!$D$5:$E$6326,2, FALSE)","v":78.5},{"$f":"VLOOKUP($D505, data!$G$5:$H$6326,2, FALSE)","v":80},null,{"$f":"H474","v":3.2258064516129031E-2},{"$f":"I474","v":1.0405827263267429E-3},{"$f":"E506","v":73},{"$f":"E507","v":73.5},0,0,null,74.043867793198928,4.4561322068010725,19.857114244489797]
[null,498,2000,{"$f":"D505-1","v":"2000-08-30"},{"$f":"VLOOKUP($D506, data!$D$5:$E$6326,2, FALSE)","v":73},{"$f":"VLOOKUP($D506, data!$G$5:$H$6326,2, FALSE)","v":77},null,{"$f":"H475","v":6.4516129032258063E-2},4.1623309053069714E-3,{"$f":"E507","v":73.5},{"$f":"E508","v":76},0,0,null,73.984990100202594,-0.98499010020259448,0.97020549749711715]
[null,499,2000,"2000-08-29",{"$f":"VLOOKUP($D507, data!$D$5:$E$6326,2, FALSE)","v":73.5},{"$f":"VLOOKUP($D507, data!$G$5:$H$6326,2, FALSE)","v":76.5},null,{"$f":"H476","v":9.6774193548387094E-2},9.3652445369406864E-3,76,73.5,0,0,null,76.360150445785749,-2.8601504457857487,8.1804605725284176]
[null,500,2000,"2000-08-28",{"$f":"VLOOKUP($D508, data!$D$5:$E$6326,2, FALSE)","v":76},{"$f":"VLOOKUP($D508, data!$G$5:$H$6326,2, FALSE)","v":74.5},null,{"$f":"H477","v":0.12903225806451613},1.6649323621227886E-2,73.5,74.5,0,0,null,74.159724936329994,1.8402750636700063,3.3866123099656456]
[null,501,2000,"2000-08-27",{"$f":"VLOOKUP($D509, data!$D$5:$E$6326,2, FALSE)","v":73.5},{"$f":"VLOOKUP($D509, data!$G$5:$H$6326,2, FALSE)","v":71.5},null,{"$f":"H478","v":0.16129032258064516},2.6014568158168574E-2,74.5,73,0,0,null,75.181766286917735,-1.6817662869177354,2.8283378438130669]
[null,502,2000,"2000-08-26",{"$f":"VLOOKUP($D510, data!$D$5:$E$6326,2, FALSE)","v":74.5},{"$f":"VLOOKUP($D510, data!$G$5:$H$6326,2, FALSE)","v":73},null,{"$f":"H479","v":0.19354838709677419},3.7460978147762745E-2,73,75,0,0,null,73.630346139201308,0.86965386079869234,0.75629783760207137]
[null,503,2000,"2000-08-25",{"$f":"VLOOKUP($D511, data!$D$5:$E$6326,2, FALSE)","v":73},{"$f":"VLOOKUP($D511, data!$G$5:$H$6326,2, FALSE)","v":70},null,{"$f":"H480","v":0.22580645161290322},5.0988553590010401E-2,75,69,0,0,null,76.209653595197352,-3.2096535951973522,10.301876201163289]
[null,504,2000,"2000-08-24",{"$f":"VLOOKUP($D512, data!$D$5:$E$6326,2, FALSE)","v":75},{"$f":"VLOOKUP($D512, data!$G$5:$H$6326,2, FALSE)","v":71},null,{"$f":"H481","v":0.25806451612903225},6.6597294484911543E-2,69,69,0,0,null,71.397980175496016,3.6020198245039836,12.974546816119709]
[null,505,2000,"2000-08-23",{"$f":"VLOOKUP($D513, data!$D$5:$E$6326,2, FALSE)","v":69},{"$f":"VLOOKUP($D513, data!$G$5:$H$6326,2, FALSE)","v":75.5},null,{"$f":"H482","v":0.29032258064516131},8.4287200832466186E-2,69,66.5,0,0,null,71.810897972572889,-2.8108979725728886,7.9011474122143754]
[null,506,2000,"2000-08-22",{"$f":"VLOOKUP($D514, data!$D$5:$E$6326,2, FALSE)","v":69},{"$f":"VLOOKUP($D514, data!$G$5:$H$6326,2, FALSE)","v":75.5},null,{"$f":"H483","v":0.32258064516129031},0.1040582726326743,66.5,67.5,0,0,null,69.650354271345606,-0.65035427134560564,0.42296067825747363]
[null,507,2000,"2000-08-21",{"$f":"VLOOKUP($D515, data!$D$5:$E$6326,2, FALSE)","v":66.5},{"$f":"VLOOKUP($D515, data!$G$5:$H$6326,2, FALSE)","v":67},null,{"$f":"H484","v":0.35483870967741937},0.12591050988553593,67.5,69,0,0,null,70.216862479069633,-3.7168624790696327,13.815066688315657]
[null,508,2000,"2000-08-20",{"$f":"VLOOKUP($D516, data!$D$5:$E$6326,2, FALSE)","v":67.5},{"$f":"VLOOKUP($D516, data!$G$5:$H$6326,2, FALSE)","v":65},null,{"$f":"H485","v":0.38709677419354838},0.14984391259105098,69,66,0,0,null,71.933564952816937,-4.433564952816937,19.656498190846648]
[null,509,2000,"2000-08-19",{"$f":"VLOOKUP($D517, data!$D$5:$E$6326,2, FALSE)","v":69},{"$f":"VLOOKUP($D517, data!$G$5:$H$6326,2, FALSE)","v":64},null,{"$f":"H486","v":0.41935483870967744},0.17585848074921959,66,69.5,0,0,null,68.97969149178013,2.0308508219869736E-2,4.1243550611651665E-4]
[null,510,2000,"2000-08-18",{"$f":"VLOOKUP($D518, data!$D$5:$E$6326,2, FALSE)","v":66},{"$f":"VLOOKUP($D518, data!$G$5:$H$6326,2, FALSE)","v":66.5},null,{"$f":"H487","v":0.45161290322580644},0.2039542143600416,69.5,76.5,0,0,null,70.660004216684115,-4.6600042166841149,21.715639299513732]
[null,511,2000,"2000-08-17",{"$f":"VLOOKUP($D519, data!$D$5:$E$6326,2, FALSE)","v":69.5},{"$f":"VLOOKUP($D519, data!$G$5:$H$6326,2, FALSE)","v":67.5},null,{"$f":"H488","v":0.4838709677419355},0.2341311134235172,76.5,73,0,0,null,76.883890337877403,-7.3838903378774035,54.521836521799273]
[null,512,2000,"2000-08-16",{"$f":"VLOOKUP($D520, data!$D$5:$E$6326,2, FALSE)","v":76.5},{"$f":"VLOOKUP($D520, data!$G$5:$H$6326,2, FALSE)","v":69.5},null,{"$f":"H489","v":0.5161290322580645},0.26638917793964617,73,66.5,0,0,null,75.200916079915118,1.2990839200848825,1.6876190314231054]
[null,513,2000,"2000-08-15",{"$f":"VLOOKUP($D521, data!$D$5:$E$6326,2, FALSE)","v":73},{"$f":"VLOOKUP($D521, data!$G$5:$H$6326,2, FALSE)","v":81.5},null,{"$f":"H490","v":0.54838709677419351},0.3007284079084287,66.5,67.5,0,0,null,69.883502184178795,3.1164978158212051,9.7125586360183416]
[null,514,2000,"2000-08-14",{"$f":"VLOOKUP($D522, data!$D$5:$E$6326,2, FALSE)","v":66.5},{"$f":"VLOOKUP($D522, data!$G$5:$H$6326,2, FALSE)","v":75.5},null,{"$f":"H491","v":0.58064516129032262},0.33714880332986474,67.5,70,0,0,null,{"$f":"$O$7+SUMPRODUCT(H$7:M$7, H522:M522)","v":70.331400851138625},{"$f":"E522-O522","v":-3.8314008511386248},{"$f":"P522*P522","v":14.679632482105779}]
[null,{"$f":"B522+1","v":515},2000,"2000-08-13",{"$f":"VLOOKUP($D523, data!$D$5:$E$6326,2, FALSE)","v":67.5},{"$f":"VLOOKUP($D523, data!$G$5:$H$6326,2, FALSE)","v":73.5},null,{"$f":"H492","v":0.61290322580645162},0.3756503642039542,70,75,0,0,null,71.574375307600576,-4.074375307600576,16.600534147185289]
[null,516,2000,"2000-08-12",{"$f":"VLOOKUP($D524, data!$D$5:$E$6326,2, FALSE)","v":70},{"$f":"VLOOKUP($D524, data!$G$5:$H$6326,2, FALSE)","v":71},null,{"$f":"H493","v":0.64516129032258063},0.41623309053069718,75,79.5,0,0,null,74.908690247350677,-4.9086902473506768,24.095239944435647]
[null,517,2000,"2000-08-11",{"$f":"VLOOKUP($D525, data!$D$5:$E$6326,2, FALSE)","v":75},{"$f":"VLOOKUP($D525, data!$G$5:$H$6326,2, FALSE)","v":71},null,{"$f":"H494","v":0.67741935483870963},0.45889698231009357,79.5,81,0,0,null,78.344642234884077,-3.344642234884077,11.186631679370354]
[null,518,2000,"2000-08-10",{"$f":"VLOOKUP($D526, data!$D$5:$E$6326,2, FALSE)","v":79.5},{"$f":"VLOOKUP($D526, data!$G$5:$H$6326,2, FALSE)","v":73.5},null,{"$f":"H495","v":0.70967741935483875},0.5036420395421437,81,82,0,0,null,79.467261120889262,3.2738879110738139E-2,1.0718342054275261E-3]
[null,519,2000,"2000-08-09",{"$f":"VLOOKUP($D527, data!$D$5:$E$6326,2, FALSE)","v":81},{"$f":"VLOOKUP($D527, data!$G$5:$H$6326,2, FALSE)","v":78.5},null,{"$f":"H496","v":0.74193548387096775},0.55046826222684708,82,83.5,0,0,null,80.113532945070205,0.88646705492979549,0.78582383947590506]
[null,520,2000,"2000-08-08",{"$f":"VLOOKUP($D528, data!$D$5:$E$6326,2, FALSE)","v":82},{"$f":"VLOOKUP($D528, data!$G$5:$H$6326,2, FALSE)","v":77},null,{"$f":"H497","v":0.77419354838709675},0.59937565036420393,83.5,70,0,0,null,83.643951364097035,-1.6439513640970347,2.7025760875165012]
[null,521,2000,"2000-08-07",{"$f":"VLOOKUP($D529, data!$D$5:$E$6326,2, FALSE)","v":83.5},{"$f":"VLOOKUP($D529, data!$G$5:$H$6326,2, FALSE)","v":75.5},null,{"$f":"H498","v":0.80645161290322576},0.65036420395421424,70,73.5,0,0,null,72.360919221231285,11.139080778768715,124.07912059593464]
[null,522,2000,"2000-08-06",{"$f":"VLOOKUP($D530, data!$D$5:$E$6326,2, FALSE)","v":70},{"$f":"VLOOKUP($D530, data!$G$5:$H$6326,2, FALSE)","v":78},null,{"$f":"H499","v":0.83870967741935487},0.70343392299687835,73.5,75.5,0,0,null,74.94668714774582,-4.9466871477458199,24.469713737673676]
[null,523,2000,"2000-08-05",{"$f":"VLOOKUP($D531, data!$D$5:$E$6326,2, FALSE)","v":73.5},{"$f":"VLOOKUP($D531, data!$G$5:$H$6326,2, FALSE)","v":66.5},null,{"$f":"H500","v":0.87096774193548387},0.75858480749219559,75.5,76,0,0,null,76.585534903803676,-3.0855349038036763,9.5205256425907621]
[null,524,2000,"2000-08-04",{"$f":"VLOOKUP($D532, data!$D$5:$E$6326,2, FALSE)","v":75.5},{"$f":"VLOOKUP($D532, data!$G$5:$H$6326,2, FALSE)","v":67},null,{"$f":"H501","v":0.90322580645161288},0.81581685744016641,76,80,0,0,null,76.451770904251248,-0.95177090425124788,0.9058678541792381]
[null,525,2000,"2000-08-03",{"$f":"VLOOKUP($D533, data!$D$5:$E$6326,2, FALSE)","v":76},{"$f":"VLOOKUP($D533, data!$G$5:$H$6326,2, FALSE)","v":63},null,{"$f":"H502","v":0.93548387096774188},0.8751300728407907,80,72,0,0,null,81.109287776534202,-5.1092877765342024,26.104821583441815]
[null,526,2000,"2000-08-02",{"$f":"VLOOKUP($D534, data!$D$5:$E$6326,2, FALSE)","v":80},{"$f":"VLOOKUP($D534, data!$G$5:$H$6326,2, FALSE)","v":76},null,{"$f":"H503","v":0.967741935483871},0.93652445369406878,72,0,0,1,null,73.946554696914774,6.0534453030852262,36.644200037444584]
[null,527,2000,"2000-08-01",{"$f":"VLOOKUP($D535, data!$D$5:$E$6326,2, FALSE)","v":72},{"$f":"VLOOKUP($D535, data!$G$5:$H$6326,2, FALSE)","v":72.5},null,{"$f":"H504","v":1},1,0,0,1,0,null,78.823529411767751,{"$f":"E535-O535","v":-6.8235294117677512},{"$f":"P535*P535","v":46.560553633259552}]

{"sheet":"Jul","index":3,"n_rows":535,"n_cols":33,"rows_kept":535,"cut":false,"hidden":false,"merged":[]}
[]
[null,null,null,"OLS Data",null,null,null,"Explanatory variables",null,null,null,null,null,null,"OLS fitted data",null,null,null,"Data projections",null,null,null,null,null,null,null,null,null,null,null,null,"Statistics"]
[]
[null,null,null,null,{"$f":"AVERAGE(E9:E535)","v":78.173681214421251},{"$f":"AVERAGE(F9:F535)","v":74.374743833017092},null,"π",{"$f":"PI()","v":3.1415926535897931},null,null,null,null,null,null,null,{"$f":"AVERAGE(Q9:Q535)","v":13.669430221757263}]
[null,null,null,null,{"$f":"STDEV(E9:E535)","v":5.276201007285942},{"$f":"STDEV(F9:F535)","v":5.9012337017198817},null,"p",1,null,null,null,null,null,null,null,{"$f":"SQRT(Q4)","v":3.6972192552994829}]
[]
[null,null,"July",null,null,null,null,{"$f":"'ols A'!D26","v":1.2488429553276248},{"$f":"'ols A'!D27","v":-1.3509629679969493},{"$f":"'ols A'!D28","v":0.81003764122360877},{"$f":"'ols A'!D29","v":-0.1474875151664321},{"$f":"'ols A'!D30","v":50.387666482784596},{"$f":"'ols A'!D31","v":-11.237740857254948},null,{"$f":"'ols A'!D25","v":26.24386529458468},{"$f":"SUM(P9:P535)","v":2.1660184756910894E-9},null,null,null,null,{"$f":"SUM(U9:U39)","v":408.67898777814526}]
[null,"#","Year","Date","EWR: Jul","ORD",null,"Linear","Quadratic","EWR \nT[t-1]","EWR \nT[t-2]","Jul 1st","Jul 2nd",null,"EWR: Jul, fitted","res","res2",null,"Date","EWR: proj","CDD: µ","Ak","Bk","CDD: σ factor","CDD: σ","CDD: \nx=-μ/σ","CDD mean","CDD s2","CDD stdev","CDD cum: σ factor",null,"Statistics","Value"]
[null,1,2016,{"$f":"DATE(C9, 7, 31)","v":"2016-07-31"},{"$f":"VLOOKUP(D9, data!$D$5:$E$6326,2, FALSE)","v":76.010000000000005},{"$f":"VLOOKUP(D9, data!$G$5:$H$6326,2, FALSE)","v":72.95},null,{"$f":"B9/31","v":3.2258064516129031E-2},{"$f":"H9*H9","v":1.0405827263267429E-3},{"$f":"E10","v":79.5},{"$f":"E11","v":78},0,0,null,{"$f":"$O$7+SUMPRODUCT(H$7:M$7, H9:M9)","v":79.176711056774948},{"$f":"E9-O9","v":-3.1667110567749432},{"$f":"P9*P9","v":10.028058917100678},null,"2017-07-31",{"$f":"$O$7+SUMPRODUCT(H$7:I$7, H9:I9) + $J$7*T10+$K$7*T11","v":78.033738571253053},{"$f":"T9-65","v":13.033738571253053},{"$f":"V10*$J$7+W10","v":1.3650511595344529E-8},{"$f":"V10*$K$7","v":-3.7724745961967556E-9},{"$f":"SQRT(SUMPRODUCT(V9:V$39, V9:V$39))","v":1.4274644442724682},{"$f":"X9*$AG$17","v":5.2817850702405362},{"$f":"-U9/Y9","v":-2.4676768171976162},{"$f":"U9*(1-NORMDIST(Z9, 0, 1, TRUE)) + Y9*NORMDIST(Z9, 0, 1, FALSE)","v":13.04543382130308},{"$f":"(U9*U9+Y9*Y9)*(1-NORMDIST(Z9, 0, 1, TRUE)) + 2*U9*Y9*NORMDIST(Z9, 0, 1, FALSE)","v":199.04588231330902},{"$f":"SQRT(AB9-AA9*AA9)","v":5.3723866881778672},{"$f":"SUM(V9:V$39)","v":2.9634030768604287},null,"Number of years",17]
[null,{"$f":"B9+1","v":2},{"$f":"C9","v":2016},{"$f":"D9-1","v":"2016-07-30"},{"$f":"VLOOKUP(D10, data!$D$5:$E$6326,2, FALSE)","v":79.5},{"$f":"VLOOKUP(D10, data!$G$5:$H$6326,2, FALSE)","v":73.05},null,6.4516129032258063E-2,{"$f":"H10*H10","v":4.1623309053069714E-3},{"$f":"E11","v":78},{"$f":"E12","v":84},0,0,null,{"$f":"$O$7+SUMPRODUCT(H$7:M$7, H10:M10)","v":77.112797394379186},{"$f":"E10-O10","v":2.3872026056208142},{"$f":"P10*P10","v":5.6987362802828043},null,{"$f":"S9-1","v":"2017-07-30"},78.127905062779675,{"$f":"T10-65","v":13.127905062779675},2.5578263976714989E-8,-7.068845022948483E-9,{"$f":"SQRT(SUMPRODUCT(V10:V$39, V10:V$39))","v":1.4274644442724682},{"$f":"X10*$AG$17","v":5.2817850702405362},-2.4855053524890631,13.138975725498032,201.46413719166225,{"$f":"SQRT(AB10-AA10*AA10)","v":5.3694929068242283},{"$f":"SUM(V10:V$39)","v":2.9634030632099169},null,"Cumulative projected CDD",{"$f":"SUM(AA9:AA39)","v":408.98273502955357}]
[null,{"$f":"B10+1","v":3},2016,"2016-07-29",{"$f":"VLOOKUP(D11, data!$D$5:$E$6326,2, FALSE)","v":78},{"$f":"VLOOKUP(D11, data!$G$5:$H$6326,2, FALSE)","v":75.5},null,9.6774193548387094E-2,9.3652445369406864E-3,84,83,0,0,null,82.153767069868721,-4.1537670698687208,17.253780870725777,null,{"$f":"S10-1","v":"2017-07-29"},78.213739712174956,13.213739712174956,4.792842984012344E-8,-1.3245568278529832E-8,{"$f":"SQRT(SUMPRODUCT(V11:V$39, V11:V$39))","v":1.427464444272468},5.2817850702405353,-2.5017564206892642,13.224267669311606,203.68488441934281,5.3669012502320719,{"$f":"SUM(V11:V$39)","v":2.9634030376316529},null,"Variance on Aug 1st",{"$f":"SUMPRODUCT(L9:L535, Q9:Q535)/AG9","v":12.955017301038062}]
[null,4,2016,"2016-07-28",{"$f":"VLOOKUP(D12, data!$D$5:$E$6326,2, FALSE)","v":84},{"$f":"VLOOKUP(D12, data!$G$5:$H$6326,2, FALSE)","v":77},null,0.12903225806451613,1.6649323621227886E-2,83,82.5,0,0,null,81.447917921752975,2.5520820782470253,6.5131229341096555,null,"2017-07-28",78.291242515243752,13.291242515243752,8.9808064523854011E-8,-2.4819482909636928E-8,{"$f":"SQRT(SUMPRODUCT(V12:V$39, V12:V$39))","v":1.4274644442724673},5.2817850702405327,-2.5164300210039534,13.301301389570641,205.70354842933958,5.3645996843329984,{"$f":"SUM(V12:V$39)","v":2.9634029897032232},null,"StDev on Jul 1st",{"$f":"SQRT(AG11)","v":3.5993078919478481}]
[null,5,2016,"2016-07-27",{"$f":"VLOOKUP(D13, data!$D$5:$E$6326,2, FALSE)","v":83},{"$f":"VLOOKUP(D13, data!$G$5:$H$6326,2, FALSE)","v":78.55},null,0.16129032258064516,2.6014568158168574E-2,82.5,86,0,0,null,80.554325956126476,2.4456740438735238,5.9813215288766752,null,"2017-07-27",78.360413464125187,13.360413464125187,1.6828192462005624E-7,-4.65066287559455E-8,{"$f":"SQRT(SUMPRODUCT(V13:V$39, V13:V$39))","v":1.4274644442724644},5.281785070240522,-2.5295261519448351,13.37006986168876,207.51599923702699,5.3625769113914696,{"$f":"SUM(V13:V$39)","v":2.9634028998951587},null,"AR(1) coefficient",{"$f":"J7","v":0.81003764122360877}]
[null,6,2016,"2016-07-26",{"$f":"VLOOKUP(D14, data!$D$5:$E$6326,2, FALSE)","v":82.5},{"$f":"VLOOKUP(D14, data!$G$5:$H$6326,2, FALSE)","v":78.5},null,0.19354838709677419,3.7460978147762745E-2,86,84.56,0,0,null,83.626661302859787,-1.1266613028597874,1.2693656913617135,null,"2017-07-26",78.421252544089626,13.421252544089626,3.1532586811476995E-7,-8.7143897804418759E-8,{"$f":"SQRT(SUMPRODUCT(V14:V$39, V14:V$39))","v":1.4274644442724544},5.2817850702404856,-2.541044810723156,13.430567147045045,209.11855227165552,5.3608225469949913,{"$f":"SUM(V14:V$39)","v":2.9634027316132343},null,"AR(2) coefficient",{"$f":"K7","v":-0.1474875151664321}]
[null,7,2016,"2016-07-25",{"$f":"VLOOKUP(D15, data!$D$5:$E$6326,2, FALSE)","v":86},{"$f":"VLOOKUP(D15, data!$G$5:$H$6326,2, FALSE)","v":80.53},null,0.22580645161290322,5.0988553590010401E-2,84.56,89.06,0,0,null,81.818523284403071,4.1814767155969292,17.484747523079282,null,"2017-07-25",78.473759727536716,13.473759727536716,5.9085609860659282E-7,-1.6328981230309849E-7,{"$f":"SQRT(SUMPRODUCT(V15:V$39, V15:V$39))","v":1.4274644442724196},5.2817850702403568,-2.5509859921133766,13.482788261765386,210.50796791541316,5.3593272529128777,{"$f":"SUM(V15:V$39)","v":2.9634024162873658},null,"AR(1) cumulative",{"$f":"1/(1-AG13)","v":5.2642007945222531}]
[null,8,2016,"2016-07-24",{"$f":"VLOOKUP(D16, data!$D$5:$E$6326,2, FALSE)","v":84.56},{"$f":"VLOOKUP(D16, data!$G$5:$H$6326,2, FALSE)","v":82.04},null,0.25806451612903225,6.6597294484911543E-2,89.06,85,0,0,null,86.081690407182421,-1.5216904071824189,2.315541695310996,null,"2017-07-24",78.517934962749095,13.517934962749095,1.1071432867984406E-6,-3.0597163792816943E-7,{"$f":"SQRT(SUMPRODUCT(V16:V$39, V16:V$39))","v":1.4274644442722975},5.2817850702399047,-2.5593496863239635,13.52672906148385,211.68145077371352,5.3580828353919419,{"$f":"SUM(V16:V$39)","v":2.9634018254312675},null,"Variance on days other than Jul 1st",{"$f":"(SUM(Q9:Q533) - AG11*AG9) / (30*AG9)","v":13.690863807890183}]
[null,9,2016,"2016-07-23",{"$f":"VLOOKUP(D17, data!$D$5:$E$6326,2, FALSE)","v":89.06},{"$f":"VLOOKUP(D17, data!$G$5:$H$6326,2, FALSE)","v":80.5},null,0.29032258064516131,8.4287200832466186E-2,85,80.5,0,0,null,83.473018250304094,5.5869817496959087,31.214365071435157,null,"2017-07-23",78.553778152819021,13.553778152819021,2.0745595827748273E-6,-5.733280642103145E-7,{"$f":"SQRT(SUMPRODUCT(V17:V$39, V17:V$39))","v":1.427464444271868},5.2817850702383158,-2.5661358750077783,13.562386135029366,212.63664862484754,5.3570823168223551,{"$f":"SUM(V17:V$39)","v":2.9634007182879807},null,"StDev on days other than Jul 1st",{"$f":"SQRT(AG16)","v":3.7001167289546668}]
[null,10,2016,"2016-07-22",{"$f":"VLOOKUP(D18, data!$D$5:$E$6326,2, FALSE)","v":85},{"$f":"VLOOKUP(D18, data!$G$5:$H$6326,2, FALSE)","v":80.98},null,0.32258064516129031,0.1040582726326743,80.5,76.010000000000005,0,0,null,80.50364307867892,4.4963569213210803,20.217225563911985,null,"2017-07-22",78.581289116161287,13.581289116161287,3.8872989592599969E-6,-1.0742988969151298E-6,{"$f":"SQRT(SUMPRODUCT(V18:V$39, V18:V$39))","v":1.4274644442703606},5.281785070232738,-2.571344523786697,13.589756696441423,213.37165087517471,5.356319987332741,{"$f":"SUM(V18:V$39)","v":2.9633986437283979},null,"Cumulative CDD StDev",{"$f":"AG17*SQRT(SUMPRODUCT(AD9:AD39, AD9:AD39))","v":58.644481530010943}]
[null,11,2016,"2016-07-21",{"$f":"VLOOKUP(D19, data!$D$5:$E$6326,2, FALSE)","v":80.5},{"$f":"VLOOKUP(D19, data!$G$5:$H$6326,2, FALSE)","v":81.5},null,0.35483870967741937,0.12591050988553593,76.010000000000005,78.5,0,0,null,76.510093850147484,3.9899061498525157,15.919351084630925,null,"2017-07-21",78.600467512522712,13.600467512522712,7.2839988910440215E-6,-2.0130143211166849E-6,{"$f":"SQRT(SUMPRODUCT(V19:V$39, V19:V$39))","v":1.4274644442650675},5.2817850702131528,-2.5749755682455002,13.608838457652059,213.8849861343252,5.3557914417810872,{"$f":"SUM(V19:V$39)","v":2.9633947564294387}]
[null,12,2016,"2016-07-20",{"$f":"VLOOKUP(D20, data!$D$5:$E$6326,2, FALSE)","v":76.010000000000005},{"$f":"VLOOKUP(D20, data!$G$5:$H$6326,2, FALSE)","v":78.53},null,0.38709677419354838,0.14984391259105098,78.5,83.48,0,0,null,77.800551867135596,-1.7905518671355907,3.2060759889027501,null,"2017-07-20",78.611312704339639,13.611312704339639,1.3648709986368007E-5,-3.7719699520586315E-6,{"$f":"SQRT(SUMPRODUCT(V20:V$39, V20:V$39))","v":1.4274644442464832},5.2817850701443891,-2.5770288876914758,13.619629450549715,214.17561814337228,5.3554936068574621,{"$f":"SUM(V20:V$39)","v":2.9633874724305476}]
[null,13,2016,"2016-07-19",{"$f":"VLOOKUP(D21, data!$D$5:$E$6326,2, FALSE)","v":78.5},{"$f":"VLOOKUP(D21, data!$G$5:$H$6326,2, FALSE)","v":79.5},null,0.41935483870967744,0.17585848074921959,83.48,83,0,0,null,81.910473866122416,-3.4104738661224161,11.631331991503981,null,"2017-07-19",78.613823496952335,13.613823496952335,2.5574842370909544E-5,-7.0678750024291656E-6,{"$f":"SQRT(SUMPRODUCT(V21:V$39, V21:V$39))","v":1.4274644441812321},5.281785069902952,-2.5775042560000414,13.622127741279124,214.24293858906378,5.3554247627370781,{"$f":"SUM(V21:V$39)","v":2.9633738237205609}]
[null,14,2016,"2016-07-18",{"$f":"VLOOKUP(D22, data!$D$5:$E$6326,2, FALSE)","v":83.48},{"$f":"VLOOKUP(D22, data!$G$5:$H$6326,2, FALSE)","v":79.55},null,0.45161290322580644,0.2039542143600416,83,83,0,0,null,81.523984759291622,1.956015240708382,3.8259956218834694,null,"2017-07-18",78.60799765182766,13.60799765182766,4.7921852873129166E-5,-1.3243662293504827E-5,{"$f":"SQRT(SUMPRODUCT(V22:V$39, V22:V$39))","v":1.4274644439521293},5.2817850690552453,-2.576401249561207,13.616330930876032,214.0867540431953,5.3555845641782147,{"$f":"SUM(V22:V$39)","v":2.9633482488781904}]
[null,15,2016,"2016-07-17",{"$f":"VLOOKUP(D23, data!$D$5:$E$6326,2, FALSE)","v":83},{"$f":"VLOOKUP(D23, data!$G$5:$H$6326,2, FALSE)","v":72},null,0.4838709677419355,0.2341311134235172,83,86,0,0,null,81.081039597292062,1.9189604027079383,3.6824090271610128,null,"2017-07-17",78.593830974465817,13.593830974465817,8.9795141497638168E-5,-2.4815591738957837E-5,{"$f":"SQRT(SUMPRODUCT(V23:V$39, V23:V$39))","v":1.4274644431477297},5.2817850660788723,-2.5737190749713141,13.602235244728378,213.70726186569397,5.3559740675962093,{"$f":"SUM(V23:V$39)","v":2.9633003270253173}]
[null,16,2016,"2016-07-16",{"$f":"VLOOKUP(D24, data!$D$5:$E$6326,2, FALSE)","v":83},{"$f":"VLOOKUP(D24, data!$G$5:$H$6326,2, FALSE)","v":67},null,0.5161290322580645,0.26638917793964617,86,83.5,0,0,null,83.876577114921886,-0.87657711492188639,0.76838743840477797,null,"2017-07-16",78.571315605424644,13.571315605424644,1.6825554156875389E-4,-4.6498180517516091E-5,{"$f":"SQRT(SUMPRODUCT(V24:V$39, V24:V$39))","v":1.4274644403234324},5.2817850556286432,-2.5694562467971109,13.579833841524312,213.10500545050698,5.356595774099258,{"$f":"SUM(V24:V$39)","v":2.9632105318838198}]
[null,17,2016,"2016-07-15",{"$f":"VLOOKUP(D25, data!$D$5:$E$6326,2, FALSE)","v":86},{"$f":"VLOOKUP(D25, data!$G$5:$H$6326,2, FALSE)","v":67.5},null,0.54838709677419351,0.3007284079084287,83.5,78.5,0,0,null,82.582814816281143,3.4171851837188569,11.677154579827677,null,"2017-07-15",78.540436818412175,13.540436818412175,3.1526858707359249E-4,-8.7123881056238843E-5,{"$f":"SQRT(SUMPRODUCT(V25:V$39, V25:V$39))","v":1.4274644304072739},5.2817850189376987,-2.5636099859921035,13.549113650350007,212.28079090163811,5.3574537040964936,{"$f":"SUM(V25:V$39)","v":2.963042276342251}]
[null,18,2016,"2016-07-14",{"$f":"VLOOKUP(D26, data!$D$5:$E$6326,2, FALSE)","v":83.5},{"$f":"VLOOKUP(D26, data!$G$5:$H$6326,2, FALSE)","v":77.5},null,0.58064516129032262,0.33714880332986474,78.5,75.5,0,0,null,78.966171806791692,4.5338281932083078,20.555598085530509,null,"2017-07-14",78.50116702188204,13.50116702188204,5.9072038035167928E-4,-1.6323715644919482E-4,{"$f":"SQRT(SUMPRODUCT(V26:V$39, V26:V$39))","v":1.4274643955922968},5.2817848901182192,-2.5561751004175886,13.510049441652237,211.23553179041875,5.3585535244626268,{"$f":"SUM(V26:V$39)","v":2.9627270077551771}]
[null,19,2016,"2016-07-13",{"$f":"VLOOKUP(D27, data!$D$5:$E$6326,2, FALSE)","v":78.5},{"$f":"VLOOKUP(D27, data!$G$5:$H$6326,2, FALSE)","v":76},null,0.61290322580645162,0.3756503642039542,75.5,74.5,0,0,null,76.671817471959798,1.8281825280402018,3.342251355831463,null,"2017-07-13",78.453454524006645,13.453454524006645,1.106786267739273E-3,-3.0581815730652297E-4,{"$f":"SQRT(SUMPRODUCT(V27:V$39, V27:V$39))","v":1.4274642733648759},5.2817844378624947,-2.547141914305608,13.462592709716017,209.96995983667551,5.3599027387609075,{"$f":"SUM(V27:V$39)","v":2.9621362873748254}]
[null,20,2016,"2016-07-12",{"$f":"VLOOKUP(D28, data!$D$5:$E$6326,2, FALSE)","v":75.5},{"$f":"VLOOKUP(D28, data!$G$5:$H$6326,2, FALSE)","v":80.95},null,0.64516129032258063,0.41623309053069718,74.5,75.5,0,0,null,75.699751811785447,-0.19975181178544688,3.9900786311568591E-2,null,"2017-07-12",78.397202497744985,13.397202497744985,2.0735189481050167E-3,-5.7284213001617323E-4,{"$f":"SQRT(SUMPRODUCT(V28:V$39, V28:V$39))","v":1.4274638442907304},5.2817828502380708,-2.5364924832419264,13.406650836643395,208.48408531689228,5.361510856206599,{"$f":"SUM(V28:V$39)","v":2.9610295011070864}]
[null,21,2016,"2016-07-11",{"$f":"VLOOKUP(D29, data!$D$5:$E$6326,2, FALSE)","v":74.5},{"$f":"VLOOKUP(D29, data!$G$5:$H$6326,2, FALSE)","v":79.5},null,0.67741935483870963,0.45889698231009357,75.5,68.55,0,0,null,77.517475602174642,-3.0174756021746418,9.1051590097192179,null,"2017-07-11",78.332229627950824,13.332229627950824,3.8840042112700201E-3,-1.0726706616947133E-3,{"$f":"SQRT(SUMPRODUCT(V29:V$39, V29:V$39))","v":1.4274623383040417},5.2817772779115311,-2.5241938321985673,13.342048079408276,206.7761886181234,5.3633890092814775,{"$f":"SUM(V29:V$39)","v":2.9589559821589813}]
[null,22,2016,"2016-07-10",{"$f":"VLOOKUP(D30, data!$D$5:$E$6326,2, FALSE)","v":75.5},{"$f":"VLOOKUP(D30, data!$G$5:$H$6326,2, FALSE)","v":71.06},null,0.70967741935483875,0.5036420395421437,68.55,79.5,0,0,null,70.252562045900191,5.2474379540998086,27.535605082127184,null,"2017-07-10",78.258196597413175,13.258196597413175,7.2729590737511535E-3,-2.0073664015472065E-3,{"$f":"SQRT(SUMPRODUCT(V30:V$39, V30:V$39))","v":1.4274570542708909},5.2817577263720734,-2.5101864349465242,13.268452632948932,204.84092675362882,5.3655467084742972,{"$f":"SUM(V30:V$39)","v":2.955071977947711}]
[null,23,2016,"2016-07-09",{"$f":"VLOOKUP(D31, data!$D$5:$E$6326,2, FALSE)","v":68.55},{"$f":"VLOOKUP(D31, data!$G$5:$H$6326,2, FALSE)","v":72},null,0.74193548387096775,0.55046826222684708,79.5,86,0,0,null,78.140830132562172,-9.590830132562175,91.984022631662583,null,"2017-07-09",78.174469151992611,13.174469151992611,1.3610415764900484E-2,-3.7519900085214533E-3,{"$f":"SQRT(SUMPRODUCT(V31:V$39, V31:V$39))","v":1.4274385261208418},5.2816891700541202,-2.4943666179162176,13.185240618514474,202.66574475570903,5.3679767685399957,{"$f":"SUM(V31:V$39)","v":2.94779901887396}]
[null,24,2016,"2016-07-08",{"$f":"VLOOKUP(D32, data!$D$5:$E$6326,2, FALSE)","v":79.5},{"$f":"VLOOKUP(D32, data!$G$5:$H$6326,2, FALSE)","v":77},null,0.77419354838709675,0.59937565036420393,86,84.5,0,0,null,83.601519259653713,-4.1015192596537133,16.822460237310345,null,"2017-07-08",78.079864462648615,13.079864462648615,2.5439373660119807E-2,-6.9964344689489701E-3,{"$f":"SQRT(SUMPRODUCT(V32:V$39, V32:V$39))","v":1.4273736379927813},5.2814490764059725,-2.4765673725949218,13.091243626596517,200.22395510646157,5.3705954432965468,{"$f":"SUM(V32:V$39)","v":2.9341886031090594}]
[null,25,2016,"2016-07-07",{"$f":"VLOOKUP(D33, data!$D$5:$E$6326,2, FALSE)","v":86},{"$f":"VLOOKUP(D33, data!$G$5:$H$6326,2, FALSE)","v":77},null,0.80645161290322576,0.65036420395421424,84.5,79.5,0,0,null,83.0953019825821,2.9046980174178998,8.437270572391478,null,"2017-07-07",77.97218653397006,12.97218653397006,4.7437469273611754E-2,-1.2986762055894071E-2,{"$f":"SQRT(SUMPRODUCT(V33:V$39, V33:V$39))","v":1.4271469233069622},5.2806102056042743,-2.4565696063312474,12.984284245263762,197.46098429751265,5.3730202805971157,{"$f":"SUM(V33:V$39)","v":2.9087492294489397}]
[null,26,2016,"2016-07-06",{"$f":"VLOOKUP(D34, data!$D$5:$E$6326,2, FALSE)","v":84.5},{"$f":"VLOOKUP(D34, data!$G$5:$H$6326,2, FALSE)","v":77.45},null,0.83870967741935487,0.70343392299687835,79.5,73,0,0,null,79.972372656520704,4.5276273434792955,20.499409361421382,null,"2017-07-06",77.847394278805893,12.847394278805893,8.8053297536670655E-2,-2.3889016164953553E-2,{"$f":"SQRT(SUMPRODUCT(V34:V$39, V34:V$39))","v":1.4263583095468835},5.2776922426379222,-2.4342825780959987,12.860336323592227,194.26573349568758,5.3737773623199123,{"$f":"SUM(V34:V$39)","v":2.8613117601753277}]
[null,27,2016,"2016-07-05",{"$f":"VLOOKUP(D35, data!$D$5:$E$6326,2, FALSE)","v":79.5},{"$f":"VLOOKUP(D35, data!$G$5:$H$6326,2, FALSE)","v":76.5},null,0.87096774193548387,0.75858480749219559,73,72.95,0,0,null,74.68028081834359,4.81971918165641,23.229692990026734,null,"2017-07-05",77.698182419204457,12.698182419204457,0.16197314150961201,-4.3151043953353257E-2,{"$f":"SQRT(SUMPRODUCT(V35:V$39, V35:V$39))","v":1.4236378205169888},5.267626115667472,-2.4106081449927363,12.712061206760497,190.4072172601083,5.3675615632876674,{"$f":"SUM(V35:V$39)","v":2.7732584626386574}]
[null,28,2016,"2016-07-04",{"$f":"VLOOKUP(D36, data!$D$5:$E$6326,2, FALSE)","v":73},{"$f":"VLOOKUP(D36, data!$G$5:$H$6326,2, FALSE)","v":72.5},null,0.90322580645161288,0.81581685744016641,72.95,73,0,0,null,74.595371437085305,-1.5953714370853049,2.5452100222676313,null,"2017-07-04",77.511828095422572,12.511828095422572,0.2925742148727607,-7.5022985388768351E-2,{"$f":"SQRT(SUMPRODUCT(V36:V$39, V36:V$39))","v":1.4143936317149726},5.2334215380355156,-2.3907548827261436,12.526466998193316,185.38667164612303,5.3361312005325336,{"$f":"SUM(V36:V$39)","v":2.6112853211290452}]
[null,29,2016,"2016-07-03",{"$f":"VLOOKUP(D37, data!$D$5:$E$6326,2, FALSE)","v":72.95},{"$f":"VLOOKUP(D37, data!$G$5:$H$6326,2, FALSE)","v":66.02},null,0.93548387096774188,0.8751300728407907,73,75,0,0,null,74.301053587918005,-1.3510535879180026,1.8253457974261078,null,"2017-07-03",{"$f":"$O$7+SUMPRODUCT(H$7:I$7, H37:I37) + $J$7*T38+$K$7*T39","v":77.267985738948667},12.267985738948667,0.50867346503267585,-0.11947043889534789,{"$f":"SQRT(SUMPRODUCT(V37:V$39, V37:V$39))","v":1.3838026138967423},5.1202312012505322,-2.3959827704562273,12.282084586104576,178.09625066905463,5.2198322663498509,{"$f":"SUM(V37:V$39)","v":2.3187111062562846}]
[null,30,2016,"2016-07-02",{"$f":"VLOOKUP(D38, data!$D$5:$E$6326,2, FALSE)","v":73},{"$f":"VLOOKUP(D38, data!$G$5:$H$6326,2, FALSE)","v":64.94},null,0.967741935483871,0.93652445369406878,75,0,0,1,null,75.702295372240286,-2.702295372240286,7.3024002788312661,null,"2017-07-02",{"$f":"O7 + M7 + SUMPRODUCT(H7:I7, H38:I38) + J7*T39","v":76.94117647057746},11.94117647057746,{"$f":"J7","v":0.81003764122360877},{"$f":"K7","v":-0.1474875151664321},{"$f":"SQRT(SUMPRODUCT(V38:V$39, V38:V$39))","v":1.2869191816890089},4.7617511929801521,-2.5077279317284216,11.950493643215676,166.21704533370394,4.8376385786006857,{"$f":"SUM(V38:V$39)","v":1.8100376412236088}]
[null,31,2016,"2016-07-01",{"$f":"VLOOKUP(D39, data!$D$5:$E$6326,2, FALSE)","v":75},{"$f":"VLOOKUP(D39, data!$G$5:$H$6326,2, FALSE)","v":65.48},null,1,1,0,0,1,0,null,76.529411764699944,-1.5294117646999439,2.3391003460025965,null,"2017-07-01",{"$f":"O7 + L7 + SUMPRODUCT(H7:I7, H39:I39)","v":76.529411764699944},11.529411764699944,1,null,{"$f":"SQRT(SUMPRODUCT(V39:V$39, V39:V$39))","v":1},3.7001167289546668,-3.1159589302895205,11.530344994846798,146.74902736457432,3.7148582293791126,{"$f":"SUM(V39:V$39)","v":1}]
[null,32,{"$f":"C9-1","v":2015},{"$f":"DATE(C40, 7, 31)","v":"2015-07-31"},{"$f":"VLOOKUP(D40, data!$D$5:$E$6326,2, FALSE)","v":83},{"$f":"VLOOKUP(D40, data!$G$5:$H$6326,2, FALSE)","v":77},null,{"$f":"H9","v":3.2258064516129031E-2},{"$f":"I9","v":1.0405827263267429E-3},{"$f":"E41","v":83},{"$f":"E42","v":85.5},0,0,null,80.905686437309342,2.0943135626906582,4.3861492988700377]
[null,33,2015,{"$f":"D40-1","v":"2015-07-30"},{"$f":"VLOOKUP(D41, data!$D$5:$E$6326,2, FALSE)","v":83},{"$f":"VLOOKUP(D41, data!$G$5:$H$6326,2, FALSE)","v":76.5},null,{"$f":"H10","v":6.4516129032258063E-2},4.1623309053069714E-3,{"$f":"E42","v":85.5},{"$f":"E43","v":83},0,0,null,83.335567218722687,-0.33556721872268724,0.11260535828127982]
[null,34,2015,"2015-07-29",{"$f":"VLOOKUP(D42, data!$D$5:$E$6326,2, FALSE)","v":85.5},{"$f":"VLOOKUP(D42, data!$G$5:$H$6326,2, FALSE)","v":79},null,9.6774193548387094E-2,9.3652445369406864E-3,83,79.5,0,0,null,81.859935731727631,3.6400642682723685,13.250067877153253]
[null,35,2015,"2015-07-28",{"$f":"VLOOKUP(D43, data!$D$5:$E$6326,2, FALSE)","v":83},{"$f":"VLOOKUP(D43, data!$G$5:$H$6326,2, FALSE)","v":79},null,0.12903225806451613,1.6649323621227886E-2,79.5,82,0,0,null,78.686529935053557,4.3134700649464435,18.606024001189077]
[null,36,2015,"2015-07-27",{"$f":"VLOOKUP(D44, data!$D$5:$E$6326,2, FALSE)","v":79.5},{"$f":"VLOOKUP(D44, data!$G$5:$H$6326,2, FALSE)","v":77.5},null,0.16129032258064516,2.6014568158168574E-2,82,76,0,0,null,81.624182287178996,-2.1241822871789964,4.5121503891649919]
[null,37,2015,"2015-07-26",{"$f":"VLOOKUP(D45, data!$D$5:$E$6326,2, FALSE)","v":82},{"$f":"VLOOKUP(D45, data!$G$5:$H$6326,2, FALSE)","v":72},null,0.19354838709677419,3.7460978147762745E-2,76,78,0,0,null,76.493802990115512,5.5061970098844881,30.318205511660878]
[null,38,2015,"2015-07-25",{"$f":"VLOOKUP(D46, data!$D$5:$E$6326,2, FALSE)","v":76},{"$f":"VLOOKUP(D46, data!$G$5:$H$6326,2, FALSE)","v":80},null,0.22580645161290322,5.0988553590010401E-2,78,77,0,0,null,78.283375790883355,-2.2833757908833547,5.2138050023921858]
[null,39,2015,"2015-07-24",{"$f":"VLOOKUP(D47, data!$D$5:$E$6326,2, FALSE)","v":78},{"$f":"VLOOKUP(D47, data!$G$5:$H$6326,2, FALSE)","v":74},null,0.25806451612903225,6.6597294484911543E-2,77,77.5,0,0,null,77.418792817773948,0.58120718222605205,0.3378017886711473]
[null,40,2015,"2015-07-23",{"$f":"VLOOKUP(D48, data!$D$5:$E$6326,2, FALSE)","v":77},{"$f":"VLOOKUP(D48, data!$G$5:$H$6326,2, FALSE)","v":74},null,0.29032258064516131,8.4287200832466186E-2,77.5,83.5,0,0,null,76.955273395627742,4.4726604372257839E-2,2.0004691386724741E-3]
[null,41,2015,"2015-07-22",{"$f":"VLOOKUP(D49, data!$D$5:$E$6326,2, FALSE)","v":77.5},{"$f":"VLOOKUP(D49, data!$G$5:$H$6326,2, FALSE)","v":73.5},null,0.32258064516129031,0.1040582726326743,83.5,88.5,0,0,null,81.091636937921024,-3.5916369379210238,12.899855893838708]
[null,42,2015,"2015-07-21",{"$f":"VLOOKUP(D50, data!$D$5:$E$6326,2, FALSE)","v":83.5},{"$f":"VLOOKUP(D50, data!$G$5:$H$6326,2, FALSE)","v":73.5},null,0.35483870967741937,0.12591050988553593,88.5,86,0,0,null,85.521307625282105,-2.0213076252821054,4.0856845160235844]
[null,43,2015,"2015-07-20",{"$f":"VLOOKUP(D51, data!$D$5:$E$6326,2, FALSE)","v":88.5},{"$f":"VLOOKUP(D51, data!$G$5:$H$6326,2, FALSE)","v":74},null,0.38709677419354838,0.14984391259105098,86,80.5,0,0,null,84.315346971508632,4.1846530284913683,17.51132096886198]
[null,44,2015,"2015-07-19",{"$f":"VLOOKUP(D52, data!$D$5:$E$6326,2, FALSE)","v":86},{"$f":"VLOOKUP(D52, data!$G$5:$H$6326,2, FALSE)","v":75},null,0.41935483870967744,0.17585848074921959,80.5,72,0,0,null,81.11892436210681,4.8810756378931899,23.82489938283441]
[null,45,2015,"2015-07-18",{"$f":"VLOOKUP(D53, data!$D$5:$E$6326,2, FALSE)","v":80.5},{"$f":"VLOOKUP(D53, data!$G$5:$H$6326,2, FALSE)","v":81},null,0.45161290322580644,0.2039542143600416,72,72,0,0,null,74.235933372662686,6.2640666273373142,39.238530711721076]
[null,46,2015,"2015-07-17",{"$f":"VLOOKUP(D54, data!$D$5:$E$6326,2, FALSE)","v":72},{"$f":"VLOOKUP(D54, data!$G$5:$H$6326,2, FALSE)","v":81.5},null,0.4838709677419355,0.2341311134235172,72,77.5,0,0,null,73.424269422747045,-1.4242694227470452,2.0285433885722011]
[null,47,2015,"2015-07-16",{"$f":"VLOOKUP(D55, data!$D$5:$E$6326,2, FALSE)","v":72},{"$f":"VLOOKUP(D55, data!$G$5:$H$6326,2, FALSE)","v":66.5},null,0.5161290322580645,0.26638917793964617,77.5,77,0,0,null,77.949926013103038,-5.9499260131030383,35.401619561400217]
[null,48,2015,"2015-07-15",{"$f":"VLOOKUP(D56, data!$D$5:$E$6326,2, FALSE)","v":77.5},{"$f":"VLOOKUP(D56, data!$G$5:$H$6326,2, FALSE)","v":67},null,0.54838709677419351,0.3007284079084287,77,78.5,0,0,null,77.31757014832769,0.18242985167231041,3.3280650781181177E-2]
[null,49,2015,"2015-07-14",{"$f":"VLOOKUP(D57, data!$D$5:$E$6326,2, FALSE)","v":77},{"$f":"VLOOKUP(D57, data!$G$5:$H$6326,2, FALSE)","v":72},null,{"$f":"H26","v":0.58064516129032262},0.33714880332986474,78.5,79.5,0,0,null,78.376221746125964,-1.3762217461259638,1.8939862945099968]
[null,50,2015,"2015-07-13",{"$f":"VLOOKUP(D58, data!$D$5:$E$6326,2, FALSE)","v":78.5},{"$f":"VLOOKUP(D58, data!$G$5:$H$6326,2, FALSE)","v":77},null,0.61290322580645162,0.3756503642039542,79.5,77,0,0,null,79.543249248938167,-1.0432492489381673,1.0883689954100502]
[null,51,2015,"2015-07-12",{"$f":"VLOOKUP(D59, data!$D$5:$E$6326,2, FALSE)","v":79.5},{"$f":"VLOOKUP(D59, data!$G$5:$H$6326,2, FALSE)","v":76},null,0.64516129032258063,0.41623309053069718,77,78.5,0,0,null,77.282383369345183,2.2176166306548168,4.9178235205568219]
[null,52,2015,"2015-07-11",{"$f":"VLOOKUP(D60, data!$D$5:$E$6326,2, FALSE)","v":77},{"$f":"VLOOKUP(D60, data!$G$5:$H$6326,2, FALSE)","v":69.5},null,0.67741935483870963,0.45889698231009357,78.5,74,0,0,null,79.143781568188416,-2.143781568188416,4.5957994121043839]
[null,53,2015,"2015-07-10",{"$f":"VLOOKUP(D61, data!$D$5:$E$6326,2, FALSE)","v":78.5},{"$f":"VLOOKUP(D61, data!$G$5:$H$6326,2, FALSE)","v":71},null,0.70967741935483875,0.5036420395421437,74,83.5,0,0,null,74.077317129903136,4.4226828700968639,19.560123769448232]
[null,54,2015,"2015-07-09",{"$f":"VLOOKUP(D62, data!$D$5:$E$6326,2, FALSE)","v":74},{"$f":"VLOOKUP(D62, data!$G$5:$H$6326,2, FALSE)","v":67.5},null,0.74193548387096775,0.55046826222684708,83.5,82.5,0,0,null,81.89718700053912,-7.8971870005391196,62.365562521484058]
[null,55,2015,"2015-07-08",{"$f":"VLOOKUP(D63, data!$D$5:$E$6326,2, FALSE)","v":83.5},{"$f":"VLOOKUP(D63, data!$G$5:$H$6326,2, FALSE)","v":60.5},null,0.77419354838709675,0.59937565036420393,82.5,76.5,0,0,null,81.946287636702536,1.5537123632974641,2.4140221078633912]
[null,56,2015,"2015-07-07",{"$f":"VLOOKUP(D64, data!$D$5:$E$6326,2, FALSE)","v":82.5},{"$f":"VLOOKUP(D64, data!$G$5:$H$6326,2, FALSE)","v":63},null,0.80645161290322576,0.65036420395421424,76.5,76.5,0,0,null,77.057463398292526,5.4425366017074737,29.621204660925535]
[null,57,2015,"2015-07-06",{"$f":"VLOOKUP(D65, data!$D$5:$E$6326,2, FALSE)","v":76.5},{"$f":"VLOOKUP(D65, data!$G$5:$H$6326,2, FALSE)","v":74.5},null,0.83870967741935487,0.70343392299687835,76.5,74.5,0,0,null,77.321028460100223,-0.8210284601002229,0.67408773229454333]
[null,58,2015,"2015-07-05",{"$f":"VLOOKUP(D66, data!$D$5:$E$6326,2, FALSE)","v":76.5},{"$f":"VLOOKUP(D66, data!$G$5:$H$6326,2, FALSE)","v":71.5},null,0.87096774193548387,0.75858480749219559,74.5,74,0,0,null,75.740475389254243,0.75952461074575695,0.57687763432849359]
[null,59,2015,"2015-07-04",{"$f":"VLOOKUP(D67, data!$D$5:$E$6326,2, FALSE)","v":74.5},{"$f":"VLOOKUP(D67, data!$G$5:$H$6326,2, FALSE)","v":70},null,0.90322580645161288,0.81581685744016641,74,74.5,0,0,null,75.224679687620437,-0.72467968762043711,0.52516064964965425]
[null,60,2015,"2015-07-03",{"$f":"VLOOKUP(D68, data!$D$5:$E$6326,2, FALSE)","v":74},{"$f":"VLOOKUP(D68, data!$G$5:$H$6326,2, FALSE)","v":66},null,0.93548387096774188,0.8751300728407907,74.5,76.5,0,0,null,75.294878777003774,-1.294878777003774,1.6767110471347895]
[null,61,2015,"2015-07-02",{"$f":"VLOOKUP(D69, data!$D$5:$E$6326,2, FALSE)","v":74.5},{"$f":"VLOOKUP(D69, data!$G$5:$H$6326,2, FALSE)","v":61},null,0.967741935483871,0.93652445369406878,76.5,0,0,1,null,76.917351834075689,-2.4173518340756885,5.8435898897090954]
[null,62,2015,"2015-07-01",{"$f":"VLOOKUP(D70, data!$D$5:$E$6326,2, FALSE)","v":76.5},{"$f":"VLOOKUP(D70, data!$G$5:$H$6326,2, FALSE)","v":61.5},null,1,1,0,0,1,0,null,76.529411764699944,-2.9411764699943888E-2,8.6505190276486539E-4]
[null,63,2014,{"$f":"DATE(C71, 7, 31)","v":"2014-07-31"},{"$f":"VLOOKUP(D71, data!$D$5:$E$6326,2, FALSE)","v":74.5},{"$f":"VLOOKUP(D71, data!$G$5:$H$6326,2, FALSE)","v":71.5},null,{"$f":"H40","v":3.2258064516129031E-2},{"$f":"I40","v":1.0405827263267429E-3},{"$f":"E72","v":72.5},{"$f":"E73","v":70.5},0,0,null,74.612603931957921,-0.11260393195792062,1.2679645492384017E-2]
[null,64,{"$f":"C41-1","v":2014},{"$f":"D71-1","v":"2014-07-30"},{"$f":"VLOOKUP(D72, data!$D$5:$E$6326,2, FALSE)","v":72.5},{"$f":"VLOOKUP(D72, data!$G$5:$H$6326,2, FALSE)","v":69},null,{"$f":"H41","v":6.4516129032258063E-2},4.1623309053069714E-3,{"$f":"E73","v":70.5},{"$f":"E74","v":76},0,0,null,72.217415206533587,0.28258479346641252,7.9854165498455018E-2]
[null,65,2014,"2014-07-29",{"$f":"VLOOKUP(D73, data!$D$5:$E$6326,2, FALSE)","v":70.5},{"$f":"VLOOKUP(D73, data!$G$5:$H$6326,2, FALSE)","v":69.5},null,9.6774193548387094E-2,9.3652445369406864E-3,76,79.5,0,0,null,76.189672243162363,-5.689672243162363,32.372370234612234]
[null,66,2014,"2014-07-28",{"$f":"VLOOKUP(D74, data!$D$5:$E$6326,2, FALSE)","v":76},{"$f":"VLOOKUP(D74, data!$G$5:$H$6326,2, FALSE)","v":66},null,0.12903225806451613,1.6649323621227886E-2,79.5,74,0,0,null,{"$f":"$O$7+SUMPRODUCT(H$7:M$7, H74:M74)","v":79.866430056385013},{"$f":"E74-O74","v":-3.8664300563850134},{"$f":"P74*P74","v":14.949281380917418}]
[null,{"$f":"B74+1","v":67},2014,"2014-07-27",{"$f":"VLOOKUP(D75, data!$D$5:$E$6326,2, FALSE)","v":79.5},{"$f":"VLOOKUP(D75, data!$G$5:$H$6326,2, FALSE)","v":76},null,0.16129032258064516,2.6014568158168574E-2,74,75.5,0,0,null,75.217624914973342,4.2823750850266578,18.338736368857074]
[null,68,2014,"2014-07-26",{"$f":"VLOOKUP(D76, data!$D$5:$E$6326,2, FALSE)","v":74},{"$f":"VLOOKUP(D76, data!$G$5:$H$6326,2, FALSE)","v":76},null,0.19354838709677419,3.7460978147762745E-2,75.5,77,0,0,null,76.236271684670129,-2.2362716846701289,5.0009110476573762]
[null,69,2014,"2014-07-25",{"$f":"VLOOKUP(D77, data!$D$5:$E$6326,2, FALSE)","v":75.5},{"$f":"VLOOKUP(D77, data!$G$5:$H$6326,2, FALSE)","v":65},null,0.22580645161290322,5.0988553590010401E-2,77,81.5,0,0,null,76.809644331410809,-1.3096443314108086,1.7151682747964638]
[null,70,2014,"2014-07-24",{"$f":"VLOOKUP(D78, data!$D$5:$E$6326,2, FALSE)","v":77},{"$f":"VLOOKUP(D78, data!$G$5:$H$6326,2, FALSE)","v":66},null,0.25806451612903225,6.6597294484911543E-2,81.5,78.5,0,0,null,80.916474688113752,-3.9164746881137518,15.338773982635709]
[null,71,2014,"2014-07-23",{"$f":"VLOOKUP(D79, data!$D$5:$E$6326,2, FALSE)","v":81.5},{"$f":"VLOOKUP(D79, data!$G$5:$H$6326,2, FALSE)","v":67},null,0.29032258064516131,8.4287200832466186E-2,78.5,75.5,0,0,null,78.945211158182801,2.5547888418171993,6.5269460262736665]
[null,72,2014,"2014-07-22",{"$f":"VLOOKUP(D80, data!$D$5:$E$6326,2, FALSE)","v":78.5},{"$f":"VLOOKUP(D80, data!$G$5:$H$6326,2, FALSE)","v":79.5},null,0.32258064516129031,0.1040582726326743,75.5,73,0,0,null,76.897392293211851,1.6026077067881488,2.5683514618567691]
[null,73,2014,"2014-07-21",{"$f":"VLOOKUP(D81, data!$D$5:$E$6326,2, FALSE)","v":75.5},{"$f":"VLOOKUP(D81, data!$G$5:$H$6326,2, FALSE)","v":74.5},null,0.35483870967741937,0.12591050988553593,73,73,0,0,null,74.883061883479797,0.61693811652020258,0.38061263961549507]
[null,74,2014,"2014-07-20",{"$f":"VLOOKUP(D82, data!$D$5:$E$6326,2, FALSE)","v":73},{"$f":"VLOOKUP(D82, data!$G$5:$H$6326,2, FALSE)","v":71},null,0.38709677419354838,0.14984391259105098,73,73.5,0,0,null,74.817270241766749,-1.8172702417667495,3.30247113161098]
[null,75,2014,"2014-07-19",{"$f":"VLOOKUP(D83, data!$D$5:$E$6326,2, FALSE)","v":73},{"$f":"VLOOKUP(D83, data!$G$5:$H$6326,2, FALSE)","v":68.5},null,0.41935483870967744,0.17585848074921959,73.5,74.5,0,0,null,75.079942085625476,-2.0799420856254756,4.3261590795560529]
[null,76,2014,"2014-07-18",{"$f":"VLOOKUP(D84, data!$D$5:$E$6326,2, FALSE)","v":73.5},{"$f":"VLOOKUP(D84, data!$G$5:$H$6326,2, FALSE)","v":69},null,0.45161290322580644,0.2039542143600416,74.5,77,0,0,null,75.523589899889544,-2.0235898998895436,4.0949160829349731]
[null,77,2014,"2014-07-17",{"$f":"VLOOKUP(D85, data!$D$5:$E$6326,2, FALSE)","v":74.5},{"$f":"VLOOKUP(D85, data!$G$5:$H$6326,2, FALSE)","v":66},null,0.4838709677419355,0.2341311134235172,77,80,0,0,null,77.105738840949002,-2.6057388409490017,6.7898749072302467]
[null,78,2014,"2014-07-16",{"$f":"VLOOKUP(D86, data!$D$5:$E$6326,2, FALSE)","v":77},{"$f":"VLOOKUP(D86, data!$G$5:$H$6326,2, FALSE)","v":63.5},null,0.5161290322580645,0.26638917793964617,80,78.5,0,0,null,79.753788843412394,-2.7537888434123943,7.5833529941025724]
[null,79,2014,"2014-07-15",{"$f":"VLOOKUP(D87, data!$D$5:$E$6326,2, FALSE)","v":80},{"$f":"VLOOKUP(D87, data!$G$5:$H$6326,2, FALSE)","v":62.5},null,0.54838709677419351,0.3007284079084287,78.5,78.5,0,0,null,78.532626610163106,1.4673733898368937,2.1531846652014166]
[null,80,2014,"2014-07-14",{"$f":"VLOOKUP(D88, data!$D$5:$E$6326,2, FALSE)","v":78.5},{"$f":"VLOOKUP(D88, data!$G$5:$H$6326,2, FALSE)","v":70.5},null,{"$f":"H57","v":0.58064516129032262},0.33714880332986474,78.5,77,0,0,null,78.744940534042058,-0.24494053404205829,5.9995865216808712E-2]
[null,81,2014,"2014-07-13",{"$f":"VLOOKUP(D89, data!$D$5:$E$6326,2, FALSE)","v":78.5},{"$f":"VLOOKUP(D89, data!$G$5:$H$6326,2, FALSE)","v":76.5},null,0.61290322580645162,0.3756503642039542,77,78,0,0,null,77.370667630712703,1.1293323692872974,1.2753916003200607]
[null,82,2014,"2014-07-12",{"$f":"VLOOKUP(D90, data!$D$5:$E$6326,2, FALSE)","v":77},{"$f":"VLOOKUP(D90, data!$G$5:$H$6326,2, FALSE)","v":75},null,0.64516129032258063,0.41623309053069718,78,78,0,0,null,78.166164768152001,-1.1661647681520009,1.3599402664790099]
[null,83,2014,"2014-07-11",{"$f":"VLOOKUP(D91, data!$D$5:$E$6326,2, FALSE)","v":78},{"$f":"VLOOKUP(D91, data!$G$5:$H$6326,2, FALSE)","v":70.5},null,0.67741935483870963,0.45889698231009357,78,80.5,0,0,null,77.780093898994807,0.21990610100519348,4.8358693259306355E-2]
[null,84,2014,"2014-07-10",{"$f":"VLOOKUP(D92, data!$D$5:$E$6326,2, FALSE)","v":78},{"$f":"VLOOKUP(D92, data!$G$5:$H$6326,2, FALSE)","v":69.5},null,0.70967741935483875,0.5036420395421437,80.5,83.5,0,0,null,79.34256179785659,-1.3425617978565896,1.8024721810639182]
[null,85,2014,"2014-07-09",{"$f":"VLOOKUP(D93, data!$D$5:$E$6326,2, FALSE)","v":80.5},{"$f":"VLOOKUP(D93, data!$G$5:$H$6326,2, FALSE)","v":71},null,0.74193548387096775,0.55046826222684708,83.5,82.5,0,0,null,81.89718700053912,-1.3971870005391196,1.9521315144755018]
[null,86,2014,"2014-07-08",{"$f":"VLOOKUP(D94, data!$D$5:$E$6326,2, FALSE)","v":83.5},{"$f":"VLOOKUP(D94, data!$G$5:$H$6326,2, FALSE)","v":73.5},null,0.77419354838709675,0.59937565036420393,82.5,74.5,0,0,null,82.2412626670354,1.2587373329645999,1.584419673398834]
[null,87,2014,"2014-07-07",{"$f":"VLOOKUP(D95, data!$D$5:$E$6326,2, FALSE)","v":82.5},{"$f":"VLOOKUP(D95, data!$G$5:$H$6326,2, FALSE)","v":79.5},null,0.80645161290322576,0.65036420395421424,74.5,73,0,0,null,75.953594418927821,6.5464055810721788,42.855426031892975]
[null,88,2014,"2014-07-06",{"$f":"VLOOKUP(D96, data!$D$5:$E$6326,2, FALSE)","v":74.5},{"$f":"VLOOKUP(D96, data!$G$5:$H$6326,2, FALSE)","v":75},null,0.83870967741935487,0.70343392299687835,73,71,0,0,null,75.002103018900101,-0.50210301890010101,0.25210744158859516]
[null,89,2014,"2014-07-05",{"$f":"VLOOKUP(D97, data!$D$5:$E$6326,2, FALSE)","v":73},{"$f":"VLOOKUP(D97, data!$G$5:$H$6326,2, FALSE)","v":68.5},null,0.87096774193548387,0.75858480749219559,71,79,0,0,null,72.167906069139462,0.83209393086053751,0.69238030977494103]
[null,90,2014,"2014-07-04",{"$f":"VLOOKUP(D98, data!$D$5:$E$6326,2, FALSE)","v":71},{"$f":"VLOOKUP(D98, data!$G$5:$H$6326,2, FALSE)","v":68.5},null,0.90322580645161288,0.81581685744016641,79,84.5,0,0,null,77.799992742074153,-6.7999927420741528,46.239901292261159]
[null,91,2014,"2014-07-03",{"$f":"VLOOKUP(D99, data!$D$5:$E$6326,2, FALSE)","v":79},{"$f":"VLOOKUP(D99, data!$G$5:$H$6326,2, FALSE)","v":66},null,0.93548387096774188,0.8751300728407907,84.5,83,0,0,null,82.436586340658053,-3.436586340658053,11.810125676797508]
[null,92,2014,"2014-07-02",{"$f":"VLOOKUP(D100, data!$D$5:$E$6326,2, FALSE)","v":84.5},{"$f":"VLOOKUP(D100, data!$G$5:$H$6326,2, FALSE)","v":63},null,0.967741935483871,0.93652445369406878,83,0,0,1,null,82.182596502029156,2.3174034979708438,5.3703589724075025]
[null,93,2014,"2014-07-01",{"$f":"VLOOKUP(D101, data!$D$5:$E$6326,2, FALSE)","v":83},{"$f":"VLOOKUP(D101, data!$G$5:$H$6326,2, FALSE)","v":73.5},null,1,1,0,0,1,0,null,76.529411764699944,6.4705882353000561,41.868512110803493]
[null,94,2013,{"$f":"DATE(C102, 7, 31)","v":"2013-07-31"},{"$f":"VLOOKUP(D102, data!$D$5:$E$6326,2, FALSE)","v":74.47},{"$f":"VLOOKUP(D102, data!$G$5:$H$6326,2, FALSE)","v":68.45},null,{"$f":"H71","v":3.2258064516129031E-2},{"$f":"I71","v":1.0405827263267429E-3},{"$f":"E103","v":74},{"$f":"E104","v":78.5},0,0,null,74.647760272461881,-0.17776027246188164,3.1598714465722398E-2]
[null,95,2013,{"$f":"D102-1","v":"2013-07-30"},{"$f":"VLOOKUP(D103, data!$D$5:$E$6326,2, FALSE)","v":74},{"$f":"VLOOKUP(D103, data!$G$5:$H$6326,2, FALSE)","v":65.45},null,{"$f":"H72","v":6.4516129032258063E-2},4.1623309053069714E-3,{"$f":"E104","v":78.5},{"$f":"E105","v":74.5},0,0,null,78.918947609072092,-4.9189476090720916,24.196045580796046]
[null,96,{"$f":"C73-1","v":2013},"2013-07-29",{"$f":"VLOOKUP(D104, data!$D$5:$E$6326,2, FALSE)","v":78.5},{"$f":"VLOOKUP(D104, data!$G$5:$H$6326,2, FALSE)","v":66.5},null,9.6774193548387094E-2,9.3652445369406864E-3,74.5,75.5,0,0,null,75.564565841992675,2.9354341580073253,8.6167736959961747]
[null,97,2013,"2013-07-28",{"$f":"VLOOKUP(D105, data!$D$5:$E$6326,2, FALSE)","v":74.5},{"$f":"VLOOKUP(D105, data!$G$5:$H$6326,2, FALSE)","v":61.52},null,0.12903225806451613,1.6649323621227886E-2,75.5,75.45,0,0,null,76.412422594499247,-1.9124225944992475,3.6573601799512332]
[null,98,2013,"2013-07-27",{"$f":"VLOOKUP(D106, data!$D$5:$E$6326,2, FALSE)","v":75.5},{"$f":"VLOOKUP(D106, data!$G$5:$H$6326,2, FALSE)","v":60},null,0.16129032258064516,2.6014568158168574E-2,75.45,66,0,0,null,77.793310888828685,-2.2933108888286853,5.2592748328202141]
[null,99,2013,"2013-07-26",{"$f":"VLOOKUP(D107, data!$D$5:$E$6326,2, FALSE)","v":75.45},{"$f":"VLOOKUP(D107, data!$G$5:$H$6326,2, FALSE)","v":66},null,0.19354838709677419,3.7460978147762745E-2,66,76,0,0,null,68.688401608212274,6.7615983917877287,45.719212811826402]
[null,100,2013,"2013-07-25",{"$f":"VLOOKUP(D108, data!$D$5:$E$6326,2, FALSE)","v":66},{"$f":"VLOOKUP(D108, data!$G$5:$H$6326,2, FALSE)","v":69},null,0.22580645161290322,5.0988553590010401E-2,76,82,0,0,null,75.925862932603991,-9.9258629326039909,98.522754956841894]
[null,101,2013,"2013-07-24",{"$f":"VLOOKUP(D109, data!$D$5:$E$6326,2, FALSE)","v":76},{"$f":"VLOOKUP(D109, data!$G$5:$H$6326,2, FALSE)","v":66.040000000000006},null,0.25806451612903225,6.6597294484911543E-2,82,81,0,0,null,80.952774720809472,-4.9527747208094723,24.529977435089346]
[null,102,2013,"2013-07-23",{"$f":"VLOOKUP(D110, data!$D$5:$E$6326,2, FALSE)","v":82},{"$f":"VLOOKUP(D110, data!$G$5:$H$6326,2, FALSE)","v":70.5},null,0.29032258064516131,8.4287200832466186E-2,81,82.5,0,0,null,79.937892655076794,2.0621073449232057,4.2522867019862325]
[null,103,2013,"2013-07-22",{"$f":"VLOOKUP(D111, data!$D$5:$E$6326,2, FALSE)","v":81},{"$f":"VLOOKUP(D111, data!$G$5:$H$6326,2, FALSE)","v":79},null,0.32258064516129031,0.1040582726326743,82.5,87,0,0,null,80.502830569447056,0.49716943055294394,0.24717744267633854]
[null,104,2013,"2013-07-21",{"$f":"VLOOKUP(D112, data!$D$5:$E$6326,2, FALSE)","v":82.5},{"$f":"VLOOKUP(D112, data!$G$5:$H$6326,2, FALSE)","v":78},null,0.35483870967741937,0.12591050988553593,87,91,0,0,null,83.568813587614542,-1.0688135876145424,1.1423624850694691]
[null,105,2013,"2013-07-20",{"$f":"VLOOKUP(D113, data!$D$5:$E$6326,2, FALSE)","v":87},{"$f":"VLOOKUP(D113, data!$G$5:$H$6326,2, FALSE)","v":80},null,0.38709677419354838,0.14984391259105098,91,90.05,0,0,null,86.95702940778726,4.2970592212739689E-2,1.8464717951135648E-3]
[null,106,2013,"2013-07-19",{"$f":"VLOOKUP(D114, data!$D$5:$E$6326,2, FALSE)","v":91},{"$f":"VLOOKUP(D114, data!$G$5:$H$6326,2, FALSE)","v":83.5},null,0.41935483870967744,0.17585848074921959,90.05,86.45,0,0,null,86.723589241637328,4.2764107583626725,18.287688974240009]
[null,107,2013,"2013-07-18",{"$f":"VLOOKUP(D115, data!$D$5:$E$6326,2, FALSE)","v":90.05},{"$f":"VLOOKUP(D115, data!$G$5:$H$6326,2, FALSE)","v":86},null,0.45161290322580644,0.2039542143600416,86.45,87,0,0,null,83.728664560847335,6.3213354391526622,39.95928173428738]
[null,108,2013,"2013-07-17",{"$f":"VLOOKUP(D116, data!$D$5:$E$6326,2, FALSE)","v":86.45},{"$f":"VLOOKUP(D116, data!$G$5:$H$6326,2, FALSE)","v":84.9},null,0.4838709677419355,0.2341311134235172,87,87,0,0,null,84.173702647020065,2.2762973529799382,5.1815296391834735]
[null,109,2013,"2013-07-16",{"$f":"VLOOKUP(D117, data!$D$5:$E$6326,2, FALSE)","v":87},{"$f":"VLOOKUP(D117, data!$G$5:$H$6326,2, FALSE)","v":82.5},null,0.5161290322580645,0.26638917793964617,87,84.5,0,0,null,84.53912724097907,2.4608727590209298,6.0558947360912834]
[null,110,2013,"2013-07-15",{"$f":"VLOOKUP(D118, data!$D$5:$E$6326,2, FALSE)","v":87},{"$f":"VLOOKUP(D118, data!$G$5:$H$6326,2, FALSE)","v":80.099999999999994},null,0.54838709677419351,0.3007284079084287,84.5,76,0,0,null,83.761571245420825,3.238428754579175,10.487420798485227]
[null,111,2013,"2013-07-14",{"$f":"VLOOKUP(D119, data!$D$5:$E$6326,2, FALSE)","v":84.5},{"$f":"VLOOKUP(D119, data!$G$5:$H$6326,2, FALSE)","v":80},null,{"$f":"H88","v":0.58064516129032262},0.33714880332986474,76,74.5,0,0,null,77.088565218899106,7.411434781100894,54.929365514512057]
[null,112,2013,"2013-07-13",{"$f":"VLOOKUP(D120, data!$D$5:$E$6326,2, FALSE)","v":76},{"$f":"VLOOKUP(D120, data!$G$5:$H$6326,2, FALSE)","v":73},null,0.61290322580645162,0.3756503642039542,74.5,81.5,0,0,null,74.829367224571172,1.1706327754288282,1.3703810949082011]
[null,113,2013,"2013-07-12",{"$f":"VLOOKUP(D121, data!$D$5:$E$6326,2, FALSE)","v":74.5},{"$f":"VLOOKUP(D121, data!$G$5:$H$6326,2, FALSE)","v":70.5},null,0.64516129032258063,0.41623309053069718,81.5,82,0,0,null,80.411346451768907,-5.9113464517689067,34.944016872840841]
[null,114,2013,"2013-07-11",{"$f":"VLOOKUP(D122, data!$D$5:$E$6326,2, FALSE)","v":81.5},{"$f":"VLOOKUP(D122, data!$G$5:$H$6326,2, FALSE)","v":72.5},null,0.67741935483870963,0.45889698231009357,82,81.5,0,0,null,80.872756948722795,0.6272430512772047,0.39343384537553805]
[null,115,2013,"2013-07-10",{"$f":"VLOOKUP(D123, data!$D$5:$E$6326,2, FALSE)","v":82},{"$f":"VLOOKUP(D123, data!$G$5:$H$6326,2, FALSE)","v":75.5},null,0.70967741935483875,0.5036420395421437,81.5,82,0,0,null,80.373830711829854,1.6261692881701464,2.6444265537878007]
[null,116,2013,"2013-07-09",{"$f":"VLOOKUP(D124, data!$D$5:$E$6326,2, FALSE)","v":81.5},{"$f":"VLOOKUP(D124, data!$G$5:$H$6326,2, FALSE)","v":79},null,0.74193548387096775,0.55046826222684708,82,86.5,0,0,null,80.092180478037974,1.4078195219620255,1.9819558064173861]
[null,117,2013,"2013-07-08",{"$f":"VLOOKUP(D125, data!$D$5:$E$6326,2, FALSE)","v":82},{"$f":"VLOOKUP(D125, data!$G$5:$H$6326,2, FALSE)","v":78},null,0.77419354838709675,0.59937565036420393,86.5,86,0,0,null,83.785306807515866,-1.785306807515866,3.1873203969624933]
[null,118,2013,"2013-07-07",{"$f":"VLOOKUP(D126, data!$D$5:$E$6326,2, FALSE)","v":86.5},{"$f":"VLOOKUP(D126, data!$G$5:$H$6326,2, FALSE)","v":79},null,0.80645161290322576,0.65036420395421424,86,84,0,0,null,83.646664626168572,2.8533353738314275,8.1415227555577321]
[null,119,2013,"2013-07-06",{"$f":"VLOOKUP(D127, data!$D$5:$E$6326,2, FALSE)","v":86},{"$f":"VLOOKUP(D127, data!$G$5:$H$6326,2, FALSE)","v":74},null,0.83870967741935487,0.70343392299687835,84,83.5,0,0,null,82.068923132779403,3.9310768672205967,15.453365335996901]
[null,120,2013,"2013-07-05",{"$f":"VLOOKUP(D128, data!$D$5:$E$6326,2, FALSE)","v":84},{"$f":"VLOOKUP(D128, data!$G$5:$H$6326,2, FALSE)","v":73},null,0.87096774193548387,0.75858480749219559,83.5,80.5,0,0,null,82.07214531168492,1.9278546883150796,3.7166236992584327]
[null,121,2013,"2013-07-04",{"$f":"VLOOKUP(D129, data!$D$5:$E$6326,2, FALSE)","v":83.5},{"$f":"VLOOKUP(D129, data!$G$5:$H$6326,2, FALSE)","v":69.45},null,0.90322580645161288,0.81581685744016641,80.5,80,0,0,null,79.678743022158514,3.821256977841486,14.602004890702247]
[null,122,2013,"2013-07-03",{"$f":"VLOOKUP(D130, data!$D$5:$E$6326,2, FALSE)","v":80.5},{"$f":"VLOOKUP(D130, data!$G$5:$H$6326,2, FALSE)","v":65.5},null,0.93548387096774188,0.8751300728407907,80,76,0,0,null,79.823829561316842,0.67617043868315818,0.45720646214897459]
[null,123,2013,"2013-07-02",{"$f":"VLOOKUP(D131, data!$D$5:$E$6326,2, FALSE)","v":80},{"$f":"VLOOKUP(D131, data!$G$5:$H$6326,2, FALSE)","v":64},null,0.967741935483871,0.93652445369406878,76,0,0,1,null,76.512333013463888,3.4876669865361123,12.163821008973887]
[null,124,2013,"2013-07-01",{"$f":"VLOOKUP(D132, data!$D$5:$E$6326,2, FALSE)","v":76},{"$f":"VLOOKUP(D132, data!$G$5:$H$6326,2, FALSE)","v":67},null,1,1,0,0,1,0,null,76.529411764699944,-0.52941176469994389,0.28027681660270876]
[null,125,2012,{"$f":"DATE(C133, 7, 31)","v":"2012-07-31"},{"$f":"VLOOKUP(D133, data!$D$5:$E$6326,2, FALSE)","v":77},{"$f":"VLOOKUP(D133, data!$G$5:$H$6326,2, FALSE)","v":76.5},null,{"$f":"H102","v":3.2258064516129031E-2},{"$f":"I102","v":1.0405827263267429E-3},{"$f":"E134","v":77},{"$f":"E135","v":75.5},0,0,null,77.520335741631996,-0.52033574163199603,0.27074928401971932]
[null,126,2012,{"$f":"D133-1","v":"2012-07-30"},{"$f":"VLOOKUP(D134, data!$D$5:$E$6326,2, FALSE)","v":77},{"$f":"VLOOKUP(D134, data!$G$5:$H$6326,2, FALSE)","v":80.5},null,{"$f":"H103","v":6.4516129032258063E-2},4.1623309053069714E-3,{"$f":"E135","v":75.5},{"$f":"E136","v":76.5},0,0,null,76.193859655068422,0.8061403449315776,0.64986225572640288]
[null,127,2012,"2012-07-29",{"$f":"VLOOKUP(D135, data!$D$5:$E$6326,2, FALSE)","v":75.5},{"$f":"VLOOKUP(D135, data!$G$5:$H$6326,2, FALSE)","v":74},null,9.6774193548387094E-2,9.3652445369406864E-3,76.5,81,0,0,null,76.373459791024516,-0.87345979102451565,0.76293200653659055]
[null,128,{"$f":"C105-1","v":2012},"2012-07-28",{"$f":"VLOOKUP(D136, data!$D$5:$E$6326,2, FALSE)","v":76.5},{"$f":"VLOOKUP(D136, data!$G$5:$H$6326,2, FALSE)","v":74.5},null,0.12903225806451613,1.6649323621227886E-2,81,82,0,0,null,79.901586396888959,-3.401586396888959,11.570790015500011]
[null,129,2012,"2012-07-27",{"$f":"VLOOKUP(D137, data!$D$5:$E$6326,2, FALSE)","v":81},{"$f":"VLOOKUP(D137, data!$G$5:$H$6326,2, FALSE)","v":76},null,0.16129032258064516,2.6014568158168574E-2,82,79,0,0,null,81.1817197416797,-0.18171974167970006,3.3022064516136922E-2]
[null,130,2012,"2012-07-26",{"$f":"VLOOKUP(D138, data!$D$5:$E$6326,2, FALSE)","v":82},{"$f":"VLOOKUP(D138, data!$G$5:$H$6326,2, FALSE)","v":79},null,0.19354838709677419,3.7460978147762745E-2,79,85.5,0,0,null,{"$f":"$O$7+SUMPRODUCT(H$7:M$7, H138:M138)","v":77.81775955003809},{"$f":"E138-O138","v":4.1822404499619097},{"$f":"P138*P138","v":17.491135181297597}]
[null,{"$f":"B138+1","v":131},2012,"2012-07-25",{"$f":"VLOOKUP(D139, data!$D$5:$E$6326,2, FALSE)","v":79},{"$f":"VLOOKUP(D139, data!$G$5:$H$6326,2, FALSE)","v":84.5},null,0.22580645161290322,5.0988553590010401E-2,85.5,80.5,0,0,null,83.842451796977926,-4.8424517969779259,23.449339406054744]
[null,132,2012,"2012-07-24",{"$f":"VLOOKUP(D140, data!$D$5:$E$6326,2, FALSE)","v":85.5},{"$f":"VLOOKUP(D140, data!$G$5:$H$6326,2, FALSE)","v":76.5},null,0.25806451612903225,6.6597294484911543E-2,80.5,75,0,0,null,80.622643349972648,4.8773566500273517,23.788607891566031]
[null,133,2012,"2012-07-23",{"$f":"VLOOKUP(D141, data!$D$5:$E$6326,2, FALSE)","v":80.5},{"$f":"VLOOKUP(D141, data!$G$5:$H$6326,2, FALSE)","v":89},null,0.29032258064516131,8.4287200832466186E-2,75,71.5,0,0,null,76.700029474565895,3.7999705254341052,14.439775994167949]
[null,134,2012,"2012-07-22",{"$f":"VLOOKUP(D142, data!$D$5:$E$6326,2, FALSE)","v":75},{"$f":"VLOOKUP(D142, data!$G$5:$H$6326,2, FALSE)","v":78.5},null,0.32258064516129031,0.1040582726326743,71.5,68.5,0,0,null,74.320935546566346,0.67906445343365363,0.46112853191714676]
[null,135,2012,"2012-07-21",{"$f":"VLOOKUP(D143, data!$D$5:$E$6326,2, FALSE)","v":71.5},{"$f":"VLOOKUP(D143, data!$G$5:$H$6326,2, FALSE)","v":76},null,0.35483870967741937,0.12591050988553593,68.5,74.5,0,0,null,71.016661225223899,0.48333877477610088,0.23361637120206236]
[null,136,2012,"2012-07-20",{"$f":"VLOOKUP(D144, data!$D$5:$E$6326,2, FALSE)","v":68.5},{"$f":"VLOOKUP(D144, data!$G$5:$H$6326,2, FALSE)","v":74.5},null,0.38709677419354838,0.14984391259105098,74.5,89,0,0,null,73.746270218522454,-5.2462702185224543,27.523351205755642]
[null,137,2012,"2012-07-19",{"$f":"VLOOKUP(D145, data!$D$5:$E$6326,2, FALSE)","v":74.5},{"$f":"VLOOKUP(D145, data!$G$5:$H$6326,2, FALSE)","v":77},null,0.41935483870967744,0.17585848074921959,89,87,0,0,null,85.791931585011,-11.291931585011,127.50771892056902]
[null,138,2012,"2012-07-18",{"$f":"VLOOKUP(D146, data!$D$5:$E$6326,2, FALSE)","v":89},{"$f":"VLOOKUP(D146, data!$G$5:$H$6326,2, FALSE)","v":83},null,0.45161290322580644,0.2039542143600416,87,83,0,0,null,84.764135324186057,4.2358646758139429,17.942549551808359]
[null,139,2012,"2012-07-17",{"$f":"VLOOKUP(D147, data!$D$5:$E$6326,2, FALSE)","v":87},{"$f":"VLOOKUP(D147, data!$G$5:$H$6326,2, FALSE)","v":89},null,0.4838709677419355,0.2341311134235172,83,82.5,0,0,null,81.597245900374574,5.402754099625426,29.189751861019346]
[null,140,2012,"2012-07-16",{"$f":"VLOOKUP(D148, data!$D$5:$E$6326,2, FALSE)","v":83},{"$f":"VLOOKUP(D148, data!$G$5:$H$6326,2, FALSE)","v":84.5},null,0.5161290322580645,0.26638917793964617,82.5,80,0,0,null,81.557651673721764,1.4423483262782355,2.0803686943176274]
[null,141,2012,"2012-07-15",{"$f":"VLOOKUP(D149, data!$D$5:$E$6326,2, FALSE)","v":82.5},{"$f":"VLOOKUP(D149, data!$G$5:$H$6326,2, FALSE)","v":83},null,0.54838709677419351,0.3007284079084287,80,81,0,0,null,79.378964284082429,3.1210357159175715,9.7408639400331083]
[null,142,2012,"2012-07-14",{"$f":"VLOOKUP(D150, data!$D$5:$E$6326,2, FALSE)","v":80},{"$f":"VLOOKUP(D150, data!$G$5:$H$6326,2, FALSE)","v":80},null,{"$f":"H119","v":0.58064516129032262},0.33714880332986474,81,80,0,0,null,80.327572091601766,-0.32757209160176615,0.10730347519635587]
[null,143,2012,"2012-07-13",{"$f":"VLOOKUP(D151, data!$D$5:$E$6326,2, FALSE)","v":81},{"$f":"VLOOKUP(D151, data!$G$5:$H$6326,2, FALSE)","v":81.5},null,0.61290322580645162,0.3756503642039542,80,79.5,0,0,null,79.579549281633888,1.4204507183661121,2.017680243306804]
[null,144,2012,"2012-07-12",{"$f":"VLOOKUP(D152, data!$D$5:$E$6326,2, FALSE)","v":80},{"$f":"VLOOKUP(D152, data!$G$5:$H$6326,2, FALSE)","v":78.5},null,0.64516129032258063,0.41623309053069718,79.5,79,0,0,null,79.233733714820985,0.76626628517901452,0.5871640198020468]
[null,145,2012,"2012-07-11",{"$f":"VLOOKUP(D153, data!$D$5:$E$6326,2, FALSE)","v":79.5},{"$f":"VLOOKUP(D153, data!$G$5:$H$6326,2, FALSE)","v":75.5},null,0.67741935483870963,0.45889698231009357,79,80,0,0,null,78.663875297801624,0.83612470219837576,0.69910451762632253]
[null,146,2012,"2012-07-10",{"$f":"VLOOKUP(D154, data!$D$5:$E$6326,2, FALSE)","v":79},{"$f":"VLOOKUP(D154, data!$G$5:$H$6326,2, FALSE)","v":75},null,0.70967741935483875,0.5036420395421437,80,86.5,0,0,null,78.495080431745492,0.50491956825450757,0.25494377040631833]
[null,147,2012,"2012-07-09",{"$f":"VLOOKUP(D155, data!$D$5:$E$6326,2, FALSE)","v":80},{"$f":"VLOOKUP(D155, data!$G$5:$H$6326,2, FALSE)","v":78.5},null,0.74193548387096775,0.55046826222684708,86.5,89.5,0,0,null,83.294887318044914,-3.2948873180449141,10.856282438613206]
[null,148,2012,"2012-07-08",{"$f":"VLOOKUP(D156, data!$D$5:$E$6326,2, FALSE)","v":86.5},{"$f":"VLOOKUP(D156, data!$G$5:$H$6326,2, FALSE)","v":76.5},null,0.77419354838709675,0.59937565036420393,89.5,84,0,0,null,86.510394761519564,-1.0394761519563644E-2,1.0805106704860109E-4]
[null,149,2012,"2012-07-07",{"$f":"VLOOKUP(D157, data!$D$5:$E$6326,2, FALSE)","v":89.5},{"$f":"VLOOKUP(D157, data!$G$5:$H$6326,2, FALSE)","v":85.5},null,0.80645161290322576,0.65036420395421424,84,87,0,0,null,81.584126798222059,7.9158732017779414,62.661048546626155]
[null,150,2012,"2012-07-06",{"$f":"VLOOKUP(D158, data!$D$5:$E$6326,2, FALSE)","v":84},{"$f":"VLOOKUP(D158, data!$G$5:$H$6326,2, FALSE)","v":92.5},null,0.83870967741935487,0.70343392299687835,87,85,0,0,null,84.277804783700589,-0.27780478370058859,7.7175497846930813E-2]
[null,151,2012,"2012-07-05",{"$f":"VLOOKUP(D159, data!$D$5:$E$6326,2, FALSE)","v":87},{"$f":"VLOOKUP(D159, data!$G$5:$H$6326,2, FALSE)","v":91},null,0.87096774193548387,0.75858480749219559,85,82.5,0,0,null,82.992226743187459,4.0077732568125413,16.062246478021805]
[null,152,2012,"2012-07-04",{"$f":"VLOOKUP(D160, data!$D$5:$E$6326,2, FALSE)","v":85},{"$f":"VLOOKUP(D160, data!$G$5:$H$6326,2, FALSE)","v":90.5},null,0.90322580645161288,0.81581685744016641,82.5,81,0,0,null,81.151330789439299,3.8486692105607005,14.812254692317927]
[null,153,2012,"2012-07-03",{"$f":"VLOOKUP(D161, data!$D$5:$E$6326,2, FALSE)","v":82.5},{"$f":"VLOOKUP(D161, data!$G$5:$H$6326,2, FALSE)","v":86.5},null,0.93548387096774188,0.8751300728407907,81,85,0,0,null,79.306479566042555,3.1935204339574454,10.198572762103751]
[null,154,2012,"2012-07-02",{"$f":"VLOOKUP(D162, data!$D$5:$E$6326,2, FALSE)","v":81},{"$f":"VLOOKUP(D162, data!$G$5:$H$6326,2, FALSE)","v":84.5},null,0.967741935483871,0.93652445369406878,85,0,0,1,null,83.80267178447636,-2.8026717844763596,7.8549691314999013]
[null,155,2012,"2012-07-01",{"$f":"VLOOKUP(D163, data!$D$5:$E$6326,2, FALSE)","v":85},{"$f":"VLOOKUP(D163, data!$G$5:$H$6326,2, FALSE)","v":79.5},null,1,1,0,0,1,0,null,76.529411764699944,8.4705882353000561,71.750865052003718]
[null,156,2011,{"$f":"DATE(C164, 7, 31)","v":"2011-07-31"},{"$f":"VLOOKUP(D164, data!$D$5:$E$6326,2, FALSE)","v":82.5},{"$f":"VLOOKUP(D164, data!$G$5:$H$6326,2, FALSE)","v":79},null,{"$f":"H133","v":3.2258064516129031E-2},{"$f":"I133","v":1.0405827263267429E-3},{"$f":"E165","v":85.5},{"$f":"E166","v":80},0,0,null,83.741961873783737,-1.2419618737837368,1.5424692959324107]
[null,157,{"$f":"C164","v":2011},{"$f":"D164-1","v":"2011-07-30"},{"$f":"VLOOKUP(D165, data!$D$5:$E$6326,2, FALSE)","v":85.5},{"$f":"VLOOKUP(D165, data!$G$5:$H$6326,2, FALSE)","v":79},null,{"$f":"H134","v":6.4516129032258063E-2},4.1623309053069714E-3,{"$f":"E166","v":80},{"$f":"E167","v":81},0,0,null,79.1753352223257,6.3246647776743004,40.001384549953904]
[null,158,2011,"2011-07-29",{"$f":"VLOOKUP(D166, data!$D$5:$E$6326,2, FALSE)","v":80},{"$f":"VLOOKUP(D166, data!$G$5:$H$6326,2, FALSE)","v":78.5},null,9.6774193548387094E-2,9.3652445369406864E-3,81,80,0,0,null,80.166116691697184,-0.16611669169718368,2.7594755260417173E-2]
[null,159,2011,"2011-07-28",{"$f":"VLOOKUP(D167, data!$D$5:$E$6326,2, FALSE)","v":81},{"$f":"VLOOKUP(D167, data!$G$5:$H$6326,2, FALSE)","v":80},null,0.12903225806451613,1.6649323621227886E-2,80,83,0,0,null,78.944061240498925,2.0559387595010747,4.2268841828188179]
[null,160,2011,"2011-07-27",{"$f":"VLOOKUP(D168, data!$D$5:$E$6326,2, FALSE)","v":80},{"$f":"VLOOKUP(D168, data!$G$5:$H$6326,2, FALSE)","v":79},null,0.16129032258064516,2.6014568158168574E-2,83,77,0,0,null,82.28673241323618,-2.2867324132361802,5.229145129744964]
[null,161,2011,"2011-07-26",{"$f":"VLOOKUP(D169, data!$D$5:$E$6326,2, FALSE)","v":83},{"$f":"VLOOKUP(D169, data!$G$5:$H$6326,2, FALSE)","v":77},null,0.19354838709677419,3.7460978147762745E-2,77,87,0,0,null,75.976452994841225,7.0235470051587754,49.330212533674803]
[null,162,2011,"2011-07-25",{"$f":"VLOOKUP(D170, data!$D$5:$E$6326,2, FALSE)","v":77},{"$f":"VLOOKUP(D170, data!$G$5:$H$6326,2, FALSE)","v":80},null,0.22580645161290322,5.0988553590010401E-2,87,94,0,0,null,83.066426804066509,-6.0664268040665092,36.801534169096598]
[null,163,2011,"2011-07-24",{"$f":"VLOOKUP(D171, data!$D$5:$E$6326,2, FALSE)","v":87},{"$f":"VLOOKUP(D171, data!$G$5:$H$6326,2, FALSE)","v":79.5},null,0.25806451612903225,6.6597294484911543E-2,94,97,0,0,null,88.313426172829864,-1.313426172829864,1.7250883114745037]
[null,164,2011,"2011-07-23",{"$f":"VLOOKUP(D172, data!$D$5:$E$6326,2, FALSE)","v":94},{"$f":"VLOOKUP(D172, data!$G$5:$H$6326,2, FALSE)","v":78.5},null,0.29032258064516131,8.4287200832466186E-2,97,90,0,0,null,91.792338550906294,2.2076614490937061,4.8737690738145218]
[null,165,2011,"2011-07-22",{"$f":"VLOOKUP(D173, data!$D$5:$E$6326,2, FALSE)","v":97},{"$f":"VLOOKUP(D173, data!$G$5:$H$6326,2, FALSE)","v":79},null,0.32258064516129031,0.1040582726326743,90,81.5,0,0,null,87.389294212039502,9.610705787960498,92.36566574273742]
[null,166,2011,"2011-07-21",{"$f":"VLOOKUP(D174, data!$D$5:$E$6326,2, FALSE)","v":90},{"$f":"VLOOKUP(D174, data!$G$5:$H$6326,2, FALSE)","v":87},null,0.35483870967741937,0.12591050988553593,81.5,87,0,0,null,79.703556621550419,10.296443378449581,106.01674624561822]
[null,167,2011,"2011-07-20",{"$f":"VLOOKUP(D175, data!$D$5:$E$6326,2, FALSE)","v":81.5},{"$f":"VLOOKUP(D175, data!$G$5:$H$6326,2, FALSE)","v":86},null,0.38709677419354838,0.14984391259105098,87,86,0,0,null,84.314203279316871,-2.814203279316871,7.9197400973178302]
[null,168,2011,"2011-07-19",{"$f":"VLOOKUP(D176, data!$D$5:$E$6326,2, FALSE)","v":87},{"$f":"VLOOKUP(D176, data!$G$5:$H$6326,2, FALSE)","v":85.5},null,0.41935483870967744,0.17585848074921959,86,83,0,0,null,83.951768722005909,3.0482312779940912,9.2917139241414901]
[null,169,2011,"2011-07-18",{"$f":"VLOOKUP(D177, data!$D$5:$E$6326,2, FALSE)","v":86},{"$f":"VLOOKUP(D177, data!$G$5:$H$6326,2, FALSE)","v":86},null,0.45161290322580644,0.2039542143600416,83,81.5,0,0,null,81.74521603204127,4.2547839679587298,18.103186613998634]
[null,170,2011,"2011-07-17",{"$f":"VLOOKUP(D178, data!$D$5:$E$6326,2, FALSE)","v":83},{"$f":"VLOOKUP(D178, data!$G$5:$H$6326,2, FALSE)","v":82},null,0.4838709677419355,0.2341311134235172,81.5,78.5,0,0,null,80.972139499204886,2.0278605007951143,4.112218210685012]
[null,171,2011,"2011-07-16",{"$f":"VLOOKUP(D179, data!$D$5:$E$6326,2, FALSE)","v":81.5},{"$f":"VLOOKUP(D179, data!$G$5:$H$6326,2, FALSE)","v":80},null,0.5161290322580645,0.26638917793964617,78.5,76.5,0,0,null,78.833707411909842,2.6662925880901582,7.1091161653045143]
[null,172,2011,"2011-07-15",{"$f":"VLOOKUP(D180, data!$D$5:$E$6326,2, FALSE)","v":78.5},{"$f":"VLOOKUP(D180, data!$G$5:$H$6326,2, FALSE)","v":78.5},null,0.54838709677419351,0.3007284079084287,76.5,80,0,0,null,76.691320054966241,1.8086799450337594,3.2713231435673231]
[null,173,2011,"2011-07-14",{"$f":"VLOOKUP(D181, data!$D$5:$E$6326,2, FALSE)","v":76.5},{"$f":"VLOOKUP(D181, data!$G$5:$H$6326,2, FALSE)","v":70.5},null,{"$f":"H150","v":0.58064516129032262},0.33714880332986474,80,89,0,0,null,78.190146813880276,-1.6901468138802755,2.8565962524696467]
[null,174,2011,"2011-07-13",{"$f":"VLOOKUP(D182, data!$D$5:$E$6326,2, FALSE)","v":80},{"$f":"VLOOKUP(D182, data!$G$5:$H$6326,2, FALSE)","v":68.5},null,0.61290322580645162,0.3756503642039542,89,84,0,0,null,86.206194234397415,-6.2061942343974152,38.516846875067721]
[null,175,2011,"2011-07-12",{"$f":"VLOOKUP(D183, data!$D$5:$E$6326,2, FALSE)","v":89},{"$f":"VLOOKUP(D183, data!$G$5:$H$6326,2, FALSE)","v":78.5},null,0.64516129032258063,0.41623309053069718,84,77,0,0,null,83.173878130660086,5.8261218693399144,33.943696036400816]
[null,176,2011,"2011-07-11",{"$f":"VLOOKUP(D184, data!$D$5:$E$6326,2, FALSE)","v":84},{"$f":"VLOOKUP(D184, data!$G$5:$H$6326,2, FALSE)","v":79.5},null,0.67741935483870963,0.45889698231009357,77,81,0,0,null,76.896312500187975,7.1036874998120254,50.462376094985622]
[null,177,2011,"2011-07-10",{"$f":"VLOOKUP(D185, data!$D$5:$E$6326,2, FALSE)","v":77},{"$f":"VLOOKUP(D185, data!$G$5:$H$6326,2, FALSE)","v":82.5},null,0.70967741935483875,0.5036420395421437,81,79,0,0,null,80.411274436717335,-3.4112744367173349,11.63679328260117]
[null,178,2011,"2011-07-09",{"$f":"VLOOKUP(D186, data!$D$5:$E$6326,2, FALSE)","v":81},{"$f":"VLOOKUP(D186, data!$G$5:$H$6326,2, FALSE)","v":76},null,0.74193548387096775,0.55046826222684708,79,85,0,0,null,77.883298827116789,3.1167011728832108,9.7138262010515817]
[null,179,2011,"2011-07-08",{"$f":"VLOOKUP(D187, data!$D$5:$E$6326,2, FALSE)","v":79},{"$f":"VLOOKUP(D187, data!$G$5:$H$6326,2, FALSE)","v":73.5},null,0.77419354838709675,0.59937565036420393,85,83,0,0,null,83.012712891179746,-4.0127128911797456,16.101864747040114]
[null,180,2011,"2011-07-07",{"$f":"VLOOKUP(D188, data!$D$5:$E$6326,2, FALSE)","v":85},{"$f":"VLOOKUP(D188, data!$G$5:$H$6326,2, FALSE)","v":72.5},null,0.80645161290322576,0.65036420395421424,83,81.5,0,0,null,81.585270490413833,3.4147295095861665,11.660377623638581]
[null,181,2011,"2011-07-06",{"$f":"VLOOKUP(D189, data!$D$5:$E$6326,2, FALSE)","v":83},{"$f":"VLOOKUP(D189, data!$G$5:$H$6326,2, FALSE)","v":78},null,0.83870967741935487,0.70343392299687835,81.5,81.5,0,0,null,80.338804060053249,2.6611959399467509,7.0819638307890704]
[null,182,2011,"2011-07-05",{"$f":"VLOOKUP(D190, data!$D$5:$E$6326,2, FALSE)","v":81.5},{"$f":"VLOOKUP(D190, data!$G$5:$H$6326,2, FALSE)","v":79.5},null,0.87096774193548387,0.75858480749219559,81.5,74,0,0,null,81.410738877819512,8.9261122180488428E-2,7.9675479329200834E-3]
[null,183,2011,"2011-07-04",{"$f":"VLOOKUP(D191, data!$D$5:$E$6326,2, FALSE)","v":81.5},{"$f":"VLOOKUP(D191, data!$G$5:$H$6326,2, FALSE)","v":77},null,0.90322580645161288,0.81581685744016641,74,79.5,0,0,null,74.487242111788277,7.0127578882117234,49.178773198675749]
[null,184,2011,"2011-07-03",{"$f":"VLOOKUP(D192, data!$D$5:$E$6326,2, FALSE)","v":74},{"$f":"VLOOKUP(D192, data!$G$5:$H$6326,2, FALSE)","v":76.5},null,0.93548387096774188,0.8751300728407907,79.5,76,0,0,null,79.418810740705041,-5.418810740705041,29.363509843580314]
[null,185,2011,"2011-07-02",{"$f":"VLOOKUP(D193, data!$D$5:$E$6326,2, FALSE)","v":79.5},{"$f":"VLOOKUP(D193, data!$G$5:$H$6326,2, FALSE)","v":82.5},null,0.967741935483871,0.93652445369406878,76,0,0,1,null,76.512333013463888,2.9876669865361123,8.9261540224377747]
[null,186,2011,"2011-07-01",{"$f":"VLOOKUP(D194, data!$D$5:$E$6326,2, FALSE)","v":76},{"$f":"VLOOKUP(D194, data!$G$5:$H$6326,2, FALSE)","v":80.5},null,1,1,0,0,1,0,null,76.529411764699944,-0.52941176469994389,0.28027681660270876]
[null,187,{"$f":"C164-1","v":2010},{"$f":"DATE(C195, 7, 31)","v":"2010-07-31"},{"$f":"VLOOKUP(D195, data!$D$5:$E$6326,2, FALSE)","v":74.5},{"$f":"VLOOKUP(D195, data!$G$5:$H$6326,2, FALSE)","v":72.5},null,{"$f":"H164","v":3.2258064516129031E-2},{"$f":"I164","v":1.0405827263267429E-3},{"$f":"E196","v":77.5},{"$f":"E197","v":82.5},0,0,null,76.892941956078772,-2.3929419560787721,5.7261712051621005]
[null,188,2010,{"$f":"D195-1","v":"2010-07-30"},{"$f":"VLOOKUP(D196, data!$D$5:$E$6326,2, FALSE)","v":77.5},{"$f":"VLOOKUP(D196, data!$G$5:$H$6326,2, FALSE)","v":74.5},null,{"$f":"H165","v":6.4516129032258063E-2},4.1623309053069714E-3,{"$f":"E197","v":82.5},{"$f":"E198","v":82},0,0,null,81.052941810218286,-3.5529418102182859,12.623395506797191]
[null,189,2010,"2010-07-29",{"$f":"VLOOKUP(D197, data!$D$5:$E$6326,2, FALSE)","v":82.5},{"$f":"VLOOKUP(D197, data!$G$5:$H$6326,2, FALSE)","v":74.5},null,9.6774193548387094E-2,9.3652445369406864E-3,82,79,0,0,null,81.123641848087232,1.3763581519127683,1.894361762336731]
[null,190,2010,"2010-07-28",{"$f":"VLOOKUP(D198, data!$D$5:$E$6326,2, FALSE)","v":82},{"$f":"VLOOKUP(D198, data!$G$5:$H$6326,2, FALSE)","v":80.5},null,0.12903225806451613,1.6649323621227886E-2,79,78,0,0,null,78.871461175107484,3.1285388248925159,9.7877551788598449]
[null,191,2010,"2010-07-27",{"$f":"VLOOKUP(D199, data!$D$5:$E$6326,2, FALSE)","v":79},{"$f":"VLOOKUP(D199, data!$G$5:$H$6326,2, FALSE)","v":78},null,0.16129032258064516,2.6014568158168574E-2,78,83.5,0,0,null,77.277875358536321,1.7221246414636795,2.9657132807364066]
[null,192,2010,"2010-07-26",{"$f":"VLOOKUP(D200, data!$D$5:$E$6326,2, FALSE)","v":78},{"$f":"VLOOKUP(D200, data!$G$5:$H$6326,2, FALSE)","v":72.5},null,0.19354838709677419,3.7460978147762745E-2,83.5,90.5,0,0,null,80.725491359712166,-2.7254913597121657,7.4283031518656699]
[null,193,2010,"2010-07-25",{"$f":"VLOOKUP(D201, data!$D$5:$E$6326,2, FALSE)","v":83.5},{"$f":"VLOOKUP(D201, data!$G$5:$H$6326,2, FALSE)","v":73.5},null,0.22580645161290322,5.0988553590010401E-2,90.5,84.5,0,0,null,87.302689942430234,-3.8026899424302343,14.460450798260059]
[null,194,2010,"2010-07-24",{"$f":"VLOOKUP(D202, data!$D$5:$E$6326,2, FALSE)","v":90.5},{"$f":"VLOOKUP(D202, data!$G$5:$H$6326,2, FALSE)","v":78},null,0.25806451612903225,6.6597294484911543E-2,84.5,83.5,0,0,null,{"$f":"$O$7+SUMPRODUCT(H$7:M$7, H202:M202)","v":82.60915003595241},{"$f":"E202-O202","v":7.8908499640475895},{"$f":"P202*P202","v":62.265513155109844}]
[null,{"$f":"B202+1","v":195},2010,"2010-07-23",{"$f":"VLOOKUP(D203, data!$D$5:$E$6326,2, FALSE)","v":84.5},{"$f":"VLOOKUP(D203, data!$G$5:$H$6326,2, FALSE)","v":82},null,0.29032258064516131,8.4287200832466186E-2,83.5,86,0,0,null,81.446780455053315,3.0532195449466855,9.3221495896444448]
[null,196,2010,"2010-07-22",{"$f":"VLOOKUP(D204, data!$D$5:$E$6326,2, FALSE)","v":83.5},{"$f":"VLOOKUP(D204, data!$G$5:$H$6326,2, FALSE)","v":79.5},null,0.32258064516129031,0.1040582726326743,86,83.5,0,0,null,83.854168616812203,-0.35416861681220269,0.12543540913466886]
[null,197,2010,"2010-07-21",{"$f":"VLOOKUP(D205, data!$D$5:$E$6326,2, FALSE)","v":86},{"$f":"VLOOKUP(D205, data!$G$5:$H$6326,2, FALSE)","v":81.5},null,0.35483870967741937,0.12591050988553593,83.5,85.5,0,0,null,81.544863176747285,4.4551368232527153,19.848244113902297]
[null,198,2010,"2010-07-20",{"$f":"VLOOKUP(D206, data!$D$5:$E$6326,2, FALSE)","v":83.5},{"$f":"VLOOKUP(D206, data!$G$5:$H$6326,2, FALSE)","v":77},null,0.38709677419354838,0.14984391259105098,85.5,86.5,0,0,null,83.025403059898238,0.47459694010176179,0.22524225555395527]
[null,199,2010,"2010-07-19",{"$f":"VLOOKUP(D207, data!$D$5:$E$6326,2, FALSE)","v":85.5},{"$f":"VLOOKUP(D207, data!$G$5:$H$6326,2, FALSE)","v":76.5},null,0.41935483870967744,0.17585848074921959,86.5,86,0,0,null,83.914324997118413,1.5856750028815867,2.51436521476352]
[null,200,2010,"2010-07-18",{"$f":"VLOOKUP(D208, data!$D$5:$E$6326,2, FALSE)","v":86.5},{"$f":"VLOOKUP(D208, data!$G$5:$H$6326,2, FALSE)","v":82},null,0.45161290322580644,0.2039542143600416,86,87,0,0,null,83.364147622296713,3.1358523777032872,9.8335701347473599]
[null,201,2010,"2010-07-17",{"$f":"VLOOKUP(D209, data!$D$5:$E$6326,2, FALSE)","v":86},{"$f":"VLOOKUP(D209, data!$G$5:$H$6326,2, FALSE)","v":82},null,0.4838709677419355,0.2341311134235172,87,80.5,0,0,null,85.132371495601873,0.86762850439812667,0.75277922164413014]
[null,202,2010,"2010-07-16",{"$f":"VLOOKUP(D210, data!$D$5:$E$6326,2, FALSE)","v":87},{"$f":"VLOOKUP(D210, data!$G$5:$H$6326,2, FALSE)","v":78.5},null,0.5161290322580645,0.26638917793964617,80.5,78.5,0,0,null,80.158807664024195,6.8411923359758049,46.801912577814093]
[null,203,2010,"2010-07-15",{"$f":"VLOOKUP(D211, data!$D$5:$E$6326,2, FALSE)","v":80.5},{"$f":"VLOOKUP(D211, data!$G$5:$H$6326,2, FALSE)","v":80.5},null,0.54838709677419351,0.3007284079084287,78.5,78,0,0,null,78.606370367746308,1.8936296322536919,3.5858331841492523]
[null,204,2010,"2010-07-14",{"$f":"VLOOKUP(D212, data!$D$5:$E$6326,2, FALSE)","v":78.5},{"$f":"VLOOKUP(D212, data!$G$5:$H$6326,2, FALSE)","v":80},null,{"$f":"H181","v":0.58064516129032262},0.33714880332986474,78,81.5,0,0,null,77.676227895181313,0.82377210481868701,0.67860048067740986]
[null,205,2010,"2010-07-13",{"$f":"VLOOKUP(D213, data!$D$5:$E$6326,2, FALSE)","v":78},{"$f":"VLOOKUP(D213, data!$G$5:$H$6326,2, FALSE)","v":77},null,0.61290322580645162,0.3756503642039542,81.5,82.5,0,0,null,80.352143197970008,-2.3521431979700083,5.5325776237565778]
[null,206,2010,"2010-07-12",{"$f":"VLOOKUP(D214, data!$D$5:$E$6326,2, FALSE)","v":81.5},{"$f":"VLOOKUP(D214, data!$G$5:$H$6326,2, FALSE)","v":74.5},null,0.64516129032258063,0.41623309053069718,82.5,79,0,0,null,81.663846638491805,-0.1638466384918047,2.6845720945064138E-2]
[null,207,2010,"2010-07-11",{"$f":"VLOOKUP(D215, data!$D$5:$E$6326,2, FALSE)","v":82.5},{"$f":"VLOOKUP(D215, data!$G$5:$H$6326,2, FALSE)","v":75.5},null,0.67741935483870963,0.45889698231009357,79,81,0,0,null,78.516387782635192,3.9836122173648079,15.869166298338161]
[null,208,2010,"2010-07-10",{"$f":"VLOOKUP(D216, data!$D$5:$E$6326,2, FALSE)","v":79},{"$f":"VLOOKUP(D216, data!$G$5:$H$6326,2, FALSE)","v":79},null,0.70967741935483875,0.5036420395421437,81,82,0,0,null,79.968811891218039,-0.96881189121803857,0.93859648056547262]
[null,209,2010,"2010-07-09",{"$f":"VLOOKUP(D217, data!$D$5:$E$6326,2, FALSE)","v":81},{"$f":"VLOOKUP(D217, data!$G$5:$H$6326,2, FALSE)","v":79},null,0.74193548387096775,0.55046826222684708,82,90.5,0,0,null,79.502230417372246,1.4977695826277539,2.2433137226449165]
[null,210,2010,"2010-07-08",{"$f":"VLOOKUP(D218, data!$D$5:$E$6326,2, FALSE)","v":82},{"$f":"VLOOKUP(D218, data!$G$5:$H$6326,2, FALSE)","v":80.5},null,0.77419354838709675,0.59937565036420393,90.5,92,0,0,null,86.140532281411708,-4.1405322814117085,17.144007573412448]
[null,211,2010,"2010-07-07",{"$f":"VLOOKUP(D219, data!$D$5:$E$6326,2, FALSE)","v":90.5},{"$f":"VLOOKUP(D219, data!$G$5:$H$6326,2, FALSE)","v":82},null,0.80645161290322576,0.65036420395421424,92,87.5,0,0,null,87.990684170427713,2.5093158295722873,6.296665932542056]
[null,212,2010,"2010-07-06",{"$f":"VLOOKUP(D220, data!$D$5:$E$6326,2, FALSE)","v":92},{"$f":"VLOOKUP(D220, data!$G$5:$H$6326,2, FALSE)","v":81.5},null,0.83870967741935487,0.70343392299687835,87.5,84,0,0,null,84.830311119478822,7.1696888805211785,51.404438643469028]
[null,213,2010,"2010-07-05",{"$f":"VLOOKUP(D221, data!$D$5:$E$6326,2, FALSE)","v":87.5},{"$f":"VLOOKUP(D221, data!$G$5:$H$6326,2, FALSE)","v":84.5},null,0.87096774193548387,0.75858480749219559,84,78,0,0,null,82.845882920212802,4.6541170797871985,21.660805792366919]
[null,214,2010,"2010-07-04",{"$f":"VLOOKUP(D222, data!$D$5:$E$6326,2, FALSE)","v":84},{"$f":"VLOOKUP(D222, data!$G$5:$H$6326,2, FALSE)","v":79.5},null,0.90322580645161288,0.81581685744016641,78,73.5,0,0,null,78.612317767681304,5.3876822323186957,29.027119836442566]
[null,215,2010,"2010-07-03",{"$f":"VLOOKUP(D223, data!$D$5:$E$6326,2, FALSE)","v":78},{"$f":"VLOOKUP(D223, data!$G$5:$H$6326,2, FALSE)","v":73.5},null,0.93548387096774188,0.8751300728407907,73.5,72.5,0,0,null,75.074791196445901,2.9252088035540993,8.5568465443904049]
[null,216,2010,"2010-07-02",{"$f":"VLOOKUP(D224, data!$D$5:$E$6326,2, FALSE)","v":73.5},{"$f":"VLOOKUP(D224, data!$G$5:$H$6326,2, FALSE)","v":71},null,0.967741935483871,0.93652445369406878,72.5,0,0,1,null,73.677201269181253,-0.17720126918125345,3.1400289799447041E-2]
[null,217,2010,"2010-07-01",{"$f":"VLOOKUP(D225, data!$D$5:$E$6326,2, FALSE)","v":72.5},{"$f":"VLOOKUP(D225, data!$G$5:$H$6326,2, FALSE)","v":66},null,1,1,0,0,1,0,null,76.529411764699944,-4.0294117646999439,16.236159169502315]
[null,218,2009,{"$f":"DATE(C226, 7, 31)","v":"2009-07-31"},{"$f":"VLOOKUP(D226, data!$D$5:$E$6326,2, FALSE)","v":79},{"$f":"VLOOKUP(D226, data!$G$5:$H$6326,2, FALSE)","v":69.5},null,{"$f":"H195","v":3.2258064516129031E-2},{"$f":"I195","v":1.0405827263267429E-3},{"$f":"E227","v":81},{"$f":"E228","v":79},0,0,null,80.244280003443919,-1.2442800034439188,1.5482327269703984]
[null,219,{"$f":"C196-1","v":2009},{"$f":"D226-1","v":"2009-07-30"},{"$f":"VLOOKUP(D227, data!$D$5:$E$6326,2, FALSE)","v":81},{"$f":"VLOOKUP(D227, data!$G$5:$H$6326,2, FALSE)","v":69},null,{"$f":"H196","v":6.4516129032258063E-2},4.1623309053069714E-3,{"$f":"E228","v":79},{"$f":"E229","v":79.5},0,0,null,78.586528853851746,2.4134711461482539,5.8248429732901661]
[null,220,2009,"2009-07-29",{"$f":"VLOOKUP(D228, data!$D$5:$E$6326,2, FALSE)","v":79},{"$f":"VLOOKUP(D228, data!$G$5:$H$6326,2, FALSE)","v":71.5},null,9.6774193548387094E-2,9.3652445369406864E-3,79.5,77.5,0,0,null,79.319779017777861,-0.31977901777786144,0.10225862021097383]
[null,221,2009,"2009-07-28",{"$f":"VLOOKUP(D229, data!$D$5:$E$6326,2, FALSE)","v":79.5},{"$f":"VLOOKUP(D229, data!$G$5:$H$6326,2, FALSE)","v":75},null,0.12903225806451613,1.6649323621227886E-2,77.5,78,0,0,null,77.656404713272067,1.8435952867279326,3.3988435812454481]
[null,222,2009,"2009-07-27",{"$f":"VLOOKUP(D230, data!$D$5:$E$6326,2, FALSE)","v":77.5},{"$f":"VLOOKUP(D230, data!$G$5:$H$6326,2, FALSE)","v":74},null,0.16129032258064516,2.6014568158168574E-2,78,74,0,0,null,78.679006752617425,-1.1790067526174255,1.390056922717487]
[null,223,2009,"2009-07-26",{"$f":"VLOOKUP(D231, data!$D$5:$E$6326,2, FALSE)","v":78},{"$f":"VLOOKUP(D231, data!$G$5:$H$6326,2, FALSE)","v":72.5},null,0.19354838709677419,3.7460978147762745E-2,74,74,0,0,null,75.463677768334009,2.5363222316659915,6.4329304628431556]
[null,224,2009,"2009-07-25",{"$f":"VLOOKUP(D232, data!$D$5:$E$6326,2, FALSE)","v":74},{"$f":"VLOOKUP(D232, data!$G$5:$H$6326,2, FALSE)","v":73.5},null,0.22580645161290322,5.0988553590010401E-2,74,72,0,0,null,75.78066280182108,-1.7806628018210802,3.1707600137892995]
[null,225,2009,"2009-07-24",{"$f":"VLOOKUP(D233, data!$D$5:$E$6326,2, FALSE)","v":74},{"$f":"VLOOKUP(D233, data!$G$5:$H$6326,2, FALSE)","v":72},null,0.25806451612903225,6.6597294484911543E-2,72,73.5,0,0,null,73.958554672321625,4.1445327678374611E-2,1.7177151863678446E-3]
[null,226,2009,"2009-07-23",{"$f":"VLOOKUP(D234, data!$D$5:$E$6326,2, FALSE)","v":72},{"$f":"VLOOKUP(D234, data!$G$5:$H$6326,2, FALSE)","v":72},null,0.29032258064516131,8.4287200832466186E-2,73.5,69,0,0,null,75.853691800646573,-3.8536918006465726,14.850940494370622]
[null,227,2009,"2009-07-22",{"$f":"VLOOKUP(D235, data!$D$5:$E$6326,2, FALSE)","v":73.5},{"$f":"VLOOKUP(D235, data!$G$5:$H$6326,2, FALSE)","v":70.5},null,0.32258064516129031,0.1040582726326743,69,75,0,0,null,71.337172594925519,2.1628274050744807,4.6778223841412121]
[null,228,2009,"2009-07-21",{"$f":"VLOOKUP(D236, data!$D$5:$E$6326,2, FALSE)","v":69},{"$f":"VLOOKUP(D236, data!$G$5:$H$6326,2, FALSE)","v":69},null,0.35483870967741937,0.12591050988553593,75,74,0,0,null,76.355649650760569,-7.3556496507605686,54.105581784734078]
[null,229,2009,"2009-07-20",{"$f":"VLOOKUP(D237, data!$D$5:$E$6326,2, FALSE)","v":75},{"$f":"VLOOKUP(D237, data!$G$5:$H$6326,2, FALSE)","v":65.5},null,0.38709677419354838,0.14984391259105098,74,78,0,0,null,74.963614064741407,3.6385935258593349E-2,1.3239362846425467E-3]
[null,230,2009,"2009-07-19",{"$f":"VLOOKUP(D238, data!$D$5:$E$6326,2, FALSE)","v":74},{"$f":"VLOOKUP(D238, data!$G$5:$H$6326,2, FALSE)","v":64},null,0.41935483870967744,0.17585848074921959,78,78.5,0,0,null,78.135161410465969,-4.1351614104659689,17.099559890606901]
[null,231,2009,"2009-07-18",{"$f":"VLOOKUP(D239, data!$D$5:$E$6326,2, FALSE)","v":78},{"$f":"VLOOKUP(D239, data!$G$5:$H$6326,2, FALSE)","v":64.5},null,0.45161290322580644,0.2039542143600416,78.5,81,0,0,null,78.17379040411825,-0.17379040411825031,3.0203104563584753E-2]
[null,232,2009,"2009-07-17",{"$f":"VLOOKUP(D240, data!$D$5:$E$6326,2, FALSE)","v":78.5},{"$f":"VLOOKUP(D240, data!$G$5:$H$6326,2, FALSE)","v":63.5},null,0.4838709677419355,0.2341311134235172,81,74.5,0,0,null,81.157070739258799,-2.6570707392587991,7.060024913425301]
[null,233,2009,"2009-07-16",{"$f":"VLOOKUP(D241, data!$D$5:$E$6326,2, FALSE)","v":81},{"$f":"VLOOKUP(D241, data!$G$5:$H$6326,2, FALSE)","v":72},null,0.5161290322580645,0.26638917793964617,74.5,71.5,0,0,null,76.330994422847567,4.6690055771524328,21.799613079480523]
[null,234,2009,"2009-07-15",{"$f":"VLOOKUP(D242, data!$D$5:$E$6326,2, FALSE)","v":74.5},{"$f":"VLOOKUP(D242, data!$G$5:$H$6326,2, FALSE)","v":75},null,0.54838709677419351,0.3007284079084287,71.5,72,0,0,null,73.821031970179661,0.67896802982033932,0.46099758551811321]
[null,235,2009,"2009-07-14",{"$f":"VLOOKUP(D243, data!$D$5:$E$6326,2, FALSE)","v":71.5},{"$f":"VLOOKUP(D243, data!$G$5:$H$6326,2, FALSE)","v":67.5},null,{"$f":"H212","v":0.58064516129032262},0.33714880332986474,72,74,0,0,null,73.922158411587901,-2.4221584115879011,5.8668513708260246]
[null,236,2009,"2009-07-13",{"$f":"VLOOKUP(D244, data!$D$5:$E$6326,2, FALSE)","v":72},{"$f":"VLOOKUP(D244, data!$G$5:$H$6326,2, FALSE)","v":70},null,0.61290322580645162,0.3756503642039542,74,70.5,0,0,null,76.04671107079011,-4.0467110707901099,16.375870490455238]
[null,237,2009,"2009-07-12",{"$f":"VLOOKUP(D245, data!$D$5:$E$6326,2, FALSE)","v":74},{"$f":"VLOOKUP(D245, data!$G$5:$H$6326,2, FALSE)","v":70},null,0.64516129032258063,0.41623309053069718,70.5,67.5,0,0,null,73.639501368222469,0.36049863177753139,0.12995926351347217]
[null,238,2009,"2009-07-11",{"$f":"VLOOKUP(D246, data!$D$5:$E$6326,2, FALSE)","v":70.5},{"$f":"VLOOKUP(D246, data!$G$5:$H$6326,2, FALSE)","v":74},null,0.67741935483870963,0.45889698231009357,67.5,68,0,0,null,71.118292605727305,-0.61829260572730504,0.38228574629706069]
[null,239,2009,"2009-07-10",{"$f":"VLOOKUP(D247, data!$D$5:$E$6326,2, FALSE)","v":67.5},{"$f":"VLOOKUP(D247, data!$G$5:$H$6326,2, FALSE)","v":72.5},null,0.70967741935483875,0.5036420395421437,68,69.5,0,0,null,71.281916494891533,-3.7819164948915329,14.302892374332659]
[null,240,2009,"2009-07-09",{"$f":"VLOOKUP(D248, data!$D$5:$E$6326,2, FALSE)","v":68},{"$f":"VLOOKUP(D248, data!$G$5:$H$6326,2, FALSE)","v":69},null,0.74193548387096775,0.55046826222684708,69.5,73,0,0,null,71.957791417489688,-3.9577914174896875,15.664112904355029]
[null,241,2009,"2009-07-08",{"$f":"VLOOKUP(D249, data!$D$5:$E$6326,2, FALSE)","v":69.5},{"$f":"VLOOKUP(D249, data!$G$5:$H$6326,2, FALSE)","v":63},null,0.77419354838709675,0.59937565036420393,73,73,0,0,null,74.767136348160776,-5.2671363481607756,27.74272531011643]
[null,242,2009,"2009-07-07",{"$f":"VLOOKUP(D250, data!$D$5:$E$6326,2, FALSE)","v":73},{"$f":"VLOOKUP(D250, data!$G$5:$H$6326,2, FALSE)","v":68},null,0.80645161290322576,0.65036420395421424,73,72,0,0,null,74.886025472258837,-1.8860254722588365,3.5570920820091674]
[null,243,2009,"2009-07-06",{"$f":"VLOOKUP(D251, data!$D$5:$E$6326,2, FALSE)","v":73},{"$f":"VLOOKUP(D251, data!$G$5:$H$6326,2, FALSE)","v":73},null,0.83870967741935487,0.70343392299687835,72,74,0,0,null,73.749602832177203,-0.74960283217720303,0.561904406008084]
[null,244,2009,"2009-07-05",{"$f":"VLOOKUP(D252, data!$D$5:$E$6326,2, FALSE)","v":72},{"$f":"VLOOKUP(D252, data!$G$5:$H$6326,2, FALSE)","v":69},null,0.87096774193548387,0.75858480749219559,74,73,0,0,null,75.482944083808874,-3.4829440838088743,12.130899490939239]
[null,245,2009,"2009-07-04",{"$f":"VLOOKUP(D253, data!$D$5:$E$6326,2, FALSE)","v":74},{"$f":"VLOOKUP(D253, data!$G$5:$H$6326,2, FALSE)","v":64},null,0.90322580645161288,0.81581685744016641,73,73.5,0,0,null,74.562129561563268,-0.56212956156326754,0.31598964398331142]
[null,246,2009,"2009-07-03",{"$f":"VLOOKUP(D254, data!$D$5:$E$6326,2, FALSE)","v":73},{"$f":"VLOOKUP(D254, data!$G$5:$H$6326,2, FALSE)","v":71},null,0.93548387096774188,0.8751300728407907,73.5,73.5,0,0,null,74.927303681279469,-1.9273036812794686,3.7144994798733917]
[null,247,2009,"2009-07-02",{"$f":"VLOOKUP(D255, data!$D$5:$E$6326,2, FALSE)","v":73.5},{"$f":"VLOOKUP(D255, data!$G$5:$H$6326,2, FALSE)","v":66},null,0.967741935483871,0.93652445369406878,73.5,0,0,1,null,74.487238910404869,-0.98723891040486933,0.97464066621739365]
[null,248,2009,"2009-07-01",{"$f":"VLOOKUP(D256, data!$D$5:$E$6326,2, FALSE)","v":73.5},{"$f":"VLOOKUP(D256, data!$G$5:$H$6326,2, FALSE)","v":61},null,1,1,0,0,1,0,null,76.529411764699944,-3.0294117646999439,9.1773356401024273]
[null,249,2008,{"$f":"DATE(C257, 7, 31)","v":"2008-07-31"},{"$f":"VLOOKUP(D257, data!$D$5:$E$6326,2, FALSE)","v":82.5},{"$f":"VLOOKUP(D257, data!$G$5:$H$6326,2, FALSE)","v":80.5},null,{"$f":"H226","v":3.2258064516129031E-2},{"$f":"I226","v":1.0405827263267429E-3},{"$f":"E258","v":79},{"$f":"E259","v":79.5},0,0,null,78.550460963413485,3.9495390365865148,15.598858601520735]
[null,250,2008,{"$f":"D257-1","v":"2008-07-30"},{"$f":"VLOOKUP(D258, data!$D$5:$E$6326,2, FALSE)","v":79},{"$f":"VLOOKUP(D258, data!$G$5:$H$6326,2, FALSE)","v":80.5},null,{"$f":"H227","v":6.4516129032258063E-2},4.1623309053069714E-3,{"$f":"E259","v":79.5},{"$f":"E260","v":76.5},0,0,null,79.434010219962843,-0.43401021996284328,0.1883648710321956]
[null,251,{"$f":"C228-1","v":2008},"2008-07-29",{"$f":"VLOOKUP(D259, data!$D$5:$E$6326,2, FALSE)","v":79.5},{"$f":"VLOOKUP(D259, data!$G$5:$H$6326,2, FALSE)","v":76.5},null,9.6774193548387094E-2,9.3652445369406864E-3,76.5,74,0,0,null,77.40587239718954,2.0941276028104596,4.3853704168526821]
[null,252,2008,"2008-07-28",{"$f":"VLOOKUP(D260, data!$D$5:$E$6326,2, FALSE)","v":76.5},{"$f":"VLOOKUP(D260, data!$G$5:$H$6326,2, FALSE)","v":75.5},null,0.12903225806451613,1.6649323621227886E-2,74,78,0,0,null,74.821272968989433,1.6787270310105669,2.8181244446455529]
[null,253,2008,"2008-07-27",{"$f":"VLOOKUP(D261, data!$D$5:$E$6326,2, FALSE)","v":74},{"$f":"VLOOKUP(D261, data!$G$5:$H$6326,2, FALSE)","v":72.5},null,0.16129032258064516,2.6014568158168574E-2,78,76.5,0,0,null,78.310287964701345,-4.3102879647013452,18.578582338649266]
[null,254,2008,"2008-07-26",{"$f":"VLOOKUP(D262, data!$D$5:$E$6326,2, FALSE)","v":78},{"$f":"VLOOKUP(D262, data!$G$5:$H$6326,2, FALSE)","v":74.5},null,0.19354838709677419,3.7460978147762745E-2,76.5,77.5,0,0,null,76.972565568310529,1.0274344316894712,1.0556215114210667]
[null,255,2008,"2008-07-25",{"$f":"VLOOKUP(D263, data!$D$5:$E$6326,2, FALSE)","v":76.5},{"$f":"VLOOKUP(D263, data!$G$5:$H$6326,2, FALSE)","v":71.5},null,0.22580645161290322,5.0988553590010401E-2,77.5,75,0,0,null,78.173332000604432,-1.6733320006044323,2.800039984246832]
[null,256,2008,"2008-07-24",{"$f":"VLOOKUP(D264, data!$D$5:$E$6326,2, FALSE)","v":77.5},{"$f":"VLOOKUP(D264, data!$G$5:$H$6326,2, FALSE)","v":70.5},null,0.25806451612903225,6.6597294484911543E-2,75,79,0,0,null,75.577486262577082,1.9225137374229178,3.6960590705798357]
[null,257,2008,"2008-07-23",{"$f":"VLOOKUP(D265, data!$D$5:$E$6326,2, FALSE)","v":75},{"$f":"VLOOKUP(D265, data!$G$5:$H$6326,2, FALSE)","v":70.5},null,0.29032258064516131,8.4287200832466186E-2,79,83,0,0,null,78.244073615046375,-3.2440736150463749,10.524013619840055]
[null,258,2008,"2008-07-22",{"$f":"VLOOKUP(D266, data!$D$5:$E$6326,2, FALSE)","v":79},{"$f":"VLOOKUP(D266, data!$G$5:$H$6326,2, FALSE)","v":70},null,0.32258064516129031,0.1040582726326743,83,86.5,0,0,null,{"$f":"$O$7+SUMPRODUCT(H$7:M$7, H266:M266)","v":80.981593147642087},{"$f":"E266-O266","v":-1.9815931476420872},{"$f":"P266*P266","v":3.9267114027820744}]
[null,{"$f":"B266+1","v":259},2008,"2008-07-21",{"$f":"VLOOKUP(D267, data!$D$5:$E$6326,2, FALSE)","v":83},{"$f":"VLOOKUP(D267, data!$G$5:$H$6326,2, FALSE)","v":75.5},null,0.35483870967741937,0.12591050988553593,86.5,87,0,0,null,83.753744827668456,-0.75374482766845574,0.56813126523695001]
[null,260,2008,"2008-07-20",{"$f":"VLOOKUP(D268, data!$D$5:$E$6326,2, FALSE)","v":86.5},{"$f":"VLOOKUP(D268, data!$G$5:$H$6326,2, FALSE)","v":77},null,0.38709677419354838,0.14984391259105098,87,84,0,0,null,84.609178309649735,1.8908216903502648,3.5752066646990328]
[null,261,2008,"2008-07-19",{"$f":"VLOOKUP(D269, data!$D$5:$E$6326,2, FALSE)","v":87},{"$f":"VLOOKUP(D269, data!$G$5:$H$6326,2, FALSE)","v":72.5},null,0.41935483870967744,0.17585848074921959,84,81,0,0,null,82.626668469891555,4.3733315301084446,19.126028672240668]
[null,262,2008,"2008-07-18",{"$f":"VLOOKUP(D270, data!$D$5:$E$6326,2, FALSE)","v":84},{"$f":"VLOOKUP(D270, data!$G$5:$H$6326,2, FALSE)","v":80},null,0.45161290322580644,0.2039542143600416,81,79,0,0,null,80.493859537510119,3.5061404624898813,12.293020942708759]
[null,263,2008,"2008-07-17",{"$f":"VLOOKUP(D271, data!$D$5:$E$6326,2, FALSE)","v":81},{"$f":"VLOOKUP(D271, data!$G$5:$H$6326,2, FALSE)","v":80},null,0.4838709677419355,0.2341311134235172,79,78.5,0,0,null,78.947045396145867,2.0529546038541326,4.2146226054858786]
[null,264,2008,"2008-07-16",{"$f":"VLOOKUP(D272, data!$D$5:$E$6326,2, FALSE)","v":79},{"$f":"VLOOKUP(D272, data!$G$5:$H$6326,2, FALSE)","v":80.5},null,0.5161290322580645,0.26638917793964617,78.5,76.5,0,0,null,78.833707411909842,0.16629258809015823,2.7653224853723037E-2]
[null,265,2008,"2008-07-15",{"$f":"VLOOKUP(D273, data!$D$5:$E$6326,2, FALSE)","v":78.5},{"$f":"VLOOKUP(D273, data!$G$5:$H$6326,2, FALSE)","v":75.5},null,0.54838709677419351,0.3007284079084287,76.5,76.5,0,0,null,77.207526358048739,1.2924736419512612,1.6704881151387569]
[null,266,2008,"2008-07-14",{"$f":"VLOOKUP(D274, data!$D$5:$E$6326,2, FALSE)","v":76.5},{"$f":"VLOOKUP(D274, data!$G$5:$H$6326,2, FALSE)","v":73},null,{"$f":"H243","v":0.58064516129032262},0.33714880332986474,76.5,77.5,0,0,null,77.051121494011625,-0.55112149401162469,0.30373490116160529]
[null,267,2008,"2008-07-13",{"$f":"VLOOKUP(D275, data!$D$5:$E$6326,2, FALSE)","v":76.5},{"$f":"VLOOKUP(D275, data!$G$5:$H$6326,2, FALSE)","v":70.5},null,0.61290322580645162,0.3756503642039542,77.5,75.5,0,0,null,78.144405239240598,-1.6444052392405979,2.7040685908419282]
[null,268,2008,"2008-07-12",{"$f":"VLOOKUP(D276, data!$D$5:$E$6326,2, FALSE)","v":77.5},{"$f":"VLOOKUP(D276, data!$G$5:$H$6326,2, FALSE)","v":73},null,0.64516129032258063,0.41623309053069718,75.5,80,0,0,null,75.846095634760118,1.6539043652398817,2.7353996493595361]
[null,269,2008,"2008-07-11",{"$f":"VLOOKUP(D277, data!$D$5:$E$6326,2, FALSE)","v":75.5},{"$f":"VLOOKUP(D277, data!$G$5:$H$6326,2, FALSE)","v":76},null,0.67741935483870963,0.45889698231009357,80,80,0,0,null,79.473912939025226,-3.9739129390252259,15.791984046952109]
[null,270,2008,"2008-07-10",{"$f":"VLOOKUP(D278, data!$D$5:$E$6326,2, FALSE)","v":80},{"$f":"VLOOKUP(D278, data!$G$5:$H$6326,2, FALSE)","v":73},null,0.70967741935483875,0.5036420395421437,80,82.5,0,0,null,79.085030492411221,0.91496950758877915,0.83716919981725302]
[null,271,2008,"2008-07-09",{"$f":"VLOOKUP(D279, data!$D$5:$E$6326,2, FALSE)","v":80},{"$f":"VLOOKUP(D279, data!$G$5:$H$6326,2, FALSE)","v":76},null,0.74193548387096775,0.55046826222684708,82.5,77.5,0,0,null,81.824586935147664,-1.8245869351476642,3.3291174839115465]
[null,272,2008,"2008-07-08",{"$f":"VLOOKUP(D280, data!$D$5:$E$6326,2, FALSE)","v":82.5},{"$f":"VLOOKUP(D280, data!$G$5:$H$6326,2, FALSE)","v":77.5},null,0.77419354838709675,0.59937565036420393,77.5,73.5,0,0,null,78.33856197608381,4.1614380239161903,17.317566426895485]
[null,273,2008,"2008-07-07",{"$f":"VLOOKUP(D281, data!$D$5:$E$6326,2, FALSE)","v":77.5},{"$f":"VLOOKUP(D281, data!$G$5:$H$6326,2, FALSE)","v":79},null,0.80645161290322576,0.65036420395421424,73.5,72.5,0,0,null,75.217300535287436,2.2826994647125645,5.2107168461990288]
[null,274,2008,"2008-07-06",{"$f":"VLOOKUP(D282, data!$D$5:$E$6326,2, FALSE)","v":73.5},{"$f":"VLOOKUP(D282, data!$G$5:$H$6326,2, FALSE)","v":73},null,0.83870967741935487,0.70343392299687835,72.5,75.5,0,0,null,73.933390380039356,-0.4333903800393557,0.18782722151065717]
[null,275,2008,"2008-07-05",{"$f":"VLOOKUP(D283, data!$D$5:$E$6326,2, FALSE)","v":72.5},{"$f":"VLOOKUP(D283, data!$G$5:$H$6326,2, FALSE)","v":67},null,0.87096774193548387,0.75858480749219559,75.5,79.5,0,0,null,75.739331697062482,-3.2393316970624824,10.493269843593701]
[null,276,2008,"2008-07-04",{"$f":"VLOOKUP(D284, data!$D$5:$E$6326,2, FALSE)","v":75.5},{"$f":"VLOOKUP(D284, data!$G$5:$H$6326,2, FALSE)","v":64},null,0.90322580645161288,0.81581685744016641,79.5,78,0,0,null,79.163680411267777,-3.6636804112677765,13.422554155907225]
[null,277,2008,"2008-07-03",{"$f":"VLOOKUP(D285, data!$D$5:$E$6326,2, FALSE)","v":79.5},{"$f":"VLOOKUP(D285, data!$G$5:$H$6326,2, FALSE)","v":63},null,0.93548387096774188,0.8751300728407907,78,78.5,0,0,null,77.835035490953544,1.664964509046456,2.7721068163843063]
[null,278,2008,"2008-07-02",{"$f":"VLOOKUP(D286, data!$D$5:$E$6326,2, FALSE)","v":78},{"$f":"VLOOKUP(D286, data!$G$5:$H$6326,2, FALSE)","v":75},null,0.967741935483871,0.93652445369406878,78.5,0,0,1,null,78.537427116522906,-0.53742711652290609,0.2888279055741253]
[null,279,2008,"2008-07-01",{"$f":"VLOOKUP(D287, data!$D$5:$E$6326,2, FALSE)","v":78.5},{"$f":"VLOOKUP(D287, data!$G$5:$H$6326,2, FALSE)","v":70.5},null,1,1,0,0,1,0,null,76.529411764699944,1.9705882353000561,3.8832179931029893]
[null,280,2007,{"$f":"DATE(C288, 7, 31)","v":"2007-07-31"},{"$f":"VLOOKUP(D288, data!$D$5:$E$6326,2, FALSE)","v":80.5},{"$f":"VLOOKUP(D288, data!$G$5:$H$6326,2, FALSE)","v":79.5},null,{"$f":"H257","v":3.2258064516129031E-2},{"$f":"I257","v":1.0405827263267429E-3},{"$f":"E289","v":77.5},{"$f":"E290","v":76.5},0,0,null,77.777867047077365,2.7221329529226352,7.4100078133873062]
[null,281,2007,{"$f":"D288-1","v":"2007-07-30"},{"$f":"VLOOKUP(D289, data!$D$5:$E$6326,2, FALSE)","v":77.5},{"$f":"VLOOKUP(D289, data!$G$5:$H$6326,2, FALSE)","v":75.5},null,{"$f":"H258","v":6.4516129032258063E-2},4.1623309053069714E-3,{"$f":"E290","v":76.5},{"$f":"E291","v":79.5},0,0,null,76.561434750792728,0.93856524920727225,0.88090472701950906]
[null,282,2007,"2007-07-29",{"$f":"VLOOKUP(D290, data!$D$5:$E$6326,2, FALSE)","v":76.5},{"$f":"VLOOKUP(D290, data!$G$5:$H$6326,2, FALSE)","v":74},null,9.6774193548387094E-2,9.3652445369406864E-3,79.5,77.5,0,0,null,79.319779017777861,-2.8197790177778614,7.9511537091002813]
[null,283,{"$f":"C260-1","v":2007},"2007-07-28",{"$f":"VLOOKUP(D291, data!$D$5:$E$6326,2, FALSE)","v":79.5},{"$f":"VLOOKUP(D291, data!$G$5:$H$6326,2, FALSE)","v":73},null,0.12903225806451613,1.6649323621227886E-2,77.5,78.5,0,0,null,77.582660955688851,1.9173390443111487,3.6761890108399888]
[null,284,2007,"2007-07-27",{"$f":"VLOOKUP(D292, data!$D$5:$E$6326,2, FALSE)","v":77.5},{"$f":"VLOOKUP(D292, data!$G$5:$H$6326,2, FALSE)","v":76.5},null,0.16129032258064516,2.6014568158168574E-2,78.5,75.5,0,0,null,78.862794300479578,-1.3627943004795782,1.8572083054196229]
[null,285,2007,"2007-07-26",{"$f":"VLOOKUP(D293, data!$D$5:$E$6326,2, FALSE)","v":78.5},{"$f":"VLOOKUP(D293, data!$G$5:$H$6326,2, FALSE)","v":74.5},null,0.19354838709677419,3.7460978147762745E-2,75.5,69,0,0,null,77.416171806001586,1.0838281939984142,1.1746835541058642]
[null,286,2007,"2007-07-25",{"$f":"VLOOKUP(D294, data!$D$5:$E$6326,2, FALSE)","v":75.5},{"$f":"VLOOKUP(D294, data!$G$5:$H$6326,2, FALSE)","v":78},null,0.22580645161290322,5.0988553590010401E-2,69,66.5,0,0,null,72.54165592911842,2.95834407088158,8.7517996417201989]
[null,287,2007,"2007-07-24",{"$f":"VLOOKUP(D295, data!$D$5:$E$6326,2, FALSE)","v":69},{"$f":"VLOOKUP(D295, data!$G$5:$H$6326,2, FALSE)","v":73.5},null,0.25806451612903225,6.6597294484911543E-2,66.5,75.5,0,0,null,69.208372615258909,-0.20837261525890938,4.3419146789837472E-2]
[null,288,2007,"2007-07-23",{"$f":"VLOOKUP(D296, data!$D$5:$E$6326,2, FALSE)","v":66.5},{"$f":"VLOOKUP(D296, data!$G$5:$H$6326,2, FALSE)","v":71.5},null,0.29032258064516131,8.4287200832466186E-2,75.5,73.5,0,0,null,76.810073264844846,-10.310073264844846,106.29761072646845]
[null,289,2007,"2007-07-22",{"$f":"VLOOKUP(D297, data!$D$5:$E$6326,2, FALSE)","v":75.5},{"$f":"VLOOKUP(D297, data!$G$5:$H$6326,2, FALSE)","v":69.5},null,0.32258064516129031,0.1040582726326743,73.5,74,0,0,null,75.129829495598187,0.37017050440181265,0.13702620232909241]
[null,290,2007,"2007-07-21",{"$f":"VLOOKUP(D298, data!$D$5:$E$6326,2, FALSE)","v":73.5},{"$f":"VLOOKUP(D298, data!$G$5:$H$6326,2, FALSE)","v":66},null,0.35483870967741937,0.12591050988553593,74,78.5,0,0,null,74.881918191288023,-1.3819181912880225,1.9096978874127595]
[null,291,2007,"2007-07-20",{"$f":"VLOOKUP(D299, data!$D$5:$E$6326,2, FALSE)","v":74},{"$f":"VLOOKUP(D299, data!$G$5:$H$6326,2, FALSE)","v":66.5},null,0.38709677419354838,0.14984391259105098,78.5,75.5,0,0,null,78.977502238163723,-4.9775022381637228,24.77552853092487]
[null,292,2007,"2007-07-19",{"$f":"VLOOKUP(D300, data!$D$5:$E$6326,2, FALSE)","v":78.5},{"$f":"VLOOKUP(D300, data!$G$5:$H$6326,2, FALSE)","v":73},null,0.41935483870967744,0.17585848074921959,75.5,78.5,0,0,null,76.11006730740695,2.3899326925930495,5.7117782751250639]
[null,293,2007,"2007-07-18",{"$f":"VLOOKUP(D301, data!$D$5:$E$6326,2, FALSE)","v":75.5},{"$f":"VLOOKUP(D301, data!$G$5:$H$6326,2, FALSE)","v":77},null,0.45161290322580644,0.2039542143600416,78.5,77.5,0,0,null,78.689996707200748,-3.1899967072007485,10.176078991951618]
[null,294,2007,"2007-07-17",{"$f":"VLOOKUP(D302, data!$D$5:$E$6326,2, FALSE)","v":78.5},{"$f":"VLOOKUP(D302, data!$G$5:$H$6326,2, FALSE)","v":75.5},null,0.4838709677419355,0.2341311134235172,77.5,80.5,0,0,null,77.437013903977601,1.0629860960223994,1.1299394403369416]
[null,295,2007,"2007-07-16",{"$f":"VLOOKUP(D303, data!$D$5:$E$6326,2, FALSE)","v":77.5},{"$f":"VLOOKUP(D303, data!$G$5:$H$6326,2, FALSE)","v":73.5},null,0.5161290322580645,0.26638917793964617,80.5,74,0,0,null,80.82250148227314,-3.3225014822731396,11.03901609970721]
[null,296,2007,"2007-07-15",{"$f":"VLOOKUP(D304, data!$D$5:$E$6326,2, FALSE)","v":80.5},{"$f":"VLOOKUP(D304, data!$G$5:$H$6326,2, FALSE)","v":71},null,0.54838709677419351,0.3007284079084287,74,74.5,0,0,null,75.477407285322585,5.0225927146774154,25.22643757753065]
[null,297,2007,"2007-07-14",{"$f":"VLOOKUP(D305, data!$D$5:$E$6326,2, FALSE)","v":74},{"$f":"VLOOKUP(D305, data!$G$5:$H$6326,2, FALSE)","v":72.5},null,{"$f":"H274","v":0.58064516129032262},0.33714880332986474,74.5,75.5,0,0,null,75.726021241897257,-1.7260212418972571,2.9791493274805498]
[null,298,2007,"2007-07-13",{"$f":"VLOOKUP(D306, data!$D$5:$E$6326,2, FALSE)","v":74.5},{"$f":"VLOOKUP(D306, data!$G$5:$H$6326,2, FALSE)","v":68},null,0.61290322580645162,0.3756503642039542,75.5,79,0,0,null,76.008123653710868,-1.508123653710868,2.2744369548822179]
[null,299,2007,"2007-07-12",{"$f":"VLOOKUP(D307, data!$D$5:$E$6326,2, FALSE)","v":75.5},{"$f":"VLOOKUP(D307, data!$G$5:$H$6326,2, FALSE)","v":70.5},null,0.64516129032258063,0.41623309053069718,79,84.5,0,0,null,78.017533560793808,-2.5175335607938081,6.3379752297231509]
[null,300,2007,"2007-07-11",{"$f":"VLOOKUP(D308, data!$D$5:$E$6326,2, FALSE)","v":79},{"$f":"VLOOKUP(D308, data!$G$5:$H$6326,2, FALSE)","v":69.5},null,0.67741935483870963,0.45889698231009357,84.5,86,0,0,null,82.234157233532869,-3.2341572335328692,10.459773011212983]
[null,301,2007,"2007-07-10",{"$f":"VLOOKUP(D309, data!$D$5:$E$6326,2, FALSE)","v":84.5},{"$f":"VLOOKUP(D309, data!$G$5:$H$6326,2, FALSE)","v":79},null,0.70967741935483875,0.5036420395421437,86,80.5,0,0,null,84.240231370085738,0.25976862991426231,6.7479741087532977E-2]
[null,302,2007,"2007-07-09",{"$f":"VLOOKUP(D310, data!$D$5:$E$6326,2, FALSE)","v":86},{"$f":"VLOOKUP(D310, data!$G$5:$H$6326,2, FALSE)","v":82},null,0.74193548387096775,0.55046826222684708,80.5,76.5,0,0,null,80.351999167866879,5.6480008321331212,31.89991339977643]
[null,303,2007,"2007-07-08",{"$f":"VLOOKUP(D311, data!$D$5:$E$6326,2, FALSE)","v":80.5},{"$f":"VLOOKUP(D311, data!$G$5:$H$6326,2, FALSE)","v":84.5},null,0.77419354838709675,0.59937565036420393,76.5,77.5,0,0,null,76.938574274194451,3.5614257258055488,12.68375320042958]
[null,304,2007,"2007-07-07",{"$f":"VLOOKUP(D312, data!$D$5:$E$6326,2, FALSE)","v":76.5},{"$f":"VLOOKUP(D312, data!$G$5:$H$6326,2, FALSE)","v":77},null,0.80645161290322576,0.65036420395421424,77.5,74,0,0,null,78.236219827432222,-1.7362198274322225,3.0144592891687765]
[null,305,2007,"2007-07-06",{"$f":"VLOOKUP(D313, data!$D$5:$E$6326,2, FALSE)","v":77.5},{"$f":"VLOOKUP(D313, data!$G$5:$H$6326,2, FALSE)","v":76},null,0.83870967741935487,0.70343392299687835,74,68,0,0,null,76.254603205623013,1.2453967943769868,1.5510131754444747]
[null,306,2007,"2007-07-05",{"$f":"VLOOKUP(D314, data!$D$5:$E$6326,2, FALSE)","v":74},{"$f":"VLOOKUP(D314, data!$G$5:$H$6326,2, FALSE)","v":80},null,0.87096774193548387,0.75858480749219559,68,72,0,0,null,70.770205751633654,3.2297942483663462,10.431570886780332]
[null,307,2007,"2007-07-04",{"$f":"VLOOKUP(D315, data!$D$5:$E$6326,2, FALSE)","v":68},{"$f":"VLOOKUP(D315, data!$G$5:$H$6326,2, FALSE)","v":76.5},null,0.90322580645161288,0.81581685744016641,72,68,0,0,null,74.563273253755028,-6.5632732537550282,43.076555803456117]
[null,308,2007,"2007-07-03",{"$f":"VLOOKUP(D316, data!$D$5:$E$6326,2, FALSE)","v":72},{"$f":"VLOOKUP(D316, data!$G$5:$H$6326,2, FALSE)","v":71.5},null,0.93548387096774188,0.8751300728407907,68,69.5,0,0,null,71.062046715215345,0.93795328478465478,0.87975636443832372]
[null,309,2007,"2007-07-02",{"$f":"VLOOKUP(D317, data!$D$5:$E$6326,2, FALSE)","v":68},{"$f":"VLOOKUP(D317, data!$G$5:$H$6326,2, FALSE)","v":66},null,0.967741935483871,0.93652445369406878,69.5,0,0,1,null,71.247088345510434,-3.2470883455104342,10.543582723549688]
[null,310,2007,"2007-07-01",{"$f":"VLOOKUP(D318, data!$D$5:$E$6326,2, FALSE)","v":69.5},{"$f":"VLOOKUP(D318, data!$G$5:$H$6326,2, FALSE)","v":64.5},null,1,1,0,0,1,0,null,76.529411764699944,-7.0294117646999439,49.412629757701978]
[null,311,2006,{"$f":"DATE(C319, 7, 31)","v":"2006-07-31"},{"$f":"VLOOKUP(D319, data!$D$5:$E$6326,2, FALSE)","v":83},{"$f":"VLOOKUP(D319, data!$G$5:$H$6326,2, FALSE)","v":87.5},null,{"$f":"H288","v":3.2258064516129031E-2},{"$f":"I288","v":1.0405827263267429E-3},{"$f":"E320","v":86},{"$f":"E321","v":82.5},0,0,null,83.778261906479457,-0.77826190647945737,0.60569159507703962]
[null,312,{"$f":"C319","v":2006},{"$f":"D319-1","v":"2006-07-30"},{"$f":"VLOOKUP(D320, data!$D$5:$E$6326,2, FALSE)","v":86},{"$f":"VLOOKUP(D320, data!$G$5:$H$6326,2, FALSE)","v":83.5},null,{"$f":"H289","v":6.4516129032258063E-2},4.1623309053069714E-3,{"$f":"E321","v":82.5},{"$f":"E322","v":84},0,0,null,80.757966779885422,5.2420332201145783,27.478912280784815]
[null,313,2006,"2006-07-29",{"$f":"VLOOKUP(D321, data!$D$5:$E$6326,2, FALSE)","v":82.5},{"$f":"VLOOKUP(D321, data!$G$5:$H$6326,2, FALSE)","v":84},null,9.6774193548387094E-2,9.3652445369406864E-3,84,84,0,0,null,82.006279554702289,0.49372044529771131,0.24375987810497035]
[null,314,2006,"2006-07-28",{"$f":"VLOOKUP(D322, data!$D$5:$E$6326,2, FALSE)","v":84},{"$f":"VLOOKUP(D322, data!$G$5:$H$6326,2, FALSE)","v":80.5},null,0.12903225806451613,1.6649323621227886E-2,84,79,0,0,null,82.774161866059089,1.2258381339409112,1.5026791306237355]
[null,315,2006,"2006-07-27",{"$f":"VLOOKUP(D323, data!$D$5:$E$6326,2, FALSE)","v":84},{"$f":"VLOOKUP(D323, data!$G$5:$H$6326,2, FALSE)","v":78.5},null,0.16129032258064516,2.6014568158168574E-2,79,77,0,0,null,79.046581848341745,4.9534181516582549,24.536351385177483]
[null,316,2006,"2006-07-26",{"$f":"VLOOKUP(D324, data!$D$5:$E$6326,2, FALSE)","v":79},{"$f":"VLOOKUP(D324, data!$G$5:$H$6326,2, FALSE)","v":79},null,0.19354838709677419,3.7460978147762745E-2,77,75.5,0,0,null,77.672559419255194,1.3274405807448062,1.7620984954081083]
[null,317,2006,"2006-07-25",{"$f":"VLOOKUP(D325, data!$D$5:$E$6326,2, FALSE)","v":77},{"$f":"VLOOKUP(D325, data!$G$5:$H$6326,2, FALSE)","v":81.5},null,0.22580645161290322,5.0988553590010401E-2,75.5,75,0,0,null,76.553256718157201,0.44674328184279943,0.19957955987167492]
[null,318,2006,"2006-07-24",{"$f":"VLOOKUP(D326, data!$D$5:$E$6326,2, FALSE)","v":75.5},{"$f":"VLOOKUP(D326, data!$G$5:$H$6326,2, FALSE)","v":77},null,0.25806451612903225,6.6597294484911543E-2,75,78,0,0,null,75.724973777743514,-0.22497377774351435,5.0613200672188191E-2]
[null,319,2006,"2006-07-23",{"$f":"VLOOKUP(D327, data!$D$5:$E$6326,2, FALSE)","v":75},{"$f":"VLOOKUP(D327, data!$G$5:$H$6326,2, FALSE)","v":71},null,0.29032258064516131,8.4287200832466186E-2,78,81.5,0,0,null,77.655267246572407,-2.6552672465724072,7.0504441507202129]
[null,320,2006,"2006-07-22",{"$f":"VLOOKUP(D328, data!$D$5:$E$6326,2, FALSE)","v":78},{"$f":"VLOOKUP(D328, data!$G$5:$H$6326,2, FALSE)","v":72.5},null,0.32258064516129031,0.1040582726326743,81.5,78,0,0,null,81.020180564721343,-3.0201805647213433,9.1214906435205325]
[null,321,2006,"2006-07-21",{"$f":"VLOOKUP(D329, data!$D$5:$E$6326,2, FALSE)","v":81.5},{"$f":"VLOOKUP(D329, data!$G$5:$H$6326,2, FALSE)","v":70.5},null,0.35483870967741937,0.12591050988553593,78,80.5,0,0,null,77.827093725849593,3.6729062741504066,13.490240498693423]
[null,322,2006,"2006-07-20",{"$f":"VLOOKUP(D330, data!$D$5:$E$6326,2, FALSE)","v":78},{"$f":"VLOOKUP(D330, data!$G$5:$H$6326,2, FALSE)","v":75},null,0.38709677419354838,0.14984391259105098,80.5,85.5,0,0,null,{"$f":"$O$7+SUMPRODUCT(H$7:M$7, H330:M330)","v":79.122702368946619},{"$f":"E330-O330","v":-1.1227023689466193},{"$f":"P330*P330","v":1.260460609238351}]
[null,{"$f":"B330+1","v":323},2006,"2006-07-19",{"$f":"VLOOKUP(D331, data!$D$5:$E$6326,2, FALSE)","v":80.5},{"$f":"VLOOKUP(D331, data!$G$5:$H$6326,2, FALSE)","v":76.5},null,0.41935483870967744,0.17585848074921959,85.5,86.5,0,0,null,83.030543598311596,-2.5305435983115956,6.403650902955798]
[null,324,2006,"2006-07-18",{"$f":"VLOOKUP(D332, data!$D$5:$E$6326,2, FALSE)","v":85.5},{"$f":"VLOOKUP(D332, data!$G$5:$H$6326,2, FALSE)","v":74.5},null,0.45161290322580644,0.2039542143600416,86.5,84.5,0,0,null,84.137885230824594,1.3621147691754061,1.8553566444057699]
[null,325,2006,"2006-07-17",{"$f":"VLOOKUP(D333, data!$D$5:$E$6326,2, FALSE)","v":86.5},{"$f":"VLOOKUP(D333, data!$G$5:$H$6326,2, FALSE)","v":83.5},null,0.4838709677419355,0.2341311134235172,84.5,76,0,0,null,83.770971210791785,2.7290287892082148,7.4475981323272551]
[null,326,2006,"2006-07-16",{"$f":"VLOOKUP(D334, data!$D$5:$E$6326,2, FALSE)","v":84.5},{"$f":"VLOOKUP(D334, data!$G$5:$H$6326,2, FALSE)","v":84},null,0.5161290322580645,0.26638917793964617,76,78,0,0,null,76.587382036101189,7.9126179638988106,62.609523042614157]
[null,327,2006,"2006-07-15",{"$f":"VLOOKUP(D335, data!$D$5:$E$6326,2, FALSE)","v":76},{"$f":"VLOOKUP(D335, data!$G$5:$H$6326,2, FALSE)","v":85.5},null,0.54838709677419351,0.3007284079084287,78,78,0,0,null,78.201351547134522,-2.2013515471345215,4.8459486340715516]
[null,328,2006,"2006-07-14",{"$f":"VLOOKUP(D336, data!$D$5:$E$6326,2, FALSE)","v":78},{"$f":"VLOOKUP(D336, data!$G$5:$H$6326,2, FALSE)","v":80.5},null,{"$f":"H305","v":0.58064516129032262},0.33714880332986474,78,79.5,0,0,null,77.971202925514177,2.8797074485822804E-2,8.2927149894202671E-4]
[null,329,2006,"2006-07-13",{"$f":"VLOOKUP(D337, data!$D$5:$E$6326,2, FALSE)","v":78},{"$f":"VLOOKUP(D337, data!$G$5:$H$6326,2, FALSE)","v":76.5},null,0.61290322580645162,0.3756503642039542,79.5,82.5,0,0,null,78.732067915522791,-0.73206791552279071,0.5359234329378838]
[null,330,2006,"2006-07-12",{"$f":"VLOOKUP(D338, data!$D$5:$E$6326,2, FALSE)","v":79.5},{"$f":"VLOOKUP(D338, data!$G$5:$H$6326,2, FALSE)","v":74},null,0.64516129032258063,0.41623309053069718,82.5,76.5,0,0,null,82.032565426407885,-2.532565426407885,6.4138876390365525]
[null,331,2006,"2006-07-11",{"$f":"VLOOKUP(D339, data!$D$5:$E$6326,2, FALSE)","v":82.5},{"$f":"VLOOKUP(D339, data!$G$5:$H$6326,2, FALSE)","v":72},null,0.67741935483870963,0.45889698231009357,76.5,75.5,0,0,null,77.30247501299155,5.1975249870084497,27.014265990577186]
[null,332,2006,"2006-07-10",{"$f":"VLOOKUP(D340, data!$D$5:$E$6326,2, FALSE)","v":76.5},{"$f":"VLOOKUP(D340, data!$G$5:$H$6326,2, FALSE)","v":69},null,0.70967741935483875,0.5036420395421437,75.5,75.5,0,0,null,76.47227371307001,2.7726286929990351E-2,7.6874698692415378E-4]
[null,333,2006,"2006-07-09",{"$f":"VLOOKUP(D341, data!$D$5:$E$6326,2, FALSE)","v":75.5},{"$f":"VLOOKUP(D341, data!$G$5:$H$6326,2, FALSE)","v":79.5},null,0.74193548387096775,0.55046826222684708,75.5,73.5,0,0,null,76.744273507248124,-1.2442735072481241,1.5482165608395477]
[null,334,2006,"2006-07-08",{"$f":"VLOOKUP(D342, data!$D$5:$E$6326,2, FALSE)","v":75.5},{"$f":"VLOOKUP(D342, data!$G$5:$H$6326,2, FALSE)","v":73},null,0.77419354838709675,0.59937565036420393,73.5,71.5,0,0,null,75.393386441522239,0.10661355847776122,1.136645085129101E-2]
[null,335,2006,"2006-07-07",{"$f":"VLOOKUP(D343, data!$D$5:$E$6326,2, FALSE)","v":73.5},{"$f":"VLOOKUP(D343, data!$G$5:$H$6326,2, FALSE)","v":68},null,0.80645161290322576,0.65036420395421424,71.5,74.5,0,0,null,73.302250222507354,0.19774977749264622,3.9104974498391086E-2]
[null,336,2006,"2006-07-06",{"$f":"VLOOKUP(D344, data!$D$5:$E$6326,2, FALSE)","v":71.5},{"$f":"VLOOKUP(D344, data!$G$5:$H$6326,2, FALSE)","v":66.5},null,0.83870967741935487,0.70343392299687835,74.5,82.5,0,0,null,74.521053056321549,-3.0210530563215485,9.1267615691097692]
[null,337,2006,"2006-07-05",{"$f":"VLOOKUP(D345, data!$D$5:$E$6326,2, FALSE)","v":74.5},{"$f":"VLOOKUP(D345, data!$G$5:$H$6326,2, FALSE)","v":68.5},null,0.87096774193548387,0.75858480749219559,82.5,81.5,0,0,null,81.114620155294872,-6.6146201552948725,43.753199798833165]
[null,338,2006,"2006-07-04",{"$f":"VLOOKUP(D346, data!$D$5:$E$6326,2, FALSE)","v":82.5},{"$f":"VLOOKUP(D346, data!$G$5:$H$6326,2, FALSE)","v":70},null,0.90322580645161288,0.81581685744016641,81.5,81.5,0,0,null,80.267549390632482,2.2324506093675183,4.983835723265404]
[null,339,2006,"2006-07-03",{"$f":"VLOOKUP(D347, data!$D$5:$E$6326,2, FALSE)","v":81.5},{"$f":"VLOOKUP(D347, data!$G$5:$H$6326,2, FALSE)","v":75},null,0.93548387096774188,0.8751300728407907,81.5,74.5,0,0,null,81.260117295901907,0.23988270409809331,5.7543711725413393E-2]
[null,340,2006,"2006-07-02",{"$f":"VLOOKUP(D348, data!$D$5:$E$6326,2, FALSE)","v":81.5},{"$f":"VLOOKUP(D348, data!$G$5:$H$6326,2, FALSE)","v":76.5},null,0.967741935483871,0.93652445369406878,74.5,0,0,1,null,75.297276551628471,6.202723448371529,38.473778176977994]
[null,341,2006,"2006-07-01",{"$f":"VLOOKUP(D349, data!$D$5:$E$6326,2, FALSE)","v":74.5},{"$f":"VLOOKUP(D349, data!$G$5:$H$6326,2, FALSE)","v":77.5},null,1,1,0,0,1,0,null,76.529411764699944,-2.0294117646999439,4.1185121107025404]
[null,342,{"$f":"C319-1","v":2005},{"$f":"DATE(C350, 7, 31)","v":"2005-07-31"},{"$f":"VLOOKUP(D350, data!$D$5:$E$6326,2, FALSE)","v":75},{"$f":"VLOOKUP(D350, data!$G$5:$H$6326,2, FALSE)","v":79},null,{"$f":"H319","v":3.2258064516129031E-2},{"$f":"I319","v":1.0405827263267429E-3},{"$f":"E351","v":79},{"$f":"E352","v":77.5},0,0,null,78.845435993746349,-3.8454359937463494,14.787377981999974]
[null,343,2005,{"$f":"D350-1","v":"2005-07-30"},{"$f":"VLOOKUP(D351, data!$D$5:$E$6326,2, FALSE)","v":79},{"$f":"VLOOKUP(D351, data!$G$5:$H$6326,2, FALSE)","v":72.5},null,{"$f":"H320","v":6.4516129032258063E-2},4.1623309053069714E-3,{"$f":"E352","v":77.5},{"$f":"E353","v":75.5},0,0,null,77.961422452682058,1.0385775473179422,1.0786433217929523]
[null,344,2005,"2005-07-29",{"$f":"VLOOKUP(D352, data!$D$5:$E$6326,2, FALSE)","v":77.5},{"$f":"VLOOKUP(D352, data!$G$5:$H$6326,2, FALSE)","v":72},null,9.6774193548387094E-2,9.3652445369406864E-3,75.5,87.5,0,0,null,74.60475330121912,2.8952466987808805,8.3824534468015859]
[null,345,2005,"2005-07-28",{"$f":"VLOOKUP(D353, data!$D$5:$E$6326,2, FALSE)","v":75.5},{"$f":"VLOOKUP(D353, data!$G$5:$H$6326,2, FALSE)","v":66},null,0.12903225806451613,1.6649323621227886E-2,87.5,87,0,0,null,84.429393489010266,-8.9293934890102662,79.73406808157894]
[null,346,2005,"2005-07-27",{"$f":"VLOOKUP(D354, data!$D$5:$E$6326,2, FALSE)","v":87.5},{"$f":"VLOOKUP(D354, data!$G$5:$H$6326,2, FALSE)","v":65},null,0.16129032258064516,2.6014568158168574E-2,87,81,0,0,null,84.936932917464887,2.5630670825351132,6.5693128695750564]
[null,347,2005,"2005-07-26",{"$f":"VLOOKUP(D355, data!$D$5:$E$6326,2, FALSE)","v":87},{"$f":"VLOOKUP(D355, data!$G$5:$H$6326,2, FALSE)","v":75},null,0.19354838709677419,3.7460978147762745E-2,81,79,0,0,null,80.396503681067102,6.6034963189328977,43.606163634160332]
[null,348,2005,"2005-07-25",{"$f":"VLOOKUP(D356, data!$D$5:$E$6326,2, FALSE)","v":81},{"$f":"VLOOKUP(D356, data!$G$5:$H$6326,2, FALSE)","v":80.5},null,0.22580645161290322,5.0988553590010401E-2,79,81.5,0,0,null,78.429719613858026,2.5702803861419738,6.6063412633861338]
[null,349,2005,"2005-07-24",{"$f":"VLOOKUP(D357, data!$D$5:$E$6326,2, FALSE)","v":79},{"$f":"VLOOKUP(D357, data!$G$5:$H$6326,2, FALSE)","v":90},null,0.25806451612903225,6.6597294484911543E-2,81.5,85.5,0,0,null,79.884062081948727,-0.88406208194872704,0.78156576473951778]
[null,350,2005,"2005-07-23",{"$f":"VLOOKUP(D358, data!$D$5:$E$6326,2, FALSE)","v":81.5},{"$f":"VLOOKUP(D358, data!$G$5:$H$6326,2, FALSE)","v":73.5},null,0.29032258064516131,8.4287200832466186E-2,85.5,83.5,0,0,null,83.435574525416612,-1.9355745254166123,3.7464487434417442]
[null,351,2005,"2005-07-22",{"$f":"VLOOKUP(D359, data!$D$5:$E$6326,2, FALSE)","v":85.5},{"$f":"VLOOKUP(D359, data!$G$5:$H$6326,2, FALSE)","v":75},null,0.32258064516129031,0.1040582726326743,83.5,85,0,0,null,81.607843241003536,3.8921567589964639,15.148884236601857]
[null,352,2005,"2005-07-21",{"$f":"VLOOKUP(D360, data!$D$5:$E$6326,2, FALSE)","v":83.5},{"$f":"VLOOKUP(D360, data!$G$5:$H$6326,2, FALSE)","v":79},null,0.35483870967741937,0.12591050988553593,85,85.5,0,0,null,82.759919638582687,0.74008036141731282,0.54771894135558041]
[null,353,2005,"2005-07-20",{"$f":"VLOOKUP(D361, data!$D$5:$E$6326,2, FALSE)","v":85},{"$f":"VLOOKUP(D361, data!$G$5:$H$6326,2, FALSE)","v":77.5},null,0.38709677419354838,0.14984391259105098,85.5,83,0,0,null,83.541609362980751,1.4583906370192494,2.1269032501454119]
[null,354,2005,"2005-07-19",{"$f":"VLOOKUP(D362, data!$D$5:$E$6326,2, FALSE)","v":85.5},{"$f":"VLOOKUP(D362, data!$G$5:$H$6326,2, FALSE)","v":79},null,0.41935483870967744,0.17585848074921959,83,77.5,0,0,null,82.332837131750466,3.1671628682495339,10.030920634018614]
[null,355,2005,"2005-07-18",{"$f":"VLOOKUP(D363, data!$D$5:$E$6326,2, FALSE)","v":83},{"$f":"VLOOKUP(D363, data!$G$5:$H$6326,2, FALSE)","v":83},null,0.45161290322580644,0.2039542143600416,77.5,78,0,0,null,77.806215308393945,5.193784691606055,26.975399422761406]
[null,356,2005,"2005-07-17",{"$f":"VLOOKUP(D364, data!$D$5:$E$6326,2, FALSE)","v":77.5},{"$f":"VLOOKUP(D364, data!$G$5:$H$6326,2, FALSE)","v":83.5},null,0.4838709677419355,0.2341311134235172,78,79.5,0,0,null,77.989520239755819,-0.48952023975581938,0.23963006513059487]
[null,357,2005,"2005-07-16",{"$f":"VLOOKUP(D365, data!$D$5:$E$6326,2, FALSE)","v":78},{"$f":"VLOOKUP(D365, data!$G$5:$H$6326,2, FALSE)","v":80.5},null,0.5161290322580645,0.26638917793964617,79.5,78.5,0,0,null,79.348770022800593,-1.3487700228005934,1.8191805744055134]
[null,358,2005,"2005-07-15",{"$f":"VLOOKUP(D366, data!$D$5:$E$6326,2, FALSE)","v":79.5},{"$f":"VLOOKUP(D366, data!$G$5:$H$6326,2, FALSE)","v":78.5},null,0.54838709677419351,0.3007284079084287,78.5,73.5,0,0,null,79.270064185995267,0.22993581400473317,5.2870478562019249E-2]
[null,359,2005,"2005-07-14",{"$f":"VLOOKUP(D367, data!$D$5:$E$6326,2, FALSE)","v":78.5},{"$f":"VLOOKUP(D367, data!$G$5:$H$6326,2, FALSE)","v":79},null,{"$f":"H336","v":0.58064516129032262},0.33714880332986474,73.5,78.5,0,0,null,74.473521055174359,4.0264789448256408,16.212532693124206]
[null,360,2005,"2005-07-13",{"$f":"VLOOKUP(D368, data!$D$5:$E$6326,2, FALSE)","v":73.5},{"$f":"VLOOKUP(D368, data!$G$5:$H$6326,2, FALSE)","v":79.5},null,0.61290322580645162,0.3756503642039542,78.5,80,0,0,null,78.290749062215241,-4.7907490622152409,22.951276577116211]
[null,361,2005,"2005-07-12",{"$f":"VLOOKUP(D369, data!$D$5:$E$6326,2, FALSE)","v":78.5},{"$f":"VLOOKUP(D369, data!$G$5:$H$6326,2, FALSE)","v":78.5},null,0.64516129032258063,0.41623309053069718,80,79.5,0,0,null,79.56500877784957,-1.0650087778495703,1.1342436968966354]
[null,362,2005,"2005-07-11",{"$f":"VLOOKUP(D370, data!$D$5:$E$6326,2, FALSE)","v":80},{"$f":"VLOOKUP(D370, data!$G$5:$H$6326,2, FALSE)","v":76},null,0.67741935483870963,0.45889698231009357,79.5,72,0,0,null,80.248794239744882,-0.24879423974488191,6.1898573730233775E-2]
[null,363,2005,"2005-07-10",{"$f":"VLOOKUP(D371, data!$D$5:$E$6326,2, FALSE)","v":79.5},{"$f":"VLOOKUP(D371, data!$G$5:$H$6326,2, FALSE)","v":75.5},null,0.70967741935483875,0.5036420395421437,72,65,0,0,null,75.185760878034912,4.3142391219650875,18.61265920149409]
[null,364,2005,"2005-07-09",{"$f":"VLOOKUP(D372, data!$D$5:$E$6326,2, FALSE)","v":72},{"$f":"VLOOKUP(D372, data!$G$5:$H$6326,2, FALSE)","v":72},null,0.74193548387096775,0.55046826222684708,65,70.5,0,0,null,68.681340819899532,3.3186591801004681,11.013498753665111]
[null,365,2005,"2005-07-08",{"$f":"VLOOKUP(D373, data!$D$5:$E$6326,2, FALSE)","v":65},{"$f":"VLOOKUP(D373, data!$G$5:$H$6326,2, FALSE)","v":72.5},null,0.77419354838709675,0.59937565036420393,70.5,77.5,0,0,null,72.078348426852813,-7.0783484268528127,50.10301645192969]
[null,366,2005,"2005-07-07",{"$f":"VLOOKUP(D374, data!$D$5:$E$6326,2, FALSE)","v":70.5},{"$f":"VLOOKUP(D374, data!$G$5:$H$6326,2, FALSE)","v":72.5},null,0.80645161290322576,0.65036420395421424,77.5,76,0,0,null,77.941244797099358,-7.4412447970993583,55.372124130358273]
[null,367,2005,"2005-07-06",{"$f":"VLOOKUP(D375, data!$D$5:$E$6326,2, FALSE)","v":77.5},{"$f":"VLOOKUP(D375, data!$G$5:$H$6326,2, FALSE)","v":72},null,0.83870967741935487,0.70343392299687835,76,71.5,0,0,null,77.358472184987718,0.14152781501228162,2.0030122422150607E-2]
[null,368,2005,"2005-07-05",{"$f":"VLOOKUP(D376, data!$D$5:$E$6326,2, FALSE)","v":76},{"$f":"VLOOKUP(D376, data!$G$5:$H$6326,2, FALSE)","v":75},null,0.87096774193548387,0.75858480749219559,71.5,70.5,0,0,null,73.826568768665936,2.1734312313340638,4.7238033173383052]
[null,369,2005,"2005-07-04",{"$f":"VLOOKUP(D377, data!$D$5:$E$6326,2, FALSE)","v":71.5},{"$f":"VLOOKUP(D377, data!$G$5:$H$6326,2, FALSE)","v":77},null,0.90322580645161288,0.81581685744016641,70.5,76,0,0,null,72.168316670588155,-0.66831667058815469,0.44664717218603606]
[null,370,2005,"2005-07-03",{"$f":"VLOOKUP(D378, data!$D$5:$E$6326,2, FALSE)","v":70.5},{"$f":"VLOOKUP(D378, data!$G$5:$H$6326,2, FALSE)","v":70},null,0.93548387096774188,0.8751300728407907,76,77,0,0,null,76.436191481255975,-5.9361914812559746,35.238369302136]
[null,371,2005,"2005-07-02",{"$f":"VLOOKUP(D379, data!$D$5:$E$6326,2, FALSE)","v":76},{"$f":"VLOOKUP(D379, data!$G$5:$H$6326,2, FALSE)","v":64.5},null,0.967741935483871,0.93652445369406878,77,0,0,1,null,77.322370654687489,-1.3223706546874894,1.7486641483786192]
[null,372,2005,"2005-07-01",{"$f":"VLOOKUP(D380, data!$D$5:$E$6326,2, FALSE)","v":77},{"$f":"VLOOKUP(D380, data!$G$5:$H$6326,2, FALSE)","v":69},null,1,1,0,0,1,0,null,76.529411764699944,0.47058823530005611,0.22145328720282098]
[null,373,2004,{"$f":"DATE(C381, 7, 31)","v":"2004-07-31"},{"$f":"VLOOKUP(D381, data!$D$5:$E$6326,2, FALSE)","v":81.5},{"$f":"VLOOKUP(D381, data!$G$5:$H$6326,2, FALSE)","v":73.5},null,{"$f":"H350","v":3.2258064516129031E-2},{"$f":"I350","v":1.0405827263267429E-3},{"$f":"E382","v":78},{"$f":"E383","v":75},0,0,null,78.404117140438814,3.0958828595611863,9.5844906801247483]
[null,374,{"$f":"C351-1","v":2004},{"$f":"D381-1","v":"2004-07-30"},{"$f":"VLOOKUP(D382, data!$D$5:$E$6326,2, FALSE)","v":78},{"$f":"VLOOKUP(D382, data!$G$5:$H$6326,2, FALSE)","v":67.5},null,{"$f":"H351","v":6.4516129032258063E-2},4.1623309053069714E-3,{"$f":"E383","v":75},{"$f":"E384","v":71.5},0,0,null,76.526278410288768,1.4737215897112321,2.171855323981001]
[null,375,2004,"2004-07-29",{"$f":"VLOOKUP(D383, data!$D$5:$E$6326,2, FALSE)","v":75},{"$f":"VLOOKUP(D383, data!$G$5:$H$6326,2, FALSE)","v":72},null,9.6774193548387094E-2,9.3652445369406864E-3,71.5,68.5,0,0,null,74.166865524486894,0.8331344755131056,0.69411305428849757]
[null,376,2004,"2004-07-28",{"$f":"VLOOKUP(D384, data!$D$5:$E$6326,2, FALSE)","v":71.5},{"$f":"VLOOKUP(D384, data!$G$5:$H$6326,2, FALSE)","v":69.5},null,0.12903225806451613,1.6649323621227886E-2,68.5,73,0,0,null,71.103503518091742,0.39649648190825815,0.15720946016562568]
[null,377,2004,"2004-07-27",{"$f":"VLOOKUP(D385, data!$D$5:$E$6326,2, FALSE)","v":68.5},{"$f":"VLOOKUP(D385, data!$G$5:$H$6326,2, FALSE)","v":70},null,0.16129032258064516,2.6014568158168574E-2,73,72,0,0,null,74.923793576832253,-6.4237935768322529,41.265123917751311]
[null,378,2004,"2004-07-26",{"$f":"VLOOKUP(D386, data!$D$5:$E$6326,2, FALSE)","v":73},{"$f":"VLOOKUP(D386, data!$G$5:$H$6326,2, FALSE)","v":66.5},null,0.19354838709677419,3.7460978147762745E-2,72,71.5,0,0,null,74.212321273802871,-1.2123212738028712,1.4697228709150163]
[null,379,2004,"2004-07-25",{"$f":"VLOOKUP(D387, data!$D$5:$E$6326,2, FALSE)","v":72},{"$f":"VLOOKUP(D387, data!$G$5:$H$6326,2, FALSE)","v":66.5},null,0.22580645161290322,5.0988553590010401E-2,71.5,75.5,0,0,null,73.239362395679564,-1.2393623956795636,1.5360191478245873]
[null,380,2004,"2004-07-24",{"$f":"VLOOKUP(D388, data!$D$5:$E$6326,2, FALSE)","v":71.5},{"$f":"VLOOKUP(D388, data!$G$5:$H$6326,2, FALSE)","v":63},null,0.25806451612903225,6.6597294484911543E-2,75.5,79,0,0,null,75.982505083188883,-4.4825050831888831,20.092851820814175]
[null,381,2004,"2004-07-23",{"$f":"VLOOKUP(D389, data!$D$5:$E$6326,2, FALSE)","v":75.5},{"$f":"VLOOKUP(D389, data!$G$5:$H$6326,2, FALSE)","v":64.5},null,0.29032258064516131,8.4287200832466186E-2,79,79.5,0,0,null,78.760279918128887,-3.2602799181288873,10.629425144554505]
[null,382,2004,"2004-07-22",{"$f":"VLOOKUP(D390, data!$D$5:$E$6326,2, FALSE)","v":79},{"$f":"VLOOKUP(D390, data!$G$5:$H$6326,2, FALSE)","v":78.5},null,0.32258064516129031,0.1040582726326743,79.5,77,0,0,null,79.547592797440558,-0.54759279744055789,0.29985787180877588]
[null,383,2004,"2004-07-21",{"$f":"VLOOKUP(D391, data!$D$5:$E$6326,2, FALSE)","v":79.5},{"$f":"VLOOKUP(D391, data!$G$5:$H$6326,2, FALSE)","v":79},null,0.35483870967741937,0.12591050988553593,77,74,0,0,null,77.9757249332078,1.5242750667921996,2.3234144792443647]
[null,384,2004,"2004-07-20",{"$f":"VLOOKUP(D392, data!$D$5:$E$6326,2, FALSE)","v":77},{"$f":"VLOOKUP(D392, data!$G$5:$H$6326,2, FALSE)","v":79.5},null,0.38709677419354838,0.14984391259105098,74,71.5,0,0,null,75.922282913323215,1.0777170866767847,1.1614741189150961]
[null,385,2004,"2004-07-19",{"$f":"VLOOKUP(D393, data!$D$5:$E$6326,2, FALSE)","v":74},{"$f":"VLOOKUP(D393, data!$G$5:$H$6326,2, FALSE)","v":71},null,0.41935483870967744,0.17585848074921959,71.5,76.5,0,0,null,73.16489177284538,0.83510822715462041,0.69740575106133307]
[null,386,2004,"2004-07-18",{"$f":"VLOOKUP(D394, data!$D$5:$E$6326,2, FALSE)","v":71.5},{"$f":"VLOOKUP(D394, data!$G$5:$H$6326,2, FALSE)","v":70.5},null,0.45161290322580644,0.2039542143600416,76.5,72,0,0,null,{"$f":"$O$7+SUMPRODUCT(H$7:M$7, H394:M394)","v":77.881102758168907},{"$f":"E394-O394","v":-6.3811027581689075},{"$f":"P394*P394","v":40.718472410310838}]
[null,{"$f":"B394+1","v":387},2004,"2004-07-17",{"$f":"VLOOKUP(D395, data!$D$5:$E$6326,2, FALSE)","v":76.5},{"$f":"VLOOKUP(D395, data!$G$5:$H$6326,2, FALSE)","v":69.5},null,0.4838709677419355,0.2341311134235172,72,73.5,0,0,null,74.014219483412774,2.4857805165872264,6.1791047766446585]
[null,388,2004,"2004-07-16",{"$f":"VLOOKUP(D396, data!$D$5:$E$6326,2, FALSE)","v":72},{"$f":"VLOOKUP(D396, data!$G$5:$H$6326,2, FALSE)","v":72.5},null,0.5161290322580645,0.26638917793964617,73.5,72,0,0,null,75.447213024040764,-3.4472130240407637,11.883277633116267]
[null,389,2004,"2004-07-15",{"$f":"VLOOKUP(D397, data!$D$5:$E$6326,2, FALSE)","v":73.5},{"$f":"VLOOKUP(D397, data!$G$5:$H$6326,2, FALSE)","v":72},null,0.54838709677419351,0.3007284079084287,72,67,0,0,null,74.963488366623608,-1.4634883666236078,2.1417981992426354]
[null,390,2004,"2004-07-14",{"$f":"VLOOKUP(D398, data!$D$5:$E$6326,2, FALSE)","v":72},{"$f":"VLOOKUP(D398, data!$G$5:$H$6326,2, FALSE)","v":72},null,{"$f":"H367","v":0.58064516129032262},0.33714880332986474,67,70,0,0,null,70.461920266135579,1.5380797338644214,2.3656892677244494]
[null,391,2004,"2004-07-13",{"$f":"VLOOKUP(D399, data!$D$5:$E$6326,2, FALSE)","v":67},{"$f":"VLOOKUP(D399, data!$G$5:$H$6326,2, FALSE)","v":77.5},null,0.61290322580645162,0.3756503642039542,70,76,0,0,null,71.995379172480312,-4.9953791724803125,24.953813076850093]
[null,392,2004,"2004-07-12",{"$f":"VLOOKUP(D400, data!$D$5:$E$6326,2, FALSE)","v":70},{"$f":"VLOOKUP(D400, data!$G$5:$H$6326,2, FALSE)","v":78},null,0.64516129032258063,0.41623309053069718,76,76,0,0,null,76.841064516037648,-6.8410645160376475,46.800163712589409]
[null,393,2004,"2004-07-11",{"$f":"VLOOKUP(D401, data!$D$5:$E$6326,2, FALSE)","v":76},{"$f":"VLOOKUP(D401, data!$G$5:$H$6326,2, FALSE)","v":74},null,0.67741935483870963,0.45889698231009357,76,75,0,0,null,76.971199949962966,-0.97119994996296555,0.94322934280806681]
[null,394,2004,"2004-07-10",{"$f":"VLOOKUP(D402, data!$D$5:$E$6326,2, FALSE)","v":76},{"$f":"VLOOKUP(D402, data!$G$5:$H$6326,2, FALSE)","v":72.5},null,0.70967741935483875,0.5036420395421437,75,82,0,0,null,75.108586043876386,0.89141395612361407,0.79461884117195258]
[null,395,2004,"2004-07-09",{"$f":"VLOOKUP(D403, data!$D$5:$E$6326,2, FALSE)","v":75},{"$f":"VLOOKUP(D403, data!$G$5:$H$6326,2, FALSE)","v":68},null,0.74193548387096775,0.55046826222684708,82,74.5,0,0,null,81.86203066003516,-6.8620306600351597,47.087464779262568]
[null,396,2004,"2004-07-08",{"$f":"VLOOKUP(D404, data!$D$5:$E$6326,2, FALSE)","v":82},{"$f":"VLOOKUP(D404, data!$G$5:$H$6326,2, FALSE)","v":65},null,0.77419354838709675,0.59937565036420393,74.5,76.5,0,0,null,75.46598650691368,6.5340134930863201,42.693332327834092]
[null,397,2004,"2004-07-07",{"$f":"VLOOKUP(D405, data!$D$5:$E$6326,2, FALSE)","v":74.5},{"$f":"VLOOKUP(D405, data!$G$5:$H$6326,2, FALSE)","v":63.5},null,0.80645161290322576,0.65036420395421424,76.5,81,0,0,null,76.393769580043582,-1.8937695800435819,3.5863632222984445]
[null,398,2004,"2004-07-06",{"$f":"VLOOKUP(D406, data!$D$5:$E$6326,2, FALSE)","v":76.5},{"$f":"VLOOKUP(D406, data!$G$5:$H$6326,2, FALSE)","v":73},null,0.83870967741935487,0.70343392299687835,81,75,0,0,null,80.892454088023243,-4.3924540880232428,19.293652915392098]
[null,399,2004,"2004-07-05",{"$f":"VLOOKUP(D407, data!$D$5:$E$6326,2, FALSE)","v":81},{"$f":"VLOOKUP(D407, data!$G$5:$H$6326,2, FALSE)","v":68},null,0.87096774193548387,0.75858480749219559,75,76.5,0,0,null,75.776775421949964,5.2232245780500364,27.282074992745979]
[null,400,2004,"2004-07-04",{"$f":"VLOOKUP(D408, data!$D$5:$E$6326,2, FALSE)","v":75},{"$f":"VLOOKUP(D408, data!$G$5:$H$6326,2, FALSE)","v":76},null,0.90322580645161288,0.81581685744016641,76.5,80,0,0,null,76.438592457264079,-1.4385924572640789,2.0695482580971007]
[null,401,2004,"2004-07-03",{"$f":"VLOOKUP(D409, data!$D$5:$E$6326,2, FALSE)","v":76.5},{"$f":"VLOOKUP(D409, data!$G$5:$H$6326,2, FALSE)","v":73},null,0.93548387096774188,0.8751300728407907,80,74,0,0,null,80.118804591649706,-3.618804591649706,13.095746672544996]
[null,402,2004,"2004-07-02",{"$f":"VLOOKUP(D410, data!$D$5:$E$6326,2, FALSE)","v":80},{"$f":"VLOOKUP(D410, data!$G$5:$H$6326,2, FALSE)","v":70.5},null,0.967741935483871,0.93652445369406878,74,0,0,1,null,74.89225773101667,5.1077422689833298,26.089031086358975]
[null,403,2004,"2004-07-01",{"$f":"VLOOKUP(D411, data!$D$5:$E$6326,2, FALSE)","v":74},{"$f":"VLOOKUP(D411, data!$G$5:$H$6326,2, FALSE)","v":71},null,1,1,0,0,1,0,null,76.529411764699944,-2.5294117646999439,6.3979238754024843]
[null,404,2003,{"$f":"DATE(C412, 7, 31)","v":"2003-07-31"},{"$f":"VLOOKUP(D412, data!$D$5:$E$6326,2, FALSE)","v":74.5},{"$f":"VLOOKUP(D412, data!$G$5:$H$6326,2, FALSE)","v":74.5},null,{"$f":"H381","v":3.2258064516129031E-2},{"$f":"I381","v":1.0405827263267429E-3},{"$f":"E413","v":73.5},{"$f":"E414","v":74},0,0,null,74.906435270099024,-0.40643527009902414,0.1651896287804667]
[null,405,2003,{"$f":"D412-1","v":"2003-07-30"},{"$f":"VLOOKUP(D413, data!$D$5:$E$6326,2, FALSE)","v":73.5},{"$f":"VLOOKUP(D413, data!$G$5:$H$6326,2, FALSE)","v":68.5},null,{"$f":"H382","v":6.4516129032258063E-2},4.1623309053069714E-3,{"$f":"E414","v":74},{"$f":"E415","v":78.5},0,0,null,74.683828162900141,-1.1838281629001415,1.4014491192755238]
[null,406,{"$f":"C383-1","v":2003},"2003-07-29",{"$f":"VLOOKUP(D414, data!$D$5:$E$6326,2, FALSE)","v":74},{"$f":"VLOOKUP(D414, data!$G$5:$H$6326,2, FALSE)","v":68},null,9.6774193548387094E-2,9.3652445369406864E-3,78.5,82.5,0,0,null,77.772303800722085,-3.772303800722085,14.230275964942289]
[null,407,2003,"2003-07-28",{"$f":"VLOOKUP(D415, data!$D$5:$E$6326,2, FALSE)","v":78.5},{"$f":"VLOOKUP(D415, data!$G$5:$H$6326,2, FALSE)","v":64.5},null,0.12903225806451613,1.6649323621227886E-2,82.5,78,0,0,null,81.706592919390104,-3.2065929193901042,10.282238150682751]
[null,408,2003,"2003-07-27",{"$f":"VLOOKUP(D416, data!$D$5:$E$6326,2, FALSE)","v":82.5},{"$f":"VLOOKUP(D416, data!$G$5:$H$6326,2, FALSE)","v":74},null,0.16129032258064516,2.6014568158168574E-2,78,77.5,0,0,null,78.162800449534913,4.3371995504650869,18.811299940554552]
[null,409,2003,"2003-07-26",{"$f":"VLOOKUP(D417, data!$D$5:$E$6326,2, FALSE)","v":78},{"$f":"VLOOKUP(D417, data!$G$5:$H$6326,2, FALSE)","v":77},null,0.19354838709677419,3.7460978147762745E-2,77.5,77.5,0,0,null,77.78260320953413,0.21739679046586957,4.7261364504861202E-2]
[null,410,2003,"2003-07-25",{"$f":"VLOOKUP(D418, data!$D$5:$E$6326,2, FALSE)","v":77.5},{"$f":"VLOOKUP(D418, data!$G$5:$H$6326,2, FALSE)","v":71},null,0.22580645161290322,5.0988553590010401E-2,77.5,76,0,0,null,78.025844485438,-0.52584448543800022,0.27651242286555522]
[null,411,2003,"2003-07-24",{"$f":"VLOOKUP(D419, data!$D$5:$E$6326,2, FALSE)","v":77.5},{"$f":"VLOOKUP(D419, data!$G$5:$H$6326,2, FALSE)","v":67},null,0.25806451612903225,6.6597294484911543E-2,76,78,0,0,null,76.535011418967116,0.96498858103288399,0.93120296152385895]
[null,412,2003,"2003-07-23",{"$f":"VLOOKUP(D420, data!$D$5:$E$6326,2, FALSE)","v":76},{"$f":"VLOOKUP(D420, data!$G$5:$H$6326,2, FALSE)","v":67},null,0.29032258064516131,8.4287200832466186E-2,78,78.5,0,0,null,78.097729792071704,-2.0977297920717035,4.4004702805451927]
[null,413,2003,"2003-07-22",{"$f":"VLOOKUP(D421, data!$D$5:$E$6326,2, FALSE)","v":78},{"$f":"VLOOKUP(D421, data!$G$5:$H$6326,2, FALSE)","v":67.5},null,0.32258064516129031,0.1040582726326743,78.5,74.5,0,0,null,79.106273944133022,-1.1062739441330223,1.2238420394676333]
[null,414,2003,"2003-07-21",{"$f":"VLOOKUP(D422, data!$D$5:$E$6326,2, FALSE)","v":78.5},{"$f":"VLOOKUP(D422, data!$G$5:$H$6326,2, FALSE)","v":74.5},null,0.35483870967741937,0.12591050988553593,74.5,75,0,0,null,75.803143314982336,2.6968566850176643,7.2730359795244652]
[null,415,2003,"2003-07-20",{"$f":"VLOOKUP(D423, data!$D$5:$E$6326,2, FALSE)","v":74.5},{"$f":"VLOOKUP(D423, data!$G$5:$H$6326,2, FALSE)","v":75.5},null,0.38709677419354838,0.14984391259105098,75,75.5,0,0,null,76.142370493881089,-1.6423704938810886,2.6973808391712106]
[null,416,2003,"2003-07-19",{"$f":"VLOOKUP(D424, data!$D$5:$E$6326,2, FALSE)","v":75},{"$f":"VLOOKUP(D424, data!$G$5:$H$6326,2, FALSE)","v":68},null,0.41935483870967744,0.17585848074921959,75.5,77,0,0,null,76.331298580156613,-1.3312985801566128,1.7723559095270134]
[null,417,2003,"2003-07-18",{"$f":"VLOOKUP(D425, data!$D$5:$E$6326,2, FALSE)","v":75.5},{"$f":"VLOOKUP(D425, data!$G$5:$H$6326,2, FALSE)","v":66},null,0.45161290322580644,0.2039542143600416,77,80.5,0,0,null,77.03247769986605,-1.5324776998660496,2.3484879005867381]
[null,418,2003,"2003-07-17",{"$f":"VLOOKUP(D426, data!$D$5:$E$6326,2, FALSE)","v":77},{"$f":"VLOOKUP(D426, data!$G$5:$H$6326,2, FALSE)","v":75},null,0.4838709677419355,0.2341311134235172,80.5,74.5,0,0,null,80.752051918646998,-3.7520519186469983,14.077893600222621]
[null,419,2003,"2003-07-16",{"$f":"VLOOKUP(D427, data!$D$5:$E$6326,2, FALSE)","v":80.5},{"$f":"VLOOKUP(D427, data!$G$5:$H$6326,2, FALSE)","v":71.5},null,0.5161290322580645,0.26638917793964617,74.5,72.5,0,0,null,76.183506907681135,4.3164930923188649,18.632112616036476]
[null,420,2003,"2003-07-15",{"$f":"VLOOKUP(D428, data!$D$5:$E$6326,2, FALSE)","v":74.5},{"$f":"VLOOKUP(D428, data!$G$5:$H$6326,2, FALSE)","v":76.5},null,0.54838709677419351,0.3007284079084287,72.5,76.5,0,0,null,73.967375793154304,0.53262420684569634,0.28368854571800711]
[null,421,2003,"2003-07-14",{"$f":"VLOOKUP(D429, data!$D$5:$E$6326,2, FALSE)","v":72.5},{"$f":"VLOOKUP(D429, data!$G$5:$H$6326,2, FALSE)","v":69.5},null,{"$f":"H398","v":0.58064516129032262},0.33714880332986474,76.5,77,0,0,null,77.124865251594827,-4.6248652515948265,21.38937859540928]
[null,422,2003,"2003-07-13",{"$f":"VLOOKUP(D430, data!$D$5:$E$6326,2, FALSE)","v":76.5},{"$f":"VLOOKUP(D430, data!$G$5:$H$6326,2, FALSE)","v":70},null,0.61290322580645162,0.3756503642039542,77,76,0,0,null,77.665642661045567,-1.1656426610455668,1.35872281324939]
[null,423,2003,"2003-07-12",{"$f":"VLOOKUP(D431, data!$D$5:$E$6326,2, FALSE)","v":77},{"$f":"VLOOKUP(D431, data!$G$5:$H$6326,2, FALSE)","v":71},null,0.64516129032258063,0.41623309053069718,76,68,0,0,null,78.020964637369104,-1.0209646373691044,1.0423687907582269]
[null,424,2003,"2003-07-11",{"$f":"VLOOKUP(D432, data!$D$5:$E$6326,2, FALSE)","v":76},{"$f":"VLOOKUP(D432, data!$G$5:$H$6326,2, FALSE)","v":69},null,0.67741935483870963,0.45889698231009357,68,78,0,0,null,70.048436274674799,5.9515637253252009,35.421110776606781]
[null,425,2003,"2003-07-10",{"$f":"VLOOKUP(D433, data!$D$5:$E$6326,2, FALSE)","v":68},{"$f":"VLOOKUP(D433, data!$G$5:$H$6326,2, FALSE)","v":73},null,0.70967741935483875,0.5036420395421437,78,74.5,0,0,null,78.64485533129546,-10.64485533129546,113.31294502420938]
[null,426,2003,"2003-07-09",{"$f":"VLOOKUP(D434, data!$D$5:$E$6326,2, FALSE)","v":78},{"$f":"VLOOKUP(D434, data!$G$5:$H$6326,2, FALSE)","v":68.5},null,0.74193548387096775,0.55046826222684708,74.5,84,0,0,null,74.385616956776971,3.6143830432230288,13.063764783138163]
[null,427,2003,"2003-07-08",{"$f":"VLOOKUP(D435, data!$D$5:$E$6326,2, FALSE)","v":74.5},{"$f":"VLOOKUP(D435, data!$G$5:$H$6326,2, FALSE)","v":71.5},null,0.77419354838709675,0.59937565036420393,84,83.5,0,0,null,82.128931492372928,-7.6289314923729279,58.20059571531943]
[null,428,2003,"2003-07-07",{"$f":"VLOOKUP(D436, data!$D$5:$E$6326,2, FALSE)","v":84},{"$f":"VLOOKUP(D436, data!$G$5:$H$6326,2, FALSE)","v":78.5},null,0.80645161290322576,0.65036420395421424,83.5,85,0,0,null,81.474083007943122,2.525916992056878,6.380256650761666]
[null,429,2003,"2003-07-06",{"$f":"VLOOKUP(D437, data!$D$5:$E$6326,2, FALSE)","v":83.5},{"$f":"VLOOKUP(D437, data!$G$5:$H$6326,2, FALSE)","v":78},null,0.83870967741935487,0.70343392299687835,85,80.5,0,0,null,83.321423319502301,0.1785766804976987,3.1889630817577168E-2]
[null,430,2003,"2003-07-05",{"$f":"VLOOKUP(D438, data!$D$5:$E$6326,2, FALSE)","v":85},{"$f":"VLOOKUP(D438, data!$G$5:$H$6326,2, FALSE)","v":78},null,0.87096774193548387,0.75858480749219559,80.5,72,0,0,null,80.89567626692876,4.1043237330712401,16.84547330585184]
[null,431,2003,"2003-07-04",{"$f":"VLOOKUP(D439, data!$D$5:$E$6326,2, FALSE)","v":80.5},{"$f":"VLOOKUP(D439, data!$G$5:$H$6326,2, FALSE)","v":83.5},null,0.90322580645161288,0.81581685744016641,72,77,0,0,null,73.235885617257139,7.2641143827428607,52.767357765571695]
[null,432,2003,"2003-07-03",{"$f":"VLOOKUP(D440, data!$D$5:$E$6326,2, FALSE)","v":72},{"$f":"VLOOKUP(D440, data!$G$5:$H$6326,2, FALSE)","v":78.5},null,0.93548387096774188,0.8751300728407907,77,77,0,0,null,77.246229122479576,-5.2462291224795763,27.522920005552827]
[null,433,2003,"2003-07-02",{"$f":"VLOOKUP(D441, data!$D$5:$E$6326,2, FALSE)","v":77},{"$f":"VLOOKUP(D441, data!$G$5:$H$6326,2, FALSE)","v":74.5},null,0.967741935483871,0.93652445369406878,77,0,0,1,null,77.322370654687489,-0.32237065468748938,0.10392283900364052]
[null,434,2003,"2003-07-01",{"$f":"VLOOKUP(D442, data!$D$5:$E$6326,2, FALSE)","v":77},{"$f":"VLOOKUP(D442, data!$G$5:$H$6326,2, FALSE)","v":72.5},null,1,1,0,0,1,0,null,76.529411764699944,0.47058823530005611,0.22145328720282098]
[null,435,2002,{"$f":"DATE(C443, 7, 31)","v":"2002-07-31"},{"$f":"VLOOKUP(D443, data!$D$5:$E$6326,2, FALSE)","v":85.5},{"$f":"VLOOKUP(D443, data!$G$5:$H$6326,2, FALSE)","v":81.5},null,{"$f":"H412","v":3.2258064516129031E-2},{"$f":"I412","v":1.0405827263267429E-3},{"$f":"E444","v":88.5},{"$f":"E445","v":88.5},0,0,null,84.918430918539883,0.58156908146011688,0.33822259651036407]
[null,436,2002,{"$f":"D443-1","v":"2002-07-30"},{"$f":"VLOOKUP(D444, data!$D$5:$E$6326,2, FALSE)","v":88.5},{"$f":"VLOOKUP(D444, data!$G$5:$H$6326,2, FALSE)","v":80},null,{"$f":"H413","v":6.4516129032258063E-2},4.1623309053069714E-3,{"$f":"E445","v":88.5},{"$f":"E446","v":79.5},0,0,null,86.281886445476019,2.2181135545239812,4.9200277407630102]
[null,437,2002,"2002-07-29",{"$f":"VLOOKUP(D445, data!$D$5:$E$6326,2, FALSE)","v":88.5},{"$f":"VLOOKUP(D445, data!$G$5:$H$6326,2, FALSE)","v":77},null,9.6774193548387094E-2,9.3652445369406864E-3,79.5,71,0,0,null,80.27844786635967,8.2215521336403299,67.593919486165859]
[null,438,{"$f":"C415-1","v":2002},"2002-07-28",{"$f":"VLOOKUP(D446, data!$D$5:$E$6326,2, FALSE)","v":79.5},{"$f":"VLOOKUP(D446, data!$G$5:$H$6326,2, FALSE)","v":81},null,0.12903225806451613,1.6649323621227886E-2,71,69,0,0,null,73.718547681816489,5.7814523181835114,33.425190907429496]
[null,439,2002,"2002-07-27",{"$f":"VLOOKUP(D447, data!$D$5:$E$6326,2, FALSE)","v":71},{"$f":"VLOOKUP(D447, data!$G$5:$H$6326,2, FALSE)","v":80},null,0.16129032258064516,2.6014568158168574E-2,69,73,0,0,null,71.536155496771386,-0.53615549677138574,0.28746271671817142]
[null,440,2002,"2002-07-26",{"$f":"VLOOKUP(D448, data!$D$5:$E$6326,2, FALSE)","v":69},{"$f":"VLOOKUP(D448, data!$G$5:$H$6326,2, FALSE)","v":78.5},null,0.19354838709677419,3.7460978147762745E-2,73,74.5,0,0,null,74.579896369527191,-5.5798963695271908,31.135243494662724]
[null,441,2002,"2002-07-25",{"$f":"VLOOKUP(D449, data!$D$5:$E$6326,2, FALSE)","v":73},{"$f":"VLOOKUP(D449, data!$G$5:$H$6326,2, FALSE)","v":72.5},null,0.22580645161290322,5.0988553590010401E-2,74.5,86,0,0,null,74.120856410102846,-1.1208564101028458,1.2563190920686387]
[null,442,2002,"2002-07-24",{"$f":"VLOOKUP(D450, data!$D$5:$E$6326,2, FALSE)","v":74.5},{"$f":"VLOOKUP(D450, data!$G$5:$H$6326,2, FALSE)","v":71},null,0.25806451612903225,6.6597294484911543E-2,86,82,0,0,null,84.045437770537475,-9.5454377705374753,91.115382231203441]
[null,443,2002,"2002-07-23",{"$f":"VLOOKUP(D451, data!$D$5:$E$6326,2, FALSE)","v":86},{"$f":"VLOOKUP(D451, data!$G$5:$H$6326,2, FALSE)","v":69.5},null,0.29032258064516131,8.4287200832466186E-2,82,76,0,0,null,81.706599144882219,4.2934008551177811,18.433290902726092]
[null,444,2002,"2002-07-22",{"$f":"VLOOKUP(D452, data!$D$5:$E$6326,2, FALSE)","v":82},{"$f":"VLOOKUP(D452, data!$G$5:$H$6326,2, FALSE)","v":83},null,0.32258064516129031,0.1040582726326743,76,79.5,0,0,null,76.343742265241843,5.6562577347581566,31.993251562011473]
[null,445,2002,"2002-07-21",{"$f":"VLOOKUP(D453, data!$D$5:$E$6326,2, FALSE)","v":76},{"$f":"VLOOKUP(D453, data!$G$5:$H$6326,2, FALSE)","v":87},null,0.35483870967741937,0.12591050988553593,79.5,80.5,0,0,null,79.04215018768501,-3.0421501876850101,9.2546777644319427]
[null,446,2002,"2002-07-20",{"$f":"VLOOKUP(D454, data!$D$5:$E$6326,2, FALSE)","v":79.5},{"$f":"VLOOKUP(D454, data!$G$5:$H$6326,2, FALSE)","v":76},null,0.38709677419354838,0.14984391259105098,80.5,87.5,0,0,null,78.827727338613755,0.67227266138624486,0.45195053124734463]
[null,447,2002,"2002-07-19",{"$f":"VLOOKUP(D455, data!$D$5:$E$6326,2, FALSE)","v":80.5},{"$f":"VLOOKUP(D455, data!$G$5:$H$6326,2, FALSE)","v":74},null,0.41935483870967744,0.17585848074921959,87.5,84,0,0,null,85.019337668674893,-4.5193376686748934,20.424412963503819]
[null,448,2002,"2002-07-18",{"$f":"VLOOKUP(D456, data!$D$5:$E$6326,2, FALSE)","v":87.5},{"$f":"VLOOKUP(D456, data!$G$5:$H$6326,2, FALSE)","v":82},null,0.45161290322580644,0.2039542143600416,84,83.5,0,0,null,82.260278642932008,5.2397213570679924,27.454679899714442]
[null,449,2002,"2002-07-17",{"$f":"VLOOKUP(D457, data!$D$5:$E$6326,2, FALSE)","v":84},{"$f":"VLOOKUP(D457, data!$G$5:$H$6326,2, FALSE)","v":77.5},null,0.4838709677419355,0.2341311134235172,83.5,81,0,0,null,82.223495993736023,1.776504006263977,3.1559664842719601]
[null,450,2002,"2002-07-16",{"$f":"VLOOKUP(D458, data!$D$5:$E$6326,2, FALSE)","v":83.5},{"$f":"VLOOKUP(D458, data!$G$5:$H$6326,2, FALSE)","v":79},null,0.5161290322580645,0.26638917793964617,81,77,0,0,null,{"$f":"$O$7+SUMPRODUCT(H$7:M$7, H458:M458)","v":80.785057757385644},{"$f":"E458-O458","v":2.7149422426143559},{"$f":"P458*P458","v":7.3709113807318678}]
[null,{"$f":"B458+1","v":451},2002,"2002-07-15",{"$f":"VLOOKUP(D459, data!$D$5:$E$6326,2, FALSE)","v":81},{"$f":"VLOOKUP(D459, data!$G$5:$H$6326,2, FALSE)","v":75.5},null,0.54838709677419351,0.3007284079084287,77,73.5,0,0,null,78.05500772415985,2.9449922758401499,8.6729795047581462]
[null,452,2002,"2002-07-14",{"$f":"VLOOKUP(D460, data!$D$5:$E$6326,2, FALSE)","v":77},{"$f":"VLOOKUP(D460, data!$G$5:$H$6326,2, FALSE)","v":72},null,{"$f":"H429","v":0.58064516129032262},0.33714880332986474,73.5,71.5,0,0,null,75.505933661339384,1.4940663386606161,2.2322342243187387]
[null,453,2002,"2002-07-13",{"$f":"VLOOKUP(D461, data!$D$5:$E$6326,2, FALSE)","v":73.5},{"$f":"VLOOKUP(D461, data!$G$5:$H$6326,2, FALSE)","v":69.5},null,0.61290322580645162,0.3756503642039542,71.5,71,0,0,null,73.94787321014789,-0.44787321014788972,0.20059041236817579]
[null,454,2002,"2002-07-12",{"$f":"VLOOKUP(D462, data!$D$5:$E$6326,2, FALSE)","v":71.5},{"$f":"VLOOKUP(D462, data!$G$5:$H$6326,2, FALSE)","v":68},null,0.64516129032258063,0.41623309053069718,71,78,0,0,null,72.495901279586747,-0.99590127958674657,0.99181935868251914]
[null,455,2002,"2002-07-11",{"$f":"VLOOKUP(D463, data!$D$5:$E$6326,2, FALSE)","v":71},{"$f":"VLOOKUP(D463, data!$G$5:$H$6326,2, FALSE)","v":68.5},null,0.67741935483870963,0.45889698231009357,78,85,0,0,null,77.116400080745848,-6.1164000807458478,37.410349947747811]
[null,456,2002,"2002-07-10",{"$f":"VLOOKUP(D464, data!$D$5:$E$6326,2, FALSE)","v":78},{"$f":"VLOOKUP(D464, data!$G$5:$H$6326,2, FALSE)","v":73.5},null,0.70967741935483875,0.5036420395421437,85,79,0,0,null,83.65142500161177,-5.65142500161177,31.938604548842594]
[null,457,2002,"2002-07-09",{"$f":"VLOOKUP(D465, data!$D$5:$E$6326,2, FALSE)","v":85},{"$f":"VLOOKUP(D465, data!$G$5:$H$6326,2, FALSE)","v":74},null,0.74193548387096775,0.55046826222684708,79,77.5,0,0,null,78.98945519086503,6.01054480913497,36.12664890261933]
[null,458,2002,"2002-07-08",{"$f":"VLOOKUP(D466, data!$D$5:$E$6326,2, FALSE)","v":79},{"$f":"VLOOKUP(D466, data!$G$5:$H$6326,2, FALSE)","v":81},null,0.77419354838709675,0.59937565036420393,77.5,74,0,0,null,78.264818218500579,0.73518178149942059,0.54049225184866179]
[null,459,2002,"2002-07-07",{"$f":"VLOOKUP(D467, data!$D$5:$E$6326,2, FALSE)","v":77.5},{"$f":"VLOOKUP(D467, data!$G$5:$H$6326,2, FALSE)","v":76.5},null,0.80645161290322576,0.65036420395421424,74,78,0,0,null,74.81113802248386,2.6888619775161402,7.2299787341320076]
[null,460,2002,"2002-07-06",{"$f":"VLOOKUP(D468, data!$D$5:$E$6326,2, FALSE)","v":74},{"$f":"VLOOKUP(D468, data!$G$5:$H$6326,2, FALSE)","v":75},null,0.83870967741935487,0.70343392299687835,78,90.5,0,0,null,76.176284679272726,-2.176284679272726,4.7362150052371916]
[null,461,2002,"2002-07-05",{"$f":"VLOOKUP(D469, data!$D$5:$E$6326,2, FALSE)","v":78},{"$f":"VLOOKUP(D469, data!$G$5:$H$6326,2, FALSE)","v":74.5},null,0.87096774193548387,0.75858480749219559,90.5,90,0,0,null,86.34127740616907,-8.3412774061690698,69.576908766666605]
[null,462,2002,"2002-07-04",{"$f":"VLOOKUP(D470, data!$D$5:$E$6326,2, FALSE)","v":90.5},{"$f":"VLOOKUP(D470, data!$G$5:$H$6326,2, FALSE)","v":79.5},null,0.90322580645161288,0.81581685744016641,90,86,0,0,null,86.489175522784208,4.0108244772157917,16.08671298703333]
[null,463,2002,"2002-07-03",{"$f":"VLOOKUP(D471, data!$D$5:$E$6326,2, FALSE)","v":90},{"$f":"VLOOKUP(D471, data!$G$5:$H$6326,2, FALSE)","v":83.5},null,0.93548387096774188,0.8751300728407907,86,80,0,0,null,84.094105347992766,5.905894652007234,34.87959164060765]
[null,464,2002,"2002-07-02",{"$f":"VLOOKUP(D472, data!$D$5:$E$6326,2, FALSE)","v":86},{"$f":"VLOOKUP(D472, data!$G$5:$H$6326,2, FALSE)","v":84},null,0.967741935483871,0.93652445369406878,80,0,0,1,null,79.752483578358323,6.2475164216416772,39.031461438682427]
[null,465,2002,"2002-07-01",{"$f":"VLOOKUP(D473, data!$D$5:$E$6326,2, FALSE)","v":80},{"$f":"VLOOKUP(D473, data!$G$5:$H$6326,2, FALSE)","v":84},null,1,1,0,0,1,0,null,76.529411764699944,3.4705882353000561,12.044982699003157]
[null,466,2001,{"$f":"DATE(C474, 7, 31)","v":"2001-07-31"},{"$f":"VLOOKUP(D474, data!$D$5:$E$6326,2, FALSE)","v":73.5},{"$f":"VLOOKUP(D474, data!$G$5:$H$6326,2, FALSE)","v":82.5},null,{"$f":"H443","v":3.2258064516129031E-2},{"$f":"I443","v":1.0405827263267429E-3},{"$f":"E475","v":71.5},{"$f":"E476","v":70.5},0,0,null,73.802566290734319,-0.30256629073431895,9.1546360288724427E-2]
[null,467,{"$f":"C474","v":2001},{"$f":"D474-1","v":"2001-07-30"},{"$f":"VLOOKUP(D475, data!$D$5:$E$6326,2, FALSE)","v":71.5},{"$f":"VLOOKUP(D475, data!$G$5:$H$6326,2, FALSE)","v":80},null,{"$f":"H444","v":6.4516129032258063E-2},4.1623309053069714E-3,{"$f":"E476","v":70.5},{"$f":"E477","v":71.5},0,0,null,72.881109024782518,-1.3811090247825177,1.9074621383357171]
[null,468,2001,"2001-07-29",{"$f":"VLOOKUP(D476, data!$D$5:$E$6326,2, FALSE)","v":70.5},{"$f":"VLOOKUP(D476, data!$G$5:$H$6326,2, FALSE)","v":77.5},null,9.6774193548387094E-2,9.3652445369406864E-3,71.5,70.5,0,0,null,73.87189049415403,-3.3718904941540302,11.369645504566311]
[null,469,2001,"2001-07-28",{"$f":"VLOOKUP(D477, data!$D$5:$E$6326,2, FALSE)","v":71.5},{"$f":"VLOOKUP(D477, data!$G$5:$H$6326,2, FALSE)","v":71.5},null,0.12903225806451613,1.6649323621227886E-2,70.5,72.5,0,0,null,72.797322558122175,-1.2973225581221755,1.6830458198126652]
[null,470,2001,"2001-07-27",{"$f":"VLOOKUP(D478, data!$D$5:$E$6326,2, FALSE)","v":70.5},{"$f":"VLOOKUP(D478, data!$G$5:$H$6326,2, FALSE)","v":71},null,0.16129032258064516,2.6014568158168574E-2,72.5,87,0,0,null,72.306462028723956,-1.8064620287239563,3.2633050612214722]
[null,471,2001,"2001-07-26",{"$f":"VLOOKUP(D479, data!$D$5:$E$6326,2, FALSE)","v":72.5},{"$f":"VLOOKUP(D479, data!$G$5:$H$6326,2, FALSE)","v":73},null,0.19354838709677419,3.7460978147762745E-2,87,84.5,0,0,null,84.445548194993393,-11.945548194993393,142.69612167890989]
[null,472,2001,"2001-07-25",{"$f":"VLOOKUP(D480, data!$D$5:$E$6326,2, FALSE)","v":87},{"$f":"VLOOKUP(D480, data!$G$5:$H$6326,2, FALSE)","v":71},null,0.22580645161290322,5.0988553590010401E-2,84.5,80,0,0,null,83.106157913337526,3.8938420866624739,15.162006195863968]
[null,473,2001,"2001-07-24",{"$f":"VLOOKUP(D481, data!$D$5:$E$6326,2, FALSE)","v":84.5},{"$f":"VLOOKUP(D481, data!$G$5:$H$6326,2, FALSE)","v":79},null,0.25806451612903225,6.6597294484911543E-2,80,74.5,0,0,null,80.291368286944063,4.2086317130559365,17.712580896140146]
[null,474,2001,"2001-07-23",{"$f":"VLOOKUP(D482, data!$D$5:$E$6326,2, FALSE)","v":80},{"$f":"VLOOKUP(D482, data!$G$5:$H$6326,2, FALSE)","v":82.5},null,0.29032258064516131,8.4287200832466186E-2,74.5,74,0,0,null,75.926291866038014,4.0737081339619863,16.595097960708049]
[null,475,2001,"2001-07-22",{"$f":"VLOOKUP(D483, data!$D$5:$E$6326,2, FALSE)","v":74.5},{"$f":"VLOOKUP(D483, data!$G$5:$H$6326,2, FALSE)","v":81.5},null,0.32258064516129031,0.1040582726326743,74,72,0,0,null,75.829823346542867,-1.3298233465428666,1.768430133010469]
[null,476,2001,"2001-07-21",{"$f":"VLOOKUP(D484, data!$D$5:$E$6326,2, FALSE)","v":74},{"$f":"VLOOKUP(D484, data!$G$5:$H$6326,2, FALSE)","v":83},null,0.35483870967741937,0.12591050988553593,72,73,0,0,null,74.073024242256182,-7.3024242256181537E-2,5.3325399570894891E-3]
[null,477,2001,"2001-07-20",{"$f":"VLOOKUP(D485, data!$D$5:$E$6326,2, FALSE)","v":72},{"$f":"VLOOKUP(D485, data!$G$5:$H$6326,2, FALSE)","v":81.5},null,0.38709677419354838,0.14984391259105098,73,74.5,0,0,null,74.669782726600317,-2.6697827266003173,7.127739807253425]
[null,478,2001,"2001-07-19",{"$f":"VLOOKUP(D486, data!$D$5:$E$6326,2, FALSE)","v":73},{"$f":"VLOOKUP(D486, data!$G$5:$H$6326,2, FALSE)","v":77},null,0.41935483870967744,0.17585848074921959,74.5,79,0,0,null,75.226285908600119,-2.2262859086001185,4.9563489468314552]
[null,479,2001,"2001-07-18",{"$f":"VLOOKUP(D487, data!$D$5:$E$6326,2, FALSE)","v":74.5},{"$f":"VLOOKUP(D487, data!$G$5:$H$6326,2, FALSE)","v":77.5},null,0.45161290322580644,0.2039542143600416,79,76.5,0,0,null,79.242503042978996,-4.7425030429789956,22.491335112665034]
[null,480,2001,"2001-07-17",{"$f":"VLOOKUP(D488, data!$D$5:$E$6326,2, FALSE)","v":79},{"$f":"VLOOKUP(D488, data!$G$5:$H$6326,2, FALSE)","v":78.5},null,0.4838709677419355,0.2341311134235172,76.5,74.5,0,0,null,77.511901353752563,1.4880986462474368,2.214437580963454]
[null,481,2001,"2001-07-16",{"$f":"VLOOKUP(D489, data!$D$5:$E$6326,2, FALSE)","v":76.5},{"$f":"VLOOKUP(D489, data!$G$5:$H$6326,2, FALSE)","v":74.5},null,0.5161290322580645,0.26638917793964617,74.5,71,0,0,null,76.404738180430797,9.5261819569202544E-2,9.0748142676353016E-3]
[null,482,2001,"2001-07-15",{"$f":"VLOOKUP(D490, data!$D$5:$E$6326,2, FALSE)","v":74.5},{"$f":"VLOOKUP(D490, data!$G$5:$H$6326,2, FALSE)","v":73.5},null,0.54838709677419351,0.3007284079084287,71,70,0,0,null,73.71098817990071,0.78901182009929016,0.62253965225639463]
[null,483,2001,"2001-07-14",{"$f":"VLOOKUP(D491, data!$D$5:$E$6326,2, FALSE)","v":71},{"$f":"VLOOKUP(D491, data!$G$5:$H$6326,2, FALSE)","v":74},null,{"$f":"H460","v":0.58064516129032262},0.33714880332986474,70,72,0,0,null,72.597058159473534,-1.5970581594735336,2.5505947647409908]
[null,484,2001,"2001-07-13",{"$f":"VLOOKUP(D492, data!$D$5:$E$6326,2, FALSE)","v":70},{"$f":"VLOOKUP(D492, data!$G$5:$H$6326,2, FALSE)","v":68},null,0.61290322580645162,0.3756503642039542,72,76,0,0,null,73.615454454927516,-3.6154544549275158,13.071510915655221]
[null,485,2001,"2001-07-12",{"$f":"VLOOKUP(D493, data!$D$5:$E$6326,2, FALSE)","v":72},{"$f":"VLOOKUP(D493, data!$G$5:$H$6326,2, FALSE)","v":69},null,0.64516129032258063,0.41623309053069718,76,81,0,0,null,76.103626940205487,-4.103626940205487,16.839754064380248]
[null,486,2001,"2001-07-11",{"$f":"VLOOKUP(D494, data!$D$5:$E$6326,2, FALSE)","v":76},{"$f":"VLOOKUP(D494, data!$G$5:$H$6326,2, FALSE)","v":69},null,0.67741935483870963,0.45889698231009357,81,79,0,0,null,80.43143809541526,-4.4314380954152597,19.637643593497625]
[null,487,2001,"2001-07-10",{"$f":"VLOOKUP(D495, data!$D$5:$E$6326,2, FALSE)","v":81},{"$f":"VLOOKUP(D495, data!$G$5:$H$6326,2, FALSE)","v":80.5},null,0.70967741935483875,0.5036420395421437,79,70,0,0,null,80.118586790768006,0.88141320923199373,0.77688924540864235]
[null,488,2001,"2001-07-09",{"$f":"VLOOKUP(D496, data!$D$5:$E$6326,2, FALSE)","v":79},{"$f":"VLOOKUP(D496, data!$G$5:$H$6326,2, FALSE)","v":78.5},null,0.74193548387096775,0.55046826222684708,70,71,0,0,null,72.657785268434367,6.3422147315656332,40.223687701288135]
[null,489,2001,"2001-07-08",{"$f":"VLOOKUP(D497, data!$D$5:$E$6326,2, FALSE)","v":70},{"$f":"VLOOKUP(D497, data!$G$5:$H$6326,2, FALSE)","v":78.5},null,0.77419354838709675,0.59937565036420393,71,68.5,0,0,null,73.810754883962503,-3.8107548839625025,14.521852785644066]
[null,490,2001,"2001-07-07",{"$f":"VLOOKUP(D498, data!$D$5:$E$6326,2, FALSE)","v":71},{"$f":"VLOOKUP(D498, data!$G$5:$H$6326,2, FALSE)","v":74},null,0.80645161290322576,0.65036420395421424,68.5,75,0,0,null,70.798393541253304,0.20160645874669569,4.0645164208383114E-2]
[null,491,2001,"2001-07-06",{"$f":"VLOOKUP(D499, data!$D$5:$E$6326,2, FALSE)","v":68.5},{"$f":"VLOOKUP(D499, data!$G$5:$H$6326,2, FALSE)","v":65.5},null,0.83870967741935487,0.70343392299687835,75,73,0,0,null,76.327203271014469,-7.8272032710144686,61.265111045779598]
[null,492,2001,"2001-07-05",{"$f":"VLOOKUP(D500, data!$D$5:$E$6326,2, FALSE)","v":75},{"$f":"VLOOKUP(D500, data!$G$5:$H$6326,2, FALSE)","v":63.5},null,0.87096774193548387,0.75858480749219559,73,69.5,0,0,null,75.189112745667785,-0.18911274566778502,3.5763630574008345E-2]
[null,493,2001,"2001-07-04",{"$f":"VLOOKUP(D501, data!$D$5:$E$6326,2, FALSE)","v":73},{"$f":"VLOOKUP(D501, data!$G$5:$H$6326,2, FALSE)","v":78},null,0.90322580645161288,0.81581685744016641,69.5,65.5,0,0,null,72.90689793861209,9.3102061387909885E-2,8.6679938346781414E-3]
[null,494,2001,"2001-07-03",{"$f":"VLOOKUP(D502, data!$D$5:$E$6326,2, FALSE)","v":69.5},{"$f":"VLOOKUP(D502, data!$G$5:$H$6326,2, FALSE)","v":71.5},null,0.93548387096774188,0.8751300728407907,65.5,77.5,0,0,null,67.85705249082487,1.64294750917513,2.6992765179047638]
[null,495,2001,"2001-07-02",{"$f":"VLOOKUP(D503, data!$D$5:$E$6326,2, FALSE)","v":65.5},{"$f":"VLOOKUP(D503, data!$G$5:$H$6326,2, FALSE)","v":63.5},null,0.967741935483871,0.93652445369406878,77.5,0,0,1,null,77.727389475299304,-12.227389475299304,149.50905338066019]
[null,496,2001,"2001-07-01",{"$f":"VLOOKUP(D504, data!$D$5:$E$6326,2, FALSE)","v":77.5},{"$f":"VLOOKUP(D504, data!$G$5:$H$6326,2, FALSE)","v":64},null,1,1,0,0,1,0,null,76.529411764699944,0.97058823530005611,0.94204152250287709]
[null,497,{"$f":"C474-1","v":2000},{"$f":"DATE(C505, 7, 31)","v":"2000-07-31"},{"$f":"VLOOKUP(D505, data!$D$5:$E$6326,2, FALSE)","v":74},{"$f":"VLOOKUP(D505, data!$G$5:$H$6326,2, FALSE)","v":70},null,{"$f":"H474","v":3.2258064516129031E-2},{"$f":"I474","v":1.0405827263267429E-3},{"$f":"E506","v":73.5},{"$f":"E507","v":70.5},0,0,null,75.422641573181522,-1.4226415731815223,2.0239090457443965]
[null,498,2000,{"$f":"D505-1","v":"2000-07-30"},{"$f":"VLOOKUP(D506, data!$D$5:$E$6326,2, FALSE)","v":73.5},{"$f":"VLOOKUP(D506, data!$G$5:$H$6326,2, FALSE)","v":71},null,{"$f":"H475","v":6.4516129032258063E-2},4.1623309053069714E-3,{"$f":"E507","v":70.5},{"$f":"E508","v":70},0,0,null,73.10234029753218,0.3976597024678199,0.15813323896679504]
[null,499,2000,"2000-07-29",{"$f":"VLOOKUP(D507, data!$D$5:$E$6326,2, FALSE)","v":70.5},{"$f":"VLOOKUP(D507, data!$G$5:$H$6326,2, FALSE)","v":73},null,9.6774193548387094E-2,9.3652445369406864E-3,70,67.5,0,0,null,73.09929657781791,-2.5992965778179098,6.7563426994558968]
[null,500,2000,"2000-07-28",{"$f":"VLOOKUP(D508, data!$D$5:$E$6326,2, FALSE)","v":70},{"$f":"VLOOKUP(D508, data!$G$5:$H$6326,2, FALSE)","v":74},null,0.12903225806451613,1.6649323621227886E-2,67.5,67,0,0,null,71.178390967866733,-1.1783909678667328,1.3886052731498952]
[null,501,2000,"2000-07-27",{"$f":"VLOOKUP(D509, data!$D$5:$E$6326,2, FALSE)","v":67.5},{"$f":"VLOOKUP(D509, data!$G$5:$H$6326,2, FALSE)","v":76.5},null,0.16129032258064516,2.6014568158168574E-2,67,72,0,0,null,70.063567729490586,-2.5635677294905861,6.5718795036855191]
[null,502,2000,"2000-07-26",{"$f":"VLOOKUP(D510, data!$D$5:$E$6326,2, FALSE)","v":67},{"$f":"VLOOKUP(D510, data!$G$5:$H$6326,2, FALSE)","v":72.5},null,0.19354838709677419,3.7460978147762745E-2,72,72.5,0,0,null,74.064833758636439,-7.0648337586364391,49.911876037169073]
[null,503,2000,"2000-07-25",{"$f":"VLOOKUP(D511, data!$D$5:$E$6326,2, FALSE)","v":72},{"$f":"VLOOKUP(D511, data!$G$5:$H$6326,2, FALSE)","v":69},null,0.22580645161290322,5.0988553590010401E-2,72.5,73,0,0,null,74.418118824819231,-2.4181188248192313,5.8472986509451408]
[null,504,2000,"2000-07-24",{"$f":"VLOOKUP(D512, data!$D$5:$E$6326,2, FALSE)","v":72.5},{"$f":"VLOOKUP(D512, data!$G$5:$H$6326,2, FALSE)","v":66},null,0.25806451612903225,6.6597294484911543E-2,73,73.5,0,0,null,74.768592313545241,-2.2685923135452413,5.1465110850765505]
[null,505,2000,"2000-07-23",{"$f":"VLOOKUP(D513, data!$D$5:$E$6326,2, FALSE)","v":73},{"$f":"VLOOKUP(D513, data!$G$5:$H$6326,2, FALSE)","v":62.5},null,0.29032258064516131,8.4287200832466186E-2,73.5,72.5,0,0,null,75.33748549756406,-2.3374854975640602,5.4638384513223022]
[null,506,2000,"2000-07-22",{"$f":"VLOOKUP(D514, data!$D$5:$E$6326,2, FALSE)","v":73.5},{"$f":"VLOOKUP(D514, data!$G$5:$H$6326,2, FALSE)","v":62.5},null,0.32258064516129031,0.1040582726326743,72.5,70.5,0,0,null,74.835998157457084,-1.3359981574570838,1.7848910767287229]
[null,507,2000,"2000-07-21",{"$f":"VLOOKUP(D515, data!$D$5:$E$6326,2, FALSE)","v":72.5},{"$f":"VLOOKUP(D515, data!$G$5:$H$6326,2, FALSE)","v":66.5},null,0.35483870967741937,0.12591050988553593,70.5,66.5,0,0,null,73.816636629002573,-1.3166366290025735,1.7335320128312603]
[null,508,2000,"2000-07-20",{"$f":"VLOOKUP(D516, data!$D$5:$E$6326,2, FALSE)","v":70.5},{"$f":"VLOOKUP(D516, data!$G$5:$H$6326,2, FALSE)","v":67.5},null,0.38709677419354838,0.14984391259105098,66.5,80,0,0,null,68.593356725231473,1.9066432747685269,3.6352885772200523]
[null,509,2000,"2000-07-19",{"$f":"VLOOKUP(D517, data!$D$5:$E$6326,2, FALSE)","v":66.5},{"$f":"VLOOKUP(D517, data!$G$5:$H$6326,2, FALSE)","v":62.5},null,0.41935483870967744,0.17585848074921959,80,75.5,0,0,null,80.197699238412497,-13.697699238412497,187.62696442600631]
[null,510,2000,"2000-07-18",{"$f":"VLOOKUP(D518, data!$D$5:$E$6326,2, FALSE)","v":80},{"$f":"VLOOKUP(D518, data!$G$5:$H$6326,2, FALSE)","v":66},null,0.45161290322580644,0.2039542143600416,75.5,72.5,0,0,null,76.997321359362104,3.002678640637896,9.016079018943044]
[null,511,2000,"2000-07-17",{"$f":"VLOOKUP(D519, data!$D$5:$E$6326,2, FALSE)","v":75.5},{"$f":"VLOOKUP(D519, data!$G$5:$H$6326,2, FALSE)","v":76.5},null,0.4838709677419355,0.2341311134235172,72.5,68.5,0,0,null,75.156675879856721,0.34332412014327929,0.11787145147215687]
[null,512,2000,"2000-07-16",{"$f":"VLOOKUP(D520, data!$D$5:$E$6326,2, FALSE)","v":72.5},{"$f":"VLOOKUP(D520, data!$G$5:$H$6326,2, FALSE)","v":73},null,0.5161290322580645,0.26638917793964617,68.5,73.5,0,0,null,71.175793545173065,1.3242064548269354,1.7535227350053206]
[null,513,2000,"2000-07-15",{"$f":"VLOOKUP(D521, data!$D$5:$E$6326,2, FALSE)","v":68.5},{"$f":"VLOOKUP(D521, data!$G$5:$H$6326,2, FALSE)","v":73},null,0.54838709677419351,0.3007284079084287,73.5,75,0,0,null,74.998644707127568,-6.4986447071275677,42.232383029477148]
[null,514,2000,"2000-07-14",{"$f":"VLOOKUP(D522, data!$D$5:$E$6326,2, FALSE)","v":73.5},{"$f":"VLOOKUP(D522, data!$G$5:$H$6326,2, FALSE)","v":77},null,{"$f":"H491","v":0.58064516129032262},0.33714880332986474,75,78,0,0,null,{"$f":"$O$7+SUMPRODUCT(H$7:M$7, H522:M522)","v":75.762321274592992},{"$f":"E522-O522","v":-2.2623212745929919},{"$f":"P522*P522","v":5.1180975494760599}]
[null,{"$f":"B522+1","v":515},2000,"2000-07-13",{"$f":"VLOOKUP(D523, data!$D$5:$E$6326,2, FALSE)","v":75},{"$f":"VLOOKUP(D523, data!$G$5:$H$6326,2, FALSE)","v":75},null,0.61290322580645162,0.3756503642039542,78,77,0,0,null,78.328192787102751,-3.3281927871027506,11.076867228122774]
[null,516,2000,"2000-07-12",{"$f":"VLOOKUP(D524, data!$D$5:$E$6326,2, FALSE)","v":78},{"$f":"VLOOKUP(D524, data!$G$5:$H$6326,2, FALSE)","v":72},null,0.64516129032258063,0.41623309053069718,77,82.49,0,0,null,76.693908183831113,1.3060918161688875,1.7058758322633429]
[null,517,2000,"2000-07-11",{"$f":"VLOOKUP(D525, data!$D$5:$E$6326,2, FALSE)","v":77},{"$f":"VLOOKUP(D525, data!$G$5:$H$6326,2, FALSE)","v":68.5},null,0.67741935483870963,0.45889698231009357,82.49,73.5,0,0,null,82.449575514253823,-5.4495755142538229,29.69787328555482]
[null,518,2000,"2000-07-10",{"$f":"VLOOKUP(D526, data!$D$5:$E$6326,2, FALSE)","v":82.49},{"$f":"VLOOKUP(D526, data!$G$5:$H$6326,2, FALSE)","v":73},null,0.70967741935483875,0.5036420395421437,73.5,71,0,0,null,75.515892248871737,6.9741077511282583,48.638178924347251]
[null,519,2000,"2000-07-09",{"$f":"VLOOKUP(D527, data!$D$5:$E$6326,2, FALSE)","v":73.5},{"$f":"VLOOKUP(D527, data!$G$5:$H$6326,2, FALSE)","v":80.5},null,0.74193548387096775,0.55046826222684708,71,73,0,0,null,73.172847879325104,0.32715212067489574,0.10702851006208154]
[null,520,2000,"2000-07-08",{"$f":"VLOOKUP(D528, data!$D$5:$E$6326,2, FALSE)","v":71},{"$f":"VLOOKUP(D528, data!$G$5:$H$6326,2, FALSE)","v":72.5},null,0.77419354838709675,0.59937565036420393,73,72,0,0,null,74.914623863327208,-3.9146238633272077,15.324279991330833]
[null,521,2000,"2000-07-07",{"$f":"VLOOKUP(D529, data!$D$5:$E$6326,2, FALSE)","v":73},{"$f":"VLOOKUP(D529, data!$G$5:$H$6326,2, FALSE)","v":70},null,0.80645161290322576,0.65036420395421424,72,79,0,0,null,73.04357522487021,-4.357522487021015E-2,1.8988002224893811E-3]
[null,522,2000,"2000-07-06",{"$f":"VLOOKUP(D530, data!$D$5:$E$6326,2, FALSE)","v":72},{"$f":"VLOOKUP(D530, data!$G$5:$H$6326,2, FALSE)","v":73.5},null,0.83870967741935487,0.70343392299687835,79,79.5,0,0,null,78.608684987327081,-6.6086849873270808,43.674717261722336]
[null,523,2000,"2000-07-05",{"$f":"VLOOKUP(D531, data!$D$5:$E$6326,2, FALSE)","v":79},{"$f":"VLOOKUP(D531, data!$G$5:$H$6326,2, FALSE)","v":75.5},null,0.87096774193548387,0.75858480749219559,79.5,79.5,0,0,null,78.979482261956917,2.0517738043082545E-2,4.2097757440455675E-4]
[null,524,2000,"2000-07-04",{"$f":"VLOOKUP(D532, data!$D$5:$E$6326,2, FALSE)","v":79.5},{"$f":"VLOOKUP(D532, data!$G$5:$H$6326,2, FALSE)","v":70},null,0.90322580645161288,0.81581685744016641,79.5,76.5,0,0,null,79.384911684017425,0.1150883159825753,1.3245320475705097E-2]
[null,525,2000,"2000-07-03",{"$f":"VLOOKUP(D533, data!$D$5:$E$6326,2, FALSE)","v":79.5},{"$f":"VLOOKUP(D533, data!$G$5:$H$6326,2, FALSE)","v":68},null,0.93548387096774188,0.8751300728407907,76.5,75.5,0,0,null,77.062441574617424,2.4375584253825764,5.9416910771535854]
[null,526,2000,"2000-07-02",{"$f":"VLOOKUP(D534, data!$D$5:$E$6326,2, FALSE)","v":76.5},{"$f":"VLOOKUP(D534, data!$G$5:$H$6326,2, FALSE)","v":74},null,0.967741935483871,0.93652445369406878,75.5,0,0,1,null,76.107314192852087,0.39268580714791312,0.154202143135408]
[null,527,2000,"2000-07-01",{"$f":"VLOOKUP(D535, data!$D$5:$E$6326,2, FALSE)","v":75.5},{"$f":"VLOOKUP(D535, data!$G$5:$H$6326,2, FALSE)","v":71},null,1,1,0,0,1,0,null,76.529411764699944,-1.0294117646999439,1.0596885813026526]

{"sheet":"Jun","index":4,"n_rows":518,"n_cols":33,"rows_kept":518,"cut":false,"hidden":false,"merged":[]}
[]
[null,null,null,"OLS Data",null,null,null,"Explanatory variables",null,null,null,null,null,null,"OLS fitted data",null,null,null,"Data projections",null,null,null,null,null,null,null,null,null,null,null,null,"Statistics"]
[]
[null,null,null,null,{"$f":"AVERAGE(E9:E518)","v":72.826764705882354},{"$f":"AVERAGE(F9:F518)","v":69.600647058823526},null,"π",{"$f":"PI()","v":3.1415926535897931},null,null,null,null,null,null,null,{"$f":"AVERAGE(Q9:Q535)","v":21.159469456402363}]
[null,null,null,null,{"$f":"STDEV(E9:E518)","v":6.5915108770276536},{"$f":"STDEV(F9:F518)","v":7.2386051482370171},null,"p",1,null,null,null,null,null,null,null,{"$f":"SQRT(Q4)","v":4.5999423318561679}]
[]
[null,null,"June",null,null,null,null,{"$f":"'ols A'!D42","v":-4.1006126626758714},{"$f":"'ols A'!D43","v":-0.99729830261287589},{"$f":"'ols A'!D44","v":0.72486923387903257},{"$f":"'ols A'!D45","v":-0.17900763595875713},{"$f":"'ols A'!D46","v":39.617328416297312},{"$f":"'ols A'!D47","v":-11.036738253147519},null,{"$f":"'ols A'!D41","v":35.534111960754785},{"$f":"SUM(P9:P535)","v":-2.1972823560645338E-10},null,null,null,null,{"$f":"SUM(U9:U38)","v":234.378128231066}]
[null,"#","Year","Date","EWR","ORD",null,"Linear","Quadratic","EWR \nT[t-1]","EWR \nT[t-2]","Jun 1st","Jun 2nd",null,"EWR: Jun, fitted","res","res2",null,"Date","EWR: proj","CDD: µ","Ak","Bk","CDD: σ factor","CDD: σ","CDD: \nx=-μ/σ","CDD mean","CDD s2","CDD stdev","CDD cum: σ factor",null,"Statistics","Value"]
[null,1,2016,{"$f":"DATE(C9, 6, 30)","v":"2016-06-30"},{"$f":"VLOOKUP(D9, data!$D$5:$E$6326,2, FALSE)","v":77.5},{"$f":"VLOOKUP(D9, data!$G$5:$H$6326,2, FALSE)","v":67.5},null,{"$f":"B9/30","v":3.3333333333333333E-2},{"$f":"H9*H9","v":1.1111111111111111E-3},{"$f":"E10","v":77.5},{"$f":"E11","v":73.5},0,0,null,{"$f":"$O$7+SUMPRODUCT(H$7:M$7, H9:M9)","v":78.41662114543017},{"$f":"E9-O9","v":-0.91662114543017026},{"$f":"P9*P9","v":0.84019432424971729},null,"2017-06-30",{"$f":"$O$7+SUMPRODUCT(H$7:I$7, H9:I9) + $J$7*T10+$K$7*T11","v":77.691387622145399},{"$f":"T9-65","v":12.691387622145399},{"$f":"V10*$J$7+W10","v":-1.4985452856064422E-11},{"$f":"V10*$K$7","v":1.5292626817484187E-13},{"$f":"SQRT(SUMPRODUCT(V9:V$38, V9:V$38))","v":1.2887693750706564},{"$f":"X9*$AG$17","v":5.6556036965665442},{"$f":"-U9/Y9","v":-2.2440376488632334},{"$f":"U9*(1-NORMDIST(Z9, 0, 1, TRUE)) + Y9*NORMDIST(Z9, 0, 1, FALSE)","v":12.715752198461859},{"$f":"(U9*U9+Y9*Y9)*(1-NORMDIST(Z9, 0, 1, TRUE)) + 2*U9*Y9*NORMDIST(Z9, 0, 1, FALSE)","v":195.27820823057584},{"$f":"SQRT(AB9-AA9*AA9)","v":5.7955029339901332},{"$f":"SUM(V9:V$39)","v":2.2019718998184956},null,"Number of years",17]
[null,{"$f":"B9+1","v":2},{"$f":"C9","v":2016},{"$f":"D9-1","v":"2016-06-29"},{"$f":"VLOOKUP(D10, data!$D$5:$E$6326,2, FALSE)","v":77.5},{"$f":"VLOOKUP(D10, data!$G$5:$H$6326,2, FALSE)","v":68},null,{"$f":"B10/30","v":6.6666666666666666E-2},{"$f":"H10*H10","v":4.4444444444444444E-3},{"$f":"E11","v":73.5},{"$f":"E12","v":75.5},0,0,null,{"$f":"$O$7+SUMPRODUCT(H$7:M$7, H10:M10)","v":75.019117521565292},{"$f":"E10-O10","v":2.4808824784347081},{"$f":"P10*P10","v":6.15477787180434},null,{"$f":"S9-1","v":"2017-06-29"},{"$f":"$O$7+SUMPRODUCT(H$7:I$7, H10:I10) + $J$7*T11+$K$7*T12","v":77.379144302305576},{"$f":"T10-65","v":12.379144302305576},-8.5430025013053444E-13,-1.4366196888249636E-11,{"$f":"SQRT(SUMPRODUCT(V10:V$38, V10:V$38))","v":1.2887693750706564},{"$f":"X10*$AG$17","v":5.6556036965665442},-2.1888281015554223,12.407674381211661,187.66996906671687,{"$f":"SQRT(AB10-AA10*AA10)","v":5.8068567673519116},{"$f":"SUM(V10:V$39)","v":2.2019718998334814},null,"Cumulative projected CDD",{"$f":"SUM(AA9:AA38)","v":243.87920780776236}]
[null,{"$f":"B10+1","v":3},2016,"2016-06-28",{"$f":"VLOOKUP(D11, data!$D$5:$E$6326,2, FALSE)","v":73.5},{"$f":"VLOOKUP(D11, data!$G$5:$H$6326,2, FALSE)","v":64},null,0.1,1.0000000000000002E-2,75.5,75.47,0,0,null,76.33199858352063,-2.8319985835206296,8.0202159770628523,null,{"$f":"S10-1","v":"2017-06-28"},77.062020932079136,12.062020932079136,8.0254659592061026E-11,-5.9028433863850365E-11,{"$f":"SQRT(SUMPRODUCT(V11:V$38, V11:V$38))","v":1.2887693750706564},5.6556036965665442,-2.1327556843139237,12.095424134251754,180.15374527372637,5.8184585833609388,{"$f":"SUM(V11:V$39)","v":2.2019718998343354},null,"Variance on Jun 1st",{"$f":"SUMPRODUCT(L9:L518, Q9:Q518)/AG9","v":76.306787543252582}]
[null,4,2016,"2016-06-27",{"$f":"VLOOKUP(D12, data!$D$5:$E$6326,2, FALSE)","v":75.5},{"$f":"VLOOKUP(D12, data!$G$5:$H$6326,2, FALSE)","v":79.55},null,0.13333333333333333,1.7777777777777778E-2,75.47,73.02,0,0,null,76.604377361271474,-1.1043773612714745,1.2196493560889448,null,"2017-06-27",76.740017511924108,11.740017511924108,3.2975371998907553E-10,-1.5877366678518118E-10,{"$f":"SQRT(SUMPRODUCT(V12:V$38, V12:V$38))","v":1.2887693750706564},5.6556036965665442,-2.0758203972197249,11.779116649964623,172.73818149652416,5.8301451476828907,{"$f":"SUM(V12:V$39)","v":2.2019718997540809},null,"StDev on Jun 1st",{"$f":"SQRT(AG11)","v":8.7353756383599546}]
[null,5,2016,"2016-06-26",{"$f":"VLOOKUP(D13, data!$D$5:$E$6326,2, FALSE)","v":75.47},{"$f":"VLOOKUP(D13, data!$G$5:$H$6326,2, FALSE)","v":80.95},null,0.16666666666666666,2.7777777777777776E-2,73.02,75.47,0,0,null,74.24321895838689,1.2267810416131084,1.5049917240613433,null,"2017-06-26",76.413134042312066,11.413134042312066,8.8696588799017609E-10,-3.1318056371519922E-10,{"$f":"SQRT(SUMPRODUCT(V13:V$38, V13:V$38))","v":1.2887693750706564},5.6556036965665442,-2.0180222403562076,11.458884244171312,165.43161331610747,5.8417108106093325,{"$f":"SUM(V13:V$39)","v":2.2019718994243274},null,"AR(1) coefficient",{"$f":"J7","v":0.72486923387903257}]
[null,6,2016,"2016-06-25",{"$f":"VLOOKUP(D14, data!$D$5:$E$6326,2, FALSE)","v":73.02},{"$f":"VLOOKUP(D14, data!$G$5:$H$6326,2, FALSE)","v":76.98},null,0.2,4.0000000000000008E-2,75.47,76.010000000000005,0,0,null,75.773608167740548,-2.7536081677405519,7.58235794144748,null,"2017-06-25",76.081370522593872,11.081370522593872,1.7495374542980678E-9,-3.8121998614953733E-10,{"$f":"SQRT(SUMPRODUCT(V14:V$38, V14:V$38))","v":1.2887693750706564},5.6556036965665442,-1.9593612136085936,11.134878472436528,158.24198272222901,5.8529021968847728,{"$f":"SUM(V14:V$39)","v":2.2019718985373613},null,"AR(2) coefficient",{"$f":"K7","v":-0.17900763595875713}]
[null,7,2016,"2016-06-24",{"$f":"VLOOKUP(D15, data!$D$5:$E$6326,2, FALSE)","v":75.47},{"$f":"VLOOKUP(D15, data!$G$5:$H$6326,2, FALSE)","v":72.05},null,0.23333333333333334,5.4444444444444448E-2,76.010000000000005,78.430000000000007,0,0,null,75.58074656633255,-0.11074656633255131,1.2264801954450188E-2,null,"2017-06-24",75.74472694750655,10.74472694750655,2.1296297451655604E-9,2.058343724739088E-10,{"$f":"SQRT(SUMPRODUCT(V15:V$38, V15:V$38))","v":1.2887693750706564},5.6556036965665442,-1.899837316046306,10.807272402916004,151.17674806976532,5.8634129377808168,{"$f":"SUM(V15:V$39)","v":2.2019718967878239},null,"AR(1) cumulative",{"$f":"1/(1-AG13)","v":3.6346353194114522}]
[null,8,2016,"2016-06-23",{"$f":"VLOOKUP(D16, data!$D$5:$E$6326,2, FALSE)","v":76.010000000000005},{"$f":"VLOOKUP(D16, data!$G$5:$H$6326,2, FALSE)","v":71.069999999999993},null,0.26666666666666666,7.1111111111111111E-2,78.430000000000007,82,0,0,null,76.542564124814305,-0.53256412481430004,0.28362454703922135,null,"2017-06-23",75.403203299364634,10.403203299364634,-1.1498636433662108E-9,2.9631305233977785E-9,{"$f":"SQRT(SUMPRODUCT(V16:V$38, V16:V$38))","v":1.2887693750706564},5.6556036965665442,-1.8394505445422751,10.47626303091268,144.24279021866491,5.872878606424381,{"$f":"SUM(V16:V$39)","v":2.2019718946581941},null,"Variance on days other than Jul 1st",{"$f":"(SUM(Q9:Q533) - AG11*AG9) / (29*AG9)","v":19.257837798235112}]
[null,9,2016,"2016-06-22",{"$f":"VLOOKUP(D17, data!$D$5:$E$6326,2, FALSE)","v":78.430000000000007},{"$f":"VLOOKUP(D17, data!$G$5:$H$6326,2, FALSE)","v":71.5},null,0.3,0.09,82,74.930000000000007,0,0,null,80.240406330407865,-1.8104063304078579,3.2775710811808461,null,"2017-06-22",75.056799535953871,10.056799535953871,-1.6553095668390794E-8,1.0848966132106556E-8,{"$f":"SQRT(SUMPRODUCT(V17:V$38, V17:V$38))","v":1.2887693750706564},5.6556036965665442,-1.7782008916323548,10.142073814757094,137.44631720919406,5.8808720395203773,{"$f":"SUM(V17:V$39)","v":2.2019718958080579},null,"StDev on days other than Jul 1st",{"$f":"SQRT(AG16)","v":4.388375302801153}]
[null,10,2016,"2016-06-21",{"$f":"VLOOKUP(D18, data!$D$5:$E$6326,2, FALSE)","v":82},{"$f":"VLOOKUP(D18, data!$G$5:$H$6326,2, FALSE)","v":74.010000000000005},null,0.33333333333333331,0.1111111111111111,74.930000000000007,75.47,0,0,null,{"$f":"$O$7+SUMPRODUCT(H$7:M$7, H18:M18)","v":74.861175559432127},7.1388244405678734,50.962814393249211,null,"2017-06-21",74.705515585130186,9.7055155851301862,-6.0606163943789126E-8,2.7378447957890679E-8,{"$f":"SQRT(SUMPRODUCT(V18:V$38, V18:V$38))","v":1.2887693750706561},5.6556036965665433,-1.7160883445603343,9.8049573143536062,130.79277067635235,5.8868992466370669,{"$f":"SUM(V18:V$39)","v":2.2019719123611532},null,"Cumulative CDD StDev",{"$f":"AG17*SQRT(SUMPRODUCT(AD9:AD38, AD9:AD38))","v":51.797127183901097}]
[null,11,2016,"2016-06-20",{"$f":"VLOOKUP(D19, data!$D$5:$E$6326,2, FALSE)","v":74.930000000000007},{"$f":"VLOOKUP(D19, data!$G$5:$H$6326,2, FALSE)","v":81.5},null,0.36666666666666664,0.13444444444444442,75.47,71.959999999999994,0,0,null,75.720964365458556,-0.79096436545854942,0.62562462742524572,null,"2017-06-20",74.349351390578761,9.3493513905787609,-1.5294569871979427E-7,5.0259467512321473E-8,{"$f":"SQRT(SUMPRODUCT(V19:V$38, V19:V$38))","v":1.2887693750706548},5.6556036965665371,-1.6531128933688657,9.4651979349562474,124.28673841397072,5.890396121320765,{"$f":"SUM(V19:V$39)","v":2.2019719729673173}]
[null,12,2016,"2016-06-19",{"$f":"VLOOKUP(D20, data!$D$5:$E$6326,2, FALSE)","v":75.47},{"$f":"VLOOKUP(D20, data!$G$5:$H$6326,2, FALSE)","v":75.56},null,0.4,0.16000000000000003,71.959999999999994,70.97,0,0,null,73.191717313208557,2.2782826867914423,5.1905720009336331,null,"2017-06-19",73.988307127282127,8.9883071272821269,-2.8076717087030364E-7,5.0573785327346147E-8,{"$f":"SQRT(SUMPRODUCT(V20:V$38, V20:V$38))","v":1.2887693750706457},5.6556036965664971,-1.5892745689976306,9.1231148347889306,117.93187919330619,5.8907261780327502,{"$f":"SUM(V20:V$39)","v":2.2019721259130161}]
[null,13,2016,"2016-06-18",{"$f":"VLOOKUP(D21, data!$D$5:$E$6326,2, FALSE)","v":71.959999999999994},{"$f":"VLOOKUP(D21, data!$G$5:$H$6326,2, FALSE)","v":72.5},null,0.43333333333333335,0.18777777777777779,70.97,71.95,0,0,null,72.134279469044742,-0.17427946904474823,3.0373333330519354E-2,null,"2017-06-18",73.622383818404955,8.6223838184049555,-2.825230614128562E-7,-7.5974895790807701E-8,{"$f":"SQRT(SUMPRODUCT(V21:V$38, V21:V$38))","v":1.2887693750706151},5.655603696566363,-1.5245735523583075,8.7790651402253719,111.73086780641415,5.8871795513721015,{"$f":"SUM(V21:V$39)","v":2.2019724066801869}]
[null,14,2016,"2016-06-17",{"$f":"VLOOKUP(D22, data!$D$5:$E$6326,2, FALSE)","v":70.97},{"$f":"VLOOKUP(D22, data!$G$5:$H$6326,2, FALSE)","v":72.95},null,0.46666666666666667,0.21777777777777779,71.95,73,0,0,null,72.490087262655251,-1.5200872626552524,2.3106652860867385,null,"2017-06-17",73.251584629611187,8.2515846296111874,4.2442265316722085E-7,-5.9017398485508595E-7,{"$f":"SQRT(SUMPRODUCT(V22:V$38, V22:V$38))","v":1.2887693750705842},5.655603696566228,-1.4590104031902194,8.4334476197419193,105.68536836998646,5.8789735171248916,{"$f":"SUM(V22:V$39)","v":2.2019726892032483}]
[null,15,2016,"2016-06-16",{"$f":"VLOOKUP(D23, data!$D$5:$E$6326,2, FALSE)","v":71.95},{"$f":"VLOOKUP(D23, data!$G$5:$H$6326,2, FALSE)","v":70},null,0.5,0.25,73,70.5,0,0,null,73.529896791840628,-1.5798967918406248,2.4960738728682985,null,"2017-06-16",72.875916664104835,7.8759166641048353,3.2969207246056276E-6,-1.9654137466375655E-6,{"$f":"SQRT(SUMPRODUCT(V23:V$38, V23:V$38))","v":1.2887693750705143},5.6556036965659207,-1.3925863774519929,8.0867065054510334,99.796036083839269,5.8652548093441954,{"$f":"SUM(V23:V$39)","v":2.2019722647805953}]
[null,16,2016,"2016-06-15",{"$f":"VLOOKUP(D24, data!$D$5:$E$6326,2, FALSE)","v":73},{"$f":"VLOOKUP(D24, data!$G$5:$H$6326,2, FALSE)","v":79},null,0.53333333333333333,0.28444444444444444,70.5,66.5,0,0,null,72.262715776243326,0.73728422375667435,0.54358802660048189,null,"2017-06-15",72.495391000910956,7.4953910009109563,1.0979496690802571E-5,-4.6617786300338057E-6,{"$f":"SQRT(SUMPRODUCT(V24:V$38, V24:V$38))","v":1.2887693750662972},5.6556036965474146,-1.3253034340943444,7.7393332415706162,94.062518183367274,5.8451038621471332,{"$f":"SUM(V24:V$39)","v":2.2019689678598704}]
[null,17,2016,"2016-06-14",{"$f":"VLOOKUP(D25, data!$D$5:$E$6326,2, FALSE)","v":70.5},{"$f":"VLOOKUP(D25, data!$G$5:$H$6326,2, FALSE)","v":75.5},null,0.56666666666666665,0.32111111111111107,66.5,75.55,0,0,null,67.569965042115456,2.9300349578845442,8.5851048544254827,null,"2017-06-14",72.110012822157202,7.1100128221572021,2.6042345093635375E-5,-7.8977980456342867E-6,{"$f":"SQRT(SUMPRODUCT(V25:V$38, V25:V$38))","v":1.2887693750195279},5.6556036963421734,-1.2571624894360409,7.3918588370383436,88.483351699224158,5.8175402562012675,{"$f":"SUM(V25:V$39)","v":2.2019579883631799}]
[null,18,2016,"2016-06-13",{"$f":"VLOOKUP(D26, data!$D$5:$E$6326,2, FALSE)","v":66.5},{"$f":"VLOOKUP(D26, data!$G$5:$H$6326,2, FALSE)","v":69.98},null,0.6,0.36,75.55,73,0,0,null,74.411030168780272,-7.9110301687802718,62.584398331351615,null,"2017-06-13",71.719741220872592,6.7197412208725922,4.4119894681218619E-5,-5.9388091627631714E-6,{"$f":"SQRT(SUMPRODUCT(V26:V$38, V26:V$38))","v":1.2887693747564073},5.6556036951875015,-1.1881563106323367,7.0448195766859882,83.055523309852489,5.781525788387901,{"$f":"SUM(V26:V$39)","v":2.2019319460180862}]
[null,19,2016,"2016-06-12",{"$f":"VLOOKUP(D27, data!$D$5:$E$6326,2, FALSE)","v":75.55},{"$f":"VLOOKUP(D27, data!$G$5:$H$6326,2, FALSE)","v":69},null,0.6333333333333333,0.40111111111111108,73,67.98,0,0,null,73.28354482481619,2.2664551751838076,5.136819061117464,null,"2017-06-12",71.32438160014965,6.3243816001496498,3.3176289552985642E-5,2.0071423089996965E-5,{"$f":"SQRT(SUMPRODUCT(V27:V$38, V27:V$38))","v":1.2887693740012043},5.6556036918733872,-1.1182504900824715,6.6986670571396303,77.773318070126351,5.7359548226706449,{"$f":"SUM(V27:V$39)","v":2.2018878261234049}]
[null,20,2016,"2016-06-11",{"$f":"VLOOKUP(D28, data!$D$5:$E$6326,2, FALSE)","v":73},{"$f":"VLOOKUP(D28, data!$G$5:$H$6326,2, FALSE)","v":81},null,0.66666666666666663,0.44444444444444442,67.98,64.040000000000006,0,0,null,70.170088007885198,2.8299119921148019,8.008401883115166,null,"2017-06-11",70.923374484747455,5.9233744847474554,-1.1212607206667635E-4,1.1445302950982252E-4,{"$f":"SQRT(SUMPRODUCT(V28:V$38, V28:V$38))","v":1.2887693735741821},5.6556036899994533,-1.047346102984813,6.3536001632188936,72.626226499373317,5.6796119115057646,{"$f":"SUM(V28:V$39)","v":2.201854649833852}]
[null,21,2016,"2016-06-10",{"$f":"VLOOKUP(D29, data!$D$5:$E$6326,2, FALSE)","v":67.98},{"$f":"VLOOKUP(D29, data!$G$5:$H$6326,2, FALSE)","v":76.5},null,0.7,0.48999999999999994,64.040000000000006,61.5,0,0,null,67.586663054751057,0.39333694524894725,0.15471395249777331,null,"2017-06-10",70.515541436211961,5.5155414362119615,-6.3937512440079476E-4,3.5133728451903888E-4,{"$f":"SQRT(SUMPRODUCT(V29:V$38, V29:V$38))","v":1.2887693686965616},5.6556036685946243,-0.97523478648965034,6.0093854488884464,67.596951382169351,5.6110817057727074,{"$f":"SUM(V29:V$39)","v":2.2019667759059187}]
[null,22,2016,"2016-06-09",{"$f":"VLOOKUP(D30, data!$D$5:$E$6326,2, FALSE)","v":64.040000000000006},{"$f":"VLOOKUP(D30, data!$G$5:$H$6326,2, FALSE)","v":62.51},null,0.73333333333333328,0.53777777777777769,61.5,75.5,0,0,null,63.055052511839449,0.98494748816055733,0.97012155443379122,null,"2017-06-09",70.09923594076821,5.0992359407682102,-1.9626943992489014E-3,7.8332166112142455E-4,{"$f":"SQRT(SUMPRODUCT(V30:V$38, V30:V$38))","v":1.2887692100954244},5.6556029725933108,-0.90162551464075191,5.66554445181945,62.664770647632942,5.5286867077173749,{"$f":"SUM(V30:V$39)","v":2.2026061510303192}]
[null,23,2016,"2016-06-08",{"$f":"VLOOKUP(D31, data!$D$5:$E$6326,2, FALSE)","v":61.5},{"$f":"VLOOKUP(D31, data!$G$5:$H$6326,2, FALSE)","v":60.98},null,0.76666666666666672,0.58777777777777784,75.5,76,0,0,null,72.927165964280022,-11.427165964280022,130.58012197519975,null,"2017-06-08",69.674373819188261,4.6743738191882613,-4.375911993507918E-3,1.2092695750072534E-3,{"$f":"SQRT(SUMPRODUCT(V31:V$38, V31:V$38))","v":1.2887677155797623},5.6555964140976895,-0.82650413447757032,5.323032373787818,57.829316386447388,5.4308970469024924,{"$f":"SUM(V31:V$39)","v":2.2045688454295682}]
[null,24,2016,"2016-06-07",{"$f":"VLOOKUP(D32, data!$D$5:$E$6326,2, FALSE)","v":75.5},{"$f":"VLOOKUP(D32, data!$G$5:$H$6326,2, FALSE)","v":59},null,0.8,0.64000000000000012,76,63,0,0,null,75.42793162634662,7.2068373653380036E-2,5.1938504810432017E-3,null,"2017-06-07",69.249812206722197,4.2498122067221971,-6.7554077709057383E-3,5.2087526192898725E-4,{"$f":"SQRT(SUMPRODUCT(V32:V$38, V32:V$38))","v":1.2887602865214711},5.6555638126017618,-0.75143917521587145,4.9897922452475996,53.186217534995741,5.3186643891359289,{"$f":"SUM(V32:V$39)","v":2.2089447574230761}]
[null,25,2016,"2016-06-06",{"$f":"VLOOKUP(D33, data!$D$5:$E$6326,2, FALSE)","v":76},{"$f":"VLOOKUP(D33, data!$G$5:$H$6326,2, FALSE)","v":70.5},null,0.83333333333333337,0.69444444444444453,63,74.930000000000007,0,0,null,63.678086048144216,12.321913951855784,151.82956343693823,null,"2017-06-06",68.861887229682239,3.8618872296822389,-2.9097935355617763E-3,-4.6461879600369115E-3,{"$f":"SQRT(SUMPRODUCT(V33:V$38, V33:V$38))","v":1.2887425811932935},5.6554861149768589,-0.68285681392713327,4.6936592065054228,49.100787024747746,5.202917477524954,{"$f":"SUM(V33:V$39)","v":2.2157001651939821}]
[null,26,2016,"2016-06-05",{"$f":"VLOOKUP(D34, data!$D$5:$E$6326,2, FALSE)","v":63},{"$f":"VLOOKUP(D34, data!$G$5:$H$6326,2, FALSE)","v":70},null,0.8666666666666667,0.75111111111111117,74.930000000000007,66.5,0,0,null,73.641609720216138,-10.641609720216138,113.24385743739859,null,"2017-06-05",68.608258435932584,3.6082584359325836,2.5955250093953428E-2,-2.1723955786304486E-2,{"$f":"SQRT(SUMPRODUCT(V34:V$38, V34:V$38))","v":1.2887392962435551},5.655471699384556,-0.63801193388081923,4.504575662178671,46.508456141166889,5.1202787272642176,{"$f":"SUM(V34:V$39)","v":2.2186099587295436}]
[null,27,2016,"2016-06-04",{"$f":"VLOOKUP(D35, data!$D$5:$E$6326,2, FALSE)","v":74.930000000000007},{"$f":"VLOOKUP(D35, data!$G$5:$H$6326,2, FALSE)","v":67.05},null,0.9,0.81,66.5,67.48,0,0,null,67.160117717688806,7.769882282311201,60.371070680973517,null,"2017-06-04",68.681399599815677,3.681399599815677,0.1213577044909393,-6.2013216185711775E-2,{"$f":"SQRT(SUMPRODUCT(V35:V$38, V35:V$38))","v":1.2884778999559496},5.6543245943717846,-0.65107680649959099,4.5583566457515925,47.238165718320566,5.1438847584731962,{"$f":"SUM(V35:V$39)","v":2.1926547086355903}]
[null,28,2016,"2016-06-03",{"$f":"VLOOKUP(D36, data!$D$5:$E$6326,2, FALSE)","v":66.5},{"$f":"VLOOKUP(D36, data!$G$5:$H$6326,2, FALSE)","v":69.53},null,0.93333333333333335,0.87111111111111117,67.48,75.459999999999994,0,0,null,66.244375535801623,0.2556244641983767,6.5343866696707165E-2,null,"2017-06-03",{"$f":"$O$7+SUMPRODUCT(H$7:I$7, H36:I36) + $J$7*T37+$K$7*T38","v":69.315148620262477},4.3151486202624767,0.34642777026561844,-0.12975712793592104,{"$f":"SQRT(SUMPRODUCT(V36:V$38, V36:V$38))","v":1.2827500170475865},5.6291884944793864,-0.76656673062101144,5.0326089397405198,53.603553484497986,5.3175558994844412,{"$f":"SUM(V36:V$39)","v":2.0712970041446512}]
[null,29,2016,"2016-06-02",{"$f":"VLOOKUP(D37, data!$D$5:$E$6326,2, FALSE)","v":67.48},{"$f":"VLOOKUP(D37, data!$G$5:$H$6326,2, FALSE)","v":68},null,0.96666666666666667,0.93444444444444441,{"$f":"E38","v":75.459999999999994},0,0,1,null,74.300160663868567,-6.8201606638685632,46.51459148098008,null,"2017-06-02",{"$f":"O7 + M7 + SUMPRODUCT(H7:I7, H37:I37) + J7*T38","v":70.381176470583952},5.3811764705839522,{"$f":"J7","v":0.72486923387903257},{"$f":"K7","v":-0.17900763595875713},{"$f":"SQRT(SUMPRODUCT(V37:V$38, V37:V$38))","v":1.2350851817685999},5.4200173085289967,-0.99283381662196468,5.8389438218192105,63.193011332503637,5.3944180759506315,{"$f":"SUM(V37:V$39)","v":1.7248692338790326}]
[null,30,2016,"2016-06-01",{"$f":"VLOOKUP(D38, data!$D$5:$E$6326,2, FALSE)","v":75.459999999999994},{"$f":"VLOOKUP(D38, data!$G$5:$H$6326,2, FALSE)","v":70.53},null,1,1,0,0,1,0,null,70.05352941176335,5.4064705882366439,29.229924221467883,null,"2017-06-01",{"$f":"O7 + L7 + SUMPRODUCT(H7:I7, H38:I38)","v":70.05352941176335},5.0535294117633498,1,null,{"$f":"SQRT(SUMPRODUCT(V38:V$38, V38:V$38))","v":1},4.388375302801153,-1.151571837654273,5.325201457769535,48.325263564223704,4.4685000837409552,{"$f":"SUM(V38:V$39)","v":1}]
[null,31,{"$f":"C9-1","v":2015},{"$f":"DATE(C39, 6, 30)","v":"2015-06-30"},{"$f":"VLOOKUP(D39, data!$D$5:$E$6326,2, FALSE)","v":74.5},{"$f":"VLOOKUP(D39, data!$G$5:$H$6326,2, FALSE)","v":67},null,{"$f":"H9","v":3.3333333333333333E-2},{"$f":"H39*H39","v":1.1111111111111111E-3},{"$f":"E40","v":70.5},{"$f":"E41","v":69},0,0,null,74.148070870091345,0.35192912990865466,0.12385411247826272]
[null,32,2015,{"$f":"D39-1","v":"2015-06-29"},{"$f":"VLOOKUP(D40, data!$D$5:$E$6326,2, FALSE)","v":70.5},{"$f":"VLOOKUP(D40, data!$G$5:$H$6326,2, FALSE)","v":69.5},null,{"$f":"H10","v":6.6666666666666666E-2},4.4444444444444444E-3,{"$f":"E41","v":69},{"$f":"E42","v":66.5},0,0,null,73.368274692738453,-2.8682746927384528,8.226999713003865]
[null,33,2015,"2015-06-28",{"$f":"VLOOKUP(D41, data!$D$5:$E$6326,2, FALSE)","v":69},{"$f":"VLOOKUP(D41, data!$G$5:$H$6326,2, FALSE)","v":66.5},null,0.1,1.0000000000000002E-2,66.5,75.5,0,0,null,69.802805249530579,-0.80280524953057864,0.64449626867385468]
[null,34,2015,"2015-06-27",{"$f":"VLOOKUP(D42, data!$D$5:$E$6326,2, FALSE)","v":66.5},{"$f":"VLOOKUP(D42, data!$G$5:$H$6326,2, FALSE)","v":66},null,0.13333333333333333,1.7777777777777778E-2,75.5,75.5,0,0,null,76.182184501110129,-9.6821845011101288,93.744696713537195]
[null,35,2015,"2015-06-26",{"$f":"VLOOKUP(D43, data!$D$5:$E$6326,2, FALSE)","v":75.5},{"$f":"VLOOKUP(D43, data!$G$5:$H$6326,2, FALSE)","v":62.5},null,0.16666666666666666,2.7777777777777776E-2,75.5,77,0,0,null,75.767012975390003,-0.26701297539000279,7.129592902662224E-2]
[null,36,2015,"2015-06-25",{"$f":"VLOOKUP(D44, data!$D$5:$E$6326,2, FALSE)","v":75.5},{"$f":"VLOOKUP(D44, data!$G$5:$H$6326,2, FALSE)","v":70},null,0.2,4.0000000000000008E-2,77,83.5,0,0,null,75.541890902244376,-4.1890902244375638E-2,1.7548476908478359E-3]
[null,37,2015,"2015-06-24",{"$f":"VLOOKUP(D45, data!$D$5:$E$6326,2, FALSE)","v":77},{"$f":"VLOOKUP(D45, data!$G$5:$H$6326,2, FALSE)","v":69.5},null,0.23333333333333334,5.4444444444444448E-2,83.5,80.5,0,0,null,80.639471321651882,-3.6394713216518824,13.245751501126499]
[null,38,2015,"2015-06-23",{"$f":"VLOOKUP(D46, data!$D$5:$E$6326,2, FALSE)","v":83.5},{"$f":"VLOOKUP(D46, data!$G$5:$H$6326,2, FALSE)","v":72.5},null,0.26666666666666666,7.1111111111111111E-2,80.5,81,0,0,null,78.222051074902652,5.2779489250973484,27.856744855936256]
[null,39,2015,"2015-06-22",{"$f":"VLOOKUP(D47, data!$D$5:$E$6326,2, FALSE)","v":80.5},{"$f":"VLOOKUP(D47, data!$G$5:$H$6326,2, FALSE)","v":74.5},null,0.3,0.09,81,69.5,0,0,null,80.487548559784884,1.2451440215116349E-2,1.5503836343061668E-4]
[null,40,2015,"2015-06-21",{"$f":"VLOOKUP(D48, data!$D$5:$E$6326,2, FALSE)","v":81},{"$f":"VLOOKUP(D48, data!$G$5:$H$6326,2, FALSE)","v":75.5},null,0.33333333333333331,0.1111111111111111,69.5,78,0,0,null,70.472246300493325,10.527753699506675,110.83359795747648]
[null,41,2015,"2015-06-20",{"$f":"VLOOKUP(D49, data!$D$5:$E$6326,2, FALSE)","v":69.5},{"$f":"VLOOKUP(D49, data!$G$5:$H$6326,2, FALSE)","v":65.5},null,0.36666666666666664,0.13444444444444442,78,67,0,0,null,78.442761401527946,-8.942761401527946,79.972981484658078]
[null,42,2015,"2015-06-19",{"$f":"VLOOKUP(D50, data!$D$5:$E$6326,2, FALSE)","v":78},{"$f":"VLOOKUP(D50, data!$G$5:$H$6326,2, FALSE)","v":60.5},null,0.4,0.16000000000000003,67,73.5,0,0,null,69.143476594192919,8.8565234058070814,78.438006837608668]
[null,43,2015,"2015-06-18",{"$f":"VLOOKUP(D51, data!$D$5:$E$6326,2, FALSE)","v":67},{"$f":"VLOOKUP(D51, data!$G$5:$H$6326,2, FALSE)","v":68.5},null,0.43333333333333335,0.18777777777777779,73.5,71.5,0,0,null,74.048752066940139,-7.0487520669401391,49.684905701192882]
[null,44,2015,"2015-06-17",{"$f":"VLOOKUP(D52, data!$D$5:$E$6326,2, FALSE)","v":73.5},{"$f":"VLOOKUP(D52, data!$G$5:$H$6326,2, FALSE)","v":64},null,0.46666666666666667,0.21777777777777779,71.5,74.5,0,0,null,71.895384653471552,1.6046153465284476,2.57479041031461]
[null,45,2015,"2015-06-16",{"$f":"VLOOKUP(D53, data!$D$5:$E$6326,2, FALSE)","v":71.5},{"$f":"VLOOKUP(D53, data!$G$5:$H$6326,2, FALSE)","v":64},null,0.5,0.25,74.5,76.5,0,0,null,73.54315482690663,-2.0431548269066298,4.1744816467118602]
[null,46,2015,"2015-06-15",{"$f":"VLOOKUP(D54, data!$D$5:$E$6326,2, FALSE)","v":74.5},{"$f":"VLOOKUP(D54, data!$G$5:$H$6326,2, FALSE)","v":74},null,0.53333333333333333,0.28444444444444444,76.5,80,0,0,null,74.195328094074299,0.30467190592570148,9.2824970260399486E-2]
[null,47,2015,"2015-06-14",{"$f":"VLOOKUP(D55, data!$D$5:$E$6326,2, FALSE)","v":76.5},{"$f":"VLOOKUP(D55, data!$G$5:$H$6326,2, FALSE)","v":75.5},null,0.56666666666666665,0.32111111111111107,80,81,0,0,null,76.380108083507153,0.11989191649284692,1.4374071640327779E-2]
[null,48,2015,"2015-06-13",{"$f":"VLOOKUP(D56, data!$D$5:$E$6326,2, FALSE)","v":80},{"$f":"VLOOKUP(D56, data!$G$5:$H$6326,2, FALSE)","v":71},null,0.6,0.36,81,81.5,0,0,null,76.840002587771565,3.1599974122284351,9.9855836452904061]
[null,49,2015,"2015-06-12",{"$f":"VLOOKUP(D57, data!$D$5:$E$6326,2, FALSE)","v":81},{"$f":"VLOOKUP(D57, data!$G$5:$H$6326,2, FALSE)","v":61.5},null,0.6333333333333333,0.40111111111111108,81.5,75.5,0,0,null,78.098795890378113,2.9012041096218866,8.4169852856869234]
[null,50,2015,"2015-06-11",{"$f":"VLOOKUP(D58, data!$D$5:$E$6326,2, FALSE)","v":81.5},{"$f":"VLOOKUP(D58, data!$G$5:$H$6326,2, FALSE)","v":65},null,0.66666666666666663,0.44444444444444442,75.5,77,0,0,null,73.301165684630035,8.1988343153699645,67.220884130888081]
[null,51,2015,"2015-06-10",{"$f":"VLOOKUP(D59, data!$D$5:$E$6326,2, FALSE)","v":75.5},{"$f":"VLOOKUP(D59, data!$G$5:$H$6326,2, FALSE)","v":80},null,0.7,0.48999999999999994,77,73,0,0,null,74.922380512297593,0.57761948770240679,0.33364427257359086]
[null,52,2015,"2015-06-09",{"$f":"VLOOKUP(D60, data!$D$5:$E$6326,2, FALSE)","v":77},{"$f":"VLOOKUP(D60, data!$G$5:$H$6326,2, FALSE)","v":72.5},null,0.73333333333333328,0.53777777777777769,73,62.5,0,0,null,73.718147968912163,3.281852031087837,10.770552753955361]
[null,53,2015,"2015-06-08",{"$f":"VLOOKUP(D61, data!$D$5:$E$6326,2, FALSE)","v":73},{"$f":"VLOOKUP(D61, data!$G$5:$H$6326,2, FALSE)","v":72.5},null,0.76666666666666672,0.58777777777777784,62.5,69.5,0,0,null,64.667415557584519,8.3325844424154809,69.431963489984511]
[null,54,2015,"2015-06-07",{"$f":"VLOOKUP(D62, data!$D$5:$E$6326,2, FALSE)","v":62.5},{"$f":"VLOOKUP(D62, data!$G$5:$H$6326,2, FALSE)","v":68},null,0.8,0.64000000000000012,69.5,64,0,0,null,70.537273970174155,-8.0372739701741551,64.597772871639023]
[null,55,2015,"2015-06-06",{"$f":"VLOOKUP(D63, data!$D$5:$E$6326,2, FALSE)","v":69.5},{"$f":"VLOOKUP(D63, data!$G$5:$H$6326,2, FALSE)","v":61.5},null,0.83333333333333337,0.69444444444444453,64,61.5,0,0,null,66.807027832949359,2.692972167050641,7.2520990925094253]
[null,56,2015,"2015-06-05",{"$f":"VLOOKUP(D64, data!$D$5:$E$6326,2, FALSE)","v":64},{"$f":"VLOOKUP(D64, data!$G$5:$H$6326,2, FALSE)","v":62.5},null,0.8666666666666667,0.75111111111111117,61.5,61.5,0,0,null,64.801654089014519,-0.8016540890145194,0.64264927843369901]
[null,57,2015,"2015-06-04",{"$f":"VLOOKUP(D65, data!$D$5:$E$6326,2, FALSE)","v":61.5},{"$f":"VLOOKUP(D65, data!$G$5:$H$6326,2, FALSE)","v":69},null,0.9,0.81,61.5,53,0,0,null,66.12780211697644,-4.6278021169764401,21.416552433891621]
[null,58,2015,"2015-06-03",{"$f":"VLOOKUP(D66, data!$D$5:$E$6326,2, FALSE)","v":61.5},{"$f":"VLOOKUP(D66, data!$G$5:$H$6326,2, FALSE)","v":63.5},null,0.93333333333333335,0.87111111111111117,53,56.5,0,0,null,59.142253807011258,2.357746192988742,5.5589671105529064]
[null,59,2015,"2015-06-02",{"$f":"VLOOKUP(D67, data!$D$5:$E$6326,2, FALSE)","v":53},{"$f":"VLOOKUP(D67, data!$G$5:$H$6326,2, FALSE)","v":56},null,0.96666666666666667,0.93444444444444441,{"$f":"E68","v":56.5},0,0,1,null,60.556639989522125,{"$f":"E67-O67","v":-7.5566399895221252},57.102807931244946]
[null,60,2015,"2015-06-01",{"$f":"VLOOKUP(D68, data!$D$5:$E$6326,2, FALSE)","v":56.5},{"$f":"VLOOKUP(D68, data!$G$5:$H$6326,2, FALSE)","v":52},null,1,1,0,0,1,0,null,70.05352941176335,-13.55352941176335,183.69815951553417]
[null,61,2014,{"$f":"DATE(C69, 6, 30)","v":"2014-06-30"},{"$f":"VLOOKUP(D69, data!$D$5:$E$6326,2, FALSE)","v":76},{"$f":"VLOOKUP(D69, data!$G$5:$H$6326,2, FALSE)","v":77},null,{"$f":"H39","v":3.3333333333333333E-2},{"$f":"H69*H69","v":1.1111111111111111E-3},{"$f":"E70","v":74},{"$f":"E71","v":75.5},0,0,null,75.521563554936051,0.47843644506394867,0.22890143196542878]
[null,62,2014,{"$f":"D69-1","v":"2014-06-29"},{"$f":"VLOOKUP(D70, data!$D$5:$E$6326,2, FALSE)","v":74},{"$f":"VLOOKUP(D70, data!$G$5:$H$6326,2, FALSE)","v":77},null,6.6666666666666666E-2,4.4444444444444444E-3,{"$f":"E71","v":75.5},{"$f":"E72","v":75},0,0,null,76.558359807302736,-2.558359807302736,6.5452049036220927]
[null,63,2014,"2014-06-28",{"$f":"VLOOKUP(D71, data!$D$5:$E$6326,2, FALSE)","v":75.5},{"$f":"VLOOKUP(D71, data!$G$5:$H$6326,2, FALSE)","v":79},null,0.1,1.0000000000000002E-2,75,80,0,0,null,75.158659375687947,0.34134062431205336,0.11651342180574235]
[null,64,2014,"2014-06-27",{"$f":"VLOOKUP(D72, data!$D$5:$E$6326,2, FALSE)","v":75},{"$f":"VLOOKUP(D72, data!$G$5:$H$6326,2, FALSE)","v":73.5},null,0.13333333333333333,1.7777777777777778E-2,80,77.5,0,0,null,79.086080781648263,-4.0860807816482634,16.696056154155283]
[null,65,2014,"2014-06-26",{"$f":"VLOOKUP(D73, data!$D$5:$E$6326,2, FALSE)","v":80},{"$f":"VLOOKUP(D73, data!$G$5:$H$6326,2, FALSE)","v":68.5},null,0.16666666666666666,2.7777777777777776E-2,77.5,74.5,0,0,null,77.664270533044956,2.3357294669550441,5.4556321428020942]
[null,66,2014,"2014-06-25",{"$f":"VLOOKUP(D74, data!$D$5:$E$6326,2, FALSE)","v":77.5},{"$f":"VLOOKUP(D74, data!$G$5:$H$6326,2, FALSE)","v":69.5},null,0.2,{"$f":"H74*H74","v":4.0000000000000008E-2},74.5,73,0,0,null,{"$f":"$O$7+SUMPRODUCT(H$7:M$7, H74:M74)","v":75.609297995113749},{"$f":"E74-O74","v":1.8907020048862506},{"$f":"P74*P74","v":3.5747540712808878}]
[null,{"$f":"B74+1","v":67},2014,"2014-06-24",{"$f":"VLOOKUP(D75, data!$D$5:$E$6326,2, FALSE)","v":74.5},{"$f":"VLOOKUP(D75, data!$G$5:$H$6326,2, FALSE)","v":78.5},null,0.23333333333333334,5.4444444444444448E-2,73,70.5,0,0,null,74.818420725509597,-0.31842072550959699,0.10139175843405811]
[null,68,2014,"2014-06-23",{"$f":"VLOOKUP(D76, data!$D$5:$E$6326,2, FALSE)","v":73},{"$f":"VLOOKUP(D76, data!$G$5:$H$6326,2, FALSE)","v":73.5},null,0.26666666666666666,7.1111111111111111E-2,70.5,68,0,0,null,73.300458003576168,-0.3004580035761677,9.0275011912976405E-2]
[null,69,2014,"2014-06-22",{"$f":"VLOOKUP(D77, data!$D$5:$E$6326,2, FALSE)","v":70.5},{"$f":"VLOOKUP(D77, data!$G$5:$H$6326,2, FALSE)","v":72.5},null,0.3,0.09,68,72,0,0,null,70.616729429460577,-0.11672942946057674,1.3625759702191761E-2]
[null,70,2014,"2014-06-21",{"$f":"VLOOKUP(D78, data!$D$5:$E$6326,2, FALSE)","v":68},{"$f":"VLOOKUP(D78, data!$G$5:$H$6326,2, FALSE)","v":72},null,0.33333333333333331,0.1111111111111111,72,77.5,0,0,null,72.373923203170278,-4.3739232031702784,19.131204187231347]
[null,71,2014,"2014-06-20",{"$f":"VLOOKUP(D79, data!$D$5:$E$6326,2, FALSE)","v":72},{"$f":"VLOOKUP(D79, data!$G$5:$H$6326,2, FALSE)","v":74},null,0.36666666666666664,0.13444444444444442,77.5,83.5,0,0,null,75.126700791268931,-3.1267007912689309,9.776257838121758]
[null,72,2014,"2014-06-19",{"$f":"VLOOKUP(D80, data!$D$5:$E$6326,2, FALSE)","v":77.5},{"$f":"VLOOKUP(D80, data!$G$5:$H$6326,2, FALSE)","v":69},null,0.4,0.16000000000000003,83.5,80.5,0,0,null,79.850765501485654,-2.3507655014856539,5.5260984429750977]
[null,73,2014,"2014-06-18",{"$f":"VLOOKUP(D81, data!$D$5:$E$6326,2, FALSE)","v":83.5},{"$f":"VLOOKUP(D81, data!$G$5:$H$6326,2, FALSE)","v":71.5},null,0.43333333333333335,0.18777777777777779,80.5,71,0,0,null,79.212340522072751,4.2876594779272494,18.384023798659374]
[null,74,2014,"2014-06-17",{"$f":"VLOOKUP(D82, data!$D$5:$E$6326,2, FALSE)","v":80.5},{"$f":"VLOOKUP(D82, data!$G$5:$H$6326,2, FALSE)","v":84},null,0.46666666666666667,0.21777777777777779,71,70.5,0,0,null,72.248980580367061,8.2510194196329394,68.079321463159886]
[null,75,2014,"2014-06-16",{"$f":"VLOOKUP(D83, data!$D$5:$E$6326,2, FALSE)","v":71},{"$f":"VLOOKUP(D83, data!$G$5:$H$6326,2, FALSE)","v":77.5},null,0.5,0.25,70.5,68.5,0,0,null,72.07573897906056,-1.07573897906056,1.1572143510702559]
[null,76,2014,"2014-06-15",{"$f":"VLOOKUP(D84, data!$D$5:$E$6326,2, FALSE)","v":70.5},{"$f":"VLOOKUP(D84, data!$G$5:$H$6326,2, FALSE)","v":72},null,0.53333333333333333,0.28444444444444444,68.5,75,0,0,null,69.291412402835817,1.2085875971641826,1.4606839800190925]
[null,77,2014,"2014-06-14",{"$f":"VLOOKUP(D85, data!$D$5:$E$6326,2, FALSE)","v":68.5},{"$f":"VLOOKUP(D85, data!$G$5:$H$6326,2, FALSE)","v":65.5},null,0.56666666666666665,0.32111111111111107,75,67,0,0,null,75.261868817534605,-6.7618688175346051,45.722869905546837]
[null,78,2014,"2014-06-13",{"$f":"VLOOKUP(D86, data!$D$5:$E$6326,2, FALSE)","v":75},{"$f":"VLOOKUP(D86, data!$G$5:$H$6326,2, FALSE)","v":65},null,0.6,0.36,67,67.5,0,0,null,69.197940216887702,5.8020597831122984,33.663897726809132]
[null,79,2014,"2014-06-12",{"$f":"VLOOKUP(D87, data!$D$5:$E$6326,2, FALSE)","v":67},{"$f":"VLOOKUP(D87, data!$G$5:$H$6326,2, FALSE)","v":68.5},null,0.6333333333333333,0.40111111111111108,67.5,71.5,0,0,null,68.666657159906691,-1.6666571599066913,2.7777460886682381]
[null,80,2014,"2014-06-11",{"$f":"VLOOKUP(D88, data!$D$5:$E$6326,2, FALSE)","v":67.5},{"$f":"VLOOKUP(D88, data!$G$5:$H$6326,2, FALSE)","v":62},null,0.66666666666666663,0.44444444444444442,71.5,67.5,0,0,null,72.102261290722097,-4.6022612907220974,21.180808988079026]
[null,81,2014,"2014-06-10",{"$f":"VLOOKUP(D89, data!$D$5:$E$6326,2, FALSE)","v":71.5},{"$f":"VLOOKUP(D89, data!$G$5:$H$6326,2, FALSE)","v":61},null,0.7,0.48999999999999994,67.5,74,0,0,null,67.857115154488042,3.6428848455119578,13.27060999766068]
[null,82,2014,"2014-06-09",{"$f":"VLOOKUP(D90, data!$D$5:$E$6326,2, FALSE)","v":67.5},{"$f":"VLOOKUP(D90, data!$G$5:$H$6326,2, FALSE)","v":66.5},null,0.73333333333333328,0.53777777777777769,74,73.5,0,0,null,72.473933207244869,-4.973933207244869,24.740011550133229]
[null,83,2014,"2014-06-08",{"$f":"VLOOKUP(D91, data!$D$5:$E$6326,2, FALSE)","v":74},{"$f":"VLOOKUP(D91, data!$G$5:$H$6326,2, FALSE)","v":63},null,0.76666666666666672,0.58777777777777784,73.5,70,0,0,null,72.55147331227451,1.4485266877254901,2.0982295650529794]
[null,84,2014,"2014-06-07",{"$f":"VLOOKUP(D92, data!$D$5:$E$6326,2, FALSE)","v":73.5},{"$f":"VLOOKUP(D92, data!$G$5:$H$6326,2, FALSE)","v":70.5},null,0.8,0.64000000000000012,70,70,0,0,null,69.825662771361124,3.6743372286388762,13.500754069761618]
[null,85,2014,"2014-06-06",{"$f":"VLOOKUP(D93, data!$D$5:$E$6326,2, FALSE)","v":70},{"$f":"VLOOKUP(D93, data!$G$5:$H$6326,2, FALSE)","v":65},null,0.83333333333333337,0.69444444444444453,70,74.5,0,0,null,68.829143968759709,1.1708560312402909,1.3709038458917651]
[null,86,2014,"2014-06-05",{"$f":"VLOOKUP(D94, data!$D$5:$E$6326,2, FALSE)","v":70},{"$f":"VLOOKUP(D94, data!$G$5:$H$6326,2, FALSE)","v":64},null,0.8666666666666667,0.75111111111111117,74.5,76,0,0,null,71.629343408039972,-1.629343408039972,2.6547599413233107]
[null,87,2014,"2014-06-04",{"$f":"VLOOKUP(D95, data!$D$5:$E$6326,2, FALSE)","v":74.5},{"$f":"VLOOKUP(D95, data!$G$5:$H$6326,2, FALSE)","v":62.5},null,0.9,0.81,76,68.5,0,0,null,73.863787650861681,0.6362123491383187,0.40476615319609793]
[null,88,2014,"2014-06-03",{"$f":"VLOOKUP(D96, data!$D$5:$E$6326,2, FALSE)","v":76},{"$f":"VLOOKUP(D96, data!$G$5:$H$6326,2, FALSE)","v":73.5},null,0.93333333333333335,0.87111111111111117,68.5,65.5,0,0,null,68.766658208507451,7.2333417914925491,52.321233472552642]
[null,89,2014,"2014-06-02",{"$f":"VLOOKUP(D97, data!$D$5:$E$6326,2, FALSE)","v":68.5},{"$f":"VLOOKUP(D97, data!$G$5:$H$6326,2, FALSE)","v":75.5},null,0.96666666666666667,0.93444444444444441,{"$f":"E98","v":65.5},0,0,1,null,67.080463094433412,1.4195369055665878,2.015085026265564]
[null,90,2014,"2014-06-01",{"$f":"VLOOKUP(D98, data!$D$5:$E$6326,2, FALSE)","v":65.5},{"$f":"VLOOKUP(D98, data!$G$5:$H$6326,2, FALSE)","v":76.5},null,1,1,0,0,1,0,null,70.05352941176335,-4.5535294117633498,20.734630103793879]
[null,91,2013,{"$f":"DATE(C99, 6, 30)","v":"2013-06-30"},{"$f":"VLOOKUP(D99, data!$D$5:$E$6326,2, FALSE)","v":79.5},{"$f":"VLOOKUP(D99, data!$G$5:$H$6326,2, FALSE)","v":69.53},null,{"$f":"H69","v":3.3333333333333333E-2},{"$f":"H99*H99","v":1.1111111111111111E-3},{"$f":"E100","v":77.5},{"$f":"E101","v":81.5},0,0,null,76.98456005776012,2.5154399422398797,6.3274381030157691]
[null,92,2013,{"$f":"D99-1","v":"2013-06-29"},{"$f":"VLOOKUP(D100, data!$D$5:$E$6326,2, FALSE)","v":77.5},{"$f":"VLOOKUP(D100, data!$G$5:$H$6326,2, FALSE)","v":68},null,6.6666666666666666E-2,{"$f":"H100*H100","v":4.4444444444444444E-3},{"$f":"E101","v":81.5},{"$f":"E102","v":80.5},0,0,null,79.923033212803773,-2.423033212803773,5.8710899503501741]
[null,93,2013,"2013-06-28",{"$f":"VLOOKUP(D101, data!$D$5:$E$6326,2, FALSE)","v":81.5},{"$f":"VLOOKUP(D101, data!$G$5:$H$6326,2, FALSE)","v":75},null,0.1,1.0000000000000002E-2,80.5,81,0,0,null,78.966432526063869,2.5335674739361309,6.4189641449871075]
[null,94,2013,"2013-06-27",{"$f":"VLOOKUP(D102, data!$D$5:$E$6326,2, FALSE)","v":80.5},{"$f":"VLOOKUP(D102, data!$G$5:$H$6326,2, FALSE)","v":77},null,0.13333333333333333,1.7777777777777778E-2,81,82,0,0,null,79.005415653712873,1.4945843462871267,2.2337823681665179]
[null,95,{"$f":"C73-1","v":2013},"2013-06-26",{"$f":"VLOOKUP(D103, data!$D$5:$E$6326,2, FALSE)","v":81},{"$f":"VLOOKUP(D103, data!$G$5:$H$6326,2, FALSE)","v":73},null,0.16666666666666666,2.7777777777777776E-2,82,84.5,0,0,null,79.13610572591304,1.8638942740869595,3.4741018649741537]
[null,96,2013,"2013-06-25",{"$f":"VLOOKUP(D104, data!$D$5:$E$6326,2, FALSE)","v":82},{"$f":"VLOOKUP(D104, data!$G$5:$H$6326,2, FALSE)","v":76},null,{"$f":"H74","v":0.2},4.0000000000000008E-2,84.5,78,0,0,null,81.962952154110297,3.7047845889702558E-2,1.3725428850671507E-3]
[null,97,2013,"2013-06-24",{"$f":"VLOOKUP(D105, data!$D$5:$E$6326,2, FALSE)","v":84.5},{"$f":"VLOOKUP(D105, data!$G$5:$H$6326,2, FALSE)","v":78},null,0.23333333333333334,5.4444444444444448E-2,78,73,0,0,null,77.995247805007864,6.5047521949921361,42.311801118255012]
[null,98,2013,"2013-06-23",{"$f":"VLOOKUP(D106, data!$D$5:$E$6326,2, FALSE)","v":78},{"$f":"VLOOKUP(D106, data!$G$5:$H$6326,2, FALSE)","v":76.55},null,0.26666666666666666,7.1111111111111111E-2,73,72,0,0,null,74.396600544438726,3.6033994555612736,12.984487636339283]
[null,99,2013,"2013-06-22",{"$f":"VLOOKUP(D107, data!$D$5:$E$6326,2, FALSE)","v":73},{"$f":"VLOOKUP(D107, data!$G$5:$H$6326,2, FALSE)","v":73.5},null,0.3,0.09,72,69.55,0,0,null,73.954775073075652,-0.9547750730756519,0.91159544016661642]
[null,100,2013,"2013-06-21",{"$f":"VLOOKUP(D108, data!$D$5:$E$6326,2, FALSE)","v":72},{"$f":"VLOOKUP(D108, data!$G$5:$H$6326,2, FALSE)","v":75},null,0.33333333333333331,0.1111111111111111,69.55,69,0,0,null,72.119558485816086,-0.11955848581608564,1.429423153063515E-2]
[null,101,2013,"2013-06-20",{"$f":"VLOOKUP(D109, data!$D$5:$E$6326,2, FALSE)","v":69.55},{"$f":"VLOOKUP(D109, data!$G$5:$H$6326,2, FALSE)","v":71},null,0.36666666666666664,0.13444444444444442,69,74,0,0,null,70.665884844905349,-1.1158848449053522,1.245198987089442]
[null,102,2013,"2013-06-19",{"$f":"VLOOKUP(D110, data!$D$5:$E$6326,2, FALSE)","v":69},{"$f":"VLOOKUP(D110, data!$G$5:$H$6326,2, FALSE)","v":64},null,0.4,0.16000000000000003,74,77,0,0,null,73.591034505490484,-4.5910345054904838,21.077597830604251]
[null,103,2013,"2013-06-18",{"$f":"VLOOKUP(D111, data!$D$5:$E$6326,2, FALSE)","v":74},{"$f":"VLOOKUP(D111, data!$G$5:$H$6326,2, FALSE)","v":63.5},null,0.43333333333333335,0.18777777777777779,77,72.5,0,0,null,76.406786749557995,-2.4067867495579947,5.7926224578479371]
[null,104,2013,"2013-06-17",{"$f":"VLOOKUP(D112, data!$D$5:$E$6326,2, FALSE)","v":77},{"$f":"VLOOKUP(D112, data!$G$5:$H$6326,2, FALSE)","v":73.5},null,0.46666666666666667,0.21777777777777779,72.5,70.5,0,0,null,73.336284431185618,3.6637155688143821,13.422811769172892]
[null,105,2013,"2013-06-16",{"$f":"VLOOKUP(D113, data!$D$5:$E$6326,2, FALSE)","v":72.5},{"$f":"VLOOKUP(D113, data!$G$5:$H$6326,2, FALSE)","v":77.55},null,0.5,0.25,70.5,63.5,0,0,null,72.970777158854347,-0.47077715885434657,0.22163113329897066]
[null,106,2013,"2013-06-15",{"$f":"VLOOKUP(D114, data!$D$5:$E$6326,2, FALSE)","v":70.5},{"$f":"VLOOKUP(D114, data!$G$5:$H$6326,2, FALSE)","v":69},null,0.53333333333333333,0.28444444444444444,63.5,62,0,0,null,67.994165500904501,2.5058344990954993,6.2792065368571919]
[null,107,2013,"2013-06-14",{"$f":"VLOOKUP(D115, data!$D$5:$E$6326,2, FALSE)","v":63.5},{"$f":"VLOOKUP(D115, data!$G$5:$H$6326,2, FALSE)","v":67},null,0.56666666666666665,0.32111111111111107,62,73.5,0,0,null,64.675019143375252,-1.1750191433752519,1.3806699872983108]
[null,108,2013,"2013-06-13",{"$f":"VLOOKUP(D116, data!$D$5:$E$6326,2, FALSE)","v":62},{"$f":"VLOOKUP(D116, data!$G$5:$H$6326,2, FALSE)","v":65.5},null,0.6,0.36,73.5,74.5,0,0,null,72.656536785390117,-10.656536785390117,113.56177625837272]
[null,109,2013,"2013-06-12",{"$f":"VLOOKUP(D117, data!$D$5:$E$6326,2, FALSE)","v":73.5},{"$f":"VLOOKUP(D117, data!$G$5:$H$6326,2, FALSE)","v":74.5},null,0.6333333333333333,0.40111111111111108,74.5,68.5,0,0,null,74.277764704936189,-0.77776470493618888,0.60491793624447698]
[null,110,2013,"2013-06-11",{"$f":"VLOOKUP(D118, data!$D$5:$E$6326,2, FALSE)","v":74.5},{"$f":"VLOOKUP(D118, data!$G$5:$H$6326,2, FALSE)","v":71.5},null,0.66666666666666663,0.44444444444444442,68.5,72.5,0,0,null,69.032615409291211,5.4673845907087895,29.892294262719918]
[null,111,2013,"2013-06-10",{"$f":"VLOOKUP(D119, data!$D$5:$E$6326,2, FALSE)","v":68.5},{"$f":"VLOOKUP(D119, data!$G$5:$H$6326,2, FALSE)","v":68},null,0.7,0.48999999999999994,72.5,68.5,0,0,null,72.466003321656359,-3.966003321656359,15.729182347389273]
[null,112,2013,"2013-06-09",{"$f":"VLOOKUP(D120, data!$D$5:$E$6326,2, FALSE)","v":72.5},{"$f":"VLOOKUP(D120, data!$G$5:$H$6326,2, FALSE)","v":67.5},null,0.73333333333333328,0.53777777777777769,68.5,62.5,0,0,null,70.45623641645652,2.0437635835434804,4.1769695854184885]
[null,113,2013,"2013-06-08",{"$f":"VLOOKUP(D121, data!$D$5:$E$6326,2, FALSE)","v":68.5},{"$f":"VLOOKUP(D121, data!$G$5:$H$6326,2, FALSE)","v":61.5},null,0.76666666666666672,0.58777777777777784,62.5,65,0,0,null,65.472949919398928,3.0270500806010716,9.1630321904669536]
[null,114,2013,"2013-06-07",{"$f":"VLOOKUP(D122, data!$D$5:$E$6326,2, FALSE)","v":62.5},{"$f":"VLOOKUP(D122, data!$G$5:$H$6326,2, FALSE)","v":60},null,0.8,0.64000000000000012,65,63,0,0,null,67.454370053677266,-4.9543700536772661,24.545782628774077]
[null,115,2013,"2013-06-06",{"$f":"VLOOKUP(D123, data!$D$5:$E$6326,2, FALSE)","v":65},{"$f":"VLOOKUP(D123, data!$G$5:$H$6326,2, FALSE)","v":58.05},null,0.83333333333333337,0.69444444444444453,63,67.5,0,0,null,65.008112783317785,-8.1127833177845332E-3,6.5817253161323024E-5]
[null,116,2013,"2013-06-05",{"$f":"VLOOKUP(D124, data!$D$5:$E$6326,2, FALSE)","v":63},{"$f":"VLOOKUP(D124, data!$G$5:$H$6326,2, FALSE)","v":63.5},null,0.8666666666666667,0.75111111111111117,67.5,73,0,0,null,67.092281678763015,-4.0922816787630154,16.746769338339444]
[null,117,2013,"2013-06-04",{"$f":"VLOOKUP(D125, data!$D$5:$E$6326,2, FALSE)","v":67.5},{"$f":"VLOOKUP(D125, data!$G$5:$H$6326,2, FALSE)","v":61},null,0.9,0.81,73,80,0,0,null,69.630592135698876,-2.1305921356988762,4.5394228487018982]
[null,118,2013,"2013-06-03",{"$f":"VLOOKUP(D126, data!$D$5:$E$6326,2, FALSE)","v":73},{"$f":"VLOOKUP(D126, data!$G$5:$H$6326,2, FALSE)","v":55.5},null,0.93333333333333335,0.87111111111111117,80,82.5,0,0,null,74.059524586817446,-1.0595245868174459,1.1225923500706794]
[null,119,2013,"2013-06-02",{"$f":"VLOOKUP(D127, data!$D$5:$E$6326,2, FALSE)","v":80},{"$f":"VLOOKUP(D127, data!$G$5:$H$6326,2, FALSE)","v":53},null,0.96666666666666667,0.93444444444444441,{"$f":"E128","v":82.5},0,0,1,null,79.403240070376967,0.59675992962303326,0.35612241360368763]
[null,120,2013,"2013-06-01",{"$f":"VLOOKUP(D128, data!$D$5:$E$6326,2, FALSE)","v":82.5},{"$f":"VLOOKUP(D128, data!$G$5:$H$6326,2, FALSE)","v":69.5},null,1,1,0,0,1,0,null,70.05352941176335,12.44647058823665,154.91463010383998]
[null,121,2012,{"$f":"DATE(C129, 6, 30)","v":"2012-06-30"},{"$f":"VLOOKUP(D129, data!$D$5:$E$6326,2, FALSE)","v":87},{"$f":"VLOOKUP(D129, data!$G$5:$H$6326,2, FALSE)","v":80.5},null,{"$f":"H99","v":3.3333333333333333E-2},{"$f":"H129*H129","v":1.1111111111111111E-3},{"$f":"E130","v":84.5},{"$f":"E131","v":79},0,0,null,82.506163784810241,4.4938362151897593,20.19456392895102]
[null,122,2012,{"$f":"D129-1","v":"2012-06-29"},{"$f":"VLOOKUP(D130, data!$D$5:$E$6326,2, FALSE)","v":84.5},{"$f":"VLOOKUP(D130, data!$G$5:$H$6326,2, FALSE)","v":78.5},null,{"$f":"H100","v":6.6666666666666666E-2},4.4444444444444444E-3,{"$f":"E131","v":79},{"$f":"E132","v":74},0,0,null,79.274409761838101,5.2255902381618995,27.306793337172937]
[null,123,2012,"2012-06-28",{"$f":"VLOOKUP(D131, data!$D$5:$E$6326,2, FALSE)","v":79},{"$f":"VLOOKUP(D131, data!$G$5:$H$6326,2, FALSE)","v":88},null,0.1,1.0000000000000002E-2,74,68,0,0,null,76.581881773313995,2.4181182266860048,5.847295758231069]
[null,124,2012,"2012-06-27",{"$f":"VLOOKUP(D132, data!$D$5:$E$6326,2, FALSE)","v":74},{"$f":"VLOOKUP(D132, data!$G$5:$H$6326,2, FALSE)","v":74.5},null,0.13333333333333333,1.7777777777777778E-2,68,69,0,0,null,71.909214880749303,2.0907851192506968,4.3713824148801503]
[null,125,2012,"2012-06-26",{"$f":"VLOOKUP(D133, data!$D$5:$E$6326,2, FALSE)","v":68},{"$f":"VLOOKUP(D133, data!$G$5:$H$6326,2, FALSE)","v":69.5},null,0.16666666666666666,2.7777777777777776E-2,69,76.5,0,0,null,71.144866773155655,-3.1448667731556554,9.8901870208984644]
[null,126,2012,"2012-06-25",{"$f":"VLOOKUP(D134, data!$D$5:$E$6326,2, FALSE)","v":69},{"$f":"VLOOKUP(D134, data!$G$5:$H$6326,2, FALSE)","v":68},null,0.2,4.0000000000000008E-2,76.5,78.5,0,0,null,76.074494465098653,-7.0744944650986525,50.048471936711472]
[null,127,2012,"2012-06-24",{"$f":"VLOOKUP(D135, data!$D$5:$E$6326,2, FALSE)","v":76.5},{"$f":"VLOOKUP(D135, data!$G$5:$H$6326,2, FALSE)","v":79.5},null,0.23333333333333334,5.4444444444444448E-2,78.5,83.5,0,0,null,76.478102244380437,2.1897755619562531E-2,4.795117011740824E-4]
[null,128,2012,"2012-06-23",{"$f":"VLOOKUP(D136, data!$D$5:$E$6326,2, FALSE)","v":78.5},{"$f":"VLOOKUP(D136, data!$G$5:$H$6326,2, FALSE)","v":74.5},null,0.26666666666666666,7.1111111111111111E-2,83.5,89,0,0,null,78.964597688869702,-0.4645976888697021,0.21585101250306851]
[null,129,2012,"2012-06-22",{"$f":"VLOOKUP(D137, data!$D$5:$E$6326,2, FALSE)","v":83.5},{"$f":"VLOOKUP(D137, data!$G$5:$H$6326,2, FALSE)","v":75.5},null,0.3,0.09,89,84,0,0,null,83.690891709415155,-0.19089170941515476,3.6439644723439885E-2]
[null,130,2012,"2012-06-21",{"$f":"VLOOKUP(D138, data!$D$5:$E$6326,2, FALSE)","v":89},{"$f":"VLOOKUP(D138, data!$G$5:$H$6326,2, FALSE)","v":77.5},null,0.33333333333333331,0.1111111111111111,84,72.5,0,0,null,{"$f":"$O$7+SUMPRODUCT(H$7:M$7, H138:M138)","v":81.967392189512466},{"$f":"E138-O138","v":7.0326078104875336},{"$f":"P138*P138","v":49.457572616130264}]
[null,{"$f":"B138+1","v":131},2012,"2012-06-20",{"$f":"VLOOKUP(D139, data!$D$5:$E$6326,2, FALSE)","v":84},{"$f":"VLOOKUP(D139, data!$G$5:$H$6326,2, FALSE)","v":86},null,0.36666666666666664,0.13444444444444442,72.5,64.5,0,0,null,74.903499705090155,9.0965002949098448,82.746317615294899]
[null,132,2012,"2012-06-19",{"$f":"VLOOKUP(D140, data!$D$5:$E$6326,2, FALSE)","v":72.5},{"$f":"VLOOKUP(D140, data!$G$5:$H$6326,2, FALSE)","v":86.5},null,0.4,0.16000000000000003,64.5,65.5,0,0,null,68.763364597165392,3.736635402834608,13.962444133716954]
[null,133,2012,"2012-06-18",{"$f":"VLOOKUP(D141, data!$D$5:$E$6326,2, FALSE)","v":64.5},{"$f":"VLOOKUP(D141, data!$G$5:$H$6326,2, FALSE)","v":81.5},null,0.43333333333333335,0.18777777777777779,65.5,70.5,0,0,null,68.42880583186664,-3.9288058318666401,15.435515264509322]
[null,134,2012,"2012-06-17",{"$f":"VLOOKUP(D142, data!$D$5:$E$6326,2, FALSE)","v":65.5},{"$f":"VLOOKUP(D142, data!$G$5:$H$6326,2, FALSE)","v":78},null,0.46666666666666667,0.21777777777777779,70.5,70,0,0,null,71.976049781406928,-6.4760497814069282,41.939220771260722]
[null,135,2012,"2012-06-16",{"$f":"VLOOKUP(D143, data!$D$5:$E$6326,2, FALSE)","v":70.5},{"$f":"VLOOKUP(D143, data!$G$5:$H$6326,2, FALSE)","v":81.5},null,0.5,0.25,70,70.5,0,0,null,71.355289090203527,-0.85528909020352728,0.7315194278211774]
[null,136,2012,"2012-06-15",{"$f":"VLOOKUP(D144, data!$D$5:$E$6326,2, FALSE)","v":70},{"$f":"VLOOKUP(D144, data!$G$5:$H$6326,2, FALSE)","v":76.5},null,0.53333333333333333,0.28444444444444444,70.5,69,0,0,null,71.815196686346439,-1.8151966863464395,3.2949390101230942]
[null,137,2012,"2012-06-14",{"$f":"VLOOKUP(D145, data!$D$5:$E$6326,2, FALSE)","v":70.5},{"$f":"VLOOKUP(D145, data!$G$5:$H$6326,2, FALSE)","v":71.5},null,0.56666666666666665,0.32111111111111107,69,70,0,0,null,70.375630506384127,0.12436949361587324,1.5467770942268734E-2]
[null,138,2012,"2012-06-13",{"$f":"VLOOKUP(D146, data!$D$5:$E$6326,2, FALSE)","v":69},{"$f":"VLOOKUP(D146, data!$G$5:$H$6326,2, FALSE)","v":63},null,0.6,0.36,70,70.5,0,0,null,70.835525010648524,-1.8355250106485244,3.3691520647162654]
[null,139,2012,"2012-06-12",{"$f":"VLOOKUP(D147, data!$D$5:$E$6326,2, FALSE)","v":70},{"$f":"VLOOKUP(D147, data!$G$5:$H$6326,2, FALSE)","v":68.5},null,0.6333333333333333,0.40111111111111108,70.5,77,0,0,null,69.856722863770614,0.14327713622938631,2.0528337766094123E-2]
[null,140,2012,"2012-06-11",{"$f":"VLOOKUP(D148, data!$D$5:$E$6326,2, FALSE)","v":70.5},{"$f":"VLOOKUP(D148, data!$G$5:$H$6326,2, FALSE)","v":80},null,0.66666666666666663,0.44444444444444442,77,73,0,0,null,75.104500079283611,-4.6045000792836106,21.201420980122776]
[null,141,2012,"2012-06-10",{"$f":"VLOOKUP(D149, data!$D$5:$E$6326,2, FALSE)","v":77},{"$f":"VLOOKUP(D149, data!$G$5:$H$6326,2, FALSE)","v":80},null,0.7,0.48999999999999994,73,72,0,0,null,72.201911212740242,4.7980887872597577,23.021656010427812]
[null,142,2012,"2012-06-09",{"$f":"VLOOKUP(D150, data!$D$5:$E$6326,2, FALSE)","v":73},{"$f":"VLOOKUP(D150, data!$G$5:$H$6326,2, FALSE)","v":77.5},null,0.73333333333333328,0.53777777777777769,72,69.5,0,0,null,71.740225283321834,1.2597747166781659,1.5870323367815531]
[null,143,2012,"2012-06-08",{"$f":"VLOOKUP(D151, data!$D$5:$E$6326,2, FALSE)","v":72},{"$f":"VLOOKUP(D151, data!$G$5:$H$6326,2, FALSE)","v":71},null,0.76666666666666672,0.58777777777777784,69.5,63,0,0,null,70.905049828469672,1.0949501715303285,1.1989158781342957]
[null,144,2012,"2012-06-07",{"$f":"VLOOKUP(D152, data!$D$5:$E$6326,2, FALSE)","v":69.5},{"$f":"VLOOKUP(D152, data!$G$5:$H$6326,2, FALSE)","v":68},null,0.8,0.64000000000000012,63,58.5,0,0,null,66.810165947733609,2.6898340522663915,7.235207228731837]
[null,145,2012,"2012-06-06",{"$f":"VLOOKUP(D153, data!$D$5:$E$6326,2, FALSE)","v":63},{"$f":"VLOOKUP(D153, data!$G$5:$H$6326,2, FALSE)","v":64},null,0.83333333333333337,0.69444444444444453,58.5,59,0,0,null,63.267766136511575,-0.26776613651157533,7.1698703862335594E-2]
[null,146,2012,"2012-06-05",{"$f":"VLOOKUP(D154, data!$D$5:$E$6326,2, FALSE)","v":58.5},{"$f":"VLOOKUP(D154, data!$G$5:$H$6326,2, FALSE)","v":63.5},null,0.8666666666666667,0.75111111111111117,59,67,0,0,null,62.004939006543779,-3.5049390065437791,12.284597439592094]
[null,147,2012,"2012-06-04",{"$f":"VLOOKUP(D155, data!$D$5:$E$6326,2, FALSE)","v":59},{"$f":"VLOOKUP(D155, data!$G$5:$H$6326,2, FALSE)","v":67},null,0.9,0.81,67,69.5,0,0,null,67.16095690999164,-8.1609569099916399,66.601217686740299]
[null,148,2012,"2012-06-03",{"$f":"VLOOKUP(D156, data!$D$5:$E$6326,2, FALSE)","v":67},{"$f":"VLOOKUP(D156, data!$G$5:$H$6326,2, FALSE)","v":69},null,0.93333333333333335,0.87111111111111117,69.5,67,0,0,null,69.223015988448338,-2.2230159884483385,4.9418000848969434]
[null,149,2012,"2012-06-02",{"$f":"VLOOKUP(D157, data!$D$5:$E$6326,2, FALSE)","v":69.5},{"$f":"VLOOKUP(D157, data!$G$5:$H$6326,2, FALSE)","v":62.5},null,0.96666666666666667,0.93444444444444441,{"$f":"E158","v":67},0,0,1,null,68.167766945251969,1.3322330547480306,1.774844912163269]
[null,150,2012,"2012-06-01",{"$f":"VLOOKUP(D158, data!$D$5:$E$6326,2, FALSE)","v":67},{"$f":"VLOOKUP(D158, data!$G$5:$H$6326,2, FALSE)","v":57},null,1,1,0,0,1,0,null,70.05352941176335,-3.0535294117633498,9.3240418685038282]
[null,151,2011,{"$f":"DATE(C159, 6, 30)","v":"2011-06-30"},{"$f":"VLOOKUP(D159, data!$D$5:$E$6326,2, FALSE)","v":76},{"$f":"VLOOKUP(D159, data!$G$5:$H$6326,2, FALSE)","v":74},null,{"$f":"H129","v":3.3333333333333333E-2},{"$f":"H159*H159","v":1.1111111111111111E-3},{"$f":"E160","v":79.5},{"$f":"E161","v":79},0,0,null,78.881817615415073,-2.8818176154150734,8.3048727685166206]
[null,152,2011,{"$f":"D159-1","v":"2011-06-29"},{"$f":"VLOOKUP(D160, data!$D$5:$E$6326,2, FALSE)","v":79.5},{"$f":"VLOOKUP(D160, data!$G$5:$H$6326,2, FALSE)","v":70},null,6.6666666666666666E-2,4.4444444444444444E-3,{"$f":"E161","v":79},{"$f":"E162","v":75.5},0,0,null,79.005898307899969,0.49410169210003119,0.24413648213611402]
[null,153,2011,"2011-06-28",{"$f":"VLOOKUP(D161, data!$D$5:$E$6326,2, FALSE)","v":79},{"$f":"VLOOKUP(D161, data!$G$5:$H$6326,2, FALSE)","v":72},null,0.1,1.0000000000000002E-2,75.5,74.5,0,0,null,76.505635990400634,2.4943640095993658,6.2218518123846245]
[null,154,2011,"2011-06-27",{"$f":"VLOOKUP(D162, data!$D$5:$E$6326,2, FALSE)","v":75.5},{"$f":"VLOOKUP(D162, data!$G$5:$H$6326,2, FALSE)","v":73},null,0.13333333333333333,1.7777777777777778E-2,74.5,76,0,0,null,75.367811449251718,0.13218855074828184,1.7473812948931085E-2]
[null,155,2011,"2011-06-26",{"$f":"VLOOKUP(D163, data!$D$5:$E$6326,2, FALSE)","v":74.5},{"$f":"VLOOKUP(D163, data!$G$5:$H$6326,2, FALSE)","v":69},null,0.16666666666666666,2.7777777777777776E-2,76,70,0,0,null,77.382501044040822,-2.8825010440408221,8.3088122688964301]
[null,156,2011,"2011-06-25",{"$f":"VLOOKUP(D164, data!$D$5:$E$6326,2, FALSE)","v":76},{"$f":"VLOOKUP(D164, data!$G$5:$H$6326,2, FALSE)","v":68.5},null,0.2,{"$f":"H164*H164","v":4.0000000000000008E-2},70,73,0,0,null,72.347386442658106,3.6526135573418941,13.341585799277807]
[null,157,2011,"2011-06-24",{"$f":"VLOOKUP(D165, data!$D$5:$E$6326,2, FALSE)","v":70},{"$f":"VLOOKUP(D165, data!$G$5:$H$6326,2, FALSE)","v":64},null,0.23333333333333334,5.4444444444444448E-2,73,76,0,0,null,73.833878727736433,-3.8338787277364332,14.698626098989932]
[null,158,2011,"2011-06-23",{"$f":"VLOOKUP(D166, data!$D$5:$E$6326,2, FALSE)","v":73},{"$f":"VLOOKUP(D166, data!$G$5:$H$6326,2, FALSE)","v":66.5},null,0.26666666666666666,7.1111111111111111E-2,76,78.53,0,0,null,75.40228838326513,-2.4022883832651303,5.7709894763705938]
[null,159,{"$f":"C137-1","v":2011},"2011-06-22",{"$f":"VLOOKUP(D167, data!$D$5:$E$6326,2, FALSE)","v":76},{"$f":"VLOOKUP(D167, data!$G$5:$H$6326,2, FALSE)","v":68.5},null,0.3,0.09,78.53,74.5,0,0,null,77.80208337230988,-1.8020833723098804,3.2475044807557509]
[null,160,2011,"2011-06-21",{"$f":"VLOOKUP(D168, data!$D$5:$E$6326,2, FALSE)","v":78.53},{"$f":"VLOOKUP(D168, data!$G$5:$H$6326,2, FALSE)","v":77.5},null,0.33333333333333331,0.1111111111111111,74.5,78,0,0,null,74.096592469888492,4.4334075301115092,19.655102328049434]
[null,161,2011,"2011-06-20",{"$f":"VLOOKUP(D169, data!$D$5:$E$6326,2, FALSE)","v":74.5},{"$f":"VLOOKUP(D169, data!$G$5:$H$6326,2, FALSE)","v":72},null,0.36666666666666664,0.13444444444444442,78,76.5,0,0,null,76.742188859919736,-2.2421888599197359,5.027410883548165]
[null,162,2011,"2011-06-19",{"$f":"VLOOKUP(D170, data!$D$5:$E$6326,2, FALSE)","v":78},{"$f":"VLOOKUP(D170, data!$G$5:$H$6326,2, FALSE)","v":72},null,0.4,0.16000000000000003,76.5,73,0,0,null,76.119238134023092,1.8807618659769076,3.5372651965129394]
[null,163,2011,"2011-06-18",{"$f":"VLOOKUP(D171, data!$D$5:$E$6326,2, FALSE)","v":76.5},{"$f":"VLOOKUP(D171, data!$G$5:$H$6326,2, FALSE)","v":72.5},null,0.43333333333333335,0.18777777777777779,73,75.5,0,0,null,72.970286906165597,3.5297130938344026,12.45887452478603]
[null,164,2011,"2011-06-17",{"$f":"VLOOKUP(D172, data!$D$5:$E$6326,2, FALSE)","v":73},{"$f":"VLOOKUP(D172, data!$G$5:$H$6326,2, FALSE)","v":71},null,0.46666666666666667,0.21777777777777779,75.5,71,0,0,null,75.421388314843341,-2.421388314843341,5.8631213712598749]
[null,165,2011,"2011-06-16",{"$f":"VLOOKUP(D173, data!$D$5:$E$6326,2, FALSE)","v":75.5},{"$f":"VLOOKUP(D173, data!$G$5:$H$6326,2, FALSE)","v":71},null,0.5,0.25,71,64.5,0,0,null,73.154204139835116,2.3457958601648841,5.5027582175667087]
[null,166,2011,"2011-06-15",{"$f":"VLOOKUP(D174, data!$D$5:$E$6326,2, FALSE)","v":71},{"$f":"VLOOKUP(D174, data!$G$5:$H$6326,2, FALSE)","v":64},null,0.53333333333333333,0.28444444444444444,64.5,69.5,0,0,null,67.376477465092862,3.6235225349071385,13.129915560979855]
[null,167,2011,"2011-06-14",{"$f":"VLOOKUP(D175, data!$D$5:$E$6326,2, FALSE)","v":64.5},{"$f":"VLOOKUP(D175, data!$G$5:$H$6326,2, FALSE)","v":65},null,0.56666666666666665,0.32111111111111107,69.5,67.5,0,0,null,71.185584213220537,-6.6855842132205368,44.697036272063663]
[null,168,2011,"2011-06-13",{"$f":"VLOOKUP(D176, data!$D$5:$E$6326,2, FALSE)","v":69.5},{"$f":"VLOOKUP(D176, data!$G$5:$H$6326,2, FALSE)","v":63},null,0.6,0.36,67.5,67.5,0,0,null,69.560374833827225,-6.0374833827225416E-2,3.6451205596650825E-3]
[null,169,2011,"2011-06-12",{"$f":"VLOOKUP(D177, data!$D$5:$E$6326,2, FALSE)","v":67.5},{"$f":"VLOOKUP(D177, data!$G$5:$H$6326,2, FALSE)","v":57},null,0.6333333333333333,0.40111111111111108,67.5,79,0,0,null,67.324099890216019,0.17590010978398141,3.0940848622016712E-2]
[null,170,2011,"2011-06-11",{"$f":"VLOOKUP(D178, data!$D$5:$E$6326,2, FALSE)","v":67.5},{"$f":"VLOOKUP(D178, data!$G$5:$H$6326,2, FALSE)","v":57},null,0.66666666666666663,0.44444444444444442,79,87,0,0,null,74.048131643619072,-6.5481316436190724,42.878028022165417]
[null,171,2011,"2011-06-10",{"$f":"VLOOKUP(D179, data!$D$5:$E$6326,2, FALSE)","v":79},{"$f":"VLOOKUP(D179, data!$G$5:$H$6326,2, FALSE)","v":60},null,0.7,0.48999999999999994,87,85,0,0,null,80.022981219582846,-1.0229812195828458,1.0464905756192067]
[null,172,2011,"2011-06-09",{"$f":"VLOOKUP(D180, data!$D$5:$E$6326,2, FALSE)","v":87},{"$f":"VLOOKUP(D180, data!$G$5:$H$6326,2, FALSE)","v":59.5},null,0.73333333333333328,0.53777777777777769,85,78.5,0,0,null,79.552456600120436,7.4475433998795637,55.465902693089653]
[null,173,2011,"2011-06-08",{"$f":"VLOOKUP(D181, data!$D$5:$E$6326,2, FALSE)","v":85},{"$f":"VLOOKUP(D181, data!$G$5:$H$6326,2, FALSE)","v":80.5},null,0.76666666666666672,0.58777777777777784,78.5,73,0,0,null,75.638796573793385,9.3612034262066146,87.632129586822458]
[null,174,2011,"2011-06-07",{"$f":"VLOOKUP(D182, data!$D$5:$E$6326,2, FALSE)","v":78.5},{"$f":"VLOOKUP(D182, data!$G$5:$H$6326,2, FALSE)","v":85.5},null,0.8,0.64000000000000012,73,64.5,0,0,null,72.984812470771402,5.5151875292285979,30.417293482558648]
[null,175,2011,"2011-06-06",{"$f":"VLOOKUP(D183, data!$D$5:$E$6326,2, FALSE)","v":73},{"$f":"VLOOKUP(D183, data!$G$5:$H$6326,2, FALSE)","v":76.5},null,0.83333333333333337,0.69444444444444453,64.5,69,0,0,null,65.826905180198196,7.1730948198018041,51.453289293867478]
[null,176,2011,"2011-06-05",{"$f":"VLOOKUP(D184, data!$D$5:$E$6326,2, FALSE)","v":64.5},{"$f":"VLOOKUP(D184, data!$G$5:$H$6326,2, FALSE)","v":72.5},null,0.8666666666666667,0.75111111111111117,69,68.5,0,0,null,68.985119891395954,-4.4851198913959536,20.116300440195651]
[null,177,2011,"2011-06-04",{"$f":"VLOOKUP(D185, data!$D$5:$E$6326,2, FALSE)","v":69},{"$f":"VLOOKUP(D185, data!$G$5:$H$6326,2, FALSE)","v":78},null,0.9,0.81,68.5,72.5,0,0,null,67.71123785293392,1.2887621470660804,1.6609078717103734]
[null,178,2011,"2011-06-03",{"$f":"VLOOKUP(D186, data!$D$5:$E$6326,2, FALSE)","v":68.5},{"$f":"VLOOKUP(D186, data!$G$5:$H$6326,2, FALSE)","v":71},null,0.93333333333333335,0.87111111111111117,72.5,82,0,0,null,68.712509150704079,-0.21250915070407927,4.5160139132969075E-2]
[null,179,2011,"2011-06-02",{"$f":"VLOOKUP(D187, data!$D$5:$E$6326,2, FALSE)","v":72.5},{"$f":"VLOOKUP(D187, data!$G$5:$H$6326,2, FALSE)","v":62.5},null,0.96666666666666667,0.93444444444444441,{"$f":"E188","v":82},0,0,1,null,79.040805453437457,-6.5408054534374571,42.782135979717182]
[null,180,2011,"2011-06-01",{"$f":"VLOOKUP(D188, data!$D$5:$E$6326,2, FALSE)","v":82},{"$f":"VLOOKUP(D188, data!$G$5:$H$6326,2, FALSE)","v":70},null,1,1,0,0,1,0,null,70.05352941176335,11.94647058823665,142.71815951560333]
[null,181,2010,{"$f":"DATE(C189, 6, 30)","v":"2010-06-30"},{"$f":"VLOOKUP(D189, data!$D$5:$E$6326,2, FALSE)","v":73},{"$f":"VLOOKUP(D189, data!$G$5:$H$6326,2, FALSE)","v":65.5},null,{"$f":"H159","v":3.3333333333333333E-2},{"$f":"H189*H189","v":1.1111111111111111E-3},{"$f":"E190","v":81.5},{"$f":"E191","v":89},0,0,null,78.541479723585567,-5.5414797235855673,30.707997526909974]
[null,182,2010,{"$f":"D189-1","v":"2010-06-29"},{"$f":"VLOOKUP(D190, data!$D$5:$E$6326,2, FALSE)","v":81.5},{"$f":"VLOOKUP(D190, data!$G$5:$H$6326,2, FALSE)","v":67},null,6.6666666666666666E-2,{"$f":"H190*H190","v":4.4444444444444444E-3},{"$f":"E191","v":89},{"$f":"E192","v":84},0,0,null,84.733025741040848,-3.2330257410408478,10.452455442232724]
[null,183,2010,"2010-06-28",{"$f":"VLOOKUP(D191, data!$D$5:$E$6326,2, FALSE)","v":89},{"$f":"VLOOKUP(D191, data!$G$5:$H$6326,2, FALSE)","v":72.5},null,0.1,1.0000000000000002E-2,84,80.5,0,0,null,81.592978662619856,7.4070213373801437,54.863965092404733]
[null,184,2010,"2010-06-27",{"$f":"VLOOKUP(D192, data!$D$5:$E$6326,2, FALSE)","v":84},{"$f":"VLOOKUP(D192, data!$G$5:$H$6326,2, FALSE)","v":78.5},null,0.13333333333333333,1.7777777777777778E-2,80.5,81,0,0,null,78.821988672732118,5.1780113272678818,26.811801305314493]
[null,185,2010,"2010-06-26",{"$f":"VLOOKUP(D193, data!$D$5:$E$6326,2, FALSE)","v":80.5},{"$f":"VLOOKUP(D193, data!$G$5:$H$6326,2, FALSE)","v":78},null,0.16666666666666666,2.7777777777777776E-2,81,86.5,0,0,null,78.053221220116484,2.4467787798835161,5.9867263976882681]
[null,186,2010,"2010-06-25",{"$f":"VLOOKUP(D194, data!$D$5:$E$6326,2, FALSE)","v":81},{"$f":"VLOOKUP(D194, data!$G$5:$H$6326,2, FALSE)","v":73},null,{"$f":"H164","v":0.2},4.0000000000000008E-2,86.5,82.5,0,0,null,82.607156260053955,-1.6071562600539551,2.5829512442306162]
[null,187,2010,"2010-06-24",{"$f":"VLOOKUP(D195, data!$D$5:$E$6326,2, FALSE)","v":86.5},{"$f":"VLOOKUP(D195, data!$G$5:$H$6326,2, FALSE)","v":74.5},null,0.23333333333333334,5.4444444444444448E-2,82.5,77,0,0,null,80.54112881362849,5.9588711863715105,35.508145815768614]
[null,188,2010,"2010-06-23",{"$f":"VLOOKUP(D196, data!$D$5:$E$6326,2, FALSE)","v":82.5},{"$f":"VLOOKUP(D196, data!$G$5:$H$6326,2, FALSE)","v":78},null,0.26666666666666666,7.1111111111111111E-2,77,82,0,0,null,75.506001120367273,6.993998879632727,48.916020328303844]
[null,189,2010,"2010-06-22",{"$f":"VLOOKUP(D197, data!$D$5:$E$6326,2, FALSE)","v":77},{"$f":"VLOOKUP(D197, data!$G$5:$H$6326,2, FALSE)","v":77},null,0.3,0.09,82,82,0,0,null,78.974822344179444,-1.9748223441794437,3.8999232910703934]
[null,190,2010,"2010-06-21",{"$f":"VLOOKUP(D198, data!$D$5:$E$6326,2, FALSE)","v":82},{"$f":"VLOOKUP(D198, data!$G$5:$H$6326,2, FALSE)","v":76},null,0.33333333333333331,0.1111111111111111,82,71,0,0,null,80.786165175692531,1.2138348243074688,1.4733949807015436]
[null,191,2010,"2010-06-20",{"$f":"VLOOKUP(D199, data!$D$5:$E$6326,2, FALSE)","v":82},{"$f":"VLOOKUP(D199, data!$G$5:$H$6326,2, FALSE)","v":72.5},null,0.36666666666666664,0.13444444444444442,71,73.5,0,0,null,72.205127130642794,9.7948728693572065,95.939534526869878]
[null,192,2010,"2010-06-19",{"$f":"VLOOKUP(D200, data!$D$5:$E$6326,2, FALSE)","v":71},{"$f":"VLOOKUP(D200, data!$G$5:$H$6326,2, FALSE)","v":75.5},null,0.4,0.16000000000000003,73.5,71,0,0,null,74.302645704303515,-3.3026457043035151,10.907468648154461]
[null,193,2010,"2010-06-18",{"$f":"VLOOKUP(D201, data!$D$5:$E$6326,2, FALSE)","v":73.5},{"$f":"VLOOKUP(D201, data!$G$5:$H$6326,2, FALSE)","v":78.5},null,0.43333333333333335,0.18777777777777779,71,69.5,0,0,null,72.594594254160072,0.9054057458399285,0.81975956459995725]
[null,194,2010,"2010-06-17",{"$f":"VLOOKUP(D202, data!$D$5:$E$6326,2, FALSE)","v":71},{"$f":"VLOOKUP(D202, data!$G$5:$H$6326,2, FALSE)","v":74},null,0.46666666666666667,0.21777777777777779,69.5,72,0,0,null,{"$f":"$O$7+SUMPRODUCT(H$7:M$7, H202:M202)","v":70.893165275610386},{"$f":"E202-O202","v":0.10683472438961417},{"$f":"P202*P202","v":1.141365833540482E-2}]
[null,{"$f":"B202+1","v":195},2010,"2010-06-16",{"$f":"VLOOKUP(D203, data!$D$5:$E$6326,2, FALSE)","v":69.5},{"$f":"VLOOKUP(D203, data!$G$5:$H$6326,2, FALSE)","v":72.5},null,0.5,0.25,72,75,0,0,null,71.999493196147199,-2.4994931961471991,6.2474662375861412]
[null,196,2010,"2010-06-15",{"$f":"VLOOKUP(D204, data!$D$5:$E$6326,2, FALSE)","v":72},{"$f":"VLOOKUP(D204, data!$G$5:$H$6326,2, FALSE)","v":69.5},null,0.53333333333333333,0.28444444444444444,75,73,0,0,null,74.361077694967051,-2.3610776949670509,5.574687881670922]
[null,197,2010,"2010-06-14",{"$f":"VLOOKUP(D205, data!$D$5:$E$6326,2, FALSE)","v":75},{"$f":"VLOOKUP(D205, data!$G$5:$H$6326,2, FALSE)","v":65},null,0.56666666666666665,0.32111111111111107,73,73.5,0,0,null,72.648580716044606,2.3514192839553942,5.5291726489572985]
[null,198,2010,"2010-06-13",{"$f":"VLOOKUP(D206, data!$D$5:$E$6326,2, FALSE)","v":73},{"$f":"VLOOKUP(D206, data!$G$5:$H$6326,2, FALSE)","v":66.5},null,0.6,0.36,73.5,65,0,0,null,74.357109326998312,-1.3571093269983123,1.8417457254258123]
[null,199,2010,"2010-06-12",{"$f":"VLOOKUP(D207, data!$D$5:$E$6326,2, FALSE)","v":73.5},{"$f":"VLOOKUP(D207, data!$G$5:$H$6326,2, FALSE)","v":69.5},null,0.6333333333333333,0.40111111111111108,65,68,0,0,null,67.481010801064755,6.0189891989352446,36.228230976899141]
[null,200,2010,"2010-06-11",{"$f":"VLOOKUP(D208, data!$D$5:$E$6326,2, FALSE)","v":65},{"$f":"VLOOKUP(D208, data!$G$5:$H$6326,2, FALSE)","v":76.5},null,0.66666666666666663,0.44444444444444442,68,62.5,0,0,null,70.460257151939274,-5.460257151939274,29.814408165303991]
[null,201,2010,"2010-06-10",{"$f":"VLOOKUP(D209, data!$D$5:$E$6326,2, FALSE)","v":68},{"$f":"VLOOKUP(D209, data!$G$5:$H$6326,2, FALSE)","v":67.5},null,0.7,0.48999999999999994,62.5,68,0,0,null,65.306814800845416,2.6931851991545841,7.2532465169453166]
[null,202,2010,"2010-06-09",{"$f":"VLOOKUP(D210, data!$D$5:$E$6326,2, FALSE)","v":62.5},{"$f":"VLOOKUP(D210, data!$G$5:$H$6326,2, FALSE)","v":74},null,0.73333333333333328,0.53777777777777769,68,67.5,0,0,null,69.198763619723223,-6.6987636197232234,44.873434032927385]
[null,203,2010,"2010-06-08",{"$f":"VLOOKUP(D211, data!$D$5:$E$6326,2, FALSE)","v":68},{"$f":"VLOOKUP(D211, data!$G$5:$H$6326,2, FALSE)","v":62.5},null,0.76666666666666672,0.58777777777777784,67.5,77.5,0,0,null,66.859700639309636,1.1402993606903635,1.3002826319908518]
[null,204,2010,"2010-06-07",{"$f":"VLOOKUP(D212, data!$D$5:$E$6326,2, FALSE)","v":67.5},{"$f":"VLOOKUP(D212, data!$G$5:$H$6326,2, FALSE)","v":62},null,0.8,0.64000000000000012,77.5,83.5,0,0,null,72.845578940010654,-5.3455789400106539,28.575214203885427]
[null,205,2010,"2010-06-06",{"$f":"VLOOKUP(D213, data!$D$5:$E$6326,2, FALSE)","v":77.5},{"$f":"VLOOKUP(D213, data!$G$5:$H$6326,2, FALSE)","v":65.5},null,0.83333333333333337,0.69444444444444453,83.5,81.5,0,0,null,77.361825174415358,0.13817482558464178,1.9092282425346177E-2]
[null,206,2010,"2010-06-05",{"$f":"VLOOKUP(D214, data!$D$5:$E$6326,2, FALSE)","v":83.5},{"$f":"VLOOKUP(D214, data!$G$5:$H$6326,2, FALSE)","v":69.5},null,0.8666666666666667,0.75111111111111117,81.5,80,0,0,null,75.987397501358174,7.5126024986418258,56.439196302599406]
[null,207,2010,"2010-06-04",{"$f":"VLOOKUP(D215, data!$D$5:$E$6326,2, FALSE)","v":81.5},{"$f":"VLOOKUP(D215, data!$G$5:$H$6326,2, FALSE)","v":70},null,0.9,0.81,80,76.5,0,0,null,75.331203498707765,6.1687965012922348,38.054050274355319]
[null,208,2010,"2010-06-03",{"$f":"VLOOKUP(D216, data!$D$5:$E$6326,2, FALSE)","v":80},{"$f":"VLOOKUP(D216, data!$G$5:$H$6326,2, FALSE)","v":63.5},null,0.93333333333333335,0.87111111111111117,76.5,78.5,0,0,null,72.238512812075868,7.7614871879241321,60.240683368310449]
[null,209,2010,"2010-06-02",{"$f":"VLOOKUP(D217, data!$D$5:$E$6326,2, FALSE)","v":76.5},{"$f":"VLOOKUP(D217, data!$G$5:$H$6326,2, FALSE)","v":67},null,0.96666666666666667,0.93444444444444441,{"$f":"E218","v":78.5},0,0,1,null,76.503763134860833,-3.7631348608329063E-3,1.4161183980815897E-5]
[null,210,2010,"2010-06-01",{"$f":"VLOOKUP(D218, data!$D$5:$E$6326,2, FALSE)","v":78.5},{"$f":"VLOOKUP(D218, data!$G$5:$H$6326,2, FALSE)","v":74},null,1,1,0,0,1,0,null,70.05352941176335,8.4464705882366502,71.342865397946781]
[null,211,2009,{"$f":"DATE(C219, 6, 30)","v":"2009-06-30"},{"$f":"VLOOKUP(D219, data!$D$5:$E$6326,2, FALSE)","v":76},{"$f":"VLOOKUP(D219, data!$G$5:$H$6326,2, FALSE)","v":62.5},null,{"$f":"H189","v":3.3333333333333333E-2},{"$f":"H219*H219","v":1.1111111111111111E-3},{"$f":"E220","v":75},{"$f":"E221","v":74},0,0,null,76.514944242753216,-0.51494424275321649,0.26516757314468353]
[null,212,2009,{"$f":"D219-1","v":"2009-06-29"},{"$f":"VLOOKUP(D220, data!$D$5:$E$6326,2, FALSE)","v":75},{"$f":"VLOOKUP(D220, data!$G$5:$H$6326,2, FALSE)","v":70},null,{"$f":"H190","v":6.6666666666666666E-2},4.4444444444444444E-3,{"$f":"E221","v":74},{"$f":"E222","v":73},0,0,null,75.829071228401702,-0.82907122840170189,0.6873591017635069]
[null,213,2009,"2009-06-28",{"$f":"VLOOKUP(D221, data!$D$5:$E$6326,2, FALSE)","v":74},{"$f":"VLOOKUP(D221, data!$G$5:$H$6326,2, FALSE)","v":74.5},null,0.1,1.0000000000000002E-2,73,77,0,0,null,74.245943815806157,-0.24594381580615732,6.048836053329304E-2]
[null,214,2009,"2009-06-27",{"$f":"VLOOKUP(D222, data!$D$5:$E$6326,2, FALSE)","v":73},{"$f":"VLOOKUP(D222, data!$G$5:$H$6326,2, FALSE)","v":75.5},null,0.13333333333333333,1.7777777777777778E-2,77,73.5,0,0,null,77.627503623846181,-4.6275036238461809,21.413789788709536]
[null,215,2009,"2009-06-26",{"$f":"VLOOKUP(D223, data!$D$5:$E$6326,2, FALSE)","v":77},{"$f":"VLOOKUP(D223, data!$G$5:$H$6326,2, FALSE)","v":83.45},null,0.16666666666666666,2.7777777777777776E-2,73.5,72,0,0,null,75.212312687425722,1.7876873125742776,3.195825927539043]
[null,216,2009,"2009-06-25",{"$f":"VLOOKUP(D224, data!$D$5:$E$6326,2, FALSE)","v":73.5},{"$f":"VLOOKUP(D224, data!$G$5:$H$6326,2, FALSE)","v":84.5},null,0.2,4.0000000000000008E-2,72,75.5,0,0,null,73.349605820519287,0.15039417948071332,2.2618409221677013E-2]
[null,217,2009,"2009-06-24",{"$f":"VLOOKUP(D225, data!$D$5:$E$6326,2, FALSE)","v":72},{"$f":"VLOOKUP(D225, data!$G$5:$H$6326,2, FALSE)","v":84.5},null,0.23333333333333334,5.4444444444444448E-2,75.5,72,0,0,null,76.362082356269042,-4.3620823562690418,19.027762482873676]
[null,218,2009,"2009-06-23",{"$f":"VLOOKUP(D226, data!$D$5:$E$6326,2, FALSE)","v":75.5},{"$f":"VLOOKUP(D226, data!$G$5:$H$6326,2, FALSE)","v":82.5},null,0.26666666666666666,7.1111111111111111E-2,72,72.5,0,0,null,73.582227492580316,1.9177725074196843,3.6778513902147831]
[null,219,2009,"2009-06-22",{"$f":"VLOOKUP(D227, data!$D$5:$E$6326,2, FALSE)","v":72},{"$f":"VLOOKUP(D227, data!$G$5:$H$6326,2, FALSE)","v":78.5},null,0.3,0.09,72.5,67,0,0,null,74.773679161709993,-2.7736791617099925,7.693296092104247]
[null,220,2009,"2009-06-21",{"$f":"VLOOKUP(D228, data!$D$5:$E$6326,2, FALSE)","v":72.5},{"$f":"VLOOKUP(D228, data!$G$5:$H$6326,2, FALSE)","v":77},null,0.33333333333333331,0.1111111111111111,67,72.5,0,0,null,69.644615213568912,2.8553847864310882,8.1532222785821116]
[null,221,2009,"2009-06-20",{"$f":"VLOOKUP(D229, data!$D$5:$E$6326,2, FALSE)","v":67},{"$f":"VLOOKUP(D229, data!$G$5:$H$6326,2, FALSE)","v":77.5},null,0.36666666666666664,0.13444444444444442,72.5,64.5,0,0,null,74.903499705090155,-7.9034997050901552,62.465307588360169]
[null,222,2009,"2009-06-19",{"$f":"VLOOKUP(D230, data!$D$5:$E$6326,2, FALSE)","v":72.5},{"$f":"VLOOKUP(D230, data!$G$5:$H$6326,2, FALSE)","v":75.5},null,0.4,0.16000000000000003,64.5,61.5,0,0,null,69.479395141000424,3.020604858999576,9.1240537142118487]
[null,223,{"$f":"C201-1","v":2009},"2009-06-18",{"$f":"VLOOKUP(D231, data!$D$5:$E$6326,2, FALSE)","v":64.5},{"$f":"VLOOKUP(D231, data!$G$5:$H$6326,2, FALSE)","v":70.5},null,0.43333333333333335,0.18777777777777779,61.5,62,0,0,null,67.050893801999933,-2.5508938019999334,6.5070591890816756]
[null,224,2009,"2009-06-17",{"$f":"VLOOKUP(D232, data!$D$5:$E$6326,2, FALSE)","v":61.5},{"$f":"VLOOKUP(D232, data!$G$5:$H$6326,2, FALSE)","v":66},null,0.46666666666666667,0.21777777777777779,62,65,0,0,null,66.709699473228937,-5.2096994732289374,27.14096860136187]
[null,225,2009,"2009-06-16",{"$f":"VLOOKUP(D233, data!$D$5:$E$6326,2, FALSE)","v":62},{"$f":"VLOOKUP(D233, data!$G$5:$H$6326,2, FALSE)","v":65},null,0.5,0.25,65,66.5,0,0,null,68.446973464643406,-6.4469734646434063,41.563466853816209]
[null,226,2009,"2009-06-15",{"$f":"VLOOKUP(D234, data!$D$5:$E$6326,2, FALSE)","v":65},{"$f":"VLOOKUP(D234, data!$G$5:$H$6326,2, FALSE)","v":67},null,0.53333333333333333,0.28444444444444444,66.5,69.5,0,0,null,68.826215932850928,-3.8262159328509284,14.6399283648023]
[null,227,2009,"2009-06-14",{"$f":"VLOOKUP(D235, data!$D$5:$E$6326,2, FALSE)","v":66.5},{"$f":"VLOOKUP(D235, data!$G$5:$H$6326,2, FALSE)","v":64},null,0.56666666666666665,0.32111111111111107,69.5,72.5,0,0,null,70.29054603342675,-3.7905460334267502,14.368239231527269]
[null,228,2009,"2009-06-13",{"$f":"VLOOKUP(D236, data!$D$5:$E$6326,2, FALSE)","v":69.5},{"$f":"VLOOKUP(D236, data!$G$5:$H$6326,2, FALSE)","v":61},null,0.6,0.36,72.5,63,0,0,null,73.990255365036788,-4.4902553650367878,20.162393243241656]
[null,229,2009,"2009-06-12",{"$f":"VLOOKUP(D237, data!$D$5:$E$6326,2, FALSE)","v":72.5},{"$f":"VLOOKUP(D237, data!$G$5:$H$6326,2, FALSE)","v":61.5},null,0.6333333333333333,0.40111111111111108,63,65.5,0,0,null,66.478791423203589,6.0212085767964112,36.254952725286664]
[null,230,2009,"2009-06-11",{"$f":"VLOOKUP(D238, data!$D$5:$E$6326,2, FALSE)","v":63},{"$f":"VLOOKUP(D238, data!$G$5:$H$6326,2, FALSE)","v":58.5},null,0.66666666666666663,0.44444444444444442,65.5,67.5,0,0,null,67.753045887447911,-4.7530458874479109,22.591445208185498]
[null,231,2009,"2009-06-10",{"$f":"VLOOKUP(D239, data!$D$5:$E$6326,2, FALSE)","v":65.5},{"$f":"VLOOKUP(D239, data!$G$5:$H$6326,2, FALSE)","v":60.5},null,0.7,0.48999999999999994,67.5,69,0,0,null,68.752153334281829,-3.2521533342818287,10.576501309680417]
[null,232,2009,"2009-06-09",{"$f":"VLOOKUP(D240, data!$D$5:$E$6326,2, FALSE)","v":67.5},{"$f":"VLOOKUP(D240, data!$G$5:$H$6326,2, FALSE)","v":61},null,0.73333333333333328,0.53777777777777769,69,71,0,0,null,69.297106127746602,-1.7971061277466021,3.2295904343843862]
[null,233,2009,"2009-06-08",{"$f":"VLOOKUP(D241, data!$D$5:$E$6326,2, FALSE)","v":69},{"$f":"VLOOKUP(D241, data!$G$5:$H$6326,2, FALSE)","v":66},null,0.76666666666666672,0.58777777777777784,71,68,0,0,null,71.097315499494428,-2.0973154994944281,4.3987323044195623]
[null,234,2009,"2009-06-07",{"$f":"VLOOKUP(D242, data!$D$5:$E$6326,2, FALSE)","v":71},{"$f":"VLOOKUP(D242, data!$G$5:$H$6326,2, FALSE)","v":62.5},null,0.8,0.64000000000000012,68,59,0,0,null,70.345008299149399,0.65499170085060143,0.42901412818316376]
[null,235,2009,"2009-06-06",{"$f":"VLOOKUP(D243, data!$D$5:$E$6326,2, FALSE)","v":68},{"$f":"VLOOKUP(D243, data!$G$5:$H$6326,2, FALSE)","v":57},null,0.83333333333333337,0.69444444444444453,59,61.5,0,0,null,63.182681663554199,4.8173183364458012,23.206555954656942]
[null,236,2009,"2009-06-05",{"$f":"VLOOKUP(D244, data!$D$5:$E$6326,2, FALSE)","v":59},{"$f":"VLOOKUP(D244, data!$G$5:$H$6326,2, FALSE)","v":61.5},null,0.8666666666666667,0.75111111111111117,61.5,65,0,0,null,64.175127363158865,-5.1751273631588646,26.781943224915622]
[null,237,2009,"2009-06-04",{"$f":"VLOOKUP(D245, data!$D$5:$E$6326,2, FALSE)","v":61.5},{"$f":"VLOOKUP(D245, data!$G$5:$H$6326,2, FALSE)","v":55},null,0.9,0.81,65,72,0,0,null,65.263699352336687,-3.7636993523366868,14.165432814779596]
[null,238,2009,"2009-06-03",{"$f":"VLOOKUP(D246, data!$D$5:$E$6326,2, FALSE)","v":65},{"$f":"VLOOKUP(D246, data!$G$5:$H$6326,2, FALSE)","v":52},null,0.93333333333333335,0.87111111111111117,72,62,0,0,null,71.930227252939716,-6.9302272529397158,48.028049777388361]
[null,239,2009,"2009-06-02",{"$f":"VLOOKUP(D247, data!$D$5:$E$6326,2, FALSE)","v":72},{"$f":"VLOOKUP(D247, data!$G$5:$H$6326,2, FALSE)","v":54},null,0.96666666666666667,0.93444444444444441,{"$f":"E248","v":62},0,0,1,null,64.543420775856802,7.4565792241431978,55.600573725923972]
[null,240,2009,"2009-06-01",{"$f":"VLOOKUP(D248, data!$D$5:$E$6326,2, FALSE)","v":62},{"$f":"VLOOKUP(D248, data!$G$5:$H$6326,2, FALSE)","v":64.5},null,1,1,0,0,1,0,null,70.05352941176335,-8.0535294117633498,64.859335986137324]
[null,241,2008,{"$f":"DATE(C249, 6, 30)","v":"2008-06-30"},{"$f":"VLOOKUP(D249, data!$D$5:$E$6326,2, FALSE)","v":77.5},{"$f":"VLOOKUP(D249, data!$G$5:$H$6326,2, FALSE)","v":69.5},null,{"$f":"H219","v":3.3333333333333333E-2},{"$f":"H249*H249","v":1.1111111111111111E-3},{"$f":"E250","v":81},{"$f":"E251","v":81.5},0,0,null,79.52160237633673,-2.0216023763367303,4.0868761680103152]
[null,242,2008,{"$f":"D249-1","v":"2008-06-29"},{"$f":"VLOOKUP(D250, data!$D$5:$E$6326,2, FALSE)","v":81},{"$f":"VLOOKUP(D250, data!$G$5:$H$6326,2, FALSE)","v":67.5},null,6.6666666666666666E-2,4.4444444444444444E-3,{"$f":"E251","v":81.5},{"$f":"E252","v":79.5},0,0,null,80.102040848762528,0.8979591512374725,0.80633063729112198]
[null,243,2008,"2008-06-28",{"$f":"VLOOKUP(D251, data!$D$5:$E$6326,2, FALSE)","v":81.5},{"$f":"VLOOKUP(D251, data!$G$5:$H$6326,2, FALSE)","v":73.5},null,0.1,1.0000000000000002E-2,79.5,77.5,0,0,null,78.868090018040476,2.6319099819595237,6.926950153138181]
[null,244,2008,"2008-06-27",{"$f":"VLOOKUP(D252, data!$D$5:$E$6326,2, FALSE)","v":79.5},{"$f":"VLOOKUP(D252, data!$G$5:$H$6326,2, FALSE)","v":75},null,0.13333333333333333,1.7777777777777778E-2,77.5,74,0,0,null,77.900434422806313,1.5995655771936867,2.5586100357429724]
[null,245,2008,"2008-06-26",{"$f":"VLOOKUP(D253, data!$D$5:$E$6326,2, FALSE)","v":77.5},{"$f":"VLOOKUP(D253, data!$G$5:$H$6326,2, FALSE)","v":78},null,0.16666666666666666,2.7777777777777776E-2,74,72.5,0,0,null,75.485243486385855,2.0147565136141452,4.0592438091506251]
[null,246,2008,"2008-06-25",{"$f":"VLOOKUP(D254, data!$D$5:$E$6326,2, FALSE)","v":74},{"$f":"VLOOKUP(D254, data!$G$5:$H$6326,2, FALSE)","v":72.5},null,0.2,{"$f":"H254*H254","v":4.0000000000000008E-2},72.5,77,0,0,null,73.44352898352065,0.5564710164793496,0.30965999218156059]
[null,247,2008,"2008-06-24",{"$f":"VLOOKUP(D255, data!$D$5:$E$6326,2, FALSE)","v":72.5},{"$f":"VLOOKUP(D255, data!$G$5:$H$6326,2, FALSE)","v":68.5},null,0.23333333333333334,5.4444444444444448E-2,77,74.5,0,0,null,77.001867117190699,-4.5018671171906988,20.266807540842894]
[null,248,2008,"2008-06-23",{"$f":"VLOOKUP(D256, data!$D$5:$E$6326,2, FALSE)","v":77},{"$f":"VLOOKUP(D256, data!$G$5:$H$6326,2, FALSE)","v":66.5},null,0.26666666666666666,7.1111111111111111E-2,74.5,74.5,0,0,null,75.036385305360383,1.9636146946396167,3.8557826690046353]
[null,249,2008,"2008-06-22",{"$f":"VLOOKUP(D257, data!$D$5:$E$6326,2, FALSE)","v":74.5},{"$f":"VLOOKUP(D257, data!$G$5:$H$6326,2, FALSE)","v":69.5},null,0.3,0.09,74.5,70,0,0,null,75.686394721591796,-1.186394721591796,1.4075324354208751]
[null,250,2008,"2008-06-21",{"$f":"VLOOKUP(D258, data!$D$5:$E$6326,2, FALSE)","v":74.5},{"$f":"VLOOKUP(D258, data!$G$5:$H$6326,2, FALSE)","v":71.5},null,0.33333333333333331,0.1111111111111111,70,67,0,0,null,72.803764912979176,1.696235087020824,2.8772134704405423]
[null,251,2008,"2008-06-20",{"$f":"VLOOKUP(D259, data!$D$5:$E$6326,2, FALSE)","v":70},{"$f":"VLOOKUP(D259, data!$G$5:$H$6326,2, FALSE)","v":70},null,0.36666666666666664,0.13444444444444442,67,66.5,0,0,null,70.558703646837955,-0.55870364683795515,0.3121497649900305]
[null,252,2008,"2008-06-19",{"$f":"VLOOKUP(D260, data!$D$5:$E$6326,2, FALSE)","v":67},{"$f":"VLOOKUP(D260, data!$G$5:$H$6326,2, FALSE)","v":66.5},null,0.4,0.16000000000000003,66.5,70,0,0,null,69.40756870310905,-2.4075687031090496,5.7963870601901908]
[null,253,2008,"2008-06-18",{"$f":"VLOOKUP(D261, data!$D$5:$E$6326,2, FALSE)","v":66.5},{"$f":"VLOOKUP(D261, data!$G$5:$H$6326,2, FALSE)","v":66.5},null,0.43333333333333335,0.18777777777777779,70,74,0,0,null,71.064190658466629,-4.5641906584666287,20.83183636683404]
[null,254,2008,"2008-06-17",{"$f":"VLOOKUP(D262, data!$D$5:$E$6326,2, FALSE)","v":70},{"$f":"VLOOKUP(D262, data!$G$5:$H$6326,2, FALSE)","v":65.5},null,0.46666666666666667,0.21777777777777779,74,73.5,0,0,null,73.886565374127898,-3.8865653741278976,15.105390407369924]
[null,255,2008,"2008-06-16",{"$f":"VLOOKUP(D263, data!$D$5:$E$6326,2, FALSE)","v":74},{"$f":"VLOOKUP(D263, data!$G$5:$H$6326,2, FALSE)","v":65.5},null,0.5,0.25,73.5,80,0,0,null,72.191758867171956,1.8082411328280443,3.2697359944512492]
[null,256,2008,"2008-06-15",{"$f":"VLOOKUP(D264, data!$D$5:$E$6326,2, FALSE)","v":73.5},{"$f":"VLOOKUP(D264, data!$G$5:$H$6326,2, FALSE)","v":71},null,0.53333333333333333,0.28444444444444444,80,72,0,0,null,78.164431500320973,-4.6644315003209726,21.756921221186559]
[null,257,2008,"2008-06-14",{"$f":"VLOOKUP(D265, data!$D$5:$E$6326,2, FALSE)","v":80},{"$f":"VLOOKUP(D265, data!$G$5:$H$6326,2, FALSE)","v":71.5},null,0.56666666666666665,0.32111111111111107,72,79,0,0,null,70.939169484392409,9.0608305156075915,82.098649632565738]
[null,258,2008,"2008-06-13",{"$f":"VLOOKUP(D266, data!$D$5:$E$6326,2, FALSE)","v":72},{"$f":"VLOOKUP(D266, data!$G$5:$H$6326,2, FALSE)","v":73.5},null,0.6,0.36,79,79.5,0,0,null,{"$f":"$O$7+SUMPRODUCT(H$7:M$7, H266:M266)","v":75.748279391931007},{"$f":"E266-O266","v":-3.7482793919310069},{"$f":"P266*P266","v":14.049598399974679}]
[null,{"$f":"B266+1","v":259},2008,"2008-06-12",{"$f":"VLOOKUP(D267, data!$D$5:$E$6326,2, FALSE)","v":79},{"$f":"VLOOKUP(D267, data!$G$5:$H$6326,2, FALSE)","v":82},null,0.6333333333333333,0.40111111111111108,79.5,85,0,0,null,74.948484881011865,4.0515151189881351,16.414774759389442]
[null,260,2008,"2008-06-11",{"$f":"VLOOKUP(D268, data!$D$5:$E$6326,2, FALSE)","v":79.5},{"$f":"VLOOKUP(D268, data!$G$5:$H$6326,2, FALSE)","v":73.5},null,0.66666666666666663,0.44444444444444442,85,86.5,0,0,null,78.48685086487265,1.0131491351273496,1.0264711700092966]
[null,261,2008,"2008-06-10",{"$f":"VLOOKUP(D269, data!$D$5:$E$6326,2, FALSE)","v":85},{"$f":"VLOOKUP(D269, data!$G$5:$H$6326,2, FALSE)","v":69},null,0.7,0.48999999999999994,86.5,85,0,0,null,79.660546602643322,5.339453397356678,28.509762582543772]
[null,262,2008,"2008-06-09",{"$f":"VLOOKUP(D270, data!$D$5:$E$6326,2, FALSE)","v":86.5},{"$f":"VLOOKUP(D270, data!$G$5:$H$6326,2, FALSE)","v":69.5},null,0.73333333333333328,0.53777777777777769,85,80,0,0,null,79.283945146182305,7.2160548538176954,52.071447653305924]
[null,263,2008,"2008-06-08",{"$f":"VLOOKUP(D271, data!$D$5:$E$6326,2, FALSE)","v":85},{"$f":"VLOOKUP(D271, data!$G$5:$H$6326,2, FALSE)","v":74.5},null,0.76666666666666672,0.58777777777777784,80,67.5,0,0,null,77.710642422385106,7.2893575776148936,53.134733894331667]
[null,264,2008,"2008-06-07",{"$f":"VLOOKUP(D272, data!$D$5:$E$6326,2, FALSE)","v":80},{"$f":"VLOOKUP(D272, data!$G$5:$H$6326,2, FALSE)","v":77},null,0.8,0.64000000000000012,67.5,68.5,0,0,null,68.282001140601693,11.717998859398307,137.31149726886002]
[null,265,2008,"2008-06-06",{"$f":"VLOOKUP(D273, data!$D$5:$E$6326,2, FALSE)","v":67.5},{"$f":"VLOOKUP(D273, data!$G$5:$H$6326,2, FALSE)","v":80},null,0.83333333333333337,0.69444444444444453,68.5,66.5,0,0,null,69.173901205611216,-1.6739012056112159,2.8019452461466821]
[null,266,2008,"2008-06-05",{"$f":"VLOOKUP(D274, data!$D$5:$E$6326,2, FALSE)","v":68.5},{"$f":"VLOOKUP(D274, data!$G$5:$H$6326,2, FALSE)","v":73.5},null,0.8666666666666667,0.75111111111111117,66.5,72,0,0,null,66.546420080842736,1.9535799191572636,3.8164745005345004]
[null,267,2008,"2008-06-04",{"$f":"VLOOKUP(D275, data!$D$5:$E$6326,2, FALSE)","v":66.5},{"$f":"VLOOKUP(D275, data!$G$5:$H$6326,2, FALSE)","v":66},null,0.9,0.81,72,71.5,0,0,null,70.42728780746927,-3.9272878074692699,15.423589522696785]
[null,268,2008,"2008-06-03",{"$f":"VLOOKUP(D276, data!$D$5:$E$6326,2, FALSE)","v":72},{"$f":"VLOOKUP(D276, data!$G$5:$H$6326,2, FALSE)","v":62},null,0.93333333333333335,0.87111111111111117,71.5,74.5,0,0,null,69.330197186515733,2.6698028134842673,7.1278470628885096]
[null,269,2008,"2008-06-02",{"$f":"VLOOKUP(D277, data!$D$5:$E$6326,2, FALSE)","v":71.5},{"$f":"VLOOKUP(D277, data!$G$5:$H$6326,2, FALSE)","v":71},null,0.96666666666666667,0.93444444444444441,{"$f":"E278","v":74.5},0,0,1,null,73.604286199344713,-2.1042861993447133,4.4280204087526185]
[null,270,2008,"2008-06-01",{"$f":"VLOOKUP(D278, data!$D$5:$E$6326,2, FALSE)","v":74.5},{"$f":"VLOOKUP(D278, data!$G$5:$H$6326,2, FALSE)","v":63.5},null,1,1,0,0,1,0,null,70.05352941176335,4.4464705882366502,19.771100692053583]
[null,271,2007,{"$f":"DATE(C279, 6, 30)","v":"2007-06-30"},{"$f":"VLOOKUP(D279, data!$D$5:$E$6326,2, FALSE)","v":74.5},{"$f":"VLOOKUP(D279, data!$G$5:$H$6326,2, FALSE)","v":66.5},null,{"$f":"H249","v":3.3333333333333333E-2},{"$f":"H279*H279","v":1.1111111111111111E-3},{"$f":"E280","v":73},{"$f":"E281","v":80.5},0,0,null,73.901656141263231,0.59834385873676865,0.35801537328800614]
[null,272,2007,{"$f":"D279-1","v":"2007-06-29"},{"$f":"VLOOKUP(D280, data!$D$5:$E$6326,2, FALSE)","v":73},{"$f":"VLOOKUP(D280, data!$G$5:$H$6326,2, FALSE)","v":63},null,6.6666666666666666E-2,{"$f":"H280*H280","v":4.4444444444444444E-3},{"$f":"E281","v":80.5},{"$f":"E282","v":84},0,0,null,78.571637253069085,-5.5716372530690847,31.043141679787215]
[null,273,2007,"2007-06-28",{"$f":"VLOOKUP(D281, data!$D$5:$E$6326,2, FALSE)","v":80.5},{"$f":"VLOOKUP(D281, data!$G$5:$H$6326,2, FALSE)","v":66},null,0.1,1.0000000000000002E-2,84,82,0,0,null,81.324467208681725,-0.82446720868172463,0.67974617819143446]
[null,274,2007,"2007-06-27",{"$f":"VLOOKUP(D282, data!$D$5:$E$6326,2, FALSE)","v":84},{"$f":"VLOOKUP(D282, data!$G$5:$H$6326,2, FALSE)","v":81},null,0.13333333333333333,1.7777777777777778E-2,82,72,0,0,null,81.520361247179494,2.4796387528205059,6.1486083444892339]
[null,275,2007,"2007-06-26",{"$f":"VLOOKUP(D283, data!$D$5:$E$6326,2, FALSE)","v":82},{"$f":"VLOOKUP(D283, data!$G$5:$H$6326,2, FALSE)","v":81},null,0.16666666666666666,2.7777777777777776E-2,72,70.5,0,0,null,74.393520290545311,7.606479709454689,57.858533570345891]
[null,276,2007,"2007-06-25",{"$f":"VLOOKUP(D284, data!$D$5:$E$6326,2, FALSE)","v":72},{"$f":"VLOOKUP(D284, data!$G$5:$H$6326,2, FALSE)","v":77},null,{"$f":"H254","v":0.2},4.0000000000000008E-2,70.5,66.5,0,0,null,73.873370693329548,-1.873370693329548,3.5095177546260312]
[null,277,2007,"2007-06-24",{"$f":"VLOOKUP(D285, data!$D$5:$E$6326,2, FALSE)","v":70.5},{"$f":"VLOOKUP(D285, data!$G$5:$H$6326,2, FALSE)","v":70},null,0.23333333333333334,5.4444444444444448E-2,66.5,69.5,0,0,null,70.285778341254655,0.21422165874534471,4.5890919075606926E-2]
[null,278,2007,"2007-06-23",{"$f":"VLOOKUP(D286, data!$D$5:$E$6326,2, FALSE)","v":66.5},{"$f":"VLOOKUP(D286, data!$G$5:$H$6326,2, FALSE)","v":64.5},null,0.26666666666666666,7.1111111111111111E-2,69.5,72.5,0,0,null,71.770054407882725,-5.2700544078827249,27.773473462044137]
[null,279,2007,"2007-06-22",{"$f":"VLOOKUP(D287, data!$D$5:$E$6326,2, FALSE)","v":69.5},{"$f":"VLOOKUP(D287, data!$G$5:$H$6326,2, FALSE)","v":68.5},null,0.3,0.09,72.5,74,0,0,null,73.520625709998697,-4.0206257099986971,16.165431099902527]
[null,280,2007,"2007-06-21",{"$f":"VLOOKUP(D288, data!$D$5:$E$6326,2, FALSE)","v":72.5},{"$f":"VLOOKUP(D288, data!$G$5:$H$6326,2, FALSE)","v":69},null,0.33333333333333331,0.1111111111111111,74,75,0,0,null,74.271180760825246,-1.7711807608252457,3.1370812875174963]
[null,281,2007,"2007-06-20",{"$f":"VLOOKUP(D289, data!$D$5:$E$6326,2, FALSE)","v":74},{"$f":"VLOOKUP(D289, data!$G$5:$H$6326,2, FALSE)","v":72.5},null,0.36666666666666664,0.13444444444444442,75,76,0,0,null,74.657084976262027,-0.657084976262027,0.4317606660292686]
[null,282,2007,"2007-06-19",{"$f":"VLOOKUP(D290, data!$D$5:$E$6326,2, FALSE)","v":75},{"$f":"VLOOKUP(D290, data!$G$5:$H$6326,2, FALSE)","v":72.5},null,0.4,0.16000000000000003,76,77,0,0,null,75.040772973248551,-4.077297324855067E-2,1.6624353475270285E-3]
[null,283,2007,"2007-06-18",{"$f":"VLOOKUP(D291, data!$D$5:$E$6326,2, FALSE)","v":76},{"$f":"VLOOKUP(D291, data!$G$5:$H$6326,2, FALSE)","v":79},null,0.43333333333333335,0.18777777777777779,77,70.5,0,0,null,76.764802021475504,-0.76480202147550358,0.58492213205301669]
[null,284,2007,"2007-06-17",{"$f":"VLOOKUP(D292, data!$D$5:$E$6326,2, FALSE)","v":77},{"$f":"VLOOKUP(D292, data!$G$5:$H$6326,2, FALSE)","v":80.5},null,0.46666666666666667,0.21777777777777779,70.5,69,0,0,null,72.155057417365683,4.8449425826343173,23.473468629023287]
[null,285,2007,"2007-06-16",{"$f":"VLOOKUP(D293, data!$D$5:$E$6326,2, FALSE)","v":70.5},{"$f":"VLOOKUP(D293, data!$G$5:$H$6326,2, FALSE)","v":79.5},null,0.5,0.25,69,61.5,0,0,null,72.241488579953312,-1.7414885799533124,3.0327824741078047]
[null,286,2007,"2007-06-15",{"$f":"VLOOKUP(D294, data!$D$5:$E$6326,2, FALSE)","v":69},{"$f":"VLOOKUP(D294, data!$G$5:$H$6326,2, FALSE)","v":77},null,0.53333333333333333,0.28444444444444444,61.5,63.5,0,0,null,66.275915579208302,2.7240844207916979,7.4206359316000405]
[null,287,{"$f":"C265-1","v":2007},"2007-06-14",{"$f":"VLOOKUP(D295, data!$D$5:$E$6326,2, FALSE)","v":61.5},{"$f":"VLOOKUP(D295, data!$G$5:$H$6326,2, FALSE)","v":76.5},null,0.56666666666666665,0.32111111111111107,63.5,75.5,0,0,null,65.404307722276286,-3.9043077222762861,15.243618790226241]
[null,288,2007,"2007-06-13",{"$f":"VLOOKUP(D296, data!$D$5:$E$6326,2, FALSE)","v":63.5},{"$f":"VLOOKUP(D296, data!$G$5:$H$6326,2, FALSE)","v":73.5},null,0.6,0.36,75.5,75.5,0,0,null,73.927267617189429,-10.427267617189429,108.72790996048731]
[null,289,2007,"2007-06-12",{"$f":"VLOOKUP(D297, data!$D$5:$E$6326,2, FALSE)","v":75.5},{"$f":"VLOOKUP(D297, data!$G$5:$H$6326,2, FALSE)","v":72.5},null,0.6333333333333333,0.40111111111111108,75.5,69,0,0,null,74.913130120835845,0.5868698791641549,0.34441625507014978]
[null,290,2007,"2007-06-11",{"$f":"VLOOKUP(D298, data!$D$5:$E$6326,2, FALSE)","v":75.5},{"$f":"VLOOKUP(D298, data!$G$5:$H$6326,2, FALSE)","v":72},null,0.66666666666666663,0.44444444444444442,69,75,0,0,null,68.947530936333834,6.552469063666166,42.93485083030216]
[null,291,2007,"2007-06-10",{"$f":"VLOOKUP(D299, data!$D$5:$E$6326,2, FALSE)","v":69},{"$f":"VLOOKUP(D299, data!$G$5:$H$6326,2, FALSE)","v":68},null,0.7,0.48999999999999994,75,74.5,0,0,null,73.204130590601409,-4.2041305906014088,17.67471402283055]
[null,292,2007,"2007-06-09",{"$f":"VLOOKUP(D300, data!$D$5:$E$6326,2, FALSE)","v":75},{"$f":"VLOOKUP(D300, data!$G$5:$H$6326,2, FALSE)","v":65.5},null,0.73333333333333328,0.53777777777777769,74.5,64,0,0,null,74.536940365792589,0.46305963420741136,0.21442422483230161]
[null,293,2007,"2007-06-08",{"$f":"VLOOKUP(D301, data!$D$5:$E$6326,2, FALSE)","v":74.5},{"$f":"VLOOKUP(D301, data!$G$5:$H$6326,2, FALSE)","v":69},null,0.76666666666666672,0.58777777777777784,64,65,0,0,null,66.560253770217471,7.9397462297825285,63.039570193345874]
[null,294,2007,"2007-06-07",{"$f":"VLOOKUP(D302, data!$D$5:$E$6326,2, FALSE)","v":64},{"$f":"VLOOKUP(D302, data!$G$5:$H$6326,2, FALSE)","v":81},null,0.8,0.64000000000000012,65,75,0,0,null,65.306278422172184,-1.3062784221721842,1.706363316232651]
[null,295,2007,"2007-06-06",{"$f":"VLOOKUP(D303, data!$D$5:$E$6326,2, FALSE)","v":65},{"$f":"VLOOKUP(D303, data!$G$5:$H$6326,2, FALSE)","v":57.5},null,0.83333333333333337,0.69444444444444453,75,66.5,0,0,null,73.885551225824941,-8.8855512258249405,78.953020586759109]
[null,296,2007,"2007-06-05",{"$f":"VLOOKUP(D304, data!$D$5:$E$6326,2, FALSE)","v":75},{"$f":"VLOOKUP(D304, data!$G$5:$H$6326,2, FALSE)","v":55.5},null,0.8666666666666667,0.75111111111111117,66.5,72,0,0,null,66.546420080842736,8.4535799191572636,71.463013449578924]
[null,297,2007,"2007-06-04",{"$f":"VLOOKUP(D305, data!$D$5:$E$6326,2, FALSE)","v":66.5},{"$f":"VLOOKUP(D305, data!$G$5:$H$6326,2, FALSE)","v":64.5},null,0.9,0.81,72,80,0,0,null,68.905722901819843,-2.4057229018198427,5.7875026803404843]
[null,298,2007,"2007-06-03",{"$f":"VLOOKUP(D306, data!$D$5:$E$6326,2, FALSE)","v":72},{"$f":"VLOOKUP(D306, data!$G$5:$H$6326,2, FALSE)","v":70},null,0.93333333333333335,0.87111111111111117,80,78,0,0,null,74.865058948631855,-2.8650589486318552,8.2085627791354714]
[null,299,2007,"2007-06-02",{"$f":"VLOOKUP(D307, data!$D$5:$E$6326,2, FALSE)","v":80},{"$f":"VLOOKUP(D307, data!$G$5:$H$6326,2, FALSE)","v":73},null,0.96666666666666667,0.93444444444444441,{"$f":"E308","v":78},0,0,1,null,76.141328517921323,3.8586714820786767,14.889345606607252]
[null,300,2007,"2007-06-01",{"$f":"VLOOKUP(D308, data!$D$5:$E$6326,2, FALSE)","v":78},{"$f":"VLOOKUP(D308, data!$G$5:$H$6326,2, FALSE)","v":73.5},null,1,1,0,0,1,0,null,70.05352941176335,7.9464705882366502,63.146394809710131]
[null,301,2006,{"$f":"DATE(C309, 6, 30)","v":"2006-06-30"},{"$f":"VLOOKUP(D309, data!$D$5:$E$6326,2, FALSE)","v":73.5},{"$f":"VLOOKUP(D309, data!$G$5:$H$6326,2, FALSE)","v":69},null,{"$f":"H279","v":3.3333333333333333E-2},{"$f":"H309*H309","v":1.1111111111111111E-3},{"$f":"E310","v":77},{"$f":"E311","v":80},0,0,null,76.890636894758728,-3.3906368947587282,11.496418552099112]
[null,302,2006,{"$f":"D309-1","v":"2006-06-29"},{"$f":"VLOOKUP(D310, data!$D$5:$E$6326,2, FALSE)","v":77},{"$f":"VLOOKUP(D310, data!$G$5:$H$6326,2, FALSE)","v":68},null,{"$f":"H280","v":6.6666666666666666E-2},4.4444444444444444E-3,{"$f":"E311","v":80},{"$f":"E312","v":75.5},0,0,null,79.730767541779002,-2.7307675417790023,7.4570913672337351]
[null,303,2006,"2006-06-28",{"$f":"VLOOKUP(D311, data!$D$5:$E$6326,2, FALSE)","v":80},{"$f":"VLOOKUP(D311, data!$G$5:$H$6326,2, FALSE)","v":66.5},null,0.1,1.0000000000000002E-2,75.5,74.5,0,0,null,76.505635990400634,3.4943640095993658,12.210579831583356]
[null,304,2006,"2006-06-27",{"$f":"VLOOKUP(D312, data!$D$5:$E$6326,2, FALSE)","v":75.5},{"$f":"VLOOKUP(D312, data!$G$5:$H$6326,2, FALSE)","v":70.5},null,0.13333333333333333,1.7777777777777778E-2,74.5,74,0,0,null,75.725826721169227,-0.22582672116922708,5.0997707994043837E-2]
[null,305,2006,"2006-06-26",{"$f":"VLOOKUP(D313, data!$D$5:$E$6326,2, FALSE)","v":74.5},{"$f":"VLOOKUP(D313, data!$G$5:$H$6326,2, FALSE)","v":66},null,0.16666666666666666,2.7777777777777776E-2,74,74,0,0,null,75.216732032447723,-0.7167320324477231,0.51370480633664395]
[null,306,2006,"2006-06-25",{"$f":"VLOOKUP(D314, data!$D$5:$E$6326,2, FALSE)","v":74},{"$f":"VLOOKUP(D314, data!$G$5:$H$6326,2, FALSE)","v":67},null,0.2,4.0000000000000008E-2,74,82.5,0,0,null,73.546290836566044,0.45370916343395606,0.20585200498394027]
[null,307,2006,"2006-06-24",{"$f":"VLOOKUP(D315, data!$D$5:$E$6326,2, FALSE)","v":74},{"$f":"VLOOKUP(D315, data!$G$5:$H$6326,2, FALSE)","v":66.5},null,0.23333333333333334,5.4444444444444448E-2,82.5,81,0,0,null,79.825098269793457,-5.8250982697934575,33.931769852750733]
[null,308,2006,"2006-06-23",{"$f":"VLOOKUP(D316, data!$D$5:$E$6326,2, FALSE)","v":82.5},{"$f":"VLOOKUP(D316, data!$G$5:$H$6326,2, FALSE)","v":63.5},null,0.26666666666666666,7.1111111111111111E-2,81,76.5,0,0,null,79.390020053656571,3.1099799463434294,9.671975266658281]
[null,309,2006,"2006-06-22",{"$f":"VLOOKUP(D317, data!$D$5:$E$6326,2, FALSE)","v":81},{"$f":"VLOOKUP(D317, data!$G$5:$H$6326,2, FALSE)","v":73.5},null,0.3,0.09,76.5,78.5,0,0,null,75.614568283700422,5.3854317162995784,29.002874770925423]
[null,310,2006,"2006-06-21",{"$f":"VLOOKUP(D318, data!$D$5:$E$6326,2, FALSE)","v":76.5},{"$f":"VLOOKUP(D318, data!$G$5:$H$6326,2, FALSE)","v":78},null,0.33333333333333331,0.1111111111111111,78.5,82.5,0,0,null,76.190535043590216,0.30946495640978355,9.5768559245709234E-2]
[null,311,2006,"2006-06-20",{"$f":"VLOOKUP(D319, data!$D$5:$E$6326,2, FALSE)","v":78.5},{"$f":"VLOOKUP(D319, data!$G$5:$H$6326,2, FALSE)","v":71},null,0.36666666666666664,0.13444444444444442,82.5,82,0,0,null,79.01955841460223,-0.51955841460222985,0.26994094618398257]
[null,312,2006,"2006-06-19",{"$f":"VLOOKUP(D320, data!$D$5:$E$6326,2, FALSE)","v":82.5},{"$f":"VLOOKUP(D320, data!$G$5:$H$6326,2, FALSE)","v":75},null,0.4,0.16000000000000003,82,75.5,0,0,null,79.658499830460897,2.8415001695391027,8.0741232134907488]
[null,313,2006,"2006-06-18",{"$f":"VLOOKUP(D321, data!$D$5:$E$6326,2, FALSE)","v":82},{"$f":"VLOOKUP(D321, data!$G$5:$H$6326,2, FALSE)","v":72},null,0.43333333333333335,0.18777777777777779,75.5,73.5,0,0,null,75.140475262780697,6.8595247372193029,47.053079620523548]
[null,314,2006,"2006-06-17",{"$f":"VLOOKUP(D322, data!$D$5:$E$6326,2, FALSE)","v":75.5},{"$f":"VLOOKUP(D322, data!$G$5:$H$6326,2, FALSE)","v":82},null,0.46666666666666667,0.21777777777777779,73.5,73.5,0,0,null,73.524130757188374,1.9758692428116262,3.9040592646889891]
[null,315,2006,"2006-06-16",{"$f":"VLOOKUP(D323, data!$D$5:$E$6326,2, FALSE)","v":73.5},{"$f":"VLOOKUP(D323, data!$G$5:$H$6326,2, FALSE)","v":81},null,0.5,0.25,73.5,71.5,0,0,null,73.713323772821383,-0.21332377282138282,4.550703205074895E-2]
[null,316,2006,"2006-06-15",{"$f":"VLOOKUP(D324, data!$D$5:$E$6326,2, FALSE)","v":73.5},{"$f":"VLOOKUP(D324, data!$G$5:$H$6326,2, FALSE)","v":74},null,0.53333333333333333,0.28444444444444444,71.5,73,0,0,null,71.824035376390441,1.6759646236095591,2.8088574195907312]
[null,317,2006,"2006-06-14",{"$f":"VLOOKUP(D325, data!$D$5:$E$6326,2, FALSE)","v":71.5},{"$f":"VLOOKUP(D325, data!$G$5:$H$6326,2, FALSE)","v":65.5},null,0.56666666666666665,0.32111111111111107,73,66.5,0,0,null,73.901634167755901,-2.4016341677559012,5.7678466757325806]
[null,318,2006,"2006-06-13",{"$f":"VLOOKUP(D326, data!$D$5:$E$6326,2, FALSE)","v":73},{"$f":"VLOOKUP(D326, data!$G$5:$H$6326,2, FALSE)","v":62.5},null,0.6,0.36,66.5,62.5,0,0,null,69.730543779741978,3.2694562202580215,10.689343976183869]
[null,319,2006,"2006-06-12",{"$f":"VLOOKUP(D327, data!$D$5:$E$6326,2, FALSE)","v":66.5},{"$f":"VLOOKUP(D327, data!$G$5:$H$6326,2, FALSE)","v":59.5},null,0.6333333333333333,0.40111111111111108,62.5,63,0,0,null,66.563875896160965,-6.387589616096534E-2,4.0801301103664265E-3]
[null,320,2006,"2006-06-11",{"$f":"VLOOKUP(D328, data!$D$5:$E$6326,2, FALSE)","v":62.5},{"$f":"VLOOKUP(D328, data!$G$5:$H$6326,2, FALSE)","v":58},null,0.66666666666666663,0.44444444444444442,63,69,0,0,null,65.672361348812188,-3.1723613488121885,10.063876527437488]
[null,321,2006,"2006-06-10",{"$f":"VLOOKUP(D329, data!$D$5:$E$6326,2, FALSE)","v":63},{"$f":"VLOOKUP(D329, data!$G$5:$H$6326,2, FALSE)","v":56.5},null,0.7,0.48999999999999994,69,63.5,0,0,null,70.823999182873536,-7.8239991828735356,61.214963213605749]
[null,322,2006,"2006-06-09",{"$f":"VLOOKUP(D330, data!$D$5:$E$6326,2, FALSE)","v":69},{"$f":"VLOOKUP(D330, data!$G$5:$H$6326,2, FALSE)","v":61},null,0.73333333333333328,0.53777777777777769,63.5,61,0,0,null,{"$f":"$O$7+SUMPRODUCT(H$7:M$7, H330:M330)","v":67.100401700999498},{"$f":"E330-O330","v":1.8995982990005018},{"$f":"P330*P330","v":3.6084736975656}]
[null,{"$f":"B330+1","v":323},2006,"2006-06-08",{"$f":"VLOOKUP(D331, data!$D$5:$E$6326,2, FALSE)","v":63.5},{"$f":"VLOOKUP(D331, data!$G$5:$H$6326,2, FALSE)","v":72.5},null,0.76666666666666672,0.58777777777777784,61,66,0,0,null,64.206638432621617,-0.70663843262161663,0.49933787445793504]
[null,324,2006,"2006-06-07",{"$f":"VLOOKUP(D332, data!$D$5:$E$6326,2, FALSE)","v":61},{"$f":"VLOOKUP(D332, data!$G$5:$H$6326,2, FALSE)","v":71.5},null,0.8,0.64000000000000012,66,65,0,0,null,67.821224015638791,-6.8212240156387907,46.529097071527389]
[null,325,2006,"2006-06-06",{"$f":"VLOOKUP(D333, data!$D$5:$E$6326,2, FALSE)","v":66},{"$f":"VLOOKUP(D333, data!$G$5:$H$6326,2, FALSE)","v":67.5},null,0.83333333333333337,0.69444444444444453,65,64,0,0,null,67.084377976931506,-1.0843779769315063,1.1758755968540664]
[null,326,2006,"2006-06-05",{"$f":"VLOOKUP(D334, data!$D$5:$E$6326,2, FALSE)","v":65},{"$f":"VLOOKUP(D334, data!$G$5:$H$6326,2, FALSE)","v":64.5},null,0.8666666666666667,0.75111111111111117,64,63.5,0,0,null,66.255811901794587,-1.255811901794587,1.5770635326889375]
[null,327,2006,"2006-06-04",{"$f":"VLOOKUP(D335, data!$D$5:$E$6326,2, FALSE)","v":64},{"$f":"VLOOKUP(D335, data!$G$5:$H$6326,2, FALSE)","v":64.5},null,0.9,0.81,63.5,75,0,0,null,63.639372593641852,0.36062740635814805,0.13005212621660484]
[null,328,2006,"2006-06-03",{"$f":"VLOOKUP(D336, data!$D$5:$E$6326,2, FALSE)","v":63.5},{"$f":"VLOOKUP(D336, data!$G$5:$H$6326,2, FALSE)","v":64},null,0.93333333333333335,0.87111111111111117,75,79,0,0,null,71.061705143277948,-7.5617051432779476,57.179384673876164]
[null,329,2006,"2006-06-02",{"$f":"VLOOKUP(D337, data!$D$5:$E$6326,2, FALSE)","v":75},{"$f":"VLOOKUP(D337, data!$G$5:$H$6326,2, FALSE)","v":68},null,0.96666666666666667,0.93444444444444441,{"$f":"E338","v":79},0,0,1,null,76.866197751800357,-1.8661977518003567,3.482694048824706]
[null,330,2006,"2006-06-01",{"$f":"VLOOKUP(D338, data!$D$5:$E$6326,2, FALSE)","v":79},{"$f":"VLOOKUP(D338, data!$G$5:$H$6326,2, FALSE)","v":69.5},null,1,1,0,0,1,0,null,70.05352941176335,8.9464705882366502,80.039335986183431]
[null,331,2005,{"$f":"DATE(C339, 6, 30)","v":"2005-06-30"},{"$f":"VLOOKUP(D339, data!$D$5:$E$6326,2, FALSE)","v":77},{"$f":"VLOOKUP(D339, data!$G$5:$H$6326,2, FALSE)","v":81.5},null,{"$f":"H309","v":3.3333333333333333E-2},{"$f":"H339*H339","v":1.1111111111111111E-3},{"$f":"E340","v":79},{"$f":"E341","v":81},0,0,null,78.161367726558041,-1.1613677265580407,1.3487749962905919]
[null,332,2005,{"$f":"D339-1","v":"2005-06-29"},{"$f":"VLOOKUP(D340, data!$D$5:$E$6326,2, FALSE)","v":79},{"$f":"VLOOKUP(D340, data!$G$5:$H$6326,2, FALSE)","v":81.5},null,6.6666666666666666E-2,4.4444444444444444E-3,{"$f":"E341","v":81},{"$f":"E342","v":75.5},0,0,null,80.455636775658036,-1.4556367756580357,2.1188784226481228]
[null,333,2005,"2005-06-28",{"$f":"VLOOKUP(D341, data!$D$5:$E$6326,2, FALSE)","v":81},{"$f":"VLOOKUP(D341, data!$G$5:$H$6326,2, FALSE)","v":85},null,0.1,1.0000000000000002E-2,75.5,83,0,0,null,74.984071084751193,6.0159289152488071,36.191400713326686]
[null,334,2005,"2005-06-27",{"$f":"VLOOKUP(D342, data!$D$5:$E$6326,2, FALSE)","v":75.5},{"$f":"VLOOKUP(D342, data!$G$5:$H$6326,2, FALSE)","v":81.5},null,0.13333333333333333,1.7777777777777778E-2,83,81,0,0,null,80.634161757429709,-5.1341617574297089,26.359616951453717]
[null,335,2005,"2005-06-26",{"$f":"VLOOKUP(D343, data!$D$5:$E$6326,2, FALSE)","v":83},{"$f":"VLOOKUP(D343, data!$G$5:$H$6326,2, FALSE)","v":81.5},null,0.16666666666666666,2.7777777777777776E-2,81,74.5,0,0,null,80.201312851621566,2.7986871483784341,7.8326497544986111]
[null,336,2005,"2005-06-25",{"$f":"VLOOKUP(D344, data!$D$5:$E$6326,2, FALSE)","v":81},{"$f":"VLOOKUP(D344, data!$G$5:$H$6326,2, FALSE)","v":80},null,0.2,{"$f":"H344*H344","v":4.0000000000000008E-2},74.5,68,0,0,null,76.504336174907536,4.4956638250924641,20.210993228245005]
[null,337,2005,"2005-06-24",{"$f":"VLOOKUP(D345, data!$D$5:$E$6326,2, FALSE)","v":74.5},{"$f":"VLOOKUP(D345, data!$G$5:$H$6326,2, FALSE)","v":86},null,0.23333333333333334,5.4444444444444448E-2,68,72,0,0,null,70.925563102176312,3.5744368978236878,12.776599136523428]
[null,338,2005,"2005-06-23",{"$f":"VLOOKUP(D346, data!$D$5:$E$6326,2, FALSE)","v":68},{"$f":"VLOOKUP(D346, data!$G$5:$H$6326,2, FALSE)","v":76.5},null,0.26666666666666666,7.1111111111111111E-2,72,72,0,0,null,73.671731310559693,-5.6717313105596929,32.168536059183175]
[null,339,2005,"2005-06-22",{"$f":"VLOOKUP(D347, data!$D$5:$E$6326,2, FALSE)","v":72},{"$f":"VLOOKUP(D347, data!$G$5:$H$6326,2, FALSE)","v":72},null,0.3,0.09,72,68,0,0,null,74.232236908811728,-2.2322369088117284,4.9828816170613406]
[null,340,2005,"2005-06-21",{"$f":"VLOOKUP(D348, data!$D$5:$E$6326,2, FALSE)","v":72},{"$f":"VLOOKUP(D348, data!$G$5:$H$6326,2, FALSE)","v":74.5},null,0.33333333333333331,0.1111111111111111,68,66.5,0,0,null,71.443530263200486,0.55646973679951373,0.3096585679737201]
[null,341,2005,"2005-06-20",{"$f":"VLOOKUP(D349, data!$D$5:$E$6326,2, FALSE)","v":68},{"$f":"VLOOKUP(D349, data!$G$5:$H$6326,2, FALSE)","v":69},null,0.36666666666666664,0.13444444444444442,66.5,68,0,0,null,69.927757575960314,-1.9277575759603138,3.7162492716723849]
[null,342,2005,"2005-06-19",{"$f":"VLOOKUP(D350, data!$D$5:$E$6326,2, FALSE)","v":66.5},{"$f":"VLOOKUP(D350, data!$G$5:$H$6326,2, FALSE)","v":65},null,0.4,0.16000000000000003,68,67.5,0,0,null,70.942391643824493,-4.442391643824493,19.734843517121682]
[null,343,2005,"2005-06-18",{"$f":"VLOOKUP(D351, data!$D$5:$E$6326,2, FALSE)","v":68},{"$f":"VLOOKUP(D351, data!$G$5:$H$6326,2, FALSE)","v":62},null,0.43333333333333335,0.18777777777777779,67.5,67,0,0,null,70.505071025480362,-2.5050710254803619,6.2753808427012316]
[null,344,2005,"2005-06-17",{"$f":"VLOOKUP(D352, data!$D$5:$E$6326,2, FALSE)","v":67.5},{"$f":"VLOOKUP(D352, data!$G$5:$H$6326,2, FALSE)","v":60.5},null,0.46666666666666667,0.21777777777777779,67,73,0,0,null,68.901984554954041,-1.4019845549540406,1.9655606923296793]
[null,345,2005,"2005-06-16",{"$f":"VLOOKUP(D353, data!$D$5:$E$6326,2, FALSE)","v":67},{"$f":"VLOOKUP(D353, data!$G$5:$H$6326,2, FALSE)","v":66},null,0.5,0.25,73,88,0,0,null,70.397263162562382,-3.3972631625623819,11.541396995703357]
[null,346,2005,"2005-06-15",{"$f":"VLOOKUP(D354, data!$D$5:$E$6326,2, FALSE)","v":73},{"$f":"VLOOKUP(D354, data!$G$5:$H$6326,2, FALSE)","v":64},null,0.53333333333333333,0.28444444444444444,88,83.5,0,0,null,81.904797557827521,-8.9047975578275214,79.295419545890994]
[null,347,2005,"2005-06-14",{"$f":"VLOOKUP(D355, data!$D$5:$E$6326,2, FALSE)","v":88},{"$f":"VLOOKUP(D355, data!$G$5:$H$6326,2, FALSE)","v":73.5},null,0.56666666666666665,0.32111111111111107,83.5,82,0,0,null,78.738142766125009,9.2618572338749914,85.78199942068251]
[null,348,2005,"2005-06-13",{"$f":"VLOOKUP(D356, data!$D$5:$E$6326,2, FALSE)","v":83.5},{"$f":"VLOOKUP(D356, data!$G$5:$H$6326,2, FALSE)","v":78},null,0.6,0.36,82,79,0,0,null,78.012390911547485,5.4876090884525155,30.113853507666647]
[null,349,2005,"2005-06-12",{"$f":"VLOOKUP(D357, data!$D$5:$E$6326,2, FALSE)","v":82},{"$f":"VLOOKUP(D357, data!$G$5:$H$6326,2, FALSE)","v":75},null,0.6333333333333333,0.40111111111111108,79,81,0,0,null,75.302080807907373,6.6979191920926269,44.862121503802747]
[null,350,2005,"2005-06-11",{"$f":"VLOOKUP(D358, data!$D$5:$E$6326,2, FALSE)","v":79},{"$f":"VLOOKUP(D358, data!$G$5:$H$6326,2, FALSE)","v":80},null,0.66666666666666663,0.44444444444444442,81,81,0,0,null,76.57191592712968,2.4280840728703197,5.8955922649265196]
[null,351,{"$f":"C329-1","v":2005},"2005-06-10",{"$f":"VLOOKUP(D359, data!$D$5:$E$6326,2, FALSE)","v":81},{"$f":"VLOOKUP(D359, data!$G$5:$H$6326,2, FALSE)","v":77.5},null,0.7,0.48999999999999994,81,81.5,0,0,null,76.3002925421643,4.6997074578357001,22.087250189236499]
[null,352,2005,"2005-06-09",{"$f":"VLOOKUP(D360, data!$D$5:$E$6326,2, FALSE)","v":81},{"$f":"VLOOKUP(D360, data!$G$5:$H$6326,2, FALSE)","v":76.5},null,0.73333333333333328,0.53777777777777769,81.5,79,0,0,null,76.925910463564449,4.0740895364355509,16.598205550893642]
[null,353,2005,"2005-06-08",{"$f":"VLOOKUP(D361, data!$D$5:$E$6326,2, FALSE)","v":81.5},{"$f":"VLOOKUP(D361, data!$G$5:$H$6326,2, FALSE)","v":77.5},null,0.76666666666666672,0.58777777777777784,79,79,0,0,null,74.927185374980368,6.5728146250196318,43.201892094871965]
[null,354,2005,"2005-06-07",{"$f":"VLOOKUP(D362, data!$D$5:$E$6326,2, FALSE)","v":79},{"$f":"VLOOKUP(D362, data!$G$5:$H$6326,2, FALSE)","v":76.5},null,0.8,0.64000000000000012,79,77,0,0,null,75.096432424561129,3.9035675754388706,15.237839816017702]
[null,355,2005,"2005-06-06",{"$f":"VLOOKUP(D363, data!$D$5:$E$6326,2, FALSE)","v":79},{"$f":"VLOOKUP(D363, data!$G$5:$H$6326,2, FALSE)","v":77.5},null,0.83333333333333337,0.69444444444444453,77,73,0,0,null,74.171740059851075,4.828259940148925,23.312094049646902]
[null,356,2005,"2005-06-05",{"$f":"VLOOKUP(D364, data!$D$5:$E$6326,2, FALSE)","v":77},{"$f":"VLOOKUP(D364, data!$G$5:$H$6326,2, FALSE)","v":77.5},null,0.8666666666666667,0.75111111111111117,73,62,0,0,null,73.04814646064402,3.9518535393559802,15.617146396520388]
[null,357,2005,"2005-06-04",{"$f":"VLOOKUP(D365, data!$D$5:$E$6326,2, FALSE)","v":73},{"$f":"VLOOKUP(D365, data!$G$5:$H$6326,2, FALSE)","v":71.5},null,0.9,0.81,62,60,0,0,null,65.237183282204668,7.7628167177953316,60.261323394082687]
[null,358,2005,"2005-06-03",{"$f":"VLOOKUP(D366, data!$D$5:$E$6326,2, FALSE)","v":62},{"$f":"VLOOKUP(D366, data!$G$5:$H$6326,2, FALSE)","v":66.5},null,0.93333333333333335,0.87111111111111117,60,59.5,0,0,null,63.679315536288215,-1.6793155362882146,2.8201006704189737]
[null,359,2005,"2005-06-02",{"$f":"VLOOKUP(D367, data!$D$5:$E$6326,2, FALSE)","v":60},{"$f":"VLOOKUP(D367, data!$G$5:$H$6326,2, FALSE)","v":66},null,0.96666666666666667,0.93444444444444441,{"$f":"E368","v":59.5},0,0,1,null,62.731247691159226,-2.7312476911592256,7.4597139504626009]
[null,360,2005,"2005-06-01",{"$f":"VLOOKUP(D368, data!$D$5:$E$6326,2, FALSE)","v":59.5},{"$f":"VLOOKUP(D368, data!$G$5:$H$6326,2, FALSE)","v":65},null,1,1,0,0,1,0,null,70.05352941176335,-10.55352941176335,111.37698304495407]
[null,361,2004,{"$f":"DATE(C369, 6, 30)","v":"2004-06-30"},{"$f":"VLOOKUP(D369, data!$D$5:$E$6326,2, FALSE)","v":74},{"$f":"VLOOKUP(D369, data!$G$5:$H$6326,2, FALSE)","v":72.5},null,{"$f":"H339","v":3.3333333333333333E-2},{"$f":"H369*H369","v":1.1111111111111111E-3},{"$f":"E370","v":71.5},{"$f":"E371","v":71},0,0,null,74.51492483205287,-0.51492483205286987,0.26514758266467625]
[null,362,2004,{"$f":"D369-1","v":"2004-06-29"},{"$f":"VLOOKUP(D370, data!$D$5:$E$6326,2, FALSE)","v":71.5},{"$f":"VLOOKUP(D370, data!$G$5:$H$6326,2, FALSE)","v":69},null,6.6666666666666666E-2,{"$f":"H370*H370","v":4.4444444444444444E-3},{"$f":"E371","v":71},{"$f":"E372","v":70},0,0,null,74.191486434640865,-2.6914864346408649,7.244099227855795]
[null,363,2004,"2004-06-28",{"$f":"VLOOKUP(D371, data!$D$5:$E$6326,2, FALSE)","v":71},{"$f":"VLOOKUP(D371, data!$G$5:$H$6326,2, FALSE)","v":64.5},null,0.1,1.0000000000000002E-2,70,74.5,0,0,null,72.518855204065943,-1.5188552040659431,2.3069211309181976]
[null,364,2004,"2004-06-27",{"$f":"VLOOKUP(D372, data!$D$5:$E$6326,2, FALSE)","v":70},{"$f":"VLOOKUP(D372, data!$G$5:$H$6326,2, FALSE)","v":66.5},null,0.13333333333333333,1.7777777777777778E-2,74.5,75,0,0,null,75.546819085210473,-5.5468190852104726,30.767201964055143]
[null,365,2004,"2004-06-26",{"$f":"VLOOKUP(D373, data!$D$5:$E$6326,2, FALSE)","v":74.5},{"$f":"VLOOKUP(D373, data!$G$5:$H$6326,2, FALSE)","v":63.5},null,0.16666666666666666,2.7777777777777776E-2,75,74,0,0,null,75.941601266326757,-1.4416012663267566,2.0782142110749082]
[null,366,2004,"2004-06-25",{"$f":"VLOOKUP(D374, data!$D$5:$E$6326,2, FALSE)","v":75},{"$f":"VLOOKUP(D374, data!$G$5:$H$6326,2, FALSE)","v":60.5},null,{"$f":"H344","v":0.2},4.0000000000000008E-2,74,78.5,0,0,null,74.262321380401076,0.737678619598924,0.54416974581337407]
[null,367,2004,"2004-06-24",{"$f":"VLOOKUP(D375, data!$D$5:$E$6326,2, FALSE)","v":74},{"$f":"VLOOKUP(D375, data!$G$5:$H$6326,2, FALSE)","v":62},null,0.23333333333333334,5.4444444444444448E-2,78.5,71.5,0,0,null,78.626193875885519,-4.6261938758855194,21.401669777280684]
[null,368,2004,"2004-06-23",{"$f":"VLOOKUP(D376, data!$D$5:$E$6326,2, FALSE)","v":78.5},{"$f":"VLOOKUP(D376, data!$G$5:$H$6326,2, FALSE)","v":69.5},null,0.26666666666666666,7.1111111111111111E-2,71.5,71,0,0,null,73.488304329578938,5.0116956704210622,25.11709349291722]
[null,369,2004,"2004-06-22",{"$f":"VLOOKUP(D377, data!$D$5:$E$6326,2, FALSE)","v":71.5},{"$f":"VLOOKUP(D377, data!$G$5:$H$6326,2, FALSE)","v":65},null,0.3,0.09,71,67,0,0,null,73.686375310891449,-2.1863753108914494,4.7802370000756822]
[null,370,2004,"2004-06-21",{"$f":"VLOOKUP(D378, data!$D$5:$E$6326,2, FALSE)","v":71},{"$f":"VLOOKUP(D378, data!$G$5:$H$6326,2, FALSE)","v":62.5},null,0.33333333333333331,0.1111111111111111,67,74,0,0,null,69.37610375963078,1.6238962403692199,2.637038999485287]
[null,371,2004,"2004-06-20",{"$f":"VLOOKUP(D379, data!$D$5:$E$6326,2, FALSE)","v":67},{"$f":"VLOOKUP(D379, data!$G$5:$H$6326,2, FALSE)","v":60.5},null,0.36666666666666664,0.13444444444444442,74,81,0,0,null,73.037177562589207,-6.037177562589207,36.447512922230558]
[null,372,2004,"2004-06-19",{"$f":"VLOOKUP(D380, data!$D$5:$E$6326,2, FALSE)","v":74},{"$f":"VLOOKUP(D380, data!$G$5:$H$6326,2, FALSE)","v":56},null,0.4,0.16000000000000003,81,82,0,0,null,77.770080962849931,-3.7700809628499314,14.213510466443466]
[null,373,2004,"2004-06-18",{"$f":"VLOOKUP(D381, data!$D$5:$E$6326,2, FALSE)","v":81},{"$f":"VLOOKUP(D381, data!$G$5:$H$6326,2, FALSE)","v":71},null,0.43333333333333335,0.18777777777777779,82,81,0,0,null,78.509568013303721,2.4904319866962794,6.2022514803599771]
[null,374,2004,"2004-06-17",{"$f":"VLOOKUP(D382, data!$D$5:$E$6326,2, FALSE)","v":82},{"$f":"VLOOKUP(D382, data!$G$5:$H$6326,2, FALSE)","v":72},null,0.46666666666666667,0.21777777777777779,81,81,0,0,null,77.618092741590445,4.3819072584095551,19.201111221302344]
[null,375,2004,"2004-06-16",{"$f":"VLOOKUP(D383, data!$D$5:$E$6326,2, FALSE)","v":81},{"$f":"VLOOKUP(D383, data!$G$5:$H$6326,2, FALSE)","v":72},null,0.5,0.25,81,74.5,0,0,null,78.612820119037863,2.3871798809621367,5.6986277840704016]
[null,376,2004,"2004-06-15",{"$f":"VLOOKUP(D384, data!$D$5:$E$6326,2, FALSE)","v":81},{"$f":"VLOOKUP(D384, data!$G$5:$H$6326,2, FALSE)","v":71},null,0.53333333333333333,0.28444444444444444,74.5,67,0,0,null,75.072688893780082,5.9273111062199177,35.133016949917987]
[null,377,2004,"2004-06-14",{"$f":"VLOOKUP(D385, data!$D$5:$E$6326,2, FALSE)","v":74.5},{"$f":"VLOOKUP(D385, data!$G$5:$H$6326,2, FALSE)","v":74.5},null,0.56666666666666665,0.32111111111111107,67,66.5,0,0,null,69.552418764481715,4.9475812355182853,24.478560082052642]
[null,378,2004,"2004-06-13",{"$f":"VLOOKUP(D386, data!$D$5:$E$6326,2, FALSE)","v":67},{"$f":"VLOOKUP(D386, data!$G$5:$H$6326,2, FALSE)","v":72},null,0.6,0.36,66.5,66,0,0,null,69.104017053886324,-2.1040170538863237,4.4268877630444852]
[null,379,2004,"2004-06-12",{"$f":"VLOOKUP(D387, data!$D$5:$E$6326,2, FALSE)","v":66.5},{"$f":"VLOOKUP(D387, data!$G$5:$H$6326,2, FALSE)","v":70.5},null,0.6333333333333333,0.40111111111111108,66,72.5,0,0,null,67.40034567312938,-0.90034567312937952,0.81062233112279547]
[null,380,2004,"2004-06-11",{"$f":"VLOOKUP(D388, data!$D$5:$E$6326,2, FALSE)","v":66},{"$f":"VLOOKUP(D388, data!$G$5:$H$6326,2, FALSE)","v":72.5},null,0.66666666666666663,0.44444444444444442,72.5,83,0,0,null,70.052512167240394,-4.0525121672403941,16.422854865631436]
[null,381,2004,"2004-06-10",{"$f":"VLOOKUP(D389, data!$D$5:$E$6326,2, FALSE)","v":72.5},{"$f":"VLOOKUP(D389, data!$G$5:$H$6326,2, FALSE)","v":63.5},null,0.7,0.48999999999999994,83,77,0,0,null,78.555565371736776,-6.0555653717367761,36.66987197137756]
[null,382,2004,"2004-06-09",{"$f":"VLOOKUP(D390, data!$D$5:$E$6326,2, FALSE)","v":83},{"$f":"VLOOKUP(D390, data!$G$5:$H$6326,2, FALSE)","v":73},null,0.73333333333333328,0.53777777777777769,77,72,0,0,null,74.917052362820101,8.0829476371798989,65.334042505392105]
[null,383,2004,"2004-06-08",{"$f":"VLOOKUP(D391, data!$D$5:$E$6326,2, FALSE)","v":77},{"$f":"VLOOKUP(D391, data!$G$5:$H$6326,2, FALSE)","v":82.5},null,0.76666666666666672,0.58777777777777784,72,58,0,0,null,73.612261092961035,3.3877389070389654,11.476774902265564]
[null,384,2004,"2004-06-07",{"$f":"VLOOKUP(D392, data!$D$5:$E$6326,2, FALSE)","v":72},{"$f":"VLOOKUP(D392, data!$G$5:$H$6326,2, FALSE)","v":73.5},null,0.8,0.64000000000000012,58,64,0,0,null,62.201277780565285,9.7987222194347154,96.014957133643591]
[null,385,2004,"2004-06-06",{"$f":"VLOOKUP(D393, data!$D$5:$E$6326,2, FALSE)","v":58},{"$f":"VLOOKUP(D393, data!$G$5:$H$6326,2, FALSE)","v":72},null,0.83333333333333337,0.69444444444444453,64,65.5,0,0,null,66.090997289114327,-8.0909972891143269,65.464237132455381]
[null,386,2004,"2004-06-05",{"$f":"VLOOKUP(D394, data!$D$5:$E$6326,2, FALSE)","v":64},{"$f":"VLOOKUP(D394, data!$G$5:$H$6326,2, FALSE)","v":60.5},null,0.8666666666666667,0.75111111111111117,65.5,70,0,0,null,{"$f":"$O$7+SUMPRODUCT(H$7:M$7, H394:M394)","v":66.179566118881212},{"$f":"E394-O394","v":-2.1795661188812119},{"$f":"P394*P394","v":4.7505084665749093}]
[null,{"$f":"B394+1","v":387},2004,"2004-06-04",{"$f":"VLOOKUP(D395, data!$D$5:$E$6326,2, FALSE)","v":65.5},{"$f":"VLOOKUP(D395, data!$G$5:$H$6326,2, FALSE)","v":58},null,0.9,0.81,70,69,0,0,null,69.425068429608103,-3.9250684296081033,15.406162177106223]
[null,388,2004,"2004-06-03",{"$f":"VLOOKUP(D396, data!$D$5:$E$6326,2, FALSE)","v":70},{"$f":"VLOOKUP(D396, data!$G$5:$H$6326,2, FALSE)","v":58.5},null,0.93333333333333335,0.87111111111111117,69,63,0,0,null,69.576611915343861,0.42338808465613909,0.17925747022879399]
[null,389,2004,"2004-06-02",{"$f":"VLOOKUP(D397, data!$D$5:$E$6326,2, FALSE)","v":69},{"$f":"VLOOKUP(D397, data!$G$5:$H$6326,2, FALSE)","v":59},null,0.96666666666666667,0.93444444444444441,{"$f":"E398","v":63},0,0,1,null,65.268290009735836,3.7317099902641644,13.925659451437371]
[null,390,2004,"2004-06-01",{"$f":"VLOOKUP(D398, data!$D$5:$E$6326,2, FALSE)","v":63},{"$f":"VLOOKUP(D398, data!$G$5:$H$6326,2, FALSE)","v":65},null,1,1,0,0,1,0,null,70.05352941176335,-7.0535294117633498,49.752277162610625]
[null,391,2003,{"$f":"DATE(C399, 6, 30)","v":"2003-06-30"},{"$f":"VLOOKUP(D399, data!$D$5:$E$6326,2, FALSE)","v":79.5},{"$f":"VLOOKUP(D399, data!$G$5:$H$6326,2, FALSE)","v":71.5},null,{"$f":"H369","v":3.3333333333333333E-2},{"$f":"H399*H399","v":1.1111111111111111E-3},{"$f":"E400","v":74.5},{"$f":"E401","v":76},0,0,null,75.794494353896184,3.7055056461038163,13.730772093307261]
[null,392,2003,{"$f":"D399-1","v":"2003-06-29"},{"$f":"VLOOKUP(D400, data!$D$5:$E$6326,2, FALSE)","v":74.5},{"$f":"VLOOKUP(D400, data!$G$5:$H$6326,2, FALSE)","v":73.5},null,{"$f":"H370","v":6.6666666666666666E-2},4.4444444444444444E-3,{"$f":"E401","v":76},{"$f":"E402","v":82.5},0,0,null,75.578237154551573,-1.078237154551573,1.1625953614554727]
[null,393,2003,"2003-06-28",{"$f":"VLOOKUP(D401, data!$D$5:$E$6326,2, FALSE)","v":76},{"$f":"VLOOKUP(D401, data!$G$5:$H$6326,2, FALSE)","v":72.5},null,0.1,1.0000000000000002E-2,82.5,86.5,0,0,null,79.431628996048772,-3.4316289960487723,11.776077566522705]
[null,394,2003,"2003-06-27",{"$f":"VLOOKUP(D402, data!$D$5:$E$6326,2, FALSE)","v":82.5},{"$f":"VLOOKUP(D402, data!$G$5:$H$6326,2, FALSE)","v":70},null,0.13333333333333333,1.7777777777777778E-2,86.5,82,0,0,null,82.992196440047564,-0.49219644004756447,0.24225733559549573]
[null,395,2003,"2003-06-26",{"$f":"VLOOKUP(D403, data!$D$5:$E$6326,2, FALSE)","v":86.5},{"$f":"VLOOKUP(D403, data!$G$5:$H$6326,2, FALSE)","v":67.5},null,0.16666666666666666,2.7777777777777776E-2,82,80.5,0,0,null,79.852136269748058,6.6478637302519417,44.194092175999259]
[null,396,2003,"2003-06-25",{"$f":"VLOOKUP(D404, data!$D$5:$E$6326,2, FALSE)","v":82},{"$f":"VLOOKUP(D404, data!$G$5:$H$6326,2, FALSE)","v":82},null,0.2,4.0000000000000008E-2,80.5,74,0,0,null,79.779505762429181,2.2204942375708185,4.9305946590852106]
[null,397,2003,"2003-06-24",{"$f":"VLOOKUP(D405, data!$D$5:$E$6326,2, FALSE)","v":80.5},{"$f":"VLOOKUP(D405, data!$G$5:$H$6326,2, FALSE)","v":79},null,0.23333333333333334,5.4444444444444448E-2,74,63,0,0,null,76.885847229079317,3.6141527709206827,13.062100251553648]
[null,398,2003,"2003-06-23",{"$f":"VLOOKUP(D406, data!$D$5:$E$6326,2, FALSE)","v":74},{"$f":"VLOOKUP(D406, data!$G$5:$H$6326,2, FALSE)","v":74.5},null,0.26666666666666666,7.1111111111111111E-2,63,61,0,0,null,69.116992201194734,4.8830077988052665,23.843765163193055]
[null,399,2003,"2003-06-22",{"$f":"VLOOKUP(D407, data!$D$5:$E$6326,2, FALSE)","v":63},{"$f":"VLOOKUP(D407, data!$G$5:$H$6326,2, FALSE)","v":69.5},null,0.3,0.09,61,66.5,0,0,null,66.527186790080492,-3.5271867900804921,12.441046652118326]
[null,400,2003,"2003-06-21",{"$f":"VLOOKUP(D408, data!$D$5:$E$6326,2, FALSE)","v":61},{"$f":"VLOOKUP(D408, data!$G$5:$H$6326,2, FALSE)","v":63.5},null,0.33333333333333331,0.1111111111111111,66.5,68.5,0,0,null,69.99821114046442,-8.9982111404644201,80.967803728378001]
[null,401,2003,"2003-06-20",{"$f":"VLOOKUP(D409, data!$D$5:$E$6326,2, FALSE)","v":66.5},{"$f":"VLOOKUP(D409, data!$G$5:$H$6326,2, FALSE)","v":59},null,0.36666666666666664,0.13444444444444442,68.5,65,0,0,null,71.914518951594644,-5.4145189515946441,29.317015477177563]
[null,402,2003,"2003-06-19",{"$f":"VLOOKUP(D410, data!$D$5:$E$6326,2, FALSE)","v":68.5},{"$f":"VLOOKUP(D410, data!$G$5:$H$6326,2, FALSE)","v":59.5},null,0.4,0.16000000000000003,65,61,0,0,null,69.931333575919311,-1.4313335759193109,2.0487158055539618]
[null,403,2003,"2003-06-18",{"$f":"VLOOKUP(D411, data!$D$5:$E$6326,2, FALSE)","v":65},{"$f":"VLOOKUP(D411, data!$G$5:$H$6326,2, FALSE)","v":73.5},null,0.43333333333333335,0.18777777777777779,61,62.5,0,0,null,66.598955367081047,-1.5989553670810466,2.5566582659172843]
[null,404,2003,"2003-06-17",{"$f":"VLOOKUP(D412, data!$D$5:$E$6326,2, FALSE)","v":61},{"$f":"VLOOKUP(D412, data!$G$5:$H$6326,2, FALSE)","v":66.5},null,0.46666666666666667,0.21777777777777779,62.5,72.5,0,0,null,65.729576820477774,-4.7295768204777744,22.368896900800653]
[null,405,2003,"2003-06-16",{"$f":"VLOOKUP(D413, data!$D$5:$E$6326,2, FALSE)","v":62.5},{"$f":"VLOOKUP(D413, data!$G$5:$H$6326,2, FALSE)","v":66},null,0.5,0.25,72.5,72.5,0,0,null,72.809446902983609,-10.309446902983609,106.28469544543833]
[null,406,2003,"2003-06-15",{"$f":"VLOOKUP(D414, data!$D$5:$E$6326,2, FALSE)","v":72.5},{"$f":"VLOOKUP(D414, data!$G$5:$H$6326,2, FALSE)","v":66},null,0.53333333333333333,0.28444444444444444,72.5,64.5,0,0,null,74.070469515918916,-1.5704695159189157,2.4663745004305935]
[null,407,2003,"2003-06-14",{"$f":"VLOOKUP(D415, data!$D$5:$E$6326,2, FALSE)","v":72.5},{"$f":"VLOOKUP(D415, data!$G$5:$H$6326,2, FALSE)","v":65},null,0.56666666666666665,0.32111111111111107,64.5,74.5,0,0,null,66.308184592114074,6.191815407885926,38.338578045333556]
[null,408,2003,"2003-06-13",{"$f":"VLOOKUP(D416, data!$D$5:$E$6326,2, FALSE)","v":64.5},{"$f":"VLOOKUP(D416, data!$G$5:$H$6326,2, FALSE)","v":63.5},null,0.6,0.36,74.5,73,0,0,null,73.649917473207282,-9.1499174732072817,83.720989766503919]
[null,409,2003,"2003-06-12",{"$f":"VLOOKUP(D417, data!$D$5:$E$6326,2, FALSE)","v":74.5},{"$f":"VLOOKUP(D417, data!$G$5:$H$6326,2, FALSE)","v":61},null,0.6333333333333333,0.40111111111111108,73,72.5,0,0,null,72.474430310282614,2.0255696897173863,4.1029325679017887]
[null,410,2003,"2003-06-11",{"$f":"VLOOKUP(D418, data!$D$5:$E$6326,2, FALSE)","v":73},{"$f":"VLOOKUP(D418, data!$G$5:$H$6326,2, FALSE)","v":60.5},null,0.66666666666666663,0.44444444444444442,72.5,67.5,0,0,null,72.827130524601131,0.1728694753988691,2.988385552468021E-2]
[null,411,2003,"2003-06-10",{"$f":"VLOOKUP(D419, data!$D$5:$E$6326,2, FALSE)","v":72.5},{"$f":"VLOOKUP(D419, data!$G$5:$H$6326,2, FALSE)","v":66.5},null,0.7,0.48999999999999994,67.5,64,0,0,null,69.647191514075615,2.8528084859243847,8.1385162573621805]
[null,412,2003,"2003-06-09",{"$f":"VLOOKUP(D420, data!$D$5:$E$6326,2, FALSE)","v":67.5},{"$f":"VLOOKUP(D420, data!$G$5:$H$6326,2, FALSE)","v":65},null,0.73333333333333328,0.53777777777777769,64,61.5,0,0,null,67.373332499959631,0.12666750004036942,1.6044655566476988E-2]
[null,413,2003,"2003-06-08",{"$f":"VLOOKUP(D421, data!$D$5:$E$6326,2, FALSE)","v":64},{"$f":"VLOOKUP(D421, data!$G$5:$H$6326,2, FALSE)","v":61.5},null,0.76666666666666672,0.58777777777777784,61.5,67.5,0,0,null,64.300561595623009,-0.30056159562300877,9.033727276344905E-2]
[null,414,2003,"2003-06-07",{"$f":"VLOOKUP(D422, data!$D$5:$E$6326,2, FALSE)","v":61.5},{"$f":"VLOOKUP(D422, data!$G$5:$H$6326,2, FALSE)","v":66},null,0.8,0.64000000000000012,67.5,66,0,0,null,68.729520230498579,-7.2295202304985793,52.265962763188234]
[null,415,{"$f":"C393-1","v":2003},"2003-06-06",{"$f":"VLOOKUP(D423, data!$D$5:$E$6326,2, FALSE)","v":67.5},{"$f":"VLOOKUP(D423, data!$G$5:$H$6326,2, FALSE)","v":60.5},null,0.83333333333333337,0.69444444444444453,66,54.5,0,0,null,69.509819752418721,-2.0098197524187214,4.03937543721245]
[null,416,2003,"2003-06-05",{"$f":"VLOOKUP(D424, data!$D$5:$E$6326,2, FALSE)","v":66},{"$f":"VLOOKUP(D424, data!$G$5:$H$6326,2, FALSE)","v":62.5},null,0.8666666666666667,0.75111111111111117,54.5,62,0,0,null,59.638065633881915,6.3619343661180849,40.474208878794322]
[null,417,2003,"2003-06-04",{"$f":"VLOOKUP(D425, data!$D$5:$E$6326,2, FALSE)","v":54.5},{"$f":"VLOOKUP(D425, data!$G$5:$H$6326,2, FALSE)","v":58},null,0.9,0.81,62,62,0,0,null,64.879168010287145,-10.379168010287145,107.72712858576801]
[null,418,2003,"2003-06-03",{"$f":"VLOOKUP(D426, data!$D$5:$E$6326,2, FALSE)","v":62},{"$f":"VLOOKUP(D426, data!$G$5:$H$6326,2, FALSE)","v":56.5},null,0.93333333333333335,0.87111111111111117,62,60,0,0,null,65.039550186066904,-3.0395501860669043,9.2388653336193531]
[null,419,2003,"2003-06-02",{"$f":"VLOOKUP(D427, data!$D$5:$E$6326,2, FALSE)","v":62},{"$f":"VLOOKUP(D427, data!$G$5:$H$6326,2, FALSE)","v":53},null,0.96666666666666667,0.93444444444444441,{"$f":"E428","v":60},0,0,1,null,63.093682308098735,-1.0936823080987352,1.1961409910481768]
[null,420,2003,"2003-06-01",{"$f":"VLOOKUP(D428, data!$D$5:$E$6326,2, FALSE)","v":60},{"$f":"VLOOKUP(D428, data!$G$5:$H$6326,2, FALSE)","v":50.5},null,1,1,0,0,1,0,null,70.05352941176335,-10.05352941176335,101.07345363319072]
[null,421,2002,{"$f":"DATE(C429, 6, 30)","v":"2002-06-30"},{"$f":"VLOOKUP(D429, data!$D$5:$E$6326,2, FALSE)","v":78},{"$f":"VLOOKUP(D429, data!$G$5:$H$6326,2, FALSE)","v":81},null,{"$f":"H399","v":3.3333333333333333E-2},{"$f":"H429*H429","v":1.1111111111111111E-3},{"$f":"E430","v":78.5},{"$f":"E431","v":78.5},0,0,null,78.246452199515417,-0.24645219951541719,6.0738686645987E-2]
[null,422,2002,{"$f":"D429-1","v":"2002-06-29"},{"$f":"VLOOKUP(D430, data!$D$5:$E$6326,2, FALSE)","v":78.5},{"$f":"VLOOKUP(D430, data!$G$5:$H$6326,2, FALSE)","v":73.5},null,6.6666666666666666E-2,4.4444444444444444E-3,{"$f":"E431","v":78.5},{"$f":"E432","v":82},0,0,null,77.479914057228527,1.0200859427714732,1.0405753306399654]
[null,423,2002,"2002-06-28",{"$f":"VLOOKUP(D431, data!$D$5:$E$6326,2, FALSE)","v":78.5},{"$f":"VLOOKUP(D431, data!$G$5:$H$6326,2, FALSE)","v":73.5},null,0.1,1.0000000000000002E-2,82,84.5,0,0,null,79.427209651026772,-0.92720965102677155,0.85971773695718745]
[null,424,2002,"2002-06-27",{"$f":"VLOOKUP(D432, data!$D$5:$E$6326,2, FALSE)","v":82},{"$f":"VLOOKUP(D432, data!$G$5:$H$6326,2, FALSE)","v":74},null,0.13333333333333333,1.7777777777777778E-2,84.5,78.5,0,0,null,82.168984698145138,-0.16898469814513817,2.8555828207203465E-2]
[null,425,2002,"2002-06-26",{"$f":"VLOOKUP(D433, data!$D$5:$E$6326,2, FALSE)","v":84.5},{"$f":"VLOOKUP(D433, data!$G$5:$H$6326,2, FALSE)","v":79},null,0.16666666666666666,2.7777777777777776E-2,78.5,82.5,0,0,null,76.957078679253925,7.5429213207460748,56.895662050965711]
[null,426,2002,"2002-06-25",{"$f":"VLOOKUP(D434, data!$D$5:$E$6326,2, FALSE)","v":78.5},{"$f":"VLOOKUP(D434, data!$G$5:$H$6326,2, FALSE)","v":80.5},null,0.2,{"$f":"H434*H434","v":4.0000000000000008E-2},82.5,79,0,0,null,80.334206050393476,-1.8342060503934761,3.3643118353000347]
[null,427,2002,"2002-06-24",{"$f":"VLOOKUP(D435, data!$D$5:$E$6326,2, FALSE)","v":82.5},{"$f":"VLOOKUP(D435, data!$G$5:$H$6326,2, FALSE)","v":78},null,0.23333333333333334,5.4444444444444448E-2,79,76.5,0,0,null,78.093590313031257,4.4064096869687432,19.416446329411979]
[null,428,2002,"2002-06-23",{"$f":"VLOOKUP(D436, data!$D$5:$E$6326,2, FALSE)","v":79},{"$f":"VLOOKUP(D436, data!$G$5:$H$6326,2, FALSE)","v":82},null,0.26666666666666666,7.1111111111111111E-2,76.5,72.5,0,0,null,76.844139045035959,2.1558609549640408,4.6477364571384658]
[null,429,2002,"2002-06-22",{"$f":"VLOOKUP(D437, data!$D$5:$E$6326,2, FALSE)","v":76.5},{"$f":"VLOOKUP(D437, data!$G$5:$H$6326,2, FALSE)","v":79.5},null,0.3,0.09,72.5,70,0,0,null,74.236656253833729,2.2633437461662709,5.1227249133099688]
[null,430,2002,"2002-06-21",{"$f":"VLOOKUP(D438, data!$D$5:$E$6326,2, FALSE)","v":72.5},{"$f":"VLOOKUP(D438, data!$G$5:$H$6326,2, FALSE)","v":79.5},null,0.33333333333333331,0.1111111111111111,70,68.5,0,0,null,72.53525345904103,-3.5253459041030055E-2,1.2428063743575837E-3]
[null,431,2002,"2002-06-20",{"$f":"VLOOKUP(D439, data!$D$5:$E$6326,2, FALSE)","v":70},{"$f":"VLOOKUP(D439, data!$G$5:$H$6326,2, FALSE)","v":82},null,0.36666666666666664,0.13444444444444442,68.5,70.5,0,0,null,70.92997695382148,-0.92997695382148038,0.86485713463907987]
[null,432,2002,"2002-06-19",{"$f":"VLOOKUP(D440, data!$D$5:$E$6326,2, FALSE)","v":68.5},{"$f":"VLOOKUP(D440, data!$G$5:$H$6326,2, FALSE)","v":74.5},null,0.4,0.16000000000000003,70.5,70,0,0,null,72.307045638625169,-3.8070456386251692,14.493596494574922]
[null,433,2002,"2002-06-18",{"$f":"VLOOKUP(D441, data!$D$5:$E$6326,2, FALSE)","v":70.5},{"$f":"VLOOKUP(D441, data!$G$5:$H$6326,2, FALSE)","v":69.5},null,0.43333333333333335,0.18777777777777779,70,68.5,0,0,null,72.048732656239793,-1.5487326562397925,2.3985728405035633]
[null,434,2002,"2002-06-17",{"$f":"VLOOKUP(D442, data!$D$5:$E$6326,2, FALSE)","v":70},{"$f":"VLOOKUP(D442, data!$G$5:$H$6326,2, FALSE)","v":67},null,0.46666666666666667,0.21777777777777779,68.5,59.5,0,0,null,72.405891491215812,-2.4058914912158116,5.7883138675046419]
[null,435,2002,"2002-06-16",{"$f":"VLOOKUP(D443, data!$D$5:$E$6326,2, FALSE)","v":68.5},{"$f":"VLOOKUP(D443, data!$G$5:$H$6326,2, FALSE)","v":66},null,0.5,0.25,59.5,58.5,0,0,null,65.892253765978779,2.6077462340212207,6.8003404210518594]
[null,436,2002,"2002-06-15",{"$f":"VLOOKUP(D444, data!$D$5:$E$6326,2, FALSE)","v":59.5},{"$f":"VLOOKUP(D444, data!$G$5:$H$6326,2, FALSE)","v":66.5},null,0.53333333333333333,0.28444444444444444,58.5,63.5,0,0,null,64.101307877571202,-4.6013078775712017,21.172034184198797]
[null,437,2002,"2002-06-14",{"$f":"VLOOKUP(D445, data!$D$5:$E$6326,2, FALSE)","v":58.5},{"$f":"VLOOKUP(D445, data!$G$5:$H$6326,2, FALSE)","v":60.5},null,0.56666666666666665,0.32111111111111107,63.5,75.5,0,0,null,65.404307722276286,-6.9043077222762861,47.66946512388396]
[null,438,2002,"2002-06-13",{"$f":"VLOOKUP(D446, data!$D$5:$E$6326,2, FALSE)","v":63.5},{"$f":"VLOOKUP(D446, data!$G$5:$H$6326,2, FALSE)","v":59.5},null,0.6,0.36,75.5,77.5,0,0,null,73.569252345271906,-10.069252345271906,101.38984279276377]
[null,439,2002,"2002-06-12",{"$f":"VLOOKUP(D447, data!$D$5:$E$6326,2, FALSE)","v":75.5},{"$f":"VLOOKUP(D447, data!$G$5:$H$6326,2, FALSE)","v":63.5},null,0.6333333333333333,0.40111111111111108,77.5,72.5,0,0,null,75.736341862738257,-0.23634186273825719,5.5857476082589202E-2]
[null,440,2002,"2002-06-11",{"$f":"VLOOKUP(D448, data!$D$5:$E$6326,2, FALSE)","v":77.5},{"$f":"VLOOKUP(D448, data!$G$5:$H$6326,2, FALSE)","v":76},null,0.66666666666666663,0.44444444444444442,72.5,69.5,0,0,null,72.469115252683622,5.030884747316378,25.309801340780577]
[null,441,2002,"2002-06-10",{"$f":"VLOOKUP(D449, data!$D$5:$E$6326,2, FALSE)","v":72.5},{"$f":"VLOOKUP(D449, data!$G$5:$H$6326,2, FALSE)","v":79.5},null,0.7,0.48999999999999994,69.5,61.5,0,0,null,71.544449071730554,0.95555092826944588,0.91307757651659971]
[null,442,2002,"2002-06-09",{"$f":"VLOOKUP(D450, data!$D$5:$E$6326,2, FALSE)","v":69.5},{"$f":"VLOOKUP(D450, data!$G$5:$H$6326,2, FALSE)","v":71.5},null,0.73333333333333328,0.53777777777777769,61.5,64,0,0,null,65.113640325365154,4.3863596746348463,19.240151195262715]
[null,443,2002,"2002-06-08",{"$f":"VLOOKUP(D451, data!$D$5:$E$6326,2, FALSE)","v":61.5},{"$f":"VLOOKUP(D451, data!$G$5:$H$6326,2, FALSE)","v":71},null,0.76666666666666672,0.58777777777777784,64,71,0,0,null,65.48620795446493,-3.9862079544649305,15.889853856239485]
[null,444,2002,"2002-06-07",{"$f":"VLOOKUP(D452, data!$D$5:$E$6326,2, FALSE)","v":64},{"$f":"VLOOKUP(D452, data!$G$5:$H$6326,2, FALSE)","v":63.5},null,0.8,0.64000000000000012,71,78.5,0,0,null,69.02896709959073,-5.0289670995907301,25.290510088765998]
[null,445,2002,"2002-06-06",{"$f":"VLOOKUP(D453, data!$D$5:$E$6326,2, FALSE)","v":71},{"$f":"VLOOKUP(D453, data!$G$5:$H$6326,2, FALSE)","v":58},null,0.83333333333333337,0.69444444444444453,78.5,67,0,0,null,76.333089726422173,-5.3330897264221733,28.44184603006973]
[null,446,2002,"2002-06-05",{"$f":"VLOOKUP(D454, data!$D$5:$E$6326,2, FALSE)","v":78.5},{"$f":"VLOOKUP(D454, data!$G$5:$H$6326,2, FALSE)","v":55.5},null,0.8666666666666667,0.75111111111111117,67,66,0,0,null,67.982900513534787,10.517099486465213,110.60938160820685]
[null,447,2002,"2002-06-04",{"$f":"VLOOKUP(D455, data!$D$5:$E$6326,2, FALSE)","v":67},{"$f":"VLOOKUP(D455, data!$G$5:$H$6326,2, FALSE)","v":64.5},null,0.9,0.81,66,71.5,0,0,null,66.078072404195098,0.92192759580490247,0.84995049190660765]
[null,448,2002,"2002-06-03",{"$f":"VLOOKUP(D456, data!$D$5:$E$6326,2, FALSE)","v":66},{"$f":"VLOOKUP(D456, data!$G$5:$H$6326,2, FALSE)","v":61.5},null,0.93333333333333335,0.87111111111111117,71.5,76.5,0,0,null,68.972181914598224,-2.9721819145982238,8.8338653334647628]
[null,449,2002,"2002-06-02",{"$f":"VLOOKUP(D457, data!$D$5:$E$6326,2, FALSE)","v":71.5},{"$f":"VLOOKUP(D457, data!$G$5:$H$6326,2, FALSE)","v":61.5},null,0.96666666666666667,0.93444444444444441,{"$f":"E458","v":76.5},0,0,1,null,75.054024667102766,-3.554024667102766,12.631091334374927]
[null,450,2002,"2002-06-01",{"$f":"VLOOKUP(D458, data!$D$5:$E$6326,2, FALSE)","v":76.5},{"$f":"VLOOKUP(D458, data!$G$5:$H$6326,2, FALSE)","v":76},null,1,1,0,0,1,0,null,{"$f":"$O$7+SUMPRODUCT(H$7:M$7, H458:M458)","v":70.05352941176335},{"$f":"E458-O458","v":6.4464705882366502},{"$f":"P458*P458","v":41.55698304500018}]
[null,{"$f":"B458+1","v":451},2001,{"$f":"DATE(C459, 6, 30)","v":"2001-06-30"},{"$f":"VLOOKUP(D459, data!$D$5:$E$6326,2, FALSE)","v":84},{"$f":"VLOOKUP(D459, data!$G$5:$H$6326,2, FALSE)","v":78},null,{"$f":"H429","v":3.3333333333333333E-2},{"$f":"H459*H459","v":1.1111111111111111E-3},{"$f":"E460","v":77.5},{"$f":"E461","v":84.5},0,0,null,76.447537149883843,7.5524628501161573,57.03969510238467]
[null,452,2001,{"$f":"D459-1","v":"2001-06-29"},{"$f":"VLOOKUP(D460, data!$D$5:$E$6326,2, FALSE)","v":77.5},{"$f":"VLOOKUP(D460, data!$G$5:$H$6326,2, FALSE)","v":76.5},null,6.6666666666666666E-2,{"$f":"H460*H460","v":4.4444444444444444E-3},{"$f":"E461","v":84.5},{"$f":"E462","v":80.5},0,0,null,82.097640914440859,-4.5976409144408592,21.138301978140579]
[null,453,2001,"2001-06-28",{"$f":"VLOOKUP(D461, data!$D$5:$E$6326,2, FALSE)","v":84.5},{"$f":"VLOOKUP(D461, data!$G$5:$H$6326,2, FALSE)","v":74.5},null,0.1,1.0000000000000002E-2,80.5,78.5,0,0,null,79.413951615960755,5.0860483840392448,25.867888164788212]
[null,454,2001,"2001-06-27",{"$f":"VLOOKUP(D462, data!$D$5:$E$6326,2, FALSE)","v":80.5},{"$f":"VLOOKUP(D462, data!$G$5:$H$6326,2, FALSE)","v":75},null,0.13333333333333333,1.7777777777777778E-2,78.5,74.5,0,0,null,78.535799838705969,1.9642001612940305,3.8580822736274953]
[null,455,2001,"2001-06-26",{"$f":"VLOOKUP(D463, data!$D$5:$E$6326,2, FALSE)","v":78.5},{"$f":"VLOOKUP(D463, data!$G$5:$H$6326,2, FALSE)","v":73.5},null,0.16666666666666666,2.7777777777777776E-2,74.5,70.5,0,0,null,76.205693375242888,2.2943066247571124,5.2638428884043735]
[null,456,2001,"2001-06-25",{"$f":"VLOOKUP(D464, data!$D$5:$E$6326,2, FALSE)","v":74.5},{"$f":"VLOOKUP(D464, data!$G$5:$H$6326,2, FALSE)","v":71.5},null,{"$f":"H434","v":0.2},4.0000000000000008E-2,70.5,74,0,0,null,72.530813423638861,1.9691865763611389,3.8776957725209038]
[null,457,2001,"2001-06-24",{"$f":"VLOOKUP(D465, data!$D$5:$E$6326,2, FALSE)","v":70.5},{"$f":"VLOOKUP(D465, data!$G$5:$H$6326,2, FALSE)","v":65.5},null,0.23333333333333334,5.4444444444444448E-2,74,75,0,0,null,74.737755597574221,-4.2377555975742212,17.958572504771645]
[null,458,2001,"2001-06-23",{"$f":"VLOOKUP(D466, data!$D$5:$E$6326,2, FALSE)","v":74},{"$f":"VLOOKUP(D466, data!$G$5:$H$6326,2, FALSE)","v":61.5},null,0.26666666666666666,7.1111111111111111E-2,75,72,0,0,null,75.846339012196793,-1.8463390121967933,3.4089677479598306]
[null,459,2001,"2001-06-22",{"$f":"VLOOKUP(D467, data!$D$5:$E$6326,2, FALSE)","v":75},{"$f":"VLOOKUP(D467, data!$G$5:$H$6326,2, FALSE)","v":60},null,0.3,0.09,72,79.5,0,0,null,72.173649095286009,2.8263509047139905,7.988259436577593]
[null,460,2001,"2001-06-21",{"$f":"VLOOKUP(D468, data!$D$5:$E$6326,2, FALSE)","v":72},{"$f":"VLOOKUP(D468, data!$G$5:$H$6326,2, FALSE)","v":62},null,0.33333333333333331,0.1111111111111111,79.5,77.5,0,0,null,77.810442457263036,-5.8104424572630364,33.761241549164914]
[null,461,2001,"2001-06-20",{"$f":"VLOOKUP(D469, data!$D$5:$E$6326,2, FALSE)","v":79.5},{"$f":"VLOOKUP(D469, data!$G$5:$H$6326,2, FALSE)","v":69.5},null,0.36666666666666664,0.13444444444444442,77.5,77,0,0,null,76.290250425000849,3.2097495749991509,10.30249233420723]
[null,462,2001,"2001-06-19",{"$f":"VLOOKUP(D470, data!$D$5:$E$6326,2, FALSE)","v":77.5},{"$f":"VLOOKUP(D470, data!$G$5:$H$6326,2, FALSE)","v":74.5},null,0.4,0.16000000000000003,77,74,0,0,null,76.302665115003862,1.1973348849961383,1.4336108268287158]
[null,463,2001,"2001-06-18",{"$f":"VLOOKUP(D471, data!$D$5:$E$6326,2, FALSE)","v":77},{"$f":"VLOOKUP(D471, data!$G$5:$H$6326,2, FALSE)","v":77.5},null,0.43333333333333335,0.18777777777777779,74,77,0,0,null,73.426644686106499,3.5733553138935008,12.768868199330919]
[null,464,2001,"2001-06-17",{"$f":"VLOOKUP(D472, data!$D$5:$E$6326,2, FALSE)","v":74},{"$f":"VLOOKUP(D472, data!$G$5:$H$6326,2, FALSE)","v":70.5},null,0.46666666666666667,0.21777777777777779,77,74.5,0,0,null,75.882165439806229,-1.8821654398062293,3.5425467428009765]
[null,465,2001,"2001-06-16",{"$f":"VLOOKUP(D473, data!$D$5:$E$6326,2, FALSE)","v":77},{"$f":"VLOOKUP(D473, data!$G$5:$H$6326,2, FALSE)","v":70.5},null,0.5,0.25,74.5,75.5,0,0,null,73.722162462865398,3.2778375371346016,10.744218919848631]
[null,466,2001,"2001-06-15",{"$f":"VLOOKUP(D474, data!$D$5:$E$6326,2, FALSE)","v":74.5},{"$f":"VLOOKUP(D474, data!$G$5:$H$6326,2, FALSE)","v":70},null,0.53333333333333333,0.28444444444444444,75.5,76,0,0,null,74.186489404030297,0.31351059596970288,9.8288893785278275E-2]
[null,467,2001,"2001-06-14",{"$f":"VLOOKUP(D475, data!$D$5:$E$6326,2, FALSE)","v":75.5},{"$f":"VLOOKUP(D475, data!$G$5:$H$6326,2, FALSE)","v":79.5},null,0.56666666666666665,0.32111111111111107,76,75.5,0,0,null,74.465173145764197,1.0348268542358028,1.0708666182475675]
[null,468,2001,"2001-06-13",{"$f":"VLOOKUP(D476, data!$D$5:$E$6326,2, FALSE)","v":76},{"$f":"VLOOKUP(D476, data!$G$5:$H$6326,2, FALSE)","v":73.5},null,0.6,0.36,75.5,75,0,0,null,74.016771435168806,1.9832285648311938,3.9331955403623966]
[null,469,2001,"2001-06-12",{"$f":"VLOOKUP(D477, data!$D$5:$E$6326,2, FALSE)","v":75.5},{"$f":"VLOOKUP(D477, data!$G$5:$H$6326,2, FALSE)","v":74.5},null,0.6333333333333333,0.40111111111111108,75,71,0,0,null,74.192680231978812,1.3073197680211877,1.7090849758589719]
[null,470,2001,"2001-06-11",{"$f":"VLOOKUP(D478, data!$D$5:$E$6326,2, FALSE)","v":75},{"$f":"VLOOKUP(D478, data!$G$5:$H$6326,2, FALSE)","v":75.5},null,0.66666666666666663,0.44444444444444442,71,71.5,0,0,null,71.023796129947556,3.9762038700524442,15.810197216220034]
[null,471,2001,"2001-06-10",{"$f":"VLOOKUP(D479, data!$D$5:$E$6326,2, FALSE)","v":71},{"$f":"VLOOKUP(D479, data!$G$5:$H$6326,2, FALSE)","v":74},null,0.7,0.48999999999999994,71.5,72.5,0,0,null,71.025103543942294,-2.5103543942293527E-2,6.3018791846266198E-4]
[null,472,2001,"2001-06-09",{"$f":"VLOOKUP(D480, data!$D$5:$E$6326,2, FALSE)","v":71.5},{"$f":"VLOOKUP(D480, data!$G$5:$H$6326,2, FALSE)","v":65.5},null,0.73333333333333328,0.53777777777777769,72.5,70,0,0,null,72.013156082281967,-0.51315608228196652,0.26332916478297641]
[null,473,2001,"2001-06-08",{"$f":"VLOOKUP(D481, data!$D$5:$E$6326,2, FALSE)","v":72.5},{"$f":"VLOOKUP(D481, data!$G$5:$H$6326,2, FALSE)","v":61},null,0.76666666666666672,0.58777777777777784,70,72,0,0,null,69.656415721780377,2.8435842782196232,8.0859715473378149]
[null,474,2001,"2001-06-07",{"$f":"VLOOKUP(D482, data!$D$5:$E$6326,2, FALSE)","v":70},{"$f":"VLOOKUP(D482, data!$G$5:$H$6326,2, FALSE)","v":59},null,0.8,0.64000000000000012,72,69.5,0,0,null,71.364905057098582,-1.3649050570985821,1.8629658148932837]
[null,475,2001,"2001-06-06",{"$f":"VLOOKUP(D483, data!$D$5:$E$6326,2, FALSE)","v":72},{"$f":"VLOOKUP(D483, data!$G$5:$H$6326,2, FALSE)","v":57},null,0.83333333333333337,0.69444444444444453,69.5,65.5,0,0,null,70.077778075449004,1.9222219245509962,3.6949371272245357]
[null,476,2001,"2001-06-05",{"$f":"VLOOKUP(D484, data!$D$5:$E$6326,2, FALSE)","v":69.5},{"$f":"VLOOKUP(D484, data!$G$5:$H$6326,2, FALSE)","v":52.5},null,0.8666666666666667,0.75111111111111117,65.5,67.5,0,0,null,66.627085208778112,2.8729147912218878,8.2536393976215034]
[null,477,2001,"2001-06-04",{"$f":"VLOOKUP(D485, data!$D$5:$E$6326,2, FALSE)","v":65.5},{"$f":"VLOOKUP(D485, data!$G$5:$H$6326,2, FALSE)","v":50.5},null,0.9,0.81,67.5,66.5,0,0,null,68.060414434807427,-2.5604144348074271,6.5557220779702368]
[null,478,2001,"2001-06-03",{"$f":"VLOOKUP(D486, data!$D$5:$E$6326,2, FALSE)","v":67.5},{"$f":"VLOOKUP(D486, data!$G$5:$H$6326,2, FALSE)","v":52},null,0.93333333333333335,0.87111111111111117,66.5,58,0,0,null,68.659477010440071,-1.1594770104400709,1.3443869377390443]
[null,479,{"$f":"C457-1","v":2001},"2001-06-02",{"$f":"VLOOKUP(D487, data!$D$5:$E$6326,2, FALSE)","v":66.5},{"$f":"VLOOKUP(D487, data!$G$5:$H$6326,2, FALSE)","v":53},null,0.96666666666666667,0.93444444444444441,{"$f":"E488","v":58},0,0,1,null,61.643943840340668,4.8560561596593317,23.581281425765336]
[null,480,2001,"2001-06-01",{"$f":"VLOOKUP(D488, data!$D$5:$E$6326,2, FALSE)","v":58},{"$f":"VLOOKUP(D488, data!$G$5:$H$6326,2, FALSE)","v":57},null,1,1,0,0,1,0,null,70.05352941176335,-12.05352941176335,145.28757128024412]
[null,481,2000,{"$f":"DATE(C489, 6, 30)","v":"2000-06-30"},{"$f":"VLOOKUP(D489, data!$D$5:$E$6326,2, FALSE)","v":73},{"$f":"VLOOKUP(D489, data!$G$5:$H$6326,2, FALSE)","v":66},null,{"$f":"H459","v":3.3333333333333333E-2},{"$f":"H489*H489","v":1.1111111111111111E-3},{"$f":"E490","v":70.5},{"$f":"E491","v":74.5},0,0,null,73.163528872318182,-0.16352887231818158,2.6741692081656134E-2]
[null,482,2000,{"$f":"D489-1","v":"2000-06-29"},{"$f":"VLOOKUP(D490, data!$D$5:$E$6326,2, FALSE)","v":70.5},{"$f":"VLOOKUP(D490, data!$G$5:$H$6326,2, FALSE)","v":65.5},null,{"$f":"H460","v":6.6666666666666666E-2},4.4444444444444444E-3,{"$f":"E491","v":74.5},{"$f":"E492","v":81},0,0,null,74.759444757671162,-4.2594447576711616,18.14286964365234]
[null,483,2000,"2000-06-28",{"$f":"VLOOKUP(D491, data!$D$5:$E$6326,2, FALSE)","v":74.5},{"$f":"VLOOKUP(D491, data!$G$5:$H$6326,2, FALSE)","v":62},null,0.1,1.0000000000000002E-2,81,83,0,0,null,78.97085187108587,-4.4708518710858698,19.988516453192023]
[null,484,2000,"2000-06-27",{"$f":"VLOOKUP(D492, data!$D$5:$E$6326,2, FALSE)","v":81},{"$f":"VLOOKUP(D492, data!$G$5:$H$6326,2, FALSE)","v":68},null,0.13333333333333333,1.7777777777777778E-2,83,82,0,0,null,80.45515412147094,0.54484587852905975,0.29685703135010294]
[null,485,2000,"2000-06-26",{"$f":"VLOOKUP(D493, data!$D$5:$E$6326,2, FALSE)","v":83},{"$f":"VLOOKUP(D493, data!$G$5:$H$6326,2, FALSE)","v":72},null,0.16666666666666666,2.7777777777777776E-2,82,75,0,0,null,80.836678267521222,2.1633217324787779,4.6799609182149808]
[null,486,2000,"2000-06-25",{"$f":"VLOOKUP(D494, data!$D$5:$E$6326,2, FALSE)","v":82},{"$f":"VLOOKUP(D494, data!$G$5:$H$6326,2, FALSE)","v":75},null,0.2,4.0000000000000008E-2,75,74.5,0,0,null,75.703221158115127,6.2967788418848727,39.649423783608995]
[null,487,2000,"2000-06-24",{"$f":"VLOOKUP(D495, data!$D$5:$E$6326,2, FALSE)","v":75},{"$f":"VLOOKUP(D495, data!$G$5:$H$6326,2, FALSE)","v":70.5},null,0.23333333333333334,5.4444444444444448E-2,74.5,78,0,0,null,74.563167306637467,0.43683269336253261,0.19082280199036444]
[null,488,2000,"2000-06-23",{"$f":"VLOOKUP(D496, data!$D$5:$E$6326,2, FALSE)","v":74.5},{"$f":"VLOOKUP(D496, data!$G$5:$H$6326,2, FALSE)","v":71},null,0.26666666666666666,7.1111111111111111E-2,78,75,0,0,null,77.483923805957616,-2.9839238059576161,8.9038012797605841]
[null,489,2000,"2000-06-22",{"$f":"VLOOKUP(D497, data!$D$5:$E$6326,2, FALSE)","v":78},{"$f":"VLOOKUP(D497, data!$G$5:$H$6326,2, FALSE)","v":71.5},null,0.3,0.09,75,72.5,0,0,null,75.60131024863442,2.3986897513655805,5.7537125233062705]
[null,490,2000,"2000-06-21",{"$f":"VLOOKUP(D498, data!$D$5:$E$6326,2, FALSE)","v":75},{"$f":"VLOOKUP(D498, data!$G$5:$H$6326,2, FALSE)","v":73.5},null,0.33333333333333331,0.1111111111111111,72.5,67.5,0,0,null,74.526434179697375,0.47356582030262473,0.22426458615889786]
[null,491,2000,"2000-06-20",{"$f":"VLOOKUP(D499, data!$D$5:$E$6326,2, FALSE)","v":72.5},{"$f":"VLOOKUP(D499, data!$G$5:$H$6326,2, FALSE)","v":73.5},null,0.36666666666666664,0.13444444444444442,67.5,69.5,0,0,null,70.384115355901201,2.1158846440987986,4.4769678271330999]
[null,492,2000,"2000-06-19",{"$f":"VLOOKUP(D500, data!$D$5:$E$6326,2, FALSE)","v":67.5},{"$f":"VLOOKUP(D500, data!$G$5:$H$6326,2, FALSE)","v":66},null,0.4,0.16000000000000003,69.5,82,0,0,null,69.434084773241054,-1.9340847732410538,3.7406839100828986]
[null,493,2000,"2000-06-18",{"$f":"VLOOKUP(D501, data!$D$5:$E$6326,2, FALSE)","v":69.5},{"$f":"VLOOKUP(D501, data!$G$5:$H$6326,2, FALSE)","v":64.5},null,0.43333333333333335,0.18777777777777779,82,78,0,0,null,79.046590921179998,-9.5465909211799982,91.13739821635636]
[null,494,2000,"2000-06-17",{"$f":"VLOOKUP(D502, data!$D$5:$E$6326,2, FALSE)","v":82},{"$f":"VLOOKUP(D502, data!$G$5:$H$6326,2, FALSE)","v":60},null,0.46666666666666667,0.21777777777777779,78,67,0,0,null,77.949591943375935,4.0504080566240646,16.405805425165131]
[null,495,2000,"2000-06-16",{"$f":"VLOOKUP(D503, data!$D$5:$E$6326,2, FALSE)","v":78},{"$f":"VLOOKUP(D503, data!$G$5:$H$6326,2, FALSE)","v":67},null,0.5,0.25,67,58.5,0,0,null,71.328773020071523,6.6712269799284769,44.505269417725629]
[null,496,2000,"2000-06-15",{"$f":"VLOOKUP(D504, data!$D$5:$E$6326,2, FALSE)","v":67},{"$f":"VLOOKUP(D504, data!$G$5:$H$6326,2, FALSE)","v":69.5},null,0.53333333333333333,0.28444444444444444,58.5,59.5,0,0,null,64.817338421406248,2.182661578593752,4.7640115666693692]
[null,497,2000,"2000-06-14",{"$f":"VLOOKUP(D505, data!$D$5:$E$6326,2, FALSE)","v":58.5},{"$f":"VLOOKUP(D505, data!$G$5:$H$6326,2, FALSE)","v":72},null,0.56666666666666665,0.32111111111111107,59.5,66.5,0,0,null,64.115899510388971,-5.6158995103889708,31.538327310787082]
[null,498,2000,"2000-06-13",{"$f":"VLOOKUP(D506, data!$D$5:$E$6326,2, FALSE)","v":59.5},{"$f":"VLOOKUP(D506, data!$G$5:$H$6326,2, FALSE)","v":69},null,0.6,0.36,66.5,84,0,0,null,65.881879606628701,-6.3818796066287007,40.728387313503298]
[null,499,2000,"2000-06-12",{"$f":"VLOOKUP(D507, data!$D$5:$E$6326,2, FALSE)","v":66.5},{"$f":"VLOOKUP(D507, data!$G$5:$H$6326,2, FALSE)","v":56.5},null,0.6333333333333333,0.40111111111111108,84,82.5,0,0,null,78.657915523364409,-12.157915523364409,147.81490987326526]
[null,500,2000,"2000-06-11",{"$f":"VLOOKUP(D508, data!$D$5:$E$6326,2, FALSE)","v":84},{"$f":"VLOOKUP(D508, data!$G$5:$H$6326,2, FALSE)","v":69.5},null,0.66666666666666663,0.44444444444444442,82.5,78,0,0,null,78.196242685824501,5.803757314175499,33.683598961845604]
[null,501,2000,"2000-06-10",{"$f":"VLOOKUP(D509, data!$D$5:$E$6326,2, FALSE)","v":82.5},{"$f":"VLOOKUP(D509, data!$G$5:$H$6326,2, FALSE)","v":80},null,0.7,0.48999999999999994,78,69.5,0,0,null,76.273776472032282,6.2262235279677185,38.765859420218781]
[null,502,2000,"2000-06-09",{"$f":"VLOOKUP(D510, data!$D$5:$E$6326,2, FALSE)","v":78},{"$f":"VLOOKUP(D510, data!$G$5:$H$6326,2, FALSE)","v":77},null,0.73333333333333328,0.53777777777777769,69.5,63,0,0,null,71.091601832356176,6.9083981676438242,47.725965242704547]
[null,503,2000,"2000-06-08",{"$f":"VLOOKUP(D511, data!$D$5:$E$6326,2, FALSE)","v":69.5},{"$f":"VLOOKUP(D511, data!$G$5:$H$6326,2, FALSE)","v":77.5},null,0.76666666666666672,0.58777777777777784,63,56,0,0,null,67.446453259967257,2.0535467400327434,4.2170542134991083]
[null,504,2000,"2000-06-07",{"$f":"VLOOKUP(D512, data!$D$5:$E$6326,2, FALSE)","v":63},{"$f":"VLOOKUP(D512, data!$G$5:$H$6326,2, FALSE)","v":63.5},null,0.8,0.64000000000000012,56,65,0,0,null,60.572531676848456,2.4274683231515439,5.8926024599041682]
[null,505,2000,"2000-06-06",{"$f":"VLOOKUP(D513, data!$D$5:$E$6326,2, FALSE)","v":56},{"$f":"VLOOKUP(D513, data!$G$5:$H$6326,2, FALSE)","v":59.5},null,0.83333333333333337,0.69444444444444453,65,65,0,0,null,66.905370340972738,-10.905370340972738,118.92710227376784]
[null,506,2000,"2000-06-05",{"$f":"VLOOKUP(D514, data!$D$5:$E$6326,2, FALSE)","v":65},{"$f":"VLOOKUP(D514, data!$G$5:$H$6326,2, FALSE)","v":54},null,0.8666666666666667,0.75111111111111117,65,68,0,0,null,66.175146773859211,-1.1751467738592112,1.3809699401117119]
[null,507,2000,"2000-06-04",{"$f":"VLOOKUP(D515, data!$D$5:$E$6326,2, FALSE)","v":65},{"$f":"VLOOKUP(D515, data!$G$5:$H$6326,2, FALSE)","v":56},null,0.9,0.81,68,81.5,0,0,null,65.737734512365591,-0.7377345123655914,0.54425221073529695]
[null,508,2000,"2000-06-03",{"$f":"VLOOKUP(D516, data!$D$5:$E$6326,2, FALSE)","v":68},{"$f":"VLOOKUP(D516, data!$G$5:$H$6326,2, FALSE)","v":54.5},null,0.93333333333333335,0.87111111111111117,81.5,72.95,0,0,null,76.85635136104213,-8.8563513610421296,78.43495943023278]
[null,509,2000,"2000-06-02",{"$f":"VLOOKUP(D517, data!$D$5:$E$6326,2, FALSE)","v":81.5},{"$f":"VLOOKUP(D517, data!$G$5:$H$6326,2, FALSE)","v":60},null,0.96666666666666667,0.93444444444444441,{"$f":"E518","v":72.95},0,0,1,null,{"$f":"$O$7+SUMPRODUCT(H$7:M$7, H517:M517)","v":72.480738886832214},9.0192611131677864,81.347071027500618]
[null,510,2000,"2000-06-01",{"$f":"VLOOKUP(D518, data!$D$5:$E$6326,2, FALSE)","v":72.95},{"$f":"VLOOKUP(D518, data!$G$5:$H$6326,2, FALSE)","v":72.5},null,1,1,0,0,1,0,null,70.05352941176335,2.896470588236653,8.3895418685199825]

{"sheet":"ols A","index":5,"n_rows":49,"n_cols":15,"rows_kept":49,"cut":false,"hidden":false,"merged":[]}
[]
[null,"TAB: OLS REGRESSION OUTPUT"]
[]
[null,"OLS",{"$f":"_xll.FS(\"Reg.ols\", Aug!E9:E535, Aug!H9:M535, 1)","v":"jmathkr.lib.jcalc.objects.stats.regression.linear.OutputLReg@Thu, 3 Aug 2017 06:37:11:768..5639782968444374859"}]
[]
[null,"August outptut",null,null,null,null,null,null,null,null,"Regression statistics"]
[]
[null,"#","Variable",{"$f":"_xll.FS(\"Reg.get\", C4, \"table-standard\")","v":"COEFF"},"STDEV","T-STATS","P-VALUE","CI-LEFT","CI-RIGHT",null,{"$f":"_xll.FS(\"Reg.get\", C4, \"stats\")","v":"MaxAbsRes"},11.139080778768715]
[null,1,"constant",27.772606618107716,2.7498045154299513,10.099847629992444,0,22.382989767865013,33.162223468350419,null,"SST",13802.186581404194]
[null,{"$f":"B9+1","v":2},{"$f":"Aug!H8","v":"Linear"},-1.7492439385307392,2.5086816379538655,-0.69727617568782463,0.48594099544443203,-6.6662599489203158,3.1677720718588374,null,"SSR",6971.3232119813338]
[null,3,{"$f":"Aug!I8","v":"Quadratic"},3.1938681422955995,2.5116144396146249,1.2716395048221085,0.20406859252897691,-1.7288961593490653,8.1166324439402651,null,"SSE",6830.8633694228602]
[null,4,{"$f":"Aug!J8","v":"EWR \nT[t-1]"},0.80084974269388987,4.488385682192695E-2,17.842712266710858,0,0.71287738332291306,0.88882210206486667,null,"MSE",13.01116832271021]
[null,5,{"$f":"Aug!K8","v":"EWR \nT[t-2]"},-0.16513831703072412,4.5466023118416923E-2,-3.6321258316483709,3.0890490789925451E-4,-0.25425172234282128,-7.602491171862695E-2,null,"R2",0.50508831849685742]
[null,6,{"$f":"Aug!L8","v":"Aug 1st"},49.606298589895175,3.0862655548440294,16.073243766090027,0,43.557218102400881,55.655379077389469,null,"S2",13.136275710428578]
[null,7,{"$f":"Aug!M8","v":"Aug 2nd"},-12.785552297580125,3.7353868344419969,-3.4228188041172629,6.6851169336867855E-4,-20.106910493086438,-5.4641941020738107,null,"S",3.6244000483429777]
[null,null,null,null,null,null,null,null,null,null,"r",6]
[null,null,null,null,null,null,null,null,null,null,"n",527]
[]
[]
[null,"OLS",{"$f":"_xll.FS(\"Reg.ols\", Jul!E9:E535, Jul!H9:M535, 1)","v":"jmathkr.lib.jcalc.objects.stats.regression.linear.OutputLReg@Thu, 3 Aug 2017 06:37:11:737..3478511774899498489"}]
[]
[null,"July outptut",null,null,null,null,null,null,null,null,"Regression statistics"]
[]
[null,"#","Variable",{"$f":"_xll.FS(\"Reg.get\", C20, \"table-standard\")","v":"COEFF"},"STDEV","T-STATS","P-VALUE","CI-LEFT","CI-RIGHT",null,{"$f":"_xll.FS(\"Reg.get\", C20, \"stats\")","v":"MaxAbsRes"},13.697699238412497]
[null,1,{"$f":"C9","v":"constant"},26.24386529458468,2.702289498469598,9.7117149400341845,0,20.947377877584266,31.540352711585093,null,"SST",14642.944258444028]
[null,{"$f":"B25+1","v":2},{"$f":"C10","v":"Linear"},1.2488429553276248,2.5770299041862632,0.48460553496059106,0.62815985316147538,-3.8021356568774509,6.2998215675327005,null,"SSR",7439.1545315779504]
[null,3,"Quadratic",-1.3509629679969493,2.5874602481625981,-0.52211931331362182,0.60180917122972533,-6.4223850543956411,3.7204591184017426,null,"SSE",7203.7897268660772]
[null,4,"EWR \nT[t-1]",0.81003764122360877,4.3610935213402376E-2,18.574186434201266,0,0.72456020820534017,0.89551507424187737,null,"MSE",13.72150424164967]
[null,5,"EWR \nT[t-2]",-0.1474875151664321,4.4244737105094446E-2,-3.333447655392443,9.1876742164176406E-4,-0.23420719989241723,-6.0767830440446993E-2,null,"R2",0.5080367991763729]
[null,6,{"$f":"Jul!L8","v":"Jul 1st"},50.387666482784596,2.8257585076524654,17.831554376047791,0,44.849179807785767,55.926153157783425,null,"S2",13.853441782434764]
[null,7,{"$f":"Jul!M8","v":"Jul 2nd"},-11.237740857254948,3.5323749787725034,-3.181355582232114,1.5532336230119625E-3,-18.161195815649055,-4.3142858988608417,null,"S",3.7220211958604916]
[null,null,null,null,null,null,null,null,null,null,"r",6]
[null,null,null,null,null,null,null,null,null,null,"n",527]
[]
[null,null,null,null,null,null,null,null,null,null,null,null,null,null," "]
[null,"OLS",{"$f":"_xll.FS(\"Reg.ols\", Jun!E9:E518, Jun!H9:M518, 1)","v":"jmathkr.lib.jcalc.objects.stats.regression.linear.OutputLReg@Thu, 3 Aug 2017 06:37:11:752..5244343252544984900"}]
[]
[null,"June outptut",null,null,null,null,null,null,null,null,"Regression statistics"]
[]
[null,"#","Variable",{"$f":"_xll.FS(\"Reg.get\", C36, \"table-standard\")","v":"COEFF"},"STDEV","T-STATS","P-VALUE","CI-LEFT","CI-RIGHT",null,{"$f":"_xll.FS(\"Reg.get\", C36, \"stats\")","v":"MaxAbsRes"},13.55352941176335]
[null,1,{"$f":"C25","v":"constant"},35.534111960754785,3.1449872213730607,11.298650665181734,0,29.369937006863587,41.698286914645983,null,"SST",22115.039961764698]
[null,{"$f":"B41+1","v":2},{"$f":"C26","v":"Linear"},-4.1006126626758714,3.3364406288351782,-1.2290381034316447,0.21963103030517095,-10.640036295192822,2.4388109698410778,null,"SSR",11323.710538999494]
[null,3,"Quadratic",-0.99729830261287589,3.2947449400514843,-0.30269362902407004,0.76224823954527632,-7.4549983851137851,5.4604017798880333,null,"SSE",10791.329422765204]
[null,4,"EWR \nT[t-1]",0.72486923387903257,4.4165127867659824E-2,16.412705427936107,0,0.63830558325841935,0.81143288449964579,null,"MSE",21.242774454262214]
[null,5,"EWR \nT[t-2]",-0.17900763595875713,4.4528138777953731E-2,-4.0201014655340899,6.7069342280623445E-5,-0.26628278796354643,-9.1732483953967811E-2,null,"R2",0.51203663021081436]
[null,6,{"$f":"Jun!L8","v":"Jun 1st"},39.617328416297312,3.0089647014877063,13.166431761964349,0,33.71975760138141,45.514899231213214,null,"S2",21.453935234125655]
[null,7,{"$f":"Jun!M8","v":"Jun 2nd"},-11.036738253147519,3.3830450228185458,-3.2623681265561122,1.1797435762237463E-3,-17.667506497871869,-4.4059700084231688,null,"S",4.6318392927783725]
[null,null,null,null,null,null,null,null,null,null,"r",6]
[null,null,null,null,null,null,null,null,null,null,"n",510]

{"sheet":"config","index":6,"n_rows":7,"n_cols":3,"rows_kept":7,"cut":false,"hidden":false,"merged":[]}
[]
[null,"TAB: CONFIGURATION FILE"]
[]
[]
[null,"Path to xlloop jar file","C:\\Projects\\java\\data\\jcalc\\xlloop\\xlloop-ecolab.jar"]
[]
[null,"Test connection",{"$f":"_xll.FS(\"JCalc.testConnection\")","v":1}]