{"text_format":"1","workbook":"xlsx","n_sheets":5,"sheets":["guide","R","data","code","config"],"not_rendered":{"charts":2,"images":0,"macros":1,"external_links":0,"defined_names":6,"comments":0,"pivot_tables":0},"unopened":[],"bounds":{"document_bytes":16777216,"sheet_cells":100000,"rows_first":2000,"rows_last":500,"rows_between":2000,"halvings":0,"cell_chars":16384,"cell_head_chars":4096},"cells_cut":0,"cells_raw":0,"read":"whole","date_system":"1900"}

{"sheet":"guide","index":0,"n_rows":2,"n_cols":2,"rows_kept":2,"cut":false,"hidden":false,"merged":[[1,1,32,8]]}
[]
[null,"Package: R\n\nR setup (on windows)\n\n1. install R;\n2. Include the path to folders with jri.dll and rJava.dll files and R .../R/R-3.1.3/bin/x64/ folder   (for 32-bit system link to /i386/ folders) in \"Computer > System properties >  Advanced system settings > Environment variables > System variables > Path\" variable;\nThe files jri.dll and rJava.dll are included with the xlloopkr distribution.\n\nAvailable functions:\n\nROutput out = eval(String code, Object exportResults)\nwhere code is the code executed by R and exportResults is the result of data export that must be performed prior to R execution ;\n\nString[][] (String[]) get(ROutput out, String key)\nwhere key represents the key for a specific retrieved field. The following keys can be used:\n1. table-standard:  standard table output of the regression output;\n2. stats: regression statistics;\n3. residuals: regression residuals;\n4. output-keys: returns the full list keys associates with regression output objects\n"]

{"sheet":"R","index":1,"n_rows":311,"n_cols":13,"rows_kept":311,"cut":false,"hidden":false,"merged":[]}
[]
[null,"TAB: R-OLS REGRESSION OUTPUT"]
[]
[null,"Data file path","C:/Projects/java/data/jmc/jmath/stats/R/data/EWR-Aug.csv"]
[null,"Data: export",{"$f":"_xll.AC.data.io.export(data!C8:L535, C4)","v":"java.lang.NullPointerException"}]
[null,"R:       eval",{"$f":"_xll.AC.stats.R.eval(code!B5, C5)","v":"jmathkr.lib.stats.R.output.ROutput@Tue, 23 Jan 2018 21:42:38:906..7490352249850795300"},null,null,null,null,null," "]
[]
[null,"Output"]
[]
[null,"Standard outptut",null,null,null,null,1.95,null,null,"Regression statistics",null,null,"R regression output keys"]
[]
[null,"Variable","coefficient","stdev","t-stats","P-value","C-Left","C-Right",null,{"$f":"_xll.AC.stats.R.get(C6, \"stats\")","v":"java.lang.IndexOutOfBoundsException: Index: 0, Size: 0"},"java.lang.IndexOutOfBoundsException: Index: 0, Size: 0",null,{"$f":"_xll.AC.stats.R.get(C6, \"output-keys\")","v":"mydata"}]
[null,"constant",{"$f":"_xll.AC.stats.R.get(C6, \"table-standard\")","v":"java.lang.ArrayIndexOutOfBoundsException: -1"},"java.lang.ArrayIndexOutOfBoundsException: -1","java.lang.ArrayIndexOutOfBoundsException: -1","java.lang.ArrayIndexOutOfBoundsException: -1",{"$f":"C13-D13*$G$10","v":{"$error":"#VALUE!"}},{"$f":"C13+$G$10*D13","v":{"$error":"#VALUE!"}},null,"java.lang.IndexOutOfBoundsException: Index: 0, Size: 0","java.lang.IndexOutOfBoundsException: Index: 0, Size: 0",null,"reg"]
[null,{"$f":"data!G8","v":"Linear"},"java.lang.ArrayIndexOutOfBoundsException: -1","java.lang.ArrayIndexOutOfBoundsException: -1","java.lang.ArrayIndexOutOfBoundsException: -1","java.lang.ArrayIndexOutOfBoundsException: -1",{"$f":"C14-D14*$G$10","v":{"$error":"#VALUE!"}},{"$f":"C14+$G$10*D14","v":{"$error":"#VALUE!"}},null,"java.lang.IndexOutOfBoundsException: Index: 0, Size: 0","java.lang.IndexOutOfBoundsException: Index: 0, Size: 0",null,"out"]
[null,{"$f":"data!H8","v":"Quadratic"},"java.lang.ArrayIndexOutOfBoundsException: -1","java.lang.ArrayIndexOutOfBoundsException: -1","java.lang.ArrayIndexOutOfBoundsException: -1","java.lang.ArrayIndexOutOfBoundsException: -1",{"$error":"#VALUE!"},{"$error":"#VALUE!"},null,"java.lang.IndexOutOfBoundsException: Index: 0, Size: 0","java.lang.IndexOutOfBoundsException: Index: 0, Size: 0",null,{"$error":"#N/A"}]
[null,{"$f":"data!I8","v":"EWR.lag1"},"java.lang.ArrayIndexOutOfBoundsException: -1","java.lang.ArrayIndexOutOfBoundsException: -1","java.lang.ArrayIndexOutOfBoundsException: -1","java.lang.ArrayIndexOutOfBoundsException: -1",{"$error":"#VALUE!"},{"$error":"#VALUE!"},null,"java.lang.IndexOutOfBoundsException: Index: 0, Size: 0","java.lang.IndexOutOfBoundsException: Index: 0, Size: 0",null,{"$error":"#N/A"}]
[null,{"$f":"data!J8","v":"EWR.lag2"},"java.lang.ArrayIndexOutOfBoundsException: -1","java.lang.ArrayIndexOutOfBoundsException: -1","java.lang.ArrayIndexOutOfBoundsException: -1","java.lang.ArrayIndexOutOfBoundsException: -1",{"$error":"#VALUE!"},{"$error":"#VALUE!"},null,"java.lang.IndexOutOfBoundsException: Index: 0, Size: 0","java.lang.IndexOutOfBoundsException: Index: 0, Size: 0",null,{"$error":"#N/A"}]
[null,{"$f":"data!K8","v":"Aug.1st"},"java.lang.ArrayIndexOutOfBoundsException: -1","java.lang.ArrayIndexOutOfBoundsException: -1","java.lang.ArrayIndexOutOfBoundsException: -1","java.lang.ArrayIndexOutOfBoundsException: -1",{"$error":"#VALUE!"},{"$error":"#VALUE!"},null,null,null,null,{"$error":"#N/A"}]
[null,{"$f":"data!L8","v":"Aug.2nd"},"java.lang.ArrayIndexOutOfBoundsException: -1","java.lang.ArrayIndexOutOfBoundsException: -1","java.lang.ArrayIndexOutOfBoundsException: -1","java.lang.ArrayIndexOutOfBoundsException: -1",{"$error":"#VALUE!"},{"$error":"#VALUE!"},null,null,null,null,{"$error":"#N/A"}]
[null,null,null,null,null,null,null,null,null,null,null,null,{"$error":"#N/A"}]
[null,null,null,null,null,null,null,null,null,null,null,null,{"$error":"#N/A"}]
[null,"Projections and residuals",null,null,null,null,null,null,null,null,null,null,{"$error":"#N/A"}]
[null,null,null,null,null,null,null,null,null,null,null,null,{"$error":"#N/A"}]
[null,"#","y","yhat",{"$f":"_xll.AC.stats.R.get(C6, \"residuals\")","v":"java.lang.IndexOutOfBoundsException: Index: 0, Size: 0"},null,null,null,null,null,null,null,{"$error":"#N/A"}]
[null,{"$f":"data!B5","v":0},{"$f":"data!E9","v":83},{"$f":"C25-E25","v":{"$error":"#VALUE!"}},"java.lang.IndexOutOfBoundsException: Index: 0, Size: 0",null,null,null,null,null,null,null,{"$error":"#N/A"}]
[null,{"$f":"data!B6","v":0},{"$f":"data!E10","v":76.5},{"$f":"C26-E26","v":{"$error":"#VALUE!"}},"java.lang.IndexOutOfBoundsException: Index: 0, Size: 0",null,null,null,null,null,null,null,{"$error":"#N/A"}]
[null,{"$f":"data!B7","v":0},{"$f":"data!E11","v":82.45},{"$error":"#VALUE!"},"java.lang.IndexOutOfBoundsException: Index: 0, Size: 0",null,null,null,null,null,null,null,{"$error":"#N/A"}]
[null,{"$f":"data!B8","v":"#"},{"$f":"data!E12","v":79.5},{"$error":"#VALUE!"},"java.lang.IndexOutOfBoundsException: Index: 0, Size: 0",null,null,null,null,null,null,null,{"$error":"#N/A"}]
[null,{"$f":"data!B9","v":1},{"$f":"data!E13","v":79.55},{"$error":"#VALUE!"},"java.lang.IndexOutOfBoundsException: Index: 0, Size: 0",null,null,null,null,null,null,null,{"$error":"#N/A"}]
[null,{"$f":"data!B10","v":2},{"$f":"data!E14","v":85},{"$error":"#VALUE!"},"java.lang.IndexOutOfBoundsException: Index: 0, Size: 0",null,null,null,null,null,null,null,{"$error":"#N/A"}]
[null,{"$f":"data!B11","v":3},{"$f":"data!E15","v":77.45},{"$error":"#VALUE!"},"java.lang.IndexOutOfBoundsException: Index: 0, Size: 0",null,null,null,null,null,null,null,{"$error":"#N/A"}]
[null,{"$f":"data!B12","v":4},{"$f":"data!E16","v":76.459999999999994},{"$error":"#VALUE!"},"java.lang.IndexOutOfBoundsException: Index: 0, Size: 0",null,null,null,null,null,null,null,{"$error":"#N/A"}]
[null,{"$f":"data!B13","v":5},{"$f":"data!E17","v":71.510000000000005},{"$error":"#VALUE!"},"java.lang.IndexOutOfBoundsException: Index: 0, Size: 0",null,null,null,null,null,null,null,{"$error":"#N/A"}]
[null,{"$f":"data!B14","v":6},{"$f":"data!E18","v":73.94},{"$error":"#VALUE!"},"java.lang.IndexOutOfBoundsException: Index: 0, Size: 0",null,null,null,null,null,null,null,{"$error":"#N/A"}]
[null,{"$f":"data!B15","v":7},{"$f":"data!E19","v":80.510000000000005},{"$error":"#VALUE!"},"java.lang.IndexOutOfBoundsException: Index: 0, Size: 0",null,null,null,null,null,null,null,{"$error":"#N/A"}]
[null,{"$f":"data!B16","v":8},{"$f":"data!E20","v":79.52},{"$error":"#VALUE!"},"java.lang.IndexOutOfBoundsException: Index: 0, Size: 0",null,null,null,null,null,null,null,{"$error":"#N/A"}]
[null,{"$f":"data!B17","v":9},{"$f":"data!E21","v":82},{"$error":"#VALUE!"},"java.lang.IndexOutOfBoundsException: Index: 0, Size: 0",null,null,null,null,null,null,null,{"$error":"#N/A"}]
[null,{"$f":"data!B18","v":10},{"$f":"data!E22","v":80.05},{"$error":"#VALUE!"},"java.lang.IndexOutOfBoundsException: Index: 0, Size: 0",null,null,null,null,null,null,null,{"$error":"#N/A"}]
[null,{"$f":"data!B19","v":11},{"$f":"data!E23","v":82},{"$error":"#VALUE!"},"java.lang.IndexOutOfBoundsException: Index: 0, Size: 0",null,null,null,null,null,null,null,{"$error":"#N/A"}]
[null,{"$f":"data!B20","v":12},{"$f":"data!E24","v":85.01},{"$error":"#VALUE!"},"java.lang.IndexOutOfBoundsException: Index: 0, Size: 0",null,null,null,null,null,null,null,{"$error":"#N/A"}]
[null,{"$f":"data!B21","v":13},{"$f":"data!E25","v":85.45},{"$error":"#VALUE!"},"java.lang.IndexOutOfBoundsException: Index: 0, Size: 0",null,null,null,null,null,null,null,{"$error":"#N/A"}]
[null,{"$f":"data!B22","v":14},{"$f":"data!E26","v":88.5},{"$error":"#VALUE!"},"java.lang.IndexOutOfBoundsException: Index: 0, Size: 0",null,null,null,null,null,null,null,{"$error":"#N/A"}]
[null,{"$f":"data!B23","v":15},{"$f":"data!E27","v":88.5},{"$error":"#VALUE!"},"java.lang.IndexOutOfBoundsException: Index: 0, Size: 0",null,null,null,null,null,null,null,{"$error":"#N/A"}]
[null,{"$f":"data!B24","v":16},{"$f":"data!E28","v":85.5},{"$error":"#VALUE!"},"java.lang.IndexOutOfBoundsException: Index: 0, Size: 0",null,null,null,null,null,null,null,{"$error":"#N/A"}]
[null,{"$f":"data!B25","v":17},{"$f":"data!E29","v":85.5},{"$error":"#VALUE!"},"java.lang.IndexOutOfBoundsException: Index: 0, Size: 0",null,null,null,null,null,null,null,{"$error":"#N/A"}]
[null,{"$f":"data!B26","v":18},{"$f":"data!E30","v":82.49},{"$error":"#VALUE!"},"java.lang.IndexOutOfBoundsException: Index: 0, Size: 0",null,null,null,null,null,null,null,{"$error":"#N/A"}]
[null,{"$f":"data!B27","v":19},{"$f":"data!E31","v":77.55},{"$error":"#VALUE!"},"java.lang.IndexOutOfBoundsException: Index: 0, Size: 0",null,null,null,null,null,null,null,{"$error":"#N/A"}]
[null,{"$f":"data!B28","v":20},{"$f":"data!E32","v":78.08},{"$error":"#VALUE!"},"java.lang.IndexOutOfBoundsException: Index: 0, Size: 0",null,null,null,null,null,null,null,{"$error":"#N/A"}]
[null,{"$f":"data!B29","v":21},{"$f":"data!E33","v":80.08},{"$error":"#VALUE!"},"java.lang.IndexOutOfBoundsException: Index: 0, Size: 0",null,null,null,null,null,null,null,{"$error":"#N/A"}]
[null,{"$f":"data!B30","v":22},{"$f":"data!E34","v":81.5},{"$error":"#VALUE!"},"java.lang.IndexOutOfBoundsException: Index: 0, Size: 0",null,null,null,null,null,null,null,{"$error":"#N/A"}]
[null,{"$f":"data!B31","v":23},{"$f":"data!E35","v":75.47},{"$error":"#VALUE!"},"java.lang.IndexOutOfBoundsException: Index: 0, Size: 0",null,null,null,null,null,null,null,{"$error":"#N/A"}]
[null,{"$f":"data!B32","v":24},{"$f":"data!E36","v":72.5},{"$error":"#VALUE!"},"java.lang.IndexOutOfBoundsException: Index: 0, Size: 0",null,null,null,null,null,null,null,{"$error":"#N/A"}]
[null,{"$f":"data!B33","v":25},{"$f":"data!E37","v":72.5},{"$error":"#VALUE!"},"java.lang.IndexOutOfBoundsException: Index: 0, Size: 0",null,null,null,null,null,null,null,{"$error":"#N/A"}]
[null,{"$f":"data!B34","v":26},{"$f":"data!E38","v":73.489999999999995},{"$error":"#VALUE!"},"java.lang.IndexOutOfBoundsException: Index: 0, Size: 0",null,null,null,null,null,null,null,{"$error":"#N/A"}]
[null,{"$f":"data!B35","v":27},{"$f":"data!E39","v":75},{"$error":"#VALUE!"},"java.lang.IndexOutOfBoundsException: Index: 0, Size: 0",null,null,null,null,null,null,null,{"$error":"#N/A"}]
[null,{"$f":"data!B36","v":28},{"$f":"data!E40","v":84.5},{"$error":"#VALUE!"},"java.lang.IndexOutOfBoundsException: Index: 0, Size: 0",null,null,null,null,null,null,null,{"$error":"#N/A"}]
[null,{"$f":"data!B37","v":29},{"$f":"data!E41","v":79},{"$error":"#VALUE!"},"java.lang.IndexOutOfBoundsException: Index: 0, Size: 0",null,null,null,null,null,null,null,{"$error":"#N/A"}]
[null,{"$f":"data!B38","v":30},{"$f":"data!E42","v":75.5},{"$error":"#VALUE!"},"java.lang.IndexOutOfBoundsException: Index: 0, Size: 0",null,null,null,null,null,null,null,{"$error":"#N/A"}]
[null,{"$f":"data!B39","v":31},{"$f":"data!E43","v":73},{"$error":"#VALUE!"},"java.lang.IndexOutOfBoundsException: Index: 0, Size: 0",null,null,null,null,null,null,null,{"$error":"#N/A"}]
[null,{"$f":"data!B40","v":32},{"$f":"data!E44","v":74},{"$error":"#VALUE!"},"java.lang.IndexOutOfBoundsException: Index: 0, Size: 0",null,null,null,null,null,null,null,{"$error":"#N/A"}]
[null,{"$f":"data!B41","v":33},{"$f":"data!E45","v":75.5},{"$error":"#VALUE!"},"java.lang.IndexOutOfBoundsException: Index: 0, Size: 0",null,null,null,null,null,null,null,{"$error":"#N/A"}]
[null,{"$f":"data!B42","v":34},{"$f":"data!E46","v":83},{"$error":"#VALUE!"},"java.lang.IndexOutOfBoundsException: Index: 0, Size: 0",null,null,null,null,null,null,null,{"$error":"#N/A"}]
[null,{"$f":"data!B43","v":35},{"$f":"data!E47","v":78.5},{"$error":"#VALUE!"},"java.lang.IndexOutOfBoundsException: Index: 0, Size: 0",null,null,null,null,null,null,null,{"$error":"#N/A"}]
[null,{"$f":"data!B44","v":36},{"$f":"data!E48","v":75},{"$error":"#VALUE!"},"java.lang.IndexOutOfBoundsException: Index: 0, Size: 0",null,null,null,null,null,null,null,{"$error":"#N/A"}]
[null,{"$f":"data!B45","v":37},{"$f":"data!E49","v":77.5},{"$error":"#VALUE!"},"java.lang.IndexOutOfBoundsException: Index: 0, Size: 0",null,null,null,null,null,null,null,{"$error":"#N/A"}]
[null,{"$f":"data!B46","v":38},{"$f":"data!E50","v":80.5},{"$error":"#VALUE!"},"java.lang.IndexOutOfBoundsException: Index: 0, Size: 0",null,null,null,null,null,null,null,{"$error":"#N/A"}]
[null,{"$f":"data!B47","v":39},{"$f":"data!E51","v":81.5},{"$error":"#VALUE!"},"java.lang.IndexOutOfBoundsException: Index: 0, Size: 0",null,null,null,null,null,null,null,{"$error":"#N/A"}]
[null,{"$f":"data!B48","v":40},{"$f":"data!E52","v":81},{"$error":"#VALUE!"},"java.lang.IndexOutOfBoundsException: Index: 0, Size: 0",null,null,null,null,null,null,null,{"$error":"#N/A"}]
[null,{"$f":"data!B49","v":41},{"$f":"data!E53","v":84},{"$error":"#VALUE!"},"java.lang.IndexOutOfBoundsException: Index: 0, Size: 0",null,null,null,null,null,null,null,{"$error":"#N/A"}]
[null,{"$f":"data!B50","v":42},{"$f":"data!E54","v":85},{"$error":"#VALUE!"},"java.lang.IndexOutOfBoundsException: Index: 0, Size: 0",null,null,null,null,null,null,null,{"$error":"#N/A"}]
[null,{"$f":"data!B51","v":43},{"$f":"data!E55","v":84},{"$error":"#VALUE!"},"java.lang.IndexOutOfBoundsException: Index: 0, Size: 0",null,null,null,null,null,null,null,{"$error":"#N/A"}]
[null,{"$f":"data!B52","v":44},{"$f":"data!E56","v":81},{"$error":"#VALUE!"},"java.lang.IndexOutOfBoundsException: Index: 0, Size: 0",null,null,null,null,null,null,null,{"$error":"#N/A"}]
[null,{"$f":"data!B53","v":45},{"$f":"data!E57","v":76.5},{"$error":"#VALUE!"},"java.lang.IndexOutOfBoundsException: Index: 0, Size: 0",null,null,null,null,null,null,null,{"$error":"#N/A"}]
[null,{"$f":"data!B54","v":46},{"$f":"data!E58","v":76.5},{"$error":"#VALUE!"},"java.lang.IndexOutOfBoundsException: Index: 0, Size: 0"]
[null,{"$f":"data!B55","v":47},{"$f":"data!E59","v":78},{"$error":"#VALUE!"},"java.lang.IndexOutOfBoundsException: Index: 0, Size: 0"]
[null,{"$f":"data!B56","v":48},{"$f":"data!E60","v":76.5},{"$error":"#VALUE!"},"java.lang.IndexOutOfBoundsException: Index: 0, Size: 0"]
[null,{"$f":"data!B57","v":49},{"$f":"data!E61","v":74.5},{"$error":"#VALUE!"},"java.lang.IndexOutOfBoundsException: Index: 0, Size: 0"]
[null,{"$f":"data!B58","v":50},{"$f":"data!E62","v":77},{"$error":"#VALUE!"},"java.lang.IndexOutOfBoundsException: Index: 0, Size: 0"]
[null,{"$f":"data!B59","v":51},{"$f":"data!E63","v":74},{"$error":"#VALUE!"},"java.lang.IndexOutOfBoundsException: Index: 0, Size: 0"]
[null,{"$f":"data!B60","v":52},{"$f":"data!E64","v":75.5},{"$error":"#VALUE!"},"java.lang.IndexOutOfBoundsException: Index: 0, Size: 0"]
[null,{"$f":"data!B61","v":53},{"$f":"data!E65","v":75.5},{"$error":"#VALUE!"},"java.lang.IndexOutOfBoundsException: Index: 0, Size: 0"]
[null,{"$f":"data!B62","v":54},{"$f":"data!E66","v":79.5},{"$error":"#VALUE!"},"java.lang.IndexOutOfBoundsException: Index: 0, Size: 0"]
[null,{"$f":"data!B63","v":55},{"$f":"data!E67","v":81},{"$error":"#VALUE!"},"java.lang.IndexOutOfBoundsException: Index: 0, Size: 0"]
[null,{"$f":"data!B64","v":56},{"$f":"data!E68","v":81.5},{"$error":"#VALUE!"},"java.lang.IndexOutOfBoundsException: Index: 0, Size: 0"]
[null,{"$f":"data!B65","v":57},{"$f":"data!E69","v":79},{"$error":"#VALUE!"},"java.lang.IndexOutOfBoundsException: Index: 0, Size: 0"]
[null,{"$f":"data!B66","v":58},{"$f":"data!E70","v":82},{"$error":"#VALUE!"},"java.lang.IndexOutOfBoundsException: Index: 0, Size: 0"]
[null,{"$f":"data!B67","v":59},{"$f":"data!E71","v":82},{"$error":"#VALUE!"},"java.lang.IndexOutOfBoundsException: Index: 0, Size: 0"]
[null,{"$f":"data!B68","v":60},{"$f":"data!E72","v":70},{"$error":"#VALUE!"},"java.lang.IndexOutOfBoundsException: Index: 0, Size: 0"]
[null,{"$f":"data!B69","v":61},{"$f":"data!E73","v":70},{"$error":"#VALUE!"},"java.lang.IndexOutOfBoundsException: Index: 0, Size: 0"]
[null,{"$f":"data!B70","v":62},{"$f":"data!E74","v":74},{"$f":"C90-E90","v":{"$error":"#VALUE!"}},"java.lang.IndexOutOfBoundsException: Index: 0, Size: 0"]
[null,{"$f":"data!B71","v":63},{"$f":"data!E75","v":80},{"$error":"#VALUE!"},"java.lang.IndexOutOfBoundsException: Index: 0, Size: 0"]
[null,{"$f":"data!B72","v":64},{"$f":"data!E76","v":77.5},{"$error":"#VALUE!"},"java.lang.IndexOutOfBoundsException: Index: 0, Size: 0"]
[null,{"$f":"data!B73","v":65},{"$f":"data!E77","v":74},{"$error":"#VALUE!"},"java.lang.IndexOutOfBoundsException: Index: 0, Size: 0"]
[null,{"$f":"data!B74","v":66},{"$f":"data!E78","v":72},{"$error":"#VALUE!"},"java.lang.IndexOutOfBoundsException: Index: 0, Size: 0"]
[null,{"$f":"data!B75","v":67},{"$f":"data!E79","v":71},{"$error":"#VALUE!"},"java.lang.IndexOutOfBoundsException: Index: 0, Size: 0"]
[null,{"$f":"data!B76","v":68},{"$f":"data!E80","v":72},{"$error":"#VALUE!"},"java.lang.IndexOutOfBoundsException: Index: 0, Size: 0"]
[null,{"$f":"data!B77","v":69},{"$f":"data!E81","v":73},{"$error":"#VALUE!"},"java.lang.IndexOutOfBoundsException: Index: 0, Size: 0"]
[null,{"$f":"data!B78","v":70},{"$f":"data!E82","v":76},{"$error":"#VALUE!"},"java.lang.IndexOutOfBoundsException: Index: 0, Size: 0"]
[null,{"$f":"data!B79","v":71},{"$f":"data!E83","v":72.5},{"$error":"#VALUE!"},"java.lang.IndexOutOfBoundsException: Index: 0, Size: 0"]
[null,{"$f":"data!B80","v":72},{"$f":"data!E84","v":73.5},{"$error":"#VALUE!"},"java.lang.IndexOutOfBoundsException: Index: 0, Size: 0"]
[null,{"$f":"data!B81","v":73},{"$f":"data!E85","v":75.5},{"$error":"#VALUE!"},"java.lang.IndexOutOfBoundsException: Index: 0, Size: 0"]
[null,{"$f":"data!B82","v":74},{"$f":"data!E86","v":69.5},{"$error":"#VALUE!"},"java.lang.IndexOutOfBoundsException: Index: 0, Size: 0"]
[null,{"$f":"data!B83","v":75},{"$f":"data!E87","v":67},{"$error":"#VALUE!"},"java.lang.IndexOutOfBoundsException: Index: 0, Size: 0"]
[null,{"$f":"data!B84","v":76},{"$f":"data!E88","v":71.5},{"$error":"#VALUE!"},"java.lang.IndexOutOfBoundsException: Index: 0, Size: 0"]
[null,{"$f":"data!B85","v":77},{"$f":"data!E89","v":77.5},{"$error":"#VALUE!"},"java.lang.IndexOutOfBoundsException: Index: 0, Size: 0"]
[null,{"$f":"data!B86","v":78},{"$f":"data!E90","v":76},{"$error":"#VALUE!"},"java.lang.IndexOutOfBoundsException: Index: 0, Size: 0"]
[null,{"$f":"data!B87","v":79},{"$f":"data!E91","v":76.5},{"$error":"#VALUE!"},"java.lang.IndexOutOfBoundsException: Index: 0, Size: 0"]
[null,{"$f":"data!B88","v":80},{"$f":"data!E92","v":76},{"$error":"#VALUE!"},"java.lang.IndexOutOfBoundsException: Index: 0, Size: 0"]
[null,{"$f":"data!B89","v":81},{"$f":"data!E93","v":76.5},{"$error":"#VALUE!"},"java.lang.IndexOutOfBoundsException: Index: 0, Size: 0"]
[null,{"$f":"data!B90","v":82},{"$f":"data!E94","v":73},{"$error":"#VALUE!"},"java.lang.IndexOutOfBoundsException: Index: 0, Size: 0"]
[null,{"$f":"data!B91","v":83},{"$f":"data!E95","v":76},{"$error":"#VALUE!"},"java.lang.IndexOutOfBoundsException: Index: 0, Size: 0"]
[null,{"$f":"data!B92","v":84},{"$f":"data!E96","v":78.5},{"$error":"#VALUE!"},"java.lang.IndexOutOfBoundsException: Index: 0, Size: 0"]
[null,{"$f":"data!B93","v":85},{"$f":"data!E97","v":78.5},{"$error":"#VALUE!"},"java.lang.IndexOutOfBoundsException: Index: 0, Size: 0"]
[null,{"$f":"data!B94","v":86},{"$f":"data!E98","v":77.5},{"$error":"#VALUE!"},"java.lang.IndexOutOfBoundsException: Index: 0, Size: 0"]
[null,{"$f":"data!B95","v":87},{"$f":"data!E99","v":72.5},{"$error":"#VALUE!"},"java.lang.IndexOutOfBoundsException: Index: 0, Size: 0"]
[null,{"$f":"data!B96","v":88},{"$f":"data!E100","v":71},{"$error":"#VALUE!"},"java.lang.IndexOutOfBoundsException: Index: 0, Size: 0"]
[null,{"$f":"data!B97","v":89},{"$f":"data!E101","v":77.5},{"$error":"#VALUE!"},"java.lang.IndexOutOfBoundsException: Index: 0, Size: 0"]
[null,{"$f":"data!B98","v":90},{"$f":"data!E102","v":80},{"$error":"#VALUE!"},"java.lang.IndexOutOfBoundsException: Index: 0, Size: 0"]
[null,{"$f":"data!B99","v":91},{"$f":"data!E103","v":78},{"$error":"#VALUE!"},"java.lang.IndexOutOfBoundsException: Index: 0, Size: 0"]
[null,{"$f":"data!B100","v":92},{"$f":"data!E104","v":76},{"$error":"#VALUE!"},"java.lang.IndexOutOfBoundsException: Index: 0, Size: 0"]
[null,{"$f":"data!B101","v":93},{"$f":"data!E105","v":78.5},{"$error":"#VALUE!"},"java.lang.IndexOutOfBoundsException: Index: 0, Size: 0"]
[null,{"$f":"data!B102","v":94},{"$f":"data!E106","v":81},{"$error":"#VALUE!"},"java.lang.IndexOutOfBoundsException: Index: 0, Size: 0"]
[null,{"$f":"data!B103","v":95},{"$f":"data!E107","v":76.5},{"$error":"#VALUE!"},"java.lang.IndexOutOfBoundsException: Index: 0, Size: 0"]
[null,{"$f":"data!B104","v":96},{"$f":"data!E108","v":72.05},{"$error":"#VALUE!"},"java.lang.IndexOutOfBoundsException: Index: 0, Size: 0"]
[null,{"$f":"data!B105","v":97},{"$f":"data!E109","v":71},{"$error":"#VALUE!"},"java.lang.IndexOutOfBoundsException: Index: 0, Size: 0"]
[null,{"$f":"data!B106","v":98},{"$f":"data!E110","v":76},{"$error":"#VALUE!"},"java.lang.IndexOutOfBoundsException: Index: 0, Size: 0"]
[null,{"$f":"data!B107","v":99},{"$f":"data!E111","v":75},{"$error":"#VALUE!"},"java.lang.IndexOutOfBoundsException: Index: 0, Size: 0"]
[null,{"$f":"data!B108","v":100},{"$f":"data!E112","v":79.5},{"$error":"#VALUE!"},"java.lang.IndexOutOfBoundsException: Index: 0, Size: 0"]
[null,{"$f":"data!B109","v":101},{"$f":"data!E113","v":77},{"$error":"#VALUE!"},"java.lang.IndexOutOfBoundsException: Index: 0, Size: 0"]
[null,{"$f":"data!B110","v":102},{"$f":"data!E114","v":71.5},{"$error":"#VALUE!"},"java.lang.IndexOutOfBoundsException: Index: 0, Size: 0"]
[null,{"$f":"data!B111","v":103},{"$f":"data!E115","v":71.5},{"$error":"#VALUE!"},"java.lang.IndexOutOfBoundsException: Index: 0, Size: 0"]
[null,{"$f":"data!B112","v":104},{"$f":"data!E116","v":72.5},{"$error":"#VALUE!"},"java.lang.IndexOutOfBoundsException: Index: 0, Size: 0"]
[null,{"$f":"data!B113","v":105},{"$f":"data!E117","v":69.5},{"$error":"#VALUE!"},"java.lang.IndexOutOfBoundsException: Index: 0, Size: 0"]
[null,{"$f":"data!B114","v":106},{"$f":"data!E118","v":69},{"$error":"#VALUE!"},"java.lang.IndexOutOfBoundsException: Index: 0, Size: 0"]
[null,{"$f":"data!B115","v":107},{"$f":"data!E119","v":68.5},{"$error":"#VALUE!"},"java.lang.IndexOutOfBoundsException: Index: 0, Size: 0"]
[null,{"$f":"data!B116","v":108},{"$f":"data!E120","v":74.5},{"$error":"#VALUE!"},"java.lang.IndexOutOfBoundsException: Index: 0, Size: 0"]
[null,{"$f":"data!B117","v":109},{"$f":"data!E121","v":76.5},{"$error":"#VALUE!"},"java.lang.IndexOutOfBoundsException: Index: 0, Size: 0"]
[null,{"$f":"data!B118","v":110},{"$f":"data!E122","v":73.489999999999995},{"$error":"#VALUE!"},"java.lang.IndexOutOfBoundsException: Index: 0, Size: 0"]
[null,{"$f":"data!B119","v":111},{"$f":"data!E123","v":76.459999999999994},{"$error":"#VALUE!"},"java.lang.IndexOutOfBoundsException: Index: 0, Size: 0"]
[null,{"$f":"data!B120","v":112},{"$f":"data!E124","v":80.95},{"$error":"#VALUE!"},"java.lang.IndexOutOfBoundsException: Index: 0, Size: 0"]
[null,{"$f":"data!B121","v":113},{"$f":"data!E125","v":77},{"$error":"#VALUE!"},"java.lang.IndexOutOfBoundsException: Index: 0, Size: 0"]
[null,{"$f":"data!B122","v":114},{"$f":"data!E126","v":74.5},{"$error":"#VALUE!"},"java.lang.IndexOutOfBoundsException: Index: 0, Size: 0"]
[null,{"$f":"data!B123","v":115},{"$f":"data!E127","v":71},{"$error":"#VALUE!"},"java.lang.IndexOutOfBoundsException: Index: 0, Size: 0"]
[null,{"$f":"data!B124","v":116},{"$f":"data!E128","v":71},{"$error":"#VALUE!"},"java.lang.IndexOutOfBoundsException: Index: 0, Size: 0"]
[null,{"$f":"data!B125","v":117},{"$f":"data!E129","v":73},{"$error":"#VALUE!"},"java.lang.IndexOutOfBoundsException: Index: 0, Size: 0"]
[null,{"$f":"data!B126","v":118},{"$f":"data!E130","v":74.599999999999994},{"$error":"#VALUE!"},"java.lang.IndexOutOfBoundsException: Index: 0, Size: 0"]
[null,{"$f":"data!B127","v":119},{"$f":"data!E131","v":77},{"$error":"#VALUE!"},"java.lang.IndexOutOfBoundsException: Index: 0, Size: 0"]
[null,{"$f":"data!B128","v":120},{"$f":"data!E132","v":71.5},{"$error":"#VALUE!"},"java.lang.IndexOutOfBoundsException: Index: 0, Size: 0"]
[null,{"$f":"data!B129","v":121},{"$f":"data!E133","v":78.5},{"$error":"#VALUE!"},"java.lang.IndexOutOfBoundsException: Index: 0, Size: 0"]
[null,{"$f":"data!B130","v":122},{"$f":"data!E134","v":73},{"$error":"#VALUE!"},"java.lang.IndexOutOfBoundsException: Index: 0, Size: 0"]
[null,{"$f":"data!B131","v":123},{"$f":"data!E135","v":74},{"$error":"#VALUE!"},"java.lang.IndexOutOfBoundsException: Index: 0, Size: 0"]
[null,{"$f":"data!B132","v":124},{"$f":"data!E136","v":81.5},{"$error":"#VALUE!"},"java.lang.IndexOutOfBoundsException: Index: 0, Size: 0"]
[null,{"$f":"data!B133","v":125},{"$f":"data!E137","v":76.5},{"$error":"#VALUE!"},"java.lang.IndexOutOfBoundsException: Index: 0, Size: 0"]
[null,{"$f":"data!B134","v":126},{"$f":"data!E138","v":75.5},{"$f":"C154-E154","v":{"$error":"#VALUE!"}},"java.lang.IndexOutOfBoundsException: Index: 0, Size: 0"]
[null,{"$f":"data!B135","v":127},{"$f":"data!E139","v":77.5},{"$error":"#VALUE!"},"java.lang.IndexOutOfBoundsException: Index: 0, Size: 0"]
[null,{"$f":"data!B136","v":128},{"$f":"data!E140","v":78.5},{"$error":"#VALUE!"},"java.lang.IndexOutOfBoundsException: Index: 0, Size: 0"]
[null,{"$f":"data!B137","v":129},{"$f":"data!E141","v":76},{"$error":"#VALUE!"},"java.lang.IndexOutOfBoundsException: Index: 0, Size: 0"]
[null,{"$f":"data!B138","v":130},{"$f":"data!E142","v":76},{"$error":"#VALUE!"},"java.lang.IndexOutOfBoundsException: Index: 0, Size: 0"]
[null,{"$f":"data!B139","v":131},{"$f":"data!E143","v":75},{"$error":"#VALUE!"},"java.lang.IndexOutOfBoundsException: Index: 0, Size: 0"]
[null,{"$f":"data!B140","v":132},{"$f":"data!E144","v":72},{"$error":"#VALUE!"},"java.lang.IndexOutOfBoundsException: Index: 0, Size: 0"]
[null,{"$f":"data!B141","v":133},{"$f":"data!E145","v":67.5},{"$error":"#VALUE!"},"java.lang.IndexOutOfBoundsException: Index: 0, Size: 0"]
[null,{"$f":"data!B142","v":134},{"$f":"data!E146","v":73.5},{"$error":"#VALUE!"},"java.lang.IndexOutOfBoundsException: Index: 0, Size: 0"]
[null,{"$f":"data!B143","v":135},{"$f":"data!E147","v":79},{"$error":"#VALUE!"},"java.lang.IndexOutOfBoundsException: Index: 0, Size: 0"]
[null,{"$f":"data!B144","v":136},{"$f":"data!E148","v":78},{"$error":"#VALUE!"},"java.lang.IndexOutOfBoundsException: Index: 0, Size: 0"]
[null,{"$f":"data!B145","v":137},{"$f":"data!E149","v":77.5},{"$error":"#VALUE!"},"java.lang.IndexOutOfBoundsException: Index: 0, Size: 0"]
[null,{"$f":"data!B146","v":138},{"$f":"data!E150","v":74.5},{"$error":"#VALUE!"},"java.lang.IndexOutOfBoundsException: Index: 0, Size: 0"]
[null,{"$f":"data!B147","v":139},{"$f":"data!E151","v":78},{"$error":"#VALUE!"},"java.lang.IndexOutOfBoundsException: Index: 0, Size: 0"]
[null,{"$f":"data!B148","v":140},{"$f":"data!E152","v":80.5},{"$error":"#VALUE!"},"java.lang.IndexOutOfBoundsException: Index: 0, Size: 0"]
[null,{"$f":"data!B149","v":141},{"$f":"data!E153","v":82},{"$error":"#VALUE!"},"java.lang.IndexOutOfBoundsException: Index: 0, Size: 0"]
[null,{"$f":"data!B150","v":142},{"$f":"data!E154","v":77},{"$error":"#VALUE!"},"java.lang.IndexOutOfBoundsException: Index: 0, Size: 0"]
[null,{"$f":"data!B151","v":143},{"$f":"data!E155","v":81.5},{"$error":"#VALUE!"},"java.lang.IndexOutOfBoundsException: Index: 0, Size: 0"]
[null,{"$f":"data!B152","v":144},{"$f":"data!E156","v":80},{"$error":"#VALUE!"},"java.lang.IndexOutOfBoundsException: Index: 0, Size: 0"]
[null,{"$f":"data!B153","v":145},{"$f":"data!E157","v":74.5},{"$error":"#VALUE!"},"java.lang.IndexOutOfBoundsException: Index: 0, Size: 0"]
[null,{"$f":"data!B154","v":146},{"$f":"data!E158","v":81.5},{"$error":"#VALUE!"},"java.lang.IndexOutOfBoundsException: Index: 0, Size: 0"]
[null,{"$f":"data!B155","v":147},{"$f":"data!E159","v":84.5},{"$error":"#VALUE!"},"java.lang.IndexOutOfBoundsException: Index: 0, Size: 0"]
[null,{"$f":"data!B156","v":148},{"$f":"data!E160","v":83},{"$error":"#VALUE!"},"java.lang.IndexOutOfBoundsException: Index: 0, Size: 0"]
[null,{"$f":"data!B157","v":149},{"$f":"data!E161","v":83.5},{"$error":"#VALUE!"},"java.lang.IndexOutOfBoundsException: Index: 0, Size: 0"]
[null,{"$f":"data!B158","v":150},{"$f":"data!E162","v":80.5},{"$error":"#VALUE!"},"java.lang.IndexOutOfBoundsException: Index: 0, Size: 0"]
[null,{"$f":"data!B159","v":151},{"$f":"data!E163","v":75.5},{"$error":"#VALUE!"},"java.lang.IndexOutOfBoundsException: Index: 0, Size: 0"]
[null,{"$f":"data!B160","v":152},{"$f":"data!E164","v":74.5},{"$error":"#VALUE!"},"java.lang.IndexOutOfBoundsException: Index: 0, Size: 0"]
[null,{"$f":"data!B161","v":153},{"$f":"data!E165","v":72.5},{"$error":"#VALUE!"},"java.lang.IndexOutOfBoundsException: Index: 0, Size: 0"]
[null,{"$f":"data!B162","v":154},{"$f":"data!E166","v":68},{"$error":"#VALUE!"},"java.lang.IndexOutOfBoundsException: Index: 0, Size: 0"]
[null,{"$f":"data!B163","v":155},{"$f":"data!E167","v":71},{"$error":"#VALUE!"},"java.lang.IndexOutOfBoundsException: Index: 0, Size: 0"]
[null,{"$f":"data!B164","v":156},{"$f":"data!E168","v":77},{"$error":"#VALUE!"},"java.lang.IndexOutOfBoundsException: Index: 0, Size: 0"]
[null,{"$f":"data!B165","v":157},{"$f":"data!E169","v":78.5},{"$error":"#VALUE!"},"java.lang.IndexOutOfBoundsException: Index: 0, Size: 0"]
[null,{"$f":"data!B166","v":158},{"$f":"data!E170","v":76.5},{"$error":"#VALUE!"},"java.lang.IndexOutOfBoundsException: Index: 0, Size: 0"]
[null,{"$f":"data!B167","v":159},{"$f":"data!E171","v":72.5},{"$error":"#VALUE!"},"java.lang.IndexOutOfBoundsException: Index: 0, Size: 0"]
[null,{"$f":"data!B168","v":160},{"$f":"data!E172","v":72},{"$error":"#VALUE!"},"java.lang.IndexOutOfBoundsException: Index: 0, Size: 0"]
[null,{"$f":"data!B169","v":161},{"$f":"data!E173","v":74.5},{"$error":"#VALUE!"},"java.lang.IndexOutOfBoundsException: Index: 0, Size: 0"]
[null,{"$f":"data!B170","v":162},{"$f":"data!E174","v":79.5},{"$error":"#VALUE!"},"java.lang.IndexOutOfBoundsException: Index: 0, Size: 0"]
[null,{"$f":"data!B171","v":163},{"$f":"data!E175","v":77},{"$error":"#VALUE!"},"java.lang.IndexOutOfBoundsException: Index: 0, Size: 0"]
[null,{"$f":"data!B172","v":164},{"$f":"data!E176","v":76.5},{"$error":"#VALUE!"},"java.lang.IndexOutOfBoundsException: Index: 0, Size: 0"]
[null,{"$f":"data!B173","v":165},{"$f":"data!E177","v":78},{"$error":"#VALUE!"},"java.lang.IndexOutOfBoundsException: Index: 0, Size: 0"]
[null,{"$f":"data!B174","v":166},{"$f":"data!E178","v":77.5},{"$error":"#VALUE!"},"java.lang.IndexOutOfBoundsException: Index: 0, Size: 0"]
[null,{"$f":"data!B175","v":167},{"$f":"data!E179","v":73.5},{"$error":"#VALUE!"},"java.lang.IndexOutOfBoundsException: Index: 0, Size: 0"]
[null,{"$f":"data!B176","v":168},{"$f":"data!E180","v":75.5},{"$error":"#VALUE!"},"java.lang.IndexOutOfBoundsException: Index: 0, Size: 0"]
[null,{"$f":"data!B177","v":169},{"$f":"data!E181","v":71.5},{"$error":"#VALUE!"},"java.lang.IndexOutOfBoundsException: Index: 0, Size: 0"]
[null,{"$f":"data!B178","v":170},{"$f":"data!E182","v":78},{"$error":"#VALUE!"},"java.lang.IndexOutOfBoundsException: Index: 0, Size: 0"]
[null,{"$f":"data!B179","v":171},{"$f":"data!E183","v":75},{"$error":"#VALUE!"},"java.lang.IndexOutOfBoundsException: Index: 0, Size: 0"]
[null,{"$f":"data!B180","v":172},{"$f":"data!E184","v":77.5},{"$error":"#VALUE!"},"java.lang.IndexOutOfBoundsException: Index: 0, Size: 0"]
[null,{"$f":"data!B181","v":173},{"$f":"data!E185","v":80},{"$error":"#VALUE!"},"java.lang.IndexOutOfBoundsException: Index: 0, Size: 0"]
[null,{"$f":"data!B182","v":174},{"$f":"data!E186","v":78},{"$error":"#VALUE!"},"java.lang.IndexOutOfBoundsException: Index: 0, Size: 0"]
[null,{"$f":"data!B183","v":175},{"$f":"data!E187","v":85},{"$error":"#VALUE!"},"java.lang.IndexOutOfBoundsException: Index: 0, Size: 0"]
[null,{"$f":"data!B184","v":176},{"$f":"data!E188","v":85},{"$error":"#VALUE!"},"java.lang.IndexOutOfBoundsException: Index: 0, Size: 0"]
[null,{"$f":"data!B185","v":177},{"$f":"data!E189","v":78.5},{"$error":"#VALUE!"},"java.lang.IndexOutOfBoundsException: Index: 0, Size: 0"]
[null,{"$f":"data!B186","v":178},{"$f":"data!E190","v":77.5},{"$error":"#VALUE!"},"java.lang.IndexOutOfBoundsException: Index: 0, Size: 0"]
[null,{"$f":"data!B187","v":179},{"$f":"data!E191","v":76.5},{"$error":"#VALUE!"},"java.lang.IndexOutOfBoundsException: Index: 0, Size: 0"]
[null,{"$f":"data!B188","v":180},{"$f":"data!E192","v":78},{"$error":"#VALUE!"},"java.lang.IndexOutOfBoundsException: Index: 0, Size: 0"]
[null,{"$f":"data!B189","v":181},{"$f":"data!E193","v":83},{"$error":"#VALUE!"},"java.lang.IndexOutOfBoundsException: Index: 0, Size: 0"]
[null,{"$f":"data!B190","v":182},{"$f":"data!E194","v":85.5},{"$error":"#VALUE!"},"java.lang.IndexOutOfBoundsException: Index: 0, Size: 0"]
[null,{"$f":"data!B191","v":183},{"$f":"data!E195","v":85.5},{"$error":"#VALUE!"},"java.lang.IndexOutOfBoundsException: Index: 0, Size: 0"]
[null,{"$f":"data!B192","v":184},{"$f":"data!E196","v":83.5},{"$error":"#VALUE!"},"java.lang.IndexOutOfBoundsException: Index: 0, Size: 0"]
[null,{"$f":"data!B193","v":185},{"$f":"data!E197","v":79},{"$error":"#VALUE!"},"java.lang.IndexOutOfBoundsException: Index: 0, Size: 0"]
[null,{"$f":"data!B194","v":186},{"$f":"data!E198","v":72},{"$error":"#VALUE!"},"java.lang.IndexOutOfBoundsException: Index: 0, Size: 0"]
[null,{"$f":"data!B195","v":187},{"$f":"data!E199","v":70.5},{"$error":"#VALUE!"},"java.lang.IndexOutOfBoundsException: Index: 0, Size: 0"]
[null,{"$f":"data!B196","v":188},{"$f":"data!E200","v":75.5},{"$error":"#VALUE!"},"java.lang.IndexOutOfBoundsException: Index: 0, Size: 0"]
[null,{"$f":"data!B197","v":189},{"$f":"data!E201","v":68},{"$error":"#VALUE!"},"java.lang.IndexOutOfBoundsException: Index: 0, Size: 0"]
[null,{"$f":"data!B198","v":190},{"$f":"data!E202","v":68},{"$f":"C218-E218","v":{"$error":"#VALUE!"}},"java.lang.IndexOutOfBoundsException: Index: 0, Size: 0"]
[null,{"$f":"data!B199","v":191},{"$f":"data!E203","v":68.5},{"$error":"#VALUE!"},"java.lang.IndexOutOfBoundsException: Index: 0, Size: 0"]
[null,{"$f":"data!B200","v":192},{"$f":"data!E204","v":76},{"$error":"#VALUE!"},"java.lang.IndexOutOfBoundsException: Index: 0, Size: 0"]
[null,{"$f":"data!B201","v":193},{"$f":"data!E205","v":73.5},{"$error":"#VALUE!"},"java.lang.IndexOutOfBoundsException: Index: 0, Size: 0"]
[null,{"$f":"data!B202","v":194},{"$f":"data!E206","v":80.5},{"$error":"#VALUE!"},"java.lang.IndexOutOfBoundsException: Index: 0, Size: 0"]
[null,{"$f":"data!B203","v":195},{"$f":"data!E207","v":78},{"$error":"#VALUE!"},"java.lang.IndexOutOfBoundsException: Index: 0, Size: 0"]
[null,{"$f":"data!B204","v":196},{"$f":"data!E208","v":77},{"$error":"#VALUE!"},"java.lang.IndexOutOfBoundsException: Index: 0, Size: 0"]
[null,{"$f":"data!B205","v":197},{"$f":"data!E209","v":82.5},{"$error":"#VALUE!"},"java.lang.IndexOutOfBoundsException: Index: 0, Size: 0"]
[null,{"$f":"data!B206","v":198},{"$f":"data!E210","v":80},{"$error":"#VALUE!"},"java.lang.IndexOutOfBoundsException: Index: 0, Size: 0"]
[null,{"$f":"data!B207","v":199},{"$f":"data!E211","v":73.5},{"$error":"#VALUE!"},"java.lang.IndexOutOfBoundsException: Index: 0, Size: 0"]
[null,{"$f":"data!B208","v":200},{"$f":"data!E212","v":74},{"$error":"#VALUE!"},"java.lang.IndexOutOfBoundsException: Index: 0, Size: 0"]
[null,{"$f":"data!B209","v":201},{"$f":"data!E213","v":75.5},{"$error":"#VALUE!"},"java.lang.IndexOutOfBoundsException: Index: 0, Size: 0"]
[null,{"$f":"data!B210","v":202},{"$f":"data!E214","v":74},{"$error":"#VALUE!"},"java.lang.IndexOutOfBoundsException: Index: 0, Size: 0"]
[null,{"$f":"data!B211","v":203},{"$f":"data!E215","v":85},{"$error":"#VALUE!"},"java.lang.IndexOutOfBoundsException: Index: 0, Size: 0"]
[null,{"$f":"data!B212","v":204},{"$f":"data!E216","v":85},{"$error":"#VALUE!"},"java.lang.IndexOutOfBoundsException: Index: 0, Size: 0"]
[null,{"$f":"data!B213","v":205},{"$f":"data!E217","v":84.5},{"$error":"#VALUE!"},"java.lang.IndexOutOfBoundsException: Index: 0, Size: 0"]
[null,{"$f":"data!B214","v":206},{"$f":"data!E218","v":80},{"$error":"#VALUE!"},"java.lang.IndexOutOfBoundsException: Index: 0, Size: 0"]
[null,{"$f":"data!B215","v":207},{"$f":"data!E219","v":76},{"$error":"#VALUE!"},"java.lang.IndexOutOfBoundsException: Index: 0, Size: 0"]
[null,{"$f":"data!B216","v":208},{"$f":"data!E220","v":81},{"$error":"#VALUE!"},"java.lang.IndexOutOfBoundsException: Index: 0, Size: 0"]
[null,{"$f":"data!B217","v":209},{"$f":"data!E221","v":87.5},{"$error":"#VALUE!"},"java.lang.IndexOutOfBoundsException: Index: 0, Size: 0"]
[null,{"$f":"data!B218","v":210},{"$f":"data!E222","v":83},{"$error":"#VALUE!"},"java.lang.IndexOutOfBoundsException: Index: 0, Size: 0"]
[null,{"$f":"data!B219","v":211},{"$f":"data!E223","v":80.5},{"$error":"#VALUE!"},"java.lang.IndexOutOfBoundsException: Index: 0, Size: 0"]
[null,{"$f":"data!B220","v":212},{"$f":"data!E224","v":77},{"$error":"#VALUE!"},"java.lang.IndexOutOfBoundsException: Index: 0, Size: 0"]
[null,{"$f":"data!B221","v":213},{"$f":"data!E225","v":74},{"$error":"#VALUE!"},"java.lang.IndexOutOfBoundsException: Index: 0, Size: 0"]
[null,{"$f":"data!B222","v":214},{"$f":"data!E226","v":67},{"$error":"#VALUE!"},"java.lang.IndexOutOfBoundsException: Index: 0, Size: 0"]
[null,{"$f":"data!B223","v":215},{"$f":"data!E227","v":76},{"$error":"#VALUE!"},"java.lang.IndexOutOfBoundsException: Index: 0, Size: 0"]
[null,{"$f":"data!B224","v":216},{"$f":"data!E228","v":71},{"$error":"#VALUE!"},"java.lang.IndexOutOfBoundsException: Index: 0, Size: 0"]
[null,{"$f":"data!B225","v":217},{"$f":"data!E229","v":69},{"$error":"#VALUE!"},"java.lang.IndexOutOfBoundsException: Index: 0, Size: 0"]
[null,{"$f":"data!B226","v":218},{"$f":"data!E230","v":73.5},{"$error":"#VALUE!"},"java.lang.IndexOutOfBoundsException: Index: 0, Size: 0"]
[null,{"$f":"data!B227","v":219},{"$f":"data!E231","v":79},{"$error":"#VALUE!"},"java.lang.IndexOutOfBoundsException: Index: 0, Size: 0"]
[null,{"$f":"data!B228","v":220},{"$f":"data!E232","v":77},{"$error":"#VALUE!"},"java.lang.IndexOutOfBoundsException: Index: 0, Size: 0"]
[null,{"$f":"data!B229","v":221},{"$f":"data!E233","v":78},{"$error":"#VALUE!"},"java.lang.IndexOutOfBoundsException: Index: 0, Size: 0"]
[null,{"$f":"data!B230","v":222},{"$f":"data!E234","v":79},{"$error":"#VALUE!"},"java.lang.IndexOutOfBoundsException: Index: 0, Size: 0"]
[null,{"$f":"data!B231","v":223},{"$f":"data!E235","v":77.5},{"$error":"#VALUE!"},"java.lang.IndexOutOfBoundsException: Index: 0, Size: 0"]
[null,{"$f":"data!B232","v":224},{"$f":"data!E236","v":83.5},{"$error":"#VALUE!"},"java.lang.IndexOutOfBoundsException: Index: 0, Size: 0"]
[null,{"$f":"data!B233","v":225},{"$f":"data!E237","v":83},{"$error":"#VALUE!"},"java.lang.IndexOutOfBoundsException: Index: 0, Size: 0"]
[null,{"$f":"data!B234","v":226},{"$f":"data!E238","v":83},{"$error":"#VALUE!"},"java.lang.IndexOutOfBoundsException: Index: 0, Size: 0"]
[null,{"$f":"data!B235","v":227},{"$f":"data!E239","v":81},{"$error":"#VALUE!"},"java.lang.IndexOutOfBoundsException: Index: 0, Size: 0"]
[null,{"$f":"data!B236","v":228},{"$f":"data!E240","v":83.5},{"$error":"#VALUE!"},"java.lang.IndexOutOfBoundsException: Index: 0, Size: 0"]
[null,{"$f":"data!B237","v":229},{"$f":"data!E241","v":81.5},{"$error":"#VALUE!"},"java.lang.IndexOutOfBoundsException: Index: 0, Size: 0"]
[null,{"$f":"data!B238","v":230},{"$f":"data!E242","v":79.5},{"$error":"#VALUE!"},"java.lang.IndexOutOfBoundsException: Index: 0, Size: 0"]
[null,{"$f":"data!B239","v":231},{"$f":"data!E243","v":78},{"$error":"#VALUE!"},"java.lang.IndexOutOfBoundsException: Index: 0, Size: 0"]
[null,{"$f":"data!B240","v":232},{"$f":"data!E244","v":72},{"$error":"#VALUE!"},"java.lang.IndexOutOfBoundsException: Index: 0, Size: 0"]
[null,{"$f":"data!B241","v":233},{"$f":"data!E245","v":78.5},{"$error":"#VALUE!"},"java.lang.IndexOutOfBoundsException: Index: 0, Size: 0"]
[null,{"$f":"data!B242","v":234},{"$f":"data!E246","v":84},{"$error":"#VALUE!"},"java.lang.IndexOutOfBoundsException: Index: 0, Size: 0"]
[null,{"$f":"data!B243","v":235},{"$f":"data!E247","v":83},{"$error":"#VALUE!"},"java.lang.IndexOutOfBoundsException: Index: 0, Size: 0"]
[null,{"$f":"data!B244","v":236},{"$f":"data!E248","v":74.5},{"$error":"#VALUE!"},"java.lang.IndexOutOfBoundsException: Index: 0, Size: 0"]
[null,{"$f":"data!B245","v":237},{"$f":"data!E249","v":70.5},{"$error":"#VALUE!"},"java.lang.IndexOutOfBoundsException: Index: 0, Size: 0"]
[null,{"$f":"data!B246","v":238},{"$f":"data!E250","v":74},{"$error":"#VALUE!"},"java.lang.IndexOutOfBoundsException: Index: 0, Size: 0"]
[null,{"$f":"data!B247","v":239},{"$f":"data!E251","v":74},{"$error":"#VALUE!"},"java.lang.IndexOutOfBoundsException: Index: 0, Size: 0"]
[null,{"$f":"data!B248","v":240},{"$f":"data!E252","v":82},{"$error":"#VALUE!"},"java.lang.IndexOutOfBoundsException: Index: 0, Size: 0"]
[null,{"$f":"data!B249","v":241},{"$f":"data!E253","v":76.5},{"$error":"#VALUE!"},"java.lang.IndexOutOfBoundsException: Index: 0, Size: 0"]
[null,{"$f":"data!B250","v":242},{"$f":"data!E254","v":78.5},{"$error":"#VALUE!"},"java.lang.IndexOutOfBoundsException: Index: 0, Size: 0"]
[null,{"$f":"data!B251","v":243},{"$f":"data!E255","v":72.5},{"$error":"#VALUE!"},"java.lang.IndexOutOfBoundsException: Index: 0, Size: 0"]
[null,{"$f":"data!B252","v":244},{"$f":"data!E256","v":74.5},{"$error":"#VALUE!"},"java.lang.IndexOutOfBoundsException: Index: 0, Size: 0"]
[null,{"$f":"data!B253","v":245},{"$f":"data!E257","v":75},{"$error":"#VALUE!"},"java.lang.IndexOutOfBoundsException: Index: 0, Size: 0"]
[null,{"$f":"data!B254","v":246},{"$f":"data!E258","v":76},{"$error":"#VALUE!"},"java.lang.IndexOutOfBoundsException: Index: 0, Size: 0"]
[null,{"$f":"data!B255","v":247},{"$f":"data!E259","v":74.5},{"$error":"#VALUE!"},"java.lang.IndexOutOfBoundsException: Index: 0, Size: 0"]
[null,{"$f":"data!B256","v":248},{"$f":"data!E260","v":71},{"$error":"#VALUE!"},"java.lang.IndexOutOfBoundsException: Index: 0, Size: 0"]
[null,{"$f":"data!B257","v":249},{"$f":"data!E261","v":69},{"$error":"#VALUE!"},"java.lang.IndexOutOfBoundsException: Index: 0, Size: 0"]
[null,{"$f":"data!B258","v":250},{"$f":"data!E262","v":70.5},{"$error":"#VALUE!"},"java.lang.IndexOutOfBoundsException: Index: 0, Size: 0"]
[null,{"$f":"data!B259","v":251},{"$f":"data!E263","v":76},{"$error":"#VALUE!"},"java.lang.IndexOutOfBoundsException: Index: 0, Size: 0"]
[null,{"$f":"data!B260","v":252},{"$f":"data!E264","v":75},{"$error":"#VALUE!"},"java.lang.IndexOutOfBoundsException: Index: 0, Size: 0"]
[null,{"$f":"data!B261","v":253},{"$f":"data!E265","v":70.5},{"$error":"#VALUE!"},"java.lang.IndexOutOfBoundsException: Index: 0, Size: 0"]
[null,{"$f":"data!B262","v":254},{"$f":"data!E266","v":73},{"$f":"C282-E282","v":{"$error":"#VALUE!"}},"java.lang.IndexOutOfBoundsException: Index: 0, Size: 0"]
[null,{"$f":"data!B263","v":255},{"$f":"data!E267","v":71},{"$error":"#VALUE!"},"java.lang.IndexOutOfBoundsException: Index: 0, Size: 0"]
[null,{"$f":"data!B264","v":256},{"$f":"data!E268","v":68.5},{"$error":"#VALUE!"},"java.lang.IndexOutOfBoundsException: Index: 0, Size: 0"]
[null,{"$f":"data!B265","v":257},{"$f":"data!E269","v":76},{"$error":"#VALUE!"},"java.lang.IndexOutOfBoundsException: Index: 0, Size: 0"]
[null,{"$f":"data!B266","v":258},{"$f":"data!E270","v":77.5},{"$error":"#VALUE!"},"java.lang.IndexOutOfBoundsException: Index: 0, Size: 0"]
[null,{"$f":"data!B267","v":259},{"$f":"data!E271","v":74},{"$error":"#VALUE!"},"java.lang.IndexOutOfBoundsException: Index: 0, Size: 0"]
[null,{"$f":"data!B268","v":260},{"$f":"data!E272","v":73.5},{"$error":"#VALUE!"},"java.lang.IndexOutOfBoundsException: Index: 0, Size: 0"]
[null,{"$f":"data!B269","v":261},{"$f":"data!E273","v":73.5},{"$error":"#VALUE!"},"java.lang.IndexOutOfBoundsException: Index: 0, Size: 0"]
[null,{"$f":"data!B270","v":262},{"$f":"data!E274","v":75},{"$error":"#VALUE!"},"java.lang.IndexOutOfBoundsException: Index: 0, Size: 0"]
[null,{"$f":"data!B271","v":263},{"$f":"data!E275","v":73},{"$error":"#VALUE!"},"java.lang.IndexOutOfBoundsException: Index: 0, Size: 0"]
[null,{"$f":"data!B272","v":264},{"$f":"data!E276","v":71.5},{"$error":"#VALUE!"},"java.lang.IndexOutOfBoundsException: Index: 0, Size: 0"]
[null,{"$f":"data!B273","v":265},{"$f":"data!E277","v":68},{"$error":"#VALUE!"},"java.lang.IndexOutOfBoundsException: Index: 0, Size: 0"]
[null,{"$f":"data!B274","v":266},{"$f":"data!E278","v":72.5},{"$error":"#VALUE!"},"java.lang.IndexOutOfBoundsException: Index: 0, Size: 0"]
[null,{"$f":"data!B275","v":267},{"$f":"data!E279","v":72.5},{"$error":"#VALUE!"},"java.lang.IndexOutOfBoundsException: Index: 0, Size: 0"]
[null,{"$f":"data!B276","v":268},{"$f":"data!E280","v":74},{"$error":"#VALUE!"},"java.lang.IndexOutOfBoundsException: Index: 0, Size: 0"]
[null,{"$f":"data!B277","v":269},{"$f":"data!E281","v":78.5},{"$error":"#VALUE!"},"java.lang.IndexOutOfBoundsException: Index: 0, Size: 0"]
[null,{"$f":"data!B278","v":270},{"$f":"data!E282","v":81},{"$error":"#VALUE!"},"java.lang.IndexOutOfBoundsException: Index: 0, Size: 0"]
[null,{"$f":"data!B279","v":271},{"$f":"data!E283","v":77},{"$error":"#VALUE!"},"java.lang.IndexOutOfBoundsException: Index: 0, Size: 0"]
[null,{"$f":"data!B280","v":272},{"$f":"data!E284","v":76.5},{"$error":"#VALUE!"},"java.lang.IndexOutOfBoundsException: Index: 0, Size: 0"]
[null,{"$f":"data!B281","v":273},{"$f":"data!E285","v":75.5},{"$error":"#VALUE!"},"java.lang.IndexOutOfBoundsException: Index: 0, Size: 0"]
[null,{"$f":"data!B282","v":274},{"$f":"data!E286","v":75},{"$error":"#VALUE!"},"java.lang.IndexOutOfBoundsException: Index: 0, Size: 0"]
[null,{"$f":"data!B283","v":275},{"$f":"data!E287","v":82},{"$error":"#VALUE!"},"java.lang.IndexOutOfBoundsException: Index: 0, Size: 0"]
[null,{"$f":"data!B284","v":276},{"$f":"data!E288","v":75},{"$error":"#VALUE!"},"java.lang.IndexOutOfBoundsException: Index: 0, Size: 0"]
[null,{"$f":"data!B285","v":277},{"$f":"data!E289","v":76},{"$error":"#VALUE!"},"java.lang.IndexOutOfBoundsException: Index: 0, Size: 0"]
[null,{"$f":"data!B286","v":278},{"$f":"data!E290","v":75.5},{"$error":"#VALUE!"},"java.lang.IndexOutOfBoundsException: Index: 0, Size: 0"]
[null,{"$f":"data!B287","v":279},{"$f":"data!E291","v":75},{"$error":"#VALUE!"},"java.lang.IndexOutOfBoundsException: Index: 0, Size: 0"]
[null,{"$f":"data!B288","v":280},{"$f":"data!E292","v":75.5},{"$error":"#VALUE!"},"java.lang.IndexOutOfBoundsException: Index: 0, Size: 0"]
[null,{"$f":"data!B289","v":281},{"$f":"data!E293","v":77.5},{"$error":"#VALUE!"},"java.lang.IndexOutOfBoundsException: Index: 0, Size: 0"]
[null,{"$f":"data!B290","v":282},{"$f":"data!E294","v":81.5},{"$error":"#VALUE!"},"java.lang.IndexOutOfBoundsException: Index: 0, Size: 0"]
[null,{"$f":"data!B291","v":283},{"$f":"data!E295","v":75},{"$error":"#VALUE!"},"java.lang.IndexOutOfBoundsException: Index: 0, Size: 0"]

{"sheet":"data","index":2,"n_rows":535,"n_cols":12,"rows_kept":535,"cut":false,"hidden":false,"merged":[]}
[]
[null,"TAB: REGRESSION DATA",null,null,null,null,"Explanatory variables"]
[]
[null,null,null,"Average",{"$f":"AVERAGE(E9:E535)","v":76.856944971537004}]
[null,null,null,"StDev",{"$f":"STDEV(E9:E535)","v":5.1224894771716389}]
[]
[null,null,"August"]
[null,"#","Year","Date","EWR.Aug",null,"Linear","Quadratic","EWR.lag1","EWR.lag2","Aug.1st","Aug.2nd"]
[null,1,2016,{"$f":"DATE(C9, 8, 31)","v":"2016-08-31"},83,null,{"$f":"B9/31","v":3.2258064516129031E-2},{"$f":"G9*G9","v":1.0405827263267429E-3},{"$f":"E10","v":76.5},{"$f":"E11","v":82.45},0,0]
[null,{"$f":"B9+1","v":2},{"$f":"C9","v":2016},{"$f":"D9-1","v":"2016-08-30"},76.5,null,6.4516129032258063E-2,{"$f":"G10*G10","v":4.1623309053069714E-3},82.45,79.5,0,0]
[null,{"$f":"B10+1","v":3},2016,{"$f":"D10-1","v":"2016-08-29"},82.45,null,9.6774193548387094E-2,9.3652445369406864E-3,79.5,79.55,0,0]
[null,4,2016,"2016-08-28",79.5,null,0.12903225806451613,1.6649323621227886E-2,79.55,85,0,0]
[null,5,2016,"2016-08-27",79.55,null,0.16129032258064516,2.6014568158168574E-2,85,77.45,0,0]
[null,6,2016,"2016-08-26",85,null,0.19354838709677419,3.7460978147762745E-2,77.45,76.459999999999994,0,0]
[null,7,2016,"2016-08-25",77.45,null,0.22580645161290322,5.0988553590010401E-2,76.459999999999994,71.510000000000005,0,0]
[null,8,2016,"2016-08-24",76.459999999999994,null,0.25806451612903225,6.6597294484911543E-2,71.510000000000005,73.94,0,0]
[null,9,2016,"2016-08-23",71.510000000000005,null,0.29032258064516131,8.4287200832466186E-2,73.94,80.510000000000005,0,0]
[null,10,2016,"2016-08-22",73.94,null,0.32258064516129031,0.1040582726326743,80.510000000000005,79.52,0,0]
[null,11,2016,"2016-08-21",80.510000000000005,null,0.35483870967741937,0.12591050988553593,79.52,82,0,0]
[null,12,2016,"2016-08-20",79.52,null,0.38709677419354838,0.14984391259105098,82,80.05,0,0]
[null,13,2016,"2016-08-19",82,null,0.41935483870967744,0.17585848074921959,80.05,82,0,0]
[null,14,2016,"2016-08-18",80.05,null,0.45161290322580644,0.2039542143600416,82,85.01,0,0]
[null,15,2016,"2016-08-17",82,null,0.4838709677419355,0.2341311134235172,85.01,85.45,0,0]
[null,16,2016,"2016-08-16",85.01,null,0.5161290322580645,0.26638917793964617,85.45,88.5,0,0]
[null,17,2016,"2016-08-15",85.45,null,0.54838709677419351,0.3007284079084287,88.5,88.5,0,0]
[null,18,2016,"2016-08-14",88.5,null,0.58064516129032262,0.33714880332986474,88.5,85.5,0,0]
[null,19,2016,"2016-08-13",88.5,null,0.61290322580645162,0.3756503642039542,85.5,85.5,0,0]
[null,20,2016,"2016-08-12",85.5,null,0.64516129032258063,0.41623309053069718,85.5,82.49,0,0]
[null,21,2016,"2016-08-11",85.5,null,0.67741935483870963,0.45889698231009357,82.49,77.55,0,0]
[null,22,2016,"2016-08-10",82.49,null,0.70967741935483875,0.5036420395421437,77.55,78.08,0,0]
[null,23,2016,"2016-08-09",77.55,null,0.74193548387096775,0.55046826222684708,78.08,80.08,0,0]
[null,24,2016,"2016-08-08",78.08,null,0.77419354838709675,0.59937565036420393,80.08,81.5,0,0]
[null,25,2016,"2016-08-07",80.08,null,0.80645161290322576,0.65036420395421424,81.5,75.47,0,0]
[null,26,2016,"2016-08-06",81.5,null,0.83870967741935487,0.70343392299687835,75.47,72.5,0,0]
[null,27,2016,"2016-08-05",75.47,null,0.87096774193548387,0.75858480749219559,72.5,72.5,0,0]
[null,28,2016,"2016-08-04",72.5,null,0.90322580645161288,0.81581685744016641,72.5,73.489999999999995,0,0]
[null,29,2016,"2016-08-03",72.5,null,0.93548387096774188,0.8751300728407907,73.489999999999995,75,0,0]
[null,30,2016,"2016-08-02",73.489999999999995,null,0.967741935483871,0.93652445369406878,75,0,0,1]
[null,31,2016,"2016-08-01",75,null,1,1,0,0,1,0]
[null,32,{"$f":"C9-1","v":2015},{"$f":"DATE(C40, 8, 31)","v":"2015-08-31"},84.5,null,{"$f":"G9","v":3.2258064516129031E-2},{"$f":"H9","v":1.0405827263267429E-3},{"$f":"E41","v":79},{"$f":"E42","v":75.5},0,0]
[null,33,2015,{"$f":"D40-1","v":"2015-08-30"},79,null,{"$f":"G10","v":6.4516129032258063E-2},4.1623309053069714E-3,75.5,73,0,0]
[null,34,2015,"2015-08-29",75.5,null,9.6774193548387094E-2,9.3652445369406864E-3,73,74,0,0]
[null,35,2015,"2015-08-28",73,null,0.12903225806451613,1.6649323621227886E-2,74,75.5,0,0]
[null,36,2015,"2015-08-27",74,null,0.16129032258064516,2.6014568158168574E-2,75.5,83,0,0]
[null,37,2015,"2015-08-26",75.5,null,0.19354838709677419,3.7460978147762745E-2,83,78.5,0,0]
[null,38,2015,"2015-08-25",83,null,0.22580645161290322,5.0988553590010401E-2,78.5,75,0,0]
[null,39,2015,"2015-08-24",78.5,null,0.25806451612903225,6.6597294484911543E-2,75,77.5,0,0]
[null,40,2015,"2015-08-23",75,null,0.29032258064516131,8.4287200832466186E-2,77.5,80.5,0,0]
[null,41,2015,"2015-08-22",77.5,null,0.32258064516129031,0.1040582726326743,80.5,81.5,0,0]
[null,42,2015,"2015-08-21",80.5,null,0.35483870967741937,0.12591050988553593,81.5,81,0,0]
[null,43,2015,"2015-08-20",81.5,null,0.38709677419354838,0.14984391259105098,81,84,0,0]
[null,44,2015,"2015-08-19",81,null,0.41935483870967744,0.17585848074921959,84,85,0,0]
[null,45,2015,"2015-08-18",84,null,0.45161290322580644,0.2039542143600416,85,84,0,0]
[null,46,2015,"2015-08-17",85,null,0.4838709677419355,0.2341311134235172,84,81,0,0]
[null,47,2015,"2015-08-16",84,null,0.5161290322580645,0.26638917793964617,81,76.5,0,0]
[null,48,2015,"2015-08-15",81,null,0.54838709677419351,0.3007284079084287,76.5,76.5,0,0]
[null,49,2015,"2015-08-14",76.5,null,{"$f":"G26","v":0.58064516129032262},0.33714880332986474,76.5,78,0,0]
[null,50,2015,"2015-08-13",76.5,null,0.61290322580645162,0.3756503642039542,78,76.5,0,0]
[null,51,2015,"2015-08-12",78,null,0.64516129032258063,0.41623309053069718,76.5,74.5,0,0]
[null,52,2015,"2015-08-11",76.5,null,0.67741935483870963,0.45889698231009357,74.5,77,0,0]
[null,53,2015,"2015-08-10",74.5,null,0.70967741935483875,0.5036420395421437,77,74,0,0]
[null,54,2015,"2015-08-09",77,null,0.74193548387096775,0.55046826222684708,74,75.5,0,0]
[null,55,2015,"2015-08-08",74,null,0.77419354838709675,0.59937565036420393,75.5,75.5,0,0]
[null,56,2015,"2015-08-07",75.5,null,0.80645161290322576,0.65036420395421424,75.5,79.5,0,0]
[null,57,2015,"2015-08-06",75.5,null,0.83870967741935487,0.70343392299687835,79.5,81,0,0]
[null,58,2015,"2015-08-05",79.5,null,0.87096774193548387,0.75858480749219559,81,81.5,0,0]
[null,59,2015,"2015-08-04",81,null,0.90322580645161288,0.81581685744016641,81.5,79,0,0]
[null,60,2015,"2015-08-03",81.5,null,0.93548387096774188,0.8751300728407907,79,82,0,0]
[null,61,2015,"2015-08-02",79,null,0.967741935483871,0.93652445369406878,82,0,0,1]
[null,62,2015,"2015-08-01",82,null,1,1,0,0,1,0]
[null,63,2014,{"$f":"DATE(C71, 8, 31)","v":"2014-08-31"},82,null,{"$f":"G40","v":3.2258064516129031E-2},{"$f":"H40","v":1.0405827263267429E-3},{"$f":"E72","v":70},{"$f":"E73","v":70},0,0]
[null,64,2014,{"$f":"D71-1","v":"2014-08-30"},70,null,{"$f":"G41","v":6.4516129032258063E-2},4.1623309053069714E-3,70,74,0,0]
[null,65,2014,"2014-08-29",70,null,9.6774193548387094E-2,9.3652445369406864E-3,74,80,0,0]
[null,66,2014,"2014-08-28",74,null,0.12903225806451613,1.6649323621227886E-2,80,77.5,0,0]
[null,{"$f":"B74+1","v":67},2014,"2014-08-27",80,null,0.16129032258064516,2.6014568158168574E-2,77.5,74,0,0]
[null,68,2014,"2014-08-26",77.5,null,0.19354838709677419,3.7460978147762745E-2,74,72,0,0]
[null,69,2014,"2014-08-25",74,null,0.22580645161290322,5.0988553590010401E-2,72,71,0,0]
[null,70,2014,"2014-08-24",72,null,0.25806451612903225,6.6597294484911543E-2,71,72,0,0]
[null,71,2014,"2014-08-23",71,null,0.29032258064516131,8.4287200832466186E-2,72,73,0,0]
[null,72,2014,"2014-08-22",72,null,0.32258064516129031,0.1040582726326743,73,76,0,0]
[null,73,2014,"2014-08-21",73,null,0.35483870967741937,0.12591050988553593,76,72.5,0,0]
[null,74,2014,"2014-08-20",76,null,0.38709677419354838,0.14984391259105098,72.5,73.5,0,0]
[null,75,2014,"2014-08-19",72.5,null,0.41935483870967744,0.17585848074921959,73.5,75.5,0,0]
[null,76,2014,"2014-08-18",73.5,null,0.45161290322580644,0.2039542143600416,75.5,69.5,0,0]
[null,77,2014,"2014-08-17",75.5,null,0.4838709677419355,0.2341311134235172,69.5,67,0,0]
[null,78,2014,"2014-08-16",69.5,null,0.5161290322580645,0.26638917793964617,67,71.5,0,0]
[null,79,2014,"2014-08-15",67,null,0.54838709677419351,0.3007284079084287,71.5,77.5,0,0]
[null,80,2014,"2014-08-14",71.5,null,{"$f":"G57","v":0.58064516129032262},0.33714880332986474,77.5,76,0,0]
[null,81,2014,"2014-08-13",77.5,null,0.61290322580645162,0.3756503642039542,76,76.5,0,0]
[null,82,2014,"2014-08-12",76,null,0.64516129032258063,0.41623309053069718,76.5,76,0,0]
[null,83,2014,"2014-08-11",76.5,null,0.67741935483870963,0.45889698231009357,76,76.5,0,0]
[null,84,2014,"2014-08-10",76,null,0.70967741935483875,0.5036420395421437,76.5,73,0,0]
[null,85,2014,"2014-08-09",76.5,null,0.74193548387096775,0.55046826222684708,73,76,0,0]
[null,86,2014,"2014-08-08",73,null,0.77419354838709675,0.59937565036420393,76,78.5,0,0]
[null,87,2014,"2014-08-07",76,null,0.80645161290322576,0.65036420395421424,78.5,78.5,0,0]
[null,88,2014,"2014-08-06",78.5,null,0.83870967741935487,0.70343392299687835,78.5,77.5,0,0]
[null,89,2014,"2014-08-05",78.5,null,0.87096774193548387,0.75858480749219559,77.5,72.5,0,0]
[null,90,2014,"2014-08-04",77.5,null,0.90322580645161288,0.81581685744016641,72.5,71,0,0]
[null,91,2014,"2014-08-03",72.5,null,0.93548387096774188,0.8751300728407907,71,77.5,0,0]
[null,92,2014,"2014-08-02",71,null,0.967741935483871,0.93652445369406878,77.5,0,0,1]
[null,93,2014,"2014-08-01",77.5,null,1,1,0,0,1,0]
[null,94,2013,{"$f":"DATE(C102, 8, 31)","v":"2013-08-31"},80,null,{"$f":"G71","v":3.2258064516129031E-2},{"$f":"H71","v":1.0405827263267429E-3},{"$f":"E103","v":78},{"$f":"E104","v":76},0,0]
[null,95,2013,{"$f":"D102-1","v":"2013-08-30"},78,null,{"$f":"G72","v":6.4516129032258063E-2},4.1623309053069714E-3,76,78.5,0,0]
[null,96,{"$f":"C73-1","v":2013},"2013-08-29",76,null,9.6774193548387094E-2,9.3652445369406864E-3,78.5,81,0,0]
[null,97,2013,"2013-08-28",78.5,null,0.12903225806451613,1.6649323621227886E-2,81,76.5,0,0]
[null,98,2013,"2013-08-27",81,null,0.16129032258064516,2.6014568158168574E-2,76.5,72.05,0,0]
[null,99,2013,"2013-08-26",76.5,null,0.19354838709677419,3.7460978147762745E-2,72.05,71,0,0]
[null,100,2013,"2013-08-25",72.05,null,0.22580645161290322,5.0988553590010401E-2,71,76,0,0]
[null,101,2013,"2013-08-24",71,null,0.25806451612903225,6.6597294484911543E-2,76,75,0,0]
[null,102,2013,"2013-08-23",76,null,0.29032258064516131,8.4287200832466186E-2,75,79.5,0,0]
[null,103,2013,"2013-08-22",75,null,0.32258064516129031,0.1040582726326743,79.5,77,0,0]
[null,104,2013,"2013-08-21",79.5,null,0.35483870967741937,0.12591050988553593,77,71.5,0,0]
[null,105,2013,"2013-08-20",77,null,0.38709677419354838,0.14984391259105098,71.5,71.5,0,0]
[null,106,2013,"2013-08-19",71.5,null,0.41935483870967744,0.17585848074921959,71.5,72.5,0,0]
[null,107,2013,"2013-08-18",71.5,null,0.45161290322580644,0.2039542143600416,72.5,69.5,0,0]
[null,108,2013,"2013-08-17",72.5,null,0.4838709677419355,0.2341311134235172,69.5,69,0,0]
[null,109,2013,"2013-08-16",69.5,null,0.5161290322580645,0.26638917793964617,69,68.5,0,0]
[null,110,2013,"2013-08-15",69,null,0.54838709677419351,0.3007284079084287,68.5,74.5,0,0]
[null,111,2013,"2013-08-14",68.5,null,{"$f":"G88","v":0.58064516129032262},0.33714880332986474,74.5,76.5,0,0]
[null,112,2013,"2013-08-13",74.5,null,0.61290322580645162,0.3756503642039542,76.5,73.489999999999995,0,0]
[null,113,2013,"2013-08-12",76.5,null,0.64516129032258063,0.41623309053069718,73.489999999999995,76.459999999999994,0,0]
[null,114,2013,"2013-08-11",73.489999999999995,null,0.67741935483870963,0.45889698231009357,76.459999999999994,80.95,0,0]
[null,115,2013,"2013-08-10",76.459999999999994,null,0.70967741935483875,0.5036420395421437,80.95,77,0,0]
[null,116,2013,"2013-08-09",80.95,null,0.74193548387096775,0.55046826222684708,77,74.5,0,0]
[null,117,2013,"2013-08-08",77,null,0.77419354838709675,0.59937565036420393,74.5,71,0,0]
[null,118,2013,"2013-08-07",74.5,null,0.80645161290322576,0.65036420395421424,71,71,0,0]
[null,119,2013,"2013-08-06",71,null,0.83870967741935487,0.70343392299687835,71,73,0,0]
[null,120,2013,"2013-08-05",71,null,0.87096774193548387,0.75858480749219559,73,74.599999999999994,0,0]
[null,121,2013,"2013-08-04",73,null,0.90322580645161288,0.81581685744016641,74.599999999999994,77,0,0]
[null,122,2013,"2013-08-03",74.599999999999994,null,0.93548387096774188,0.8751300728407907,77,71.5,0,0]
[null,123,2013,"2013-08-02",77,null,0.967741935483871,0.93652445369406878,71.5,0,0,1]
[null,124,2013,"2013-08-01",71.5,null,1,1,0,0,1,0]
[null,125,2012,{"$f":"DATE(C133, 8, 31)","v":"2012-08-31"},78.5,null,{"$f":"G102","v":3.2258064516129031E-2},{"$f":"H102","v":1.0405827263267429E-3},{"$f":"E134","v":73},{"$f":"E135","v":74},0,0]
[null,126,2012,{"$f":"D133-1","v":"2012-08-30"},73,null,{"$f":"G103","v":6.4516129032258063E-2},4.1623309053069714E-3,74,81.5,0,0]
[null,127,2012,"2012-08-29",74,null,9.6774193548387094E-2,9.3652445369406864E-3,81.5,76.5,0,0]
[null,128,2012,"2012-08-28",81.5,null,0.12903225806451613,1.6649323621227886E-2,76.5,75.5,0,0]
[null,129,2012,"2012-08-27",76.5,null,0.16129032258064516,2.6014568158168574E-2,75.5,77.5,0,0]
[null,130,2012,"2012-08-26",75.5,null,0.19354838709677419,3.7460978147762745E-2,77.5,78.5,0,0]
[null,{"$f":"B138+1","v":131},2012,"2012-08-25",77.5,null,0.22580645161290322,5.0988553590010401E-2,78.5,76,0,0]
[null,132,2012,"2012-08-24",78.5,null,0.25806451612903225,6.6597294484911543E-2,76,76,0,0]
[null,133,2012,"2012-08-23",76,null,0.29032258064516131,8.4287200832466186E-2,76,75,0,0]
[null,134,2012,"2012-08-22",76,null,0.32258064516129031,0.1040582726326743,75,72,0,0]
[null,135,2012,"2012-08-21",75,null,0.35483870967741937,0.12591050988553593,72,67.5,0,0]
[null,136,2012,"2012-08-20",72,null,0.38709677419354838,0.14984391259105098,67.5,73.5,0,0]
[null,137,2012,"2012-08-19",67.5,null,0.41935483870967744,0.17585848074921959,73.5,79,0,0]
[null,138,2012,"2012-08-18",73.5,null,0.45161290322580644,0.2039542143600416,79,78,0,0]
[null,139,2012,"2012-08-17",79,null,0.4838709677419355,0.2341311134235172,78,77.5,0,0]
[null,140,2012,"2012-08-16",78,null,0.5161290322580645,0.26638917793964617,77.5,74.5,0,0]
[null,141,2012,"2012-08-15",77.5,null,0.54838709677419351,0.3007284079084287,74.5,78,0,0]
[null,142,2012,"2012-08-14",74.5,null,{"$f":"G119","v":0.58064516129032262},0.33714880332986474,78,80.5,0,0]
[null,143,2012,"2012-08-13",78,null,0.61290322580645162,0.3756503642039542,80.5,82,0,0]
[null,144,2012,"2012-08-12",80.5,null,0.64516129032258063,0.41623309053069718,82,77,0,0]
[null,145,2012,"2012-08-11",82,null,0.67741935483870963,0.45889698231009357,77,81.5,0,0]
[null,146,2012,"2012-08-10",77,null,0.70967741935483875,0.5036420395421437,81.5,80,0,0]
[null,147,2012,"2012-08-09",81.5,null,0.74193548387096775,0.55046826222684708,80,74.5,0,0]
[null,148,2012,"2012-08-08",80,null,0.77419354838709675,0.59937565036420393,74.5,81.5,0,0]
[null,149,2012,"2012-08-07",74.5,null,0.80645161290322576,0.65036420395421424,81.5,84.5,0,0]
[null,150,2012,"2012-08-06",81.5,null,0.83870967741935487,0.70343392299687835,84.5,83,0,0]
[null,151,2012,"2012-08-05",84.5,null,0.87096774193548387,0.75858480749219559,83,83.5,0,0]
[null,152,2012,"2012-08-04",83,null,0.90322580645161288,0.81581685744016641,83.5,80.5,0,0]
[null,153,2012,"2012-08-03",83.5,null,0.93548387096774188,0.8751300728407907,80.5,75.5,0,0]
[null,154,2012,"2012-08-02",80.5,null,0.967741935483871,0.93652445369406878,75.5,0,0,1]
[null,155,2012,"2012-08-01",75.5,null,1,1,0,0,1,0]
[null,156,2011,{"$f":"DATE(C164, 8, 31)","v":"2011-08-31"},74.5,null,{"$f":"G133","v":3.2258064516129031E-2},{"$f":"H133","v":1.0405827263267429E-3},{"$f":"E165","v":72.5},{"$f":"E166","v":68},0,0]
[null,157,{"$f":"C164","v":2011},{"$f":"D164-1","v":"2011-08-30"},72.5,null,{"$f":"G134","v":6.4516129032258063E-2},4.1623309053069714E-3,68,71,0,0]
[null,158,2011,"2011-08-29",68,null,9.6774193548387094E-2,9.3652445369406864E-3,71,77,0,0]
[null,159,2011,"2011-08-28",71,null,0.12903225806451613,1.6649323621227886E-2,77,78.5,0,0]
[null,160,2011,"2011-08-27",77,null,0.16129032258064516,2.6014568158168574E-2,78.5,76.5,0,0]
[null,161,2011,"2011-08-26",78.5,null,0.19354838709677419,3.7460978147762745E-2,76.5,72.5,0,0]
[null,162,2011,"2011-08-25",76.5,null,0.22580645161290322,5.0988553590010401E-2,72.5,72,0,0]
[null,163,2011,"2011-08-24",72.5,null,0.25806451612903225,6.6597294484911543E-2,72,74.5,0,0]
[null,164,2011,"2011-08-23",72,null,0.29032258064516131,8.4287200832466186E-2,74.5,79.5,0,0]
[null,165,2011,"2011-08-22",74.5,null,0.32258064516129031,0.1040582726326743,79.5,77,0,0]
[null,166,2011,"2011-08-21",79.5,null,0.35483870967741937,0.12591050988553593,77,76.5,0,0]
[null,167,2011,"2011-08-20",77,null,0.38709677419354838,0.14984391259105098,76.5,78,0,0]
[null,168,2011,"2011-08-19",76.5,null,0.41935483870967744,0.17585848074921959,78,77.5,0,0]
[null,169,2011,"2011-08-18",78,null,0.45161290322580644,0.2039542143600416,77.5,73.5,0,0]
[null,170,2011,"2011-08-17",77.5,null,0.4838709677419355,0.2341311134235172,73.5,75.5,0,0]
[null,171,2011,"2011-08-16",73.5,null,0.5161290322580645,0.26638917793964617,75.5,71.5,0,0]
[null,172,2011,"2011-08-15",75.5,null,0.54838709677419351,0.3007284079084287,71.5,78,0,0]
[null,173,2011,"2011-08-14",71.5,null,{"$f":"G150","v":0.58064516129032262},0.33714880332986474,78,75,0,0]
[null,174,2011,"2011-08-13",78,null,0.61290322580645162,0.3756503642039542,75,77.5,0,0]
[null,175,2011,"2011-08-12",75,null,0.64516129032258063,0.41623309053069718,77.5,80,0,0]
[null,176,2011,"2011-08-11",77.5,null,0.67741935483870963,0.45889698231009357,80,78,0,0]
[null,177,2011,"2011-08-10",80,null,0.70967741935483875,0.5036420395421437,78,85,0,0]
[null,178,2011,"2011-08-09",78,null,0.74193548387096775,0.55046826222684708,85,85,0,0]
[null,179,2011,"2011-08-08",85,null,0.77419354838709675,0.59937565036420393,85,78.5,0,0]
[null,180,2011,"2011-08-07",85,null,0.80645161290322576,0.65036420395421424,78.5,77.5,0,0]
[null,181,2011,"2011-08-06",78.5,null,0.83870967741935487,0.70343392299687835,77.5,76.5,0,0]
[null,182,2011,"2011-08-05",77.5,null,0.87096774193548387,0.75858480749219559,76.5,78,0,0]
[null,183,2011,"2011-08-04",76.5,null,0.90322580645161288,0.81581685744016641,78,83,0,0]
[null,184,2011,"2011-08-03",78,null,0.93548387096774188,0.8751300728407907,83,85.5,0,0]
[null,185,2011,"2011-08-02",83,null,0.967741935483871,0.93652445369406878,85.5,0,0,1]
[null,186,2011,"2011-08-01",85.5,null,1,1,0,0,1,0]
[null,187,{"$f":"C164-1","v":2010},{"$f":"DATE(C195, 8, 31)","v":"2010-08-31"},85.5,null,{"$f":"G164","v":3.2258064516129031E-2},{"$f":"H164","v":1.0405827263267429E-3},{"$f":"E196","v":83.5},{"$f":"E197","v":79},0,0]
[null,188,2010,{"$f":"D195-1","v":"2010-08-30"},83.5,null,{"$f":"G165","v":6.4516129032258063E-2},4.1623309053069714E-3,79,72,0,0]
[null,189,2010,"2010-08-29",79,null,9.6774193548387094E-2,9.3652445369406864E-3,72,70.5,0,0]
[null,190,2010,"2010-08-28",72,null,0.12903225806451613,1.6649323621227886E-2,70.5,75.5,0,0]
[null,191,2010,"2010-08-27",70.5,null,0.16129032258064516,2.6014568158168574E-2,75.5,68,0,0]
[null,192,2010,"2010-08-26",75.5,null,0.19354838709677419,3.7460978147762745E-2,68,68,0,0]
[null,193,2010,"2010-08-25",68,null,0.22580645161290322,5.0988553590010401E-2,68,68.5,0,0]
[null,194,2010,"2010-08-24",68,null,0.25806451612903225,6.6597294484911543E-2,68.5,76,0,0]
[null,{"$f":"B202+1","v":195},2010,"2010-08-23",68.5,null,0.29032258064516131,8.4287200832466186E-2,76,73.5,0,0]
[null,196,2010,"2010-08-22",76,null,0.32258064516129031,0.1040582726326743,73.5,80.5,0,0]
[null,197,2010,"2010-08-21",73.5,null,0.35483870967741937,0.12591050988553593,80.5,78,0,0]
[null,198,2010,"2010-08-20",80.5,null,0.38709677419354838,0.14984391259105098,78,77,0,0]
[null,199,2010,"2010-08-19",78,null,0.41935483870967744,0.17585848074921959,77,82.5,0,0]
[null,200,2010,"2010-08-18",77,null,0.45161290322580644,0.2039542143600416,82.5,80,0,0]
[null,201,2010,"2010-08-17",82.5,null,0.4838709677419355,0.2341311134235172,80,73.5,0,0]
[null,202,2010,"2010-08-16",80,null,0.5161290322580645,0.26638917793964617,73.5,74,0,0]
[null,203,2010,"2010-08-15",73.5,null,0.54838709677419351,0.3007284079084287,74,75.5,0,0]
[null,204,2010,"2010-08-14",74,null,{"$f":"G181","v":0.58064516129032262},0.33714880332986474,75.5,74,0,0]
[null,205,2010,"2010-08-13",75.5,null,0.61290322580645162,0.3756503642039542,74,85,0,0]
[null,206,2010,"2010-08-12",74,null,0.64516129032258063,0.41623309053069718,85,85,0,0]
[null,207,2010,"2010-08-11",85,null,0.67741935483870963,0.45889698231009357,85,84.5,0,0]
[null,208,2010,"2010-08-10",85,null,0.70967741935483875,0.5036420395421437,84.5,80,0,0]
[null,209,2010,"2010-08-09",84.5,null,0.74193548387096775,0.55046826222684708,80,76,0,0]
[null,210,2010,"2010-08-08",80,null,0.77419354838709675,0.59937565036420393,76,81,0,0]
[null,211,2010,"2010-08-07",76,null,0.80645161290322576,0.65036420395421424,81,87.5,0,0]
[null,212,2010,"2010-08-06",81,null,0.83870967741935487,0.70343392299687835,87.5,83,0,0]
[null,213,2010,"2010-08-05",87.5,null,0.87096774193548387,0.75858480749219559,83,80.5,0,0]
[null,214,2010,"2010-08-04",83,null,0.90322580645161288,0.81581685744016641,80.5,77,0,0]
[null,215,2010,"2010-08-03",80.5,null,0.93548387096774188,0.8751300728407907,77,74,0,0]
[null,216,2010,"2010-08-02",77,null,0.967741935483871,0.93652445369406878,74,0,0,1]
[null,217,2010,"2010-08-01",74,null,1,1,0,0,1,0]
[null,218,2009,{"$f":"DATE(C226, 8, 31)","v":"2009-08-31"},67,null,{"$f":"G195","v":3.2258064516129031E-2},{"$f":"H195","v":1.0405827263267429E-3},{"$f":"E227","v":76},{"$f":"E228","v":71},0,0]
[null,219,2009,{"$f":"D226-1","v":"2009-08-30"},76,null,{"$f":"G196","v":6.4516129032258063E-2},4.1623309053069714E-3,71,69,0,0]
[null,220,2009,"2009-08-29",71,null,9.6774193548387094E-2,9.3652445369406864E-3,69,73.5,0,0]
[null,221,2009,"2009-08-28",69,null,0.12903225806451613,1.6649323621227886E-2,73.5,79,0,0]
[null,222,2009,"2009-08-27",73.5,null,0.16129032258064516,2.6014568158168574E-2,79,77,0,0]
[null,223,2009,"2009-08-26",79,null,0.19354838709677419,3.7460978147762745E-2,77,78,0,0]
[null,224,2009,"2009-08-25",77,null,0.22580645161290322,5.0988553590010401E-2,78,79,0,0]
[null,225,2009,"2009-08-24",78,null,0.25806451612903225,6.6597294484911543E-2,79,77.5,0,0]
[null,226,2009,"2009-08-23",79,null,0.29032258064516131,8.4287200832466186E-2,77.5,83.5,0,0]
[null,227,2009,"2009-08-22",77.5,null,0.32258064516129031,0.1040582726326743,83.5,83,0,0]
[null,228,2009,"2009-08-21",83.5,null,0.35483870967741937,0.12591050988553593,83,83,0,0]
[null,229,2009,"2009-08-20",83,null,0.38709677419354838,0.14984391259105098,83,81,0,0]
[null,230,2009,"2009-08-19",83,null,0.41935483870967744,0.17585848074921959,81,83.5,0,0]
[null,231,2009,"2009-08-18",81,null,0.45161290322580644,0.2039542143600416,83.5,81.5,0,0]
[null,232,2009,"2009-08-17",83.5,null,0.4838709677419355,0.2341311134235172,81.5,79.5,0,0]
[null,233,2009,"2009-08-16",81.5,null,0.5161290322580645,0.26638917793964617,79.5,78,0,0]
[null,234,2009,"2009-08-15",79.5,null,0.54838709677419351,0.3007284079084287,78,72,0,0]
[null,235,2009,"2009-08-14",78,null,{"$f":"G212","v":0.58064516129032262},0.33714880332986474,72,78.5,0,0]
[null,236,2009,"2009-08-13",72,null,0.61290322580645162,0.3756503642039542,78.5,84,0,0]
[null,237,2009,"2009-08-12",78.5,null,0.64516129032258063,0.41623309053069718,84,83,0,0]
[null,238,2009,"2009-08-11",84,null,0.67741935483870963,0.45889698231009357,83,74.5,0,0]
[null,239,2009,"2009-08-10",83,null,0.70967741935483875,0.5036420395421437,74.5,70.5,0,0]
[null,240,2009,"2009-08-09",74.5,null,0.74193548387096775,0.55046826222684708,70.5,74,0,0]
[null,241,2009,"2009-08-08",70.5,null,0.77419354838709675,0.59937565036420393,74,74,0,0]
[null,242,2009,"2009-08-07",74,null,0.80645161290322576,0.65036420395421424,74,82,0,0]
[null,243,2009,"2009-08-06",74,null,0.83870967741935487,0.70343392299687835,82,76.5,0,0]
[null,244,2009,"2009-08-05",82,null,0.87096774193548387,0.75858480749219559,76.5,78.5,0,0]
[null,245,2009,"2009-08-04",76.5,null,0.90322580645161288,0.81581685744016641,78.5,72.5,0,0]
[null,246,2009,"2009-08-03",78.5,null,0.93548387096774188,0.8751300728407907,72.5,74.5,0,0]
[null,247,2009,"2009-08-02",72.5,null,0.967741935483871,0.93652445369406878,74.5,0,0,1]
[null,248,2009,"2009-08-01",74.5,null,1,1,0,0,1,0]
[null,249,2008,{"$f":"DATE(C257, 8, 31)","v":"2008-08-31"},75,null,{"$f":"G226","v":3.2258064516129031E-2},{"$f":"H226","v":1.0405827263267429E-3},{"$f":"E258","v":76},{"$f":"E259","v":74.5},0,0]
[null,250,2008,{"$f":"D257-1","v":"2008-08-30"},76,null,{"$f":"G227","v":6.4516129032258063E-2},4.1623309053069714E-3,74.5,71,0,0]
[null,251,{"$f":"C228-1","v":2008},"2008-08-29",74.5,null,9.6774193548387094E-2,9.3652445369406864E-3,71,69,0,0]
[null,252,2008,"2008-08-28",71,null,0.12903225806451613,1.6649323621227886E-2,69,70.5,0,0]
[null,253,2008,"2008-08-27",69,null,0.16129032258064516,2.6014568158168574E-2,70.5,76,0,0]
[null,254,2008,"2008-08-26",70.5,null,0.19354838709677419,3.7460978147762745E-2,76,75,0,0]
[null,255,2008,"2008-08-25",76,null,0.22580645161290322,5.0988553590010401E-2,75,70.5,0,0]
[null,256,2008,"2008-08-24",75,null,0.25806451612903225,6.6597294484911543E-2,70.5,73,0,0]
[null,257,2008,"2008-08-23",70.5,null,0.29032258064516131,8.4287200832466186E-2,73,71,0,0]
[null,258,2008,"2008-08-22",73,null,0.32258064516129031,0.1040582726326743,71,68.5,0,0]
[null,{"$f":"B266+1","v":259},2008,"2008-08-21",71,null,0.35483870967741937,0.12591050988553593,68.5,76,0,0]
[null,260,2008,"2008-08-20",68.5,null,0.38709677419354838,0.14984391259105098,76,77.5,0,0]
[null,261,2008,"2008-08-19",76,null,0.41935483870967744,0.17585848074921959,77.5,74,0,0]
[null,262,2008,"2008-08-18",77.5,null,0.45161290322580644,0.2039542143600416,74,73.5,0,0]
[null,263,2008,"2008-08-17",74,null,0.4838709677419355,0.2341311134235172,73.5,73.5,0,0]
[null,264,2008,"2008-08-16",73.5,null,0.5161290322580645,0.26638917793964617,73.5,75,0,0]
[null,265,2008,"2008-08-15",73.5,null,0.54838709677419351,0.3007284079084287,75,73,0,0]
[null,266,2008,"2008-08-14",75,null,{"$f":"G243","v":0.58064516129032262},0.33714880332986474,73,71.5,0,0]
[null,267,2008,"2008-08-13",73,null,0.61290322580645162,0.3756503642039542,71.5,68,0,0]
[null,268,2008,"2008-08-12",71.5,null,0.64516129032258063,0.41623309053069718,68,72.5,0,0]
[null,269,2008,"2008-08-11",68,null,0.67741935483870963,0.45889698231009357,72.5,72.5,0,0]
[null,270,2008,"2008-08-10",72.5,null,0.70967741935483875,0.5036420395421437,72.5,74,0,0]
[null,271,2008,"2008-08-09",72.5,null,0.74193548387096775,0.55046826222684708,74,78.5,0,0]
[null,272,2008,"2008-08-08",74,null,0.77419354838709675,0.59937565036420393,78.5,81,0,0]
[null,273,2008,"2008-08-07",78.5,null,0.80645161290322576,0.65036420395421424,81,77,0,0]
[null,274,2008,"2008-08-06",81,null,0.83870967741935487,0.70343392299687835,77,76.5,0,0]
[null,275,2008,"2008-08-05",77,null,0.87096774193548387,0.75858480749219559,76.5,75.5,0,0]
[null,276,2008,"2008-08-04",76.5,null,0.90322580645161288,0.81581685744016641,75.5,75,0,0]
[null,277,2008,"2008-08-03",75.5,null,0.93548387096774188,0.8751300728407907,75,82,0,0]
[null,278,2008,"2008-08-02",75,null,0.967741935483871,0.93652445369406878,82,0,0,1]
[null,279,2008,"2008-08-01",82,null,1,1,0,0,1,0]
[null,280,2007,{"$f":"DATE(C288, 8, 31)","v":"2007-08-31"},75,null,{"$f":"G257","v":3.2258064516129031E-2},{"$f":"H257","v":1.0405827263267429E-3},{"$f":"E289","v":76},{"$f":"E290","v":75.5},0,0]
[null,281,2007,{"$f":"D288-1","v":"2007-08-30"},76,null,{"$f":"G258","v":6.4516129032258063E-2},4.1623309053069714E-3,75.5,75,0,0]
[null,282,2007,"2007-08-29",75.5,null,9.6774193548387094E-2,9.3652445369406864E-3,75,75.5,0,0]
[null,283,2007,"2007-08-28",75,null,0.12903225806451613,1.6649323621227886E-2,75.5,77.5,0,0]
[null,284,2007,"2007-08-27",75.5,null,0.16129032258064516,2.6014568158168574E-2,77.5,81.5,0,0]
[null,285,2007,"2007-08-26",77.5,null,0.19354838709677419,3.7460978147762745E-2,81.5,75,0,0]
[null,286,2007,"2007-08-25",81.5,null,0.22580645161290322,5.0988553590010401E-2,75,69,0,0]
[null,287,2007,"2007-08-24",75,null,0.25806451612903225,6.6597294484911543E-2,69,62.5,0,0]
[null,288,2007,"2007-08-23",69,null,0.29032258064516131,8.4287200832466186E-2,62.5,59,0,0]
[null,289,2007,"2007-08-22",62.5,null,0.32258064516129031,0.1040582726326743,59,65.5,0,0]
[null,290,2007,"2007-08-21",59,null,0.35483870967741937,0.12591050988553593,65.5,67,0,0]
[null,291,2007,"2007-08-20",65.5,null,0.38709677419354838,0.14984391259105098,67,67.5,0,0]
[null,292,2007,"2007-08-19",67,null,0.41935483870967744,0.17585848074921959,67.5,75,0,0]
[null,293,2007,"2007-08-18",67.5,null,0.45161290322580644,0.2039542143600416,75,81,0,0]
[null,294,2007,"2007-08-17",75,null,0.4838709677419355,0.2341311134235172,81,75.5,0,0]
[null,295,2007,"2007-08-16",81,null,0.5161290322580645,0.26638917793964617,75.5,72.5,0,0]
[null,296,2007,"2007-08-15",75.5,null,0.54838709677419351,0.3007284079084287,72.5,80,0,0]
[null,297,2007,"2007-08-14",72.5,null,{"$f":"G274","v":0.58064516129032262},0.33714880332986474,80,78,0,0]
[null,298,2007,"2007-08-13",80,null,0.61290322580645162,0.3756503642039542,78,70.5,0,0]
[null,299,2007,"2007-08-12",78,null,0.64516129032258063,0.41623309053069718,70.5,66,0,0]
[null,300,2007,"2007-08-11",70.5,null,0.67741935483870963,0.45889698231009357,66,78,0,0]
[null,301,2007,"2007-08-10",66,null,0.70967741935483875,0.5036420395421437,78,85,0,0]
[null,302,2007,"2007-08-09",78,null,0.74193548387096775,0.55046826222684708,85,83.5,0,0]
[null,303,2007,"2007-08-08",85,null,0.77419354838709675,0.59937565036420393,83.5,80,0,0]
[null,304,2007,"2007-08-07",83.5,null,0.80645161290322576,0.65036420395421424,80,75.5,0,0]
[null,305,2007,"2007-08-06",80,null,0.83870967741935487,0.70343392299687835,75.5,82,0,0]
[null,306,2007,"2007-08-05",75.5,null,0.87096774193548387,0.75858480749219559,82,84.5,0,0]
[null,307,2007,"2007-08-04",82,null,0.90322580645161288,0.81581685744016641,84.5,83,0,0]
[null,308,2007,"2007-08-03",84.5,null,0.93548387096774188,0.8751300728407907,83,82,0,0]
[null,309,2007,"2007-08-02",83,null,0.967741935483871,0.93652445369406878,82,0,0,1]
[null,310,2007,"2007-08-01",82,null,1,1,0,0,1,0]
[null,311,2006,{"$f":"DATE(C319, 8, 31)","v":"2006-08-31"},67.5,null,{"$f":"G288","v":3.2258064516129031E-2},{"$f":"H288","v":1.0405827263267429E-3},{"$f":"E320","v":69.5},{"$f":"E321","v":69.5},0,0]
[null,312,{"$f":"C319","v":2006},{"$f":"D319-1","v":"2006-08-30"},69.5,null,{"$f":"G289","v":6.4516129032258063E-2},4.1623309053069714E-3,69.5,75.5,0,0]
[null,313,2006,"2006-08-29",69.5,null,9.6774193548387094E-2,9.3652445369406864E-3,75.5,70.5,0,0]
[null,314,2006,"2006-08-28",75.5,null,0.12903225806451613,1.6649323621227886E-2,70.5,68,0,0]
[null,315,2006,"2006-08-27",70.5,null,0.16129032258064516,2.6014568158168574E-2,68,74,0,0]
[null,316,2006,"2006-08-26",68,null,0.19354838709677419,3.7460978147762745E-2,74,75,0,0]
[null,317,2006,"2006-08-25",74,null,0.22580645161290322,5.0988553590010401E-2,75,79,0,0]
[null,318,2006,"2006-08-24",75,null,0.25806451612903225,6.6597294484911543E-2,79,78.5,0,0]
[null,319,2006,"2006-08-23",79,null,0.29032258064516131,8.4287200832466186E-2,78.5,78.5,0,0]
[null,320,2006,"2006-08-22",78.5,null,0.32258064516129031,0.1040582726326743,78.5,84,0,0]
[null,321,2006,"2006-08-21",78.5,null,0.35483870967741937,0.12591050988553593,84,75,0,0]
[null,322,2006,"2006-08-20",84,null,0.38709677419354838,0.14984391259105098,75,76.5,0,0]
[null,{"$f":"B330+1","v":323},2006,"2006-08-19",75,null,0.41935483870967744,0.17585848074921959,76.5,78.5,0,0]
[null,324,2006,"2006-08-18",76.5,null,0.45161290322580644,0.2039542143600416,78.5,77.5,0,0]
[null,325,2006,"2006-08-17",78.5,null,0.4838709677419355,0.2341311134235172,77.5,78.5,0,0]
[null,326,2006,"2006-08-16",77.5,null,0.5161290322580645,0.26638917793964617,78.5,76,0,0]
[null,327,2006,"2006-08-15",78.5,null,0.54838709677419351,0.3007284079084287,76,71,0,0]
[null,328,2006,"2006-08-14",76,null,{"$f":"G305","v":0.58064516129032262},0.33714880332986474,71,70.5,0,0]
[null,329,2006,"2006-08-13",71,null,0.61290322580645162,0.3756503642039542,70.5,73.5,0,0]
[null,330,2006,"2006-08-12",70.5,null,0.64516129032258063,0.41623309053069718,73.5,76,0,0]
[null,331,2006,"2006-08-11",73.5,null,0.67741935483870963,0.45889698231009357,76,75,0,0]
[null,332,2006,"2006-08-10",76,null,0.70967741935483875,0.5036420395421437,75,81,0,0]
[null,333,2006,"2006-08-09",75,null,0.74193548387096775,0.55046826222684708,81,82,0,0]
[null,334,2006,"2006-08-08",81,null,0.77419354838709675,0.59937565036420393,82,77.5,0,0]
[null,335,2006,"2006-08-07",82,null,0.80645161290322576,0.65036420395421424,77.5,83,0,0]
[null,336,2006,"2006-08-06",77.5,null,0.83870967741935487,0.70343392299687835,83,84,0,0]
[null,337,2006,"2006-08-05",83,null,0.87096774193548387,0.75858480749219559,84,90.5,0,0]
[null,338,2006,"2006-08-04",84,null,0.90322580645161288,0.81581685744016641,90.5,90.5,0,0]
[null,339,2006,"2006-08-03",90.5,null,0.93548387096774188,0.8751300728407907,90.5,89,0,0]
[null,340,2006,"2006-08-02",90.5,null,0.967741935483871,0.93652445369406878,89,0,0,1]
[null,341,2006,"2006-08-01",89,null,1,1,0,0,1,0]
[null,342,{"$f":"C319-1","v":2005},{"$f":"DATE(C350, 8, 31)","v":"2005-08-31"},83.5,null,{"$f":"G319","v":3.2258064516129031E-2},{"$f":"H319","v":1.0405827263267429E-3},{"$f":"E351","v":81},{"$f":"E352","v":79.5},0,0]
[null,343,2005,{"$f":"D350-1","v":"2005-08-30"},81,null,{"$f":"G320","v":6.4516129032258063E-2},4.1623309053069714E-3,79.5,77.5,0,0]
[null,344,2005,"2005-08-29",79.5,null,9.6774193548387094E-2,9.3652445369406864E-3,77.5,75.5,0,0]
[null,345,2005,"2005-08-28",77.5,null,0.12903225806451613,1.6649323621227886E-2,75.5,74.5,0,0]
[null,346,2005,"2005-08-27",75.5,null,0.16129032258064516,2.6014568158168574E-2,74.5,74,0,0]
[null,347,2005,"2005-08-26",74.5,null,0.19354838709677419,3.7460978147762745E-2,74,75.5,0,0]
[null,348,2005,"2005-08-25",74,null,0.22580645161290322,5.0988553590010401E-2,75.5,76.5,0,0]
[null,349,2005,"2005-08-24",75.5,null,0.25806451612903225,6.6597294484911543E-2,76.5,81.5,0,0]
[null,350,2005,"2005-08-23",76.5,null,0.29032258064516131,8.4287200832466186E-2,81.5,86,0,0]
[null,351,2005,"2005-08-22",81.5,null,0.32258064516129031,0.1040582726326743,86,79.5,0,0]
[null,352,2005,"2005-08-21",86,null,0.35483870967741937,0.12591050988553593,79.5,75,0,0]
[null,353,2005,"2005-08-20",79.5,null,0.38709677419354838,0.14984391259105098,75,74.5,0,0]
[null,354,2005,"2005-08-19",75,null,0.41935483870967744,0.17585848074921959,74.5,79,0,0]
[null,355,2005,"2005-08-18",74.5,null,0.45161290322580644,0.2039542143600416,79,73.5,0,0]
[null,356,2005,"2005-08-17",79,null,0.4838709677419355,0.2341311134235172,73.5,76,0,0]
[null,357,2005,"2005-08-16",73.5,null,0.5161290322580645,0.26638917793964617,76,86,0,0]
[null,358,2005,"2005-08-15",76,null,0.54838709677419351,0.3007284079084287,86,91,0,0]
[null,359,2005,"2005-08-14",86,null,{"$f":"G336","v":0.58064516129032262},0.33714880332986474,91,86,0,0]
[null,360,2005,"2005-08-13",91,null,0.61290322580645162,0.3756503642039542,86,85.5,0,0]
[null,361,2005,"2005-08-12",86,null,0.64516129032258063,0.41623309053069718,85.5,80.5,0,0]
[null,362,2005,"2005-08-11",85.5,null,0.67741935483870963,0.45889698231009357,80.5,78,0,0]
[null,363,2005,"2005-08-10",80.5,null,0.70967741935483875,0.5036420395421437,78,79,0,0]
[null,364,2005,"2005-08-09",78,null,0.74193548387096775,0.55046826222684708,79,78.5,0,0]
[null,365,2005,"2005-08-08",79,null,0.77419354838709675,0.59937565036420393,78.5,79.5,0,0]
[null,366,2005,"2005-08-07",78.5,null,0.80645161290322576,0.65036420395421424,79.5,89,0,0]
[null,367,2005,"2005-08-06",79.5,null,0.83870967741935487,0.70343392299687835,89,85.5,0,0]
[null,368,2005,"2005-08-05",89,null,0.87096774193548387,0.75858480749219559,85.5,86,0,0]
[null,369,2005,"2005-08-04",85.5,null,0.90322580645161288,0.81581685744016641,86,85,0,0]
[null,370,2005,"2005-08-03",86,null,0.93548387096774188,0.8751300728407907,85,80,0,0]
[null,371,2005,"2005-08-02",85,null,0.967741935483871,0.93652445369406878,80,0,0,1]
[null,372,2005,"2005-08-01",80,null,1,1,0,0,1,0]
[null,373,2004,{"$f":"DATE(C381, 8, 31)","v":"2004-08-31"},77.5,null,{"$f":"G350","v":3.2258064516129031E-2},{"$f":"H350","v":1.0405827263267429E-3},{"$f":"E382","v":79.5},{"$f":"E383","v":80.5},0,0]
[null,374,2004,{"$f":"D381-1","v":"2004-08-30"},79.5,null,{"$f":"G351","v":6.4516129032258063E-2},4.1623309053069714E-3,80.5,81.5,0,0]
[null,375,2004,"2004-08-29",80.5,null,9.6774193548387094E-2,9.3652445369406864E-3,81.5,77.5,0,0]
[null,376,2004,"2004-08-28",81.5,null,0.12903225806451613,1.6649323621227886E-2,77.5,69,0,0]
[null,377,2004,"2004-08-27",77.5,null,0.16129032258064516,2.6014568158168574E-2,69,71,0,0]
[null,378,2004,"2004-08-26",69,null,0.19354838709677419,3.7460978147762745E-2,71,73,0,0]
[null,379,2004,"2004-08-25",71,null,0.22580645161290322,5.0988553590010401E-2,73,71,0,0]
[null,380,2004,"2004-08-24",73,null,0.25806451612903225,6.6597294484911543E-2,71,66,0,0]
[null,381,2004,"2004-08-23",71,null,0.29032258064516131,8.4287200832466186E-2,66,74.5,0,0]
[null,382,2004,"2004-08-22",66,null,0.32258064516129031,0.1040582726326743,74.5,83,0,0]
[null,383,2004,"2004-08-21",74.5,null,0.35483870967741937,0.12591050988553593,83,78,0,0]
[null,384,2004,"2004-08-20",83,null,0.38709677419354838,0.14984391259105098,78,72.5,0,0]
[null,385,2004,"2004-08-19",78,null,0.41935483870967744,0.17585848074921959,72.5,70,0,0]
[null,386,2004,"2004-08-18",72.5,null,0.45161290322580644,0.2039542143600416,70,68.5,0,0]
[null,{"$f":"B394+1","v":387},2004,"2004-08-17",70,null,0.4838709677419355,0.2341311134235172,68.5,71.5,0,0]
[null,388,2004,"2004-08-16",68.5,null,0.5161290322580645,0.26638917793964617,71.5,73.5,0,0]
[null,389,2004,"2004-08-15",71.5,null,0.54838709677419351,0.3007284079084287,73.5,75.5,0,0]
[null,390,2004,"2004-08-14",73.5,null,{"$f":"G367","v":0.58064516129032262},0.33714880332986474,75.5,77,0,0]
[null,391,2004,"2004-08-13",75.5,null,0.61290322580645162,0.3756503642039542,77,77,0,0]
[null,392,2004,"2004-08-12",77,null,0.64516129032258063,0.41623309053069718,77,75,0,0]
[null,393,2004,"2004-08-11",77,null,0.67741935483870963,0.45889698231009357,75,75.5,0,0]
[null,394,2004,"2004-08-10",75,null,0.70967741935483875,0.5036420395421437,75.5,69,0,0]
[null,395,2004,"2004-08-09",75.5,null,0.74193548387096775,0.55046826222684708,69,65.5,0,0]
[null,396,2004,"2004-08-08",69,null,0.77419354838709675,0.59937565036420393,65.5,68,0,0]
[null,397,2004,"2004-08-07",65.5,null,0.80645161290322576,0.65036420395421424,68,72.5,0,0]
[null,398,2004,"2004-08-06",68,null,0.83870967741935487,0.70343392299687835,72.5,81,0,0]
[null,399,2004,"2004-08-05",72.5,null,0.87096774193548387,0.75858480749219559,81,79,0,0]
[null,400,2004,"2004-08-04",81,null,0.90322580645161288,0.81581685744016641,79,80,0,0]
[null,401,2004,"2004-08-03",79,null,0.93548387096774188,0.8751300728407907,80,77.5,0,0]
[null,402,2004,"2004-08-02",80,null,0.967741935483871,0.93652445369406878,77.5,0,0,1]
[null,403,2004,"2004-08-01",77.5,null,1,1,0,0,1,0]
[null,404,2003,{"$f":"DATE(C412, 8, 31)","v":"2003-08-31"},68,null,{"$f":"G381","v":3.2258064516129031E-2},{"$f":"H381","v":1.0405827263267429E-3},{"$f":"E413","v":77},{"$f":"E414","v":76},0,0]
[null,405,2003,{"$f":"D412-1","v":"2003-08-30"},77,null,{"$f":"G382","v":6.4516129032258063E-2},4.1623309053069714E-3,76,77.5,0,0]
[null,406,{"$f":"C383-1","v":2003},"2003-08-29",76,null,9.6774193548387094E-2,9.3652445369406864E-3,77.5,80.5,0,0]
[null,407,2003,"2003-08-28",77.5,null,0.12903225806451613,1.6649323621227886E-2,80.5,78.5,0,0]
[null,408,2003,"2003-08-27",80.5,null,0.16129032258064516,2.6014568158168574E-2,78.5,75.5,0,0]
[null,409,2003,"2003-08-26",78.5,null,0.19354838709677419,3.7460978147762745E-2,75.5,71.5,0,0]
[null,410,2003,"2003-08-25",75.5,null,0.22580645161290322,5.0988553590010401E-2,71.5,76.5,0,0]
[null,411,2003,"2003-08-24",71.5,null,0.25806451612903225,6.6597294484911543E-2,76.5,84,0,0]
[null,412,2003,"2003-08-23",76.5,null,0.29032258064516131,8.4287200832466186E-2,84,81.5,0,0]
[null,413,2003,"2003-08-22",84,null,0.32258064516129031,0.1040582726326743,81.5,78.5,0,0]
[null,414,2003,"2003-08-21",81.5,null,0.35483870967741937,0.12591050988553593,78.5,77,0,0]
[null,415,2003,"2003-08-20",78.5,null,0.38709677419354838,0.14984391259105098,77,72,0,0]
[null,416,2003,"2003-08-19",77,null,0.41935483870967744,0.17585848074921959,72,75,0,0]
[null,417,2003,"2003-08-18",72,null,0.45161290322580644,0.2039542143600416,75,80.5,0,0]
[null,418,2003,"2003-08-17",75,null,0.4838709677419355,0.2341311134235172,80.5,81.5,0,0]
[null,419,2003,"2003-08-16",80.5,null,0.5161290322580645,0.26638917793964617,81.5,83,0,0]
[null,420,2003,"2003-08-15",81.5,null,0.54838709677419351,0.3007284079084287,83,82.5,0,0]
[null,421,2003,"2003-08-14",83,null,{"$f":"G398","v":0.58064516129032262},0.33714880332986474,82.5,78.5,0,0]
[null,422,2003,"2003-08-13",82.5,null,0.61290322580645162,0.3756503642039542,78.5,77,0,0]
[null,423,2003,"2003-08-12",78.5,null,0.64516129032258063,0.41623309053069718,77,78,0,0]
[null,424,2003,"2003-08-11",77,null,0.67741935483870963,0.45889698231009357,78,76.5,0,0]
[null,425,2003,"2003-08-10",78,null,0.70967741935483875,0.5036420395421437,76.5,77,0,0]
[null,426,2003,"2003-08-09",76.5,null,0.74193548387096775,0.55046826222684708,77,75.5,0,0]
[null,427,2003,"2003-08-08",77,null,0.77419354838709675,0.59937565036420393,75.5,75.5,0,0]
[null,428,2003,"2003-08-07",75.5,null,0.80645161290322576,0.65036420395421424,75.5,75,0,0]
[null,429,2003,"2003-08-06",75.5,null,0.83870967741935487,0.70343392299687835,75,80,0,0]
[null,430,2003,"2003-08-05",75,null,0.87096774193548387,0.75858480749219559,80,81,0,0]
[null,431,2003,"2003-08-04",80,null,0.90322580645161288,0.81581685744016641,81,79,0,0]
[null,432,2003,"2003-08-03",81,null,0.93548387096774188,0.8751300728407907,79,75.5,0,0]
[null,433,2003,"2003-08-02",79,null,0.967741935483871,0.93652445369406878,75.5,0,0,1]
[null,434,2003,"2003-08-01",75.5,null,1,1,0,0,1,0]
[null,435,2002,{"$f":"DATE(C443, 8, 31)","v":"2002-08-31"},68,null,{"$f":"G412","v":3.2258064516129031E-2},{"$f":"H412","v":1.0405827263267429E-3},{"$f":"E444","v":66.5},{"$f":"E445","v":62.5},0,0]
[null,436,2002,{"$f":"D443-1","v":"2002-08-30"},66.5,null,{"$f":"G413","v":6.4516129032258063E-2},4.1623309053069714E-3,62.5,70,0,0]
[null,437,2002,"2002-08-29",62.5,null,9.6774193548387094E-2,9.3652445369406864E-3,70,75,0,0]
[null,438,2002,"2002-08-28",70,null,0.12903225806451613,1.6649323621227886E-2,75,76,0,0]
[null,439,2002,"2002-08-27",75,null,0.16129032258064516,2.6014568158168574E-2,76,74.5,0,0]
[null,440,2002,"2002-08-26",76,null,0.19354838709677419,3.7460978147762745E-2,74.5,70.5,0,0]
[null,441,2002,"2002-08-25",74.5,null,0.22580645161290322,5.0988553590010401E-2,70.5,74.5,0,0]
[null,442,2002,"2002-08-24",70.5,null,0.25806451612903225,6.6597294484911543E-2,74.5,77,0,0]
[null,443,2002,"2002-08-23",74.5,null,0.29032258064516131,8.4287200832466186E-2,77,75.5,0,0]
[null,444,2002,"2002-08-22",77,null,0.32258064516129031,0.1040582726326743,75.5,75,0,0]
[null,445,2002,"2002-08-21",75.5,null,0.35483870967741937,0.12591050988553593,75,86,0,0]
[null,446,2002,"2002-08-20",75,null,0.38709677419354838,0.14984391259105098,86,87,0,0]
[null,447,2002,"2002-08-19",86,null,0.41935483870967744,0.17585848074921959,87,85.5,0,0]
[null,448,2002,"2002-08-18",87,null,0.45161290322580644,0.2039542143600416,85.5,86,0,0]
[null,449,2002,"2002-08-17",85.5,null,0.4838709677419355,0.2341311134235172,86,83.5,0,0]
[null,450,2002,"2002-08-16",86,null,0.5161290322580645,0.26638917793964617,83.5,85,0,0]
[null,{"$f":"B458+1","v":451},2002,"2002-08-15",83.5,null,0.54838709677419351,0.3007284079084287,85,87.5,0,0]
[null,452,2002,"2002-08-14",85,null,{"$f":"G429","v":0.58064516129032262},0.33714880332986474,87.5,81.5,0,0]
[null,453,2002,"2002-08-13",87.5,null,0.61290322580645162,0.3756503642039542,81.5,79,0,0]
[null,454,2002,"2002-08-12",81.5,null,0.64516129032258063,0.41623309053069718,79,77,0,0]
[null,455,2002,"2002-08-11",79,null,0.67741935483870963,0.45889698231009357,77,75,0,0]
[null,456,2002,"2002-08-10",77,null,0.70967741935483875,0.5036420395421437,75,73.5,0,0]
[null,457,2002,"2002-08-09",75,null,0.74193548387096775,0.55046826222684708,73.5,72,0,0]
[null,458,2002,"2002-08-08",73.5,null,0.77419354838709675,0.59937565036420393,72,73,0,0]
[null,459,2002,"2002-08-07",72,null,0.80645161290322576,0.65036420395421424,73,84.5,0,0]
[null,460,2002,"2002-08-06",73,null,0.83870967741935487,0.70343392299687835,84.5,83,0,0]
[null,461,2002,"2002-08-05",84.5,null,0.87096774193548387,0.75858480749219559,83,80,0,0]
[null,462,2002,"2002-08-04",83,null,0.90322580645161288,0.81581685744016641,80,83,0,0]
[null,463,2002,"2002-08-03",80,null,0.93548387096774188,0.8751300728407907,83,88,0,0]
[null,464,2002,"2002-08-02",83,null,0.967741935483871,0.93652445369406878,88,0,0,1]
[null,465,2002,"2002-08-01",88,null,1,1,0,0,1,0]
[null,466,2001,{"$f":"DATE(C474, 8, 31)","v":"2001-08-31"},79.5,null,{"$f":"G443","v":3.2258064516129031E-2},{"$f":"H443","v":1.0405827263267429E-3},{"$f":"E475","v":73},{"$f":"E476","v":75.5},0,0]
[null,467,{"$f":"C474","v":2001},{"$f":"D474-1","v":"2001-08-30"},73,null,{"$f":"G444","v":6.4516129032258063E-2},4.1623309053069714E-3,75.5,79,0,0]
[null,468,2001,"2001-08-29",75.5,null,9.6774193548387094E-2,9.3652445369406864E-3,79,79,0,0]
[null,469,2001,"2001-08-28",79,null,0.12903225806451613,1.6649323621227886E-2,79,71.5,0,0]
[null,470,2001,"2001-08-27",79,null,0.16129032258064516,2.6014568158168574E-2,71.5,72,0,0]
[null,471,2001,"2001-08-26",71.5,null,0.19354838709677419,3.7460978147762745E-2,72,75,0,0]
[null,472,2001,"2001-08-25",72,null,0.22580645161290322,5.0988553590010401E-2,75,75.5,0,0]
[null,473,2001,"2001-08-24",75,null,0.25806451612903225,6.6597294484911543E-2,75.5,78,0,0]
[null,474,2001,"2001-08-23",75.5,null,0.29032258064516131,8.4287200832466186E-2,78,77,0,0]
[null,475,2001,"2001-08-22",78,null,0.32258064516129031,0.1040582726326743,77,81,0,0]
[null,476,2001,"2001-08-21",77,null,0.35483870967741937,0.12591050988553593,81,78,0,0]
[null,477,2001,"2001-08-20",81,null,0.38709677419354838,0.14984391259105098,78,78,0,0]
[null,478,2001,"2001-08-19",78,null,0.41935483870967744,0.17585848074921959,78,80,0,0]
[null,479,2001,"2001-08-18",78,null,0.45161290322580644,0.2039542143600416,80,75.5,0,0]
[null,480,2001,"2001-08-17",80,null,0.4838709677419355,0.2341311134235172,75.5,75,0,0]
[null,481,2001,"2001-08-16",75.5,null,0.5161290322580645,0.26638917793964617,75,77.5,0,0]
[null,482,2001,"2001-08-15",75,null,0.54838709677419351,0.3007284079084287,77.5,80,0,0]
[null,483,2001,"2001-08-14",77.5,null,{"$f":"G460","v":0.58064516129032262},0.33714880332986474,80,76.5,0,0]
[null,484,2001,"2001-08-13",80,null,0.61290322580645162,0.3756503642039542,76.5,75.5,0,0]
[null,485,2001,"2001-08-12",76.5,null,0.64516129032258063,0.41623309053069718,75.5,87.5,0,0]
[null,486,2001,"2001-08-11",75.5,null,0.67741935483870963,0.45889698231009357,87.5,91,0,0]
[null,487,2001,"2001-08-10",87.5,null,0.70967741935483875,0.5036420395421437,91,91.5,0,0]
[null,488,2001,"2001-08-09",91,null,0.74193548387096775,0.55046826222684708,91.5,88.5,0,0]
[null,489,2001,"2001-08-08",91.5,null,0.77419354838709675,0.59937565036420393,88.5,85,0,0]
[null,490,2001,"2001-08-07",88.5,null,0.80645161290322576,0.65036420395421424,85,78.5,0,0]
[null,491,2001,"2001-08-06",85,null,0.83870967741935487,0.70343392299687835,78.5,77,0,0]
[null,492,2001,"2001-08-05",78.5,null,0.87096774193548387,0.75858480749219559,77,79.5,0,0]
[null,493,2001,"2001-08-04",77,null,0.90322580645161288,0.81581685744016641,79.5,81,0,0]
[null,494,2001,"2001-08-03",79.5,null,0.93548387096774188,0.8751300728407907,81,78.5,0,0]
[null,495,2001,"2001-08-02",81,null,0.967741935483871,0.93652445369406878,78.5,0,0,1]
[null,496,2001,"2001-08-01",78.5,null,1,1,0,0,1,0]
[null,497,{"$f":"C474-1","v":2000},{"$f":"DATE(C505, 8, 31)","v":"2000-08-31"},78.5,null,{"$f":"G474","v":3.2258064516129031E-2},{"$f":"H474","v":1.0405827263267429E-3},{"$f":"E506","v":73},{"$f":"E507","v":73.5},0,0]
[null,498,2000,{"$f":"D505-1","v":"2000-08-30"},73,null,{"$f":"G475","v":6.4516129032258063E-2},4.1623309053069714E-3,73.5,76,0,0]
[null,499,2000,"2000-08-29",73.5,null,9.6774193548387094E-2,9.3652445369406864E-3,76,73.5,0,0]
[null,500,2000,"2000-08-28",76,null,0.12903225806451613,1.6649323621227886E-2,73.5,74.5,0,0]
[null,501,2000,"2000-08-27",73.5,null,0.16129032258064516,2.6014568158168574E-2,74.5,73,0,0]
[null,502,2000,"2000-08-26",74.5,null,0.19354838709677419,3.7460978147762745E-2,73,75,0,0]
[null,503,2000,"2000-08-25",73,null,0.22580645161290322,5.0988553590010401E-2,75,69,0,0]
[null,504,2000,"2000-08-24",75,null,0.25806451612903225,6.6597294484911543E-2,69,69,0,0]
[null,505,2000,"2000-08-23",69,null,0.29032258064516131,8.4287200832466186E-2,69,66.5,0,0]
[null,506,2000,"2000-08-22",69,null,0.32258064516129031,0.1040582726326743,66.5,67.5,0,0]
[null,507,2000,"2000-08-21",66.5,null,0.35483870967741937,0.12591050988553593,67.5,69,0,0]
[null,508,2000,"2000-08-20",67.5,null,0.38709677419354838,0.14984391259105098,69,66,0,0]
[null,509,2000,"2000-08-19",69,null,0.41935483870967744,0.17585848074921959,66,69.5,0,0]
[null,510,2000,"2000-08-18",66,null,0.45161290322580644,0.2039542143600416,69.5,76.5,0,0]
[null,511,2000,"2000-08-17",69.5,null,0.4838709677419355,0.2341311134235172,76.5,73,0,0]
[null,512,2000,"2000-08-16",76.5,null,0.5161290322580645,0.26638917793964617,73,66.5,0,0]
[null,513,2000,"2000-08-15",73,null,0.54838709677419351,0.3007284079084287,66.5,67.5,0,0]
[null,514,2000,"2000-08-14",66.5,null,{"$f":"G491","v":0.58064516129032262},0.33714880332986474,67.5,70,0,0]
[null,{"$f":"B522+1","v":515},2000,"2000-08-13",67.5,null,0.61290322580645162,0.3756503642039542,70,75,0,0]
[null,516,2000,"2000-08-12",70,null,0.64516129032258063,0.41623309053069718,75,79.5,0,0]
[null,517,2000,"2000-08-11",75,null,0.67741935483870963,0.45889698231009357,79.5,81,0,0]
[null,518,2000,"2000-08-10",79.5,null,0.70967741935483875,0.5036420395421437,81,82,0,0]
[null,519,2000,"2000-08-09",81,null,0.74193548387096775,0.55046826222684708,82,83.5,0,0]
[null,520,2000,"2000-08-08",82,null,0.77419354838709675,0.59937565036420393,83.5,70,0,0]
[null,521,2000,"2000-08-07",83.5,null,0.80645161290322576,0.65036420395421424,70,73.5,0,0]
[null,522,2000,"2000-08-06",70,null,0.83870967741935487,0.70343392299687835,73.5,75.5,0,0]
[null,523,2000,"2000-08-05",73.5,null,0.87096774193548387,0.75858480749219559,75.5,76,0,0]
[null,524,2000,"2000-08-04",75.5,null,0.90322580645161288,0.81581685744016641,76,80,0,0]
[null,525,2000,"2000-08-03",76,null,0.93548387096774188,0.8751300728407907,80,72,0,0]
[null,526,2000,"2000-08-02",80,null,0.967741935483871,0.93652445369406878,72,0,0,1]
[null,527,2000,"2000-08-01",72,null,1,1,0,0,1,0]

{"sheet":"code","index":3,"n_rows":5,"n_cols":2,"rows_kept":5,"cut":false,"hidden":false,"merged":[[4,1,28,8]]}
[]
[null,"TAB: R CODE"]
[]
[null,"R code for standard OLS regression"]
[null,"\nmydata <- read.table(\"C:/Projects/java/data/jcalc/jmath/stats/R/data/EWR-Aug.csv\", header=TRUE, sep=\",\")\nreg <- lm(formula=EWR.Aug~Linear+Quadratic+EWR.lag1+EWR.lag2+Aug.1st+Aug.2nd, data=mydata)\nout <- summary(reg)"]

{"sheet":"config","index":4,"n_rows":5,"n_cols":6,"rows_kept":5,"cut":false,"hidden":false,"merged":[]}
[]
[null,"TAB: CONFIGURATION FILE",null,"Calculation enabled",null,true]
[]
[]
[null,"Test connection",{"$f":"_xll.AC.test.connection()","v":"host: home-pc; user: Konstantin Rybakov; key: null"}]