{"text_format":"1","workbook":"xlsx","n_sheets":7,"sheets":["data","ols","fitted","matrices","validate","config","guide"],"not_rendered":{"charts":2,"images":0,"macros":1,"external_links":0,"defined_names":10,"comments":0,"pivot_tables":0},"unopened":[],"bounds":{"document_bytes":16777216,"sheet_cells":100000,"rows_first":2000,"rows_last":500,"rows_between":2000,"halvings":0,"cell_chars":16384,"cell_head_chars":4096},"cells_cut":0,"cells_raw":0,"read":"whole","date_system":"1900"}

{"sheet":"data","index":0,"n_rows":532,"n_cols":11,"rows_kept":532,"cut":false,"hidden":false,"merged":[]}
[]
[null,"TAB: OLS REGRESION DATA"]
[]
[]
[null,"#","Year","Date","EWR.Aug","Linear","Quadratic","EWR.lag1","EWR.lag2","Aug.1st","Aug.2nd"]
[null,1,2016,{"$f":"DATE(C6, 8, 31)","v":"2016-08-31"},83,{"$f":"B6/31","v":3.2258064516129031E-2},{"$f":"F6*F6","v":1.0405827263267429E-3},{"$f":"E7","v":76.5},{"$f":"E8","v":82.45},0,0]
[null,{"$f":"B6+1","v":2},{"$f":"C6","v":2016},{"$f":"D6-1","v":"2016-08-30"},76.5,6.4516129032258063E-2,{"$f":"F7*F7","v":4.1623309053069714E-3},82.45,79.5,0,0]
[null,{"$f":"B7+1","v":3},2016,{"$f":"D7-1","v":"2016-08-29"},82.45,9.6774193548387094E-2,9.3652445369406864E-3,79.5,79.55,0,0]
[null,4,2016,"2016-08-28",79.5,0.12903225806451613,1.6649323621227886E-2,79.55,85,0,0]
[null,5,2016,"2016-08-27",79.55,0.16129032258064516,2.6014568158168574E-2,85,77.45,0,0]
[null,6,2016,"2016-08-26",85,0.19354838709677419,3.7460978147762745E-2,77.45,76.459999999999994,0,0]
[null,7,2016,"2016-08-25",77.45,0.22580645161290322,5.0988553590010401E-2,76.459999999999994,71.510000000000005,0,0]
[null,8,2016,"2016-08-24",76.459999999999994,0.25806451612903225,6.6597294484911543E-2,71.510000000000005,73.94,0,0]
[null,9,2016,"2016-08-23",71.510000000000005,0.29032258064516131,8.4287200832466186E-2,73.94,80.510000000000005,0,0]
[null,10,2016,"2016-08-22",73.94,0.32258064516129031,0.1040582726326743,80.510000000000005,79.52,0,0]
[null,11,2016,"2016-08-21",80.510000000000005,0.35483870967741937,0.12591050988553593,79.52,82,0,0]
[null,12,2016,"2016-08-20",79.52,0.38709677419354838,0.14984391259105098,82,80.05,0,0]
[null,13,2016,"2016-08-19",82,0.41935483870967744,0.17585848074921959,80.05,82,0,0]
[null,14,2016,"2016-08-18",80.05,0.45161290322580644,0.2039542143600416,82,85.01,0,0]
[null,15,2016,"2016-08-17",82,0.4838709677419355,0.2341311134235172,85.01,85.45,0,0]
[null,16,2016,"2016-08-16",85.01,0.5161290322580645,0.26638917793964617,85.45,88.5,0,0]
[null,17,2016,"2016-08-15",85.45,0.54838709677419351,0.3007284079084287,88.5,88.5,0,0]
[null,18,2016,"2016-08-14",88.5,0.58064516129032262,0.33714880332986474,88.5,85.5,0,0]
[null,19,2016,"2016-08-13",88.5,0.61290322580645162,0.3756503642039542,85.5,85.5,0,0]
[null,20,2016,"2016-08-12",85.5,0.64516129032258063,0.41623309053069718,85.5,82.49,0,0]
[null,21,2016,"2016-08-11",85.5,0.67741935483870963,0.45889698231009357,82.49,77.55,0,0]
[null,22,2016,"2016-08-10",82.49,0.70967741935483875,0.5036420395421437,77.55,78.08,0,0]
[null,23,2016,"2016-08-09",77.55,0.74193548387096775,0.55046826222684708,78.08,80.08,0,0]
[null,24,2016,"2016-08-08",78.08,0.77419354838709675,0.59937565036420393,80.08,81.5,0,0]
[null,25,2016,"2016-08-07",80.08,0.80645161290322576,0.65036420395421424,81.5,75.47,0,0]
[null,26,2016,"2016-08-06",81.5,0.83870967741935487,0.70343392299687835,75.47,72.5,0,0]
[null,27,2016,"2016-08-05",75.47,0.87096774193548387,0.75858480749219559,72.5,72.5,0,0]
[null,28,2016,"2016-08-04",72.5,0.90322580645161288,0.81581685744016641,72.5,73.489999999999995,0,0]
[null,29,2016,"2016-08-03",72.5,0.93548387096774188,0.8751300728407907,73.489999999999995,75,0,0]
[null,30,2016,"2016-08-02",73.489999999999995,0.967741935483871,0.93652445369406878,75,0,0,1]
[null,31,2016,"2016-08-01",75,1,1,0,0,1,0]
[null,32,{"$f":"C6-1","v":2015},{"$f":"DATE(C37, 8, 31)","v":"2015-08-31"},84.5,{"$f":"F6","v":3.2258064516129031E-2},{"$f":"G6","v":1.0405827263267429E-3},{"$f":"E38","v":79},{"$f":"E39","v":75.5},0,0]
[null,33,2015,{"$f":"D37-1","v":"2015-08-30"},79,{"$f":"F7","v":6.4516129032258063E-2},4.1623309053069714E-3,75.5,73,0,0]
[null,34,2015,"2015-08-29",75.5,9.6774193548387094E-2,9.3652445369406864E-3,73,74,0,0]
[null,35,2015,"2015-08-28",73,0.12903225806451613,1.6649323621227886E-2,74,75.5,0,0]
[null,36,2015,"2015-08-27",74,0.16129032258064516,2.6014568158168574E-2,75.5,83,0,0]
[null,37,2015,"2015-08-26",75.5,0.19354838709677419,3.7460978147762745E-2,83,78.5,0,0]
[null,38,2015,"2015-08-25",83,0.22580645161290322,5.0988553590010401E-2,78.5,75,0,0]
[null,39,2015,"2015-08-24",78.5,0.25806451612903225,6.6597294484911543E-2,75,77.5,0,0]
[null,40,2015,"2015-08-23",75,0.29032258064516131,8.4287200832466186E-2,77.5,80.5,0,0]
[null,41,2015,"2015-08-22",77.5,0.32258064516129031,0.1040582726326743,80.5,81.5,0,0]
[null,42,2015,"2015-08-21",80.5,0.35483870967741937,0.12591050988553593,81.5,81,0,0]
[null,43,2015,"2015-08-20",81.5,0.38709677419354838,0.14984391259105098,81,84,0,0]
[null,44,2015,"2015-08-19",81,0.41935483870967744,0.17585848074921959,84,85,0,0]
[null,45,2015,"2015-08-18",84,0.45161290322580644,0.2039542143600416,85,84,0,0]
[null,46,2015,"2015-08-17",85,0.4838709677419355,0.2341311134235172,84,81,0,0]
[null,47,2015,"2015-08-16",84,0.5161290322580645,0.26638917793964617,81,76.5,0,0]
[null,48,2015,"2015-08-15",81,0.54838709677419351,0.3007284079084287,76.5,76.5,0,0]
[null,49,2015,"2015-08-14",76.5,{"$f":"F23","v":0.58064516129032262},0.33714880332986474,76.5,78,0,0]
[null,50,2015,"2015-08-13",76.5,0.61290322580645162,0.3756503642039542,78,76.5,0,0]
[null,51,2015,"2015-08-12",78,0.64516129032258063,0.41623309053069718,76.5,74.5,0,0]
[null,52,2015,"2015-08-11",76.5,0.67741935483870963,0.45889698231009357,74.5,77,0,0]
[null,53,2015,"2015-08-10",74.5,0.70967741935483875,0.5036420395421437,77,74,0,0]
[null,54,2015,"2015-08-09",77,0.74193548387096775,0.55046826222684708,74,75.5,0,0]
[null,55,2015,"2015-08-08",74,0.77419354838709675,0.59937565036420393,75.5,75.5,0,0]
[null,56,2015,"2015-08-07",75.5,0.80645161290322576,0.65036420395421424,75.5,79.5,0,0]
[null,57,2015,"2015-08-06",75.5,0.83870967741935487,0.70343392299687835,79.5,81,0,0]
[null,58,2015,"2015-08-05",79.5,0.87096774193548387,0.75858480749219559,81,81.5,0,0]
[null,59,2015,"2015-08-04",81,0.90322580645161288,0.81581685744016641,81.5,79,0,0]
[null,60,2015,"2015-08-03",81.5,0.93548387096774188,0.8751300728407907,79,82,0,0]
[null,61,2015,"2015-08-02",79,0.967741935483871,0.93652445369406878,82,0,0,1]
[null,62,2015,"2015-08-01",82,1,1,0,0,1,0]
[null,63,2014,{"$f":"DATE(C68, 8, 31)","v":"2014-08-31"},82,{"$f":"F37","v":3.2258064516129031E-2},{"$f":"G37","v":1.0405827263267429E-3},{"$f":"E69","v":70},{"$f":"E70","v":70},0,0]
[null,64,2014,{"$f":"D68-1","v":"2014-08-30"},70,{"$f":"F38","v":6.4516129032258063E-2},4.1623309053069714E-3,70,74,0,0]
[null,65,2014,"2014-08-29",70,9.6774193548387094E-2,9.3652445369406864E-3,74,80,0,0]
[null,66,2014,"2014-08-28",74,0.12903225806451613,1.6649323621227886E-2,80,77.5,0,0]
[null,{"$f":"B71+1","v":67},2014,"2014-08-27",80,0.16129032258064516,2.6014568158168574E-2,77.5,74,0,0]
[null,68,2014,"2014-08-26",77.5,0.19354838709677419,3.7460978147762745E-2,74,72,0,0]
[null,69,2014,"2014-08-25",74,0.22580645161290322,5.0988553590010401E-2,72,71,0,0]
[null,70,2014,"2014-08-24",72,0.25806451612903225,6.6597294484911543E-2,71,72,0,0]
[null,71,2014,"2014-08-23",71,0.29032258064516131,8.4287200832466186E-2,72,73,0,0]
[null,72,2014,"2014-08-22",72,0.32258064516129031,0.1040582726326743,73,76,0,0]
[null,73,2014,"2014-08-21",73,0.35483870967741937,0.12591050988553593,76,72.5,0,0]
[null,74,2014,"2014-08-20",76,0.38709677419354838,0.14984391259105098,72.5,73.5,0,0]
[null,75,2014,"2014-08-19",72.5,0.41935483870967744,0.17585848074921959,73.5,75.5,0,0]
[null,76,2014,"2014-08-18",73.5,0.45161290322580644,0.2039542143600416,75.5,69.5,0,0]
[null,77,2014,"2014-08-17",75.5,0.4838709677419355,0.2341311134235172,69.5,67,0,0]
[null,78,2014,"2014-08-16",69.5,0.5161290322580645,0.26638917793964617,67,71.5,0,0]
[null,79,2014,"2014-08-15",67,0.54838709677419351,0.3007284079084287,71.5,77.5,0,0]
[null,80,2014,"2014-08-14",71.5,{"$f":"F54","v":0.58064516129032262},0.33714880332986474,77.5,76,0,0]
[null,81,2014,"2014-08-13",77.5,0.61290322580645162,0.3756503642039542,76,76.5,0,0]
[null,82,2014,"2014-08-12",76,0.64516129032258063,0.41623309053069718,76.5,76,0,0]
[null,83,2014,"2014-08-11",76.5,0.67741935483870963,0.45889698231009357,76,76.5,0,0]
[null,84,2014,"2014-08-10",76,0.70967741935483875,0.5036420395421437,76.5,73,0,0]
[null,85,2014,"2014-08-09",76.5,0.74193548387096775,0.55046826222684708,73,76,0,0]
[null,86,2014,"2014-08-08",73,0.77419354838709675,0.59937565036420393,76,78.5,0,0]
[null,87,2014,"2014-08-07",76,0.80645161290322576,0.65036420395421424,78.5,78.5,0,0]
[null,88,2014,"2014-08-06",78.5,0.83870967741935487,0.70343392299687835,78.5,77.5,0,0]
[null,89,2014,"2014-08-05",78.5,0.87096774193548387,0.75858480749219559,77.5,72.5,0,0]
[null,90,2014,"2014-08-04",77.5,0.90322580645161288,0.81581685744016641,72.5,71,0,0]
[null,91,2014,"2014-08-03",72.5,0.93548387096774188,0.8751300728407907,71,77.5,0,0]
[null,92,2014,"2014-08-02",71,0.967741935483871,0.93652445369406878,77.5,0,0,1]
[null,93,2014,"2014-08-01",77.5,1,1,0,0,1,0]
[null,94,2013,{"$f":"DATE(C99, 8, 31)","v":"2013-08-31"},80,{"$f":"F68","v":3.2258064516129031E-2},{"$f":"G68","v":1.0405827263267429E-3},{"$f":"E100","v":78},{"$f":"E101","v":76},0,0]
[null,95,2013,{"$f":"D99-1","v":"2013-08-30"},78,{"$f":"F69","v":6.4516129032258063E-2},4.1623309053069714E-3,76,78.5,0,0]
[null,96,{"$f":"C70-1","v":2013},"2013-08-29",76,9.6774193548387094E-2,9.3652445369406864E-3,78.5,81,0,0]
[null,97,2013,"2013-08-28",78.5,0.12903225806451613,1.6649323621227886E-2,81,76.5,0,0]
[null,98,2013,"2013-08-27",81,0.16129032258064516,2.6014568158168574E-2,76.5,72.05,0,0]
[null,99,2013,"2013-08-26",76.5,0.19354838709677419,3.7460978147762745E-2,72.05,71,0,0]
[null,100,2013,"2013-08-25",72.05,0.22580645161290322,5.0988553590010401E-2,71,76,0,0]
[null,101,2013,"2013-08-24",71,0.25806451612903225,6.6597294484911543E-2,76,75,0,0]
[null,102,2013,"2013-08-23",76,0.29032258064516131,8.4287200832466186E-2,75,79.5,0,0]
[null,103,2013,"2013-08-22",75,0.32258064516129031,0.1040582726326743,79.5,77,0,0]
[null,104,2013,"2013-08-21",79.5,0.35483870967741937,0.12591050988553593,77,71.5,0,0]
[null,105,2013,"2013-08-20",77,0.38709677419354838,0.14984391259105098,71.5,71.5,0,0]
[null,106,2013,"2013-08-19",71.5,0.41935483870967744,0.17585848074921959,71.5,72.5,0,0]
[null,107,2013,"2013-08-18",71.5,0.45161290322580644,0.2039542143600416,72.5,69.5,0,0]
[null,108,2013,"2013-08-17",72.5,0.4838709677419355,0.2341311134235172,69.5,69,0,0]
[null,109,2013,"2013-08-16",69.5,0.5161290322580645,0.26638917793964617,69,68.5,0,0]
[null,110,2013,"2013-08-15",69,0.54838709677419351,0.3007284079084287,68.5,74.5,0,0]
[null,111,2013,"2013-08-14",68.5,{"$f":"F85","v":0.58064516129032262},0.33714880332986474,74.5,76.5,0,0]
[null,112,2013,"2013-08-13",74.5,0.61290322580645162,0.3756503642039542,76.5,73.489999999999995,0,0]
[null,113,2013,"2013-08-12",76.5,0.64516129032258063,0.41623309053069718,73.489999999999995,76.459999999999994,0,0]
[null,114,2013,"2013-08-11",73.489999999999995,0.67741935483870963,0.45889698231009357,76.459999999999994,80.95,0,0]
[null,115,2013,"2013-08-10",76.459999999999994,0.70967741935483875,0.5036420395421437,80.95,77,0,0]
[null,116,2013,"2013-08-09",80.95,0.74193548387096775,0.55046826222684708,77,74.5,0,0]
[null,117,2013,"2013-08-08",77,0.77419354838709675,0.59937565036420393,74.5,71,0,0]
[null,118,2013,"2013-08-07",74.5,0.80645161290322576,0.65036420395421424,71,71,0,0]
[null,119,2013,"2013-08-06",71,0.83870967741935487,0.70343392299687835,71,73,0,0]
[null,120,2013,"2013-08-05",71,0.87096774193548387,0.75858480749219559,73,74.599999999999994,0,0]
[null,121,2013,"2013-08-04",73,0.90322580645161288,0.81581685744016641,74.599999999999994,77,0,0]
[null,122,2013,"2013-08-03",74.599999999999994,0.93548387096774188,0.8751300728407907,77,71.5,0,0]
[null,123,2013,"2013-08-02",77,0.967741935483871,0.93652445369406878,71.5,0,0,1]
[null,124,2013,"2013-08-01",71.5,1,1,0,0,1,0]
[null,125,2012,{"$f":"DATE(C130, 8, 31)","v":"2012-08-31"},78.5,{"$f":"F99","v":3.2258064516129031E-2},{"$f":"G99","v":1.0405827263267429E-3},{"$f":"E131","v":73},{"$f":"E132","v":74},0,0]
[null,126,2012,{"$f":"D130-1","v":"2012-08-30"},73,{"$f":"F100","v":6.4516129032258063E-2},4.1623309053069714E-3,74,81.5,0,0]
[null,127,2012,"2012-08-29",74,9.6774193548387094E-2,9.3652445369406864E-3,81.5,76.5,0,0]
[null,128,2012,"2012-08-28",81.5,0.12903225806451613,1.6649323621227886E-2,76.5,75.5,0,0]
[null,129,2012,"2012-08-27",76.5,0.16129032258064516,2.6014568158168574E-2,75.5,77.5,0,0]
[null,130,2012,"2012-08-26",75.5,0.19354838709677419,3.7460978147762745E-2,77.5,78.5,0,0]
[null,{"$f":"B135+1","v":131},2012,"2012-08-25",77.5,0.22580645161290322,5.0988553590010401E-2,78.5,76,0,0]
[null,132,2012,"2012-08-24",78.5,0.25806451612903225,6.6597294484911543E-2,76,76,0,0]
[null,133,2012,"2012-08-23",76,0.29032258064516131,8.4287200832466186E-2,76,75,0,0]
[null,134,2012,"2012-08-22",76,0.32258064516129031,0.1040582726326743,75,72,0,0]
[null,135,2012,"2012-08-21",75,0.35483870967741937,0.12591050988553593,72,67.5,0,0]
[null,136,2012,"2012-08-20",72,0.38709677419354838,0.14984391259105098,67.5,73.5,0,0]
[null,137,2012,"2012-08-19",67.5,0.41935483870967744,0.17585848074921959,73.5,79,0,0]
[null,138,2012,"2012-08-18",73.5,0.45161290322580644,0.2039542143600416,79,78,0,0]
[null,139,2012,"2012-08-17",79,0.4838709677419355,0.2341311134235172,78,77.5,0,0]
[null,140,2012,"2012-08-16",78,0.5161290322580645,0.26638917793964617,77.5,74.5,0,0]
[null,141,2012,"2012-08-15",77.5,0.54838709677419351,0.3007284079084287,74.5,78,0,0]
[null,142,2012,"2012-08-14",74.5,{"$f":"F116","v":0.58064516129032262},0.33714880332986474,78,80.5,0,0]
[null,143,2012,"2012-08-13",78,0.61290322580645162,0.3756503642039542,80.5,82,0,0]
[null,144,2012,"2012-08-12",80.5,0.64516129032258063,0.41623309053069718,82,77,0,0]
[null,145,2012,"2012-08-11",82,0.67741935483870963,0.45889698231009357,77,81.5,0,0]
[null,146,2012,"2012-08-10",77,0.70967741935483875,0.5036420395421437,81.5,80,0,0]
[null,147,2012,"2012-08-09",81.5,0.74193548387096775,0.55046826222684708,80,74.5,0,0]
[null,148,2012,"2012-08-08",80,0.77419354838709675,0.59937565036420393,74.5,81.5,0,0]
[null,149,2012,"2012-08-07",74.5,0.80645161290322576,0.65036420395421424,81.5,84.5,0,0]
[null,150,2012,"2012-08-06",81.5,0.83870967741935487,0.70343392299687835,84.5,83,0,0]
[null,151,2012,"2012-08-05",84.5,0.87096774193548387,0.75858480749219559,83,83.5,0,0]
[null,152,2012,"2012-08-04",83,0.90322580645161288,0.81581685744016641,83.5,80.5,0,0]
[null,153,2012,"2012-08-03",83.5,0.93548387096774188,0.8751300728407907,80.5,75.5,0,0]
[null,154,2012,"2012-08-02",80.5,0.967741935483871,0.93652445369406878,75.5,0,0,1]
[null,155,2012,"2012-08-01",75.5,1,1,0,0,1,0]
[null,156,2011,{"$f":"DATE(C161, 8, 31)","v":"2011-08-31"},74.5,{"$f":"F130","v":3.2258064516129031E-2},{"$f":"G130","v":1.0405827263267429E-3},{"$f":"E162","v":72.5},{"$f":"E163","v":68},0,0]
[null,157,{"$f":"C161","v":2011},{"$f":"D161-1","v":"2011-08-30"},72.5,{"$f":"F131","v":6.4516129032258063E-2},4.1623309053069714E-3,68,71,0,0]
[null,158,2011,"2011-08-29",68,9.6774193548387094E-2,9.3652445369406864E-3,71,77,0,0]
[null,159,2011,"2011-08-28",71,0.12903225806451613,1.6649323621227886E-2,77,78.5,0,0]
[null,160,2011,"2011-08-27",77,0.16129032258064516,2.6014568158168574E-2,78.5,76.5,0,0]
[null,161,2011,"2011-08-26",78.5,0.19354838709677419,3.7460978147762745E-2,76.5,72.5,0,0]
[null,162,2011,"2011-08-25",76.5,0.22580645161290322,5.0988553590010401E-2,72.5,72,0,0]
[null,163,2011,"2011-08-24",72.5,0.25806451612903225,6.6597294484911543E-2,72,74.5,0,0]
[null,164,2011,"2011-08-23",72,0.29032258064516131,8.4287200832466186E-2,74.5,79.5,0,0]
[null,165,2011,"2011-08-22",74.5,0.32258064516129031,0.1040582726326743,79.5,77,0,0]
[null,166,2011,"2011-08-21",79.5,0.35483870967741937,0.12591050988553593,77,76.5,0,0]
[null,167,2011,"2011-08-20",77,0.38709677419354838,0.14984391259105098,76.5,78,0,0]
[null,168,2011,"2011-08-19",76.5,0.41935483870967744,0.17585848074921959,78,77.5,0,0]
[null,169,2011,"2011-08-18",78,0.45161290322580644,0.2039542143600416,77.5,73.5,0,0]
[null,170,2011,"2011-08-17",77.5,0.4838709677419355,0.2341311134235172,73.5,75.5,0,0]
[null,171,2011,"2011-08-16",73.5,0.5161290322580645,0.26638917793964617,75.5,71.5,0,0]
[null,172,2011,"2011-08-15",75.5,0.54838709677419351,0.3007284079084287,71.5,78,0,0]
[null,173,2011,"2011-08-14",71.5,{"$f":"F147","v":0.58064516129032262},0.33714880332986474,78,75,0,0]
[null,174,2011,"2011-08-13",78,0.61290322580645162,0.3756503642039542,75,77.5,0,0]
[null,175,2011,"2011-08-12",75,0.64516129032258063,0.41623309053069718,77.5,80,0,0]
[null,176,2011,"2011-08-11",77.5,0.67741935483870963,0.45889698231009357,80,78,0,0]
[null,177,2011,"2011-08-10",80,0.70967741935483875,0.5036420395421437,78,85,0,0]
[null,178,2011,"2011-08-09",78,0.74193548387096775,0.55046826222684708,85,85,0,0]
[null,179,2011,"2011-08-08",85,0.77419354838709675,0.59937565036420393,85,78.5,0,0]
[null,180,2011,"2011-08-07",85,0.80645161290322576,0.65036420395421424,78.5,77.5,0,0]
[null,181,2011,"2011-08-06",78.5,0.83870967741935487,0.70343392299687835,77.5,76.5,0,0]
[null,182,2011,"2011-08-05",77.5,0.87096774193548387,0.75858480749219559,76.5,78,0,0]
[null,183,2011,"2011-08-04",76.5,0.90322580645161288,0.81581685744016641,78,83,0,0]
[null,184,2011,"2011-08-03",78,0.93548387096774188,0.8751300728407907,83,85.5,0,0]
[null,185,2011,"2011-08-02",83,0.967741935483871,0.93652445369406878,85.5,0,0,1]
[null,186,2011,"2011-08-01",85.5,1,1,0,0,1,0]
[null,187,{"$f":"C161-1","v":2010},{"$f":"DATE(C192, 8, 31)","v":"2010-08-31"},85.5,{"$f":"F161","v":3.2258064516129031E-2},{"$f":"G161","v":1.0405827263267429E-3},{"$f":"E193","v":83.5},{"$f":"E194","v":79},0,0]
[null,188,2010,{"$f":"D192-1","v":"2010-08-30"},83.5,{"$f":"F162","v":6.4516129032258063E-2},4.1623309053069714E-3,79,72,0,0]
[null,189,2010,"2010-08-29",79,9.6774193548387094E-2,9.3652445369406864E-3,72,70.5,0,0]
[null,190,2010,"2010-08-28",72,0.12903225806451613,1.6649323621227886E-2,70.5,75.5,0,0]
[null,191,2010,"2010-08-27",70.5,0.16129032258064516,2.6014568158168574E-2,75.5,68,0,0]
[null,192,2010,"2010-08-26",75.5,0.19354838709677419,3.7460978147762745E-2,68,68,0,0]
[null,193,2010,"2010-08-25",68,0.22580645161290322,5.0988553590010401E-2,68,68.5,0,0]
[null,194,2010,"2010-08-24",68,0.25806451612903225,6.6597294484911543E-2,68.5,76,0,0]
[null,{"$f":"B199+1","v":195},2010,"2010-08-23",68.5,0.29032258064516131,8.4287200832466186E-2,76,73.5,0,0]
[null,196,2010,"2010-08-22",76,0.32258064516129031,0.1040582726326743,73.5,80.5,0,0]
[null,197,2010,"2010-08-21",73.5,0.35483870967741937,0.12591050988553593,80.5,78,0,0]
[null,198,2010,"2010-08-20",80.5,0.38709677419354838,0.14984391259105098,78,77,0,0]
[null,199,2010,"2010-08-19",78,0.41935483870967744,0.17585848074921959,77,82.5,0,0]
[null,200,2010,"2010-08-18",77,0.45161290322580644,0.2039542143600416,82.5,80,0,0]
[null,201,2010,"2010-08-17",82.5,0.4838709677419355,0.2341311134235172,80,73.5,0,0]
[null,202,2010,"2010-08-16",80,0.5161290322580645,0.26638917793964617,73.5,74,0,0]
[null,203,2010,"2010-08-15",73.5,0.54838709677419351,0.3007284079084287,74,75.5,0,0]
[null,204,2010,"2010-08-14",74,{"$f":"F178","v":0.58064516129032262},0.33714880332986474,75.5,74,0,0]
[null,205,2010,"2010-08-13",75.5,0.61290322580645162,0.3756503642039542,74,85,0,0]
[null,206,2010,"2010-08-12",74,0.64516129032258063,0.41623309053069718,85,85,0,0]
[null,207,2010,"2010-08-11",85,0.67741935483870963,0.45889698231009357,85,84.5,0,0]
[null,208,2010,"2010-08-10",85,0.70967741935483875,0.5036420395421437,84.5,80,0,0]
[null,209,2010,"2010-08-09",84.5,0.74193548387096775,0.55046826222684708,80,76,0,0]
[null,210,2010,"2010-08-08",80,0.77419354838709675,0.59937565036420393,76,81,0,0]
[null,211,2010,"2010-08-07",76,0.80645161290322576,0.65036420395421424,81,87.5,0,0]
[null,212,2010,"2010-08-06",81,0.83870967741935487,0.70343392299687835,87.5,83,0,0]
[null,213,2010,"2010-08-05",87.5,0.87096774193548387,0.75858480749219559,83,80.5,0,0]
[null,214,2010,"2010-08-04",83,0.90322580645161288,0.81581685744016641,80.5,77,0,0]
[null,215,2010,"2010-08-03",80.5,0.93548387096774188,0.8751300728407907,77,74,0,0]
[null,216,2010,"2010-08-02",77,0.967741935483871,0.93652445369406878,74,0,0,1]
[null,217,2010,"2010-08-01",74,1,1,0,0,1,0]
[null,218,2009,{"$f":"DATE(C223, 8, 31)","v":"2009-08-31"},67,{"$f":"F192","v":3.2258064516129031E-2},{"$f":"G192","v":1.0405827263267429E-3},{"$f":"E224","v":76},{"$f":"E225","v":71},0,0]
[null,219,2009,{"$f":"D223-1","v":"2009-08-30"},76,{"$f":"F193","v":6.4516129032258063E-2},4.1623309053069714E-3,71,69,0,0]
[null,220,2009,"2009-08-29",71,9.6774193548387094E-2,9.3652445369406864E-3,69,73.5,0,0]
[null,221,2009,"2009-08-28",69,0.12903225806451613,1.6649323621227886E-2,73.5,79,0,0]
[null,222,2009,"2009-08-27",73.5,0.16129032258064516,2.6014568158168574E-2,79,77,0,0]
[null,223,2009,"2009-08-26",79,0.19354838709677419,3.7460978147762745E-2,77,78,0,0]
[null,224,2009,"2009-08-25",77,0.22580645161290322,5.0988553590010401E-2,78,79,0,0]
[null,225,2009,"2009-08-24",78,0.25806451612903225,6.6597294484911543E-2,79,77.5,0,0]
[null,226,2009,"2009-08-23",79,0.29032258064516131,8.4287200832466186E-2,77.5,83.5,0,0]
[null,227,2009,"2009-08-22",77.5,0.32258064516129031,0.1040582726326743,83.5,83,0,0]
[null,228,2009,"2009-08-21",83.5,0.35483870967741937,0.12591050988553593,83,83,0,0]
[null,229,2009,"2009-08-20",83,0.38709677419354838,0.14984391259105098,83,81,0,0]
[null,230,2009,"2009-08-19",83,0.41935483870967744,0.17585848074921959,81,83.5,0,0]
[null,231,2009,"2009-08-18",81,0.45161290322580644,0.2039542143600416,83.5,81.5,0,0]
[null,232,2009,"2009-08-17",83.5,0.4838709677419355,0.2341311134235172,81.5,79.5,0,0]
[null,233,2009,"2009-08-16",81.5,0.5161290322580645,0.26638917793964617,79.5,78,0,0]
[null,234,2009,"2009-08-15",79.5,0.54838709677419351,0.3007284079084287,78,72,0,0]
[null,235,2009,"2009-08-14",78,{"$f":"F209","v":0.58064516129032262},0.33714880332986474,72,78.5,0,0]
[null,236,2009,"2009-08-13",72,0.61290322580645162,0.3756503642039542,78.5,84,0,0]
[null,237,2009,"2009-08-12",78.5,0.64516129032258063,0.41623309053069718,84,83,0,0]
[null,238,2009,"2009-08-11",84,0.67741935483870963,0.45889698231009357,83,74.5,0,0]
[null,239,2009,"2009-08-10",83,0.70967741935483875,0.5036420395421437,74.5,70.5,0,0]
[null,240,2009,"2009-08-09",74.5,0.74193548387096775,0.55046826222684708,70.5,74,0,0]
[null,241,2009,"2009-08-08",70.5,0.77419354838709675,0.59937565036420393,74,74,0,0]
[null,242,2009,"2009-08-07",74,0.80645161290322576,0.65036420395421424,74,82,0,0]
[null,243,2009,"2009-08-06",74,0.83870967741935487,0.70343392299687835,82,76.5,0,0]
[null,244,2009,"2009-08-05",82,0.87096774193548387,0.75858480749219559,76.5,78.5,0,0]
[null,245,2009,"2009-08-04",76.5,0.90322580645161288,0.81581685744016641,78.5,72.5,0,0]
[null,246,2009,"2009-08-03",78.5,0.93548387096774188,0.8751300728407907,72.5,74.5,0,0]
[null,247,2009,"2009-08-02",72.5,0.967741935483871,0.93652445369406878,74.5,0,0,1]
[null,248,2009,"2009-08-01",74.5,1,1,0,0,1,0]
[null,249,2008,{"$f":"DATE(C254, 8, 31)","v":"2008-08-31"},75,{"$f":"F223","v":3.2258064516129031E-2},{"$f":"G223","v":1.0405827263267429E-3},{"$f":"E255","v":76},{"$f":"E256","v":74.5},0,0]
[null,250,2008,{"$f":"D254-1","v":"2008-08-30"},76,{"$f":"F224","v":6.4516129032258063E-2},4.1623309053069714E-3,74.5,71,0,0]
[null,251,{"$f":"C225-1","v":2008},"2008-08-29",74.5,9.6774193548387094E-2,9.3652445369406864E-3,71,69,0,0]
[null,252,2008,"2008-08-28",71,0.12903225806451613,1.6649323621227886E-2,69,70.5,0,0]
[null,253,2008,"2008-08-27",69,0.16129032258064516,2.6014568158168574E-2,70.5,76,0,0]
[null,254,2008,"2008-08-26",70.5,0.19354838709677419,3.7460978147762745E-2,76,75,0,0]
[null,255,2008,"2008-08-25",76,0.22580645161290322,5.0988553590010401E-2,75,70.5,0,0]
[null,256,2008,"2008-08-24",75,0.25806451612903225,6.6597294484911543E-2,70.5,73,0,0]
[null,257,2008,"2008-08-23",70.5,0.29032258064516131,8.4287200832466186E-2,73,71,0,0]
[null,258,2008,"2008-08-22",73,0.32258064516129031,0.1040582726326743,71,68.5,0,0]
[null,{"$f":"B263+1","v":259},2008,"2008-08-21",71,0.35483870967741937,0.12591050988553593,68.5,76,0,0]
[null,260,2008,"2008-08-20",68.5,0.38709677419354838,0.14984391259105098,76,77.5,0,0]
[null,261,2008,"2008-08-19",76,0.41935483870967744,0.17585848074921959,77.5,74,0,0]
[null,262,2008,"2008-08-18",77.5,0.45161290322580644,0.2039542143600416,74,73.5,0,0]
[null,263,2008,"2008-08-17",74,0.4838709677419355,0.2341311134235172,73.5,73.5,0,0]
[null,264,2008,"2008-08-16",73.5,0.5161290322580645,0.26638917793964617,73.5,75,0,0]
[null,265,2008,"2008-08-15",73.5,0.54838709677419351,0.3007284079084287,75,73,0,0]
[null,266,2008,"2008-08-14",75,{"$f":"F240","v":0.58064516129032262},0.33714880332986474,73,71.5,0,0]
[null,267,2008,"2008-08-13",73,0.61290322580645162,0.3756503642039542,71.5,68,0,0]
[null,268,2008,"2008-08-12",71.5,0.64516129032258063,0.41623309053069718,68,72.5,0,0]
[null,269,2008,"2008-08-11",68,0.67741935483870963,0.45889698231009357,72.5,72.5,0,0]
[null,270,2008,"2008-08-10",72.5,0.70967741935483875,0.5036420395421437,72.5,74,0,0]
[null,271,2008,"2008-08-09",72.5,0.74193548387096775,0.55046826222684708,74,78.5,0,0]
[null,272,2008,"2008-08-08",74,0.77419354838709675,0.59937565036420393,78.5,81,0,0]
[null,273,2008,"2008-08-07",78.5,0.80645161290322576,0.65036420395421424,81,77,0,0]
[null,274,2008,"2008-08-06",81,0.83870967741935487,0.70343392299687835,77,76.5,0,0]
[null,275,2008,"2008-08-05",77,0.87096774193548387,0.75858480749219559,76.5,75.5,0,0]
[null,276,2008,"2008-08-04",76.5,0.90322580645161288,0.81581685744016641,75.5,75,0,0]
[null,277,2008,"2008-08-03",75.5,0.93548387096774188,0.8751300728407907,75,82,0,0]
[null,278,2008,"2008-08-02",75,0.967741935483871,0.93652445369406878,82,0,0,1]
[null,279,2008,"2008-08-01",82,1,1,0,0,1,0]
[null,280,2007,{"$f":"DATE(C285, 8, 31)","v":"2007-08-31"},75,{"$f":"F254","v":3.2258064516129031E-2},{"$f":"G254","v":1.0405827263267429E-3},{"$f":"E286","v":76},{"$f":"E287","v":75.5},0,0]
[null,281,2007,{"$f":"D285-1","v":"2007-08-30"},76,{"$f":"F255","v":6.4516129032258063E-2},4.1623309053069714E-3,75.5,75,0,0]
[null,282,2007,"2007-08-29",75.5,9.6774193548387094E-2,9.3652445369406864E-3,75,75.5,0,0]
[null,283,2007,"2007-08-28",75,0.12903225806451613,1.6649323621227886E-2,75.5,77.5,0,0]
[null,284,2007,"2007-08-27",75.5,0.16129032258064516,2.6014568158168574E-2,77.5,81.5,0,0]
[null,285,2007,"2007-08-26",77.5,0.19354838709677419,3.7460978147762745E-2,81.5,75,0,0]
[null,286,2007,"2007-08-25",81.5,0.22580645161290322,5.0988553590010401E-2,75,69,0,0]
[null,287,2007,"2007-08-24",75,0.25806451612903225,6.6597294484911543E-2,69,62.5,0,0]
[null,288,2007,"2007-08-23",69,0.29032258064516131,8.4287200832466186E-2,62.5,59,0,0]
[null,289,2007,"2007-08-22",62.5,0.32258064516129031,0.1040582726326743,59,65.5,0,0]
[null,290,2007,"2007-08-21",59,0.35483870967741937,0.12591050988553593,65.5,67,0,0]
[null,291,2007,"2007-08-20",65.5,0.38709677419354838,0.14984391259105098,67,67.5,0,0]
[null,292,2007,"2007-08-19",67,0.41935483870967744,0.17585848074921959,67.5,75,0,0]
[null,293,2007,"2007-08-18",67.5,0.45161290322580644,0.2039542143600416,75,81,0,0]
[null,294,2007,"2007-08-17",75,0.4838709677419355,0.2341311134235172,81,75.5,0,0]
[null,295,2007,"2007-08-16",81,0.5161290322580645,0.26638917793964617,75.5,72.5,0,0]
[null,296,2007,"2007-08-15",75.5,0.54838709677419351,0.3007284079084287,72.5,80,0,0]
[null,297,2007,"2007-08-14",72.5,{"$f":"F271","v":0.58064516129032262},0.33714880332986474,80,78,0,0]
[null,298,2007,"2007-08-13",80,0.61290322580645162,0.3756503642039542,78,70.5,0,0]
[null,299,2007,"2007-08-12",78,0.64516129032258063,0.41623309053069718,70.5,66,0,0]
[null,300,2007,"2007-08-11",70.5,0.67741935483870963,0.45889698231009357,66,78,0,0]
[null,301,2007,"2007-08-10",66,0.70967741935483875,0.5036420395421437,78,85,0,0]
[null,302,2007,"2007-08-09",78,0.74193548387096775,0.55046826222684708,85,83.5,0,0]
[null,303,2007,"2007-08-08",85,0.77419354838709675,0.59937565036420393,83.5,80,0,0]
[null,304,2007,"2007-08-07",83.5,0.80645161290322576,0.65036420395421424,80,75.5,0,0]
[null,305,2007,"2007-08-06",80,0.83870967741935487,0.70343392299687835,75.5,82,0,0]
[null,306,2007,"2007-08-05",75.5,0.87096774193548387,0.75858480749219559,82,84.5,0,0]
[null,307,2007,"2007-08-04",82,0.90322580645161288,0.81581685744016641,84.5,83,0,0]
[null,308,2007,"2007-08-03",84.5,0.93548387096774188,0.8751300728407907,83,82,0,0]
[null,309,2007,"2007-08-02",83,0.967741935483871,0.93652445369406878,82,0,0,1]
[null,310,2007,"2007-08-01",82,1,1,0,0,1,0]
[null,311,2006,{"$f":"DATE(C316, 8, 31)","v":"2006-08-31"},67.5,{"$f":"F285","v":3.2258064516129031E-2},{"$f":"G285","v":1.0405827263267429E-3},{"$f":"E317","v":69.5},{"$f":"E318","v":69.5},0,0]
[null,312,{"$f":"C316","v":2006},{"$f":"D316-1","v":"2006-08-30"},69.5,{"$f":"F286","v":6.4516129032258063E-2},4.1623309053069714E-3,69.5,75.5,0,0]
[null,313,2006,"2006-08-29",69.5,9.6774193548387094E-2,9.3652445369406864E-3,75.5,70.5,0,0]
[null,314,2006,"2006-08-28",75.5,0.12903225806451613,1.6649323621227886E-2,70.5,68,0,0]
[null,315,2006,"2006-08-27",70.5,0.16129032258064516,2.6014568158168574E-2,68,74,0,0]
[null,316,2006,"2006-08-26",68,0.19354838709677419,3.7460978147762745E-2,74,75,0,0]
[null,317,2006,"2006-08-25",74,0.22580645161290322,5.0988553590010401E-2,75,79,0,0]
[null,318,2006,"2006-08-24",75,0.25806451612903225,6.6597294484911543E-2,79,78.5,0,0]
[null,319,2006,"2006-08-23",79,0.29032258064516131,8.4287200832466186E-2,78.5,78.5,0,0]
[null,320,2006,"2006-08-22",78.5,0.32258064516129031,0.1040582726326743,78.5,84,0,0]
[null,321,2006,"2006-08-21",78.5,0.35483870967741937,0.12591050988553593,84,75,0,0]
[null,322,2006,"2006-08-20",84,0.38709677419354838,0.14984391259105098,75,76.5,0,0]
[null,{"$f":"B327+1","v":323},2006,"2006-08-19",75,0.41935483870967744,0.17585848074921959,76.5,78.5,0,0]
[null,324,2006,"2006-08-18",76.5,0.45161290322580644,0.2039542143600416,78.5,77.5,0,0]
[null,325,2006,"2006-08-17",78.5,0.4838709677419355,0.2341311134235172,77.5,78.5,0,0]
[null,326,2006,"2006-08-16",77.5,0.5161290322580645,0.26638917793964617,78.5,76,0,0]
[null,327,2006,"2006-08-15",78.5,0.54838709677419351,0.3007284079084287,76,71,0,0]
[null,328,2006,"2006-08-14",76,{"$f":"F302","v":0.58064516129032262},0.33714880332986474,71,70.5,0,0]
[null,329,2006,"2006-08-13",71,0.61290322580645162,0.3756503642039542,70.5,73.5,0,0]
[null,330,2006,"2006-08-12",70.5,0.64516129032258063,0.41623309053069718,73.5,76,0,0]
[null,331,2006,"2006-08-11",73.5,0.67741935483870963,0.45889698231009357,76,75,0,0]
[null,332,2006,"2006-08-10",76,0.70967741935483875,0.5036420395421437,75,81,0,0]
[null,333,2006,"2006-08-09",75,0.74193548387096775,0.55046826222684708,81,82,0,0]
[null,334,2006,"2006-08-08",81,0.77419354838709675,0.59937565036420393,82,77.5,0,0]
[null,335,2006,"2006-08-07",82,0.80645161290322576,0.65036420395421424,77.5,83,0,0]
[null,336,2006,"2006-08-06",77.5,0.83870967741935487,0.70343392299687835,83,84,0,0]
[null,337,2006,"2006-08-05",83,0.87096774193548387,0.75858480749219559,84,90.5,0,0]
[null,338,2006,"2006-08-04",84,0.90322580645161288,0.81581685744016641,90.5,90.5,0,0]
[null,339,2006,"2006-08-03",90.5,0.93548387096774188,0.8751300728407907,90.5,89,0,0]
[null,340,2006,"2006-08-02",90.5,0.967741935483871,0.93652445369406878,89,0,0,1]
[null,341,2006,"2006-08-01",89,1,1,0,0,1,0]
[null,342,{"$f":"C316-1","v":2005},{"$f":"DATE(C347, 8, 31)","v":"2005-08-31"},83.5,{"$f":"F316","v":3.2258064516129031E-2},{"$f":"G316","v":1.0405827263267429E-3},{"$f":"E348","v":81},{"$f":"E349","v":79.5},0,0]
[null,343,2005,{"$f":"D347-1","v":"2005-08-30"},81,{"$f":"F317","v":6.4516129032258063E-2},4.1623309053069714E-3,79.5,77.5,0,0]
[null,344,2005,"2005-08-29",79.5,9.6774193548387094E-2,9.3652445369406864E-3,77.5,75.5,0,0]
[null,345,2005,"2005-08-28",77.5,0.12903225806451613,1.6649323621227886E-2,75.5,74.5,0,0]
[null,346,2005,"2005-08-27",75.5,0.16129032258064516,2.6014568158168574E-2,74.5,74,0,0]
[null,347,2005,"2005-08-26",74.5,0.19354838709677419,3.7460978147762745E-2,74,75.5,0,0]
[null,348,2005,"2005-08-25",74,0.22580645161290322,5.0988553590010401E-2,75.5,76.5,0,0]
[null,349,2005,"2005-08-24",75.5,0.25806451612903225,6.6597294484911543E-2,76.5,81.5,0,0]
[null,350,2005,"2005-08-23",76.5,0.29032258064516131,8.4287200832466186E-2,81.5,86,0,0]
[null,351,2005,"2005-08-22",81.5,0.32258064516129031,0.1040582726326743,86,79.5,0,0]
[null,352,2005,"2005-08-21",86,0.35483870967741937,0.12591050988553593,79.5,75,0,0]
[null,353,2005,"2005-08-20",79.5,0.38709677419354838,0.14984391259105098,75,74.5,0,0]
[null,354,2005,"2005-08-19",75,0.41935483870967744,0.17585848074921959,74.5,79,0,0]
[null,355,2005,"2005-08-18",74.5,0.45161290322580644,0.2039542143600416,79,73.5,0,0]
[null,356,2005,"2005-08-17",79,0.4838709677419355,0.2341311134235172,73.5,76,0,0]
[null,357,2005,"2005-08-16",73.5,0.5161290322580645,0.26638917793964617,76,86,0,0]
[null,358,2005,"2005-08-15",76,0.54838709677419351,0.3007284079084287,86,91,0,0]
[null,359,2005,"2005-08-14",86,{"$f":"F333","v":0.58064516129032262},0.33714880332986474,91,86,0,0]
[null,360,2005,"2005-08-13",91,0.61290322580645162,0.3756503642039542,86,85.5,0,0]
[null,361,2005,"2005-08-12",86,0.64516129032258063,0.41623309053069718,85.5,80.5,0,0]
[null,362,2005,"2005-08-11",85.5,0.67741935483870963,0.45889698231009357,80.5,78,0,0]
[null,363,2005,"2005-08-10",80.5,0.70967741935483875,0.5036420395421437,78,79,0,0]
[null,364,2005,"2005-08-09",78,0.74193548387096775,0.55046826222684708,79,78.5,0,0]
[null,365,2005,"2005-08-08",79,0.77419354838709675,0.59937565036420393,78.5,79.5,0,0]
[null,366,2005,"2005-08-07",78.5,0.80645161290322576,0.65036420395421424,79.5,89,0,0]
[null,367,2005,"2005-08-06",79.5,0.83870967741935487,0.70343392299687835,89,85.5,0,0]
[null,368,2005,"2005-08-05",89,0.87096774193548387,0.75858480749219559,85.5,86,0,0]
[null,369,2005,"2005-08-04",85.5,0.90322580645161288,0.81581685744016641,86,85,0,0]
[null,370,2005,"2005-08-03",86,0.93548387096774188,0.8751300728407907,85,80,0,0]
[null,371,2005,"2005-08-02",85,0.967741935483871,0.93652445369406878,80,0,0,1]
[null,372,2005,"2005-08-01",80,1,1,0,0,1,0]
[null,373,2004,{"$f":"DATE(C378, 8, 31)","v":"2004-08-31"},77.5,{"$f":"F347","v":3.2258064516129031E-2},{"$f":"G347","v":1.0405827263267429E-3},{"$f":"E379","v":79.5},{"$f":"E380","v":80.5},0,0]
[null,374,2004,{"$f":"D378-1","v":"2004-08-30"},79.5,{"$f":"F348","v":6.4516129032258063E-2},4.1623309053069714E-3,80.5,81.5,0,0]
[null,375,2004,"2004-08-29",80.5,9.6774193548387094E-2,9.3652445369406864E-3,81.5,77.5,0,0]
[null,376,2004,"2004-08-28",81.5,0.12903225806451613,1.6649323621227886E-2,77.5,69,0,0]
[null,377,2004,"2004-08-27",77.5,0.16129032258064516,2.6014568158168574E-2,69,71,0,0]
[null,378,2004,"2004-08-26",69,0.19354838709677419,3.7460978147762745E-2,71,73,0,0]
[null,379,2004,"2004-08-25",71,0.22580645161290322,5.0988553590010401E-2,73,71,0,0]
[null,380,2004,"2004-08-24",73,0.25806451612903225,6.6597294484911543E-2,71,66,0,0]
[null,381,2004,"2004-08-23",71,0.29032258064516131,8.4287200832466186E-2,66,74.5,0,0]
[null,382,2004,"2004-08-22",66,0.32258064516129031,0.1040582726326743,74.5,83,0,0]
[null,383,2004,"2004-08-21",74.5,0.35483870967741937,0.12591050988553593,83,78,0,0]
[null,384,2004,"2004-08-20",83,0.38709677419354838,0.14984391259105098,78,72.5,0,0]
[null,385,2004,"2004-08-19",78,0.41935483870967744,0.17585848074921959,72.5,70,0,0]
[null,386,2004,"2004-08-18",72.5,0.45161290322580644,0.2039542143600416,70,68.5,0,0]
[null,{"$f":"B391+1","v":387},2004,"2004-08-17",70,0.4838709677419355,0.2341311134235172,68.5,71.5,0,0]
[null,388,2004,"2004-08-16",68.5,0.5161290322580645,0.26638917793964617,71.5,73.5,0,0]
[null,389,2004,"2004-08-15",71.5,0.54838709677419351,0.3007284079084287,73.5,75.5,0,0]
[null,390,2004,"2004-08-14",73.5,{"$f":"F364","v":0.58064516129032262},0.33714880332986474,75.5,77,0,0]
[null,391,2004,"2004-08-13",75.5,0.61290322580645162,0.3756503642039542,77,77,0,0]
[null,392,2004,"2004-08-12",77,0.64516129032258063,0.41623309053069718,77,75,0,0]
[null,393,2004,"2004-08-11",77,0.67741935483870963,0.45889698231009357,75,75.5,0,0]
[null,394,2004,"2004-08-10",75,0.70967741935483875,0.5036420395421437,75.5,69,0,0]
[null,395,2004,"2004-08-09",75.5,0.74193548387096775,0.55046826222684708,69,65.5,0,0]
[null,396,2004,"2004-08-08",69,0.77419354838709675,0.59937565036420393,65.5,68,0,0]
[null,397,2004,"2004-08-07",65.5,0.80645161290322576,0.65036420395421424,68,72.5,0,0]
[null,398,2004,"2004-08-06",68,0.83870967741935487,0.70343392299687835,72.5,81,0,0]
[null,399,2004,"2004-08-05",72.5,0.87096774193548387,0.75858480749219559,81,79,0,0]
[null,400,2004,"2004-08-04",81,0.90322580645161288,0.81581685744016641,79,80,0,0]
[null,401,2004,"2004-08-03",79,0.93548387096774188,0.8751300728407907,80,77.5,0,0]
[null,402,2004,"2004-08-02",80,0.967741935483871,0.93652445369406878,77.5,0,0,1]
[null,403,2004,"2004-08-01",77.5,1,1,0,0,1,0]
[null,404,2003,{"$f":"DATE(C409, 8, 31)","v":"2003-08-31"},68,{"$f":"F378","v":3.2258064516129031E-2},{"$f":"G378","v":1.0405827263267429E-3},{"$f":"E410","v":77},{"$f":"E411","v":76},0,0]
[null,405,2003,{"$f":"D409-1","v":"2003-08-30"},77,{"$f":"F379","v":6.4516129032258063E-2},4.1623309053069714E-3,76,77.5,0,0]
[null,406,{"$f":"C380-1","v":2003},"2003-08-29",76,9.6774193548387094E-2,9.3652445369406864E-3,77.5,80.5,0,0]
[null,407,2003,"2003-08-28",77.5,0.12903225806451613,1.6649323621227886E-2,80.5,78.5,0,0]
[null,408,2003,"2003-08-27",80.5,0.16129032258064516,2.6014568158168574E-2,78.5,75.5,0,0]
[null,409,2003,"2003-08-26",78.5,0.19354838709677419,3.7460978147762745E-2,75.5,71.5,0,0]
[null,410,2003,"2003-08-25",75.5,0.22580645161290322,5.0988553590010401E-2,71.5,76.5,0,0]
[null,411,2003,"2003-08-24",71.5,0.25806451612903225,6.6597294484911543E-2,76.5,84,0,0]
[null,412,2003,"2003-08-23",76.5,0.29032258064516131,8.4287200832466186E-2,84,81.5,0,0]
[null,413,2003,"2003-08-22",84,0.32258064516129031,0.1040582726326743,81.5,78.5,0,0]
[null,414,2003,"2003-08-21",81.5,0.35483870967741937,0.12591050988553593,78.5,77,0,0]
[null,415,2003,"2003-08-20",78.5,0.38709677419354838,0.14984391259105098,77,72,0,0]
[null,416,2003,"2003-08-19",77,0.41935483870967744,0.17585848074921959,72,75,0,0]
[null,417,2003,"2003-08-18",72,0.45161290322580644,0.2039542143600416,75,80.5,0,0]
[null,418,2003,"2003-08-17",75,0.4838709677419355,0.2341311134235172,80.5,81.5,0,0]
[null,419,2003,"2003-08-16",80.5,0.5161290322580645,0.26638917793964617,81.5,83,0,0]
[null,420,2003,"2003-08-15",81.5,0.54838709677419351,0.3007284079084287,83,82.5,0,0]
[null,421,2003,"2003-08-14",83,{"$f":"F395","v":0.58064516129032262},0.33714880332986474,82.5,78.5,0,0]
[null,422,2003,"2003-08-13",82.5,0.61290322580645162,0.3756503642039542,78.5,77,0,0]
[null,423,2003,"2003-08-12",78.5,0.64516129032258063,0.41623309053069718,77,78,0,0]
[null,424,2003,"2003-08-11",77,0.67741935483870963,0.45889698231009357,78,76.5,0,0]
[null,425,2003,"2003-08-10",78,0.70967741935483875,0.5036420395421437,76.5,77,0,0]
[null,426,2003,"2003-08-09",76.5,0.74193548387096775,0.55046826222684708,77,75.5,0,0]
[null,427,2003,"2003-08-08",77,0.77419354838709675,0.59937565036420393,75.5,75.5,0,0]
[null,428,2003,"2003-08-07",75.5,0.80645161290322576,0.65036420395421424,75.5,75,0,0]
[null,429,2003,"2003-08-06",75.5,0.83870967741935487,0.70343392299687835,75,80,0,0]
[null,430,2003,"2003-08-05",75,0.87096774193548387,0.75858480749219559,80,81,0,0]
[null,431,2003,"2003-08-04",80,0.90322580645161288,0.81581685744016641,81,79,0,0]
[null,432,2003,"2003-08-03",81,0.93548387096774188,0.8751300728407907,79,75.5,0,0]
[null,433,2003,"2003-08-02",79,0.967741935483871,0.93652445369406878,75.5,0,0,1]
[null,434,2003,"2003-08-01",75.5,1,1,0,0,1,0]
[null,435,2002,{"$f":"DATE(C440, 8, 31)","v":"2002-08-31"},68,{"$f":"F409","v":3.2258064516129031E-2},{"$f":"G409","v":1.0405827263267429E-3},{"$f":"E441","v":66.5},{"$f":"E442","v":62.5},0,0]
[null,436,2002,{"$f":"D440-1","v":"2002-08-30"},66.5,{"$f":"F410","v":6.4516129032258063E-2},4.1623309053069714E-3,62.5,70,0,0]
[null,437,2002,"2002-08-29",62.5,9.6774193548387094E-2,9.3652445369406864E-3,70,75,0,0]
[null,438,2002,"2002-08-28",70,0.12903225806451613,1.6649323621227886E-2,75,76,0,0]
[null,439,2002,"2002-08-27",75,0.16129032258064516,2.6014568158168574E-2,76,74.5,0,0]
[null,440,2002,"2002-08-26",76,0.19354838709677419,3.7460978147762745E-2,74.5,70.5,0,0]
[null,441,2002,"2002-08-25",74.5,0.22580645161290322,5.0988553590010401E-2,70.5,74.5,0,0]
[null,442,2002,"2002-08-24",70.5,0.25806451612903225,6.6597294484911543E-2,74.5,77,0,0]
[null,443,2002,"2002-08-23",74.5,0.29032258064516131,8.4287200832466186E-2,77,75.5,0,0]
[null,444,2002,"2002-08-22",77,0.32258064516129031,0.1040582726326743,75.5,75,0,0]
[null,445,2002,"2002-08-21",75.5,0.35483870967741937,0.12591050988553593,75,86,0,0]
[null,446,2002,"2002-08-20",75,0.38709677419354838,0.14984391259105098,86,87,0,0]
[null,447,2002,"2002-08-19",86,0.41935483870967744,0.17585848074921959,87,85.5,0,0]
[null,448,2002,"2002-08-18",87,0.45161290322580644,0.2039542143600416,85.5,86,0,0]
[null,449,2002,"2002-08-17",85.5,0.4838709677419355,0.2341311134235172,86,83.5,0,0]
[null,450,2002,"2002-08-16",86,0.5161290322580645,0.26638917793964617,83.5,85,0,0]
[null,{"$f":"B455+1","v":451},2002,"2002-08-15",83.5,0.54838709677419351,0.3007284079084287,85,87.5,0,0]
[null,452,2002,"2002-08-14",85,{"$f":"F426","v":0.58064516129032262},0.33714880332986474,87.5,81.5,0,0]
[null,453,2002,"2002-08-13",87.5,0.61290322580645162,0.3756503642039542,81.5,79,0,0]
[null,454,2002,"2002-08-12",81.5,0.64516129032258063,0.41623309053069718,79,77,0,0]
[null,455,2002,"2002-08-11",79,0.67741935483870963,0.45889698231009357,77,75,0,0]
[null,456,2002,"2002-08-10",77,0.70967741935483875,0.5036420395421437,75,73.5,0,0]
[null,457,2002,"2002-08-09",75,0.74193548387096775,0.55046826222684708,73.5,72,0,0]
[null,458,2002,"2002-08-08",73.5,0.77419354838709675,0.59937565036420393,72,73,0,0]
[null,459,2002,"2002-08-07",72,0.80645161290322576,0.65036420395421424,73,84.5,0,0]
[null,460,2002,"2002-08-06",73,0.83870967741935487,0.70343392299687835,84.5,83,0,0]
[null,461,2002,"2002-08-05",84.5,0.87096774193548387,0.75858480749219559,83,80,0,0]
[null,462,2002,"2002-08-04",83,0.90322580645161288,0.81581685744016641,80,83,0,0]
[null,463,2002,"2002-08-03",80,0.93548387096774188,0.8751300728407907,83,88,0,0]
[null,464,2002,"2002-08-02",83,0.967741935483871,0.93652445369406878,88,0,0,1]
[null,465,2002,"2002-08-01",88,1,1,0,0,1,0]
[null,466,2001,{"$f":"DATE(C471, 8, 31)","v":"2001-08-31"},79.5,{"$f":"F440","v":3.2258064516129031E-2},{"$f":"G440","v":1.0405827263267429E-3},{"$f":"E472","v":73},{"$f":"E473","v":75.5},0,0]
[null,467,{"$f":"C471","v":2001},{"$f":"D471-1","v":"2001-08-30"},73,{"$f":"F441","v":6.4516129032258063E-2},4.1623309053069714E-3,75.5,79,0,0]
[null,468,2001,"2001-08-29",75.5,9.6774193548387094E-2,9.3652445369406864E-3,79,79,0,0]
[null,469,2001,"2001-08-28",79,0.12903225806451613,1.6649323621227886E-2,79,71.5,0,0]
[null,470,2001,"2001-08-27",79,0.16129032258064516,2.6014568158168574E-2,71.5,72,0,0]
[null,471,2001,"2001-08-26",71.5,0.19354838709677419,3.7460978147762745E-2,72,75,0,0]
[null,472,2001,"2001-08-25",72,0.22580645161290322,5.0988553590010401E-2,75,75.5,0,0]
[null,473,2001,"2001-08-24",75,0.25806451612903225,6.6597294484911543E-2,75.5,78,0,0]
[null,474,2001,"2001-08-23",75.5,0.29032258064516131,8.4287200832466186E-2,78,77,0,0]
[null,475,2001,"2001-08-22",78,0.32258064516129031,0.1040582726326743,77,81,0,0]
[null,476,2001,"2001-08-21",77,0.35483870967741937,0.12591050988553593,81,78,0,0]
[null,477,2001,"2001-08-20",81,0.38709677419354838,0.14984391259105098,78,78,0,0]
[null,478,2001,"2001-08-19",78,0.41935483870967744,0.17585848074921959,78,80,0,0]
[null,479,2001,"2001-08-18",78,0.45161290322580644,0.2039542143600416,80,75.5,0,0]
[null,480,2001,"2001-08-17",80,0.4838709677419355,0.2341311134235172,75.5,75,0,0]
[null,481,2001,"2001-08-16",75.5,0.5161290322580645,0.26638917793964617,75,77.5,0,0]
[null,482,2001,"2001-08-15",75,0.54838709677419351,0.3007284079084287,77.5,80,0,0]
[null,483,2001,"2001-08-14",77.5,{"$f":"F457","v":0.58064516129032262},0.33714880332986474,80,76.5,0,0]
[null,484,2001,"2001-08-13",80,0.61290322580645162,0.3756503642039542,76.5,75.5,0,0]
[null,485,2001,"2001-08-12",76.5,0.64516129032258063,0.41623309053069718,75.5,87.5,0,0]
[null,486,2001,"2001-08-11",75.5,0.67741935483870963,0.45889698231009357,87.5,91,0,0]
[null,487,2001,"2001-08-10",87.5,0.70967741935483875,0.5036420395421437,91,91.5,0,0]
[null,488,2001,"2001-08-09",91,0.74193548387096775,0.55046826222684708,91.5,88.5,0,0]
[null,489,2001,"2001-08-08",91.5,0.77419354838709675,0.59937565036420393,88.5,85,0,0]
[null,490,2001,"2001-08-07",88.5,0.80645161290322576,0.65036420395421424,85,78.5,0,0]
[null,491,2001,"2001-08-06",85,0.83870967741935487,0.70343392299687835,78.5,77,0,0]
[null,492,2001,"2001-08-05",78.5,0.87096774193548387,0.75858480749219559,77,79.5,0,0]
[null,493,2001,"2001-08-04",77,0.90322580645161288,0.81581685744016641,79.5,81,0,0]
[null,494,2001,"2001-08-03",79.5,0.93548387096774188,0.8751300728407907,81,78.5,0,0]
[null,495,2001,"2001-08-02",81,0.967741935483871,0.93652445369406878,78.5,0,0,1]
[null,496,2001,"2001-08-01",78.5,1,1,0,0,1,0]
[null,497,{"$f":"C471-1","v":2000},{"$f":"DATE(C502, 8, 31)","v":"2000-08-31"},78.5,{"$f":"F471","v":3.2258064516129031E-2},{"$f":"G471","v":1.0405827263267429E-3},{"$f":"E503","v":73},{"$f":"E504","v":73.5},0,0]
[null,498,2000,{"$f":"D502-1","v":"2000-08-30"},73,{"$f":"F472","v":6.4516129032258063E-2},4.1623309053069714E-3,73.5,76,0,0]
[null,499,2000,"2000-08-29",73.5,9.6774193548387094E-2,9.3652445369406864E-3,76,73.5,0,0]
[null,500,2000,"2000-08-28",76,0.12903225806451613,1.6649323621227886E-2,73.5,74.5,0,0]
[null,501,2000,"2000-08-27",73.5,0.16129032258064516,2.6014568158168574E-2,74.5,73,0,0]
[null,502,2000,"2000-08-26",74.5,0.19354838709677419,3.7460978147762745E-2,73,75,0,0]
[null,503,2000,"2000-08-25",73,0.22580645161290322,5.0988553590010401E-2,75,69,0,0]
[null,504,2000,"2000-08-24",75,0.25806451612903225,6.6597294484911543E-2,69,69,0,0]
[null,505,2000,"2000-08-23",69,0.29032258064516131,8.4287200832466186E-2,69,66.5,0,0]
[null,506,2000,"2000-08-22",69,0.32258064516129031,0.1040582726326743,66.5,67.5,0,0]
[null,507,2000,"2000-08-21",66.5,0.35483870967741937,0.12591050988553593,67.5,69,0,0]
[null,508,2000,"2000-08-20",67.5,0.38709677419354838,0.14984391259105098,69,66,0,0]
[null,509,2000,"2000-08-19",69,0.41935483870967744,0.17585848074921959,66,69.5,0,0]
[null,510,2000,"2000-08-18",66,0.45161290322580644,0.2039542143600416,69.5,76.5,0,0]
[null,511,2000,"2000-08-17",69.5,0.4838709677419355,0.2341311134235172,76.5,73,0,0]
[null,512,2000,"2000-08-16",76.5,0.5161290322580645,0.26638917793964617,73,66.5,0,0]
[null,513,2000,"2000-08-15",73,0.54838709677419351,0.3007284079084287,66.5,67.5,0,0]
[null,514,2000,"2000-08-14",66.5,{"$f":"F488","v":0.58064516129032262},0.33714880332986474,67.5,70,0,0]
[null,{"$f":"B519+1","v":515},2000,"2000-08-13",67.5,0.61290322580645162,0.3756503642039542,70,75,0,0]
[null,516,2000,"2000-08-12",70,0.64516129032258063,0.41623309053069718,75,79.5,0,0]
[null,517,2000,"2000-08-11",75,0.67741935483870963,0.45889698231009357,79.5,81,0,0]
[null,518,2000,"2000-08-10",79.5,0.70967741935483875,0.5036420395421437,81,82,0,0]
[null,519,2000,"2000-08-09",81,0.74193548387096775,0.55046826222684708,82,83.5,0,0]
[null,520,2000,"2000-08-08",82,0.77419354838709675,0.59937565036420393,83.5,70,0,0]
[null,521,2000,"2000-08-07",83.5,0.80645161290322576,0.65036420395421424,70,73.5,0,0]
[null,522,2000,"2000-08-06",70,0.83870967741935487,0.70343392299687835,73.5,75.5,0,0]
[null,523,2000,"2000-08-05",73.5,0.87096774193548387,0.75858480749219559,75.5,76,0,0]
[null,524,2000,"2000-08-04",75.5,0.90322580645161288,0.81581685744016641,76,80,0,0]
[null,525,2000,"2000-08-03",76,0.93548387096774188,0.8751300728407907,80,72,0,0]
[null,526,2000,"2000-08-02",80,0.967741935483871,0.93652445369406878,72,0,0,1]
[null,527,2000,"2000-08-01",72,1,1,0,0,1,0]

{"sheet":"ols","index":1,"n_rows":25,"n_cols":12,"rows_kept":25,"cut":false,"hidden":false,"merged":[]}
[]
[null,"TAB: OLS REGRESSION OUTPUT"]
[]
[null,"parameters",null,"add-constant",1]
[null,null,null,{"$f":"_xll.AC.data.map(D4:D4, E4:E4)","v":"java.util.LinkedHashMap@Sat, 24 Nov 2018 15:50:22:186..4203385192834111968"},null,null,null,{"$f":"_xll.AC.data.size(D5, 1)","v":1}]
[]
[null,"y",null,{"$f":"_xll.AC.data.list_x(OFFSET(data!E6, 0, 0, F15, 1), 1, 1)","v":"java.util.ArrayList@Sat, 24 Nov 2018 15:50:15:622..2102760049260352279"},null,null,null,{"$f":"_xll.AC.data.size(D7, 1)","v":527}]
[null,"X",null,{"$f":"_xll.AC.data.list_xx(OFFSET(data!F6, 0, 0, F15, F14), 1)","v":"java.util.ArrayList@Sat, 24 Nov 2018 16:03:04:769..3882376410105538840"},null,null,null,{"$f":"_xll.AC.data.size(D8, 1)","v":6},{"$f":"_xll.AC.data.size(D8, 2)","v":527}]
[null,"regression output",null,{"$f":"_xll.AC.stats.reg.ols(D7, D8, $D$5)","v":"jmathkr.lib.jmc.objects.stats.regression.linear.OutputLReg@Sat, 24 Nov 2018 16:03:04:769..8955695016215183742"},null,null,null,null," "]
[]
[]
[null,null,null,null,null,null,null,null,null," ",{"$f":"config!G10","v":"statistics"}]
[null,null,null,null,null,null,null,null,null,null,{"$f":"_xll.AC.stats.reg._get(D9, K12, 0)","v":"keys"},"values"]
[null,"Number of explanatory variables",null,null,null,6,null,null,null,null,"res.abs.max",11.139080778768715]
[null,"Sample size",null,null,null,{"$f":"COUNT(data!D6:D1000)","v":527},null,null,null,null,"SST",13802.186581404194]
[null,null,null,null,null,null,null,null,null,null,"SSR",6971.3232119813338]
[null,{"$f":"config!G9","v":"table-standard"},null,null,null,null,null,null,null,null,"SSE",6830.8633694228602]
[null,null,null,{"$f":"_xll.AC.stats.reg._get(D9, B17, 0)","v":"coefficient"},"stdev","t.stats","P.value","CI.left","CI.right",null,"MSE",13.136275710428578]
[null,1,"constant",27.772606618107716,2.7498045154299513,10.099847629992444,0,22.382989767865013,33.162223468350419,null,"r.squared",0.50508831849685742]
[null,{"$f":"B19+1","v":2},{"$f":"OFFSET(data!$F$5, 0, B20-2)","v":"Linear"},-1.7492439385307392,2.5086816379538655,-0.69727617568782463,0.48594159334308906,-6.6662599489203158,3.1677720718588374,null,"adj.r.squared",0.49933778735647577]
[null,{"$f":"B20+1","v":3},{"$f":"OFFSET(data!$F$5, 0, B21-2)","v":"Quadratic"},3.1938681422955995,2.5116144396146249,1.2716395048221085,0.20406968304462048,-1.7288961593490653,8.1166324439402651,null,"sigma.squared",13.136275710428578]
[null,4,{"$f":"OFFSET(data!$F$5, 0, B22-2)","v":"EWR.lag1"},0.80084974269388987,4.488385682192695E-2,17.842712266710858,0,0.71287738332291306,0.88882210206486667,null,"sigma",3.6244000483429777]
[null,5,{"$f":"OFFSET(data!$F$5, 0, B23-2)","v":"EWR.lag2"},-0.16513831703072412,4.5466023118416923E-2,-3.6321258316483709,3.0896005307035068E-4,-0.25425172234282128,-7.602491171862695E-2,null,"df",520]
[null,6,{"$f":"OFFSET(data!$F$5, 0, B24-2)","v":"Aug.1st"},49.606298589895175,3.0862655548440294,16.073243766090027,0,43.557218102400881,55.655379077389469,null,"n",527]
[null,7,{"$f":"OFFSET(data!$F$5, 0, B25-2)","v":"Aug.2nd"},-12.785552297580125,3.7353868344419969,-3.4228188041172629,6.6860767225285223E-4,-20.106910493086438,-5.4641941020738107,null,"rank",7]

{"sheet":"fitted","index":2,"n_rows":544,"n_cols":5,"rows_kept":544,"cut":false,"hidden":false,"merged":[]}
[]
[null,"TAB: FITTED VALUES"]
[]
[null,"Regression A"]
[]
[null,null,{"$f":"config!G23","v":"y"},{"$f":"config!G24","v":"fitted.values"},{"$f":"config!G25","v":"residuals"}]
[null,"#","y","yhat","res"]
[null,{"$f":"data!B6","v":1},{"$f":"_xll.AC.stats.reg._get(ols!$D$9, C6, 0)","v":83},{"$f":"_xll.AC.stats.reg._get(ols!$D$9, D6, 0)","v":75.368853955202553},{"$f":"_xll.AC.stats.reg._get(ols!$D$9, E6, 0)","v":7.6311460447974468}]
[null,{"$f":"IF(C9=\"\", \"\", B8+1)","v":2},76.5,80.574611187705358,-4.0746111877053579]
[null,{"$f":"IF(C10=\"\", \"\", B9+1)","v":3},82.45,78.164037727178481,4.2859622728215214]
[null,4,79.5,77.270913550805417,2.2290864491945825]
[null,5,79.55,82.855823074416861,-3.305823074416864]
[null,6,85,76.953025551324259,8.0469744486757406]
[null,7,77.45,76.964397043783308,0.48560295621669525]
[null,8,76.459999999999994,72.592329743525909,3.867670256474085]
[null,9,71.510000000000005,73.453507879880263,-1.9435078798802579]
[null,10,73.94,78.885296595777689,-4.9452965957776911]
[null,11,80.510000000000005,77.696278264850775,2.8137217351492296]
[null,12,79.52,80.024418253555837,-0.50441825355584058]
[null,13,82,78.167401413745225,3.8325985862547753]
[null,14,80.05,79.265298922426268,0.78470107757372887]
[null,15,82,81.64314960116991,0.3568503988300904]
[null,16,85.01,81.53845240177813,3.4715475982218749]
[null,17,85.45,84.034291865799162,1.4157081342008411]
[null,18,88.5,84.589601533734083,3.9103984662659172]
[null,19,88.5,82.253593990533261,6.2464060094667389]
[null,20,85.5,82.823848977714647,2.6761510222853531]
[null,21,85.5,81.308910159294811,4.1910898407051889]
[null,22,82.49,77.351671711355777,5.1383282886442174]
[null,23,77.55,77.538974997955236,1.1025002044760868E-2]
[null,24,78.08,79.005954598230602,-0.92595459823060366]
[null,25,80.08,81.245368777660502,-1.165368777660504]
[null,26,81.5,77.019776091944948,4.4802239080550521]
[null,27,75.47,74.760969785329536,0.70903021467046301]
[null,28,72.5,74.72384724869265,-2.2238472486926497]
[null,29,72.5,75.40034100050481,-2.9003410005048096]
[null,30,73.489999999999995,76.349103924996442,-2.8591039249964467]
[null,31,75,78.823529411767751,-3.8235294117677512]
[null,32,84.5,78.518689615300815,5.9813103846991851]
[null,33,79,76.08210453668255,2.9178954633174499]
[null,34,75.5,73.875032059188726,1.624967940811274]
[null,35,73,74.395011490646226,-1.3950114906462261]
[null,36,74,74.331232859304393,-0.33123285930439295]
[null,37,75.5,81.060859456532654,-5.5608594565326541]
[null,38,83,78.021797792441618,4.9782022075583825]
[null,39,78.5,74.79940293689819,3.7005970631018101]
[null,40,75,76.306184347040812,-1.3061843470408121]
[null,41,77.5,78.550314230629908,-1.0503142306299083]
[null,42,80.5,79.447099072415412,1.052900927584588]
[null,43,81.5,78.571272158590574,2.928727841409426]
[null,44,81,80.83534294629392,0.16465705370607964]
[null,45,84,81.834637850708987,2.1653621492910133]
[null,46,85,81.569156871835801,3.4308431281641987]
[null,47,84,79.956330851158981,4.043669148841019]
[null,48,81,76.40575475784118,4.59424524215882]
[null,49,76.5,76.21794199913785,0.28205800086215049]
[null,50,76.5,77.733465773605616,-1.2334657736056158]
[null,51,78,76.935656446545124,1.0643435534548757]
[null,52,76.5,75.000946789537537,1.4990532104624634]
[null,53,74.5,77.584968686359502,-3.0849686863595025]
[null,54,77,75.027841539764893,1.9721584602351072]
[null,55,74,76.32889267887694,-2.3288926788769402]
[null,56,75.5,75.774762903863319,-0.27476290386331925]
[null,57,75.5,78.84352486024018,-3.3435248602401799]
[null,58,79.5,80.081947744951094,-0.58194774495109414]
[null,59,81,81.02158280609838,-2.1582806098379592E-2]
[null,60,81.5,78.657054863533062,2.8429451364669376]
[null,61,79,81.955052123853676,-2.955052123853676]
[null,62,82,78.823529411767751,3.1764705882322488]
[null,63,82,72.219302674724787,9.780697325275213]
[null,64,70,71.512292634835433,-1.5122926348354326]
[null,65,70,73.685051899698266,-3.6850518996982657]
[null,66,74,78.869833312748113,-4.8698333127481135]
[null,{"$f":"IF(C74=\"\", \"\", B73+1)","v":67},80,77.419177197968679,2.5808228020313209]
[null,68,77.5,74.926610832987365,2.5733891670126354]
[null,69,74,73.476827733054236,0.52317226694576391]
[null,70,72,72.504264709791613,-0.50426470979161309]
[null,71,71,73.140048139954857,-2.1400481399548568]
[null,72,72,73.452201904094721,-1.4522019040947214]
[null,73,73,76.446101182360167,-3.4461011823601666]
[null,74,76,73.498001674515109,2.501998325484891]
[null,75,72.5,73.995234659799934,-1.4952346597999338]
[null,76,73.5,76.621070892062534,-3.1210708920625336]
[null,77,75.5,72.268772041204528,3.231227958795472]
[null,78,69.5,69.570126038598147,-7.0126038598147034E-2]
[null,79,67,72.236367727340991,-5.2363677273409905]
[null,80,71.5,77.349068375893182,-5.8490683758931823]
[null,81,77.5,76.131766288217818,1.3682337117821817]
[null,82,76,76.687948970999045,-0.68794897099904517]
[null,83,76.5,76.284790562093718,0.21520943790628166]
[null,84,76,77.34968213204327,-1.3496821320432701]
[null,85,76.5,74.144422638555625,2.3555773614443751]
[null,86,73,76.23390259913171,-3.2339025991317101]
[null,87,76,78.34245044897574,-2.3424504489757396]
[null,88,78.5,78.620659227153823,-0.12065922715382271]
[null,89,78.5,78.765218498798987,-0.26521849879898696]
[null,90,77.5,75.135041658099155,2.3649583419008451]
[null,91,72.5,72.993379348620209,-0.49337934862020916]
[null,92,71,78.351228281731167,-7.3512282817311672]
[null,93,77.5,78.823529411767751,-1.3235294117677512]
[null,94,80,77.635270714091547,2.364729285908453]
[null,95,78,75.574268664360517,2.4257313356394832]
[null,96,76,77.123737424790036,-1.1237374247900362]
[null,97,78.5,79.835821372472708,-1.3358213724727079]
[null,98,81,76.94034717348471,4.0596528265152898]
[null,99,76.5,73.530092151765004,2.9699078482349961]
[null,100,72.05,71.850286405206717,0.19971359479328044]
[null,101,71,76.013098472168892,-5.0130984721688918]
[null,102,76,74.469198307336825,1.5308016926631751]
[null,103,75,78.492586914574289,-3.4925869145742894]
[null,104,79.5,77.412089242084761,2.0879107579152389]
[null,105,77,73.027428565882673,3.9725714341173273]
[null,106,71.5,72.888950125504351,-1.3889501255043513]
[null,107,71.5,74.218521663980852,-2.7185216639808516]
[null,108,72.5,71.93849540714308,0.56150459285692023]
[null,109,69.5,71.667240475078103,-2.1672404750781027]
[null,110,69,70.329233450351495,-1.3292334503514951]
[null,111,68.5,74.863949989296145,-6.3639499892961453]
[null,112,74.5,77.029257493827245,-2.5292574938272452]
[null,113,76.5,74.2014276196563,2.2985723803436997]
[null,114,73.489999999999995,75.918315932946186,-2.428315932946191]
[null,115,76.459999999999994,80.252910218908198,-3.7929102189082045]
[null,116,80.95,77.595529084877285,3.3544709151227181]
[null,117,77,76.271165362821307,0.7288346371786929]
[null,118,74.5,73.574614756501987,0.92538524349801321]
[null,119,71,73.357408583587898,-2.3574085835878975]
[null,120,71,74.814604190911965,-3.8146041909119646]
[null,121,73,75.825996215571976,-2.8259962155719762]
[null,122,74.599999999999994,78.78930770696789,-4.1893077069678952]
[null,123,77,73.546129825567832,3.4538701744321685]
[null,124,71.5,78.823529411767751,-7.3235294117677512]
[null,125,78.5,73.961298634683558,4.5387013653164416]
[null,126,73,73.477154227880561,-0.47715422788056117]
[null,127,74,80.269409079509984,-6.2694090795099839]
[null,128,81.5,76.397135847380923,5.1028641526190768]
[null,129,76.5,75.239493602973369,1.2605063970266315]
[null,130,75.5,76.656185871716275,-1.156185871716275]
[null,{"$f":"IF(C138=\"\", \"\", B137+1)","v":131},77.5,77.856659475410893,-0.35665947541089338]
[null,132,78.5,75.847960155138168,2.6520398448618323]
[null,133,76,76.013170476668975,-1.3170476668975084E-2]
[null,134,76,75.714454657605401,0.28554534239459883]
[null,135,75,74.068393796738206,0.93160620326179355]
[null,136,72,69.493752961045686,2.5062470389543137]
[null,137,67.5,73.417250550192406,-5.9172505501924064]
[null,138,73.5,78.020369296729982,-4.5203692967299816]
[null,139,79,77.342042525279993,1.657957474720007]
[null,140,78,77.483633385791819,0.51636661420818086]
[null,141,77.5,74.556347796907318,2.9436522030926824]
[null,142,74.5,77.006370820601859,-2.5063708206018589]
[null,143,78,78.827329386671352,-0.82732938667135159]
[null,144,80.5,80.927484238784714,-0.42748423878471442]
[null,145,82,76.259948719633996,5.7400512803660035]
[null,146,77,80.197962626297667,-3.1979626262976666]
[null,147,81.5,79.998078312958938,1.5019216870410617]
[null,148,80,74.537213033998711,5.4627869660012891]
[null,149,74.5,79.754169774873048,-5.2541697748730485]
[null,150,81.5,82.517496939648183,-1.0174969396481828]
[null,151,84.5,81.353370596277415,3.146629403722585]
[null,152,83,82.37557481594007,0.62442518405993042]
[null,153,83.5,80.931728538273603,2.5682714617263969]
[null,154,80.5,76.749528796343384,3.7504712036566161]
[null,155,75.5,78.823529411767751,-3.3235294117677512]
[null,156,74.5,74.551703665520961,-5.170366552096084E-2]
[null,157,72.5,70.406008100539822,2.0939918994601783]
[null,158,68,71.777917622708756,-3.7779176227087561]
[null,159,71,76.302145767635722,-5.3021457676357215]
[null,160,77,77.80718114808576,-0.80718114808576047]
[null,161,78.5,76.846166031206735,1.6538339687932648]
[null,162,76.5,73.712114287370454,2.7878857126295458]
[null,163,72.5,72.892268659908694,-0.39226865990869442]
[null,164,72,74.068773435989868,-2.0687734359898684]
[null,165,74.5,78.492586914574289,-3.9925869145742894]
[null,166,79.5,76.586397656931155,2.9136023430688454]
[null,167,77,75.958278218652424,1.0417217813475759]
[null,168,76.5,77.268781867861009,-0.76878186786100855]
[null,169,78,77.562217109327406,0.43778289067259379]
[null,170,77.5,74.068495317218918,3.4315046827810818]
[null,171,73.5,76.377348851496208,-2.8773488514962082]
[null,172,75.5,72.153798568825636,3.3462014311743644]
[null,173,71.5,77.914631564270849,-6.4146315642708487]
[null,174,78,75.165778228493224,2.8342217715067761]
[null,175,75,76.828245445570047,-1.8282454455700474]
[null,176,77.5,79.240482057323206,-1.7404820573232058]
[null,177,80,76.569296941715422,3.4307030582845783]
[null,178,78,82.268374697605793,-4.2683746976057932]
[null,179,85,83.441550283376728,1.5584497166232723]
[null,180,85,78.50758876600645,6.4924112339935505]
[null,181,78.5,77.984947801490648,0.51505219850935191]
[null,182,77.5,77.056108012436113,0.44389198756388737]
[null,183,76.5,77.558055438546859,-1.0580554385468588]
[null,184,78,81.282469724701087,-3.2824697247010874]
[null,185,83,84.758026223282286,-1.7580262232822861]
[null,186,85.5,78.823529411767751,6.6764705882322488]
[null,187,85.5,81.544529347815782,3.9554706521842178]
[null,188,83.5,79.050216953141884,4.4497830468581157]
[null,189,79,73.652166426102355,5.3478335738976455]
[null,190,72,71.592037391217588,0.40796260878241242]
[null,191,70.5,76.808307614765255,-6.3083076147652548]
[null,192,75.5,70.782065644946925,4.7179343550530746]
[null,193,68,70.686274554855487,-2.6862745548554869]
[null,194,68,69.841587084933991,-1.841587084933991]
[null,{"$f":"IF(C202=\"\", \"\", B201+1)","v":195},68.5,76.260877952215054,-7.7608779522150542]
[null,196,76,73.109504348803426,2.8904956511965736]
[null,197,73.5,79.141664280813671,-5.6416642808136714]
[null,198,80.5,77.324691149723975,3.1753088502760249]
[null,199,78,75.642240540013489,2.3577594599865108]
[null,200,77,80.493066762097158,-3.4930667620971576]
[null,201,82.5,79.604295278790659,2.8957047212093414]
[null,202,80,74.362803573531636,5.6371964264683641]
[null,203,73.5,74.568768718137164,-1.0687687181371643]
[null,204,74,76.077645524566861,-2.0776455245668615]
[null,205,75.5,73.126391108068901,2.3736088919310987]
[null,206,74,82.008926930620603,-8.0089269306206035]
[null,207,85,82.171331710092943,2.828668289907057]
[null,208,85,82.600511854379334,2.3994881456206656]
[null,209,84.5,79.750370837412859,4.7496291625871407]
[null,210,80,75.821056806554893,4.1789431934451073]
[null,211,76,78.858329952433934,-2.8583299524339338]
[null,212,81,84.920046167729851,-3.9200461677298506]
[null,213,87.5,81.848785547369602,5.6512144526303985]
[null,214,83,80.551009697465929,2.4489903025340709]
[null,215,80.5,78.376461914391086,2.1235380856089137]
[null,216,77,75.548254182302557,1.4517458176974429]
[null,217,74,78.823529411767751,-4.8235294117677512]
[null,218,67,76.859262813857399,-9.8592628138573986]
[null,219,76,73.138833962682938,2.8611660373170622]
[null,220,71,70.754202246928514,0.24579775307148566]
[null,221,69,73.416602509691742,-4.4166025096917423]
[null,222,73.5,78.125036860917348,-4.6250368609173478]
[null,223,79,76.338330158884688,2.6616698411153124]
[null,224,77,76.960819652971779,3.9180347028221263E-2]
[null,225,78,78.002801907673756,-2.8019076737564319E-3]
[null,226,79,75.810769395948654,3.1892306040513461]
[null,227,77.5,80.705155983165497,-3.205155983165497]
[null,228,83.5,80.318097052394776,3.1819029476052236]
[null,229,83,80.66838659507053,2.3316134049294703]
[null,230,83,78.680501193758317,4.3194988062416826]
[null,231,81,81.046209029244949,-4.6209029244948852E-2]
[null,232,83.5,79.814739990647155,3.6852600093528451]
[null,233,81.5,78.507348761572075,2.9926512384279249]
[null,234,79.5,78.350151798520272,1.1498482014797275]
[null,235,78,72.531548998499972,5.4684510015000285]
[null,236,72,76.89535326722212,-4.8953532672221201]
[null,237,78.5,81.538353821988167,-3.0383538219881672]
[null,238,84,82.221015395012415,1.7789846049875848]
[null,239,83,76.160828439232318,6.8391715607676815]
[null,240,74.5,72.472574915882348,2.0274250841176524]
[null,241,70.5,75.375325540382192,-4.8753255403821925]
[null,242,74,74.160642497245689,-0.16064249724568924]
[null,243,74,81.588771643613171,-7.5887716436131711]
[null,244,82,76.973538853920758,5.0264611460792423]
[null,245,76.5,79.692432638716411,-3.1924326387164115]
[null,246,78.5,74.690068913753208,3.8099310862467917]
[null,247,72.5,75.948679053649499,-3.4486790536494993]
[null,248,74.5,78.823529411767751,-4.3235294117677512]
[null,249,75,76.281278704249871,-1.2812787042498712]
[null,250,76,75.6115314280501,0.38846857194990037]
[null,251,74.5,73.099024158954549,1.4009758410454509]
[null,252,71,71.216454362330381,-0.2164543623303814]
[null,253,69,71.482952365050011,-2.4829523650500107]
[null,254,70.5,76.032895367282975,-5.5328953672829755]
[null,255,76,75.961946119651259,3.8053880348741131E-2]
[null,256,75,71.938701521413947,3.0612984785860533]
[null,257,70.5,74.271174516710204,-3.7711745167102038]
[null,258,73,73.08903979643739,-8.9039796437390351E-2]
[null,{"$f":"IF(C266=\"\", \"\", B265+1)","v":259},71,69.861744002548448,1.1382559974515516]
[null,260,68.5,75.640422505820851,-7.140422505820851]
[null,261,76,77.446341106121594,-1.4463411061215936]
[null,262,77.5,74.759243009898796,2.7407569901012039]
[null,263,74,74.398771951280366,-0.39877195128036647]
[null,264,73.5,74.197665256500912,-0.69766525650091182]
[null,265,73.5,75.782464253407866,-2.2824642534078663]
[null,266,75,74.488366960408939,0.51163303959106088]
[null,267,73,73.931618140856486,-0.93161814085648587]
[null,268,71.5,70.458710267708511,1.0412897322914887]
[null,269,68,74.142369730788005,-6.1423697307880047]
[null,270,72.5,73.981144844236994,-1.4811448442369937]
[null,271,72.5,74.532426588672706,-2.0324265886727062]
[null,272,74,77.823181163289618,-3.8231811632896182]
[null,273,78.5,80.59228228125653,-2.09228228125653]
[null,274,81,77.58452293014372,3.41547706985628]
[null,275,77,77.468953805012916,-0.46895380501291584]
[null,276,76.5,76.877037618057926,-0.37703761805792624]
[null,277,75.5,75.45365589275751,4.634410724248994E-2]
[null,278,75,81.955052123853676,-6.955052123853676]
[null,279,82,78.823529411767751,3.1764705882322488]
[null,280,75,76.116140387219133,-1.1161403872191329]
[null,281,76,75.751827902621102,0.24817209737889812]
[null,282,75.5,75.229024069030402,0.27097593096959827]
[null,283,75,75.26600947062559,-0.26600947062559044]
[null,284,75.5,76.180639820238241,-0.6806398202382411]
[null,285,77.5,80.437568952099369,-2.9375689520993689]
[null,286,81.5,76.209653595197352,5.2903464048026478]
[null,287,75,72.47137923619573,2.5286207638042697]
[null,288,69,67.843912022793049,1.1560879772069512]
[null,289,62.5,63.97425783520287,-1.4742578352028701]
[null,290,59,68.945439627743298,-9.9454396277432977]
[null,291,65.5,70.084157991883075,-4.5841579918830746]
[null,292,67,69.272705362151967,-2.2727053621519673]
[null,293,67.5,74.321555374862257,-6.8215553748622568]
[null,294,75,80.074868387423095,-5.0748683874230949]
[null,295,81,76.212210534465498,4.7877894655345017]
[null,296,75.5,72.624371677458072,2.8756283225419281]
[null,297,72.5,79.02091609856646,-6.5209160985664596]
[null,298,80,78.724295675789961,1.2757043242100394]
[null,299,78,73.534233685142951,4.4657663148570492]
[null,300,70.5,68.028585659608751,2.4714143403912487]
[null,301,66,76.569296941715422,-10.569296941715422]
[null,302,78,82.516082173151887,-4.5160821731518865]
[null,303,85,81.992568193789793,3.0074318062102066]
[null,304,83.5,80.039140014108739,3.4608599858912612]
[null,305,80,75.474987572433889,4.5250124275661108]
[null,306,75.5,80.387382536552821,-4.8873825365528205]
[null,307,82,82.763578766057151,-0.76357876605715092]
[null,308,84.5,81.860453834308629,2.639546165691371]
[null,309,83,81.955052123853676,1.044947876146324]
[null,310,82,78.823529411767751,3.1764705882322488]
[null,311,67.5,71.901446961893186,-4.4014469618931855]
[null,312,69.5,70.864160287942383,-1.3641602879423829]
[null,313,69.5,76.455140525530993,-6.955140525530993]
[null,314,75.5,72.830574768948026,2.6694252310519744]
[null,315,70.5,69.811104642376733,0.68889535762326659]
[null,316,68,74.431195881895192,-6.4311958818951922]
[null,317,74,74.558270424890111,-0.55827042489011092]
[null,318,75,77.837663590643018,-2.8376635906430181]
[null,319,79,77.437310723796173,1.5626892762038267]
[null,320,78.5,76.535768952665336,1.964231047334664]
[null,321,78.5,82.440053331334482,-3.9400533313344823]
[null,322,84,75.004711080157676,8.9952889198423236]
[null,{"$f":"IF(C330=\"\", \"\", B329+1)","v":323},75,75.902368936789429,-0.9023689367894292]
[null,324,76.5,77.702513583898394,-1.2025135838983942]
[null,325,78.5,76.776479336902327,1.7235206630976734]
[null,326,77.5,78.036775652939639,-0.5367756529396388]
[null,327,78.5,76.913590630163213,1.5864093698367867]
[null,328,76,73.05180579205188,2.94819420794812]
[null,329,71,72.222507654493597,-1.2225076544935973]
[null,330,70.5,74.285399742917377,-3.7853997429173774]
[null,331,73.5,76.532498037639812,-3.0324980376398116]
[null,332,76,74.82730098175665,1.1726990182433497]
[null,333,75,79.560390677922399,-4.560390677922399]
[null,334,81,81.204139372325784,-0.20413937232578405]
[null,335,82,76.798478279643575,5.2015217203564248]
[null,336,77.5,81.151084008576618,-3.6510840085766176]
[null,337,83,80.998252119756245,2.0017478802437552]
[null,338,84,86.330139844490049,-2.3301398444900485]
[null,339,90.5,86.710858685297737,3.7891413147022632]
[null,340,90.5,87.561000322710896,2.9389996772891038]
[null,341,89,78.823529411767751,10.176470588232249]
[null,342,83.5,79.459835832565687,4.0401641674343125]
[null,343,81,78.542381080819837,2.4576189191801632]
[null,344,79.5,77.231148425765127,2.2688515742348727]
[null,345,77.5,75.761424421717777,1.738575578282223]
[null,346,75.5,75.016627969887026,0.48337203011297447]
[null,347,74.5,74.348626723379823,0.15137327662017697]
[null,348,74,75.371541088813871,-1.3715410888138706]
[null,349,75.5,75.340124282816134,0.15987571718386562]
[null,350,76.5,78.601322574147403,-2.1013225741474031]
[null,351,81.5,83.285264449507764,-1.7852644495077641]
[null,352,86,78.836229489211959,7.1637705107880407]
[null,353,79.5,75.334987714219125,4.1650122857808753]
[null,354,75,74.218100292886305,0.78189970711369483]
[null,355,74.5,78.763491723368247,-4.2634917233682472]
[null,356,79,73.985926158703563,5.0140738412964367]
[null,357,73.5,74.383268125897672,-0.88326812589767201]
[null,358,76,81.619321716487619,-5.6193217164876188]
[null,359,86,86.509156731953453,-0.50915673195345335]
[null,360,91,82.654018861880218,8.3459811381197824]
[null,361,86,83.152474228605797,2.8475257713942028]
[null,362,85.5,79.640906928670148,5.8590930713298519]
[null,363,80.5,77.560126843899766,2.9398731561002336]
[null,364,78,78.536675302142157,-0.53667530214215731]
[null,365,79,78.070888638835697,0.92911136116430271]
[null,366,78.5,77.409347862847014,1.0906521371529863]
[null,367,79.5,85.70847498919386,-6.20847498919386]
[null,368,89,82.942649160435337,6.0573508395646627]
[null,369,85.5,83.634576746036529,1.8654232539634705]
[null,370,86,83.792429953757861,2.2075700462421395]
[null,371,85,80.353352638465893,4.6466473615341073]
[null,372,80,78.823529411767751,1.1764705882322488]
[null,373,77.5,78.093422901494137,-0.59342290149413657]
[null,374,79.5,78.682677555390825,0.81732244460917514]
[null,375,80.5,80.104270762479246,0.3957292375207544]
[null,376,81.5,78.271384650774536,3.2286153492254641]
[null,377,77.5,71.10736933616279,6.3926306638372097]
[null,378,69,72.358923287874973,-3.3589232878749726]
[null,379,71,74.277677475748121,-3.2776774757481206]
[null,380,73,73.495094611975958,-0.49509461197595783]
[null,381,71,68.087242208245442,2.912757791754558]
[null,382,66,73.497508298920494,-7.4975082989204935]
[null,383,74.5,81.143788637548397,-6.643788637548397]
[null,384,83,78.067813576362227,4.9321864236377735]
[null,385,78,74.102645660775039,3.897354339224961]
[null,386,72.5,72.381535624276864,0.11846437572313562]
[null,{"$f":"IF(C394=\"\", \"\", B393+1)","v":387},70,70.724799871872364,-0.72479987187236361]
[null,388,68.5,72.843673246659222,-4.3436732466592218]
[null,389,71.5,74.168343846790236,-2.6683438467902363]
[null,390,73.5,75.582230573474689,-2.0822305734746891]
[null,391,75.5,76.850046872396362,-1.3500468723963621]
[null,392,77,77.253512159376712,-0.25351215937671157]
[null,393,77,75.649079136430572,1.3509208635694279]
[null,394,75,77.209385657472282,-2.2093856574722821]
[null,395,75.5,72.674975996602683,2.8250240033973171]
[null,396,69,69.558932629668462,-0.5589326296684618]
[null,397,65.5,70.924358052874226,-5.4243580528742257]
[null,398,68,73.237576661382946,-5.2375766613829455]
[null,399,72.5,80.494793537527897,-7.9947935375278973]
[null,400,81,78.854320132332916,2.1456798676670843]
[null,401,79,80.201027032865227,-1.2010270328652268]
[null,402,80,78.351228281731167,1.6487717182688328]
[null,403,77.5,78.823529411767751,-1.3235294117677512]
[null,404,68,76.834420971397662,-8.8344209713976625]
[null,405,77,75.739406981391227,1.2605930186087733]
[null,406,76,76.405456840611521,-0.40545684061152087]
[null,407,77.5,79.105119867064332,-1.6051198670643316]
[null,408,80.5,77.972319465116499,2.5276805348835012]
[null,409,78.5,76.210454605543561,2.2895453944564395]
[null,410,75.5,72.168142118038304,3.331857881961696]
[null,411,71.5,74.927278490239317,-3.427278490239317]
[null,412,76.5,81.346569357520394,-4.8465693575203943]
[null,413,84,79.846578924415979,4.1534210755840206]
[null,414,81.5,77.705103112456626,3.7948968875433735]
[null,415,78.5,77.349532992183711,1.1504670078162889]
[null,416,77,72.876529204274476,4.1234707957255239]
[null,417,72,74.404124533377626,-2.404124533377626]
[null,418,75,78.683613613891822,-3.6836136138918221]
[null,419,80.5,79.283356661806238,1.2166433381937622]
[null,420,81.5,80.620448183167127,0.87955181683287265]
[null,421,83,80.94047129678583,2.0595287032141698]
[null,422,82.5,78.051321486437189,4.4486785135628111]
[null,423,78.5,76.758097208284539,1.7419027917154608]
[null,424,77,77.886490047481516,-0.88649004748151583]
[null,425,78,76.689128863920374,1.3108711360796264]
[null,426,76.5,77.430390767846546,-0.9303907678465464]
[null,427,77,76.32889267887694,0.67110732112305982]
[null,428,75.5,76.517885330501585,-1.0178853305015849]
[null,429,75.5,75.404839335148395,9.5160664851604793E-2]
[null,430,75,79.363667160772565,-4.3636671607725646]
[null,431,80,80.621157934751423,-0.62115793475142311]
[null,432,81,79.730453924232762,1.2695460757672379]
[null,433,79,76.749528796343384,2.2504712036566161]
[null,434,75.5,78.823529411767751,-3.3235294117677512]
[null,435,68,70.654865953026615,-2.654865953026615]
[null,436,66.5,66.166472832754152,0.33352716724584752]
[null,437,62.5,71.30734451407632,-8.8073445140763198]
[null,438,70,75.113292074824741,-5.1132920748247415]
[null,439,75,76.135333425412483,-1.1353334254124832]
[null,440,76,75.574743179880386,0.42525682011961408]
[null,441,74.5,71.697569009405868,2.8024309905941323]
[null,442,70.5,74.481547224066617,-3.9815472240666168]
[null,443,74.5,76.73145106084749,-2.2314510608474905]
[null,444,77,75.619464577860171,1.3805354221398289]
[null,445,75.5,73.415884159751499,2.0841158402485007]
[null,446,75,82.080105920967853,-7.0801059209678527]
[null,447,86,83.155323015860233,2.8446769841397668]
[null,448,87,81.904786087994466,5.0952139120055335]
[null,449,85.5,82.758010564646753,2.741989435353247]
[null,450,86,80.554779513132559,5.4452204868674414]
[null,{"$f":"IF(C458=\"\", \"\", B457+1)","v":451},83.5,81.396456083401262,2.1035439165987384]
[null,452,85,84.449305059163095,0.55069494083690529]
[null,453,87.5,80.123594080457423,7.3764059195425773]
[null,454,81.5,78.524935010703047,2.9750649892969534]
[null,455,79,77.33334778033371,1.6666522196662896]
[null,456,77,76.065838359487088,0.93416164051291162]
[null,457,75,75.205400778025478,-0.20540077802547785]
[null,458,73.5,73.938764372025133,-0.4387643720251333]
[null,459,72,72.946946961974987,-0.94694696197498729]
[null,460,73,82.517496939648183,-9.5174969396481828]
[null,461,84.5,81.931354705884957,2.5686452941150435]
[null,462,83,79.159754923934642,3.8402450760653579]
[null,463,80,80.869623932124284,-0.86962393212428424]
[null,464,83,86.760150580017012,-3.7601505800170116]
[null,465,88,78.823529411767751,9.1764705882322488]
[null,466,79.5,73.713591159137479,5.7864088408625207]
[null,467,73,75.091274634498205,-2.0912746344982054]
[null,468,75.5,77.854438930198441,-2.354438930198441]
[null,469,79,79.059813472238545,-5.9813472238545273E-2]
[null,470,79,72.944355375866792,6.0556446241332083]
[null,471,71.5,72.829496396507409,-1.3294963965074089]
[null,472,72,75.136254534497652,-3.1362545344976525]
[null,473,75,75.117258649729777,-0.11725864972977718]
[null,474,75.5,77.284593327995296,-1.7845933279952959]
[null,475,78,75.829909289716667,2.1700907102833327]
[null,476,77,79.542089152160628,-2.5420891521606279]
[null,477,81,77.159552832693251,3.8404471673067491]
[null,478,78,76.855936075284191,1.1440639247158089]
[null,479,78,79.234064832000684,-1.2340648320006835]
[null,480,80,75.752763961122085,4.2472360388779151]
[null,481,75.5,74.986094077964935,0.51390592203506458]
[null,482,75,76.628620390927523,-1.628620390927523]
[null,483,77.5,79.268623574112553,-1.7686235741125529]
[null,484,80,76.697329476595485,3.3026705234045153]
[null,485,76.5,73.98800858245184,2.5119914175481597]
[null,486,75.5,83.100057006127969,-7.6000570061279689]
[null,487,87.5,85.906944536036292,1.593055463963708]
[null,488,91,86.895913915508544,4.1040860844914562]
[null,489,91.5,85.171125322105624,6.3288746778943761]
[null,490,88.5,83.547973776486003,4.9520262235139967]
[null,491,85,78.703228385669178,6.2967716143308223]
[null,492,78.5,77.208825408236976,1.2911745917630242]
[null,493,77,79.089606686649148,-2.0896066866491481]
[null,494,79.5,80.836738458528373,-1.336738458528373]
[null,495,81,79.152078024425052,1.8479219755749483]
[null,496,78.5,78.823529411767751,-0.32352941176775118]
[null,497,78.5,74.043867793198928,4.4561322068010725]
[null,498,73,73.984990100202594,-0.98499010020259448]
[null,499,73.5,76.360150445785735,-2.8601504457857345]
[null,500,76,74.159724936330008,1.8402750636699921]
[null,501,73.5,75.18176628691775,-1.6817662869177497]
[null,502,74.5,73.630346139201308,0.86965386079869234]
[null,503,73,76.209653595197352,-3.2096535951973522]
[null,504,75,71.397980175496016,3.6020198245039836]
[null,505,69,71.810897972572889,-2.8108979725728886]
[null,506,69,69.650354271345606,-0.65035427134560564]
[null,507,66.5,70.216862479069633,-3.7168624790696327]
[null,508,67.5,71.933564952816937,-4.433564952816937]
[null,509,69,68.97969149178013,2.0308508219869736E-2]
[null,510,66,70.660004216684115,-4.6600042166841149]
[null,511,69.5,76.883890337877418,-7.3838903378774177]
[null,512,76.5,75.200916079915118,1.2990839200848825]
[null,513,73,69.883502184178781,3.1164978158212193]
[null,514,66.5,70.331400851138639,-3.831400851138639]
[null,{"$f":"IF(C522=\"\", \"\", B521+1)","v":515},67.5,71.574375307600576,-4.074375307600576]
[null,516,70,74.908690247350677,-4.9086902473506768]
[null,517,75,78.344642234884091,-3.3446422348840912]
[null,518,79.5,79.467261120889262,3.2738879110738139E-2]
[null,519,81,80.113532945070205,0.88646705492979549]
[null,520,82,83.643951364097035,-1.6439513640970347]
[null,521,83.5,72.360919221231285,11.139080778768715]
[null,522,70,74.94668714774582,-4.9466871477458199]
[null,523,73.5,76.585534903803676,-3.0855349038036763]
[null,524,75.5,76.451770904251248,-0.95177090425124788]
[null,525,76,81.109287776534202,-5.1092877765342024]
[null,526,80,73.946554696914774,6.0534453030852262]
[null,""]
[null,""]
[null,""]
[null,""]
[null,""]
[null,""]
[null,""]
[null,""]
[null,""]
[null,""]
[null,""]

{"sheet":"matrices","index":3,"n_rows":24,"n_cols":18,"rows_kept":24,"cut":false,"hidden":false,"merged":[]}
[]
[null,"TAB: MATRICES CONSTRUCTED IN REGRESSION ANALYSIS"]
[]
[]
[null,{"$f":"config!G27","v":"XXT"},null,null,null,null,null,null,null,null,{"$f":"config!G26","v":"SIGMA"}]
[null,"XX",1,{"$f":"C6+1","v":2},{"$f":"D6+1","v":3},{"$f":"E6+1","v":4},5,6,7,null,"COV = σ2 (XX)-1 / n",1,{"$f":"L6+1","v":2},{"$f":"M6+1","v":3},{"$f":"N6+1","v":4},5,6,7]
[null,1,{"$f":"_xll.AC.stats.reg._get(ols!$D$9, B5, 1)","v":1.0000000000000122},0.51612903225806439,0.34963579604578582,74.375920303605255,71.947077798861415,3.2258064516129024E-2,3.2258064516129024E-2,null,1,{"$f":"_xll.AC.stats.reg._get(ols!$D$9, K5, 1)","v":7.5614248730789484},-0.76344200152720509,1.1531381111831975,-4.7335326792557392E-2,-5.0509127244045333E-2,-7.9511209827349392,-4.1714145488523418]
[null,{"$f":"B7+1","v":2},0.51612903225806439,0.34963579604578582,0.26638917793964612,37.584159882475333,35.184936646875137,3.2258064516129024E-2,3.1217481789802298E-2,null,{"$f":"K7+1","v":2},-0.76344200152718866,6.2934835606068891,-6.0950973859376152,6.1036613071975576E-4,-5.9503697285481234E-3,0.56505582685791411,0.33307057657019201]
[null,{"$f":"B8+1","v":3},0.34963579604578582,0.26638917793964612,0.21647585707309291,24.79501961705764,22.447629406433453,3.2258064516129024E-2,3.0210466248195778E-2,null,{"$f":"K8+1","v":3},1.1531381111831853,-6.095097385937617,6.3082070932806857,-3.9930959324311534E-3,2.1620246671003552E-3,-1.3662478185262534,-0.84769705710299226]
[null,{"$f":"B9+1","v":4},74.375920303605255,37.584159882475333,24.795019617057637,5741.1872134724872,5541.9505168880469,0,2.5426944971537,null,{"$f":"K9+1","v":4},-4.7335326792562783E-2,6.1036613072059905E-4,-3.9930959324323148E-3,2.0145606032112382E-3,-1.3838025522873161E-3,5.0718056594274537E-2,-0.10831049508046887]
[null,5,71.947077798861415,35.184936646875137,22.447629406433453,5541.9505168880469,5557.7270616698297,0,0,null,5,-5.0509127244040032E-2,-5.9503697285484339E-3,2.1620246671010548E-3,-1.3838025522873855E-3,2.0671592582044221E-3,5.4297472305487392E-2,0.16331896177206001]
[null,6,3.2258064516129024E-2,3.2258064516129024E-2,3.2258064516129024E-2,0,0,3.2258064516129024E-2,0,null,6,-7.9511209827349463,0.56505582685794087,-1.3662478185262752,5.0718056594268805E-2,5.4297472305493109E-2,9.5250350750167261,4.6860410293851427]
[null,7,3.2258064516129024E-2,3.1217481789802298E-2,3.0210466248195778E-2,2.5426944971537,0,0,3.2258064516129024E-2,null,7,-4.1714145488519163,0.33307057657015288,-0.84769705710292587,-0.10831049508047456,0.16331896177206015,4.686041029384687,13.953114802922604]
[]
[null,null,null,null,null,null,null,null,null,null,"std-dev",{"$f":"SQRT(OFFSET($K$6, L6, L6))","v":2.7498045154299513},{"$f":"SQRT(OFFSET($K$6, M6, M6))","v":2.5086816379538655},2.5116144396146249,4.488385682192695E-2,4.5466023118416923E-2,3.0862655548440294,3.7353868344419969]
[null,{"$f":"config!G28","v":"XXT.inv"},null,null,null,null,null,null,null,null,null,{"$f":"OFFSET(ols!$E$18, L6, 0)","v":2.7498045154299513},{"$f":"OFFSET(ols!$E$18, M6, 0)","v":2.5086816379538655},{"$f":"OFFSET(ols!$E$18, N6, 0)","v":2.5116144396146249},{"$f":"OFFSET(ols!$E$18, O6, 0)","v":4.488385682192695E-2},{"$f":"OFFSET(ols!$E$18, P6, 0)","v":4.5466023118416923E-2},{"$f":"OFFSET(ols!$E$18, Q6, 0)","v":3.0862655548440294},{"$f":"OFFSET(ols!$E$18, R6, 0)","v":3.7353868344419969}]
[null,"(XX)-1",1,{"$f":"C17+1","v":2},{"$f":"D17+1","v":3},{"$f":"E17+1","v":4},5,6,7]
[null,1,{"$f":"_xll.AC.stats.reg._get(ols!$D$9, B16, 1)","v":303.34860473041925},-30.627701768274683,46.261497397706371,-1.8989946442638939,-2.0263209028476958,-318.98240035985089,-167.3484567243041]
[null,{"$f":"B18+1","v":2},-30.627701768274022,252.48144219497527,-244.52260238715149,2.4486616905730039E-2,-0.23871643044576082,22.668861960450233,13.362097273365199]
[null,{"$f":"B19+1","v":3},46.261497397705881,-244.52260238715158,253.07211963583705,-0.16019468552419427,8.673592307881868E-2,-54.811014646391342,-34.007838975138405]
[null,{"$f":"B20+1","v":4},-1.8989946442641101,2.4486616905763869E-2,-0.16019468552424088,8.0819972212480676E-2,-5.5515273973464965E-2,2.0347027128825887,-4.3451912981769203]
[null,5,-2.0263209028474831,-0.23871643044577329,8.6735923078846741E-2,-5.5515273973467748E-2,8.2930120613172523E-2,2.1783014102144089,6.55201632115162]
[null,6,-318.98240035985117,22.668861960451306,-54.811014646392216,2.0347027128823587,2.1783014102146381,382.12455304579208,187.99419842607733]
[null,7,-167.34845672428705,13.362097273363629,-34.007838975135741,-4.3451912981771486,6.5520163211516254,187.99419842605906,559.76988175595375]

{"sheet":"validate","index":4,"n_rows":33,"n_cols":11,"rows_kept":33,"cut":false,"hidden":false,"merged":[]}
[]
[null,"TAB: REGRESSION OUTPUT VALIDATION"]
[]
[null,"R Output"]
[null,"Variable","coefficient","stdev","t-stats","P-value","C-Left","C-Right",null,"statistic","value"]
[null,"constant",27.772606618227318,2.7498045154358142,10.099847630014406,5.0848992601821457E-22,22.410487813127482,33.134725423327154,null,"df","[7, 520, 7]"]
[null,"Linear",-1.7492439386117768,2.5086816379540333,-0.69727617572008083,0.48594159332300912,-6.641173132622141,3.1426852553985878,null,"r.squared","0.505"]
[null,"Quadratic",3.1938681423785753,2.5116144396148474,1.2716395048550329,0.20406968303307033,-1.7037800148703774,8.0915162996275285,null,"adj.r.squared","0.499"]
[null,"EWR.lag1",0.80084974269286635,4.4883856821940293E-2,17.842712266682749,6.6258564907793674E-56,0.71332622189008277,0.88837326349564993,null,"sigma","3.624"]
[null,"EWR.lag2",-0.16513831703108914,4.546602311843348E-2,-3.6321258316550766,3.0896005306259197E-4,-0.25379706211203445,-7.6479571950143849E-2,null,"fstatistic","[88.449, 6, 520]"]
[null,"Aug.1st",49.606298589770503,3.086265554849835,16.073243766019395,1.7260890358726275E-47,43.588080757813323,55.624516421727684]
[null,"Aug.2nd",-12.78555229762086,3.7353868344432963,-3.4228188041269778,6.6860767222935572E-4,-20.069556624785289,-5.501547970456433]
[]
[null,"OLS Output"]
[null,null,{"$f":"ols!D18","v":"coefficient"},{"$f":"ols!E18","v":"stdev"},{"$f":"ols!F18","v":"t.stats"},{"$f":"ols!G18","v":"P.value"},{"$f":"ols!H18","v":"CI.left"},{"$f":"ols!I18","v":"CI.right"},null,{"$f":"ols!K13","v":"keys"},{"$f":"ols!L13","v":"values"}]
[null,{"$f":"ols!C19","v":"constant"},{"$f":"ols!D19","v":27.772606618107716},{"$f":"ols!E19","v":2.7498045154299513},{"$f":"ols!F19","v":10.099847629992444},{"$f":"ols!G19","v":0},{"$f":"ols!H19","v":22.382989767865013},{"$f":"ols!I19","v":33.162223468350419},null,{"$f":"ols!K14","v":"res.abs.max"},{"$f":"ols!L14","v":11.139080778768715}]
[null,{"$f":"ols!C20","v":"Linear"},{"$f":"ols!D20","v":-1.7492439385307392},{"$f":"ols!E20","v":2.5086816379538655},{"$f":"ols!F20","v":-0.69727617568782463},{"$f":"ols!G20","v":0.48594159334308906},{"$f":"ols!H20","v":-6.6662599489203158},{"$f":"ols!I20","v":3.1677720718588374},null,{"$f":"ols!K15","v":"SST"},{"$f":"ols!L15","v":13802.186581404194}]
[null,{"$f":"ols!C21","v":"Quadratic"},{"$f":"ols!D21","v":3.1938681422955995},{"$f":"ols!E21","v":2.5116144396146249},{"$f":"ols!F21","v":1.2716395048221085},{"$f":"ols!G21","v":0.20406968304462048},{"$f":"ols!H21","v":-1.7288961593490653},{"$f":"ols!I21","v":8.1166324439402651},null,{"$f":"ols!K16","v":"SSR"},{"$f":"ols!L16","v":6971.3232119813338}]
[null,{"$f":"ols!C22","v":"EWR.lag1"},{"$f":"ols!D22","v":0.80084974269388987},{"$f":"ols!E22","v":4.488385682192695E-2},{"$f":"ols!F22","v":17.842712266710858},{"$f":"ols!G22","v":0},{"$f":"ols!H22","v":0.71287738332291306},{"$f":"ols!I22","v":0.88882210206486667},null,{"$f":"ols!K17","v":"SSE"},{"$f":"ols!L17","v":6830.8633694228602}]
[null,{"$f":"ols!C23","v":"EWR.lag2"},{"$f":"ols!D23","v":-0.16513831703072412},{"$f":"ols!E23","v":4.5466023118416923E-2},{"$f":"ols!F23","v":-3.6321258316483709},{"$f":"ols!G23","v":3.0896005307035068E-4},{"$f":"ols!H23","v":-0.25425172234282128},{"$f":"ols!I23","v":-7.602491171862695E-2},null,{"$f":"ols!K18","v":"MSE"},{"$f":"ols!L18","v":13.136275710428578}]
[null,{"$f":"ols!C24","v":"Aug.1st"},{"$f":"ols!D24","v":49.606298589895175},{"$f":"ols!E24","v":3.0862655548440294},{"$f":"ols!F24","v":16.073243766090027},{"$f":"ols!G24","v":0},{"$f":"ols!H24","v":43.557218102400881},{"$f":"ols!I24","v":55.655379077389469},null,{"$f":"ols!K19","v":"r.squared"},{"$f":"ols!L19","v":0.50508831849685742}]
[null,{"$f":"ols!C25","v":"Aug.2nd"},{"$f":"ols!D25","v":-12.785552297580125},{"$f":"ols!E25","v":3.7353868344419969},{"$f":"ols!F25","v":-3.4228188041172629},{"$f":"ols!G25","v":6.6860767225285223E-4},{"$f":"ols!H25","v":-20.106910493086438},{"$f":"ols!I25","v":-5.4641941020738107},null,{"$f":"ols!K20","v":"adj.r.squared"},{"$f":"ols!L20","v":0.49933778735647577}]
[null,null,null,null,null,null,null,null,null,{"$f":"ols!K21","v":"sigma.squared"},{"$f":"ols!L21","v":13.136275710428578}]
[null,null,null,null,null,null,null,null,null,{"$f":"ols!K22","v":"sigma"},{"$f":"ols!L22","v":3.6244000483429777}]
[null,"Difference",null,null,null,null,null,null,null,{"$f":"ols!K23","v":"df"},{"$f":"ols!L23","v":520}]
[null,null,{"$f":"C15","v":"coefficient"},{"$f":"D15","v":"stdev"},"t.stats","P.value",null,null,null,{"$f":"ols!K24","v":"n"},{"$f":"ols!L24","v":527}]
[null,{"$f":"B16","v":"constant"},{"$f":"C6-C16","v":1.1960210599681886E-10},{"$f":"D6-D16","v":5.8628657484405267E-12},2.1961099605505296E-11,5.0848992601821457E-22,null,null,null,{"$f":"ols!K25","v":"rank"},{"$f":"ols!L25","v":7}]
[null,{"$f":"B17","v":"Linear"},{"$f":"C7-C17","v":-8.1037621058044351E-11},1.6786572132332367E-13,-3.2256197712854373E-11,-2.0079937712580431E-11]
[null,"Quadratic",{"$f":"C8-C18","v":8.297584841443495E-11},2.2248869413488137E-13,3.2924329929073792E-11,-1.1550149725536585E-11]
[null,"EWR.lag1",{"$f":"C9-C19","v":-1.0235146064019318E-12},1.33434929772136E-14,-2.8109070626669563E-11,6.6258564907793674E-56]
[null,"EWR.lag2",{"$f":"C10-C20","v":-3.6501357492113584E-13},1.6556200854722647E-14,-6.7057470687359455E-12,-7.7587133766321426E-15]
[null,"Aug.1st",{"$f":"C11-C21","v":-1.2467182841646718E-10},5.8055782403698686E-12,-7.0631500648232759E-11,1.7260890358726275E-47]
[null,"Aug.2nd",{"$f":"C12-C22","v":-4.0735415041126544E-11},1.2994050280212832E-12,-9.7148955546799698E-12,-2.3496504221454106E-14]

{"sheet":"config","index":5,"n_rows":29,"n_cols":8,"rows_kept":29,"cut":false,"hidden":false,"merged":[]}
[]
[null,"TAB: CONFIGURATION FILE",null,null,"Calculation enabled",null,true]
[]
[]
[null,"Test connection",{"$f":"_xll.AC.test.connection()","v":"host: CA2013466W3; user: Konstantin.Rybakov; key: null"}]
[]
[]
[null,"Cell address","Row count","Col count","Comment",null,"Output key","Description"]
[null,{"$f":"addressFla(ols!D18)","v":"'ols'!$D$18"},{"$f":"ols!F14+2","v":8},6,null,null,"table-standard","Standard linear regression output table [coeff, stdev, t-stats, P-value, confidance band]"]
[null,{"$f":"addressFla(fitted!C8)","v":"'fitted'!$C$8"},{"$f":"ols!F15","v":527},1,null,null,"statistics","Basic linear regression summary statistics"]
[null,{"$f":"addressFla(fitted!D8)","v":"'fitted'!$D$8"},{"$f":"C10","v":527},{"$f":"D10","v":1},null,null,"res.abs.max","Maximum absolute value of the residuals"]
[null,{"$f":"addressFla(fitted!E8)","v":"'fitted'!$E$8"},{"$f":"C11","v":527},{"$f":"D11","v":1},null,null,"SST","Total sum of squares"]
[null,{"$f":"addressFla(matrices!C7)","v":"'matrices'!$C$7"},{"$f":"ols!F14+1","v":7},{"$f":"C13","v":7},null,null,"SSR","Explained sum of squares"]
[null,{"$f":"addressFla(matrices!C18)","v":"'matrices'!$C$18"},{"$f":"C13","v":7},{"$f":"D13","v":7},null,null,"SSE","Error sum of squares"]
[null,{"$f":"addressFla(matrices!L7)","v":"'matrices'!$L$7"},{"$f":"C14","v":7},7,null,null,"MSE","Mean sum of squares error"]
[null,null,null,null,null,null,"r.squared","R2 goodness-of-fit statistics"]
[null,null,null,null,null,null,"adj.r.squared","Adjusted R2 goodness-of-fit statistics"]
[null,null,null,null,null,null,"sigma.squared","Residuals variance"]
[null,null,null,null,null,null,"sigma","Residuals standard error"]
[null,"Graph configuration",null,null,null,null,"df","Degees of freedom: df = n-rank"]
[null,null,null,null,null,null,"n","Sample size"]
[null,"line","yes",null,"Set to yes/no to set line visible or non-visible",null,"rank","Number of exogenous variables (including constant)"]
[null,"line-size",1.5,null,"Set line size",null,"y","Endogenous variable"]
[null,"marker","yes",null,"Set to yes/no to set markers visible or non-visible",null,"fitted.values","Fitted regression values"]
[null,"marker-size",2,null,"Set markers size",null,"residuals","Regression residuals: residuals = y - fitted.values"]
[null,"exclude-series",null,null,"List of series names that are not modified (referenced by series legend)",null,"SIGMA","Coefficients covariance matrix"]
[null,"exclude-charts",null,null,"List of charts that are not modified (referenced by chart index)",null,"XXT","Matrix X XT, where X is the matrix of exogenous variables with dimensions [k,n - sample size]"]
[null,"reference-chart",1,null,"Chart index used for series colors mar]tching",null,"XXT.inv","Inverse of the XX matrix"]
[null,"match-colors","yes",null,"Set yes if colors of each series is matched to the series color in the reference chart"]

{"sheet":"guide","index":6,"n_rows":2,"n_cols":2,"rows_kept":2,"cut":false,"hidden":false,"merged":[[1,1,32,8]]}
[]
[null,"Package: ac.stats.reg\n\nAvailable functions:\n\nOutputLReg res = ols(y[], X[][], 0/1)\nwhere y[] is a range that represents dependable variable, X[][] is a range that represents exogenous variable, and 0/1 is an indicator whether constant is added or not to the regression;\n\ndouble[][] (double[]) get(OutputLReg res, String key)\nwhere key represents the key for a specific retrieved field. The following keys can be used:\n1. table-standard:  standard table output of the regression output;\n2. statistics: regression statistics;\n3. y, fitted.values, residuals: dependent and projected variablles and residuals;\n4. XXT, XXT-inv, SIGMA: matrices (XT x X), (XT x X)-1 and covariance matrix of estimated coefficients;"]